{"text_format":"1","workbook":"xlsx","n_sheets":6,"sheets":["Equipe","Orçamentária-TR","Composições","Comp.Aux1","Comp.Aux2","BDI"],"not_rendered":{"charts":0,"images":3,"macros":1,"external_links":0,"defined_names":147,"comments":0,"pivot_tables":0},"unopened":[],"bounds":{"document_bytes":16777216,"sheet_cells":100000,"rows_first":2000,"rows_last":500,"rows_between":2000,"halvings":0,"cell_chars":16384,"cell_head_chars":4096},"cells_cut":0,"cells_raw":0,"read":"whole","date_system":"1900"}

{"sheet":"Equipe","index":0,"n_rows":13,"n_cols":8,"rows_kept":13,"cut":false,"hidden":false,"merged":[]}
["Manutenção Civil"]
["PLANILHA ORÇAMENTÁRIA"]
[]
[]
["ITEM","CÓD SINFRA","DESCRIÇÃO","UN","QUANTIDADE","PREÇO UNITÁRIO MENSAL (R$)","PREÇO TOTAL MENSAL (R$)","PREÇO TOTAL GLOBAL PARA 30 MESES (R$)"]
["1.1.1","SF-00708","Supervisor(a)-Geral","Profissional",1,18915.62,{"$f":"E6*F6","v":18915.62},{"$f":"G6*30","v":567468.6}]
["1.1.2","SF-01041","Supervisor de Obras e Manutenção – Apoio de campo – Segurança do Trabalho","Profissional",1,8809.75,{"$f":"E7*F7","v":8809.75},{"$f":"G7*30","v":264292.5}]
["1.1.3","SF-01102","Técnico(a) em Edificações - Planejamento de Manutenção","Profissional",2,8809.75,17619.5,528585]
["1.1.4","SF-00716","Mestre de Obras (Posto de Trabalho)","Profissional",3,11584.38,34753.14,1042594.2]
["1.1.5","SF-00717","Oficial de Serviços Gerais","Profissional",13,4876.05,63388.65,1901659.5]
["1.1.6","SF-00710","Ajudante de Serviços Gerais","Profissional",9,3699.09,33291.81,998754.29999999993]
["1.1.7","SF-00709","Apoio Técnico Administrativo – Controle de Almoxarifado","Profissional",2,4960.8100000000004,9921.6200000000008,297648.60000000003]
[null,null,null,null,null,null,null,{"$f":"SUM(H6:H12)","v":5601002.6999999993}]

{"sheet":"Orçamentária-TR","index":1,"n_rows":420,"n_cols":16,"rows_kept":420,"cut":false,"hidden":false,"merged":[]}
["Manutenção Civil"]
["PLANILHA ORÇAMENTÁRIA"]
[]
[]
["ITEM","CÓD SINFRA","DESCRIÇÃO","UN","QUANTIDADE","FATOR K ESTIMADO¹","FATOR DE UTILIZAÇÃO²","VIDA ÚTIL (Anos)³","% DE DEPRECIAÇÃO MENSAL³","CUSTO UNITÁRIO4","CUSTO DIRETO","BDI (%)","VALOR MENSAL DE DEPRECIAÇÃO³","VALOR TOTAL DE DEPRECIAÇÃO PARA 30 MESES³","PREÇO UNITÁRIO COM BDI","CUSTO TOTAL"]
["1.2",null,"Uniformes e EPIs",null,null,null,null,null,null,null,{"$f":"SUBTOTAL(109,K7:K23)","v":65350.23},null,null,null,null,{"$f":"SUBTOTAL(109,P7:P27)","v":70096.47}]
["1.2.1","SF-00823","Camisa polo manga curta com logotipo da empresa na frente e indicação da categoria profissional nas costas","pç",40,null,null,null,null,31.24,{"$f":"IF(ISNUMBER(J7),ROUND(E7*J7,2),\"\")","v":1249.5999999999999},null,null,null,null,{"$f":"K7","v":1249.5999999999999}]
["1.2.2","SF-00824","Camisa polo manga longa com logotipo da empresa na frente e indicação da categoria profissional nas costas","pç",270,null,null,null,null,35,{"$f":"IF(ISNUMBER(J8),ROUND(E8*J8,2),\"\")","v":9450},null,null,null,null,{"$f":"K8","v":9450}]
["1.2.3","SF-00825","Calças de material resistente e cor escura","pç",310,null,null,null,null,38.54,{"$f":"IF(ISNUMBER(J9),ROUND(E9*J9,2),\"\")","v":11947.4},null,null,null,null,11947.4]
["1.2.4","SF-00826","Gorros com pala (boné) na mesma cor da camisa","pç",135,null,null,null,null,19,{"$f":"IF(ISNUMBER(J10),ROUND(E10*J10,2),\"\")","v":2565},null,null,null,null,2565]
["1.2.5","SF-00827","Bota com solado de borracha","par",155,null,null,null,null,83.18,{"$f":"IF(ISNUMBER(J11),ROUND(E11*J11,2),\"\")","v":12892.9},null,null,null,null,12892.9]
["1.2.6","SF-00828","Bota de borracha de cano longo","par",31,null,null,null,null,43.77,{"$f":"IF(ISNUMBER(J12),ROUND(E12*J12,2),\"\")","v":1356.87},null,null,null,null,1356.87]
["1.2.7","SF-00829","Capa de chuva","pç",62,null,null,null,null,128.80000000000001,{"$f":"IF(ISNUMBER(J13),ROUND(E13*J13,2),\"\")","v":7985.6},null,null,null,null,7985.6]
["1.2.8","SF-00830","Capacete de segurança","pç",31,null,null,null,null,39.35,{"$f":"IF(ISNUMBER(J14),ROUND(E14*J14,2),\"\")","v":1219.8499999999999},null,null,null,null,1219.8499999999999]
["1.2.9","SF-00831","Cinto de segurança tipo paraquedista","pç",4,null,null,null,null,683.47,{"$f":"IF(ISNUMBER(J15),ROUND(E15*J15,2),\"\")","v":2733.88},null,null,null,null,2733.88]
["1.2.10","SF-00832","Lanterna profissional","pç",4,null,null,null,null,177.27,{"$f":"IF(ISNUMBER(J16),ROUND(E16*J16,2),\"\")","v":709.08},null,null,null,null,709.08]
["1.2.11","SF-00833","Lanterna para capacete","pç",4,null,null,null,null,70.69,{"$f":"IF(ISNUMBER(J17),ROUND(E17*J17,2),\"\")","v":282.76},null,null,null,null,282.76]
["1.2.12","SF-00834","Luva de borracha","par",27,null,null,null,null,243.07,{"$f":"IF(ISNUMBER(J18),ROUND(E18*J18,2),\"\")","v":6562.89},null,null,null,null,6562.89]
["1.2.13","SF-00835","Máscara de proteção respiratória com válvula e com película de carbono FFP2","pç",155,null,null,null,null,5,{"$f":"IF(ISNUMBER(J19),ROUND(E19*J19,2),\"\")","v":775},null,null,null,null,775]
["1.2.14","SF-00836","Óculos de segurança com proteção lateral total","pç",155,null,null,null,null,9.08,{"$f":"IF(ISNUMBER(J20),ROUND(E20*J20,2),\"\")","v":1407.4},null,null,null,null,1407.4]
["1.2.15","SF-00837","Protetor auditivo flexível de inserção","pç",310,null,null,null,null,2.9,{"$f":"IF(ISNUMBER(J21),ROUND(E21*J21,2),\"\")","v":899},null,null,null,null,899]
["1.2.16","SF-00838","Protetor Facial","pç",10,null,null,null,null,225.2,{"$f":"IF(ISNUMBER(J22),ROUND(E22*J22,2),\"\")","v":2252},null,null,null,null,2252]
["1.2.17","SF-00839","Talabarte de Posicionamento (Restrição de Movimento)","pç",4,null,null,null,null,265.25,{"$f":"IF(ISNUMBER(J23),ROUND(E23*J23,2),\"\")","v":1061},null,null,null,null,1061]
["1.2.18","SF-00840","Talabarte em Y","pç",4,null,null,null,null,302.77,{"$f":"IF(ISNUMBER(J24),ROUND(E24*J24,2),\"\")","v":1211.08},null,null,null,null,1211.08]
["1.2.19","SF-00841","Travaquedas Deslizante Para Corda","pç",4,null,null,null,null,291.54000000000002,{"$f":"IF(ISNUMBER(J25),ROUND(E25*J25,2),\"\")","v":1166.1600000000001},null,null,null,null,1166.1600000000001]
["1.2.20","SF-00842","Travaquedas Deslizante Para Cabo de Aço","pç",4,null,null,null,null,348.86,{"$f":"IF(ISNUMBER(J26),ROUND(E26*J26,2),\"\")","v":1395.44},null,null,null,null,1395.44]
["1.2.21","SF-00843","Uniforme Antichamas de Proteção Contra Arcos Elétricos","pç",4,null,null,null,null,243.39,{"$f":"IF(ISNUMBER(J27),ROUND(E27*J27,2),\"\")","v":973.56},null,null,null,null,973.56]
[2,null,"Serviços Sob Demanda",null,null,null,null,null,null,null,{"$f":"SUBTOTAL(109,K29:K274)","v":6553614.3900000025},null,null,null,null,{"$f":"SUBTOTAL(109,P29:P274)","v":7805375.7599999988}]
["2.1",null,"Serviços de Apoio",null,null,null,null,null,null,null,{"$f":"SUBTOTAL(109,K30:K46)","v":210392.43999999997},null,null,null,null,{"$f":"SUBTOTAL(109,P30:P46)","v":250555.88}]
["2.1.1","SF-00941","Plataforma de trabalho aéreo tesoura","dia",315,null,0.3,null,null,326.67,{"$f":"IF(ISNUMBER(J30),ROUND(G30*E30*J30,2),\"\")","v":30870.32},{"$f":"BDI!$B$18","v":0.191},null,null,{"$f":"IF(ISNUMBER(J30),ROUND(J30*(1+L30),2),\"\")","v":389.06},{"$f":"IF(ISNUMBER(J30),ROUND(G30*O30*E30,2),\"\")","v":36766.17}]
["2.1.2","SF-00821","Plataforma de trabalho aéreo articulada","dia",315,null,0.3,null,null,521.42999999999995,{"$f":"IF(ISNUMBER(J31),ROUND(G31*E31*J31,2),\"\")","v":49275.14},{"$f":"BDI!$B$18","v":0.191},null,null,621.02,{"$f":"IF(ISNUMBER(J31),ROUND(G31*O31*E31,2),\"\")","v":58686.39}]
["2.1.3","SF-00948","Locação de andaime suspenso tipo leve","un x mês ",3,null,0.3,null,null,{"$f":"OFFSET(INDEX(Composições!A:H,MATCH('Orçamentária-TR'!B32,Composições!A:A,0),8),2,0)","v":522.5},{"$f":"IF(ISNUMBER(J32),ROUND(G32*E32*J32,2),\"\")","v":470.25},{"$f":"BDI!$B$18","v":0.191},null,null,622.29999999999995,{"$f":"IF(ISNUMBER(J32),ROUND(G32*O32*E32,2),\"\")","v":560.07000000000005}]
["2.1.4","SF-00995","Montagem e desmontagem de andaime suspenso tipo leve (balancim)","un",10,null,0.3,null,null,600,{"$f":"IF(ISNUMBER(J33),ROUND(G33*E33*J33,2),\"\")","v":1800},{"$f":"BDI!$B$18","v":0.191},null,null,714.6,{"$f":"IF(ISNUMBER(J33),ROUND(G33*O33*E33,2),\"\")","v":2143.8000000000002}]
["2.1.5","SF-00996","Deslocamento de andaime suspenso tipo leve (balancim)","un",10,null,0.3,null,null,400,{"$f":"IF(ISNUMBER(J34),ROUND(G34*E34*J34,2),\"\")","v":1200},{"$f":"BDI!$B$18","v":0.191},null,null,476.4,{"$f":"IF(ISNUMBER(J34),ROUND(G34*O34*E34,2),\"\")","v":1429.2}]
["2.1.6","SF-00048","Andaime fachadeiro","m2 x mês",3400,null,0.3,null,null,{"$f":"OFFSET(INDEX(Composições!A:H,MATCH('Orçamentária-TR'!B35,Composições!A:A,0),8),2,0)","v":3.7905000000000002},{"$f":"IF(ISNUMBER(J35),ROUND(G35*E35*J35,2),\"\")","v":3866.31},{"$f":"BDI!$B$18","v":0.191},null,null,4.51,{"$f":"IF(ISNUMBER(J35),ROUND(G35*O35*E35,2),\"\")","v":4600.2}]
["2.1.7","SF-00937","Montagem e desmontagem de andaime fachadeiro","m2",3400,null,0.3,null,null,{"$f":"OFFSET(INDEX(Composições!A:H,MATCH('Orçamentária-TR'!B36,Composições!A:A,0),8),2,0)","v":7.3550127091400004},{"$f":"IF(ISNUMBER(J36),ROUND(G36*E36*J36,2),\"\")","v":7502.11},{"$f":"BDI!$B$18","v":0.191},null,null,8.76,{"$f":"IF(ISNUMBER(J36),ROUND(G36*O36*E36,2),\"\")","v":8935.2000000000007}]
["2.1.8","SF-00049","Andaime tubular (aluguel/mês)","m x mês",120,null,0.3,null,null,{"$f":"OFFSET(INDEX(Composições!A:H,MATCH('Orçamentária-TR'!B37,Composições!A:A,0),8),2,0)","v":11.399999999999999},{"$f":"IF(ISNUMBER(J37),ROUND(G37*E37*J37,2),\"\")","v":410.4},{"$f":"BDI!$B$18","v":0.191},null,null,13.58,{"$f":"IF(ISNUMBER(J37),ROUND(G37*O37*E37,2),\"\")","v":488.88}]
["2.1.9","SF-00938","Montagem e desmontagem de andaime tubular","m",120,null,0.3,null,null,{"$f":"OFFSET(INDEX(Composições!A:H,MATCH('Orçamentária-TR'!B38,Composições!A:A,0),8),2,0)","v":13.604707643599999},{"$f":"IF(ISNUMBER(J38),ROUND(G38*E38*J38,2),\"\")","v":489.77},{"$f":"BDI!$B$18","v":0.191},null,null,16.2,{"$f":"IF(ISNUMBER(J38),ROUND(G38*O38*E38,2),\"\")","v":583.20000000000005}]
["2.1.10","SF-00068","Sistema Guarda-corpo-Rodapé (GcR) metálico","m x mês",1300,null,0.3,null,null,9,{"$f":"IF(ISNUMBER(J39),ROUND(G39*E39*J39,2),\"\")","v":3510},{"$f":"BDI!$B$18","v":0.191},null,null,10.72,{"$f":"IF(ISNUMBER(J39),ROUND(G39*O39*E39,2),\"\")","v":4180.8}]
["2.1.11","SF-01103","Locação de Retroescavadeira com Pá Carregadeira sobre Rodas","dia",20,null,0.3,null,null,1300,{"$f":"IF(ISNUMBER(J40),ROUND(G40*E40*J40,2),\"\")","v":7800},{"$f":"BDI!$B$18","v":0.191},null,null,1548.3,{"$f":"IF(ISNUMBER(J40),ROUND(G40*O40*E40,2),\"\")","v":9289.7999999999993}]
["2.1.12","SF-00985","Locação de Caminhão Munck","dia",30,null,0.3,null,null,900,{"$f":"IF(ISNUMBER(J41),ROUND(G41*E41*J41,2),\"\")","v":8100},{"$f":"BDI!$B$18","v":0.191},null,null,1071.9000000000001,{"$f":"IF(ISNUMBER(J41),ROUND(G41*O41*E41,2),\"\")","v":9647.1}]
["2.1.13","SF-01104","Projeto de Impermeabilização","m2",16000,null,0.3,null,null,{"$f":"OFFSET(INDEX(Composições!A:H,MATCH('Orçamentária-TR'!B42,Composições!A:A,0),8),2,0)","v":9.4572500000000002},{"$f":"IF(ISNUMBER(J42),ROUND(G42*E42*J42,2),\"\")","v":45394.8},{"$f":"BDI!$B$18","v":0.191},null,null,11.26,{"$f":"IF(ISNUMBER(J42),ROUND(G42*O42*E42,2),\"\")","v":54048}]
["2.1.14","SF-00015","Locação de caçambas","un",375,null,0.3,null,null,286.32,{"$f":"IF(ISNUMBER(J43),ROUND(G43*E43*J43,2),\"\")","v":32211},{"$f":"BDI!$B$18","v":0.191},null,null,341.01,{"$f":"IF(ISNUMBER(J43),ROUND(G43*O43*E43,2),\"\")","v":38363.629999999997}]
["2.1.15","SF-01075","Sondagem","un",20,null,0.3,null,null,500,{"$f":"IF(ISNUMBER(J44),ROUND(G44*E44*J44,2),\"\")","v":3000},{"$f":"BDI!$B$18","v":0.191},null,null,595.5,{"$f":"IF(ISNUMBER(J44),ROUND(G44*O44*E44,2),\"\")","v":3573}]
["2.1.16","SF-01223","Sondagem - Perfuração adicional de furo","m",100,null,0.3,null,null,58,{"$f":"IF(ISNUMBER(J45),ROUND(G45*E45*J45,2),\"\")","v":1740},{"$f":"BDI!$B$18","v":0.191},null,null,69.08,{"$f":"IF(ISNUMBER(J45),ROUND(G45*O45*E45,2),\"\")","v":2072.4}]
["2.1.17","SF-00004","Projetos de segurança do trabalho","un",20,null,0.3,null,null,{"$f":"OFFSET(INDEX(Composições!A:H,MATCH('Orçamentária-TR'!B46,Composições!A:A,0),8),2,0)","v":2125.39},{"$f":"IF(ISNUMBER(J46),ROUND(G46*E46*J46,2),\"\")","v":12752.34},{"$f":"BDI!$B$18","v":0.191},null,null,2531.34,{"$f":"IF(ISNUMBER(J46),ROUND(G46*O46*E46,2),\"\")","v":15188.04}]
["2.2",null,"Serviços de Manutençao nos Sistemas de Revestimentos",null,null,null,null,null,null,null,{"$f":"SUBTOTAL(109,K48:K78)","v":377697.3600000001},null,null,null,null,{"$f":"SUBTOTAL(109,P48:P78)","v":449840.58}]
["2.2.1","SF-00091","Chapisco com argamassa traço 1:3","m2",1380,null,0.3,null,null,{"$f":"OFFSET(INDEX(Composições!A:H,MATCH('Orçamentária-TR'!B48,Composições!A:A,0),8),2,0)","v":3.5595101858399989},{"$f":"IF(ISNUMBER(J48),ROUND(G48*E48*J48,2),\"\")","v":1473.64},{"$f":"BDI!$B$18","v":0.191},null,null,{"$f":"IF(ISNUMBER(J48),ROUND(J48*(1+L48),2),\"\")","v":4.24},{"$f":"IF(ISNUMBER(J48),ROUND(G48*O48*E48,2),\"\")","v":1755.36}]
["2.2.2","SF-00093","Reboco com argamassa industrializada e=2,0 cm","m2",1380,null,0.3,null,null,{"$f":"OFFSET(INDEX(Composições!A:H,MATCH('Orçamentária-TR'!B49,Composições!A:A,0),8),2,0)","v":31.756755800000001},{"$f":"IF(ISNUMBER(J49),ROUND(G49*E49*J49,2),\"\")","v":13147.3},{"$f":"BDI!$B$18","v":0.191},null,null,37.82,{"$f":"IF(ISNUMBER(J49),ROUND(G49*O49*E49,2),\"\")","v":15657.48}]
["2.2.3","SF-00106","Contrapiso em argamassa (e=2cm) ou Regularização de contrapiso existente","m2",450,null,0.3,null,null,{"$f":"OFFSET(INDEX(Composições!A:H,MATCH('Orçamentária-TR'!B50,Composições!A:A,0),8),2,0)","v":29.368134215499992},{"$f":"IF(ISNUMBER(J50),ROUND(G50*E50*J50,2),\"\")","v":3964.7},{"$f":"BDI!$B$18","v":0.191},null,null,34.979999999999997,{"$f":"IF(ISNUMBER(J50),ROUND(G50*O50*E50,2),\"\")","v":4722.3}]
["2.2.4","SF-01105","Laminado decorativo de alta pressão (LDAP)","m2",180,null,0.3,null,null,{"$f":"OFFSET(INDEX(Composições!A:H,MATCH('Orçamentária-TR'!B51,Composições!A:A,0),8),2,0)","v":91.021304999999998},{"$f":"IF(ISNUMBER(J51),ROUND(G51*E51*J51,2),\"\")","v":4915.1499999999996},{"$f":"BDI!$B$18","v":0.191},null,null,108.41,{"$f":"IF(ISNUMBER(J51),ROUND(G51*O51*E51,2),\"\")","v":5854.14}]
["2.2.5","SF-00104","Cerâmica para revestimento de superfícies internas ou externas – Linha Administrativa","m2",860,null,0.3,null,null,{"$f":"OFFSET(INDEX(Composições!A:H,MATCH('Orçamentária-TR'!B52,Composições!A:A,0),8),2,0)","v":68.201260000000005},{"$f":"IF(ISNUMBER(J52),ROUND(G52*E52*J52,2),\"\")","v":17595.93},{"$f":"BDI!$B$18","v":0.191},null,null,81.23,{"$f":"IF(ISNUMBER(J52),ROUND(G52*O52*E52,2),\"\")","v":20957.34}]
["2.2.6","SF-00107","Granito cinza andorinha para piso","m2",420,null,0.3,null,null,{"$f":"OFFSET(INDEX(Composições!A:H,MATCH('Orçamentária-TR'!B53,Composições!A:A,0),8),2,0)","v":249.93211199999996},{"$f":"IF(ISNUMBER(J53),ROUND(G53*E53*J53,2),\"\")","v":31491.45},{"$f":"BDI!$B$18","v":0.191},null,null,297.67,{"$f":"IF(ISNUMBER(J53),ROUND(G53*O53*E53,2),\"\")","v":37506.42}]
["2.2.7","SF-00108","Granito Cinza Andorinha para rodapé","m2",200,null,0.3,null,null,{"$f":"OFFSET(INDEX(Composições!A:H,MATCH('Orçamentária-TR'!B54,Composições!A:A,0),8),2,0)","v":623.24591299999997},{"$f":"IF(ISNUMBER(J54),ROUND(G54*E54*J54,2),\"\")","v":37394.75},{"$f":"BDI!$B$18","v":0.191},null,null,742.29,{"$f":"IF(ISNUMBER(J54),ROUND(G54*O54*E54,2),\"\")","v":44537.4}]
["2.2.8","SF-00109","Granito Cinza Andorinha para soleira e peitoril","m2",100,null,0.3,null,null,{"$f":"OFFSET(INDEX(Composições!A:H,MATCH('Orçamentária-TR'!B55,Composições!A:A,0),8),2,0)","v":413.7167924499999},{"$f":"IF(ISNUMBER(J55),ROUND(G55*E55*J55,2),\"\")","v":12411.5},{"$f":"BDI!$B$18","v":0.191},null,null,492.74,{"$f":"IF(ISNUMBER(J55),ROUND(G55*O55*E55,2),\"\")","v":14782.2}]
["2.2.9","SF-00110","Granito Preto São Gabriel para piso","m2",60,null,0.3,null,null,{"$f":"OFFSET(INDEX(Composições!A:H,MATCH('Orçamentária-TR'!B56,Composições!A:A,0),8),2,0)","v":365.93211199999996},{"$f":"IF(ISNUMBER(J56),ROUND(G56*E56*J56,2),\"\")","v":6586.78},{"$f":"BDI!$B$18","v":0.191},null,null,435.83,{"$f":"IF(ISNUMBER(J56),ROUND(G56*O56*E56,2),\"\")","v":7844.94}]
["2.2.10","SF-00111","Granito Preto São Gabriel para rodapé","m2",20,null,0.3,null,null,{"$f":"OFFSET(INDEX(Composições!A:H,MATCH('Orçamentária-TR'!B57,Composições!A:A,0),8),2,0)","v":758.57602299999985},{"$f":"IF(ISNUMBER(J57),ROUND(G57*E57*J57,2),\"\")","v":4551.46},{"$f":"BDI!$B$18","v":0.191},null,null,903.46,{"$f":"IF(ISNUMBER(J57),ROUND(G57*O57*E57,2),\"\")","v":5420.76}]
["2.2.11","SF-00112","Granito Preto São Gabriel para soleira e peitoril","m2",20,null,0.3,null,null,{"$f":"OFFSET(INDEX(Composições!A:H,MATCH('Orçamentária-TR'!B58,Composições!A:A,0),8),2,0)","v":499.38388744999992},{"$f":"IF(ISNUMBER(J58),ROUND(G58*E58*J58,2),\"\")","v":2996.3},{"$f":"BDI!$B$18","v":0.191},null,null,594.77,{"$f":"IF(ISNUMBER(J58),ROUND(G58*O58*E58,2),\"\")","v":3568.62}]
["2.2.12","SF-01106","Granito Preto Absoluto para revestimento de superfícies internas e externas - Linha Administrativa","m2",130,null,0.3,null,null,{"$f":"OFFSET(INDEX(Composições!A:H,MATCH('Orçamentária-TR'!B59,Composições!A:A,0),8),2,0)","v":686.09211199999993},{"$f":"IF(ISNUMBER(J59),ROUND(G59*E59*J59,2),\"\")","v":26757.59},{"$f":"BDI!$B$18","v":0.191},null,null,817.14,{"$f":"IF(ISNUMBER(J59),ROUND(G59*O59*E59,2),\"\")","v":31868.46}]
["2.2.13","SF-00114","Mármore Bege Bahia para piso e parede","m2",30,null,0.3,null,null,{"$f":"OFFSET(INDEX(Composições!A:H,MATCH('Orçamentária-TR'!B60,Composições!A:A,0),8),2,0)","v":319.53211199999998},{"$f":"IF(ISNUMBER(J60),ROUND(G60*E60*J60,2),\"\")","v":2875.79},{"$f":"BDI!$B$18","v":0.191},null,null,380.56,{"$f":"IF(ISNUMBER(J60),ROUND(G60*O60*E60,2),\"\")","v":3425.04}]
["2.2.14","SF-01107","Granito Arabesco para revestimento de superfícies internas e externas - Linha Administrativa","m2",30,null,0.3,null,null,{"$f":"OFFSET(INDEX(Composições!A:H,MATCH('Orçamentária-TR'!B61,Composições!A:A,0),8),2,0)","v":281.19411199999996},{"$f":"IF(ISNUMBER(J61),ROUND(G61*E61*J61,2),\"\")","v":2530.75},{"$f":"BDI!$B$18","v":0.191},null,null,334.9,{"$f":"IF(ISNUMBER(J61),ROUND(G61*O61*E61,2),\"\")","v":3014.1}]
["2.2.15","SF-01108","Porcelanato para revestimento de superfícies internas e externas - Linha Residencial","m2",100,null,0.3,null,null,{"$f":"OFFSET(INDEX(Composições!A:H,MATCH('Orçamentária-TR'!B62,Composições!A:A,0),8),2,0)","v":77.204695000000001},{"$f":"IF(ISNUMBER(J62),ROUND(G62*E62*J62,2),\"\")","v":2316.14},{"$f":"BDI!$B$18","v":0.191},null,null,91.95,{"$f":"IF(ISNUMBER(J62),ROUND(G62*O62*E62,2),\"\")","v":2758.5}]
["2.2.16","SF-00115","Mármore Branco Especial para piso e parede","m2",100,null,0.3,null,null,{"$f":"OFFSET(INDEX(Composições!A:H,MATCH('Orçamentária-TR'!B63,Composições!A:A,0),8),2,0)","v":563.13211200000001},{"$f":"IF(ISNUMBER(J63),ROUND(G63*E63*J63,2),\"\")","v":16893.96},{"$f":"BDI!$B$18","v":0.191},null,null,670.69,{"$f":"IF(ISNUMBER(J63),ROUND(G63*O63*E63,2),\"\")","v":20120.7}]
["2.2.17","SF-01109","Granitina para revestimento de pisos","m2",390,null,0.3,null,null,{"$f":"OFFSET(INDEX(Composições!A:H,MATCH('Orçamentária-TR'!B64,Composições!A:A,0),8),2,0)","v":95.789864010000002},{"$f":"IF(ISNUMBER(J64),ROUND(G64*E64*J64,2),\"\")","v":11207.41},{"$f":"BDI!$B$18","v":0.191},null,null,114.09,{"$f":"IF(ISNUMBER(J64),ROUND(G64*O64*E64,2),\"\")","v":13348.53}]
["2.2.18","SF-00151","Instalação de revestimento de piso têxtil (carpete) reaproveitado","m2",1800,null,0.3,null,null,{"$f":"OFFSET(INDEX(Composições!A:H,MATCH('Orçamentária-TR'!B65,Composições!A:A,0),8),2,0)","v":6.13035},{"$f":"IF(ISNUMBER(J65),ROUND(G65*E65*J65,2),\"\")","v":3310.39},{"$f":"BDI!$B$18","v":0.191},null,null,7.3,{"$f":"IF(ISNUMBER(J65),ROUND(G65*O65*E65,2),\"\")","v":3942}]
["2.2.19","SF-01014","Piso vinílico semiflexível","m2",510,null,0.3,null,null,{"$f":"OFFSET(INDEX(Composições!A:H,MATCH('Orçamentária-TR'!B66,Composições!A:A,0),8),2,0)","v":92.319042999999994},{"$f":"IF(ISNUMBER(J66),ROUND(G66*E66*J66,2),\"\")","v":14124.81},{"$f":"BDI!$B$18","v":0.191},null,null,109.95,{"$f":"IF(ISNUMBER(J66),ROUND(G66*O66*E66,2),\"\")","v":16822.349999999999}]
["2.2.20","SF-01110","Piso vinílico flexível em manta","m2",140,null,0.3,null,null,{"$f":"OFFSET(INDEX(Composições!A:H,MATCH('Orçamentária-TR'!B67,Composições!A:A,0),8),2,0)","v":138.00352500000002},{"$f":"IF(ISNUMBER(J67),ROUND(G67*E67*J67,2),\"\")","v":5796.15},{"$f":"BDI!$B$18","v":0.191},null,null,164.36,{"$f":"IF(ISNUMBER(J67),ROUND(G67*O67*E67,2),\"\")","v":6903.12}]
["2.2.21","SF-00095","Tratamento de trincas superficiais","m",200,null,0.3,null,null,{"$f":"OFFSET(INDEX(Composições!A:H,MATCH('Orçamentária-TR'!B68,Composições!A:A,0),8),2,0)","v":21.730537500000001},{"$f":"IF(ISNUMBER(J68),ROUND(G68*E68*J68,2),\"\")","v":1303.83},{"$f":"BDI!$B$18","v":0.191},null,null,25.88,{"$f":"IF(ISNUMBER(J68),ROUND(G68*O68*E68,2),\"\")","v":1552.8}]
["2.2.22","SF-00977","Junta de movimentação em fachada","m",2000,null,0.3,null,null,{"$f":"OFFSET(INDEX(Composições!A:H,MATCH('Orçamentária-TR'!B69,Composições!A:A,0),8),2,0)","v":24.340738499999997},{"$f":"IF(ISNUMBER(J69),ROUND(G69*E69*J69,2),\"\")","v":14604.44},{"$f":"BDI!$B$18","v":0.191},null,null,28.99,{"$f":"IF(ISNUMBER(J69),ROUND(G69*O69*E69,2),\"\")","v":17394}]
["2.2.23","SF-01111","Tratamento de juntas de dilatação ou movimentação","m",4300,null,0.3,null,null,{"$f":"OFFSET(INDEX(Composições!A:H,MATCH('Orçamentária-TR'!B70,Composições!A:A,0),8),2,0)","v":35.263904999999994},{"$f":"IF(ISNUMBER(J70),ROUND(G70*E70*J70,2),\"\")","v":45490.44},{"$f":"BDI!$B$18","v":0.191},null,null,42,{"$f":"IF(ISNUMBER(J70),ROUND(G70*O70*E70,2),\"\")","v":54180}]
["2.2.24","SF-01112","Recuperação superficial de preparação para pintura epóxi de alto desempenho","m2",360,null,0.3,null,null,{"$f":"OFFSET(INDEX(Composições!A:H,MATCH('Orçamentária-TR'!B71,Composições!A:A,0),8),2,0)","v":122.11630000000001},{"$f":"IF(ISNUMBER(J71),ROUND(G71*E71*J71,2),\"\")","v":13188.56},{"$f":"BDI!$B$18","v":0.191},null,null,145.44,{"$f":"IF(ISNUMBER(J71),ROUND(G71*O71*E71,2),\"\")","v":15707.52}]
["2.2.25","SF-01113","Lixamento, calafetação e aplicação de sinteco em piso de madeira - Linha Residencial","m2",600,null,0.3,null,null,{"$f":"OFFSET(INDEX(Composições!A:H,MATCH('Orçamentária-TR'!B72,Composições!A:A,0),8),2,0)","v":42.75},{"$f":"IF(ISNUMBER(J72),ROUND(G72*E72*J72,2),\"\")","v":7695},{"$f":"BDI!$B$18","v":0.191},null,null,50.92,{"$f":"IF(ISNUMBER(J72),ROUND(G72*O72*E72,2),\"\")","v":9165.6}]
["2.2.26","SF-00116","Rodapé de madeira","m",300,null,0.3,null,null,{"$f":"OFFSET(INDEX(Composições!A:H,MATCH('Orçamentária-TR'!B73,Composições!A:A,0),8),2,0)","v":17.062284999999999},{"$f":"IF(ISNUMBER(J73),ROUND(G73*E73*J73,2),\"\")","v":1535.61},{"$f":"BDI!$B$18","v":0.191},null,null,20.32,{"$f":"IF(ISNUMBER(J73),ROUND(G73*O73*E73,2),\"\")","v":1828.8}]
["2.2.27","SF-01114","Piso em taco de madeira - Linha Residencial","m2",300,null,0.3,null,null,{"$f":"OFFSET(INDEX(Composições!A:H,MATCH('Orçamentária-TR'!B74,Composições!A:A,0),8),2,0)","v":130.50957499999998},{"$f":"IF(ISNUMBER(J74),ROUND(G74*E74*J74,2),\"\")","v":11745.86},{"$f":"BDI!$B$18","v":0.191},null,null,155.44,{"$f":"IF(ISNUMBER(J74),ROUND(G74*O74*E74,2),\"\")","v":13989.6}]
["2.2.28","SF-01115","Piso de borracha antiderrapante tipo moeda","m2",150,null,0.3,null,null,{"$f":"OFFSET(INDEX(Composições!A:H,MATCH('Orçamentária-TR'!B75,Composições!A:A,0),8),2,0)","v":174.72409499999998},{"$f":"IF(ISNUMBER(J75),ROUND(G75*E75*J75,2),\"\")","v":7862.58},{"$f":"BDI!$B$18","v":0.191},null,null,208.1,{"$f":"IF(ISNUMBER(J75),ROUND(G75*O75*E75,2),\"\")","v":9364.5}]
["2.2.29","SF-01116","Piso sintético flutuante - Linha Residencial","m2",600,null,0.3,null,null,{"$f":"OFFSET(INDEX(Composições!A:H,MATCH('Orçamentária-TR'!B76,Composições!A:A,0),8),2,0)","v":94.132125000000016},{"$f":"IF(ISNUMBER(J76),ROUND(G76*E76*J76,2),\"\")","v":16943.78},{"$f":"BDI!$B$18","v":0.191},null,null,112.11,{"$f":"IF(ISNUMBER(J76),ROUND(G76*O76*E76,2),\"\")","v":20179.8}]
["2.2.30","SF-01117","Revestimento acústico perfilado - Linha Administrativa","m2",300,null,0.3,null,null,{"$f":"OFFSET(INDEX(Composições!A:H,MATCH('Orçamentária-TR'!B77,Composições!A:A,0),8),2,0)","v":179.400375},{"$f":"IF(ISNUMBER(J77),ROUND(G77*E77*J77,2),\"\")","v":16146.03},{"$f":"BDI!$B$18","v":0.191},null,null,213.67,{"$f":"IF(ISNUMBER(J77),ROUND(G77*O77*E77,2),\"\")","v":19230.3}]
["2.2.31","SF-01118","Revestimento acústico plano - Linha Administrativa","m2",300,null,0.3,null,null,{"$f":"OFFSET(INDEX(Composições!A:H,MATCH('Orçamentária-TR'!B78,Composições!A:A,0),8),2,0)","v":209.32537499999998},{"$f":"IF(ISNUMBER(J78),ROUND(G78*E78*J78,2),\"\")","v":18839.28},{"$f":"BDI!$B$18","v":0.191},null,null,249.31,{"$f":"IF(ISNUMBER(J78),ROUND(G78*O78*E78,2),\"\")","v":22437.9}]
["2.3",null,"Serviços de Manutenção no Sistema de Vedações",null,null,null,null,null,null,null,{"$f":"SUBTOTAL(109,K80:K81)","v":29783.68},null,null,null,null,{"$f":"SUBTOTAL(109,P80:P81)","v":35472.480000000003}]
["2.3.1","SF-00087","Parede em gesso acartonado (drywall)","m2",1305,null,0.3,null,null,{"$f":"OFFSET(INDEX(Composições!A:H,MATCH('Orçamentária-TR'!B80,Composições!A:A,0),8),2,0)","v":75.667062049999998},{"$f":"IF(ISNUMBER(J80),ROUND(G80*E80*J80,2),\"\")","v":29623.65},{"$f":"BDI!$B$18","v":0.191},null,null,{"$f":"IF(ISNUMBER(J80),ROUND(J80*(1+L80),2),\"\")","v":90.12},{"$f":"IF(ISNUMBER(J80),ROUND(G80*O80*E80,2),\"\")","v":35281.980000000003}]
["2.3.2","SF-00088","Reparos superficiais em painéis de gesso acartonado","m2",100,null,0.3,null,null,{"$f":"OFFSET(INDEX(Composições!A:H,MATCH('Orçamentária-TR'!B81,Composições!A:A,0),8),2,0)","v":5.334261399999999},{"$f":"IF(ISNUMBER(J81),ROUND(G81*E81*J81,2),\"\")","v":160.03},{"$f":"BDI!$B$18","v":0.191},null,null,6.35,{"$f":"IF(ISNUMBER(J81),ROUND(G81*O81*E81,2),\"\")","v":190.5}]
["2.4",null,"Serviços de Manutenção no Sistema de Forros",null,null,null,null,null,null,null,{"$f":"SUBTOTAL(109,K83:K93)","v":235039.66999999998},null,null,null,null,{"$f":"SUBTOTAL(109,P83:P93)","v":279933.64999999997}]
["2.4.1","SF-00144","Forro em gesso acartonado monolítico","m2",4000,null,0.3,null,null,{"$f":"OFFSET(INDEX(Composições!A:H,MATCH('Orçamentária-TR'!B83,Composições!A:A,0),8),2,0)","v":55.418289899999998},{"$f":"IF(ISNUMBER(J83),ROUND(G83*E83*J83,2),\"\")","v":66501.95},{"$f":"BDI!$B$18","v":0.191},null,null,{"$f":"IF(ISNUMBER(J83),ROUND(J83*(1+L83),2),\"\")","v":66},{"$f":"IF(ISNUMBER(J83),ROUND(G83*O83*E83,2),\"\")","v":79200}]
["2.4.2","SF-00145","Forro em gesso acartonado monolítico, sem estrutura","m2",4100,null,0.3,null,null,{"$f":"OFFSET(INDEX(Composições!A:H,MATCH('Orçamentária-TR'!B84,Composições!A:A,0),8),2,0)","v":41.140515700000002},{"$f":"IF(ISNUMBER(J84),ROUND(G84*E84*J84,2),\"\")","v":50602.83},{"$f":"BDI!$B$18","v":0.191},null,null,49,{"$f":"IF(ISNUMBER(J84),ROUND(G84*O84*E84,2),\"\")","v":60270}]
["2.4.3","SF-00150","Tabica metálica em forro de gesso acartonado","m",90,null,0.3,null,null,{"$f":"OFFSET(INDEX(Composições!A:H,MATCH('Orçamentária-TR'!B85,Composições!A:A,0),8),2,0)","v":8.5822325500000005},{"$f":"IF(ISNUMBER(J85),ROUND(G85*E85*J85,2),\"\")","v":231.72},{"$f":"BDI!$B$18","v":0.191},null,null,10.220000000000001,{"$f":"IF(ISNUMBER(J85),ROUND(G85*O85*E85,2),\"\")","v":275.94}]
["2.4.4","SF-00139","Alçapão em forro de gesso acartonado","m2",195,null,0.3,null,null,{"$f":"OFFSET(INDEX(Composições!A:H,MATCH('Orçamentária-TR'!B86,Composições!A:A,0),8),2,0)","v":113.65855999999999},{"$f":"IF(ISNUMBER(J86),ROUND(G86*E86*J86,2),\"\")","v":6649.03},{"$f":"BDI!$B$18","v":0.191},null,null,135.37,{"$f":"IF(ISNUMBER(J86),ROUND(G86*O86*E86,2),\"\")","v":7919.15}]
["2.4.5","SF-01119","Forro monolítico de gesso em placas","m2",90,null,0.3,null,null,{"$f":"OFFSET(INDEX(Composições!A:H,MATCH('Orçamentária-TR'!B87,Composições!A:A,0),8),2,0)","v":38.53348295},{"$f":"IF(ISNUMBER(J87),ROUND(G87*E87*J87,2),\"\")","v":1040.4000000000001},{"$f":"BDI!$B$18","v":0.191},null,null,45.89,{"$f":"IF(ISNUMBER(J87),ROUND(G87*O87*E87,2),\"\")","v":1239.03}]
["2.4.6","SF-00140","Forro de PVC em réguas de 100 x 6000mm","m2",180,null,0.3,null,null,{"$f":"OFFSET(INDEX(Composições!A:H,MATCH('Orçamentária-TR'!B88,Composições!A:A,0),8),2,0)","v":36.483157799999994},{"$f":"IF(ISNUMBER(J88),ROUND(G88*E88*J88,2),\"\")","v":1970.09},{"$f":"BDI!$B$18","v":0.191},null,null,43.45,{"$f":"IF(ISNUMBER(J88),ROUND(G88*O88*E88,2),\"\")","v":2346.3000000000002}]
["2.4.7","SF-00141","Forro de PVC em réguas de 100 x 6000mm, sem estrutura","m2",360,null,0.3,null,null,{"$f":"OFFSET(INDEX(Composições!A:H,MATCH('Orçamentária-TR'!B89,Composições!A:A,0),8),2,0)","v":15.328814299999998},{"$f":"IF(ISNUMBER(J89),ROUND(G89*E89*J89,2),\"\")","v":1655.51},{"$f":"BDI!$B$18","v":0.191},null,null,18.260000000000002,{"$f":"IF(ISNUMBER(J89),ROUND(G89*O89*E89,2),\"\")","v":1972.08}]
["2.4.8","SF-00142","Forro de PVC modular em placas","m2",150,null,0.3,null,null,{"$f":"OFFSET(INDEX(Composições!A:H,MATCH('Orçamentária-TR'!B90,Composições!A:A,0),8),2,0)","v":61.287541799999985},{"$f":"IF(ISNUMBER(J90),ROUND(G90*E90*J90,2),\"\")","v":2757.94},{"$f":"BDI!$B$18","v":0.191},null,null,72.989999999999995,{"$f":"IF(ISNUMBER(J90),ROUND(G90*O90*E90,2),\"\")","v":3284.55}]
["2.4.9","SF-00143","Forro em chapas metálicas","m2",1600,null,0.3,null,null,{"$f":"OFFSET(INDEX(Composições!A:H,MATCH('Orçamentária-TR'!B91,Composições!A:A,0),8),2,0)","v":178.1575},{"$f":"IF(ISNUMBER(J91),ROUND(G91*E91*J91,2),\"\")","v":85515.6},{"$f":"BDI!$B$18","v":0.191},null,null,212.19,{"$f":"IF(ISNUMBER(J91),ROUND(G91*O91*E91,2),\"\")","v":101851.2}]
["2.4.10","SF-00146","Forro mineral modulado","m2",500,null,0.3,null,null,{"$f":"OFFSET(INDEX(Composições!A:H,MATCH('Orçamentária-TR'!B92,Composições!A:A,0),8),2,0)","v":98.685999999999993},{"$f":"IF(ISNUMBER(J92),ROUND(G92*E92*J92,2),\"\")","v":14802.9},{"$f":"BDI!$B$18","v":0.191},null,null,117.54,{"$f":"IF(ISNUMBER(J92),ROUND(G92*O92*E92,2),\"\")","v":17631}]
["2.4.11","SF-00147","Forro mineral modulado, sem estrutura","m2",400,null,0.3,null,null,{"$f":"OFFSET(INDEX(Composições!A:H,MATCH('Orçamentária-TR'!B93,Composições!A:A,0),8),2,0)","v":27.5975},{"$f":"IF(ISNUMBER(J93),ROUND(G93*E93*J93,2),\"\")","v":3311.7},{"$f":"BDI!$B$18","v":0.191},null,null,32.869999999999997,{"$f":"IF(ISNUMBER(J93),ROUND(G93*O93*E93,2),\"\")","v":3944.4}]
["2.5",null,"Serviços de Manutenção no Sistema de Pinturas",null,null,null,null,null,null,null,{"$f":"SUBTOTAL(109,K95:K112)","v":2080525.0699999998},null,null,null,null,{"$f":"SUBTOTAL(109,P95:P112)","v":2477890.7100000004}]
["2.5.1","SF-00037","Remoção de pintura ou textura","m2",20000,null,0.3,null,null,{"$f":"OFFSET(INDEX(Composições!A:H,MATCH('Orçamentária-TR'!B95,Composições!A:A,0),8),2,0)","v":6.3003999999999998},{"$f":"IF(ISNUMBER(J95),ROUND(G95*E95*J95,2),\"\")","v":37802.400000000001},{"$f":"BDI!$B$18","v":0.191},null,null,{"$f":"IF(ISNUMBER(J95),ROUND(J95*(1+L95),2),\"\")","v":7.5},{"$f":"IF(ISNUMBER(J95),ROUND(G95*O95*E95,2),\"\")","v":45000}]
["2.5.2","SF-00096","Aplicação de fundo selador base água","m2",42090,null,0.3,null,null,{"$f":"OFFSET(INDEX(Composições!A:H,MATCH('Orçamentária-TR'!B96,Composições!A:A,0),8),2,0)","v":4.0511619999999997},{"$f":"IF(ISNUMBER(J96),ROUND(G96*E96*J96,2),\"\")","v":51154.02},{"$f":"BDI!$B$18","v":0.191},null,null,4.82,{"$f":"IF(ISNUMBER(J96),ROUND(G96*O96*E96,2),\"\")","v":60862.14}]
["2.5.3","SF-01120","Textura acrílica - Linha Administrativa","m2",4500,null,0.3,null,null,{"$f":"OFFSET(INDEX(Composições!A:H,MATCH('Orçamentária-TR'!B97,Composições!A:A,0),8),2,0)","v":12.126579},{"$f":"IF(ISNUMBER(J97),ROUND(G97*E97*J97,2),\"\")","v":16370.88},{"$f":"BDI!$B$18","v":0.191},null,null,14.44,{"$f":"IF(ISNUMBER(J97),ROUND(G97*O97*E97,2),\"\")","v":19494}]
["2.5.4","SF-00099","Massa corrida","m2",96927,null,0.3,null,null,{"$f":"OFFSET(INDEX(Composições!A:H,MATCH('Orçamentária-TR'!B98,Composições!A:A,0),8),2,0)","v":12.260367499999999},{"$f":"IF(ISNUMBER(J98),ROUND(G98*E98*J98,2),\"\")","v":356508.19},{"$f":"BDI!$B$18","v":0.191},null,null,14.6,{"$f":"IF(ISNUMBER(J98),ROUND(G98*O98*E98,2),\"\")","v":424540.26}]
["2.5.5","SF-00098","Massa acrílica","m2",12190,null,0.3,null,null,{"$f":"OFFSET(INDEX(Composições!A:H,MATCH('Orçamentária-TR'!B99,Composições!A:A,0),8),2,0)","v":15.683284},{"$f":"IF(ISNUMBER(J99),ROUND(G99*E99*J99,2),\"\")","v":57353.77},{"$f":"BDI!$B$18","v":0.191},null,null,18.68,{"$f":"IF(ISNUMBER(J99),ROUND(G99*O99*E99,2),\"\")","v":68312.759999999995}]
["2.5.6","SF-00100","Pintura com tinta látex acrílica Premium (paredes)","m2",154147,null,0.3,null,null,{"$f":"OFFSET(INDEX(Composições!A:H,MATCH('Orçamentária-TR'!B100,Composições!A:A,0),8),2,0)","v":11.697226499999999},{"$f":"IF(ISNUMBER(J100),ROUND(G100*E100*J100,2),\"\")","v":540927.71},{"$f":"BDI!$B$18","v":0.191},null,null,13.93,{"$f":"IF(ISNUMBER(J100),ROUND(G100*O100*E100,2),\"\")","v":644180.31000000006}]
["2.5.7","SF-01121","Pintura com tinta látex acrílica Premium - cores especiais (sistema tintométrico)","m2",6460,null,0.3,null,null,{"$f":"OFFSET(INDEX(Composições!A:H,MATCH('Orçamentária-TR'!B101,Composições!A:A,0),8),2,0)","v":12.661239},{"$f":"IF(ISNUMBER(J101),ROUND(G101*E101*J101,2),\"\")","v":24537.48},{"$f":"BDI!$B$18","v":0.191},null,null,15.08,{"$f":"IF(ISNUMBER(J101),ROUND(G101*O101*E101,2),\"\")","v":29225.040000000001}]
["2.5.8","SF-00103","Pintura tinta látex acrílica standard (tetos)","m2",140000,null,0.3,null,null,{"$f":"OFFSET(INDEX(Composições!A:H,MATCH('Orçamentária-TR'!B102,Composições!A:A,0),8),2,0)","v":13.287478999999998},{"$f":"IF(ISNUMBER(J102),ROUND(G102*E102*J102,2),\"\")","v":558074.12},{"$f":"BDI!$B$18","v":0.191},null,null,15.83,{"$f":"IF(ISNUMBER(J102),ROUND(G102*O102*E102,2),\"\")","v":664860}]
["2.5.9","SF-00097","Fundo anticorrosivo e de aderência (base água)","m2",5000,null,0.3,null,null,{"$f":"OFFSET(INDEX(Composições!A:H,MATCH('Orçamentária-TR'!B103,Composições!A:A,0),8),2,0)","v":15.6061005},{"$f":"IF(ISNUMBER(J103),ROUND(G103*E103*J103,2),\"\")","v":23409.15},{"$f":"BDI!$B$18","v":0.191},null,null,18.59,{"$f":"IF(ISNUMBER(J103),ROUND(G103*O103*E103,2),\"\")","v":27885}]
["2.5.10","SF-00102","Pintura esmalte acetinado (metais e madeiras)","m2",42000,null,0.3,null,null,{"$f":"OFFSET(INDEX(Composições!A:H,MATCH('Orçamentária-TR'!B104,Composições!A:A,0),8),2,0)","v":16.440639999999998},{"$f":"IF(ISNUMBER(J104),ROUND(G104*E104*J104,2),\"\")","v":207152.06},{"$f":"BDI!$B$18","v":0.191},null,null,19.579999999999998,{"$f":"IF(ISNUMBER(J104),ROUND(G104*O104*E104,2),\"\")","v":246708}]
["2.5.11","SF-00101","Pintura em verniz sintético","m2",1500,null,0.3,null,null,{"$f":"OFFSET(INDEX(Composições!A:H,MATCH('Orçamentária-TR'!B105,Composições!A:A,0),8),2,0)","v":17.039539999999999},{"$f":"IF(ISNUMBER(J105),ROUND(G105*E105*J105,2),\"\")","v":7667.79},{"$f":"BDI!$B$18","v":0.191},null,null,20.29,{"$f":"IF(ISNUMBER(J105),ROUND(G105*O105*E105,2),\"\")","v":9130.5}]
["2.5.12","SF-01122","Pintura Eletrostática","m2",3000,null,0.3,null,null,40,{"$f":"IF(ISNUMBER(J106),ROUND(G106*E106*J106,2),\"\")","v":36000},{"$f":"BDI!$B$18","v":0.191},null,null,47.64,{"$f":"IF(ISNUMBER(J106),ROUND(G106*O106*E106,2),\"\")","v":42876}]
["2.5.13","SF-01123","Pintura com tinta acrílica (pisos)","m2",12000,null,0.3,null,null,{"$f":"OFFSET(INDEX(Composições!A:H,MATCH('Orçamentária-TR'!B107,Composições!A:A,0),8),2,0)","v":13.977444999999998},{"$f":"IF(ISNUMBER(J107),ROUND(G107*E107*J107,2),\"\")","v":50318.8},{"$f":"BDI!$B$18","v":0.191},null,null,16.649999999999999,{"$f":"IF(ISNUMBER(J107),ROUND(G107*O107*E107,2),\"\")","v":59940}]
["2.5.14","SF-01124","Pintura com tinta epóxi de alto desempenho (pisos)","m2",3600,null,0.3,null,null,{"$f":"OFFSET(INDEX(Composições!A:H,MATCH('Orçamentária-TR'!B108,Composições!A:A,0),8),2,0)","v":57.215953999999996},{"$f":"IF(ISNUMBER(J108),ROUND(G108*E108*J108,2),\"\")","v":61793.23},{"$f":"BDI!$B$18","v":0.191},null,null,68.14,{"$f":"IF(ISNUMBER(J108),ROUND(G108*O108*E108,2),\"\")","v":73591.199999999997}]
["2.5.15","SF-01125","Verniz de poliuretano sobre pintura epóxi de alto desempenho","m2",3600,null,0.3,null,null,{"$f":"OFFSET(INDEX(Composições!A:H,MATCH('Orçamentária-TR'!B109,Composições!A:A,0),8),2,0)","v":18.451555499999998},{"$f":"IF(ISNUMBER(J109),ROUND(G109*E109*J109,2),\"\")","v":19927.68},{"$f":"BDI!$B$18","v":0.191},null,null,21.98,{"$f":"IF(ISNUMBER(J109),ROUND(G109*O109*E109,2),\"\")","v":23738.400000000001}]
["2.5.16","SF-01126","Tratamento antiderrapante em verniz de poliuretano sobre pintura epóxi","m2",2100,null,0.3,null,null,{"$f":"OFFSET(INDEX(Composições!A:H,MATCH('Orçamentária-TR'!B110,Composições!A:A,0),8),2,0)","v":7.7468190000000003},{"$f":"IF(ISNUMBER(J110),ROUND(G110*E110*J110,2),\"\")","v":4880.5},{"$f":"BDI!$B$18","v":0.191},null,null,9.23,{"$f":"IF(ISNUMBER(J110),ROUND(G110*O110*E110,2),\"\")","v":5814.9}]
["2.5.17","SF-00092","Gesso cola","m2",6900,null,0.3,null,null,{"$f":"OFFSET(INDEX(Composições!A:H,MATCH('Orçamentária-TR'!B111,Composições!A:A,0),8),2,0)","v":12.764279999999999},{"$f":"IF(ISNUMBER(J111),ROUND(G111*E111*J111,2),\"\")","v":26422.06},{"$f":"BDI!$B$18","v":0.191},null,null,15.2,{"$f":"IF(ISNUMBER(J111),ROUND(G111*O111*E111,2),\"\")","v":31464}]
["2.5.18","SF-01127","Pintura para superfícies galvanizadas","m2",30,null,0.3,null,null,{"$f":"OFFSET(INDEX(Composições!A:H,MATCH('Orçamentária-TR'!B112,Composições!A:A,0),8),2,0)","v":25.025173599999995},{"$f":"IF(ISNUMBER(J112),ROUND(G112*E112*J112,2),\"\")","v":225.23},{"$f":"BDI!$B$18","v":0.191},null,null,29.8,{"$f":"IF(ISNUMBER(J112),ROUND(G112*O112*E112,2),\"\")","v":268.2}]
["2.6",null,"Serviços de Manutenção no Sistema de Pavimentação Viária",null,null,null,null,null,null,null,{"$f":"SUBTOTAL(109,K114:K122)","v":123152.31},null,null,null,null,{"$f":"SUBTOTAL(109,P114:P122)","v":146660.15}]
["2.6.1","SF-00981","Base para pavimentação com concreto magro","m3 ",30,null,0.3,null,null,{"$f":"OFFSET(INDEX(Composições!A:H,MATCH('Orçamentária-TR'!B114,Composições!A:A,0),8),2,0)","v":423.73030461999997},{"$f":"IF(ISNUMBER(J114),ROUND(G114*E114*J114,2),\"\")","v":3813.57},{"$f":"BDI!$B$18","v":0.191},null,null,{"$f":"IF(ISNUMBER(J114),ROUND(J114*(1+L114),2),\"\")","v":504.66},{"$f":"IF(ISNUMBER(J114),ROUND(G114*O114*E114,2),\"\")","v":4541.9399999999996}]
["2.6.2","SF-00982","Pavimentação em concreto armado simples","m2",735,null,0.3,null,null,{"$f":"OFFSET(INDEX(Composições!A:H,MATCH('Orçamentária-TR'!B115,Composições!A:A,0),8),2,0)","v":81.535191811199994},{"$f":"IF(ISNUMBER(J115),ROUND(G115*E115*J115,2),\"\")","v":17978.509999999998},{"$f":"BDI!$B$18","v":0.191},null,null,97.11,{"$f":"IF(ISNUMBER(J115),ROUND(G115*O115*E115,2),\"\")","v":21412.76}]
["2.6.3","SF-01128","Selagem ou resselagem de juntas em pavimentação de concreto armado","m",300,null,0.3,null,null,{"$f":"OFFSET(INDEX(Composições!A:H,MATCH('Orçamentária-TR'!B116,Composições!A:A,0),8),2,0)","v":8.037722090941525},{"$f":"IF(ISNUMBER(J116),ROUND(G116*E116*J116,2),\"\")","v":723.39},{"$f":"BDI!$B$18","v":0.191},null,null,9.57,{"$f":"IF(ISNUMBER(J116),ROUND(G116*O116*E116,2),\"\")","v":861.3}]
["2.6.4","SF-01129","Pavimentação em elementos intertravados de concreto","m2",330,null,0.3,null,null,{"$f":"OFFSET(INDEX(Composições!A:H,MATCH('Orçamentária-TR'!B117,Composições!A:A,0),8),2,0)","v":45.423546582},{"$f":"IF(ISNUMBER(J117),ROUND(G117*E117*J117,2),\"\")","v":4496.93},{"$f":"BDI!$B$18","v":0.191},null,null,54.1,{"$f":"IF(ISNUMBER(J117),ROUND(G117*O117*E117,2),\"\")","v":5355.9}]
["2.6.5","SF-01130","Pavimentação com Asfalto Pré-Misturado a Frio (PMF)","m3",50,null,0.3,null,null,{"$f":"OFFSET(INDEX(Composições!A:H,MATCH('Orçamentária-TR'!B118,Composições!A:A,0),8),2,0)","v":519.34467285000005},{"$f":"IF(ISNUMBER(J118),ROUND(G118*E118*J118,2),\"\")","v":7790.17},{"$f":"BDI!$B$18","v":0.191},null,null,618.54,{"$f":"IF(ISNUMBER(J118),ROUND(G118*O118*E118,2),\"\")","v":9278.1}]
["2.6.6","SF-01131","Pavimentação asfáltica com CBUQ para aplicação a frio (remendo)","m3",50,null,0.3,null,null,{"$f":"OFFSET(INDEX(Composições!A:H,MATCH('Orçamentária-TR'!B119,Composições!A:A,0),8),2,0)","v":2666.9136824421189},{"$f":"IF(ISNUMBER(J119),ROUND(G119*E119*J119,2),\"\")","v":40003.71},{"$f":"BDI!$B$18","v":0.191},null,null,3176.29,{"$f":"IF(ISNUMBER(J119),ROUND(G119*O119*E119,2),\"\")","v":47644.35}]
["2.6.7","SF-01132","Pintura para sinalização e demarcação viária horizontal","m2",6210,null,0.3,null,null,{"$f":"OFFSET(INDEX(Composições!A:H,MATCH('Orçamentária-TR'!B120,Composições!A:A,0),8),2,0)","v":14.582214049999999},{"$f":"IF(ISNUMBER(J120),ROUND(G120*E120*J120,2),\"\")","v":27166.66},{"$f":"BDI!$B$18","v":0.191},null,null,17.37,{"$f":"IF(ISNUMBER(J120),ROUND(G120*O120*E120,2),\"\")","v":32360.31}]
["2.6.8","SF-00991","Meios-fios em concreto pré-moldado","m",270,null,0.3,null,null,{"$f":"OFFSET(INDEX(Composições!A:H,MATCH('Orçamentária-TR'!B121,Composições!A:A,0),8),2,0)","v":34.9358238262},{"$f":"IF(ISNUMBER(J121),ROUND(G121*E121*J121,2),\"\")","v":2829.8},{"$f":"BDI!$B$18","v":0.191},null,null,41.61,{"$f":"IF(ISNUMBER(J121),ROUND(G121*O121*E121,2),\"\")","v":3370.41}]
["2.6.9","SF-00990","Pintura de meios-fios com tinta acrílica","m",13890,null,0.3,null,null,{"$f":"OFFSET(INDEX(Composições!A:H,MATCH('Orçamentária-TR'!B122,Composições!A:A,0),8),2,0)","v":4.403544975},{"$f":"IF(ISNUMBER(J122),ROUND(G122*E122*J122,2),\"\")","v":18349.57},{"$f":"BDI!$B$18","v":0.191},null,null,5.24,{"$f":"IF(ISNUMBER(J122),ROUND(G122*O122*E122,2),\"\")","v":21835.08}]
["2.7",null,"Serviços de Manutenção no Sistema de Cobertura",null,null,null,null,null,null,null,{"$f":"SUBTOTAL(109,K124:K134)","v":77387.790000000008},null,null,null,null,{"$f":"SUBTOTAL(109,P124:P134)","v":92170.800000000017}]
["2.7.1","SF-01133","Telha metálica trapezoidal galvanizada - GR-40","m2",1200,null,0.3,null,null,{"$f":"OFFSET(INDEX(Composições!A:H,MATCH('Orçamentária-TR'!B124,Composições!A:A,0),8),2,0)","v":44.555905349999996},{"$f":"IF(ISNUMBER(J124),ROUND(G124*E124*J124,2),\"\")","v":16040.13},{"$f":"BDI!$B$18","v":0.191},null,null,{"$f":"IF(ISNUMBER(J124),ROUND(J124*(1+L124),2),\"\")","v":53.07},{"$f":"IF(ISNUMBER(J124),ROUND(G124*O124*E124,2),\"\")","v":19105.2}]
["2.7.2","SF-01134","Cumeeira para telha metálica trapezoidal galvanizada - GR-40","m",600,null,0.3,null,null,{"$f":"OFFSET(INDEX(Composições!A:H,MATCH('Orçamentária-TR'!B125,Composições!A:A,0),8),2,0)","v":58.982133699999984},{"$f":"IF(ISNUMBER(J125),ROUND(G125*E125*J125,2),\"\")","v":10616.78},{"$f":"BDI!$B$18","v":0.191},null,null,70.25,{"$f":"IF(ISNUMBER(J125),ROUND(G125*O125*E125,2),\"\")","v":12645}]
["2.7.3","SF-01135","Telha metálica trapezoidal galvanizada - GR-25","m2",900,null,0.3,null,null,{"$f":"OFFSET(INDEX(Composições!A:H,MATCH('Orçamentária-TR'!B126,Composições!A:A,0),8),2,0)","v":47.140344349999999},{"$f":"IF(ISNUMBER(J126),ROUND(G126*E126*J126,2),\"\")","v":12727.89},{"$f":"BDI!$B$18","v":0.191},null,null,56.14,{"$f":"IF(ISNUMBER(J126),ROUND(G126*O126*E126,2),\"\")","v":15157.8}]
["2.7.4","SF-01136","Cumeeira para telha metálica trapezoidal galvanizada - GR-25","m",600,null,0.3,null,null,{"$f":"OFFSET(INDEX(Composições!A:H,MATCH('Orçamentária-TR'!B127,Composições!A:A,0),8),2,0)","v":43.824963699999991},{"$f":"IF(ISNUMBER(J127),ROUND(G127*E127*J127,2),\"\")","v":7888.49},{"$f":"BDI!$B$18","v":0.191},null,null,52.2,{"$f":"IF(ISNUMBER(J127),ROUND(G127*O127*E127,2),\"\")","v":9396}]
["2.7.5","SF-01137","Telha de fibrocimento modulada - espessura 8mm","m2",150,null,0.3,null,null,{"$f":"OFFSET(INDEX(Composições!A:H,MATCH('Orçamentária-TR'!B128,Composições!A:A,0),8),2,0)","v":76.145825000000002},{"$f":"IF(ISNUMBER(J128),ROUND(G128*E128*J128,2),\"\")","v":3426.56},{"$f":"BDI!$B$18","v":0.191},null,null,90.69,{"$f":"IF(ISNUMBER(J128),ROUND(G128*O128*E128,2),\"\")","v":4081.05}]
["2.7.6","SF-01138","Cumeeira articulada ABA SUPERIOR de fibrocimento para telha modulada - espessura 6 mm","m",75,null,0.3,null,null,{"$f":"OFFSET(INDEX(Composições!A:H,MATCH('Orçamentária-TR'!B129,Composições!A:A,0),8),2,0)","v":56.824249999999999},{"$f":"IF(ISNUMBER(J129),ROUND(G129*E129*J129,2),\"\")","v":1278.55},{"$f":"BDI!$B$18","v":0.191},null,null,67.680000000000007,{"$f":"IF(ISNUMBER(J129),ROUND(G129*O129*E129,2),\"\")","v":1522.8}]
["2.7.7","SF-01139","Cumeeira articulada ABA INFERIOR de fibrocimento para telha modulada - espessura 6 mm","m",75,null,0.3,null,null,{"$f":"OFFSET(INDEX(Composições!A:H,MATCH('Orçamentária-TR'!B130,Composições!A:A,0),8),2,0)","v":56.843819999999994},{"$f":"IF(ISNUMBER(J130),ROUND(G130*E130*J130,2),\"\")","v":1278.99},{"$f":"BDI!$B$18","v":0.191},null,null,67.7,{"$f":"IF(ISNUMBER(J130),ROUND(G130*O130*E130,2),\"\")","v":1523.25}]
["2.7.8","SF-01140","Telha de fibrocimento ondulada - espessura 6mm","m2",1500,null,0.3,null,null,{"$f":"OFFSET(INDEX(Composições!A:H,MATCH('Orçamentária-TR'!B131,Composições!A:A,0),8),2,0)","v":27.85734115},{"$f":"IF(ISNUMBER(J131),ROUND(G131*E131*J131,2),\"\")","v":12535.8},{"$f":"BDI!$B$18","v":0.191},null,null,33.18,{"$f":"IF(ISNUMBER(J131),ROUND(G131*O131*E131,2),\"\")","v":14931}]
["2.7.9","SF-01141","Cumeeira UNIVERSAL para telha de fibrocimento ondulada - espessura 6 mm","m",300,null,0.3,null,null,{"$f":"OFFSET(INDEX(Composições!A:H,MATCH('Orçamentária-TR'!B132,Composições!A:A,0),8),2,0)","v":34.928722199999996},{"$f":"IF(ISNUMBER(J132),ROUND(G132*E132*J132,2),\"\")","v":3143.58},{"$f":"BDI!$B$18","v":0.191},null,null,41.6,{"$f":"IF(ISNUMBER(J132),ROUND(G132*O132*E132,2),\"\")","v":3744}]
["2.7.10","SF-01142","Cumeeira TIPO SHED para telha de fibrocimento ondulada - espessura 6 mm","m",300,null,0.3,null,null,{"$f":"OFFSET(INDEX(Composições!A:H,MATCH('Orçamentária-TR'!B133,Composições!A:A,0),8),2,0)","v":33.452944699999996},{"$f":"IF(ISNUMBER(J133),ROUND(G133*E133*J133,2),\"\")","v":3010.77},{"$f":"BDI!$B$18","v":0.191},null,null,39.840000000000003,{"$f":"IF(ISNUMBER(J133),ROUND(G133*O133*E133,2),\"\")","v":3585.6}]
["2.7.11","SF-01143","Telha de fibrocimento - Canalete 49 Eternit","m2",300,null,0.3,null,null,{"$f":"OFFSET(INDEX(Composições!A:H,MATCH('Orçamentária-TR'!B134,Composições!A:A,0),8),2,0)","v":60.447265000000002},{"$f":"IF(ISNUMBER(J134),ROUND(G134*E134*J134,2),\"\")","v":5440.25},{"$f":"BDI!$B$18","v":0.191},null,null,71.989999999999995,{"$f":"IF(ISNUMBER(J134),ROUND(G134*O134*E134,2),\"\")","v":6479.1}]
["2.8",null,"Serviços de Segurança do Trabalho",null,null,null,null,null,null,null,{"$f":"SUBTOTAL(109,K136:K159)","v":366478.66000000009},null,null,null,null,{"$f":"SUBTOTAL(109,P136:P159)","v":436471.99999999988}]
["2.8.1","SF-01144","Passarela móvel para telhado (sem degraus)","un",30,null,0.3,null,null,1540,{"$f":"IF(ISNUMBER(J136),ROUND(G136*E136*J136,2),\"\")","v":13860},{"$f":"BDI!$B$18","v":0.191},null,null,{"$f":"IF(ISNUMBER(J136),ROUND(J136*(1+L136),2),\"\")","v":1834.14},{"$f":"IF(ISNUMBER(J136),ROUND(G136*O136*E136,2),\"\")","v":16507.259999999998}]
["2.8.2","SF-01145","Passarela móvel para telhado (com degraus)","un",30,null,0.3,null,null,2033.37,{"$f":"IF(ISNUMBER(J137),ROUND(G137*E137*J137,2),\"\")","v":18300.330000000002},{"$f":"BDI!$B$18","v":0.191},null,null,2421.7399999999998,{"$f":"IF(ISNUMBER(J137),ROUND(G137*O137*E137,2),\"\")","v":21795.66}]
["2.8.3","SF-00066","Ponto de ancoragem","un",700,null,0.3,null,null,437.2,{"$f":"IF(ISNUMBER(J138),ROUND(G138*E138*J138,2),\"\")","v":91812},{"$f":"BDI!$B$18","v":0.191},null,null,520.71,{"$f":"IF(ISNUMBER(J138),ROUND(G138*O138*E138,2),\"\")","v":109349.1}]
["2.8.4","SF-00054","Esticador de cabo de aço","un",165,null,0.3,null,null,435.38,{"$f":"IF(ISNUMBER(J139),ROUND(G139*E139*J139,2),\"\")","v":21551.31},{"$f":"BDI!$B$18","v":0.191},null,null,518.54,{"$f":"IF(ISNUMBER(J139),ROUND(G139*O139*E139,2),\"\")","v":25667.73}]
["2.8.5","SF-00056","Indicador de tensão","un",45,null,0.3,null,null,970,{"$f":"IF(ISNUMBER(J140),ROUND(G140*E140*J140,2),\"\")","v":13095},{"$f":"BDI!$B$18","v":0.191},null,null,1155.27,{"$f":"IF(ISNUMBER(J140),ROUND(G140*O140*E140,2),\"\")","v":15596.15}]
["2.8.6","SF-00047","Absorvedor de energia para linha de vida","un",45,null,0.3,null,null,777.26,{"$f":"IF(ISNUMBER(J141),ROUND(G141*E141*J141,2),\"\")","v":10493.01},{"$f":"BDI!$B$18","v":0.191},null,null,925.72,{"$f":"IF(ISNUMBER(J141),ROUND(G141*O141*E141,2),\"\")","v":12497.22}]
["2.8.7","SF-00069","Suporte intermediário para linha de vida","un",120,null,0.3,null,null,270.42,{"$f":"IF(ISNUMBER(J142),ROUND(G142*E142*J142,2),\"\")","v":9735.1200000000008},{"$f":"BDI!$B$18","v":0.191},null,null,322.07,{"$f":"IF(ISNUMBER(J142),ROUND(G142*O142*E142,2),\"\")","v":11594.52}]
["2.8.8","SF-00058","Suporte intermediário curvo para linha de vida","un",36,null,0.3,null,null,600,{"$f":"IF(ISNUMBER(J143),ROUND(G143*E143*J143,2),\"\")","v":6480},{"$f":"BDI!$B$18","v":0.191},null,null,714.6,{"$f":"IF(ISNUMBER(J143),ROUND(G143*O143*E143,2),\"\")","v":7717.68}]
["2.8.9","SF-00062","Pilar de ancoragem para linha de vida","un",90,null,0.3,null,null,635.87,{"$f":"IF(ISNUMBER(J144),ROUND(G144*E144*J144,2),\"\")","v":17168.490000000002},{"$f":"BDI!$B$18","v":0.191},null,null,757.32,{"$f":"IF(ISNUMBER(J144),ROUND(G144*O144*E144,2),\"\")","v":20447.64}]
["2.8.10","SF-00065","Placa de ancoragem para montagem no pilar","un",90,null,0.3,null,null,224.72,{"$f":"IF(ISNUMBER(J145),ROUND(G145*E145*J145,2),\"\")","v":6067.44},{"$f":"BDI!$B$18","v":0.191},null,null,267.64,{"$f":"IF(ISNUMBER(J145),ROUND(G145*O145*E145,2),\"\")","v":7226.28}]
["2.8.11","SF-00064","Placa de ancoragem para extremidade","un",45,null,0.3,null,null,524.72,{"$f":"IF(ISNUMBER(J146),ROUND(G146*E146*J146,2),\"\")","v":7083.72},{"$f":"BDI!$B$18","v":0.191},null,null,624.94000000000005,{"$f":"IF(ISNUMBER(J146),ROUND(G146*O146*E146,2),\"\")","v":8436.69}]
["2.8.12","SF-00071","Trole para linha de vida horizontal","un",36,null,0.3,null,null,1125,{"$f":"IF(ISNUMBER(J147),ROUND(G147*E147*J147,2),\"\")","v":12150},{"$f":"BDI!$B$18","v":0.191},null,null,1339.88,{"$f":"IF(ISNUMBER(J147),ROUND(G147*O147*E147,2),\"\")","v":14470.7}]
["2.8.13","SF-00072","Trole para travaqueda retrátil","un",12,null,0.3,null,null,2022.47,{"$f":"IF(ISNUMBER(J148),ROUND(G148*E148*J148,2),\"\")","v":7280.89},{"$f":"BDI!$B$18","v":0.191},null,null,2408.7600000000002,{"$f":"IF(ISNUMBER(J148),ROUND(G148*O148*E148,2),\"\")","v":8671.5400000000009}]
["2.8.14","SF-00050","Cabo de aço com 8 mm de diâmetro galvanizado para linha de vida","m",4100,null,0.3,null,null,19.079999999999998,{"$f":"IF(ISNUMBER(J149),ROUND(G149*E149*J149,2),\"\")","v":23468.400000000001},{"$f":"BDI!$B$18","v":0.191},null,null,22.72,{"$f":"IF(ISNUMBER(J149),ROUND(G149*O149*E149,2),\"\")","v":27945.599999999999}]
["2.8.15","SF-00060","Kit para montagem de dois olhais","un",336,null,0.3,null,null,237.36,{"$f":"IF(ISNUMBER(J150),ROUND(G150*E150*J150,2),\"\")","v":23925.89},{"$f":"BDI!$B$18","v":0.191},null,null,282.7,{"$f":"IF(ISNUMBER(J150),ROUND(G150*O150*E150,2),\"\")","v":28496.16}]
["2.8.16","SF-00061","Manilha com travamento por porca e cupilha","un",108,null,0.3,null,null,67.42,{"$f":"IF(ISNUMBER(J151),ROUND(G151*E151*J151,2),\"\")","v":2184.41},{"$f":"BDI!$B$18","v":0.191},null,null,80.3,{"$f":"IF(ISNUMBER(J151),ROUND(G151*O151*E151,2),\"\")","v":2601.7199999999998}]
["2.8.17","SF-00059","Kit de linha de vida para escada de marinheiro","un",15,null,0.3,null,null,937.88,{"$f":"IF(ISNUMBER(J152),ROUND(G152*E152*J152,2),\"\")","v":4220.46},{"$f":"BDI!$B$18","v":0.191},null,null,1117.02,{"$f":"IF(ISNUMBER(J152),ROUND(G152*O152*E152,2),\"\")","v":5026.59}]
["2.8.18","SF-00051","Corda de poliamida 12 mm tipo bombeiro, para trabalho em altura","m",2000,null,0.3,null,null,{"$f":"OFFSET(INDEX(Composições!A:H,MATCH('Orçamentária-TR'!B153,Composições!A:A,0),8),2,0)","v":4.4197800000000003},{"$f":"IF(ISNUMBER(J153),ROUND(G153*E153*J153,2),\"\")","v":2651.87},{"$f":"BDI!$B$18","v":0.191},null,null,5.26,{"$f":"IF(ISNUMBER(J153),ROUND(G153*O153*E153,2),\"\")","v":3156}]
["2.8.19","SF-01146","Locação de guincho elétrico de coluna","conj x mês",9,null,0.3,null,null,545,{"$f":"IF(ISNUMBER(J154),ROUND(G154*E154*J154,2),\"\")","v":1471.5},{"$f":"BDI!$B$18","v":0.191},null,null,649.1,{"$f":"IF(ISNUMBER(J154),ROUND(G154*O154*E154,2),\"\")","v":1752.57}]
["2.8.20","SF-00052","Ensaio de ponto de ancoragem existente","un",150,null,0.3,null,null,403.57,{"$f":"IF(ISNUMBER(J155),ROUND(G155*E155*J155,2),\"\")","v":18160.650000000001},{"$f":"BDI!$B$18","v":0.191},null,null,480.65,{"$f":"IF(ISNUMBER(J155),ROUND(G155*O155*E155,2),\"\")","v":21629.25}]
["2.8.21","SF-00057","Isolamento de obra com tela plástica com malha de 5mm e estrutura de madeira pontaleteada","m2",1080,null,0.3,null,null,{"$f":"OFFSET(INDEX(Composições!A:H,MATCH('Orçamentária-TR'!B156,Composições!A:A,0),8),2,0)","v":16.830674999999999},{"$f":"IF(ISNUMBER(J156),ROUND(G156*E156*J156,2),\"\")","v":5453.14},{"$f":"BDI!$B$18","v":0.191},null,null,20.05,{"$f":"IF(ISNUMBER(J156),ROUND(G156*O156*E156,2),\"\")","v":6496.2}]
["2.8.22","SF-00070","Tapume","m2",1980,null,0.3,null,null,{"$f":"OFFSET(INDEX(Composições!A:H,MATCH('Orçamentária-TR'!B157,Composições!A:A,0),8),2,0)","v":65.204955249999998},{"$f":"IF(ISNUMBER(J157),ROUND(G157*E157*J157,2),\"\")","v":38731.74},{"$f":"BDI!$B$18","v":0.191},null,null,77.66,{"$f":"IF(ISNUMBER(J157),ROUND(G157*O157*E157,2),\"\")","v":46130.04}]
["2.8.23","SF-01147","Escada tipo marinheiro COM proteção","m",150,null,0.3,null,null,{"$f":"OFFSET(INDEX(Composições!A:H,MATCH('Orçamentária-TR'!B158,Composições!A:A,0),8),2,0)","v":215.18238177834999},{"$f":"IF(ISNUMBER(J158),ROUND(G158*E158*J158,2),\"\")","v":9683.2099999999991},{"$f":"BDI!$B$18","v":0.191},null,null,256.27999999999997,{"$f":"IF(ISNUMBER(J158),ROUND(G158*O158*E158,2),\"\")","v":11532.6}]
["2.8.24","SF-01148","Escada tipo marinheiro SEM proteção","m",75,null,0.3,null,null,{"$f":"OFFSET(INDEX(Composições!A:H,MATCH('Orçamentária-TR'!B159,Composições!A:A,0),8),2,0)","v":64.447781778349992},{"$f":"IF(ISNUMBER(J159),ROUND(G159*E159*J159,2),\"\")","v":1450.08},{"$f":"BDI!$B$18","v":0.191},null,null,76.760000000000005,{"$f":"IF(ISNUMBER(J159),ROUND(G159*O159*E159,2),\"\")","v":1727.1}]
["2.9",null,"Serviços de Manutenção no Sistema de Impermeabilização",null,null,null,null,null,null,null,{"$f":"SUBTOTAL(109,K161:K165)","v":413577.7},null,null,null,null,{"$f":"SUBTOTAL(109,P161:P165)","v":492584.55000000005}]
["2.9.1","SF-01149","Limpeza e Preparação do Substrato para Impermeabilização","m2",26598,null,0.3,null,null,{"$f":"OFFSET(INDEX(Composições!A:H,MATCH('Orçamentária-TR'!B161,Composições!A:A,0),8),2,0)","v":7.909889999999999},{"$f":"IF(ISNUMBER(J161),ROUND(G161*E161*J161,2),\"\")","v":63116.18},{"$f":"BDI!$B$18","v":0.191},null,null,{"$f":"IF(ISNUMBER(J161),ROUND(J161*(1+L161),2),\"\")","v":9.42},{"$f":"IF(ISNUMBER(J161),ROUND(G161*O161*E161,2),\"\")","v":75165.95}]
["2.9.2","SF-01150","Substituição de Coletores de Águas Pluviais","un",1566,null,0.3,null,null,{"$f":"OFFSET(INDEX(Composições!A:H,MATCH('Orçamentária-TR'!B162,Composições!A:A,0),8),2,0)","v":152.8253828},{"$f":"IF(ISNUMBER(J162),ROUND(G162*E162*J162,2),\"\")","v":71797.36},{"$f":"BDI!$B$18","v":0.191},null,null,182.02,{"$f":"IF(ISNUMBER(J162),ROUND(G162*O162*E162,2),\"\")","v":85513}]
["2.9.3","SF-01151","Tratamento de Tubulação Passante para Impermeabilização","un",732,null,0.3,null,null,{"$f":"OFFSET(INDEX(Composições!A:H,MATCH('Orçamentária-TR'!B163,Composições!A:A,0),8),2,0)","v":32.891773999999998},{"$f":"IF(ISNUMBER(J163),ROUND(G163*E163*J163,2),\"\")","v":7223.03},{"$f":"BDI!$B$18","v":0.191},null,null,39.17,{"$f":"IF(ISNUMBER(J163),ROUND(G163*O163*E163,2),\"\")","v":8601.73}]
["2.9.4","SF-01152","Regularização de substrato para Impermeabilização - 3cm","m2",26552,null,0.3,null,null,{"$f":"OFFSET(INDEX(Composições!A:H,MATCH('Orçamentária-TR'!B164,Composições!A:A,0),8),2,0)","v":32.769040937280003},{"$f":"IF(ISNUMBER(J164),ROUND(G164*E164*J164,2),\"\")","v":261025.07},{"$f":"BDI!$B$18","v":0.191},null,null,39.03,{"$f":"IF(ISNUMBER(J164),ROUND(G164*O164*E164,2),\"\")","v":310897.37}]
["2.9.5","SF-01153","Regularização de substrato para Impermeabilização - 6cm","m2",900,null,0.3,null,null,{"$f":"OFFSET(INDEX(Composições!A:H,MATCH('Orçamentária-TR'!B165,Composições!A:A,0),8),2,0)","v":38.577999279680007},{"$f":"IF(ISNUMBER(J165),ROUND(G165*E165*J165,2),\"\")","v":10416.06},{"$f":"BDI!$B$18","v":0.191},null,null,45.95,{"$f":"IF(ISNUMBER(J165),ROUND(G165*O165*E165,2),\"\")","v":12406.5}]
["2.10",null,"Serviços de Manutenção no Sistema de Impermeabilização - Complementares",null,null,null,null,null,null,null,{"$f":"SUBTOTAL(109,K167:K183)","v":991151.86},null,null,null,null,{"$f":"SUBTOTAL(109,P167:P183)","v":1180494.4099999999}]
["2.10.1","SF-01154","Camada Separadora para Impermeabilização","m2",23544,null,0.3,null,null,{"$f":"OFFSET(INDEX(Composições!A:H,MATCH('Orçamentária-TR'!B167,Composições!A:A,0),8),2,0)","v":6.2185100000000002},{"$f":"IF(ISNUMBER(J167),ROUND(G167*E167*J167,2),\"\")","v":43922.58},{"$f":"BDI!$B$18","v":0.191},null,null,{"$f":"IF(ISNUMBER(J167),ROUND(J167*(1+L167),2),\"\")","v":7.41},{"$f":"IF(ISNUMBER(J167),ROUND(G167*O167*E167,2),\"\")","v":52338.31}]
["2.10.2","SF-01155","Camada de Proteção Térmica para Impermeabilização","m2",23436,null,0.3,null,null,{"$f":"OFFSET(INDEX(Composições!A:H,MATCH('Orçamentária-TR'!B168,Composições!A:A,0),8),2,0)","v":7.4708000000000006},{"$f":"IF(ISNUMBER(J168),ROUND(G168*E168*J168,2),\"\")","v":52525.7},{"$f":"BDI!$B$18","v":0.191},null,null,8.9,{"$f":"IF(ISNUMBER(J168),ROUND(G168*O168*E168,2),\"\")","v":62574.12}]
["2.10.3","SF-01156","Camada de Amortecimento para Impermeabilização","m2",21738,null,0.3,null,null,{"$f":"OFFSET(INDEX(Composições!A:H,MATCH('Orçamentária-TR'!B169,Composições!A:A,0),8),2,0)","v":21.255133031799996},{"$f":"IF(ISNUMBER(J169),ROUND(G169*E169*J169,2),\"\")","v":138613.22},{"$f":"BDI!$B$18","v":0.191},null,null,25.31,{"$f":"IF(ISNUMBER(J169),ROUND(G169*O169*E169,2),\"\")","v":165056.63}]
["2.10.4","SF-00954","Camada de proteção mecânica simples de impermeabilização","m2",6855,null,0.3,null,null,{"$f":"OFFSET(INDEX(Composições!A:H,MATCH('Orçamentária-TR'!B170,Composições!A:A,0),8),2,0)","v":36.914791487500004},{"$f":"IF(ISNUMBER(J170),ROUND(G170*E170*J170,2),\"\")","v":75915.27},{"$f":"BDI!$B$18","v":0.191},null,null,43.97,{"$f":"IF(ISNUMBER(J170),ROUND(G170*O170*E170,2),\"\")","v":90424.31}]
["2.10.5","SF-01157","Camada de Proteção Mecânica em Placas de Impermeabilização","m2",19314,null,0.3,null,null,{"$f":"OFFSET(INDEX(Composições!A:H,MATCH('Orçamentária-TR'!B171,Composições!A:A,0),8),2,0)","v":63.601083169999995},{"$f":"IF(ISNUMBER(J171),ROUND(G171*E171*J171,2),\"\")","v":368517.4},{"$f":"BDI!$B$18","v":0.191},null,null,75.75,{"$f":"IF(ISNUMBER(J171),ROUND(G171*O171*E171,2),\"\")","v":438910.65}]
["2.10.6","SF-01158","Pintura Inibidora de Raízes em Estrutura Impermeabilizada","m2",2259,null,0.3,null,null,{"$f":"OFFSET(INDEX(Composições!A:H,MATCH('Orçamentária-TR'!B172,Composições!A:A,0),8),2,0)","v":31.437049999999999},{"$f":"IF(ISNUMBER(J172),ROUND(G172*E172*J172,2),\"\")","v":21304.89},{"$f":"BDI!$B$18","v":0.191},null,null,37.44,{"$f":"IF(ISNUMBER(J172),ROUND(G172*O172*E172,2),\"\")","v":25373.09}]
["2.10.7","SF-01159","Camada Drenante para Impermeabilização","m2",7299,null,0.3,null,null,{"$f":"OFFSET(INDEX(Composições!A:H,MATCH('Orçamentária-TR'!B173,Composições!A:A,0),8),2,0)","v":27.27102},{"$f":"IF(ISNUMBER(J173),ROUND(G173*E173*J173,2),\"\")","v":59715.35},{"$f":"BDI!$B$18","v":0.191},null,null,32.479999999999997,{"$f":"IF(ISNUMBER(J173),ROUND(G173*O173*E173,2),\"\")","v":71121.460000000006}]
["2.10.8","SF-01160","Calha em Chapa de Aço Galvanizado nº 24","m2",1027,null,0.3,null,null,{"$f":"OFFSET(INDEX(Composições!A:H,MATCH('Orçamentária-TR'!B174,Composições!A:A,0),8),2,0)","v":98.101065999999989},{"$f":"IF(ISNUMBER(J174),ROUND(G174*E174*J174,2),\"\")","v":30224.94},{"$f":"BDI!$B$18","v":0.191},null,null,116.84,{"$f":"IF(ISNUMBER(J174),ROUND(G174*O174*E174,2),\"\")","v":35998.400000000001}]
["2.10.9","SF-01161","Rufo em Chapa de Aço Galvanizado nº 24","m2",511,null,0.3,null,null,{"$f":"OFFSET(INDEX(Composições!A:H,MATCH('Orçamentária-TR'!B175,Composições!A:A,0),8),2,0)","v":87.272334249999986},{"$f":"IF(ISNUMBER(J175),ROUND(G175*E175*J175,2),\"\")","v":13378.85},{"$f":"BDI!$B$18","v":0.191},null,null,103.94,{"$f":"IF(ISNUMBER(J175),ROUND(G175*O175*E175,2),\"\")","v":15934}]
["2.10.10","SF-01162","Resina de Poliuretano para Estrutura de Concreto","kg",666,null,0.3,null,null,442.15,{"$f":"IF(ISNUMBER(J176),ROUND(G176*E176*J176,2),\"\")","v":88341.57},{"$f":"BDI!$B$18","v":0.191},null,null,526.6,{"$f":"IF(ISNUMBER(J176),ROUND(G176*O176*E176,2),\"\")","v":105214.68}]
["2.10.11","SF-01163","Chapim Pré-Moldado de Concreto Aparente","m",837,null,0.3,null,null,{"$f":"OFFSET(INDEX(Composições!A:H,MATCH('Orçamentária-TR'!B177,Composições!A:A,0),8),2,0)","v":100.02120789999999},{"$f":"IF(ISNUMBER(J177),ROUND(G177*E177*J177,2),\"\")","v":25115.33},{"$f":"BDI!$B$18","v":0.191},null,null,119.13,{"$f":"IF(ISNUMBER(J177),ROUND(G177*O177*E177,2),\"\")","v":29913.54}]
["2.10.12","SF-01164","Armação em tela de aço soldado nervurada","m2",1800,null,0.3,null,null,{"$f":"OFFSET(INDEX(Composições!A:H,MATCH('Orçamentária-TR'!B178,Composições!A:A,0),8),2,0)","v":11.216725050000001},{"$f":"IF(ISNUMBER(J178),ROUND(G178*E178*J178,2),\"\")","v":6057.03},{"$f":"BDI!$B$18","v":0.191},null,null,13.36,{"$f":"IF(ISNUMBER(J178),ROUND(G178*O178*E178,2),\"\")","v":7214.4}]
["2.10.13","SF-01165","Trama de aço composta por terças para telhados de até 2 águas","m2",480,null,0.3,null,null,{"$f":"OFFSET(INDEX(Composições!A:H,MATCH('Orçamentária-TR'!B179,Composições!A:A,0),8),2,0)","v":27.233288999999996},{"$f":"IF(ISNUMBER(J179),ROUND(G179*E179*J179,2),\"\")","v":3921.59},{"$f":"BDI!$B$18","v":0.191},null,null,32.43,{"$f":"IF(ISNUMBER(J179),ROUND(G179*O179*E179,2),\"\")","v":4669.92}]
["2.10.14","SF-01166","Revestimento impermeabilizante bloqueador de umidade","m2",600,null,0.3,null,null,{"$f":"OFFSET(INDEX(Composições!A:H,MATCH('Orçamentária-TR'!B180,Composições!A:A,0),8),2,0)","v":13.648530000000001},{"$f":"IF(ISNUMBER(J180),ROUND(G180*E180*J180,2),\"\")","v":2456.7399999999998},{"$f":"BDI!$B$18","v":0.191},null,null,16.260000000000002,{"$f":"IF(ISNUMBER(J180),ROUND(G180*O180*E180,2),\"\")","v":2926.8}]
["2.10.15","SF-01167","Pintura com tinta refletiva aluminizada para impermeabilização","m2",2000,null,0.3,null,null,{"$f":"OFFSET(INDEX(Composições!A:H,MATCH('Orçamentária-TR'!B181,Composições!A:A,0),8),2,0)","v":32.146099999999997},{"$f":"IF(ISNUMBER(J181),ROUND(G181*E181*J181,2),\"\")","v":19287.66},{"$f":"BDI!$B$18","v":0.191},null,null,38.29,{"$f":"IF(ISNUMBER(J181),ROUND(G181*O181*E181,2),\"\")","v":22974}]
["2.10.16","SF-01168","Concreto leve com poliestireno expandido","m3",170,null,0.3,null,null,{"$f":"OFFSET(INDEX(Composições!A:H,MATCH('Orçamentária-TR'!B182,Composições!A:A,0),8),2,0)","v":685.85471463999977},{"$f":"IF(ISNUMBER(J182),ROUND(G182*E182*J182,2),\"\")","v":34978.589999999997},{"$f":"BDI!$B$18","v":0.191},null,null,816.85,{"$f":"IF(ISNUMBER(J182),ROUND(G182*O182*E182,2),\"\")","v":41659.35}]
["2.10.17","SF-01169","Colagem da camada de proteção térmica de impermeabilização","m2",3350,null,0.3,null,null,{"$f":"OFFSET(INDEX(Composições!A:H,MATCH('Orçamentária-TR'!B183,Composições!A:A,0),8),2,0)","v":6.8409499999999994},{"$f":"IF(ISNUMBER(J183),ROUND(G183*E183*J183,2),\"\")","v":6875.15},{"$f":"BDI!$B$18","v":0.191},null,null,8.15,{"$f":"IF(ISNUMBER(J183),ROUND(G183*O183*E183,2),\"\")","v":8190.75}]
["2.11",null,"Serviços de Manutenção no Sistema de Impermeabilização Rígida",null,null,null,null,null,null,null,{"$f":"SUBTOTAL(109,K185)","v":11480.84},null,null,null,null,{"$f":"SUBTOTAL(109,P185)","v":13676.28}]
["2.11.1","SF-00083","Impermeabilização de superfície com revestimento bicomponente semi flexível","m2",1863,null,0.3,null,null,{"$f":"OFFSET(INDEX(Composições!A:H,MATCH('Orçamentária-TR'!B185,Composições!A:A,0),8),2,0)","v":20.541849999999997},{"$f":"IF(ISNUMBER(J185),ROUND(G185*E185*J185,2),\"\")","v":11480.84},{"$f":"BDI!$B$18","v":0.191},null,null,{"$f":"IF(ISNUMBER(J185),ROUND(J185*(1+L185),2),\"\")","v":24.47},{"$f":"IF(ISNUMBER(J185),ROUND(G185*O185*E185,2),\"\")","v":13676.28}]
["2.12",null,"Serviços de Manutenção no Sistema de Impermeabilização Flexível",null,null,null,null,null,null,null,{"$f":"SUBTOTAL(109,K187:K195)","v":1283893.6499999999},null,null,null,null,{"$f":"SUBTOTAL(109,P187:P195)","v":1529133.5699999998}]
["2.12.1","SF-00953","Impermeabilização com emulsão asfáltica","m2",2874,null,0.3,null,null,{"$f":"OFFSET(INDEX(Composições!A:H,MATCH('Orçamentária-TR'!B187,Composições!A:A,0),8),2,0)","v":38.641589999999994},{"$f":"IF(ISNUMBER(J187),ROUND(G187*E187*J187,2),\"\")","v":33316.78},{"$f":"BDI!$B$18","v":0.191},null,null,{"$f":"IF(ISNUMBER(J187),ROUND(J187*(1+L187),2),\"\")","v":46.02},{"$f":"IF(ISNUMBER(J187),ROUND(G187*O187*E187,2),\"\")","v":39678.44}]
["2.12.2","SF-01170","Impermeabilização com Membrana de Poliuretano","m2",114,null,0.3,null,null,{"$f":"OFFSET(INDEX(Composições!A:H,MATCH('Orçamentária-TR'!B188,Composições!A:A,0),8),2,0)","v":93.325529999999986},{"$f":"IF(ISNUMBER(J188),ROUND(G188*E188*J188,2),\"\")","v":3191.73},{"$f":"BDI!$B$18","v":0.191},null,null,111.15,{"$f":"IF(ISNUMBER(J188),ROUND(G188*O188*E188,2),\"\")","v":3801.33}]
["2.12.3","SF-01171","Impermeabilização com Manta Asfáltica","m2",21231,null,0.3,null,null,{"$f":"OFFSET(INDEX(Composições!A:H,MATCH('Orçamentária-TR'!B189,Composições!A:A,0),8),2,0)","v":88.293427499999979},{"$f":"IF(ISNUMBER(J189),ROUND(G189*E189*J189,2),\"\")","v":562367.32999999996},{"$f":"BDI!$B$18","v":0.191},null,null,105.16,{"$f":"IF(ISNUMBER(J189),ROUND(G189*O189*E189,2),\"\")","v":669795.59}]
["2.12.4","SF-01172","Impermeabilização com manta asfáltica aluminizada","m2",2500,null,0.3,null,null,{"$f":"OFFSET(INDEX(Composições!A:H,MATCH('Orçamentária-TR'!B190,Composições!A:A,0),8),2,0)","v":63.893864999999991},{"$f":"IF(ISNUMBER(J190),ROUND(G190*E190*J190,2),\"\")","v":47920.4},{"$f":"BDI!$B$18","v":0.191},null,null,76.099999999999994,{"$f":"IF(ISNUMBER(J190),ROUND(G190*O190*E190,2),\"\")","v":57075}]
["2.12.5","SF-01173","Impermeabilização com manta elastomérica de etileno-propileno-dieno-monômero (EPDM)","m2",978,null,0.3,null,null,{"$f":"OFFSET(INDEX(Composições!A:H,MATCH('Orçamentária-TR'!B191,Composições!A:A,0),8),2,0)","v":129.69305},{"$f":"IF(ISNUMBER(J191),ROUND(G191*E191*J191,2),\"\")","v":38051.94},{"$f":"BDI!$B$18","v":0.191},null,null,154.46,{"$f":"IF(ISNUMBER(J191),ROUND(G191*O191*E191,2),\"\")","v":45318.559999999998}]
["2.12.6","SF-01174","Impermeabilização com membrana acrílica","m2",5000,null,0.3,null,null,{"$f":"OFFSET(INDEX(Composições!A:H,MATCH('Orçamentária-TR'!B192,Composições!A:A,0),8),2,0)","v":33.429549999999999},{"$f":"IF(ISNUMBER(J192),ROUND(G192*E192*J192,2),\"\")","v":50144.33},{"$f":"BDI!$B$18","v":0.191},null,null,39.81,{"$f":"IF(ISNUMBER(J192),ROUND(G192*O192*E192,2),\"\")","v":59715}]
["2.12.7","SF-01175","Asfalto elastomérico para colagem de manta asfáltica","m2",3000,null,0.3,null,null,{"$f":"OFFSET(INDEX(Composições!A:H,MATCH('Orçamentária-TR'!B193,Composições!A:A,0),8),2,0)","v":29.765499999999999},{"$f":"IF(ISNUMBER(J193),ROUND(G193*E193*J193,2),\"\")","v":26788.95},{"$f":"BDI!$B$18","v":0.191},null,null,35.450000000000003,{"$f":"IF(ISNUMBER(J193),ROUND(G193*O193*E193,2),\"\")","v":31905}]
["2.12.8","SF-01176","Impermeabilização com manta dupla (com maçarico)","m2",5650,null,0.3,null,null,{"$f":"OFFSET(INDEX(Composições!A:H,MATCH('Orçamentária-TR'!B194,Composições!A:A,0),8),2,0)","v":144.26263},{"$f":"IF(ISNUMBER(J194),ROUND(G194*E194*J194,2),\"\")","v":244525.16},{"$f":"BDI!$B$18","v":0.191},null,null,171.82,{"$f":"IF(ISNUMBER(J194),ROUND(G194*O194*E194,2),\"\")","v":291234.90000000002}]
["2.12.9","SF-01177","Impermeabilização com manta dupla (com asfalto elastomérico)","m2",5650,null,0.3,null,null,{"$f":"OFFSET(INDEX(Composições!A:H,MATCH('Orçamentária-TR'!B195,Composições!A:A,0),8),2,0)","v":163.76815999999999},{"$f":"IF(ISNUMBER(J195),ROUND(G195*E195*J195,2),\"\")","v":277587.03000000003},{"$f":"BDI!$B$18","v":0.191},null,null,195.05,{"$f":"IF(ISNUMBER(J195),ROUND(G195*O195*E195,2),\"\")","v":330609.75}]
["2.13",null,"Serviços de Manutenção no Sistema de Vidraçaria",null,null,null,null,null,null,null,{"$f":"SUBTOTAL(109,K197:K274)","v":353053.36},null,null,null,null,{"$f":"SUBTOTAL(109,P197:P274)","v":420490.7}]
["2.13.1","SF-00849","Vidro temperado incolor com 10 mm de espessura","m2",360,null,0.3,null,null,{"$f":"OFFSET(INDEX(Composições!A:H,MATCH('Orçamentária-TR'!B197,Composições!A:A,0),8),2,0)","v":159.7045},{"$f":"IF(ISNUMBER(J197),ROUND(G197*E197*J197,2),\"\")","v":17248.09},{"$f":"BDI!$B$18","v":0.191},null,null,{"$f":"IF(ISNUMBER(J197),ROUND(J197*(1+L197),2),\"\")","v":190.21},{"$f":"IF(ISNUMBER(J197),ROUND(G197*O197*E197,2),\"\")","v":20542.68}]
["2.13.2","SF-00845","Vidro temperado incolor com 8mm de espessura","m2",150,null,0.3,null,null,{"$f":"OFFSET(INDEX(Composições!A:H,MATCH('Orçamentária-TR'!B198,Composições!A:A,0),8),2,0)","v":154.08619999999999},{"$f":"IF(ISNUMBER(J198),ROUND(G198*E198*J198,2),\"\")","v":6933.88},{"$f":"BDI!$B$18","v":0.191},null,null,183.52,{"$f":"IF(ISNUMBER(J198),ROUND(G198*O198*E198,2),\"\")","v":8258.4}]
["2.13.3","SF-00881","Vidro laminado incolor de 8mm de espessura","m2",180,null,0.3,null,null,{"$f":"OFFSET(INDEX(Composições!A:H,MATCH('Orçamentária-TR'!B199,Composições!A:A,0),8),2,0)","v":511.56549999999993},{"$f":"IF(ISNUMBER(J199),ROUND(G199*E199*J199,2),\"\")","v":27624.54},{"$f":"BDI!$B$18","v":0.191},null,null,609.27,{"$f":"IF(ISNUMBER(J199),ROUND(G199*O199*E199,2),\"\")","v":32900.58}]
["2.13.4","SF-00850","Bucha para pivô de dobradiça para vidro temperado","un",60,null,0.3,null,null,{"$f":"OFFSET(INDEX(Composições!A:H,MATCH('Orçamentária-TR'!B200,Composições!A:A,0),8),2,0)","v":6.0723999999999991},{"$f":"IF(ISNUMBER(J200),ROUND(G200*E200*J200,2),\"\")","v":109.3},{"$f":"BDI!$B$18","v":0.191},null,null,7.23,{"$f":"IF(ISNUMBER(J200),ROUND(G200*O200*E200,2),\"\")","v":130.13999999999999}]
["2.13.5","SF-00851","Suporte para bandeira de vidro temperado, com ponto de giro para dobradiça","un",9,null,0.3,null,null,{"$f":"OFFSET(INDEX(Composições!A:H,MATCH('Orçamentária-TR'!B201,Composições!A:A,0),8),2,0)","v":35.457799999999999},{"$f":"IF(ISNUMBER(J201),ROUND(G201*E201*J201,2),\"\")","v":95.74},{"$f":"BDI!$B$18","v":0.191},null,null,42.23,{"$f":"IF(ISNUMBER(J201),ROUND(G201*O201*E201,2),\"\")","v":114.02}]
["2.13.6","SF-00852","Suporte de canto, simples, para vidro temperado","un",9,null,0.3,null,null,{"$f":"OFFSET(INDEX(Composições!A:H,MATCH('Orçamentária-TR'!B202,Composições!A:A,0),8),2,0)","v":13.6724},{"$f":"IF(ISNUMBER(J202),ROUND(G202*E202*J202,2),\"\")","v":36.92},{"$f":"BDI!$B$18","v":0.191},null,null,16.28,{"$f":"IF(ISNUMBER(J202),ROUND(G202*O202*E202,2),\"\")","v":43.96}]
["2.13.7","SF-00853","Suporte de união, sem batedor, para dois ou três vidros temperados","un",6,null,0.3,null,null,{"$f":"OFFSET(INDEX(Composições!A:H,MATCH('Orçamentária-TR'!B203,Composições!A:A,0),8),2,0)","v":37.842299999999994},{"$f":"IF(ISNUMBER(J203),ROUND(G203*E203*J203,2),\"\")","v":68.12},{"$f":"BDI!$B$18","v":0.191},null,null,45.07,{"$f":"IF(ISNUMBER(J203),ROUND(G203*O203*E203,2),\"\")","v":81.13}]
["2.13.8","SF-00854","Botão de correção para vidro temperado","un",30,null,0.3,null,null,{"$f":"OFFSET(INDEX(Composições!A:H,MATCH('Orçamentária-TR'!B204,Composições!A:A,0),8),2,0)","v":9.0364000000000004},{"$f":"IF(ISNUMBER(J204),ROUND(G204*E204*J204,2),\"\")","v":81.33},{"$f":"BDI!$B$18","v":0.191},null,null,10.76,{"$f":"IF(ISNUMBER(J204),ROUND(G204*O204*E204,2),\"\")","v":96.84}]
["2.13.9","SF-00855","Fechadura bico-de-papagaio, com furo, para vidro temperado","un",30,null,0.3,null,null,{"$f":"OFFSET(INDEX(Composições!A:H,MATCH('Orçamentária-TR'!B205,Composições!A:A,0),8),2,0)","v":58.084400000000002},{"$f":"IF(ISNUMBER(J205),ROUND(G205*E205*J205,2),\"\")","v":522.76},{"$f":"BDI!$B$18","v":0.191},null,null,69.180000000000007,{"$f":"IF(ISNUMBER(J205),ROUND(G205*O205*E205,2),\"\")","v":622.62}]
["2.13.10","SF-00856","Fechadura bico-de-papagaio, com furo, para janela de vidro temperado","un",6,null,0.3,null,null,{"$f":"OFFSET(INDEX(Composições!A:H,MATCH('Orçamentária-TR'!B206,Composições!A:A,0),8),2,0)","v":57.934399999999997},{"$f":"IF(ISNUMBER(J206),ROUND(G206*E206*J206,2),\"\")","v":104.28},{"$f":"BDI!$B$18","v":0.191},null,null,69,{"$f":"IF(ISNUMBER(J206),ROUND(G206*O206*E206,2),\"\")","v":124.2}]
["2.13.11","SF-00857","Fechadura para porta de abrir de vidro temperado","un",57,null,0.3,null,null,{"$f":"OFFSET(INDEX(Composições!A:H,MATCH('Orçamentária-TR'!B207,Composições!A:A,0),8),2,0)","v":48.884399999999999},{"$f":"IF(ISNUMBER(J207),ROUND(G207*E207*J207,2),\"\")","v":835.92},{"$f":"BDI!$B$18","v":0.191},null,null,58.22,{"$f":"IF(ISNUMBER(J207),ROUND(G207*O207*E207,2),\"\")","v":995.56}]
["2.13.12","SF-00858","Contra fechadura, para alvenaria, para porta com fechadura 1520/9520","un",45,null,0.3,null,null,{"$f":"OFFSET(INDEX(Composições!A:H,MATCH('Orçamentária-TR'!B208,Composições!A:A,0),8),2,0)","v":10.818999999999999},{"$f":"IF(ISNUMBER(J208),ROUND(G208*E208*J208,2),\"\")","v":146.06},{"$f":"BDI!$B$18","v":0.191},null,null,12.89,{"$f":"IF(ISNUMBER(J208),ROUND(G208*O208*E208,2),\"\")","v":174.02}]
["2.13.13","SF-00859","Contra fechadura de pressão para porta de vidro temperado","un",24,null,0.3,null,null,{"$f":"OFFSET(INDEX(Composições!A:H,MATCH('Orçamentária-TR'!B209,Composições!A:A,0),8),2,0)","v":41.948999999999998},{"$f":"IF(ISNUMBER(J209),ROUND(G209*E209*J209,2),\"\")","v":302.02999999999997},{"$f":"BDI!$B$18","v":0.191},null,null,49.96,{"$f":"IF(ISNUMBER(J209),ROUND(G209*O209*E209,2),\"\")","v":359.71}]
["2.13.14","SF-00860","Contra fechadura, com furo, para porta com furo","un",12,null,0.3,null,null,{"$f":"OFFSET(INDEX(Composições!A:H,MATCH('Orçamentária-TR'!B210,Composições!A:A,0),8),2,0)","v":31.739000000000001},{"$f":"IF(ISNUMBER(J210),ROUND(G210*E210*J210,2),\"\")","v":114.26},{"$f":"BDI!$B$18","v":0.191},null,null,37.799999999999997,{"$f":"IF(ISNUMBER(J210),ROUND(G210*O210*E210,2),\"\")","v":136.08000000000001}]
["2.13.15","SF-00861","Trinco inferior, com miolo, para porta de vidro temperado","un",30,null,0.3,null,null,{"$f":"OFFSET(INDEX(Composições!A:H,MATCH('Orçamentária-TR'!B211,Composições!A:A,0),8),2,0)","v":19.959499999999998},{"$f":"IF(ISNUMBER(J211),ROUND(G211*E211*J211,2),\"\")","v":179.64},{"$f":"BDI!$B$18","v":0.191},null,null,23.77,{"$f":"IF(ISNUMBER(J211),ROUND(G211*O211*E211,2),\"\")","v":213.93}]
["2.13.16","SF-00862","Mola hidráulica BTS 75R","un",180,null,0.3,null,null,{"$f":"OFFSET(INDEX(Composições!A:H,MATCH('Orçamentária-TR'!B212,Composições!A:A,0),8),2,0)","v":927.06687599999998},{"$f":"IF(ISNUMBER(J212),ROUND(G212*E212*J212,2),\"\")","v":50061.61},{"$f":"BDI!$B$18","v":0.191},null,null,1104.1400000000001,{"$f":"IF(ISNUMBER(J212),ROUND(G212*O212*E212,2),\"\")","v":59623.56}]
["2.13.17","SF-00863","Puxador redondo, padrão em poliéster, para porta de vidro temperado","un",30,null,0.3,null,null,{"$f":"OFFSET(INDEX(Composições!A:H,MATCH('Orçamentária-TR'!B213,Composições!A:A,0),8),2,0)","v":40.8872},{"$f":"IF(ISNUMBER(J213),ROUND(G213*E213*J213,2),\"\")","v":367.98},{"$f":"BDI!$B$18","v":0.191},null,null,48.7,{"$f":"IF(ISNUMBER(J213),ROUND(G213*O213*E213,2),\"\")","v":438.3}]
["2.13.18","SF-00907","Puxador H tubular em aço inox, comprimento 45cm, para portas de vidro temperado","un",12,null,0.3,null,null,{"$f":"OFFSET(INDEX(Composições!A:H,MATCH('Orçamentária-TR'!B214,Composições!A:A,0),8),2,0)","v":58.924400000000006},{"$f":"IF(ISNUMBER(J214),ROUND(G214*E214*J214,2),\"\")","v":212.13},{"$f":"BDI!$B$18","v":0.191},null,null,70.180000000000007,{"$f":"IF(ISNUMBER(J214),ROUND(G214*O214*E214,2),\"\")","v":252.65}]
["2.13.19","SF-00864","Puxador em aço inox sob medida – Tipo A","un",24,null,0.3,null,null,{"$f":"OFFSET(INDEX(Composições!A:H,MATCH('Orçamentária-TR'!B215,Composições!A:A,0),8),2,0)","v":352.93439999999998},{"$f":"IF(ISNUMBER(J215),ROUND(G215*E215*J215,2),\"\")","v":2541.13},{"$f":"BDI!$B$18","v":0.191},null,null,420.34,{"$f":"IF(ISNUMBER(J215),ROUND(G215*O215*E215,2),\"\")","v":3026.45}]
["2.13.20","SF-00897","Puxador em aço inox sob medida – Tipo B","un",24,null,0.3,null,null,{"$f":"OFFSET(INDEX(Composições!A:H,MATCH('Orçamentária-TR'!B216,Composições!A:A,0),8),2,0)","v":417.93439999999998},{"$f":"IF(ISNUMBER(J216),ROUND(G216*E216*J216,2),\"\")","v":3009.13},{"$f":"BDI!$B$18","v":0.191},null,null,497.76,{"$f":"IF(ISNUMBER(J216),ROUND(G216*O216*E216,2),\"\")","v":3583.87}]
["2.13.21","SF-00865","Dobradiça superior para porta de vidro temperado","un",177,null,0.3,null,null,{"$f":"OFFSET(INDEX(Composições!A:H,MATCH('Orçamentária-TR'!B217,Composições!A:A,0),8),2,0)","v":33.842799999999997},{"$f":"IF(ISNUMBER(J217),ROUND(G217*E217*J217,2),\"\")","v":1797.05},{"$f":"BDI!$B$18","v":0.191},null,null,40.31,{"$f":"IF(ISNUMBER(J217),ROUND(G217*O217*E217,2),\"\")","v":2140.46}]
["2.13.22","SF-00866","Perfil em alumínio, tipo U - abas iguais - PU 5/8\" x 5/8\" – espessura 1,58mm","m",300,null,0.3,null,null,{"$f":"OFFSET(INDEX(Composições!A:H,MATCH('Orçamentária-TR'!B218,Composições!A:A,0),8),2,0)","v":9.3154149999999998},{"$f":"IF(ISNUMBER(J218),ROUND(G218*E218*J218,2),\"\")","v":838.39},{"$f":"BDI!$B$18","v":0.191},null,null,11.09,{"$f":"IF(ISNUMBER(J218),ROUND(G218*O218*E218,2),\"\")","v":998.1}]
["2.13.23","SF-00867","Trilho superior em alumínio 60mm x 49,5mm, para vidro temperado","m",150,null,0.3,null,null,{"$f":"OFFSET(INDEX(Composições!A:H,MATCH('Orçamentária-TR'!B219,Composições!A:A,0),8),2,0)","v":27.709590499999997},{"$f":"IF(ISNUMBER(J219),ROUND(G219*E219*J219,2),\"\")","v":1246.93},{"$f":"BDI!$B$18","v":0.191},null,null,33,{"$f":"IF(ISNUMBER(J219),ROUND(G219*O219*E219,2),\"\")","v":1485}]
["2.13.24","SF-00868","Perfil em alumínio para acabamento de trilho superior","m",150,null,0.3,null,null,{"$f":"OFFSET(INDEX(Composições!A:H,MATCH('Orçamentária-TR'!B220,Composições!A:A,0),8),2,0)","v":11.8769285},{"$f":"IF(ISNUMBER(J220),ROUND(G220*E220*J220,2),\"\")","v":534.46},{"$f":"BDI!$B$18","v":0.191},null,null,14.15,{"$f":"IF(ISNUMBER(J220),ROUND(G220*O220*E220,2),\"\")","v":636.75}]
["2.13.25","SF-00869","Perfil guia inferior de alumínio 39,3 mm x 24 mm para vidro temperado 10mm","m",150,null,0.3,null,null,{"$f":"OFFSET(INDEX(Composições!A:H,MATCH('Orçamentária-TR'!B221,Composições!A:A,0),8),2,0)","v":18.645773499999997},{"$f":"IF(ISNUMBER(J221),ROUND(G221*E221*J221,2),\"\")","v":839.06},{"$f":"BDI!$B$18","v":0.191},null,null,22.21,{"$f":"IF(ISNUMBER(J221),ROUND(G221*O221*E221,2),\"\")","v":999.45}]
["2.13.26","SF-00870","Capa do Perfil Guia Inferior “Click”","m",150,null,0.3,null,null,{"$f":"OFFSET(INDEX(Composições!A:H,MATCH('Orçamentária-TR'!B222,Composições!A:A,0),8),2,0)","v":6.0717349999999994},{"$f":"IF(ISNUMBER(J222),ROUND(G222*E222*J222,2),\"\")","v":273.23},{"$f":"BDI!$B$18","v":0.191},null,null,7.23,{"$f":"IF(ISNUMBER(J222),ROUND(G222*O222*E222,2),\"\")","v":325.35000000000002}]
["2.13.27","SF-00871","Dobradiça inferior para porta de vidro temperado","un",177,null,0.3,null,null,{"$f":"OFFSET(INDEX(Composições!A:H,MATCH('Orçamentária-TR'!B223,Composições!A:A,0),8),2,0)","v":38.041800000000002},{"$f":"IF(ISNUMBER(J223),ROUND(G223*E223*J223,2),\"\")","v":2020.02},{"$f":"BDI!$B$18","v":0.191},null,null,45.31,{"$f":"IF(ISNUMBER(J223),ROUND(G223*O223*E223,2),\"\")","v":2405.96}]
["2.13.28","SF-00872","Escova de vedação para vidro temperado","m",150,null,0.3,null,null,{"$f":"OFFSET(INDEX(Composições!A:H,MATCH('Orçamentária-TR'!B224,Composições!A:A,0),8),2,0)","v":8.5507999999999988},{"$f":"IF(ISNUMBER(J224),ROUND(G224*E224*J224,2),\"\")","v":384.79},{"$f":"BDI!$B$18","v":0.191},null,null,10.18,{"$f":"IF(ISNUMBER(J224),ROUND(G224*O224*E224,2),\"\")","v":458.1}]
["2.13.29","SF-00873","Roldana simples para porta de correr em vidro temperado","un",300,null,0.3,null,null,{"$f":"OFFSET(INDEX(Composições!A:H,MATCH('Orçamentária-TR'!B225,Composições!A:A,0),8),2,0)","v":7.2453999999999992},{"$f":"IF(ISNUMBER(J225),ROUND(G225*E225*J225,2),\"\")","v":652.09},{"$f":"BDI!$B$18","v":0.191},null,null,8.6300000000000008,{"$f":"IF(ISNUMBER(J225),ROUND(G225*O225*E225,2),\"\")","v":776.7}]
["2.13.30","SF-00874","Roldana dupla para porta de correr em vidro temperado","un",60,null,0.3,null,null,{"$f":"OFFSET(INDEX(Composições!A:H,MATCH('Orçamentária-TR'!B226,Composições!A:A,0),8),2,0)","v":9.9554000000000009},{"$f":"IF(ISNUMBER(J226),ROUND(G226*E226*J226,2),\"\")","v":179.2},{"$f":"BDI!$B$18","v":0.191},null,null,11.86,{"$f":"IF(ISNUMBER(J226),ROUND(G226*O226*E226,2),\"\")","v":213.48}]
["2.13.31","SF-00875","Capuchinho para trinco para vidro temperado","un",42,null,0.3,null,null,{"$f":"OFFSET(INDEX(Composições!A:H,MATCH('Orçamentária-TR'!B227,Composições!A:A,0),8),2,0)","v":4.2541000000000002},{"$f":"IF(ISNUMBER(J227),ROUND(G227*E227*J227,2),\"\")","v":53.6},{"$f":"BDI!$B$18","v":0.191},null,null,5.07,{"$f":"IF(ISNUMBER(J227),ROUND(G227*O227*E227,2),\"\")","v":63.88}]
["2.13.32","SF-00876","Facão simples para lateral e bandeira de vidro temperado","un",30,null,0.3,null,null,{"$f":"OFFSET(INDEX(Composições!A:H,MATCH('Orçamentária-TR'!B228,Composições!A:A,0),8),2,0)","v":47.853400000000008},{"$f":"IF(ISNUMBER(J228),ROUND(G228*E228*J228,2),\"\")","v":430.68},{"$f":"BDI!$B$18","v":0.191},null,null,56.99,{"$f":"IF(ISNUMBER(J228),ROUND(G228*O228*E228,2),\"\")","v":512.91}]
["2.13.33","SF-00877","Fechadura de pressão para porta de abrir em vidro temperado","un",30,null,0.3,null,null,{"$f":"OFFSET(INDEX(Composições!A:H,MATCH('Orçamentária-TR'!B229,Composições!A:A,0),8),2,0)","v":108.1344},{"$f":"IF(ISNUMBER(J229),ROUND(G229*E229*J229,2),\"\")","v":973.21},{"$f":"BDI!$B$18","v":0.191},null,null,128.79,{"$f":"IF(ISNUMBER(J229),ROUND(G229*O229*E229,2),\"\")","v":1159.1099999999999}]
["2.13.34","SF-00878","Suporte de união, com miolo, para vidro temperado","un",24,null,0.3,null,null,{"$f":"OFFSET(INDEX(Composições!A:H,MATCH('Orçamentária-TR'!B230,Composições!A:A,0),8),2,0)","v":25.454299999999996},{"$f":"IF(ISNUMBER(J230),ROUND(G230*E230*J230,2),\"\")","v":183.27},{"$f":"BDI!$B$18","v":0.191},null,null,30.32,{"$f":"IF(ISNUMBER(J230),ROUND(G230*O230*E230,2),\"\")","v":218.3}]
["2.13.35","SF-00879","Suporte para basculante e pivotante de vidro temperado","un",30,null,0.3,null,null,{"$f":"OFFSET(INDEX(Composições!A:H,MATCH('Orçamentária-TR'!B231,Composições!A:A,0),8),2,0)","v":15.604699999999999},{"$f":"IF(ISNUMBER(J231),ROUND(G231*E231*J231,2),\"\")","v":140.44},{"$f":"BDI!$B$18","v":0.191},null,null,18.59,{"$f":"IF(ISNUMBER(J231),ROUND(G231*O231*E231,2),\"\")","v":167.31}]
["2.13.36","SF-00880","Trinco central para basculante em vidro temperado","un",30,null,0.3,null,null,{"$f":"OFFSET(INDEX(Composições!A:H,MATCH('Orçamentária-TR'!B232,Composições!A:A,0),8),2,0)","v":13.6572},{"$f":"IF(ISNUMBER(J232),ROUND(G232*E232*J232,2),\"\")","v":122.91},{"$f":"BDI!$B$18","v":0.191},null,null,16.27,{"$f":"IF(ISNUMBER(J232),ROUND(G232*O232*E232,2),\"\")","v":146.43}]
["2.13.37","SF-00882","Suporte tipo “Spiderglass” para vidro temperado","un",6,null,0.3,null,null,1450,{"$f":"IF(ISNUMBER(J233),ROUND(G233*E233*J233,2),\"\")","v":2610},{"$f":"BDI!$B$18","v":0.191},null,null,1726.95,{"$f":"IF(ISNUMBER(J233),ROUND(G233*O233*E233,2),\"\")","v":3108.51}]
["2.13.38","SF-00883","Dobradiça automática para box de vidro temperado","un",30,null,0.3,null,null,{"$f":"OFFSET(INDEX(Composições!A:H,MATCH('Orçamentária-TR'!B234,Composições!A:A,0),8),2,0)","v":43.867199999999997},{"$f":"IF(ISNUMBER(J234),ROUND(G234*E234*J234,2),\"\")","v":394.8},{"$f":"BDI!$B$18","v":0.191},null,null,52.25,{"$f":"IF(ISNUMBER(J234),ROUND(G234*O234*E234,2),\"\")","v":470.25}]
["2.13.39","SF-00884","Dobradiça horizontal para vidro basculante com trinco","un",6,null,0.3,null,null,{"$f":"OFFSET(INDEX(Composições!A:H,MATCH('Orçamentária-TR'!B235,Composições!A:A,0),8),2,0)","v":25.0672},{"$f":"IF(ISNUMBER(J235),ROUND(G235*E235*J235,2),\"\")","v":45.12},{"$f":"BDI!$B$18","v":0.191},null,null,29.86,{"$f":"IF(ISNUMBER(J235),ROUND(G235*O235*E235,2),\"\")","v":53.75}]
["2.13.40","SF-00885","Dobradiça horizontal para vidro basculante","un",30,null,0.3,null,null,{"$f":"OFFSET(INDEX(Composições!A:H,MATCH('Orçamentária-TR'!B236,Composições!A:A,0),8),2,0)","v":15.177200000000001},{"$f":"IF(ISNUMBER(J236),ROUND(G236*E236*J236,2),\"\")","v":136.59},{"$f":"BDI!$B$18","v":0.191},null,null,18.079999999999998,{"$f":"IF(ISNUMBER(J236),ROUND(G236*O236*E236,2),\"\")","v":162.72}]
["2.13.41","SF-00886","Fechadura elétrica para porta de vidro temperado","un",9,null,0.3,null,null,{"$f":"OFFSET(INDEX(Composições!A:H,MATCH('Orçamentária-TR'!B237,Composições!A:A,0),8),2,0)","v":425.43400000000003},{"$f":"IF(ISNUMBER(J237),ROUND(G237*E237*J237,2),\"\")","v":1148.67},{"$f":"BDI!$B$18","v":0.191},null,null,506.69,{"$f":"IF(ISNUMBER(J237),ROUND(G237*O237*E237,2),\"\")","v":1368.06}]
["2.13.42","SF-00887","Porteiro eletrônico","un",6,null,0.3,null,null,{"$f":"OFFSET(INDEX(Composições!A:H,MATCH('Orçamentária-TR'!B238,Composições!A:A,0),8),2,0)","v":212.75399999999999},{"$f":"IF(ISNUMBER(J238),ROUND(G238*E238*J238,2),\"\")","v":382.96},{"$f":"BDI!$B$18","v":0.191},null,null,253.39,{"$f":"IF(ISNUMBER(J238),ROUND(G238*O238*E238,2),\"\")","v":456.1}]
["2.13.43","SF-00888","Acionador fixo","un",6,null,0.3,null,null,{"$f":"OFFSET(INDEX(Composições!A:H,MATCH('Orçamentária-TR'!B239,Composições!A:A,0),8),2,0)","v":98.885999999999996},{"$f":"IF(ISNUMBER(J239),ROUND(G239*E239*J239,2),\"\")","v":177.99},{"$f":"BDI!$B$18","v":0.191},null,null,117.77,{"$f":"IF(ISNUMBER(J239),ROUND(G239*O239*E239,2),\"\")","v":211.99}]
["2.13.44","SF-00889","Mini chapinha para trinco basculante","un",6,null,0.3,null,null,{"$f":"OFFSET(INDEX(Composições!A:H,MATCH('Orçamentária-TR'!B240,Composições!A:A,0),8),2,0)","v":4.7236000000000002},{"$f":"IF(ISNUMBER(J240),ROUND(G240*E240*J240,2),\"\")","v":8.5},{"$f":"BDI!$B$18","v":0.191},null,null,5.63,{"$f":"IF(ISNUMBER(J240),ROUND(G240*O240*E240,2),\"\")","v":10.130000000000001}]
["2.13.45","SF-00890","Puxador de latão - diâmetro 25mm","un",12,null,0.3,null,null,{"$f":"OFFSET(INDEX(Composições!A:H,MATCH('Orçamentária-TR'!B241,Composições!A:A,0),8),2,0)","v":8.6672000000000011},{"$f":"IF(ISNUMBER(J241),ROUND(G241*E241*J241,2),\"\")","v":31.2},{"$f":"BDI!$B$18","v":0.191},null,null,10.32,{"$f":"IF(ISNUMBER(J241),ROUND(G241*O241*E241,2),\"\")","v":37.15}]
["2.13.46","SF-00891","Trinco sem miolo para vidro temperado","un",18,null,0.3,null,null,{"$f":"OFFSET(INDEX(Composições!A:H,MATCH('Orçamentária-TR'!B242,Composições!A:A,0),8),2,0)","v":19.307200000000002},{"$f":"IF(ISNUMBER(J242),ROUND(G242*E242*J242,2),\"\")","v":104.26},{"$f":"BDI!$B$18","v":0.191},null,null,22.99,{"$f":"IF(ISNUMBER(J242),ROUND(G242*O242*E242,2),\"\")","v":124.15}]
["2.13.47","SF-00892","Tubo de alumínio quadrado 50x50","m",45,null,0.3,null,null,{"$f":"OFFSET(INDEX(Composições!A:H,MATCH('Orçamentária-TR'!B243,Composições!A:A,0),8),2,0)","v":28.969670499999999},{"$f":"IF(ISNUMBER(J243),ROUND(G243*E243*J243,2),\"\")","v":391.09},{"$f":"BDI!$B$18","v":0.191},null,null,34.5,{"$f":"IF(ISNUMBER(J243),ROUND(G243*O243*E243,2),\"\")","v":465.75}]
["2.13.48","SF-00893","Veda fresta adesivo “E” branco","m",30,null,0.3,null,null,{"$f":"OFFSET(INDEX(Composições!A:H,MATCH('Orçamentária-TR'!B244,Composições!A:A,0),8),2,0)","v":6.8112999999999992},{"$f":"IF(ISNUMBER(J244),ROUND(G244*E244*J244,2),\"\")","v":61.3},{"$f":"BDI!$B$18","v":0.191},null,null,8.11,{"$f":"IF(ISNUMBER(J244),ROUND(G244*O244*E244,2),\"\")","v":72.989999999999995}]
["2.13.49","SF-00894","Vedapress 10mm","m",30,null,0.3,null,null,{"$f":"OFFSET(INDEX(Composições!A:H,MATCH('Orçamentária-TR'!B245,Composições!A:A,0),8),2,0)","v":9.3004714999999987},{"$f":"IF(ISNUMBER(J245),ROUND(G245*E245*J245,2),\"\")","v":83.7},{"$f":"BDI!$B$18","v":0.191},null,null,11.08,{"$f":"IF(ISNUMBER(J245),ROUND(G245*O245*E245,2),\"\")","v":99.72}]
["2.13.50","SF-00895","Regulagem de ferragens","un",600,null,0.3,null,null,{"$f":"OFFSET(INDEX(Composições!A:H,MATCH('Orçamentária-TR'!B246,Composições!A:A,0),8),2,0)","v":29.753999999999998},{"$f":"IF(ISNUMBER(J246),ROUND(G246*E246*J246,2),\"\")","v":5355.72},{"$f":"BDI!$B$18","v":0.191},null,null,35.44,{"$f":"IF(ISNUMBER(J246),ROUND(G246*O246*E246,2),\"\")","v":6379.2}]
["2.13.51","SF-00908","Transporte de vidros","m2 x km",600,null,0.3,null,null,{"$f":"OFFSET(INDEX(Composições!A:H,MATCH('Orçamentária-TR'!B247,Composições!A:A,0),8),2,0)","v":46.008670999999993},{"$f":"IF(ISNUMBER(J247),ROUND(G247*E247*J247,2),\"\")","v":8281.56},{"$f":"BDI!$B$18","v":0.191},null,null,54.8,{"$f":"IF(ISNUMBER(J247),ROUND(G247*O247*E247,2),\"\")","v":9864}]
["2.13.52","SF-00045","Remoção de vidro comum / espelho","m2",900,null,0.3,null,null,{"$f":"OFFSET(INDEX(Composições!A:H,MATCH('Orçamentária-TR'!B248,Composições!A:A,0),8),2,0)","v":13.068199999999999},{"$f":"IF(ISNUMBER(J248),ROUND(G248*E248*J248,2),\"\")","v":3528.41},{"$f":"BDI!$B$18","v":0.191},null,null,15.56,{"$f":"IF(ISNUMBER(J248),ROUND(G248*O248*E248,2),\"\")","v":4201.2}]
["2.13.53","SF-00844","Instalação de vidro (comum, temperado, aramado ou laminado) reaproveitado","m2",450,null,0.3,null,null,{"$f":"OFFSET(INDEX(Composições!A:H,MATCH('Orçamentária-TR'!B249,Composições!A:A,0),8),2,0)","v":35.868199999999995},{"$f":"IF(ISNUMBER(J249),ROUND(G249*E249*J249,2),\"\")","v":4842.21},{"$f":"BDI!$B$18","v":0.191},null,null,42.72,{"$f":"IF(ISNUMBER(J249),ROUND(G249*O249*E249,2),\"\")","v":5767.2}]
["2.13.54","SF-00912","Instalação de espelho reaproveitado","m2",60,null,0.3,null,null,{"$f":"OFFSET(INDEX(Composições!A:H,MATCH('Orçamentária-TR'!B250,Composições!A:A,0),8),2,0)","v":59.994399999999992},{"$f":"IF(ISNUMBER(J250),ROUND(G250*E250*J250,2),\"\")","v":1079.9000000000001},{"$f":"BDI!$B$18","v":0.191},null,null,71.45,{"$f":"IF(ISNUMBER(J250),ROUND(G250*O250*E250,2),\"\")","v":1286.0999999999999}]
["2.13.55","SF-00157","Vidro liso comum transparente 4mm","m2",450,null,0.3,null,null,{"$f":"OFFSET(INDEX(Composições!A:H,MATCH('Orçamentária-TR'!B251,Composições!A:A,0),8),2,0)","v":127.64675},{"$f":"IF(ISNUMBER(J251),ROUND(G251*E251*J251,2),\"\")","v":17232.310000000001},{"$f":"BDI!$B$18","v":0.191},null,null,152.03,{"$f":"IF(ISNUMBER(J251),ROUND(G251*O251*E251,2),\"\")","v":20524.05}]
["2.13.56","SF-00846","Vidro liso comum transparente 5mm","m2",900,null,0.3,null,null,{"$f":"OFFSET(INDEX(Composições!A:H,MATCH('Orçamentária-TR'!B252,Composições!A:A,0),8),2,0)","v":129.3235},{"$f":"IF(ISNUMBER(J252),ROUND(G252*E252*J252,2),\"\")","v":34917.35},{"$f":"BDI!$B$18","v":0.191},null,null,154.02000000000001,{"$f":"IF(ISNUMBER(J252),ROUND(G252*O252*E252,2),\"\")","v":41585.4}]
["2.13.57","SF-00158","Vidro liso comum transparente 6mm","m2",450,null,0.3,null,null,{"$f":"OFFSET(INDEX(Composições!A:H,MATCH('Orçamentária-TR'!B253,Composições!A:A,0),8),2,0)","v":179.42270000000002},{"$f":"IF(ISNUMBER(J253),ROUND(G253*E253*J253,2),\"\")","v":24222.06},{"$f":"BDI!$B$18","v":0.191},null,null,213.69,{"$f":"IF(ISNUMBER(J253),ROUND(G253*O253*E253,2),\"\")","v":28848.15}]
["2.13.58","SF-00909","Vidro fantasia 4mm (canelado, martelado, pontilhado e mini-boreal)","m2",15,null,0.3,null,null,{"$f":"OFFSET(INDEX(Composições!A:H,MATCH('Orçamentária-TR'!B254,Composições!A:A,0),8),2,0)","v":110.11165},{"$f":"IF(ISNUMBER(J254),ROUND(G254*E254*J254,2),\"\")","v":495.5},{"$f":"BDI!$B$18","v":0.191},null,null,131.13999999999999,{"$f":"IF(ISNUMBER(J254),ROUND(G254*O254*E254,2),\"\")","v":590.13}]
["2.13.59","SF-00910","Vidro fumê/bronze 5mm","m2",300,null,0.3,null,null,{"$f":"OFFSET(INDEX(Composições!A:H,MATCH('Orçamentária-TR'!B255,Composições!A:A,0),8),2,0)","v":181.7122},{"$f":"IF(ISNUMBER(J255),ROUND(G255*E255*J255,2),\"\")","v":16354.1},{"$f":"BDI!$B$18","v":0.191},null,null,216.42,{"$f":"IF(ISNUMBER(J255),ROUND(G255*O255*E255,2),\"\")","v":19477.8}]
["2.13.60","SF-00896","Vidro fumê / bronze temperado 10mm","m2",150,null,0.3,null,null,{"$f":"OFFSET(INDEX(Composições!A:H,MATCH('Orçamentária-TR'!B256,Composições!A:A,0),8),2,0)","v":257.45499999999998},{"$f":"IF(ISNUMBER(J256),ROUND(G256*E256*J256,2),\"\")","v":11585.48},{"$f":"BDI!$B$18","v":0.191},null,null,306.63,{"$f":"IF(ISNUMBER(J256),ROUND(G256*O256*E256,2),\"\")","v":13798.35}]
["2.13.61","SF-00154","Espelho cristal, e=5 mm","m2",300,null,0.3,null,null,{"$f":"OFFSET(INDEX(Composições!A:H,MATCH('Orçamentária-TR'!B257,Composições!A:A,0),8),2,0)","v":429.86739999999998},{"$f":"IF(ISNUMBER(J257),ROUND(G257*E257*J257,2),\"\")","v":38688.07},{"$f":"BDI!$B$18","v":0.191},null,null,511.97,{"$f":"IF(ISNUMBER(J257),ROUND(G257*O257*E257,2),\"\")","v":46077.3}]
["2.13.62","SF-00913","Espelho fumê/bronze 4mm lapidado","m2",60,null,0.3,null,null,{"$f":"OFFSET(INDEX(Composições!A:H,MATCH('Orçamentária-TR'!B258,Composições!A:A,0),8),2,0)","v":407.37440000000004},{"$f":"IF(ISNUMBER(J258),ROUND(G258*E258*J258,2),\"\")","v":7332.74},{"$f":"BDI!$B$18","v":0.191},null,null,485.18,{"$f":"IF(ISNUMBER(J258),ROUND(G258*O258*E258,2),\"\")","v":8733.24}]
["2.13.63","SF-00914","Finesson (parafuso de fixação francês)","un",450,null,0.3,null,null,{"$f":"OFFSET(INDEX(Composições!A:H,MATCH('Orçamentária-TR'!B259,Composições!A:A,0),8),2,0)","v":5.4890999999999996},{"$f":"IF(ISNUMBER(J259),ROUND(G259*E259*J259,2),\"\")","v":741.03},{"$f":"BDI!$B$18","v":0.191},null,null,6.54,{"$f":"IF(ISNUMBER(J259),ROUND(G259*O259*E259,2),\"\")","v":882.9}]
["2.13.64","SF-00911","Recuperação de massa em esquadria metálica","m",3000,null,0.3,null,null,{"$f":"OFFSET(INDEX(Composições!A:H,MATCH('Orçamentária-TR'!B260,Composições!A:A,0),8),2,0)","v":22.643538800000002},{"$f":"IF(ISNUMBER(J260),ROUND(G260*E260*J260,2),\"\")","v":20379.18},{"$f":"BDI!$B$18","v":0.191},null,null,26.97,{"$f":"IF(ISNUMBER(J260),ROUND(G260*O260*E260,2),\"\")","v":24273}]
["2.13.65","SF-00156","Substituição da calafetação com selante","m",900,null,0.3,null,null,{"$f":"OFFSET(INDEX(Composições!A:H,MATCH('Orçamentária-TR'!B261,Composições!A:A,0),8),2,0)","v":19.0232332},{"$f":"IF(ISNUMBER(J261),ROUND(G261*E261*J261,2),\"\")","v":5136.2700000000004},{"$f":"BDI!$B$18","v":0.191},null,null,{"$f":"IF(ISNUMBER(J261),ROUND(J261*(1+L261),2),\"\")","v":22.66},{"$f":"IF(ISNUMBER(J261),ROUND(G261*O261*E261,2),\"\")","v":6118.2}]
["2.13.66","SF-00847","Corte em vidro ou espelho reaproveitado","m",90,null,0.3,null,null,{"$f":"OFFSET(INDEX(Composições!A:H,MATCH('Orçamentária-TR'!B262,Composições!A:A,0),8),2,0)","v":17.793499999999998},{"$f":"IF(ISNUMBER(J262),ROUND(G262*E262*J262,2),\"\")","v":480.42},{"$f":"BDI!$B$18","v":0.191},null,null,21.19,{"$f":"IF(ISNUMBER(J262),ROUND(G262*O262*E262,2),\"\")","v":572.13}]
["2.13.67","SF-00848","Lapidação de vidro / espelho reaproveitado","m",45,null,0.3,null,null,{"$f":"OFFSET(INDEX(Composições!A:H,MATCH('Orçamentária-TR'!B263,Composições!A:A,0),8),2,0)","v":26.690249999999999},{"$f":"IF(ISNUMBER(J263),ROUND(G263*E263*J263,2),\"\")","v":360.32},{"$f":"BDI!$B$18","v":0.191},null,null,31.79,{"$f":"IF(ISNUMBER(J263),ROUND(G263*O263*E263,2),\"\")","v":429.17}]
["2.13.68","SF-00152","Baguetes metálicos","m",1500,null,0.3,null,null,{"$f":"OFFSET(INDEX(Composições!A:H,MATCH('Orçamentária-TR'!B264,Composições!A:A,0),8),2,0)","v":7.9305000000000003},{"$f":"IF(ISNUMBER(J264),ROUND(G264*E264*J264,2),\"\")","v":3568.73},{"$f":"BDI!$B$18","v":0.191},null,null,9.4499999999999993,{"$f":"IF(ISNUMBER(J264),ROUND(G264*O264*E264,2),\"\")","v":4252.5}]
["2.13.69","SF-00035","Remoção de película","m2",1140,null,0.3,null,null,{"$f":"OFFSET(INDEX(Composições!A:H,MATCH('Orçamentária-TR'!B265,Composições!A:A,0),8),2,0)","v":7.9344000000000001},{"$f":"IF(ISNUMBER(J265),ROUND(G265*E265*J265,2),\"\")","v":2713.56},{"$f":"BDI!$B$18","v":0.191},null,null,9.4499999999999993,{"$f":"IF(ISNUMBER(J265),ROUND(G265*O265*E265,2),\"\")","v":3231.9}]
["2.13.70","SF-00165","Película jateada","m2",800,null,0.3,null,null,74.03,{"$f":"IF(ISNUMBER(J266),ROUND(G266*E266*J266,2),\"\")","v":17767.2},{"$f":"BDI!$B$18","v":0.191},null,null,88.17,{"$f":"IF(ISNUMBER(J266),ROUND(G266*O266*E266,2),\"\")","v":21160.799999999999}]
["2.13.71","SF-00899","Pivô para dobradiça inferior (Montagem com a 1103-TQ)","un",30,null,0.3,null,null,{"$f":"OFFSET(INDEX(Composições!A:H,MATCH('Orçamentária-TR'!B267,Composições!A:A,0),8),2,0)","v":10.767199999999999},{"$f":"IF(ISNUMBER(J267),ROUND(G267*E267*J267,2),\"\")","v":96.9},{"$f":"BDI!$B$18","v":0.191},null,null,12.82,{"$f":"IF(ISNUMBER(J267),ROUND(G267*O267*E267,2),\"\")","v":115.38}]
["2.13.72","SF-00900","Dobradiça direita inferior excêntrica","un",12,null,0.3,null,null,{"$f":"OFFSET(INDEX(Composições!A:H,MATCH('Orçamentária-TR'!B268,Composições!A:A,0),8),2,0)","v":74.370800000000003},{"$f":"IF(ISNUMBER(J268),ROUND(G268*E268*J268,2),\"\")","v":267.73},{"$f":"BDI!$B$18","v":0.191},null,null,88.58,{"$f":"IF(ISNUMBER(J268),ROUND(G268*O268*E268,2),\"\")","v":318.89}]
["2.13.73","SF-00901","Dobradiça esquerda inferior excêntrica","un",12,null,0.3,null,null,{"$f":"OFFSET(INDEX(Composições!A:H,MATCH('Orçamentária-TR'!B269,Composições!A:A,0),8),2,0)","v":74.370800000000003},{"$f":"IF(ISNUMBER(J269),ROUND(G269*E269*J269,2),\"\")","v":267.73},{"$f":"BDI!$B$18","v":0.191},null,null,88.58,{"$f":"IF(ISNUMBER(J269),ROUND(G269*O269*E269,2),\"\")","v":318.89}]
["2.13.74","SF-00902","Dobradiça pivotante inferior com trinco","un",12,null,0.3,null,null,{"$f":"OFFSET(INDEX(Composições!A:H,MATCH('Orçamentária-TR'!B270,Composições!A:A,0),8),2,0)","v":49.960799999999999},{"$f":"IF(ISNUMBER(J270),ROUND(G270*E270*J270,2),\"\")","v":179.86},{"$f":"BDI!$B$18","v":0.191},null,null,59.5,{"$f":"IF(ISNUMBER(J270),ROUND(G270*O270*E270,2),\"\")","v":214.2}]
["2.13.75","SF-00903","Carrinho para porta de correr 1 roldana e 2 furos","un",18,null,0.3,null,null,{"$f":"OFFSET(INDEX(Composições!A:H,MATCH('Orçamentária-TR'!B271,Composições!A:A,0),8),2,0)","v":14.185400000000001},{"$f":"IF(ISNUMBER(J271),ROUND(G271*E271*J271,2),\"\")","v":76.599999999999994},{"$f":"BDI!$B$18","v":0.191},null,null,16.89,{"$f":"IF(ISNUMBER(J271),ROUND(G271*O271*E271,2),\"\")","v":91.21}]
["2.13.76","SF-00904","Carrinho para porta de correr 2 roldanas e 2 furos","un",18,null,0.3,null,null,{"$f":"OFFSET(INDEX(Composições!A:H,MATCH('Orçamentária-TR'!B272,Composições!A:A,0),8),2,0)","v":17.1754},{"$f":"IF(ISNUMBER(J272),ROUND(G272*E272*J272,2),\"\")","v":92.75},{"$f":"BDI!$B$18","v":0.191},null,null,20.46,{"$f":"IF(ISNUMBER(J272),ROUND(G272*O272*E272,2),\"\")","v":110.48}]
["2.13.77","SF-00905","Carrinho para porta de correr com roldana côncava","un",12,null,0.3,null,null,{"$f":"OFFSET(INDEX(Composições!A:H,MATCH('Orçamentária-TR'!B273,Composições!A:A,0),8),2,0)","v":37.215400000000002},{"$f":"IF(ISNUMBER(J273),ROUND(G273*E273*J273,2),\"\")","v":133.97999999999999},{"$f":"BDI!$B$18","v":0.191},null,null,44.32,{"$f":"IF(ISNUMBER(J273),ROUND(G273*O273*E273,2),\"\")","v":159.55000000000001}]
["2.13.78","SF-00906","Guia de nylon para porta de correr","un",30,null,0.3,null,null,{"$f":"OFFSET(INDEX(Composições!A:H,MATCH('Orçamentária-TR'!B274,Composições!A:A,0),8),2,0)","v":3.9253999999999998},{"$f":"IF(ISNUMBER(J274),ROUND(G274*E274*J274,2),\"\")","v":35.33},{"$f":"BDI!$B$18","v":0.191},null,null,4.68,{"$f":"IF(ISNUMBER(J274),ROUND(G274*O274*E274,2),\"\")","v":42.12}]
[3,null,"Materiais e Insumos",null,null,null,null,null,null,null,{"$f":"SUBTOTAL(109,K276:K303)","v":111783.78000000001},null,null,null,null,{"$f":"SUBTOTAL(109,P276:P303)","v":124389.30999999998}]
["3.1","SF-00592","Lona Plástica","m2",111,null,0.7,null,null,1.27,{"$f":"IF(ISNUMBER(J276),ROUND(G276*E276*J276,2),\"\")","v":98.68},{"$f":"BDI!$G$18","v":0.11260000000000001},null,null,{"$f":"IF(ISNUMBER(J276),ROUND(J276*(1+L276),2),\"\")","v":1.41},{"$f":"IF(ISNUMBER(J276),ROUND(G276*O276*E276,2),\"\")","v":109.56}]
["3.2","SF-01178","Fibra de Polipropileno","kg",410,null,0.7,null,null,26.84,{"$f":"IF(ISNUMBER(J277),ROUND(G277*E277*J277,2),\"\")","v":7703.08},{"$f":"BDI!$G$18","v":0.11260000000000001},null,null,29.86,{"$f":"IF(ISNUMBER(J277),ROUND(G277*O277*E277,2),\"\")","v":8569.82}]
["3.3","SF-01179","Aditivo Incorporador de Ar","kg",100,null,0.7,null,null,{"$f":"OFFSET(INDEX(Composições!A:H,MATCH('Orçamentária-TR'!B278,Composições!A:A,0),8),2,0)","v":4.8934499999999996},{"$f":"IF(ISNUMBER(J278),ROUND(G278*E278*J278,2),\"\")","v":342.54},{"$f":"BDI!$G$18","v":0.11260000000000001},null,null,5.44,{"$f":"IF(ISNUMBER(J278),ROUND(G278*O278*E278,2),\"\")","v":380.8}]
["3.4","SF-00563","Argamassa Para Contrapiso","40 kg",190,null,0.7,null,null,{"$f":"OFFSET(INDEX(Composições!A:H,MATCH('Orçamentária-TR'!B279,Composições!A:A,0),8),2,0)","v":15.959999999999999},{"$f":"IF(ISNUMBER(J279),ROUND(G279*E279*J279,2),\"\")","v":2122.6799999999998},{"$f":"BDI!$G$18","v":0.11260000000000001},null,null,17.760000000000002,{"$f":"IF(ISNUMBER(J279),ROUND(G279*O279*E279,2),\"\")","v":2362.08}]
["3.5","SF-00564","Argamassa Múltiplo Uso","40 kg",380,null,0.7,null,null,{"$f":"OFFSET(INDEX(Composições!A:H,MATCH('Orçamentária-TR'!B280,Composições!A:A,0),8),2,0)","v":16.72},{"$f":"IF(ISNUMBER(J280),ROUND(G280*E280*J280,2),\"\")","v":4447.5200000000004},{"$f":"BDI!$G$18","v":0.11260000000000001},null,null,18.600000000000001,{"$f":"IF(ISNUMBER(J280),ROUND(G280*O280*E280,2),\"\")","v":4947.6000000000004}]
["3.6","SF-00565","Cimento Portland CP II E 32","50 kg",600,null,0.7,null,null,{"$f":"OFFSET(INDEX(Composições!A:H,MATCH('Orçamentária-TR'!B281,Composições!A:A,0),8),2,0)","v":19.474999999999998},{"$f":"IF(ISNUMBER(J281),ROUND(G281*E281*J281,2),\"\")","v":8179.5},{"$f":"BDI!$G$18","v":0.11260000000000001},null,null,21.67,{"$f":"IF(ISNUMBER(J281),ROUND(G281*O281*E281,2),\"\")","v":9101.4}]
["3.7","SF-00566","Argamassa Colante tipo AC III","20 kg",100,null,0.7,null,null,{"$f":"OFFSET(INDEX(Composições!A:H,MATCH('Orçamentária-TR'!B282,Composições!A:A,0),8),2,0)","v":23.939999999999998},{"$f":"IF(ISNUMBER(J282),ROUND(G282*E282*J282,2),\"\")","v":1675.8},{"$f":"BDI!$G$18","v":0.11260000000000001},null,null,26.64,{"$f":"IF(ISNUMBER(J282),ROUND(G282*O282*E282,2),\"\")","v":1864.8}]
["3.8","SF-00567","Gesso Para Uso Geral","40 kg",20,null,0.7,null,null,{"$f":"OFFSET(INDEX(Composições!A:H,MATCH('Orçamentária-TR'!B283,Composições!A:A,0),8),2,0)","v":23.18},{"$f":"IF(ISNUMBER(J283),ROUND(G283*E283*J283,2),\"\")","v":324.52},{"$f":"BDI!$G$18","v":0.11260000000000001},null,null,25.79,{"$f":"IF(ISNUMBER(J283),ROUND(G283*O283*E283,2),\"\")","v":361.06}]
["3.9","SF-00568","Areia Média","m3",120,null,0.7,null,null,{"$f":"OFFSET(INDEX(Composições!A:H,MATCH('Orçamentária-TR'!B284,Composições!A:A,0),8),2,0)","v":109.17065599999999},{"$f":"IF(ISNUMBER(J284),ROUND(G284*E284*J284,2),\"\")","v":9170.34},{"$f":"BDI!$G$18","v":0.11260000000000001},null,null,121.46,{"$f":"IF(ISNUMBER(J284),ROUND(G284*O284*E284,2),\"\")","v":10202.64}]
["3.10","SF-00569","Brita Nº 0","m3",30,null,0.7,null,null,{"$f":"OFFSET(INDEX(Composições!A:H,MATCH('Orçamentária-TR'!B285,Composições!A:A,0),8),2,0)","v":94.626155999999995},{"$f":"IF(ISNUMBER(J285),ROUND(G285*E285*J285,2),\"\")","v":1987.15},{"$f":"BDI!$G$18","v":0.11260000000000001},null,null,105.28,{"$f":"IF(ISNUMBER(J285),ROUND(G285*O285*E285,2),\"\")","v":2210.88}]
["3.11","SF-00570","Brita Nº 1","m3",10,null,0.7,null,null,{"$f":"OFFSET(INDEX(Composições!A:H,MATCH('Orçamentária-TR'!B286,Composições!A:A,0),8),2,0)","v":77.44065599999999},{"$f":"IF(ISNUMBER(J286),ROUND(G286*E286*J286,2),\"\")","v":542.08000000000004},{"$f":"BDI!$G$18","v":0.11260000000000001},null,null,86.16,{"$f":"IF(ISNUMBER(J286),ROUND(G286*O286*E286,2),\"\")","v":603.12}]
["3.12","SF-01180","Brita Nº 2","m3",10,null,0.7,null,null,{"$f":"OFFSET(INDEX(Composições!A:H,MATCH('Orçamentária-TR'!B287,Composições!A:A,0),8),2,0)","v":84.579829999999987},{"$f":"IF(ISNUMBER(J287),ROUND(G287*E287*J287,2),\"\")","v":592.05999999999995},{"$f":"BDI!$G$18","v":0.11260000000000001},null,null,94.1,{"$f":"IF(ISNUMBER(J287),ROUND(G287*O287*E287,2),\"\")","v":658.7}]
["3.13","SF-00571","Bloco Cerâmico De 08 Furos","un",25000,null,0.7,null,null,{"$f":"OFFSET(INDEX(Composições!A:H,MATCH('Orçamentária-TR'!B288,Composições!A:A,0),8),2,0)","v":0.49500699999999997},{"$f":"IF(ISNUMBER(J288),ROUND(G288*E288*J288,2),\"\")","v":8662.6200000000008},{"$f":"BDI!$G$18","v":0.11260000000000001},null,null,0.55000000000000004,{"$f":"IF(ISNUMBER(J288),ROUND(G288*O288*E288,2),\"\")","v":9625}]
["3.14","SF-00572","Tijolo Maciço","un",10000,null,0.7,null,null,{"$f":"OFFSET(INDEX(Composições!A:H,MATCH('Orçamentária-TR'!B289,Composições!A:A,0),8),2,0)","v":0.42749999999999999},{"$f":"IF(ISNUMBER(J289),ROUND(G289*E289*J289,2),\"\")","v":2992.5},{"$f":"BDI!$G$18","v":0.11260000000000001},null,null,0.48,{"$f":"IF(ISNUMBER(J289),ROUND(G289*O289*E289,2),\"\")","v":3360}]
["3.15","SF-00573","Bloco De Concreto Com 02 Furos","un",1000,null,0.7,null,null,{"$f":"OFFSET(INDEX(Composições!A:H,MATCH('Orçamentária-TR'!B290,Composições!A:A,0),8),2,0)","v":1.6054999999999999},{"$f":"IF(ISNUMBER(J290),ROUND(G290*E290*J290,2),\"\")","v":1123.8499999999999},{"$f":"BDI!$G$18","v":0.11260000000000001},null,null,1.79,{"$f":"IF(ISNUMBER(J290),ROUND(G290*O290*E290,2),\"\")","v":1253}]
["3.16","SF-00574","Bloco De Concreto Tipo Canaleta","un",250,null,0.7,null,null,{"$f":"OFFSET(INDEX(Composições!A:H,MATCH('Orçamentária-TR'!B291,Composições!A:A,0),8),2,0)","v":2.4319999999999999},{"$f":"IF(ISNUMBER(J291),ROUND(G291*E291*J291,2),\"\")","v":425.6},{"$f":"BDI!$G$18","v":0.11260000000000001},null,null,2.71,{"$f":"IF(ISNUMBER(J291),ROUND(G291*O291*E291,2),\"\")","v":474.25}]
["3.17","SF-00575","Vergalhão Ca-60 Diâmetro 5,0 Mm","m",100,null,0.7,null,null,{"$f":"OFFSET(INDEX(Composições!A:H,MATCH('Orçamentária-TR'!B292,Composições!A:A,0),8),2,0)","v":0.42749999999999999},{"$f":"IF(ISNUMBER(J292),ROUND(G292*E292*J292,2),\"\")","v":29.93},{"$f":"BDI!$G$18","v":0.11260000000000001},null,null,0.48,{"$f":"IF(ISNUMBER(J292),ROUND(G292*O292*E292,2),\"\")","v":33.6}]
["3.18","SF-00576","Vergalhão Ca-50 Diâmetro 6,3 Mm","m",100,null,0.7,null,null,{"$f":"OFFSET(INDEX(Composições!A:H,MATCH('Orçamentária-TR'!B293,Composições!A:A,0),8),2,0)","v":1.2475399999999999},{"$f":"IF(ISNUMBER(J293),ROUND(G293*E293*J293,2),\"\")","v":87.33},{"$f":"BDI!$G$18","v":0.11260000000000001},null,null,1.39,{"$f":"IF(ISNUMBER(J293),ROUND(G293*O293*E293,2),\"\")","v":97.3}]
["3.19","SF-00577","Vergalhão Ca-50 Diâmetro 8,0 Mm","m",100,null,0.7,null,null,{"$f":"OFFSET(INDEX(Composições!A:H,MATCH('Orçamentária-TR'!B294,Composições!A:A,0),8),2,0)","v":2.0225974999999998},{"$f":"IF(ISNUMBER(J294),ROUND(G294*E294*J294,2),\"\")","v":141.58000000000001},{"$f":"BDI!$G$18","v":0.11260000000000001},null,null,2.25,{"$f":"IF(ISNUMBER(J294),ROUND(G294*O294*E294,2),\"\")","v":157.5}]
["3.20","SF-00578","Vergalhão Ca-50 Diâmetro 10,0 Mm","m",100,null,0.7,null,null,{"$f":"OFFSET(INDEX(Composições!A:H,MATCH('Orçamentária-TR'!B295,Composições!A:A,0),8),2,0)","v":2.9776419999999999},{"$f":"IF(ISNUMBER(J295),ROUND(G295*E295*J295,2),\"\")","v":208.43},{"$f":"BDI!$G$18","v":0.11260000000000001},null,null,3.31,{"$f":"IF(ISNUMBER(J295),ROUND(G295*O295*E295,2),\"\")","v":231.7}]
["3.21","SF-00579","Vergalhão Ca-50 Diâmetro 12,5 Mm","m",100,null,0.7,null,null,{"$f":"OFFSET(INDEX(Composições!A:H,MATCH('Orçamentária-TR'!B296,Composições!A:A,0),8),2,0)","v":4.0253399999999999},{"$f":"IF(ISNUMBER(J296),ROUND(G296*E296*J296,2),\"\")","v":281.77},{"$f":"BDI!$G$18","v":0.11260000000000001},null,null,4.4800000000000004,{"$f":"IF(ISNUMBER(J296),ROUND(G296*O296*E296,2),\"\")","v":313.60000000000002}]
["3.22","SF-00580","Arame Recozido Nº 18","kg",150,null,0.7,null,null,{"$f":"OFFSET(INDEX(Composições!A:H,MATCH('Orçamentária-TR'!B297,Composições!A:A,0),8),2,0)","v":12.426},{"$f":"IF(ISNUMBER(J297),ROUND(G297*E297*J297,2),\"\")","v":1304.73},{"$f":"BDI!$G$18","v":0.11260000000000001},null,null,13.83,{"$f":"IF(ISNUMBER(J297),ROUND(G297*O297*E297,2),\"\")","v":1452.15}]
["3.23","SF-01184","Calha em chapa de zinco # 24 - Modelo 1","m",620,null,0.7,null,null,33.29,{"$f":"IF(ISNUMBER(J298),ROUND(G298*E298*J298,2),\"\")","v":14447.86},{"$f":"BDI!$G$18","v":0.11260000000000001},null,null,37.04,{"$f":"IF(ISNUMBER(J298),ROUND(G298*O298*E298,2),\"\")","v":16075.36}]
["3.24","SF-01185","Calha em chapa de zinco # 24 - Modelo 2","m",160,null,0.7,null,null,58.51,{"$f":"IF(ISNUMBER(J299),ROUND(G299*E299*J299,2),\"\")","v":6553.12},{"$f":"BDI!$G$18","v":0.11260000000000001},null,null,65.099999999999994,{"$f":"IF(ISNUMBER(J299),ROUND(G299*O299*E299,2),\"\")","v":7291.2}]
["3.25","SF-00588","Aditivo Impermeabilizante","L",360,null,0.7,null,null,{"$f":"OFFSET(INDEX(Composições!A:H,MATCH('Orçamentária-TR'!B300,Composições!A:A,0),8),2,0)","v":4.8925000000000001},{"$f":"IF(ISNUMBER(J300),ROUND(G300*E300*J300,2),\"\")","v":1232.9100000000001},{"$f":"BDI!$G$18","v":0.11260000000000001},null,null,5.44,{"$f":"IF(ISNUMBER(J300),ROUND(G300*O300*E300,2),\"\")","v":1370.88}]
["3.26","SF-00384","Massa para calafetar madeira","kg",30,null,0.7,null,null,17,{"$f":"IF(ISNUMBER(J301),ROUND(G301*E301*J301,2),\"\")","v":357},{"$f":"BDI!$G$18","v":0.11260000000000001},null,null,18.91,{"$f":"IF(ISNUMBER(J301),ROUND(G301*O301*E301,2),\"\")","v":397.11}]
["3.27","SF-01225","Manta autocolante aluminizada","m2",1000,null,0.7,null,null,46.75,{"$f":"IF(ISNUMBER(J302),ROUND(G302*E302*J302,2),\"\")","v":32725},{"$f":"BDI!$G$18","v":0.11260000000000001},null,null,52.01,{"$f":"IF(ISNUMBER(J302),ROUND(G302*O302*E302,2),\"\")","v":36407}]
["3.28","SF-01226","Primer para aplicação de manta autocolante aluminizada","Litro",400,null,0.7,null,null,14.37,{"$f":"IF(ISNUMBER(J303),ROUND(G303*E303*J303,2),\"\")","v":4023.6},{"$f":"BDI!$G$18","v":0.11260000000000001},null,null,15.99,{"$f":"IF(ISNUMBER(J303),ROUND(G303*O303*E303,2),\"\")","v":4477.2}]
[4,null,"Sistema de Ponto Biométrico",null,null,null,null,null,null,null,null,null,null,{"$f":"SUBTOTAL(109,N305)","v":1362.6}]
["4.1","SF-00822","Relógio Biométrico","un",2,null,null,5,{"$f":"1/(12*H305)","v":1.6666666666666666E-2},1362.5,null,null,{"$f":"IF(ISNUMBER(J305),ROUND(I305*E305*J305,2),\"\")","v":45.42},{"$f":"IF(ISNUMBER(J305),ROUND(M305*30,2),\"\")","v":1362.6}]
[5,null,"Ferramentas",null,null,null,null,null,null,null,null,null,null,{"$f":"SUBTOTAL(109,N307:N414)","v":36088.199999999997}]
["5.1","SF-00722","Alicate universal de 8\"","un",18,null,null,5,{"$f":"1/(12*H307)","v":1.6666666666666666E-2},42.02,null,null,{"$f":"IF(ISNUMBER(J307),ROUND(I307*E307*J307,2),\"\")","v":12.61},{"$f":"IF(ISNUMBER(J307),ROUND(M307*30,2),\"\")","v":378.3}]
["5.2","SF-00718","Alicate  de corte diagonal 6''","un",5,null,null,5,{"$f":"1/(12*H308)","v":1.6666666666666666E-2},42.36,null,null,{"$f":"IF(ISNUMBER(J308),ROUND(I308*E308*J308,2),\"\")","v":3.53},{"$f":"IF(ISNUMBER(J308),ROUND(M308*30,2),\"\")","v":105.9}]
["5.3","SF-00720","Alicate meia cana 6''","un",5,null,null,5,1.6666666666666666E-2,34.89,null,null,{"$f":"IF(ISNUMBER(J309),ROUND(I309*E309*J309,2),\"\")","v":2.91},87.3]
["5.4","SF-00719","Alicate de pressão de 10\"","un",5,null,null,5,1.6666666666666666E-2,49.31,null,null,{"$f":"IF(ISNUMBER(J310),ROUND(I310*E310*J310,2),\"\")","v":4.1100000000000003},123.3]
["5.5","SF-00771","Rebitador manual","un",5,null,null,5,1.6666666666666666E-2,59.9,null,null,{"$f":"IF(ISNUMBER(J311),ROUND(I311*E311*J311,2),\"\")","v":4.99},149.69999999999999]
["5.6","SF-00721","Alicate torquês de 8\"","un",5,null,null,5,1.6666666666666666E-2,27,null,null,{"$f":"IF(ISNUMBER(J312),ROUND(I312*E312*J312,2),\"\")","v":2.25},67.5]
["5.7","SF-00723","Arco de serra","un",18,null,null,5,1.6666666666666666E-2,30.31,null,null,{"$f":"IF(ISNUMBER(J313),ROUND(I313*E313*J313,2),\"\")","v":9.09},272.7]
["5.8","SF-00724","Aspirador de pó industrial","un",2,null,null,10,8.3333333333333332E-3,816.05,null,null,{"$f":"IF(ISNUMBER(J314),ROUND(I314*E314*J314,2),\"\")","v":13.6},408]
["5.9","SF-00725","Balde metálico para concreto 10 L","un",5,null,null,5,1.6666666666666666E-2,16.059999999999999,null,null,{"$f":"IF(ISNUMBER(J315),ROUND(I315*E315*J315,2),\"\")","v":1.34},40.200000000000003]
["5.10","SF-00808","Betoneira monofásica 400 litros","un",1,null,null,10,8.3333333333333332E-3,2825.9,null,null,{"$f":"IF(ISNUMBER(J316),ROUND(I316*E316*J316,2),\"\")","v":23.55},706.5]
["5.11","SF-00809","Broxa Retangular","un",18,null,null,5,1.6666666666666666E-2,19.899999999999999,null,null,{"$f":"IF(ISNUMBER(J317),ROUND(I317*E317*J317,2),\"\")","v":5.97},179.1]
["5.12","SF-00727","Carretel com linha em caixa de pó para marcação","un",18,null,null,5,1.6666666666666666E-2,41.72,null,null,{"$f":"IF(ISNUMBER(J318),ROUND(I318*E318*J318,2),\"\")","v":12.52},375.6]
["5.13","SF-00728","Carrinho de mão reforçado","un",5,null,null,5,1.6666666666666666E-2,199.9,null,null,{"$f":"IF(ISNUMBER(J319),ROUND(I319*E319*J319,2),\"\")","v":16.66},499.8]
["5.14","SF-00729","Cavadeira articulada","un",3,null,null,5,1.6666666666666666E-2,74.900000000000006,null,null,{"$f":"IF(ISNUMBER(J320),ROUND(I320*E320*J320,2),\"\")","v":3.75},112.5]
["5.15","SF-00730","Chave de fenda de 1/2\" x 10\"","un",18,null,null,5,1.6666666666666666E-2,18.899999999999999,null,null,{"$f":"IF(ISNUMBER(J321),ROUND(I321*E321*J321,2),\"\")","v":5.67},170.1]
["5.16","SF-00731","Chave de fenda de 1/4\" x 6\"","un",18,null,null,5,1.6666666666666666E-2,8.9600000000000009,null,null,{"$f":"IF(ISNUMBER(J322),ROUND(I322*E322*J322,2),\"\")","v":2.69},80.7]
["5.17","SF-00732","Chave de fenda de 3/16\" x 5\"","un",18,null,null,5,1.6666666666666666E-2,5.8,null,null,{"$f":"IF(ISNUMBER(J323),ROUND(I323*E323*J323,2),\"\")","v":1.74},52.2]
["5.18","SF-01186","Chave de fenda de 3/8\" x 10\"","un",18,null,null,5,1.6666666666666666E-2,19.5,null,null,{"$f":"IF(ISNUMBER(J324),ROUND(I324*E324*J324,2),\"\")","v":5.85},175.5]
["5.19","SF-01187","Chave de fenda de 5/16\" x 8\"","un",18,null,null,5,1.6666666666666666E-2,11.21,null,null,{"$f":"IF(ISNUMBER(J325),ROUND(I325*E325*J325,2),\"\")","v":3.36},100.8]
["5.20","SF-01188","Chave de fenda de 1/8\" x 3\"","un",18,null,null,5,1.6666666666666666E-2,5.1100000000000003,null,null,{"$f":"IF(ISNUMBER(J326),ROUND(I326*E326*J326,2),\"\")","v":1.53},45.9]
["5.21","SF-00733","Chave Philips PH2 1/4\" x 6\"","un",18,null,null,5,1.6666666666666666E-2,8.26,null,null,{"$f":"IF(ISNUMBER(J327),ROUND(I327*E327*J327,2),\"\")","v":2.48},74.400000000000006]
["5.22","SF-00734","Chave Philips PH3 5/16\" x 8\"","un",18,null,null,5,1.6666666666666666E-2,13.3,null,null,{"$f":"IF(ISNUMBER(J328),ROUND(I328*E328*J328,2),\"\")","v":3.99},119.7]
["5.23","SF-01189","Chave Philips PH2 3/16\" x 4\"","un",18,null,null,5,1.6666666666666666E-2,6.24,null,null,{"$f":"IF(ISNUMBER(J329),ROUND(I329*E329*J329,2),\"\")","v":1.87},56.1]
["5.24","SF-01190","Chave Philips PH2 3/16\" x 5\"","un",18,null,null,5,1.6666666666666666E-2,7.9,null,null,{"$f":"IF(ISNUMBER(J330),ROUND(I330*E330*J330,2),\"\")","v":2.37},71.099999999999994]
["5.25","SF-00811","Colher de pedreiro 9\"","un",18,null,null,5,1.6666666666666666E-2,15.9,null,null,{"$f":"IF(ISNUMBER(J331),ROUND(I331*E331*J331,2),\"\")","v":4.7699999999999996},143.1]
["5.26","SF-00812","Compactador de percussão elétrico monofásico 3 CV","un",1,null,null,10,8.3333333333333332E-3,9152.4,null,null,{"$f":"IF(ISNUMBER(J332),ROUND(I332*E332*J332,2),\"\")","v":76.27},2288.1]
["5.27","SF-00735","Compressor de Ar 50 L","un",1,null,null,10,8.3333333333333332E-3,956.9,null,null,{"$f":"IF(ISNUMBER(J333),ROUND(I333*E333*J333,2),\"\")","v":7.97},239.1]
["5.28","SF-01191","Conjunto de cavadeiras (grande e pequena)","un",4,null,null,5,1.6666666666666666E-2,73.8,null,null,{"$f":"IF(ISNUMBER(J334),ROUND(I334*E334*J334,2),\"\")","v":4.92},147.6]
["5.29","SF-01192","Conjunto de chaves allen CURTAS","un",5,null,null,5,1.6666666666666666E-2,24.9,null,null,{"$f":"IF(ISNUMBER(J335),ROUND(I335*E335*J335,2),\"\")","v":2.08},62.4]
["5.30","SF-01193","Conjunto de chaves allen LONGAS","un",5,null,null,5,1.6666666666666666E-2,49,null,null,{"$f":"IF(ISNUMBER(J336),ROUND(I336*E336*J336,2),\"\")","v":4.08},122.4]
["5.31","SF-01194","Conjunto de chaves de boca de 6 a 36 mm","un",5,null,null,5,1.6666666666666666E-2,207.63,null,null,{"$f":"IF(ISNUMBER(J337),ROUND(I337*E337*J337,2),\"\")","v":17.3},519]
["5.32","SF-01195","Conjunto de chaves de boca de 1/4\" a 1 1/2\"","un",5,null,null,5,1.6666666666666666E-2,208.05,null,null,{"$f":"IF(ISNUMBER(J338),ROUND(I338*E338*J338,2),\"\")","v":17.34},520.20000000000005]
["5.33","SF-01196","Conjunto de escovas de aço (pequena, média e grande)","un",5,null,null,5,1.6666666666666666E-2,15.97,null,null,{"$f":"IF(ISNUMBER(J339),ROUND(I339*E339*J339,2),\"\")","v":1.33},39.9]
["5.34","SF-01197","Marreta de 2 kg","un",5,null,null,5,1.6666666666666666E-2,35.729999999999997,null,null,{"$f":"IF(ISNUMBER(J340),ROUND(I340*E340*J340,2),\"\")","v":2.98},89.4]
["5.35","SF-01198","Marreta de 5 kg","un",3,null,null,5,1.6666666666666666E-2,89.27,null,null,{"$f":"IF(ISNUMBER(J341),ROUND(I341*E341*J341,2),\"\")","v":4.46},133.80000000000001]
["5.36","SF-01199","Marreta de 10 kg","un",3,null,null,5,1.6666666666666666E-2,178.9,null,null,{"$f":"IF(ISNUMBER(J342),ROUND(I342*E342*J342,2),\"\")","v":8.9499999999999993},268.5]
["5.37","SF-00760","Martelo de unha","un",18,null,null,5,1.6666666666666666E-2,22.48,null,null,{"$f":"IF(ISNUMBER(J343),ROUND(I343*E343*J343,2),\"\")","v":6.74},202.2]
["5.38","SF-00726","Caixa para ferramenta sanfonada metálica com cadeado","un",18,null,null,5,1.6666666666666666E-2,102.73,null,null,{"$f":"IF(ISNUMBER(J344),ROUND(I344*E344*J344,2),\"\")","v":30.82},924.6]
["5.39","SF-01200","Conjunto Pé de cabra 15\"\u009d x 16mm e 24\" \u009dx 19mm","un",4,null,null,5,1.6666666666666666E-2,90.88,null,null,{"$f":"IF(ISNUMBER(J345),ROUND(I345*E345*J345,2),\"\")","v":6.06},181.8]
["5.40","SF-01201","Conjunto de talhadeiras e ponteiro SIMPLES","un",3,null,null,5,1.6666666666666666E-2,53.44,null,null,{"$f":"IF(ISNUMBER(J346),ROUND(I346*E346*J346,2),\"\")","v":2.67},80.099999999999994]
["5.41","SF-01202","Serra copo diamantada (conjunto de 1/2\" a 1 1/2\")","un",3,null,null,5,1.6666666666666666E-2,265.69,null,null,{"$f":"IF(ISNUMBER(J347),ROUND(I347*E347*J347,2),\"\")","v":13.28},398.4]
["5.42","SF-01203","Cortadora de Piso a Gasolina","un",1,null,null,10,8.3333333333333332E-3,4332.8999999999996,null,null,{"$f":"IF(ISNUMBER(J348),ROUND(I348*E348*J348,2),\"\")","v":36.11},1083.3]
["5.43","SF-01204","Cortadora de Parede","un",1,null,null,10,8.3333333333333332E-3,3199.9,null,null,{"$f":"IF(ISNUMBER(J349),ROUND(I349*E349*J349,2),\"\")","v":26.67},800.1]
["5.44","SF-00813","Desempenadeira de aço dentada","un",18,null,null,5,1.6666666666666666E-2,13,null,null,{"$f":"IF(ISNUMBER(J350),ROUND(I350*E350*J350,2),\"\")","v":3.9},117]
["5.45","SF-00814","Desempenadeira de aço lisa","un",18,null,null,5,1.6666666666666666E-2,18.190000000000001,null,null,{"$f":"IF(ISNUMBER(J351),ROUND(I351*E351*J351,2),\"\")","v":5.46},163.80000000000001]
["5.46","SF-00815","Desempenadeira estriada em PVC 14 x 27 cm","un",18,null,null,5,1.6666666666666666E-2,7.26,null,null,{"$f":"IF(ISNUMBER(J352),ROUND(I352*E352*J352,2),\"\")","v":2.1800000000000002},65.400000000000006]
["5.47","SF-00816","Desempenadeira lisa em PVC 18 x 30 cm","un",18,null,null,5,1.6666666666666666E-2,10.210000000000001,null,null,{"$f":"IF(ISNUMBER(J353),ROUND(I353*E353*J353,2),\"\")","v":3.06},91.8]
["5.48","SF-01205","Enxada com cabo (2,5 libras)","pç",6,null,null,5,1.6666666666666666E-2,39,null,null,{"$f":"IF(ISNUMBER(J354),ROUND(I354*E354*J354,2),\"\")","v":3.9},117]
["5.49","SF-00736","Enxadão com cabo","un",6,null,null,5,1.6666666666666666E-2,29.9,null,null,{"$f":"IF(ISNUMBER(J355),ROUND(I355*E355*J355,2),\"\")","v":2.99},89.7]
["5.50","SF-00737","Enxadão estreito com cabo","un",6,null,null,5,1.6666666666666666E-2,32.47,null,null,{"$f":"IF(ISNUMBER(J356),ROUND(I356*E356*J356,2),\"\")","v":3.25},97.5]
["5.51","SF-01206","Escada extensível de alumínio dupla 2x8","un",5,null,null,5,1.6666666666666666E-2,350,null,null,{"$f":"IF(ISNUMBER(J357),ROUND(I357*E357*J357,2),\"\")","v":29.17},875.1]
["5.52","SF-01207","Escada extensível de alumínio dupla 2x12","un",1,null,null,5,1.6666666666666666E-2,605.70000000000005,null,null,{"$f":"IF(ISNUMBER(J358),ROUND(I358*E358*J358,2),\"\")","v":10.1},303]
["5.53","SF-01208","Escada tipo tesoura duplo acesso de fibra com 12 degraus","un",1,null,null,5,1.6666666666666666E-2,857.75,null,null,{"$f":"IF(ISNUMBER(J359),ROUND(I359*E359*J359,2),\"\")","v":14.3},429]
["5.54","SF-00738","Escada tipo tesoura duplo acesso de fibra com 2m","un",5,null,null,5,1.6666666666666666E-2,536.84,null,null,{"$f":"IF(ISNUMBER(J360),ROUND(I360*E360*J360,2),\"\")","v":44.74},1342.2]
["5.55","SF-00739","Escada tipo tesoura e singela de fibra com 2 m","un",3,null,null,5,1.6666666666666666E-2,532.58000000000004,null,null,{"$f":"IF(ISNUMBER(J361),ROUND(I361*E361*J361,2),\"\")","v":26.63},798.9]
["5.56","SF-00741","Esmerilhadeira Angular 4,5’’","un",3,null,null,10,8.3333333333333332E-3,429,null,null,{"$f":"IF(ISNUMBER(J362),ROUND(I362*E362*J362,2),\"\")","v":10.73},321.89999999999998]
["5.57","SF-00742","Esmerilhadeira Angular 7’’","un",3,null,null,10,8.3333333333333332E-3,606.99,null,null,{"$f":"IF(ISNUMBER(J363),ROUND(I363*E363*J363,2),\"\")","v":15.17},455.1]
["5.58","SF-00743","Espátula forjada de 12 cm","un",18,null,null,5,1.6666666666666666E-2,20.149999999999999,null,null,{"$f":"IF(ISNUMBER(J364),ROUND(I364*E364*J364,2),\"\")","v":6.05},181.5]
["5.59","SF-00744","Espátula forjada de 4 cm","un",18,null,null,5,1.6666666666666666E-2,15.9,null,null,{"$f":"IF(ISNUMBER(J365),ROUND(I365*E365*J365,2),\"\")","v":4.7699999999999996},143.1]
["5.60","SF-00745","Espátula forjada de 8 cm","un",18,null,null,5,1.6666666666666666E-2,20.93,null,null,{"$f":"IF(ISNUMBER(J366),ROUND(I366*E366*J366,2),\"\")","v":6.28},188.4]
["5.61","SF-00746","Esquadro de metal de 300 mm","un",18,null,null,5,1.6666666666666666E-2,62.61,null,null,{"$f":"IF(ISNUMBER(J367),ROUND(I367*E367*J367,2),\"\")","v":18.78},563.4]
["5.62","SF-00748","Estilete emborrachado de 25 mm","un",18,null,null,5,1.6666666666666666E-2,26.48,null,null,{"$f":"IF(ISNUMBER(J368),ROUND(I368*E368*J368,2),\"\")","v":7.94},238.2]
["5.63","SF-00747","Estilete emborrachado de 18 mm","un",18,null,null,5,1.6666666666666666E-2,14.16,null,null,{"$f":"IF(ISNUMBER(J369),ROUND(I369*E369*J369,2),\"\")","v":4.25},127.5]
["5.64","SF-01209","Exaustor para Trabalho em Espaço Confinado","un",1,null,null,10,8.3333333333333332E-3,4975,null,null,{"$f":"IF(ISNUMBER(J370),ROUND(I370*E370*J370,2),\"\")","v":41.46},1243.8]
["5.65","SF-00749","Faca de 8\"","un",5,null,null,5,1.6666666666666666E-2,34.200000000000003,null,null,{"$f":"IF(ISNUMBER(J371),ROUND(I371*E371*J371,2),\"\")","v":2.85},85.5]
["5.66","SF-00750","Furadeira Industrial","un",2,null,null,10,{"$f":"1/(12*H372)","v":8.3333333333333332E-3},2739,null,null,{"$f":"IF(ISNUMBER(J372),ROUND(I372*E372*J372,2),\"\")","v":45.65},{"$f":"IF(ISNUMBER(J372),ROUND(M372*30,2),\"\")","v":1369.5}]
["5.67","SF-01210","Furadeira/Parafusadeira elétrica","un",5,null,null,10,8.3333333333333332E-3,239.9,null,null,{"$f":"IF(ISNUMBER(J373),ROUND(I373*E373*J373,2),\"\")","v":10},300]
["5.68","SF-01211","Furadeira de impacto/parafusadeira à bateria","un",2,null,null,5,1.6666666666666666E-2,1299.9000000000001,null,null,{"$f":"IF(ISNUMBER(J374),ROUND(I374*E374*J374,2),\"\")","v":43.33},1299.9000000000001]
["5.69","SF-01212","Jogo de Bits pontas e soquetes para Furadeira/ Parafusadeira","ou, ",5,null,null,5,1.6666666666666666E-2,108.49,null,null,{"$f":"IF(ISNUMBER(J375),ROUND(I375*E375*J375,2),\"\")","v":9.0399999999999991},271.2]
["5.70","SF-00751","Jogo de chave combinada de 8 mm a 24 mm, com 14 peças","un",5,null,null,5,1.6666666666666666E-2,362.8,null,null,{"$f":"IF(ISNUMBER(J376),ROUND(I376*E376*J376,2),\"\")","v":30.23},906.9]
["5.71","SF-01213","Jogo de chaves Torx com 9 Peças","un",5,null,null,5,1.6666666666666666E-2,16.12,null,null,{"$f":"IF(ISNUMBER(J377),ROUND(I377*E377*J377,2),\"\")","v":1.34},40.200000000000003]
["5.72","SF-00755","Linha de pedreiro de 100m","un",18,null,null,5,1.6666666666666666E-2,3.99,null,null,{"$f":"IF(ISNUMBER(J378),ROUND(I378*E378*J378,2),\"\")","v":1.2},36]
["5.73","SF-00785","Lixadeira e politriz angular 7’’/9’’","un",1,null,null,10,8.3333333333333332E-3,849,null,null,{"$f":"IF(ISNUMBER(J379),ROUND(I379*E379*J379,2),\"\")","v":7.08},212.4]
["5.74","SF-00806","Maçarico para gás GLP","un",3,null,null,5,1.6666666666666666E-2,78.260000000000005,null,null,{"$f":"IF(ISNUMBER(J380),ROUND(I380*E380*J380,2),\"\")","v":3.91},117.3]
["5.75","SF-01214","Mangueira de nível de 20m","un",3,null,null,5,1.6666666666666666E-2,43.99,null,null,{"$f":"IF(ISNUMBER(J381),ROUND(I381*E381*J381,2),\"\")","v":2.2000000000000002},66]
["5.76","SF-00756","Marreta de 1 kg","un",5,null,null,5,1.6666666666666666E-2,13.48,null,null,{"$f":"IF(ISNUMBER(J382),ROUND(I382*E382*J382,2),\"\")","v":1.1200000000000001},33.6]
["5.77","SF-00757","Marreta de borracha de 600g","un",5,null,null,5,1.6666666666666666E-2,41,null,null,{"$f":"IF(ISNUMBER(J383),ROUND(I383*E383*J383,2),\"\")","v":3.42},102.6]
["5.78","SF-00758","Martelo de bola, 500 gramas","un",3,null,null,5,1.6666666666666666E-2,45.9,null,null,{"$f":"IF(ISNUMBER(J384),ROUND(I384*E384*J384,2),\"\")","v":2.2999999999999998},69]
["5.79","SF-00759","Martelo de pena, 300 gramas","un",3,null,null,5,1.6666666666666666E-2,14.66,null,null,{"$f":"IF(ISNUMBER(J385),ROUND(I385*E385*J385,2),\"\")","v":0.73},21.9]
["5.80","SF-00817","Martelete demolidor 1,7 kW (12 kg)","un",2,null,null,10,8.3333333333333332E-3,5402.9,null,null,{"$f":"IF(ISNUMBER(J386),ROUND(I386*E386*J386,2),\"\")","v":90.05},2701.5]
["5.81","SF-00818","Martelete demolidor 2kW (30 kg)","un",1,null,null,10,8.3333333333333332E-3,8969,null,null,{"$f":"IF(ISNUMBER(J387),ROUND(I387*E387*J387,2),\"\")","v":74.739999999999995},2242.1999999999998]
["5.82","SF-01215","Martelete demolidor 1kW (5 Kg)","un",3,null,null,10,8.3333333333333332E-3,1419.97,null,null,{"$f":"IF(ISNUMBER(J388),ROUND(I388*E388*J388,2),\"\")","v":35.5},1065]
["5.83","SF-00810","Caixa plástica para massas (masseira) 20 L","un",18,null,null,5,1.6666666666666666E-2,12.26,null,null,{"$f":"IF(ISNUMBER(J389),ROUND(I389*E389*J389,2),\"\")","v":3.68},110.4]
["5.84","SF-00740","Escala métrica de madeira 2m","un",18,null,null,5,1.6666666666666666E-2,32.82,null,null,{"$f":"IF(ISNUMBER(J390),ROUND(I390*E390*J390,2),\"\")","v":9.85},295.5]
["5.85","SF-00761","Nível manual de alumínio com base magnética 350 mm","un",18,null,null,5,1.6666666666666666E-2,39.200000000000003,null,null,{"$f":"IF(ISNUMBER(J391),ROUND(I391*E391*J391,2),\"\")","v":11.76},352.8]
["5.86","SF-00762","Nível manual de alumínio com base magnética 220 mm","un",3,null,null,5,1.6666666666666666E-2,24.6,null,null,{"$f":"IF(ISNUMBER(J392),ROUND(I392*E392*J392,2),\"\")","v":1.23},36.9]
["5.87","SF-00763","Pá quadrada com 120 cm","un",4,null,null,5,1.6666666666666666E-2,30.61,null,null,{"$f":"IF(ISNUMBER(J393),ROUND(I393*E393*J393,2),\"\")","v":2.04},61.2]
["5.88","SF-00764","Pedra de afiar dupla face","un",5,null,null,5,1.6666666666666666E-2,20.9,null,null,{"$f":"IF(ISNUMBER(J394),ROUND(I394*E394*J394,2),\"\")","v":1.74},52.2]
["5.89","SF-00765","Peneira fina","un",4,null,null,5,1.6666666666666666E-2,11.6,null,null,{"$f":"IF(ISNUMBER(J395),ROUND(I395*E395*J395,2),\"\")","v":0.77},23.1]
["5.90","SF-00767","Peneira média","un",4,null,null,5,1.6666666666666666E-2,23,null,null,{"$f":"IF(ISNUMBER(J396),ROUND(I396*E396*J396,2),\"\")","v":1.53},45.9]
["5.91","SF-00766","Peneira grossa","un",4,null,null,5,1.6666666666666666E-2,21.87,null,null,{"$f":"IF(ISNUMBER(J397),ROUND(I397*E397*J397,2),\"\")","v":1.46},43.8]
["5.92","SF-00768","Picareta","un",5,null,null,5,1.6666666666666666E-2,54.9,null,null,{"$f":"IF(ISNUMBER(J398),ROUND(I398*E398*J398,2),\"\")","v":4.58},137.4]
["5.93","SF-00769","Prumo de centro","un",5,null,null,5,1.6666666666666666E-2,27.65,null,null,{"$f":"IF(ISNUMBER(J399),ROUND(I399*E399*J399,2),\"\")","v":2.2999999999999998},69]
["5.94","SF-00770","Prumo de parede","un",18,null,null,5,1.6666666666666666E-2,32.9,null,null,{"$f":"IF(ISNUMBER(J400),ROUND(I400*E400*J400,2),\"\")","v":9.8699999999999992},296.10000000000002]
["5.95","SF-01216","Pistola aplicadora de silicone e PU","un",18,null,null,5,1.6666666666666666E-2,41.94,null,null,{"$f":"IF(ISNUMBER(J401),ROUND(I401*E401*J401,2),\"\")","v":12.58},377.4]
["5.96","SF-00772","Régua de alumínio para pedreiro com 2m","un",5,null,null,5,1.6666666666666666E-2,26.28,null,null,{"$f":"IF(ISNUMBER(J402),ROUND(I402*E402*J402,2),\"\")","v":2.19},65.7]
["5.97","SF-00819","Rolo lã de carneiro 23cm com suporte","un",5,null,null,5,1.6666666666666666E-2,23.09,null,null,{"$f":"IF(ISNUMBER(J403),ROUND(I403*E403*J403,2),\"\")","v":1.92},57.6]
["5.98","SF-01217","Serra mármore","un",5,null,null,10,8.3333333333333332E-3,329.8,null,null,{"$f":"IF(ISNUMBER(J404),ROUND(I404*E404*J404,2),\"\")","v":13.74},412.2]
["5.99","SF-00774","Serrote de costa","un",5,null,null,5,1.6666666666666666E-2,52.64,null,null,{"$f":"IF(ISNUMBER(J405),ROUND(I405*E405*J405,2),\"\")","v":4.3899999999999997},131.69999999999999]
["5.100","SF-00773","Serrote comum","un",5,null,null,5,1.6666666666666666E-2,38,null,null,{"$f":"IF(ISNUMBER(J406),ROUND(I406*E406*J406,2),\"\")","v":3.17},95.1]
["5.101","SF-01218","Serrote para gesso","cj",5,null,null,5,1.6666666666666666E-2,26.6,null,null,{"$f":"IF(ISNUMBER(J407),ROUND(I407*E407*J407,2),\"\")","v":2.2200000000000002},66.599999999999994]
["5.102","SF-01219","Talha Manual para Elevação de Cargas (2 ton)","un",1,null,null,10,8.3333333333333332E-3,559,null,null,{"$f":"IF(ISNUMBER(J408),ROUND(I408*E408*J408,2),\"\")","v":4.66},139.80000000000001]
["5.103","SF-00775","Tesoura de 25 cm","un",5,null,null,5,1.6666666666666666E-2,19.8,null,null,{"$f":"IF(ISNUMBER(J409),ROUND(I409*E409*J409,2),\"\")","v":1.65},49.5]
["5.104","SF-00776","Tesoura de chapas tipo aviação","un",5,null,null,5,1.6666666666666666E-2,67.819999999999993,null,null,{"$f":"IF(ISNUMBER(J410),ROUND(I410*E410*J410,2),\"\")","v":5.65},169.5]
["5.105","SF-00820","Trado perfurador para terra manual 25 cm","un",4,null,null,5,1.6666666666666666E-2,175.84,null,null,{"$f":"IF(ISNUMBER(J411),ROUND(I411*E411*J411,2),\"\")","v":11.72},351.6]
["5.106","SF-01043","Trena de 100m","pç",1,null,null,10,8.3333333333333332E-3,133.1,null,null,{"$f":"IF(ISNUMBER(J412),ROUND(I412*E412*J412,2),\"\")","v":1.1100000000000001},33.299999999999997]
["5.107","SF-00777","Trena de 5m","un",18,null,null,5,1.6666666666666666E-2,18.7,null,null,{"$f":"IF(ISNUMBER(J413),ROUND(I413*E413*J413,2),\"\")","v":5.61},168.3]
["5.108","SF-01224","Lavadora de alta pressão","un",1,null,null,10,8.3333333333333332E-3,3418.44,null,null,{"$f":"IF(ISNUMBER(J414),ROUND(I414*E414*J414,2),\"\")","v":28.49},854.7]
[6,null,"Veículos e Plataformas",null,null,null,null,null,null,null,null,null,null,{"$f":"SUBTOTAL(109,N416:N418)","v":59277.600000000006}]
["6.1","SF-01220","Veículo do tipo utilitário para transporte de mercadorias","un",1,null,null,4,2.0833333333333332E-2,36290.5,null,null,{"$f":"IF(ISNUMBER(J416),ROUND(I416*E416*J416,2),\"\")","v":756.05},22681.5]
["6.2","SF-01221","Plataforma de trabalho aéreo - em ambiente interno","un",1,null,null,10,8.3333333333333332E-3,103687.32,null,null,{"$f":"IF(ISNUMBER(J417),ROUND(I417*E417*J417,2),\"\")","v":864.06},25921.8]
["6.3","SF-01222","Dispositivo Individual Móvel de Proteção Contra Queda","un",1,null,null,10,8.3333333333333332E-3,42697.19,null,null,{"$f":"IF(ISNUMBER(J418),ROUND(I418*E418*J418,2),\"\")","v":355.81},10674.3]
[null,null,null,null,null,null,null,null,null,{"$f":"IF(B419<>\"\",INDEX(#REF!,MATCH('Orçamentária-TR'!C419,#REF!,0),10),\"\")","v":""},"CUSTO DIRETO",null,null,null,null,{"$f":"SUBTOTAL(109,K6:K418)+SUBTOTAL(109,N6:N418)-SUBTOTAL(109,K6:K27)-SUBTOTAL(109,N6:N27)","v":6762126.5699999994}]
[null,null,null,null,null,null,null,null,null,null,"CUSTO TOTAL",null,null,null,null,{"$f":"SUBTOTAL(109,P6:P418)+SUBTOTAL(109,N6:N418)-SUBTOTAL(109,P6:P27)","v":8026493.4699999979}]

{"sheet":"Composições","index":2,"n_rows":4427,"n_cols":10,"rows_kept":4427,"cut":false,"hidden":false,"merged":[[133,1,136,1],[110,0,114,0],[110,1,114,1],[115,0,118,0],[115,1,118,1],[119,0,123,0],[119,1,123,1],[96,0,100,0],[101,0,104,0],[105,0,109,0],[105,1,109,1],[76,0,80,0],[86,0,90,0],[91,0,95,0],[124,0,128,0],[124,1,128,1],[129,0,132,0],[129,1,132,1],[133,0,136,0],[86,1,90,1],[91,1,95,1],[96,1,100,1],[101,1,104,1],[5,0,8,0],[5,1,8,1],[9,0,12,0],[9,1,12,1],[13,0,16,0],[13,1,16,1],[46,0,50,0],[51,0,57,0],[58,0,62,0],[32,0,35,0],[36,0,40,0],[81,0,85,0],[63,0,67,0],[68,0,75,0],[41,0,45,0],[17,0,21,0],[22,0,26,0],[27,0,31,0],[17,1,21,1],[22,1,26,1],[27,1,31,1],[32,1,35,1],[36,1,40,1],[41,1,45,1],[46,1,50,1],[51,1,57,1],[58,1,62,1],[63,1,67,1],[68,1,75,1],[76,1,80,1],[81,1,85,1],[137,0,141,0],[137,1,141,1],[142,0,146,0],[142,1,146,1],[147,0,151,0],[147,1,151,1],[169,0,172,0],[169,1,172,1],[173,0,176,0],[173,1,176,1],[177,0,180,0],[177,1,180,1],[152,0,158,0],[152,1,158,1],[159,0,163,0],[159,1,163,1],[164,0,168,0],[164,1,168,1],[181,0,187,0],[181,1,187,1],[188,0,194,0],[188,1,194,1],[195,0,198,0],[195,1,198,1],[212,0,216,0],[212,1,216,1],[217,0,221,0],[217,1,221,1],[222,0,225,0],[222,1,225,1],[199,0,202,0],[199,1,202,1],[203,0,207,0],[203,1,207,1],[208,0,211,0],[208,1,211,1],[226,0,229,0],[226,1,229,1],[230,0,233,0],[230,1,233,1],[234,0,237,0],[234,1,237,1],[267,0,274,0],[267,1,274,1],[275,0,281,0],[275,1,281,1],[282,0,288,0],[282,1,288,1],[238,0,245,0],[238,1,245,1],[246,0,260,0],[246,1,260,1],[261,0,266,0],[261,1,266,1],[289,0,303,0],[289,1,303,1],[304,0,318,0],[304,1,318,1],[319,0,324,0],[319,1,324,1],[364,0,369,0],[364,1,369,1],[370,0,378,0],[370,1,378,1],[379,0,392,0],[379,1,392,1],[325,0,339,0],[325,1,339,1],[340,0,349,0],[340,1,349,1],[350,0,363,0],[350,1,363,1],[393,0,399,0],[393,1,399,1],[400,0,413,0],[400,1,413,1],[414,0,420,0],[414,1,420,1],[445,0,452,0],[445,1,452,1],[453,0,462,0],[453,1,462,1],[463,0,469,0],[463,1,469,1],[421,0,432,0],[421,1,432,1],[433,0,438,0],[433,1,438,1],[439,0,444,0],[439,1,444,1],[470,0,481,0],[470,1,481,1],[482,0,487,0],[482,1,487,1],[488,0,495,0],[488,1,495,1],[516,0,524,0],[516,1,524,1],[525,0,533,0],[525,1,533,1],[534,0,539,0],[534,1,539,1],[496,0,502,0],[496,1,502,1],[503,0,509,0],[503,1,509,1],[510,0,515,0],[510,1,515,1],[540,0,547,0],[540,1,547,1],[548,0,555,0],[548,1,555,1],[556,0,563,0],[556,1,563,1],[591,0,598,0],[591,1,598,1],[599,0,608,0],[599,1,608,1],[609,0,617,0],[609,1,617,1],[564,0,571,0],[564,1,571,1],[572,0,581,0],[572,1,581,1],[582,0,590,0],[582,1,590,1],[618,0,623,0],[618,1,623,1],[624,0,631,0],[624,1,631,1],[632,0,639,0],[632,1,639,1],[655,0,658,0],[655,1,658,1],[659,0,662,0],[659,1,662,1],[663,0,666,0],[663,1,666,1],[640,0,646,0],[640,1,646,1],[647,0,650,0],[647,1,650,1],[651,0,654,0],[651,1,654,1],[667,0,670,0],[667,1,670,1],[671,0,678,0],[671,1,678,1],[679,0,686,0],[679,1,686,1],[711,0,717,0],[711,1,717,1],[718,0,724,0],[718,1,724,1],[725,0,730,0],[725,1,730,1],[687,0,694,0],[687,1,694,1],[695,0,702,0],[695,1,702,1],[703,0,710,0],[703,1,710,1],[731,0,738,0],[731,1,738,1],[739,0,742,0],[739,1,742,1],[743,0,749,0],[743,1,749,1],[778,0,784,0],[778,1,784,1],[785,0,798,0],[785,1,798,1],[799,0,808,0],[799,1,808,1],[750,0,760,0],[750,1,760,1],[761,0,766,0],[761,1,766,1],[767,0,777,0],[767,1,777,1],[809,0,812,0],[809,1,812,1],[813,0,817,0],[813,1,817,1],[818,0,821,0],[818,1,821,1],[840,0,844,0],[840,1,844,1],[845,0,850,0],[845,1,850,1],[851,0,857,0],[851,1,857,1],[822,0,826,0],[822,1,826,1],[827,0,833,0],[827,1,833,1],[834,0,839,0],[834,1,839,1],[858,0,863,0],[858,1,863,1],[864,0,871,0],[864,1,871,1],[872,0,878,0],[872,1,878,1],[898,0,901,0],[898,1,901,1],[902,0,907,0],[902,1,907,1],[908,0,916,0],[908,1,916,1],[879,0,885,0],[879,1,885,1],[886,0,890,0],[886,1,890,1],[891,0,897,0],[891,1,897,1],[917,0,923,0],[917,1,923,1],[924,0,932,0],[924,1,932,1],[933,0,941,0],[933,1,941,1],[961,0,967,0],[961,1,967,1],[968,0,974,0],[968,1,974,1],[975,0,985,0],[975,1,985,1],[942,0,947,0],[942,1,947,1],[948,0,953,0],[948,1,953,1],[954,0,960,0],[954,1,960,1],[986,0,996,0],[986,1,996,1],[997,0,1001,0],[997,1,1001,1],[1002,0,1006,0],[1002,1,1006,1],[1031,0,1039,0],[1031,1,1039,1],[1040,0,1046,0],[1040,1,1046,1],[1047,0,1053,0],[1047,1,1053,1],[1007,0,1015,0],[1007,1,1015,1],[1016,0,1020,0],[1016,1,1020,1],[1021,0,1030,0],[1021,1,1030,1],[1054,0,1060,0],[1054,1,1060,1],[1061,0,1067,0],[1061,1,1067,1],[1068,0,1076,0],[1068,1,1076,1],[1103,0,1110,0],[1103,1,1110,1],[1111,0,1115,0],[1111,1,1115,1],[1116,0,1120,0],[1116,1,1120,1],[1077,0,1084,0],[1077,1,1084,1],[1085,0,1092,0],[1085,1,1092,1],[1093,0,1102,0],[1093,1,1102,1],[1121,0,1126,0],[1121,1,1126,1],[1127,0,1131,0],[1127,1,1131,1],[1132,0,1138,0],[1132,1,1138,1],[1160,0,1166,0],[1160,1,1166,1],[1167,0,1173,0],[1167,1,1173,1],[1174,0,1180,0],[1174,1,1180,1],[1139,0,1145,0],[1139,1,1145,1],[1146,0,1152,0],[1146,1,1152,1],[1153,0,1159,0],[1153,1,1159,1],[1181,0,1187,0],[1181,1,1187,1],[1188,0,1194,0],[1188,1,1194,1],[1195,0,1201,0],[1195,1,1201,1],[1223,0,1229,0],[1223,1,1229,1],[1230,0,1236,0],[1230,1,1236,1],[1237,0,1243,0],[1237,1,1243,1],[1202,0,1208,0],[1202,1,1208,1],[1209,0,1215,0],[1209,1,1215,1],[1216,0,1222,0],[1216,1,1222,1],[1244,0,1250,0],[1244,1,1250,1],[1251,0,1257,0],[1251,1,1257,1],[1258,0,1264,0],[1258,1,1264,1],[1285,0,1291,0],[1285,1,1291,1],[1292,0,1298,0],[1292,1,1298,1],[1299,0,1306,0],[1299,1,1306,1],[1265,0,1270,0],[1265,1,1270,1],[1271,0,1277,0],[1271,1,1277,1],[1278,0,1284,0],[1278,1,1284,1],[1307,0,1315,0],[1307,1,1315,1],[1316,0,1320,0],[1316,1,1320,1],[1321,0,1325,0],[1321,1,1325,1],[1343,0,1348,0],[1343,1,1348,1],[1349,0,1355,0],[1349,1,1355,1],[1356,0,1361,0],[1356,1,1361,1],[1326,0,1330,0],[1326,1,1330,1],[1331,0,1335,0],[1331,1,1335,1],[1336,0,1342,0],[1336,1,1342,1],[1362,0,1367,0],[1362,1,1367,1],[1368,0,1373,0],[1368,1,1373,1],[1374,0,1379,0],[1374,1,1379,1],[1399,0,1413,0],[1399,1,1413,1],[1414,0,1428,0],[1414,1,1428,1],[1429,0,1443,0],[1429,1,1443,1],[1380,0,1385,0],[1380,1,1385,1],[1386,0,1391,0],[1386,1,1391,1],[1392,0,1398,0],[1392,1,1398,1],[1444,0,1458,0],[1444,1,1458,1],[1459,0,1473,0],[1459,1,1473,1],[1474,0,1488,0],[1474,1,1488,1],[1520,0,1527,0],[1520,1,1527,1],[1528,0,1535,0],[1528,1,1535,1],[1536,0,1543,0],[1536,1,1543,1],[1489,0,1503,0],[1489,1,1503,1],[1504,0,1511,0],[1504,1,1511,1],[1512,0,1519,0],[1512,1,1519,1],[1663,0,1667,0],[1668,0,1672,0],[1673,0,1678,0],[1612,0,1616,0],[1617,0,1622,0],[1623,0,1628,0],[1646,0,1651,0],[1652,0,1657,0],[1658,0,1662,0],[1629,0,1633,0],[1634,0,1639,0],[1544,0,1550,0],[1544,1,1550,1],[1551,0,1557,0],[1551,1,1557,1],[1558,0,1564,0],[1558,1,1564,1],[1593,0,1598,0],[1593,1,1598,1],[1599,0,1604,0],[1599,1,1604,1],[1605,0,1611,0],[1605,1,1611,1],[1565,0,1571,0],[1565,1,1571,1],[1572,0,1586,0],[1572,1,1586,1],[1587,0,1592,0],[1587,1,1592,1],[1612,1,1616,1],[1617,1,1622,1],[1623,1,1628,1],[1800,0,1805,0],[1800,1,1805,1],[1806,0,1810,0],[1806,1,1810,1],[1811,0,1815,0],[1811,1,1815,1],[1640,0,1645,0],[1779,0,1785,0],[1779,1,1785,1],[1786,0,1792,0],[1786,1,1792,1],[1793,0,1799,0],[1793,1,1799,1],[1758,0,1764,0],[1758,1,1764,1],[1765,0,1771,0],[1765,1,1771,1],[1772,0,1778,0],[1772,1,1778,1],[1729,0,1739,0],[1729,1,1739,1],[1740,0,1750,0],[1740,1,1750,1],[1751,0,1757,0],[1751,1,1757,1],[1699,0,1706,0],[1718,1,1728,1],[1707,0,1717,0],[1718,0,1728,0],[1679,0,1685,0],[1686,0,1692,0],[1693,0,1698,0],[1853,0,1858,0],[1853,1,1858,1],[1859,0,1864,0],[1859,1,1864,1],[1865,0,1870,0],[1865,1,1870,1],[1835,0,1840,0],[1835,1,1840,1],[1841,0,1846,0],[1841,1,1846,1],[1847,0,1852,0],[1847,1,1852,1],[1816,0,1821,0],[1816,1,1821,1],[1822,0,1827,0],[1822,1,1827,1],[1828,0,1834,0],[1828,1,1834,1],[1907,0,1911,0],[1907,1,1911,1],[1912,0,1916,0],[1912,1,1916,1],[1917,0,1921,0],[1917,1,1921,1],[1889,0,1894,0],[1889,1,1894,1],[1895,0,1900,0],[1895,1,1900,1],[1901,0,1906,0],[1901,1,1906,1],[1871,0,1876,0],[1871,1,1876,1],[1877,0,1882,0],[1877,1,1882,1],[1883,0,1888,0],[1883,1,1888,1],[1955,0,1961,0],[1955,1,1961,1],[1962,0,1968,0],[1962,1,1968,1],[1969,0,1976,0],[1969,1,1976,1],[1938,0,1942,0],[1938,1,1942,1],[1943,0,1948,0],[1943,1,1948,1],[1949,0,1954,0],[1949,1,1954,1],[1922,0,1927,0],[1922,1,1927,1],[1928,0,1932,0],[1928,1,1932,1],[1933,0,1937,0],[1933,1,1937,1],[2019,0,2026,0],[2019,1,2026,1],[2027,0,2034,0],[2027,1,2034,1],[2035,0,2042,0],[2035,1,2042,1],[1999,0,2005,0],[1999,1,2005,1],[2006,0,2012,0],[2006,1,2012,1],[2013,0,2018,0],[2013,1,2018,1],[1977,0,1984,0],[1977,1,1984,1],[1985,0,1991,0],[1985,1,1991,1],[1992,0,1998,0],[1992,1,1998,1],[2091,0,2098,0],[2091,1,2098,1],[2099,0,2106,0],[2099,1,2106,1],[2107,0,2112,0],[2107,1,2112,1],[2067,0,2074,0],[2067,1,2074,1],[2075,0,2082,0],[2075,1,2082,1],[2083,0,2090,0],[2083,1,2090,1],[2043,0,2050,0],[2043,1,2050,1],[2051,0,2058,0],[2051,1,2058,1],[2059,0,2066,0],[2059,1,2066,1],[2153,0,2160,0],[2153,1,2160,1],[2161,0,2168,0],[2161,1,2168,1],[2169,0,2176,0],[2169,1,2176,1],[2131,0,2136,0],[2131,1,2136,1],[2137,0,2144,0],[2137,1,2144,1],[2145,0,2152,0],[2145,1,2152,1],[2113,0,2118,0],[2113,1,2118,1],[2119,0,2124,0],[2119,1,2124,1],[2125,0,2130,0],[2125,1,2130,1],[2219,0,2224,0],[2219,1,2224,1],[2225,0,2230,0],[2225,1,2230,1],[2231,0,2240,0],[2231,1,2240,1],[2201,0,2205,0],[2201,1,2205,1],[2206,0,2212,0],[2206,1,2212,1],[2213,0,2218,0],[2213,1,2218,1],[2177,0,2184,0],[2177,1,2184,1],[2185,0,2192,0],[2185,1,2192,1],[2193,0,2200,0],[2193,1,2200,1],[2287,0,2295,0],[2287,1,2295,1],[2296,0,2302,0],[2296,1,2302,1],[2303,0,2308,0],[2303,1,2308,1],[2263,0,2270,0],[2263,1,2270,1],[2271,0,2278,0],[2271,1,2278,1],[2279,0,2286,0],[2279,1,2286,1],[2241,0,2246,0],[2241,1,2246,1],[2247,0,2254,0],[2247,1,2254,1],[2255,0,2262,0],[2255,1,2262,1],[2342,0,2347,0],[2342,1,2347,1],[2348,0,2355,0],[2348,1,2355,1],[2356,0,2362,0],[2356,1,2362,1],[2327,0,2331,0],[2327,1,2331,1],[2332,0,2336,0],[2332,1,2336,1],[2337,0,2341,0],[2337,1,2341,1],[2309,0,2314,0],[2309,1,2314,1],[2315,0,2320,0],[2315,1,2320,1],[2321,0,2326,0],[2321,1,2326,1],[2394,0,2397,0],[2394,1,2397,1],[2398,0,2401,0],[2398,1,2401,1],[2402,0,2405,0],[2402,1,2405,1],[2382,0,2385,0],[2382,1,2385,1],[2386,0,2389,0],[2386,1,2389,1],[2390,0,2393,0],[2390,1,2393,1],[2363,0,2368,0],[2363,1,2368,1],[2369,0,2375,0],[2369,1,2375,1],[2376,0,2381,0],[2376,1,2381,1],[2442,0,2445,0],[2442,1,2445,1],[2446,0,2449,0],[2446,1,2449,1],[2450,0,2453,0],[2450,1,2453,1],[2426,0,2433,0],[2426,1,2433,1],[2434,0,2437,0],[2434,1,2437,1],[2438,0,2441,0],[2438,1,2441,1],[2406,0,2409,0],[2406,1,2409,1],[2410,0,2417,0],[2410,1,2417,1],[2418,0,2425,0],[2418,1,2425,1],[2478,0,2481,0],[2478,1,2481,1],[2482,0,2487,0],[2482,1,2487,1],[2488,0,2493,0],[2488,1,2493,1],[2466,0,2469,0],[2466,1,2469,1],[2470,0,2473,0],[2470,1,2473,1],[2474,0,2477,0],[2474,1,2477,1],[2454,0,2457,0],[2454,1,2457,1],[2458,0,2461,0],[2458,1,2461,1],[2462,0,2465,0],[2462,1,2465,1],[2530,0,2535,0],[2530,1,2535,1],[2536,0,2541,0],[2536,1,2541,1],[2542,0,2547,0],[2542,1,2547,1],[2512,0,2517,0],[2512,1,2517,1],[2518,0,2523,0],[2518,1,2523,1],[2524,0,2529,0],[2524,1,2529,1],[2494,0,2499,0],[2494,1,2499,1],[2500,0,2505,0],[2500,1,2505,1],[2506,0,2511,0],[2506,1,2511,1],[2626,0,2630,0],[2631,0,2635,0],[2636,0,2640,0],[2611,0,2615,0],[2616,0,2620,0],[2621,0,2625,0],[2594,0,2600,0],[2601,0,2605,0],[2606,0,2610,0],[2579,0,2583,0],[2579,1,2583,1],[2584,0,2588,0],[2589,0,2593,0],[2548,0,2554,0],[2548,1,2554,1],[2555,0,2561,0],[2555,1,2561,1],[2572,0,2578,0],[2572,1,2578,1],[2562,0,2566,0],[2562,1,2566,1],[2567,0,2571,0],[2567,1,2571,1],[2601,1,2605,1],[2606,1,2610,1],[2611,1,2615,1],[2616,1,2620,1],[2621,1,2625,1],[2626,1,2630,1],[2631,1,2635,1],[2636,1,2640,1],[2707,0,2711,0],[2707,1,2711,1],[2712,0,2716,0],[2712,1,2716,1],[2717,0,2721,0],[2717,1,2721,1],[2683,0,2690,0],[2683,1,2690,1],[2691,0,2698,0],[2691,1,2698,1],[2699,0,2706,0],[2699,1,2706,1],[2662,0,2666,0],[2667,0,2674,0],[2675,0,2682,0],[2641,0,2651,0],[2652,0,2656,0],[2657,0,2661,0],[2641,1,2651,1],[2652,1,2656,1],[2657,1,2661,1],[2662,1,2666,1],[2667,1,2674,1],[2675,1,2682,1],[2752,0,2756,0],[2752,1,2756,1],[2757,0,2763,0],[2757,1,2763,1],[2764,0,2768,0],[2764,1,2768,1],[2737,0,2741,0],[2737,1,2741,1],[2742,0,2746,0],[2742,1,2746,1],[2747,0,2751,0],[2747,1,2751,1],[2722,0,2726,0],[2722,1,2726,1],[2727,0,2731,0],[2727,1,2731,1],[2732,0,2736,0],[2732,1,2736,1],[2799,0,2803,0],[2799,1,2803,1],[2804,0,2808,0],[2804,1,2808,1],[2809,0,2816,0],[2809,1,2816,1],[2784,0,2788,0],[2784,1,2788,1],[2789,0,2793,0],[2789,1,2793,1],[2794,0,2798,0],[2794,1,2798,1],[2769,0,2773,0],[2769,1,2773,1],[2774,0,2778,0],[2774,1,2778,1],[2779,0,2783,0],[2779,1,2783,1],[2854,0,2858,0],[2854,1,2858,1],[2859,0,2863,0],[2859,1,2863,1],[2864,0,2868,0],[2864,1,2868,1],[2834,0,2840,0],[2834,1,2840,1],[2841,0,2845,0],[2841,1,2845,1],[2846,0,2853,0],[2846,1,2853,1],[2817,0,2821,0],[2817,1,2821,1],[2822,0,2829,0],[2822,1,2829,1],[2830,0,2833,0],[2830,1,2833,1],[2899,0,2904,0],[2899,1,2904,1],[2905,0,2911,0],[2905,1,2911,1],[2912,0,2918,0],[2912,1,2918,1],[2884,0,2888,0],[2884,1,2888,1],[2889,0,2893,0],[2889,1,2893,1],[2894,0,2898,0],[2894,1,2898,1],[2869,0,2873,0],[2869,1,2873,1],[2874,0,2878,0],[2874,1,2878,1],[2879,0,2883,0],[2879,1,2883,1],[2957,0,2964,0],[2957,1,2964,1],[2965,0,2969,0],[2965,1,2969,1],[2970,0,2973,0],[2970,1,2973,1],[2938,0,2942,0],[2938,1,2942,1],[2943,0,2948,0],[2943,1,2948,1],[2949,0,2956,0],[2949,1,2956,1],[2919,0,2924,0],[2919,1,2924,1],[2925,0,2930,0],[2925,1,2930,1],[2931,0,2937,0],[2931,1,2937,1],[3022,0,3026,0],[3022,1,3026,1],[3027,0,3033,0],[3027,1,3033,1],[3034,0,3040,0],[3034,1,3040,1],[3000,0,3005,0],[3000,1,3005,1],[3006,0,3011,0],[3006,1,3011,1],[3012,0,3021,0],[3012,1,3021,1],[2974,0,2980,0],[2974,1,2980,1],[2981,0,2993,0],[2981,1,2993,1],[2994,0,2999,0],[2994,1,2999,1],[3083,0,3089,0],[3083,1,3089,1],[3090,0,3096,0],[3090,1,3096,1],[3097,0,3102,0],[3097,1,3102,1],[3062,0,3068,0],[3062,1,3068,1],[3069,0,3075,0],[3069,1,3075,1],[3076,0,3082,0],[3076,1,3082,1],[3041,0,3047,0],[3041,1,3047,1],[3048,0,3054,0],[3048,1,3054,1],[3055,0,3061,0],[3055,1,3061,1],[3144,0,3147,0],[3144,1,3147,1],[3148,0,3151,0],[3148,1,3151,1],[3152,0,3156,0],[3152,1,3156,1],[3123,0,3129,0],[3123,1,3129,1],[3130,0,3136,0],[3130,1,3136,1],[3137,0,3143,0],[3137,1,3143,1],[3103,0,3108,0],[3103,1,3108,1],[3109,0,3117,0],[3109,1,3117,1],[3118,0,3122,0],[3118,1,3122,1],[3192,0,3196,0],[3192,1,3196,1],[3197,0,3201,0],[3197,1,3201,1],[3202,0,3205,0],[3202,1,3205,1],[3173,0,3179,0],[3173,1,3179,1],[3180,0,3186,0],[3180,1,3186,1],[3187,0,3191,0],[3187,1,3191,1],[3157,0,3160,0],[3157,1,3160,1],[3161,0,3165,0],[3161,1,3165,1],[3166,0,3172,0],[3166,1,3172,1],[3264,0,3280,0],[3264,1,3280,1],[3281,0,3292,0],[3281,1,3292,1],[3293,0,3299,0],[3293,1,3299,1],[3231,0,3238,0],[3231,1,3238,1],[3239,0,3255,0],[3239,1,3255,1],[3256,0,3263,0],[3256,1,3263,1],[3206,0,3209,0],[3206,1,3209,1],[3210,0,3219,0],[3210,1,3219,1],[3220,0,3230,0],[3220,1,3230,1],[3348,0,3355,0],[3348,1,3355,1],[3356,0,3361,0],[3356,1,3361,1],[3362,0,3368,0],[3362,1,3368,1],[3328,0,3335,0],[3328,1,3335,1],[3336,0,3342,0],[3336,1,3342,1],[3343,0,3347,0],[3343,1,3347,1],[3300,0,3315,0],[3300,1,3315,1],[3316,0,3321,0],[3316,1,3321,1],[3322,0,3327,0],[3322,1,3327,1],[3406,0,3409,0],[3406,1,3409,1],[3410,0,3424,0],[3410,1,3424,1],[3425,0,3432,0],[3425,1,3432,1],[3389,0,3393,0],[3389,1,3393,1],[3394,0,3401,0],[3394,1,3401,1],[3402,0,3405,0],[3402,1,3405,1],[3369,0,3374,0],[3369,1,3374,1],[3375,0,3383,0],[3375,1,3383,1],[3384,0,3388,0]],"merged_total":1254,"flags":["merged_cut"]}
["Manutenção Civil"]
["COMPOSIÇÕES DE CUSTO UNITÁRIO"]
[]
[]
["ITEM","DESCRIÇÃO","DISCRIMINAÇÃO DA COMPOSIÇÃO","UNIDADE","COEFICIENTE","CUSTO UNITÁRIO","CUSTO TOTAL","TOTAL DO SERVIÇO",null,"QTD"]
["SF-00001",{"$f":"INDEX('Orçamentária-TR'!B:C,MATCH(Composições!A6,'Orçamentária-TR'!B:B,0),2)","v":{"$error":"#N/A"}},null,{"$f":"TRIM(INDEX('Orçamentária-TR'!C:C,MATCH(Composições!A6,'Orçamentária-TR'!A:A,0),1))","v":{"$error":"#N/A"}},null,"",{"$f":"IF(ISNUMBER(F6),E6*F6,\"\")","v":""},null,null,0]
[null,null,null,null,null,"","",null,null,0]
[null,null,"Engenheiro civil de obra junior com encargos complementares","h",1,82.934999999999988,82.934999999999988,{"$f":"SUM(G8:G8)","v":82.934999999999988},null,0]
[null,null,null,null,null,"","",null,null,0]
["SF-00002",{"$f":"INDEX('Orçamentária-TR'!B:C,MATCH(Composições!A10,'Orçamentária-TR'!B:B,0),2)","v":{"$error":"#N/A"}},null,{"$f":"TRIM(INDEX('Orçamentária-TR'!C:C,MATCH(Composições!A10,'Orçamentária-TR'!A:A,0),1))","v":{"$error":"#N/A"}},null,"","",null,null,0]
[null,null,null,null,null,"","",null,null,0]
[null,null,"Mestre de obras com encargos complementares","h",1,25.374500000000001,25.374500000000001,{"$f":"SUM(G12:G12)","v":25.374500000000001},null,0]
[null,null,null,null,null,"","",null,null,0]
["SF-00003",{"$f":"INDEX('Orçamentária-TR'!B:C,MATCH(Composições!A14,'Orçamentária-TR'!B:B,0),2)","v":{"$error":"#N/A"}},null,{"$f":"TRIM(INDEX('Orçamentária-TR'!C:C,MATCH(Composições!A14,'Orçamentária-TR'!A:A,0),1))","v":{"$error":"#N/A"}},null,"","",null,null,0]
[null,null,null,null,null,"","",null,null,0]
[null,null,"Engenheiro Civil de Obra Pleno com encargos complementares","h",16,94.249499999999983,1507.9919999999997,{"$f":"SUM(G16:G16)","v":1507.9919999999997},null,0]
[null,null,null,null,null,"","",null,null,0]
["SF-00004",{"$f":"INDEX('Orçamentária-TR'!B:C,MATCH(Composições!A18,'Orçamentária-TR'!B:B,0),2)","v":"Projetos de segurança do trabalho"},null,{"$f":"TRIM(INDEX('Orçamentária-TR'!D:D,MATCH(Composições!A18,'Orçamentária-TR'!B:B,0),1))","v":"un"},null,"","",null,null,20]
[null,null,null,null,null,"","",null,null,20]
[null,null,"Engenheiro Civil Pleno com encargos complementares","h",20,94.572499999999991,1891.4499999999998,{"$f":"SUM(G20:G21)","v":2125.39},null,20]
[null,null,"Anotação de Responsabilidade Técnica","un",1,233.94,233.94,null,null,20]
[null,null,null,null,null,"","",null,null,20]
["SF-00005",{"$f":"INDEX('Orçamentária-TR'!B:C,MATCH(Composições!A23,'Orçamentária-TR'!B:B,0),2)","v":{"$error":"#N/A"}},null,{"$f":"TRIM(INDEX('Orçamentária-TR'!C:C,MATCH(Composições!A23,'Orçamentária-TR'!A:A,0),1))","v":{"$error":"#N/A"}},null,"","",null,null,0]
[null,null,null,null,null,"","",null,null,0]
[null,null,"Pedreiro com Encargos Complementares","h",0.22500000000000001,21.327499999999997,4.7986874999999998,{"$f":"SUM(G25:G26)","v":41.416612299999997},null,0]
[null,null,"Servente com Encargos Complementares","h",2.3248000000000002,15.750999999999998,36.617924799999997,null,null,0]
[null,null,null,null,null,"","",null,null,0]
["SF-00006",{"$f":"INDEX('Orçamentária-TR'!B:C,MATCH(Composições!A28,'Orçamentária-TR'!B:B,0),2)","v":{"$error":"#N/A"}},null,{"$f":"TRIM(INDEX('Orçamentária-TR'!C:C,MATCH(Composições!A28,'Orçamentária-TR'!A:A,0),1))","v":{"$error":"#N/A"}},null,"","",null,null,0]
[null,null,null,null,null,"","",null,null,0]
[null,null,"Pedreiro com Encargos Complementares","h",1.3,21.327499999999997,27.725749999999998,{"$f":"SUM(G30:G31)","v":232.48874999999998},null,0]
[null,null,"Servente com Encargos Complementares","h",13,15.750999999999998,204.76299999999998,null,null,0]
[null,null,null,null,null,"","",null,null,0]
["SF-00007",{"$f":"INDEX('Orçamentária-TR'!B:C,MATCH(Composições!A33,'Orçamentária-TR'!B:B,0),2)","v":{"$error":"#N/A"}},null,{"$f":"TRIM(INDEX('Orçamentária-TR'!C:C,MATCH(Composições!A33,'Orçamentária-TR'!A:A,0),1))","v":{"$error":"#N/A"}},null,"","",null,null,0]
[null,null,null,null,null,"","",null,null,0]
[null,null,"Servente com Encargos Complementares","h",0.7,15.750999999999998,11.025699999999997,{"$f":"SUM(G35:G35)","v":11.025699999999997},null,0]
[null,null,null,null,null,"","",null,null,0]
["SF-00008",{"$f":"INDEX('Orçamentária-TR'!B:C,MATCH(Composições!A37,'Orçamentária-TR'!B:B,0),2)","v":{"$error":"#N/A"}},null,{"$f":"TRIM(INDEX('Orçamentária-TR'!C:C,MATCH(Composições!A37,'Orçamentária-TR'!A:A,0),1))","v":{"$error":"#N/A"}},null,"","",null,null,0]
[null,null,null,null,null,"","",null,null,0]
[null,null,"Montador de estrutura metálica com encargos complementares","h",0.1186,16.311500000000002,1.9345439000000002,{"$f":"SUM(G39:G40)","v":5.6029517999999996},null,0]
[null,null,"Servente com Encargos Complementares","h",0.2329,15.750999999999998,3.6684078999999996,null,null,0]
[null,null,null,null,null,"","",null,null,0]
["SF-00009",{"$f":"INDEX('Orçamentária-TR'!B:C,MATCH(Composições!A42,'Orçamentária-TR'!B:B,0),2)","v":{"$error":"#N/A"}},null,{"$f":"TRIM(INDEX('Orçamentária-TR'!C:C,MATCH(Composições!A42,'Orçamentária-TR'!A:A,0),1))","v":{"$error":"#N/A"}},null,"","",null,null,0]
[null,null,null,null,null,"","",null,null,0]
[null,null,"Montador de estrutura metálica com encargos complementares","h",2.58E-2,16.311500000000002,0.42083670000000006,{"$f":"SUM(G44:G45)","v":1.2194124},null,0]
[null,null,"Servente com Encargos Complementares","h",5.0700000000000002E-2,15.750999999999998,0.79857569999999989,null,null,0]
[null,null,null,null,null,"","",null,null,0]
["SF-00010",{"$f":"INDEX('Orçamentária-TR'!B:C,MATCH(Composições!A47,'Orçamentária-TR'!B:B,0),2)","v":{"$error":"#N/A"}},null,{"$f":"TRIM(INDEX('Orçamentária-TR'!C:C,MATCH(Composições!A47,'Orçamentária-TR'!A:A,0),1))","v":{"$error":"#N/A"}},null,"","",null,null,0]
[null,null,null,null,null,"","",null,null,0]
[null,null,"Eletricista com encargos complementares","h",{"$f":"ROUND(0.0096*5,4)","v":4.8000000000000001E-2},21.526999999999997,1.033296,{"$f":"SUM(G49:G50)","v":2.51389},null,0]
[null,null,"Servente com Encargos Complementares","h",{"$f":"ROUND(0.0188*5,4)","v":9.4E-2},15.750999999999998,1.4805939999999997,null,null,0]
[null,null,null,null,null,"","",null,null,0]
["SF-00011",{"$f":"INDEX('Orçamentária-TR'!B:C,MATCH(Composições!A52,'Orçamentária-TR'!B:B,0),2)","v":{"$error":"#N/A"}},null,{"$f":"TRIM(INDEX('Orçamentária-TR'!C:C,MATCH(Composições!A52,'Orçamentária-TR'!A:A,0),1))","v":{"$error":"#N/A"}},null,"","",null,null,0]
[null,null,null,null,null,"","",null,null,0]
[null,null,"Martelete ou rompedor pneumático manual, 28 kg, com silenciador - CHP diurno. AF_07/2016","chp",6.9900000000000004E-2,19.484500000000001,1.3619665500000002,{"$f":"SUM(G54:G57)","v":9.1621619499999998},null,0]
[null,null,"Martelete ou rompedor pneumático manual, 28 kg, com silenciador - CHI diurno. AF_07/2016","chi",4.82E-2,18.173499999999997,0.87596269999999987,null,null,0]
[null,null,"Azulejista ou ladrilhista com encargos complementares","h",0.1055,21.260999999999999,2.2430355,null,null,0]
[null,null,"Servente com Encargos Complementares","h",0.29720000000000002,15.750999999999998,4.6811971999999997,null,null,0]
[null,null,null,null,null,"","",null,null,0]
["SF-00012",{"$f":"INDEX('Orçamentária-TR'!B:C,MATCH(Composições!A59,'Orçamentária-TR'!B:B,0),2)","v":{"$error":"#N/A"}},null,{"$f":"TRIM(INDEX('Orçamentária-TR'!C:C,MATCH(Composições!A59,'Orçamentária-TR'!A:A,0),1))","v":{"$error":"#N/A"}},null,"","",null,null,0]
[null,null,null,null,null,"","",null,null,0]
[null,null,"Pedreiro com Encargos Complementares","h",3.7400000000000003E-2,21.327499999999997,0.79764849999999998,{"$f":"SUM(G61:G62)","v":2.4562287999999999},null,0]
[null,null,"Servente com Encargos Complementares","h",0.1053,15.750999999999998,1.6585802999999999,null,null,0]
[null,null,null,null,null,"","",null,null,0]
["SF-00013",{"$f":"INDEX('Orçamentária-TR'!B:C,MATCH(Composições!A64,'Orçamentária-TR'!B:B,0),2)","v":{"$error":"#N/A"}},null,{"$f":"TRIM(INDEX('Orçamentária-TR'!C:C,MATCH(Composições!A64,'Orçamentária-TR'!A:A,0),1))","v":{"$error":"#N/A"}},null,"","",null,null,0]
[null,null,null,null,null,"","",null,null,0]
[null,null,"Encanador ou Bombeiro Hidráulico com Encargos Complementares","h",7.1000000000000004E-3,20.9285,0.14859235000000001,{"$f":"SUM(G66:G67)","v":0.36910634999999997},null,0]
[null,null,"Servente com Encargos Complementares","h",1.4E-2,15.750999999999998,0.22051399999999996,null,null,0]
[null,null,null,null,null,"","",null,null,0]
["SF-00014",{"$f":"INDEX('Orçamentária-TR'!B:C,MATCH(Composições!A69,'Orçamentária-TR'!B:B,0),2)","v":{"$error":"#N/A"}},null,{"$f":"TRIM(INDEX('Orçamentária-TR'!C:C,MATCH(Composições!A69,'Orçamentária-TR'!A:A,0),1))","v":{"$error":"#N/A"}},null,"","",null,null,0]
[null,null,null,null,null,"",{"$f":"IF(ISNUMBER(F70),E70*F70,\"\")","v":""},null,null,0]
[null,null,"Martelete ou rompedor pneumático manual, 28 kg, com silenciador - CHP diurno. AF_07/2016","chp",3.2467999999999999,19.484500000000001,63.262274599999998,{"$f":"SUM(G71:G75)","v":208.32523779999997},null,0]
[null,null,"Martelete ou rompedor pneumático manual, 28 kg, com silenciador - CHI diurno. AF_07/2016","chi",0.92020000000000002,18.173499999999997,16.723254699999998,null,null,0]
[null,null,"CABO DE ACO GALVANIZADO, DIAMETRO 9,53 MM (3/8\"), COM ALMA DE FIBRA 6 X 25 F","kg",0.28349999999999997,39.311,11.144668499999998,null,null,0]
[null,null,"Pedreiro com Encargos Complementares","h",0.63660000000000005,21.327499999999997,13.5770865,null,null,0]
[null,null,"Servente com Encargos Complementares","h",6.5785,15.750999999999998,103.61795349999998,null,null,0]
[null,null,null,null,null,"","",null,null,0]
["SF-00016",{"$f":"INDEX('Orçamentária-TR'!B:C,MATCH(Composições!A77,'Orçamentária-TR'!B:B,0),2)","v":{"$error":"#N/A"}},null,{"$f":"TRIM(INDEX('Orçamentária-TR'!C:C,MATCH(Composições!A77,'Orçamentária-TR'!A:A,0),1))","v":{"$error":"#N/A"}},null,"","",null,null,0]
[null,null,null,null,null,"","",null,null,0]
[null,null,"Carpinteiro de esquadria com encargos complementares","h",0.35,21.222999999999999,7.4280499999999989,{"$f":"SUM(G79:G80)","v":12.940899999999997},null,0]
[null,null,"Servente com Encargos Complementares","h",0.35,15.750999999999998,5.5128499999999985,null,null,0]
[null,null,null,null,null,"","",null,null,0]
["SF-00017",{"$f":"INDEX('Orçamentária-TR'!B:C,MATCH(Composições!A82,'Orçamentária-TR'!B:B,0),2)","v":{"$error":"#N/A"}},null,{"$f":"TRIM(INDEX('Orçamentária-TR'!C:C,MATCH(Composições!A82,'Orçamentária-TR'!A:A,0),1))","v":{"$error":"#N/A"}},null,"","",null,null,0]
[null,null,null,null,null,"","",null,null,0]
[null,null,"Pedreiro com Encargos Complementares","h",0.15,21.327499999999997,3.1991249999999996,{"$f":"SUM(G84:G85)","v":18.950124999999996},null,0]
[null,null,"Servente com Encargos Complementares","h",1,15.750999999999998,15.750999999999998,null,null,0]
[null,null,null,null,null,"","",null,null,0]
["SF-00018",{"$f":"INDEX('Orçamentária-TR'!B:C,MATCH(Composições!A87,'Orçamentária-TR'!B:B,0),2)","v":{"$error":"#N/A"}},null,{"$f":"TRIM(INDEX('Orçamentária-TR'!C:C,MATCH(Composições!A87,'Orçamentária-TR'!A:A,0),1))","v":{"$error":"#N/A"}},null,"","",null,null,0]
[null,null,null,null,null,"","",null,null,0]
[null,null,"Pedreiro com Encargos Complementares","h",{"$f":"0.08/2","v":0.04},21.327499999999997,0.85309999999999986,{"$f":"SUM(G89:G90)","v":7.1534999999999993},null,0]
[null,null,"Servente com Encargos Complementares","h",{"$f":"0.8/2","v":0.4},15.750999999999998,6.3003999999999998,null,null,0]
[null,null,null,null,null,"","",null,null,0]
["SF-00019",{"$f":"INDEX('Orçamentária-TR'!B:C,MATCH(Composições!A92,'Orçamentária-TR'!B:B,0),2)","v":{"$error":"#N/A"}},null,{"$f":"TRIM(INDEX('Orçamentária-TR'!C:C,MATCH(Composições!A92,'Orçamentária-TR'!A:A,0),1))","v":{"$error":"#N/A"}},null,"","",null,null,0]
[null,null,null,null,null,"","",null,null,0]
[null,null,"Eletricista com encargos complementares","h",{"$f":"0.75*0.1","v":7.5000000000000011E-2},21.526999999999997,1.614525,{"$f":"SUM(G94:G95)","v":3.9771749999999999},null,0]
[null,null,"Servente com Encargos Complementares","h",{"$f":"0.75*0.2","v":0.15000000000000002},15.750999999999998,2.3626499999999999,null,null,0]
[null,null,null,null,null,"","",null,null,0]
["SF-00020",{"$f":"INDEX('Orçamentária-TR'!B:C,MATCH(Composições!A97,'Orçamentária-TR'!B:B,0),2)","v":{"$error":"#N/A"}},null,{"$f":"TRIM(INDEX('Orçamentária-TR'!C:C,MATCH(Composições!A97,'Orçamentária-TR'!A:A,0),1))","v":{"$error":"#N/A"}},null,"","",null,null,0]
[null,null,null,null,null,"","",null,null,0]
[null,null,"Pedreiro com Encargos Complementares","h",0.01,21.327499999999997,0.21327499999999996,{"$f":"SUM(G99:G100)","v":1.7883749999999998},null,0]
[null,null,"Servente com Encargos Complementares","h",0.1,15.750999999999998,1.5750999999999999,null,null,0]
[null,null,null,null,null,"","",null,null,0]
["SF-00021",{"$f":"INDEX('Orçamentária-TR'!B:C,MATCH(Composições!A102,'Orçamentária-TR'!B:B,0),2)","v":{"$error":"#N/A"}},null,{"$f":"TRIM(INDEX('Orçamentária-TR'!C:C,MATCH(Composições!A102,'Orçamentária-TR'!A:A,0),1))","v":{"$error":"#N/A"}},null,"","",null,null,0]
[null,null,null,null,null,"","",null,null,0]
[null,null,"Ajudante especializado com encargos complementares","h",{"$f":"ROUND(1/6,4)","v":0.16669999999999999},18.715,3.1197904999999997,{"$f":"SUM(G104:G104)","v":3.1197904999999997},null,0]
[null,null,null,null,null,"","",null,null,0]
["SF-00022",{"$f":"INDEX('Orçamentária-TR'!B:C,MATCH(Composições!A106,'Orçamentária-TR'!B:B,0),2)","v":{"$error":"#N/A"}},null,{"$f":"TRIM(INDEX('Orçamentária-TR'!C:C,MATCH(Composições!A106,'Orçamentária-TR'!A:A,0),1))","v":{"$error":"#N/A"}},null,"","",null,null,0]
[null,null,null,null,null,"","",null,null,0]
[null,null,"Ajudante de operação em geral com encargos complementares","h",0.6,16.843499999999999,10.1061,{"$f":"SUM(G108:G109)","v":19.556699999999999},null,0]
[null,null,"Servente com Encargos Complementares","h",0.6,15.750999999999998,9.4505999999999979,null,null,0]
[null,null,null,null,null,"","",null,null,0]
["SF-00023",{"$f":"INDEX('Orçamentária-TR'!B:C,MATCH(Composições!A111,'Orçamentária-TR'!B:B,0),2)","v":{"$error":"#N/A"}},null,{"$f":"TRIM(INDEX('Orçamentária-TR'!C:C,MATCH(Composições!A111,'Orçamentária-TR'!A:A,0),1))","v":{"$error":"#N/A"}},null,"","",null,null,0]
[null,null,null,null,null,"","",null,null,0]
[null,null,"Marmorista/graniteiro com encargos complementares","h",0.6,17.793499999999998,10.676099999999998,{"$f":"SUM(G113:G114)","v":29.577299999999994},null,0]
[null,null,"Servente com Encargos Complementares","h",1.2,15.750999999999998,18.901199999999996,null,null,0]
[null,null,null,null,null,"","",null,null,0]
["SF-00024",{"$f":"INDEX('Orçamentária-TR'!B:C,MATCH(Composições!A116,'Orçamentária-TR'!B:B,0),2)","v":{"$error":"#N/A"}},null,{"$f":"TRIM(INDEX('Orçamentária-TR'!C:C,MATCH(Composições!A116,'Orçamentária-TR'!A:A,0),1))","v":{"$error":"#N/A"}},null,"","",null,null,0]
[null,null,null,null,null,"","",null,null,0]
[null,null,"Carpinteiro de esquadria com encargos complementares","h",1.2,21.222999999999999,25.467599999999997,{"$f":"SUM(G118:G118)","v":25.467599999999997},null,0]
[null,null,null,null,null,"","",null,null,0]
["SF-00025",{"$f":"INDEX('Orçamentária-TR'!B:C,MATCH(Composições!A120,'Orçamentária-TR'!B:B,0),2)","v":{"$error":"#N/A"}},null,{"$f":"TRIM(INDEX('Orçamentária-TR'!C:C,MATCH(Composições!A120,'Orçamentária-TR'!A:A,0),1))","v":{"$error":"#N/A"}},null,"","",null,null,0]
[null,null,null,null,null,"","",null,null,0]
[null,null,"Encanador ou Bombeiro Hidráulico com Encargos Complementares","h",0.17499999999999999,20.9285,3.6624874999999997,{"$f":"SUM(G122:G123)","v":8.3877874999999982},null,0]
[null,null,"Servente com Encargos Complementares","h",0.3,15.750999999999998,4.7252999999999989,null,null,0]
[null,null,null,null,null,"","",null,null,0]
["SF-00026",{"$f":"INDEX('Orçamentária-TR'!B:C,MATCH(Composições!A125,'Orçamentária-TR'!B:B,0),2)","v":{"$error":"#N/A"}},null,{"$f":"TRIM(INDEX('Orçamentária-TR'!C:C,MATCH(Composições!A125,'Orçamentária-TR'!A:A,0),1))","v":{"$error":"#N/A"}},null,"","",null,null,0]
[null,null,null,null,null,"","",null,null,0]
[null,null,"Pedreiro com Encargos Complementares","h",0.05,21.327499999999997,1.0663749999999999,{"$f":"SUM(G127:G128)","v":8.9418749999999996},null,0]
[null,null,"Servente com Encargos Complementares","h",0.5,15.750999999999998,7.8754999999999988,null,null,0]
[null,null,null,null,null,"","",null,null,0]
["SF-00027",{"$f":"INDEX('Orçamentária-TR'!B:C,MATCH(Composições!A130,'Orçamentária-TR'!B:B,0),2)","v":{"$error":"#N/A"}},null,{"$f":"TRIM(INDEX('Orçamentária-TR'!C:C,MATCH(Composições!A130,'Orçamentária-TR'!A:A,0),1))","v":{"$error":"#N/A"}},null,"","",null,null,0]
[null,null,null,null,null,"","",null,null,0]
[null,null,"Eletricista com encargos complementares","h",0.3,21.526999999999997,6.4580999999999991,{"$f":"SUM(G132:G132)","v":6.4580999999999991},null,0]
[null,null,null,null,null,"","",null,null,0]
["SF-00028",{"$f":"INDEX('Orçamentária-TR'!B:C,MATCH(Composições!A134,'Orçamentária-TR'!B:B,0),2)","v":{"$error":"#N/A"}},null,{"$f":"TRIM(INDEX('Orçamentária-TR'!C:C,MATCH(Composições!A134,'Orçamentária-TR'!A:A,0),1))","v":{"$error":"#N/A"}},null,"",{"$f":"IF(ISNUMBER(F134),E134*F134,\"\")","v":""},null,null,0]
[null,null,null,null,null,"","",null,null,0]
[null,null,"Carpinteiro de esquadria com encargos complementares","h",{"$f":"0.25","v":0.25},21.222999999999999,5.3057499999999997,{"$f":"SUM(G136:G136)","v":5.3057499999999997},null,0]
[null,null,null,null,null,"","",null,null,0]
["SF-00029",{"$f":"INDEX('Orçamentária-TR'!B:C,MATCH(Composições!A138,'Orçamentária-TR'!B:B,0),2)","v":{"$error":"#N/A"}},null,{"$f":"TRIM(INDEX('Orçamentária-TR'!C:C,MATCH(Composições!A138,'Orçamentária-TR'!A:A,0),1))","v":{"$error":"#N/A"}},null,"","",null,null,0]
[null,null,null,null,null,"","",null,null,0]
[null,null,"Pedreiro com Encargos Complementares","h",0.13150000000000001,21.327499999999997,2.8045662499999997,{"$f":"SUM(G140:G141)","v":6.8714744499999991},null,0]
[null,null,"Servente com Encargos Complementares","h",0.25819999999999999,15.750999999999998,4.0669081999999994,null,null,0]
[null,null,null,null,null,"","",null,null,0]
["SF-00030",{"$f":"INDEX('Orçamentária-TR'!B:C,MATCH(Composições!A143,'Orçamentária-TR'!B:B,0),2)","v":{"$error":"#N/A"}},null,{"$f":"TRIM(INDEX('Orçamentária-TR'!C:C,MATCH(Composições!A143,'Orçamentária-TR'!A:A,0),1))","v":{"$error":"#N/A"}},null,"","",null,null,0]
[null,null,null,null,null,"","",null,null,0]
[null,null,"Pedreiro com Encargos Complementares","h",0.09,21.327499999999997,1.9194749999999996,{"$f":"SUM(G145:G146)","v":16.095374999999997},null,0]
[null,null,"Servente com Encargos Complementares","h",0.9,15.750999999999998,14.175899999999999,null,null,0]
[null,null,null,null,null,"","",null,null,0]
["SF-00031",{"$f":"INDEX('Orçamentária-TR'!B:C,MATCH(Composições!A148,'Orçamentária-TR'!B:B,0),2)","v":{"$error":"#N/A"}},null,{"$f":"TRIM(INDEX('Orçamentária-TR'!C:C,MATCH(Composições!A148,'Orçamentária-TR'!A:A,0),1))","v":{"$error":"#N/A"}},null,"","",null,null,0]
[null,null,null,null,null,"","",null,null,0]
[null,null,"Encanador ou Bombeiro Hidráulico com Encargos Complementares","h",0.17549999999999999,20.9285,3.6729517499999997,{"$f":"SUM(G150:G151)","v":9.1038965499999982},null,0]
[null,null,"Servente com Encargos Complementares","h",0.3448,15.750999999999998,5.4309447999999989,null,null,0]
[null,null,null,null,null,"","",null,null,0]
["SF-00032",{"$f":"INDEX('Orçamentária-TR'!B:C,MATCH(Composições!A153,'Orçamentária-TR'!B:B,0),2)","v":{"$error":"#N/A"}},null,{"$f":"TRIM(INDEX('Orçamentária-TR'!C:C,MATCH(Composições!A153,'Orçamentária-TR'!A:A,0),1))","v":{"$error":"#N/A"}},null,"","",null,null,0]
[null,null,null,null,null,"","",null,null,0]
[null,null,"Eletricista com encargos complementares","h",{"$f":"0.0183*5","v":9.1499999999999998E-2},21.526999999999997,1.9697204999999998,{"$f":"SUM(G155:G156)","v":4.7970249999999997},null,0]
[null,null,"Servente com Encargos Complementares","h",{"$f":"0.0359*5","v":0.17949999999999999},15.750999999999998,2.8273044999999994,null,null,0]
[null,null,null,null,null,"","",null,null,0]
[null,null,"Obs.: Remoção com reaproveitamento",null,null,"","",null,null,0]
[null,null,null,null,null,"","",null,null,0]
["SF-00033",{"$f":"INDEX('Orçamentária-TR'!B:C,MATCH(Composições!A160,'Orçamentária-TR'!B:B,0),2)","v":{"$error":"#N/A"}},null,{"$f":"TRIM(INDEX('Orçamentária-TR'!C:C,MATCH(Composições!A160,'Orçamentária-TR'!A:A,0),1))","v":{"$error":"#N/A"}},null,"","",null,null,0]
[null,null,null,null,null,"","",null,null,0]
[null,null,"Encanador ou Bombeiro Hidráulico com Encargos Complementares","h",0.128,20.9285,2.6788479999999999,{"$f":"SUM(G162:G163)","v":6.6386493999999994},null,0]
[null,null,"Servente com Encargos Complementares","h",0.25140000000000001,15.750999999999998,3.9598013999999995,null,null,0]
[null,null,null,null,null,"","",null,null,0]
["SF-00034",{"$f":"INDEX('Orçamentária-TR'!B:C,MATCH(Composições!A165,'Orçamentária-TR'!B:B,0),2)","v":{"$error":"#N/A"}},null,{"$f":"TRIM(INDEX('Orçamentária-TR'!C:C,MATCH(Composições!A165,'Orçamentária-TR'!A:A,0),1))","v":{"$error":"#N/A"}},null,"","",null,null,0]
[null,null,null,null,null,"","",null,null,0]
[null,null,"Servente com Encargos Complementares","h",0.35,15.750999999999998,5.5128499999999985,{"$f":"SUM(G167:G168)","v":12.977474999999997},null,0]
[null,null,"Pedreiro com Encargos Complementares","h",0.35,21.327499999999997,7.4646249999999981,null,null,0]
[null,null,null,null,null,"","",null,null,0]
["SF-00035",{"$f":"INDEX('Orçamentária-TR'!B:C,MATCH(Composições!A170,'Orçamentária-TR'!B:B,0),2)","v":"Remoção de película"},null,{"$f":"TRIM(INDEX('Orçamentária-TR'!D:D,MATCH(Composições!A170,'Orçamentária-TR'!B:B,0),1))","v":"m2"},null,"","",null,null,1140]
[null,null,null,null,null,"","",null,null,1140]
[null,null,"Vidraceiro com encargos complementares","h",0.4,19.835999999999999,7.9344000000000001,{"$f":"SUM(G172:G172)","v":7.9344000000000001},null,1140]
[null,null,null,null,null,"","",null,null,1140]
["SF-00036",{"$f":"INDEX('Orçamentária-TR'!B:C,MATCH(Composições!A174,'Orçamentária-TR'!B:B,0),2)","v":{"$error":"#N/A"}},null,{"$f":"TRIM(INDEX('Orçamentária-TR'!C:C,MATCH(Composições!A174,'Orçamentária-TR'!A:A,0),1))","v":{"$error":"#N/A"}},null,"","",null,null,0]
[null,null,null,null,null,"","",null,null,0]
[null,null,"Ajudante especializado com encargos complementares","h",{"$f":"ROUND(1/6,4)","v":0.16669999999999999},18.715,3.1197904999999997,{"$f":"SUM(G176:G176)","v":3.1197904999999997},null,0]
[null,null,null,null,null,"","",null,null,0]
["SF-00037",{"$f":"INDEX('Orçamentária-TR'!B:C,MATCH(Composições!A178,'Orçamentária-TR'!B:B,0),2)","v":"Remoção de pintura ou textura"},null,{"$f":"TRIM(INDEX('Orçamentária-TR'!D:D,MATCH(Composições!A178,'Orçamentária-TR'!B:B,0),1))","v":"m2"},null,"","",null,null,20000]
[null,null,null,null,null,"","",null,null,20000]
[null,null,"Servente com Encargos Complementares","h",0.4,15.750999999999998,6.3003999999999998,{"$f":"SUM(G180:G180)","v":6.3003999999999998},null,20000]
[null,null,null,null,null,"","",null,null,20000]
["SF-00038",{"$f":"INDEX('Orçamentária-TR'!B:C,MATCH(Composições!A182,'Orçamentária-TR'!B:B,0),2)","v":{"$error":"#N/A"}},null,{"$f":"TRIM(INDEX('Orçamentária-TR'!C:C,MATCH(Composições!A182,'Orçamentária-TR'!A:A,0),1))","v":{"$error":"#N/A"}},null,"","",null,null,0]
[null,null,null,null,null,"","",null,null,0]
[null,null,"Montador de estrutura metálica com encargos complementares","h",{"$f":"0.0258*3","v":7.7399999999999997E-2},16.311500000000002,1.2625101000000001,{"$f":"SUM(G184:G185)","v":3.6582371999999999},null,0]
[null,null,"Servente com Encargos Complementares","h",{"$f":"0.0507*3","v":0.15210000000000001},15.750999999999998,2.3957270999999998,null,null,0]
[null,null,null,null,null,"","",null,null,0]
[null,null,"Obs.: remoção com reaproveitamento",null,null,"","",null,null,0]
[null,null,null,null,null,"","",null,null,0]
["SF-00039",{"$f":"INDEX('Orçamentária-TR'!B:C,MATCH(Composições!A189,'Orçamentária-TR'!B:B,0),2)","v":{"$error":"#N/A"}},null,{"$f":"TRIM(INDEX('Orçamentária-TR'!C:C,MATCH(Composições!A189,'Orçamentária-TR'!A:A,0),1))","v":{"$error":"#N/A"}},null,"","",null,null,0]
[null,null,null,null,null,"","",null,null,0]
[null,null,"Auxiliar de eletricista com encargos complementares","h",0.5,16.767499999999998,8.3837499999999991,{"$f":"SUM(G191:G194)","v":56.225749999999998},null,0]
[null,null,"Eletricista com encargos complementares","h",0.5,21.526999999999997,10.763499999999999,null,null,0]
[null,null,"Pedreiro com Encargos Complementares","h",1,21.327499999999997,21.327499999999997,null,null,0]
[null,null,"Servente com Encargos Complementares","h",1,15.750999999999998,15.750999999999998,null,null,0]
[null,null,null,null,null,"","",null,null,0]
["SF-00040",{"$f":"INDEX('Orçamentária-TR'!B:C,MATCH(Composições!A196,'Orçamentária-TR'!B:B,0),2)","v":{"$error":"#N/A"}},null,{"$f":"TRIM(INDEX('Orçamentária-TR'!C:C,MATCH(Composições!A196,'Orçamentária-TR'!A:A,0),1))","v":{"$error":"#N/A"}},null,"","",null,null,0]
[null,null,null,null,null,"","",null,null,0]
[null,null,"Servente com Encargos Complementares","h",0.2,15.750999999999998,{"$f":"IF(ISNUMBER(F198),E198*F198,\"\")","v":3.1501999999999999},{"$f":"SUM(G198:G198)","v":3.1501999999999999},null,0]
[null,null,null,null,null,"","",null,null,0]
["SF-00041",{"$f":"INDEX('Orçamentária-TR'!B:C,MATCH(Composições!A200,'Orçamentária-TR'!B:B,0),2)","v":{"$error":"#N/A"}},null,{"$f":"TRIM(INDEX('Orçamentária-TR'!C:C,MATCH(Composições!A200,'Orçamentária-TR'!A:A,0),1))","v":{"$error":"#N/A"}},null,"","",null,null,0]
[null,null,null,null,null,"","",null,null,0]
[null,null,"Servente com Encargos Complementares","h",{"$f":"0.437*0.2","v":8.7400000000000005E-2},15.750999999999998,1.3766373999999999,{"$f":"SUM(G202:G202)","v":1.3766373999999999},null,0]
[null,null,null,null,null,"","",null,null,0]
["SF-00042",{"$f":"INDEX('Orçamentária-TR'!B:C,MATCH(Composições!A204,'Orçamentária-TR'!B:B,0),2)","v":{"$error":"#N/A"}},null,{"$f":"TRIM(INDEX('Orçamentária-TR'!C:C,MATCH(Composições!A204,'Orçamentária-TR'!A:A,0),1))","v":{"$error":"#N/A"}},null,"","",null,null,0]
[null,null,null,null,null,"","",null,null,0]
[null,null,"Carpinteiro de formas com encargos complementares","h",0.25,21.184999999999999,5.2962499999999997,{"$f":"SUM(G206:G207)","v":5.6900249999999994},null,0]
[null,null,"Servente com Encargos Complementares","h",2.5000000000000001E-2,15.750999999999998,0.39377499999999999,null,null,0]
[null,null,null,null,null,"","",null,null,0]
["SF-00043",{"$f":"INDEX('Orçamentária-TR'!B:C,MATCH(Composições!A209,'Orçamentária-TR'!B:B,0),2)","v":{"$error":"#N/A"}},null,{"$f":"TRIM(INDEX('Orçamentária-TR'!C:C,MATCH(Composições!A209,'Orçamentária-TR'!A:A,0),1))","v":{"$error":"#N/A"}},null,"","",null,null,0]
[null,null,null,null,null,"","",null,null,0]
[null,null,"Servente com Encargos Complementares","h",0.55000000000000004,15.750999999999998,8.6630500000000001,{"$f":"SUM(G211:G211)","v":8.6630500000000001},null,0]
[null,null,null,null,null,"","",null,null,0]
["SF-00044",{"$f":"INDEX('Orçamentária-TR'!B:C,MATCH(Composições!A213,'Orçamentária-TR'!B:B,0),2)","v":{"$error":"#N/A"}},null,{"$f":"TRIM(INDEX('Orçamentária-TR'!C:C,MATCH(Composições!A213,'Orçamentária-TR'!A:A,0),1))","v":{"$error":"#N/A"}},null,"","",null,null,0]
[null,null,null,null,null,"","",null,null,0]
[null,null,"Montador eletromecãnico com encargos complementares","h",1,22.296499999999998,22.296499999999998,{"$f":"SUM(G215:G216)","v":39.14},null,0]
[null,null,"Ajudante de operação em geral com encargos complementares","h",1,16.843499999999999,16.843499999999999,null,null,0]
[null,null,null,null,null,"","",null,null,0]
["SF-00045",{"$f":"INDEX('Orçamentária-TR'!B:C,MATCH(Composições!A218,'Orçamentária-TR'!B:B,0),2)","v":"Remoção de vidro comum / espelho"},null,{"$f":"TRIM(INDEX('Orçamentária-TR'!D:D,MATCH(Composições!A218,'Orçamentária-TR'!B:B,0),1))","v":"m2"},null,"","",null,null,900]
[null,null,null,null,null,"","",null,null,900]
[null,null,"Servente com Encargos Complementares","h",0.2,15.750999999999998,3.1501999999999999,{"$f":"SUM(G220:G221)","v":13.068199999999999},null,900]
[null,null,"Vidraceiro com encargos complementares","h",0.5,19.835999999999999,9.9179999999999993,null,null,900]
[null,null,null,null,null,"","",null,null,900]
["SF-00046",{"$f":"INDEX('Orçamentária-TR'!B:C,MATCH(Composições!A223,'Orçamentária-TR'!B:B,0),2)","v":{"$error":"#N/A"}},null,{"$f":"TRIM(INDEX('Orçamentária-TR'!C:C,MATCH(Composições!A223,'Orçamentária-TR'!A:A,0),1))","v":{"$error":"#N/A"}},null,"","",null,null,0]
[null,null,null,null,null,"","",null,null,0]
[null,null,"Servente com Encargos Complementares","h",1,15.750999999999998,15.750999999999998,{"$f":"SUM(G225:G225)","v":15.750999999999998},null,0]
[null,null,null,null,null,"","",null,null,0]
["SF-00048",{"$f":"INDEX('Orçamentária-TR'!B:C,MATCH(Composições!A227,'Orçamentária-TR'!B:B,0),2)","v":"Andaime fachadeiro"},null,{"$f":"TRIM(INDEX('Orçamentária-TR'!D:D,MATCH(Composições!A227,'Orçamentária-TR'!B:B,0),1))","v":"m2 x mês"},null,"","",null,null,3400]
[null,null,null,null,null,"","",null,null,3400]
[null,null,"LOCACAO DE ANDAIME METALICO TIPO FACHADEIRO, LARGURA DE 1,20 M, ALTURA POR PECA DE 2,0 M, INCLUINDO SAPATAS E ITENS NECESSARIOS A INSTALACAO","M2XMES",1,3.7905000000000002,3.7905000000000002,{"$f":"SUM(G229:G229)","v":3.7905000000000002},null,3400]
[null,null,null,null,null,"","",null,null,3400]
["SF-00049",{"$f":"INDEX('Orçamentária-TR'!B:C,MATCH(Composições!A231,'Orçamentária-TR'!B:B,0),2)","v":"Andaime tubular (aluguel/mês)"},null,{"$f":"TRIM(INDEX('Orçamentária-TR'!D:D,MATCH(Composições!A231,'Orçamentária-TR'!B:B,0),1))","v":"m x mês"},null,"","",null,null,120]
[null,null,null,null,null,"","",null,null,120]
[null,null,"LOCACAO DE ANDAIME METALICO TUBULAR DE ENCAIXE, TIPO DE TORRE, COM LARGURA DE 1 ATE 1,5 M E ALTURA DE *1,00* M","MXMES",1,11.399999999999999,11.399999999999999,{"$f":"SUM(G233:G233)","v":11.399999999999999},null,120]
[null,null,null,null,null,"","",null,null,120]
["SF-00051",{"$f":"INDEX('Orçamentária-TR'!B:C,MATCH(Composições!A235,'Orçamentária-TR'!B:B,0),2)","v":"Corda de poliamida 12 mm tipo bombeiro, para trabalho em altura"},null,{"$f":"TRIM(INDEX('Orçamentária-TR'!D:D,MATCH(Composições!A235,'Orçamentária-TR'!B:B,0),1))","v":"m"},null,"","",null,null,2000]
[null,null,null,null,null,"","",null,null,2000]
[null,null,"CORDA DE POLIAMIDA 12 MM TIPO BOMBEIRO, PARA TRABALHO EM ALTURA","100m",0.01,441.97800000000001,4.4197800000000003,{"$f":"SUM(G237:G237)","v":4.4197800000000003},null,2000]
[null,null,null,null,null,"","",null,null,2000]
["SF-00057",{"$f":"INDEX('Orçamentária-TR'!B:C,MATCH(Composições!A239,'Orçamentária-TR'!B:B,0),2)","v":"Isolamento de obra com tela plástica com malha de 5mm e estrutura de madeira pontaleteada"},null,{"$f":"TRIM(INDEX('Orçamentária-TR'!D:D,MATCH(Composições!A239,'Orçamentária-TR'!B:B,0),1))","v":"m2"},null,"","",null,null,1080]
[null,null,null,null,null,"","",null,null,1080]
[null,null,"Servente com Encargos Complementares","h",0.15,15.750999999999998,2.3626499999999995,{"$f":"SUM(G241:G245)","v":16.830674999999999},null,1080]
[null,null,"Carpinteiro de formas com encargos complementares","h",0.3,21.184999999999999,6.3554999999999993,null,null,1080]
[null,null,"PONTALETE DE MADEIRA NAO APARELHADA *7,5 X 7,5* CM (3 X 3 \") PINUS, MISTA OU EQUIVALENTE DA REGIAO","m",1.5,3.3724999999999996,5.0587499999999999,null,null,1080]
[null,null,"Prego de aco polido com cabeca 18 x 27 (2 1/2 x 10)","kg",0.1,9.6709999999999994,0.96709999999999996,null,null,1080]
[null,null,"TELA PLASTICA LARANJA, TIPO TAPUME PARA SINALIZACAO, MALHA RETANGULAR, ROLO 1.20 X 50 M (L X C)","m",1.1499999999999999,{"$f":"1.91*0.95","v":1.8144999999999998},2.0866749999999996,null,null,1080]
[null,null,null,null,null,"","",null,null,1080]
["SF-00070",{"$f":"INDEX('Orçamentária-TR'!B:C,MATCH(Composições!A247,'Orçamentária-TR'!B:B,0),2)","v":"Tapume"},null,{"$f":"TRIM(INDEX('Orçamentária-TR'!D:D,MATCH(Composições!A247,'Orçamentária-TR'!B:B,0),1))","v":"m2"},null,"","",null,null,1980]
[null,null,null,null,null,"","",null,null,1980]
[null,null,"Carpinteiro de formas com encargos complementares","h",0.4,21.184999999999999,8.4740000000000002,{"$f":"SUM(G249:G260)","v":65.204955249999998},null,1980]
[null,null,"Servente com Encargos Complementares","h",0.4,15.750999999999998,6.3003999999999998,null,null,1980]
[null,null,"Chapa de madeira compensada resinada 1,10 x 2,20 m # 6 mm","h",1.1000000000000001,10.801499999999999,11.88165,null,null,1980]
[null,null,"PONTALETE DE MADEIRA NAO APARELHADA *7,5 X 7,5* CM (3 X 3 \") PINUS, MISTA OU EQUIVALENTE DA REGIAO","m",1.6,3.3724999999999996,5.3959999999999999,null,null,1980]
[null,null,"SARRAFO DE MADEIRA NAO APARELHADA *2,5 X 10 CM, MACARANDUBA, ANGELIM OU EQUIVALENTE DA REGIAO","m",1.65,8.7495000000000012,14.436675000000001,null,null,1980]
[null,null,"TABUA DE MADEIRA NAO APARELHADA *2,5 X 30* CM, CEDRINHO OU EQUIVALENTE DA REGIAO","m",0.5,14.554,7.2770000000000001,null,null,1980]
[null,null,"PREGO DE ACO POLIDO COM CABECA 18 X 30 (2 3/4 X 10)","kg",0.1,9.8324999999999996,0.98324999999999996,null,null,1980]
[null,null,"Ajudante de pintor com encargos complementares","h",1.5E-3,17.983499999999999,2.6975249999999999E-2,null,null,1980]
[null,null,"Pintor com encargos complementares","h",0.4,22.372499999999999,8.9489999999999998,null,null,1980]
[null,null,"Oleo de linhaca","L",2.2499999999999999E-2,16.206999999999997,0.36465749999999991,null,null,1980]
[null,null,"Cal hidratada para pintura","kg",0.6,1.216,0.72959999999999992,null,null,1980]
[null,null,"Pigmento em po para argamassas, cimentos e outros","kg",1.4999999999999999E-2,25.7165,0.38574749999999997,null,null,1980]
[null,null,null,null,null,"","",null,null,1980]
["SF-00073",{"$f":"INDEX('Orçamentária-TR'!B:C,MATCH(Composições!A262,'Orçamentária-TR'!B:B,0),2)","v":{"$error":"#N/A"}},null,{"$f":"TRIM(INDEX('Orçamentária-TR'!C:C,MATCH(Composições!A262,'Orçamentária-TR'!A:A,0),1))","v":{"$error":"#N/A"}},null,"",{"$f":"IF(ISNUMBER(F262),E262*F262,\"\")","v":""},null,null,0]
[null,null,null,null,null,"","",null,null,0]
[null,null,"Servente com Encargos Complementares","h",0.1,15.750999999999998,1.5750999999999999,{"$f":"SUM(G264:G266)","v":2.2619024999999997},null,0]
[null,null,"Sabao em po","kg",5.0000000000000001E-3,5.9754999999999994,2.9877499999999998E-2,null,null,0]
[null,null,"Vassoura 40 cm com cabo","un",0.05,13.138499999999999,0.65692499999999998,null,null,0]
[null,null,null,null,null,"","",null,null,0]
["SF-00074",{"$f":"INDEX('Orçamentária-TR'!B:C,MATCH(Composições!A268,'Orçamentária-TR'!B:B,0),2)","v":{"$error":"#N/A"}},null,{"$f":"TRIM(INDEX('Orçamentária-TR'!C:C,MATCH(Composições!A268,'Orçamentária-TR'!A:A,0),1))","v":{"$error":"#N/A"}},null,"","",null,null,0]
[null,null,null,null,null,"","",null,null,0]
[null,null,"Auxiliar de eletricista com encargos complementares","h",3.4000000000000002E-2,16.767499999999998,0.57009500000000002,{"$f":"SUM(G270:G274)","v":15.643277024299998},null,0]
[null,null,"Eletricista com encargos complementares","h",0.216,21.526999999999997,4.6498319999999991,null,null,0]
[null,null,"Auxiliar de encanador ou bombeiro hidráulico com encargos complementares","h",5.5E-2,16.320999999999998,0.89765499999999987,null,null,0]
[null,null,"Encanador ou Bombeiro Hidráulico com Encargos Complementares","h",0.39100000000000001,20.9285,8.1830435000000001,null,null,0]
[null,null,"ARGAMASSA TRAÇO 1:3 (EM VOLUME DE CIMENTO E AREIA MÉDIA ÚMIDA), PREPARO MANUAL. AF_08/2019","m3",3.0000000000000001E-3,447.55050809999994,1.3426515242999999,null,null,0]
[null,null,null,null,null,"","",null,null,0]
["SF-00075",{"$f":"INDEX('Orçamentária-TR'!B:C,MATCH(Composições!A276,'Orçamentária-TR'!B:B,0),2)","v":{"$error":"#N/A"}},null,{"$f":"TRIM(INDEX('Orçamentária-TR'!C:C,MATCH(Composições!A276,'Orçamentária-TR'!A:A,0),1))","v":{"$error":"#N/A"}},null,"","",null,null,0]
[null,null,null,null,null,"","",null,null,0]
[null,null,"Martelete ou rompedor pneumático manual, 28 kg, com silenciador - CHP diurno. AF_07/2016","chp",0.58699999999999997,19.484500000000001,11.4374015,{"$f":"SUM(G278:G281)","v":78.946063999999993},null,0]
[null,null,"Martelete ou rompedor pneumático manual, 28 kg, com silenciador - CHI diurno. AF_07/2016","chi",1.29,18.173499999999997,23.443814999999997,null,null,0]
[null,null,"Auxiliar de encanador ou bombeiro hidráulico com encargos complementares","h",0.29299999999999998,16.320999999999998,4.7820529999999994,null,null,0]
[null,null,"Encanador ou Bombeiro Hidráulico com Encargos Complementares","h",1.877,20.9285,39.282794500000001,null,null,0]
[null,null,null,null,null,"","",null,null,0]
["SF-00076",{"$f":"INDEX('Orçamentária-TR'!B:C,MATCH(Composições!A283,'Orçamentária-TR'!B:B,0),2)","v":{"$error":"#N/A"}},null,{"$f":"TRIM(INDEX('Orçamentária-TR'!C:C,MATCH(Composições!A283,'Orçamentária-TR'!A:A,0),1))","v":{"$error":"#N/A"}},null,"","",null,null,0]
[null,null,null,null,null,"","",null,null,0]
[null,null,"Martelete ou rompedor pneumático manual, 28 kg, com silenciador - CHP diurno. AF_07/2016","chp",0.75,19.484500000000001,14.613375000000001,{"$f":"SUM(G285:G288)","v":100.831119},null,0]
[null,null,"Martelete ou rompedor pneumático manual, 28 kg, com silenciador - CHI diurno. AF_07/2016","chi",1.647,18.173499999999997,29.931754499999997,null,null,0]
[null,null,"Auxiliar de encanador ou bombeiro hidráulico com encargos complementares","h",0.375,16.320999999999998,6.1203749999999992,null,null,0]
[null,null,"Encanador ou Bombeiro Hidráulico com Encargos Complementares","h",2.3969999999999998,20.9285,50.165614499999997,null,null,0]
[null,null,null,null,null,"","",null,null,0]
["SF-00077",{"$f":"INDEX('Orçamentária-TR'!B:C,MATCH(Composições!A290,'Orçamentária-TR'!B:B,0),2)","v":{"$error":"#N/A"}},null,{"$f":"TRIM(INDEX('Orçamentária-TR'!C:C,MATCH(Composições!A290,'Orçamentária-TR'!A:A,0),1))","v":{"$error":"#N/A"}},null,"","",null,null,0]
[null,null,null,null,null,"","",null,null,0]
[null,null,"LANÇAMENTO COM USO DE BALDES, ADENSAMENTO E ACABAMENTO DE CONCRETO EM ESTRUTURAS. AF_12/2015","m3",1,166.91784999999999,166.91784999999999,{"$f":"SUM(G292:G301)","v":477.10031472000003},null,0]
[null,null,"Areia media - posto jazida/fornecedor (retirado na jazida, sem transporte)","m3",0.80500000000000005,93.8125,75.519062500000004,null,null,0]
[null,null,"Cimento Portland composto CP II-32","kg",273.06,0.38949999999999996,106.35686999999999,null,null,0]
[null,null,"Pedra britada n. 1 (9,5 a 19 mm) posto pedreira/fornecedor, sem frete","m3",0.57899999999999996,62.082499999999989,35.945767499999988,null,null,0]
[null,null,"Operador de betoneira estacionária/misturador com encargos complementares","h",1.47,15.959999999999999,23.461199999999998,null,null,0]
[null,null,"Servente com Encargos Complementares","h",2.33,15.750999999999998,36.699829999999999,null,null,0]
[null,null,"BETONEIRA CAPACIDADE NOMINAL DE 400 L, CAPACIDADE DE MISTURA 280 L, MOTOR ELÉTRICO TRIFÁSICO POTÊNCIA DE 2 CV, SEM CARREGADOR - CHP DIURNO. AF_10/2014","chp",0.76,1.1684999999999999,0.88805999999999996,null,null,0]
[null,null,"BETONEIRA CAPACIDADE NOMINAL DE 400 L, CAPACIDADE DE MISTURA 280 L, MOTOR ELÉTRICO TRIFÁSICO POTÊNCIA DE 2 CV, SEM CARREGADOR - CHI DIURNO. AF_10/2014","chi",0.71,0.247,0.17537,null,null,0]
[null,null,"CARGA, MANOBRAS E DESCARGA DE AREIA, BRITA, PEDRA DE MAO E SOLOS COM CAMINHAO BASCULANTE 6 M3 (DESCARGA LIVRE)","M3",{"$f":"1*(E293+E295)","v":1.3839999999999999},0.7583660000000001,1.0495785440000001,null,null,0]
[null,null,"TRANSPORTE COM CAMINHÃO BASCULANTE DE 6 M3, EM VIA URBANA PAVIMENTADA, DMT ATÉ 30 KM (UNIDADE: M3xKM). AF_01/2018","M3xKM",{"$f":"(E293+E295)*20","v":27.68},1.0869482000000001,30.086726176000003,null,null,0]
[null,null,null,null,null,"","",null,null,0]
[null,null,"Obs.: Considerando fornecedor de areia e brita a 20 km do Senado Federal.",null,null,"","",null,null,0]
[null,null,null,null,null,"","",null,null,0]
["SF-00078",{"$f":"INDEX('Orçamentária-TR'!B:C,MATCH(Composições!A305,'Orçamentária-TR'!B:B,0),2)","v":{"$error":"#N/A"}},null,{"$f":"TRIM(INDEX('Orçamentária-TR'!C:C,MATCH(Composições!A305,'Orçamentária-TR'!A:A,0),1))","v":{"$error":"#N/A"}},null,"","",null,null,0]
[null,null,null,null,null,"","",null,null,0]
[null,null,"LANÇAMENTO COM USO DE BALDES, ADENSAMENTO E ACABAMENTO DE CONCRETO EM ESTRUTURAS. AF_12/2015","m3",1,166.91784999999999,166.91784999999999,{"$f":"SUM(G307:G316)","v":503.15992127999993},null,0]
[null,null,"Areia media - posto jazida/fornecedor (retirado na jazida, sem transporte)","m3",0.72299999999999998,93.8125,67.826437499999997,null,null,0]
[null,null,"Cimento Portland composto CP II-32","kg",362.66,0.38949999999999996,141.25606999999999,null,null,0]
[null,null,"Pedra britada n. 1 (9,5 a 19 mm) posto pedreira/fornecedor, sem frete","m3",0.59299999999999997,62.082499999999989,36.814922499999994,null,null,0]
[null,null,"Servente com Encargos Complementares","h",{"$f":"2.31","v":2.31},15.750999999999998,36.384809999999995,null,null,0]
[null,null,"Operador de betoneira estacionária/misturador com encargos complementares","h",1.46,15.959999999999999,23.301599999999997,null,null,0]
[null,null,"BETONEIRA CAPACIDADE NOMINAL DE 400 L, CAPACIDADE DE MISTURA 280 L, MOTOR ELÉTRICO TRIFÁSICO POTÊNCIA DE 2 CV, SEM CARREGADOR - CHP DIURNO. AF_10/2014","chp",0.75,1.1684999999999999,0.8763749999999999,null,null,0]
[null,null,"BETONEIRA CAPACIDADE NOMINAL DE 400 L, CAPACIDADE DE MISTURA 280 L, MOTOR ELÉTRICO TRIFÁSICO POTÊNCIA DE 2 CV, SEM CARREGADOR - CHI DIURNO. AF_10/2014","chi",0.71,0.247,0.17537,null,null,0]
[null,null,"CARGA, MANOBRAS E DESCARGA DE AREIA, BRITA, PEDRA DE MAO E SOLOS COM CAMINHAO BASCULANTE 6 M3 (DESCARGA LIVRE)","M3",{"$f":"1*(E308+E310)","v":1.3159999999999998},0.7583660000000001,0.99800965600000002,null,null,0]
[null,null,"TRANSPORTE COM CAMINHÃO BASCULANTE DE 6 M3, EM VIA URBANA PAVIMENTADA, DMT ATÉ 30 KM (UNIDADE: M3xKM). AF_01/2018","M3xKM",{"$f":"(E308+E310)*20","v":26.319999999999997},1.0869482000000001,28.608476624000001,null,null,0]
[null,null,null,null,null,"","",null,null,0]
[null,null,"Obs.: Considerando fornecedor de areia e brita a 20 km do Senado Federal.",null,null,"","",null,null,0]
[null,null,null,null,null,"","",null,null,0]
["SF-00079",{"$f":"INDEX('Orçamentária-TR'!B:C,MATCH(Composições!A320,'Orçamentária-TR'!B:B,0),2)","v":{"$error":"#N/A"}},null,{"$f":"TRIM(INDEX('Orçamentária-TR'!C:C,MATCH(Composições!A320,'Orçamentária-TR'!A:A,0),1))","v":{"$error":"#N/A"}},null,"","",null,null,0]
[null,null,null,null,null,"","",null,null,0]
[null,null,"LOCACAO DE ESCORA METALICA TELESCOPICA, COM ALTURA REGULAVEL DE *1,80* A *3,20*M, COM CAPACIDADE DE CARGA DE NO MINIMO 1000 KGF (10 KN), INCLUSO TRIPE E FORCADO","MES",0.85,5.2154999999999996,4.4331749999999994,{"$f":"SUM(G322:G324)","v":11.716825},null,0]
[null,null,"Ajudante de carpinteiro com encargos complementares","h",0.2,17.869499999999999,3.5739000000000001,null,null,0]
[null,null,"PONTALETE DE MADEIRA NAO APARELHADA *7,5 X 7,5* CM (3 X 3 \") PINUS, MISTA OU EQUIVALENTE DA REGIAO","m",1.1000000000000001,3.3724999999999996,3.7097499999999997,null,null,0]
[null,null,null,null,null,"","",null,null,0]
["SF-00080",{"$f":"INDEX('Orçamentária-TR'!B:C,MATCH(Composições!A326,'Orçamentária-TR'!B:B,0),2)","v":{"$error":"#N/A"}},null,{"$f":"TRIM(INDEX('Orçamentária-TR'!C:C,MATCH(Composições!A326,'Orçamentária-TR'!A:A,0),1))","v":{"$error":"#N/A"}},null,"",{"$f":"IF(ISNUMBER(F326),E326*F326,\"\")","v":""},null,null,0]
[null,null,null,null,null,"","",null,null,0]
[null,null,"ACETILENO (RECARGA PARA CILINDRO DE CONJUNTO OXICORTE GRANDE)","kg",0.01,46.445499999999996,0.46445499999999995,{"$f":"SUM(G328:G339)","v":10.694577500000001},null,0]
[null,null,"CANTONEIRA ACO ABAS IGUAIS (QUALQUER BITOLA), ESPESSURA ENTRE 1/8\" E 1/4\"","kg",0.27,4.4554999999999998,1.202985,null,null,0]
[null,null,"Chapa de aco USI-SAC 350, de (2,44x6)m, com espessura de 1/2\"","kg",0.33,0,0,null,null,0]
[null,null,"ELETRODO REVESTIDO AWS - E7018, DIAMETRO IGUAL A 4,00 MM","kg",2.5000000000000001E-2,16.7485,0.41871250000000004,null,null,0]
[null,null,"OXIGENIO, RECARGA PARA CILINDRO DE CONJUNTO OXICORTE GRANDE","m3",0.05,10.1745,0.50872499999999998,null,null,0]
[null,null,"Perfil \"H\" de aco carbono, padrao americano, de (6\"x6\")","kg",0.4,0,0,null,null,0]
[null,null,"Montador de estrutura metálica com encargos complementares","h",{"$f":"0.2+0.2","v":0.4},16.311500000000002,6.5246000000000013,null,null,0]
[null,null,"Servente com Encargos Complementares","h",0.1,15.750999999999998,1.5750999999999999,null,null,0]
[null,null,"Perda em perfil de aco carbono tipo \"H\", de 6\"x6\" - 5% - equivalente ao elementar MAT095450","kg",0.05,0,0,null,null,0]
[null,null,"Repintura interna ou externa sobre ferro, inclusive lixamento, limpeza, demao de tinta anti oxido Ferroloide ou equivalente e outra de tinta alquidica esmaltada Condor ou equivalente.","m2",0.05,0,0,null,null,0]
[null,null,"Retificador de solda, eletrico, de 430A. Custo horario corrido.","h",2.5000000000000001E-2,0,0,null,null,0]
[null,null,"Talha Guincho manual de 10Kg, sem operador, com as seguintes especificacoes minimas: capacidade de icamento de 1500Kg e de tracao de 1800Kg, cabo de aco com curso ilimitado, alavanca, gancho e carretel. Custo horario corrido.","h",0.5,0,0,null,null,0]
[null,null,null,null,null,"","",null,null,0]
["SF-00081",{"$f":"INDEX('Orçamentária-TR'!B:C,MATCH(Composições!A341,'Orçamentária-TR'!B:B,0),2)","v":{"$error":"#N/A"}},null,{"$f":"TRIM(INDEX('Orçamentária-TR'!C:C,MATCH(Composições!A341,'Orçamentária-TR'!A:A,0),1))","v":{"$error":"#N/A"}},null,"","",null,null,0]
[null,null,null,null,null,"","",null,null,0]
[null,null,"Desmoldante protetor para formas de madeira, de base oleosa emulsionada em agua","L",0.01,4.7024999999999997,4.7024999999999997E-2,{"$f":"SUM(G343:G349)","v":111.2796241275},null,0]
[null,null,"TABUA DE MADEIRA NAO APARELHADA *2,5 X 20* CM, CEDRINHO OU EQUIVALENTE DA REGIAO","m",0.47399999999999998,9.9559999999999995,4.7191439999999991,null,null,0]
[null,null,"Prego de aco polido com cabeca dupla 17 x 27 (2 1/2 x 11)","kg",4.9000000000000002E-2,12.140999999999998,0.59490899999999991,null,null,0]
[null,null,"Ajudante de carpinteiro com encargos complementares","h",0.20499999999999999,17.869499999999999,3.6632474999999993,null,null,0]
[null,null,"Carpinteiro de formas com encargos complementares","h",1.1200000000000001,21.184999999999999,23.7272,null,null,0]
[null,null,"Fabricação de fôrma para vigas, em chapa de madeira compensada resinada, E = 17 mm. AF_12/2015","m2",0.621,76.141293500000003,47.2837432635,null,null,0]
[null,null,"Fabricação de escoras de viga do tipo garfo, em madeira. af_12/2015","m",1.8160000000000001,17.2050415,31.244355364,null,null,0]
[null,null,null,null,null,"","",null,null,0]
["SF-00082",{"$f":"INDEX('Orçamentária-TR'!B:C,MATCH(Composições!A351,'Orçamentária-TR'!B:B,0),2)","v":{"$error":"#N/A"}},null,{"$f":"TRIM(INDEX('Orçamentária-TR'!C:C,MATCH(Composições!A351,'Orçamentária-TR'!A:A,0),1))","v":{"$error":"#N/A"}},null,"","",null,null,0]
[null,null,null,null,null,"","",null,null,0]
[null,null,"Servente com Encargos Complementares","h",0.4,15.750999999999998,6.3003999999999998,{"$f":"SUM(G353:G361)","v":23.983441599999999},null,0]
[null,null,"Pedreiro Com Encargos Complementares","h",0.3,21.327499999999997,6.3982499999999991,null,null,0]
[null,null,"Areia media - posto jazida/fornecedor (retirado na jazida, sem transporte)","m3",0.01,93.8125,0.93812499999999999,null,null,0]
[null,null,"Pedra britada n. 2 (19 a 38 mm) posto pedreira/fornecedor, sem frete","m3",0.01,62.082499999999989,0.62082499999999985,null,null,0]
[null,null,"Cimento Portland composto CP II-32","kg",2.0099999999999998,0.38949999999999996,0.78289499999999979,null,null,0]
[null,null,"Bloco de concreto tipo canaleta 11,5 x 19 x 39 cm","un ",2.5,2.4319999999999999,6.08,null,null,0]
[null,null,"Aco CA-50, 10,0 mm, vergalhao","kg",0.5,4.8259999999999996,2.4129999999999998,null,null,0]
[null,null,"CARGA, MANOBRAS E DESCARGA DE AREIA, BRITA, PEDRA DE MAO E SOLOS COM CAMINHAO BASCULANTE 6 M3 (DESCARGA LIVRE)","M3",{"$f":"1*(E355+E356)","v":0.02},0.7583660000000001,1.5167320000000001E-2,null,null,0]
[null,null,"TRANSPORTE COM CAMINHÃO BASCULANTE DE 6 M3, EM VIA URBANA PAVIMENTADA, DMT ATÉ 30 KM (UNIDADE: M3xKM). AF_01/2018","M3xKM",{"$f":"(E355+E356)*20","v":0.4},1.0869482000000001,0.4347792800000001,null,null,0]
[null,null,null,null,null,"","",null,null,0]
[null,null,"Obs.: Considerando fornecedor de areia e brita a 20 km do Senado Federal.",null,null,"","",null,null,0]
[null,null,null,null,null,"","",null,null,0]
["SF-00083",{"$f":"INDEX('Orçamentária-TR'!B:C,MATCH(Composições!A365,'Orçamentária-TR'!B:B,0),2)","v":"Impermeabilização de superfície com revestimento bicomponente semi flexível"},null,{"$f":"TRIM(INDEX('Orçamentária-TR'!D:D,MATCH(Composições!A365,'Orçamentária-TR'!B:B,0),1))","v":"m2"},null,"","",null,null,1863]
[null,null,null,null,null,"","",null,null,1863]
[null,null,"Argamassa polimerica impermeabilizante semiflexivel, bicomponente (membrana impermeabilizante acrilica)","kg",3.2,2.242,7.1744000000000003,{"$f":"SUM(G367:G369)","v":20.541849999999997},null,1863]
[null,null,"Ajudante especializado com encargos complementares","h",0.108,18.715,2.02122,null,null,1863]
[null,null,"Impermeabilizador com encargos complementares","h",0.53200000000000003,21.327499999999997,11.346229999999998,null,null,1863]
[null,null,null,null,null,"","",null,null,1863]
["SF-00084",{"$f":"INDEX('Orçamentária-TR'!B:C,MATCH(Composições!A371,'Orçamentária-TR'!B:B,0),2)","v":{"$error":"#N/A"}},null,{"$f":"TRIM(INDEX('Orçamentária-TR'!C:C,MATCH(Composições!A371,'Orçamentária-TR'!A:A,0),1))","v":{"$error":"#N/A"}},null,"","",null,null,0]
[null,null,null,null,null,"","",null,null,0]
[null,null,"Bloco ceramico (alvenaria de vedacao), de 9 x 19 x 19 cm","mil",2.7900000000000001E-2,495.00699999999995,13.810695299999999,{"$f":"SUM(G373:G378)","v":58.733251758439991},null,0]
[null,null,"Tela de aco soldada galvanizada/zincada para alvenaria, fio D = *1,20 a 1,70* mm, malha 15 x 15 mm, (C x L) *50 x 7,5* cm","m",0.42,1.6909999999999998,0.71021999999999985,null,null,0]
[null,null,"Pino de aco com furo, haste = 27 mm (acao direta)","cento",5.0000000000000001E-3,32.423500000000004,0.16211750000000003,null,null,0]
[null,null,"ARGAMASSA TRAÇO 1:2:8 (EM VOLUME DE CIMENTO, CAL E AREIA MÉDIA ÚMIDA) PARA EMBOÇO/MASSA ÚNICA/ASSENTAMENTO DE ALVENARIA DE VEDAÇÃO, PREPARO MECÂNICO COM BETONEIRA 400 L. AF_08/2019","m3",9.7999999999999997E-3,412.46009779999991,4.0421089584399992,null,null,0]
[null,null,"Pedreiro com Encargos Complementares","h",1.37,21.327499999999997,29.218674999999998,null,null,0]
[null,null,"Servente com Encargos Complementares","h",0.68500000000000005,15.750999999999998,10.789434999999999,null,null,0]
[null,null,null,null,null,"","",null,null,0]
["SF-00085",{"$f":"INDEX('Orçamentária-TR'!B:C,MATCH(Composições!A380,'Orçamentária-TR'!B:B,0),2)","v":{"$error":"#N/A"}},null,{"$f":"TRIM(INDEX('Orçamentária-TR'!C:C,MATCH(Composições!A380,'Orçamentária-TR'!A:A,0),1))","v":{"$error":"#N/A"}},null,"","",null,null,0]
[null,null,null,null,null,"","",null,null,0]
[null,null,"Pino de aco com arruela conica, diametro arruela = *23* mm e Comp haste = *27* mm (acao indireta)","cento",2.4299999999999999E-2,37.715000000000003,0.91647450000000008,{"$f":"SUM(G382:G392)","v":47.633378099999995},null,0]
[null,null,"Chapa de gesso acartonado, Standard (ST), cor branca, E = 12,5 mm, 1200 x 2400 mm (L x C)","m2",1.0529999999999999,20.177999999999997,21.247433999999995,null,null,0]
[null,null,"Perfil guia, formato U, em aco zincado, para estrutura parede drywall, E = 0,5 mm, 70 x 3000 mm (L x C)","m",0.76039999999999996,4.18,3.1784719999999997,null,null,0]
[null,null,"Perfil montante, formato C, em aco zincado, para estrutura parede drywall, E = 0,5 mm, 70 x 3000 mm (L x C)","m",1.9910000000000001,4.75,9.4572500000000002,null,null,0]
[null,null,"Fita de papel microperfurado, 50 x 150 mm, para tratamento de juntas de chapa de gesso para drywall","m",1.2513000000000001,0.22799999999999998,0.28529640000000001,null,null,0]
[null,null,"Fita de papel reforcada com lamina de metal para reforco de cantos de chapa de gesso para drywall","m",0.74070000000000003,2.9830000000000001,2.2095081000000003,null,null,0]
[null,null,"Massa de rejunte em po para drywall, a base de gesso, secagem rapida, para tratamento de juntas de chapa de gesso (com adicao de agua)","kg",0.51639999999999997,4.0089999999999995,2.0702475999999996,null,null,0]
[null,null,"Parafuso dry wall, em aco fosfatizado, cabeca trombeta e ponta agulha (TA), comprimento 25 mm","un",10.0039,7.5999999999999998E-2,0.76029639999999998,null,null,0]
[null,null,"Parafuso dry wall, em aco zincado, cabeca lentilha e ponta broca (LB), largura 4,2 mm, comprimento 13 mm","un",0.80759999999999998,0.18049999999999999,{"$f":"IF(ISNUMBER(F390),E390*F390,\"\")","v":0.14577179999999998},null,null,0]
[null,null,"Montador de estrutura metálica com encargos complementares","h",0.36359999999999998,16.311500000000002,5.9308614000000004,null,null,0]
[null,null,"Servente com Encargos Complementares","h",9.0899999999999995E-2,15.750999999999998,1.4317658999999998,null,null,0]
[null,null,null,null,null,"","",null,null,0]
["SF-00086",{"$f":"INDEX('Orçamentária-TR'!B:C,MATCH(Composições!A394,'Orçamentária-TR'!B:B,0),2)","v":{"$error":"#N/A"}},null,{"$f":"TRIM(INDEX('Orçamentária-TR'!C:C,MATCH(Composições!A394,'Orçamentária-TR'!A:A,0),1))","v":{"$error":"#N/A"}},null,"","",null,null,0]
[null,null,null,null,null,"","",null,null,0]
[null,null,"Tijolo ceramico macico *5 x 10 x 20* cm","un",11.2,0.42749999999999999,4.7879999999999994,{"$f":"SUM(G396:G399)","v":19.808581014879994},null,0]
[null,null,"ARGAMASSA TRAÇO 1:2:9 (EM VOLUME DE CIMENTO, CAL E AREIA MÉDIA ÚMIDA) PARA EMBOÇO/MASSA ÚNICA/ASSENTAMENTO DE ALVENARIA DE VEDAÇÃO, PREPARO MECÂNICO COM BETONEIRA 600 L. AF_08/2019","m3",5.1999999999999998E-3,397.8322144,2.06872751488,null,null,0]
[null,null,"Pedreiro com Encargos Complementares","h",0.52900000000000003,21.327499999999997,11.282247499999999,null,null,0]
[null,null,"Servente com Encargos Complementares","h",0.106,15.750999999999998,1.6696059999999997,null,null,0]
[null,null,null,null,null,"","",null,null,0]
["SF-00087",{"$f":"INDEX('Orçamentária-TR'!B:C,MATCH(Composições!A401,'Orçamentária-TR'!B:B,0),2)","v":"Parede em gesso acartonado (drywall)"},null,{"$f":"TRIM(INDEX('Orçamentária-TR'!D:D,MATCH(Composições!A401,'Orçamentária-TR'!B:B,0),1))","v":"m2"},null,"","",null,null,1305]
[null,null,null,null,null,"","",null,null,1305]
[null,null,"Pino De Aco Com Arruela Conica, Diametro Arruela = *23* Mm E Comp Haste = *27* Mm (Acao Indireta)","cento",2.4299999999999999E-2,37.715000000000003,0.91647450000000008,{"$f":"SUM(G403:G413)","v":75.667062049999998},null,1305]
[null,null,"Chapa De Gesso Acartonado, Standard (St), Cor Branca, E = 12,5 Mm, 1200 X 2400 Mm (L X C)","m2",2.1059999999999999,20.177999999999997,42.49486799999999,null,null,1305]
[null,null,"Perfil Guia, Formato U, Em Aco Zincado, Para Estrutura Parede Drywall, E = 0,5 Mm, 70 X 3000 Mm (L X C)","m",0.76039999999999996,4.18,3.1784719999999997,null,null,1305]
[null,null,"Perfil Montante, Formato C, Em Aco Zincado, Para Estrutura Parede Drywall, E = 0,5 Mm, 70 X 3000 Mm (L X C)","m",1.9910000000000001,4.75,9.4572500000000002,null,null,1305]
[null,null,"Fita De Papel Microperfurado, 50 X 150 Mm, Para Tratamento De Juntas De Chapa De Gesso Para Drywall","m",2.5026999999999999,0.22799999999999998,0.57061559999999989,null,null,1305]
[null,null,"Fita De Papel Reforcada Com Lamina De Metal Para Reforco De Cantos De Chapa De Gesso Para Drywall","m",0.74070000000000003,2.9830000000000001,2.2095081000000003,null,null,1305]
[null,null,"Massa De Rejunte Em Po Para Drywall, A Base De Gesso, Secagem Rapida, Para Tratamento De Juntas De Chapa De Gesso (Com Adicao De Agua)","kg",1.0327,4.0089999999999995,4.1400942999999994,null,null,1305]
[null,null,"Parafuso Dry Wall, Em Aco Fosfatizado, Cabeca Trombeta E Ponta Agulha (Ta), Comprimento 25 Mm","un",20.0077,7.5999999999999998E-2,1.5205852,null,null,1305]
[null,null,"Parafuso Dry Wall, Em Aco Zincado, Cabeca Lentilha E Ponta Broca (Lb), Largura 4,2 Mm, Comprimento 13 Mm","un",0.80759999999999998,0.18049999999999999,0.14577179999999998,null,null,1305]
[null,null,"Montador de estrutura metálica com encargos complementares","h",0.54490000000000005,16.311500000000002,8.8881363500000017,null,null,1305]
[null,null,"Servente com Encargos Complementares","h",0.13619999999999999,15.750999999999998,2.1452861999999997,null,null,1305]
[null,null,null,null,null,"","",null,null,1305]
["SF-00088",{"$f":"INDEX('Orçamentária-TR'!B:C,MATCH(Composições!A415,'Orçamentária-TR'!B:B,0),2)","v":"Reparos superficiais em painéis de gesso acartonado"},null,{"$f":"TRIM(INDEX('Orçamentária-TR'!D:D,MATCH(Composições!A415,'Orçamentária-TR'!B:B,0),1))","v":"m2"},null,"","",null,null,100]
[null,null,null,null,null,"","",null,null,100]
[null,null,"Fita De Papel Microperfurado, 50 X 150 Mm, Para Tratamento De Juntas De Chapa De Gesso Para Drywall","m",1.2513000000000001,0.22799999999999998,0.28529640000000001,{"$f":"SUM(G417:G420)","v":5.334261399999999},null,100]
[null,null,"Massa De Rejunte Em Po Para Drywall, A Base De Gesso, Secagem Rapida, Para Tratamento De Juntas De Chapa De Gesso (Com Adicao De Agua)","kg",0.51639999999999997,4.0089999999999995,2.0702475999999996,null,null,100]
[null,null,"Montador de estrutura metálica com encargos complementares","h",{"$f":"0.3636/3","v":0.12119999999999999},16.311500000000002,1.9769538,null,null,100]
[null,null,"Servente com Encargos Complementares","h",{"$f":"ROUND(0.0909*0.7,4)","v":6.3600000000000004E-2},15.750999999999998,1.0017635999999999,null,null,100]
[null,null,null,null,null,"","",null,null,100]
["SF-00089",{"$f":"INDEX('Orçamentária-TR'!B:C,MATCH(Composições!A422,'Orçamentária-TR'!B:B,0),2)","v":{"$error":"#N/A"}},null,{"$f":"TRIM(INDEX('Orçamentária-TR'!C:C,MATCH(Composições!A422,'Orçamentária-TR'!A:A,0),1))","v":{"$error":"#N/A"}},null,"","",null,null,0]
[null,null,null,null,null,"","",null,null,0]
[null,null,"Tela de aco soldada galvanizada/zincada para alvenaria, fio D = *1,20 a 1,70* mm, malha 15 x 15 mm, (C x L) *50 x 7,5* cm","m",0.78500000000000003,1.6909999999999998,1.3274349999999999,{"$f":"SUM(G424:G432)","v":61.499413000259985},null,0]
[null,null,"Pino de aco com furo, haste = 27 mm (acao direta)","cento",9.4000000000000004E-3,32.423500000000004,0.30478090000000008,null,null,0]
[null,null,"Bloco ceramico de vedacao com furos na vertical, 9 x 19 x 39 cm - 4,5 MPa (NBR 15270)","un",13.35,1.2825,17.121375,null,null,0]
[null,null,"ARGAMASSA TRAÇO 1:2:8 (EM VOLUME DE CIMENTO, CAL E AREIA MÉDIA ÚMIDA) PARA EMBOÇO/MASSA ÚNICA/ASSENTAMENTO DE ALVENARIA DE VEDAÇÃO, PREPARO MECÂNICO COM BETONEIRA 400 L. AF_08/2019","m3",1.04E-2,412.46009779999991,4.2895850171199985,null,null,0]
[null,null,"Pedreiro com Encargos Complementares","h",0.59,21.327499999999997,12.583224999999997,null,null,0]
[null,null,"Servente com Encargos Complementares","h",0.29499999999999998,15.750999999999998,4.6465449999999988,null,null,0]
[null,null,"ARGAMASSA TRAÇO 1:2:8 (EM VOLUME DE CIMENTO, CAL E AREIA MÉDIA ÚMIDA) PARA EMBOÇO/MASSA ÚNICA/ASSENTAMENTO DE ALVENARIA DE VEDAÇÃO, PREPARO MECÂNICO COM BETONEIRA 400 L. AF_08/2019","m3",2.1299999999999999E-2,412.46009779999991,8.7854000831399972,null,null,0]
[null,null,"Pedreiro com Encargos Complementares","h",0.46,21.327499999999997,9.810649999999999,null,null,0]
[null,null,"Servente com Encargos Complementares","h",0.16700000000000001,15.750999999999998,2.6304169999999996,null,null,0]
[null,null,null,null,null,"","",null,null,0]
["SF-00090",{"$f":"INDEX('Orçamentária-TR'!B:C,MATCH(Composições!A434,'Orçamentária-TR'!B:B,0),2)","v":{"$error":"#N/A"}},null,{"$f":"TRIM(INDEX('Orçamentária-TR'!C:C,MATCH(Composições!A434,'Orçamentária-TR'!A:A,0),1))","v":{"$error":"#N/A"}},null,"","",null,null,0]
[null,null,null,null,null,"","",null,null,0]
[null,null,"ARGAMASSA INDUSTRIALIZADA PARA CHAPISCO COLANTE, PREPARO COM MISTURADOR DE EIXO HORIZONTAL DE 300 KG. AF_08/2019","m3",3.2000000000000002E-3,1643.5048449999997,5.2592155039999993,{"$f":"SUM(G436:G438)","v":8.4884821039999974},null,0]
[null,null,"Pedreiro com Encargos Complementares","h",0.14099999999999999,21.327499999999997,3.0071774999999992,null,null,0]
[null,null,"Servente com Encargos Complementares","h",1.41E-2,15.750999999999998,0.22208909999999996,null,null,0]
[null,null,null,null,null,"","",null,null,0]
["SF-00091",{"$f":"INDEX('Orçamentária-TR'!B:C,MATCH(Composições!A440,'Orçamentária-TR'!B:B,0),2)","v":"Chapisco com argamassa traço 1:3"},null,{"$f":"TRIM(INDEX('Orçamentária-TR'!D:D,MATCH(Composições!A440,'Orçamentária-TR'!B:B,0),1))","v":"m2"},null,"","",null,null,1380]
[null,null,null,null,null,"","",null,null,1380]
[null,null,"ARGAMASSA TRAÇO 1:3 (EM VOLUME DE CIMENTO E AREIA GROSSA ÚMIDA) PARA CHAPISCO CONVENCIONAL, PREPARO MANUAL. AF_08/2019","m3",4.1999999999999997E-3,465.79242519999991,1.9563281858399995,{"$f":"SUM(G442:G444)","v":3.5595101858399989},null,1380]
[null,null,"Pedreiro com Encargos Complementares","h",7.0000000000000007E-2,21.327499999999997,1.4929249999999998,null,null,1380]
[null,null,"Servente com Encargos Complementares","h",7.0000000000000001E-3,15.750999999999998,0.11025699999999998,null,null,1380]
[null,null,null,null,null,"","",null,null,1380]
["SF-00092",{"$f":"INDEX('Orçamentária-TR'!B:C,MATCH(Composições!A446,'Orçamentária-TR'!B:B,0),2)","v":"Gesso cola"},null,{"$f":"TRIM(INDEX('Orçamentária-TR'!D:D,MATCH(Composições!A446,'Orçamentária-TR'!B:B,0),1))","v":"m2"},null,"","",null,null,6900]
[null,null,null,null,null,"","",null,null,6900]
[null,null,"Gesseiro com encargos complementares","h",0.4,21.222999999999999,8.4892000000000003,{"$f":"SUM(G448:G450)","v":12.764279999999999},null,6900]
[null,null,"Servente com Encargos Complementares","h",0.08,15.750999999999998,1.2600799999999999,null,null,6900]
[null,null,"Gesso cola","kg",0.75,4.0199999999999996,3.0149999999999997,null,null,6900]
[null,null,null,null,null,"","",null,null,6900]
[null,null,"Obs.: Fonte para o coeficiente do gesso (0,75 kg/m2) : http://www.gessotrevo.com.br/gesso_cola.php - acesso em 16/08/18",null,null,"","",null,null,6900]
[null,null,null,null,null,"","",null,null,6900]
["SF-00093",{"$f":"INDEX('Orçamentária-TR'!B:C,MATCH(Composições!A454,'Orçamentária-TR'!B:B,0),2)","v":"Reboco com argamassa industrializada e=2,0 cm"},null,{"$f":"TRIM(INDEX('Orçamentária-TR'!D:D,MATCH(Composições!A454,'Orçamentária-TR'!B:B,0),1))","v":"m2"},null,"",{"$f":"IF(ISNUMBER(F454),E454*F454,\"\")","v":""},null,null,1380]
[null,null,null,null,null,"","",null,null,1380]
[null,null,"Argamassa industrializada multiuso, para revestimento interno e externo e assentamento de blocos diversos","kg",{"$f":"1890*0.02","v":37.800000000000004},0.41799999999999998,15.800400000000002,{"$f":"SUM(G456:G459)","v":31.756755800000001},null,1380]
[null,null,"Servente com Encargos Complementares","h",{"$f":"13.64*0.02","v":0.27280000000000004},15.750999999999998,4.2968728,null,null,1380]
[null,null,"Pedreiro com Encargos Complementares","h",0.43,21.327499999999997,9.1708249999999989,null,null,1380]
[null,null,"Servente com Encargos Complementares","h",{"$f":"0.158","v":0.158},15.750999999999998,2.4886579999999996,null,null,1380]
[null,null,null,null,null,"","",null,null,1380]
[null,null,"Obs.: Rendimento de argamassa obtido como referência no SINAPI e no link abaixo. Extrato: \"Revestimento: Em média 17,0 a 19,5 Kg/m2  para cada 1,0 cm de espessura, variando em função da aplicação\".",null,null,"","",null,null,1380]
[null,null,"https://s3.amazonaws.com/mapa-da-obra-producao/wp-content/uploads/2015/12/2101-matrix-revestimento-interno.pdf",null,null,"","",null,null,1380]
[null,null,null,null,null,"","",null,null,1380]
["SF-00094",{"$f":"INDEX('Orçamentária-TR'!B:C,MATCH(Composições!A464,'Orçamentária-TR'!B:B,0),2)","v":{"$error":"#N/A"}},null,{"$f":"TRIM(INDEX('Orçamentária-TR'!C:C,MATCH(Composições!A464,'Orçamentária-TR'!A:A,0),1))","v":{"$error":"#N/A"}},null,"","",null,null,0]
[null,null,null,null,null,"","",null,null,0]
[null,null,"Argamassa industrializada multiuso, para revestimento interno e externo e assentamento de blocos diversos","kg",{"$f":"1890*0.005","v":9.4500000000000011},0.41799999999999998,3.9501000000000004,{"$f":"SUM(G466:G469)","v":11.0636753},null,0]
[null,null,"Servente com Encargos Complementares","h",{"$f":"13.64*0.005","v":6.8200000000000011E-2},15.750999999999998,1.0742182,null,null,0]
[null,null,"Pedreiro com Encargos Complementares","h",{"$f":"0.31*0.7","v":0.217},21.327499999999997,4.6280674999999993,null,null,0]
[null,null,"Servente com Encargos Complementares","h",{"$f":"0.128*0.7","v":8.9599999999999999E-2},15.750999999999998,1.4112895999999997,null,null,0]
[null,null,null,null,null,"","",null,null,0]
["SF-00095",{"$f":"INDEX('Orçamentária-TR'!B:C,MATCH(Composições!A471,'Orçamentária-TR'!B:B,0),2)","v":"Tratamento de trincas superficiais"},null,{"$f":"TRIM(INDEX('Orçamentária-TR'!D:D,MATCH(Composições!A471,'Orçamentária-TR'!B:B,0),1))","v":"m"},null,"","",null,null,200]
[null,null,null,null,null,"","",null,null,200]
[null,null,"Servente com Encargos Complementares","h",0.6,15.750999999999998,9.4505999999999979,{"$f":"SUM(G473:G477)","v":21.730537500000001},null,200]
[null,null,"Pedreiro com Encargos Complementares","h",0.155,21.327499999999997,3.3057624999999997,null,null,200]
[null,null,"Tela de poliéster adesiva largura 150mm e reforço central de 50mm","m",1.05,3.5909999999999997,3.7705500000000001,null,null,200]
[null,null,"RESINA ACRILICA BASE AGUA - COR BRANCA","L",{"$f":"ROUND(1*0.15/(165/18),4)","v":1.6400000000000001E-2},22.5625,0.37002500000000005,null,null,200]
[null,null,"SELANTE A BASE DE RESINAS ACRILICAS PARA TRINCAS","kg",{"$f":"1/5","v":0.2},24.167999999999999,4.8336000000000006,null,null,200]
[null,null,null,null,null,"","",null,null,200]
[null,null,"Obs.: Rendimento da resina e do selante de acordo com recomendações do fabricante (Bautech). Consumo médio. Selante: 5 m por kg. Resina: 165 m2 por embalagem de 18 L.",null,null,"","",null,null,200]
[null,null,"http://www.bautechbrasil.com.br/produtos/selantes-especiais/bautech-selante-acr%C3%ADlico",null,null,"","",null,null,200]
[null,null,"http://www.bautechbrasil.com.br/produtos/pinturas-especiais-e-complementos/bautech-resina-acr%C3%ADlica-multiuso",null,null,"","",null,null,200]
[null,null,null,null,null,"","",null,null,200]
["SF-00096",{"$f":"INDEX('Orçamentária-TR'!B:C,MATCH(Composições!A483,'Orçamentária-TR'!B:B,0),2)","v":"Aplicação de fundo selador base água"},null,{"$f":"TRIM(INDEX('Orçamentária-TR'!D:D,MATCH(Composições!A483,'Orçamentária-TR'!B:B,0),1))","v":"m2"},null,"","",null,null,42090]
[null,null,null,null,null,"","",null,null,42090]
[null,null,"Pintor com encargos complementares","h",0.106,22.372499999999999,2.3714849999999998,{"$f":"SUM(G485:G487)","v":4.0511619999999997},null,42090]
[null,null,"Servente com Encargos Complementares","h",2.7E-2,15.750999999999998,0.42527699999999991,null,null,42090]
[null,null,"Fundo selador a base d'água","L",0.16,7.84,1.2544,null,null,42090]
[null,null,null,null,null,"","",null,null,42090]
["SF-00097",{"$f":"INDEX('Orçamentária-TR'!B:C,MATCH(Composições!A489,'Orçamentária-TR'!B:B,0),2)","v":"Fundo anticorrosivo e de aderência (base água)"},null,{"$f":"TRIM(INDEX('Orçamentária-TR'!D:D,MATCH(Composições!A489,'Orçamentária-TR'!B:B,0),1))","v":"m2"},null,"","",null,null,5000]
[null,null,null,null,null,"","",null,null,5000]
[null,null,"Pintor com encargos complementares","h",{"$f":"2*0.2149","v":0.42980000000000002},22.372499999999999,9.6157004999999991,{"$f":"SUM(G491:G492)","v":15.6061005},null,5000]
[null,null,"Fundo anticorrosivo e de aderência a base de água","L",{"$f":"2*(3.6/45)","v":0.16},37.44,5.9904000000000002,null,null,5000]
[null,null,null,null,null,"","",null,null,5000]
[null,null,"Obs.: Rendimento do fundo obtido de acordo com recomendação do fabricante. Consumo médio. ",null,null,"","",null,null,5000]
[null,null,"https://www.sherwin-williams.com.br/produto-detalhe/metalatex-eco-complementos",null,null,"","",null,null,5000]
[null,null,"https://www.suvinil.com.br/upload/78d22676-91b1-4086-99ad-4258fadd7b08-suvinil-fundo-seca-rapidomaio2018.pdf",null,null,"","",null,null,5000]
["SF-00098",{"$f":"INDEX('Orçamentária-TR'!B:C,MATCH(Composições!A497,'Orçamentária-TR'!B:B,0),2)","v":"Massa acrílica"},null,{"$f":"TRIM(INDEX('Orçamentária-TR'!D:D,MATCH(Composições!A497,'Orçamentária-TR'!B:B,0),1))","v":"m2"},null,"","",null,null,12190]
[null,null,null,null,null,"","",null,null,12190]
[null,null,"Lixa em folha para parede ou madeira, numero 120 (cor vermelha)","un",0.1,0.60799999999999998,6.08E-2,{"$f":"SUM(G499:G502)","v":15.683284},null,12190]
[null,null,"Massa acrilica para paredes interior/exterior","gl",0.24399999999999999,28.043999999999997,6.8427359999999995,null,null,12190]
[null,null,"Pintor com encargos complementares","h",0.33400000000000002,22.372499999999999,7.4724149999999998,null,null,12190]
[null,null,"Servente com Encargos Complementares","h",8.3000000000000004E-2,15.750999999999998,1.3073329999999999,null,null,12190]
[null,null,null,null,null,"","",null,null,12190]
["SF-00099",{"$f":"INDEX('Orçamentária-TR'!B:C,MATCH(Composições!A504,'Orçamentária-TR'!B:B,0),2)","v":"Massa corrida"},null,{"$f":"TRIM(INDEX('Orçamentária-TR'!D:D,MATCH(Composições!A504,'Orçamentária-TR'!B:B,0),1))","v":"m2"},null,"","",null,null,96927]
[null,null,null,null,null,"","",null,null,96927]
[null,null,"Lixa em folha para parede ou madeira, numero 120 (cor vermelha)","un",0.1,0.60799999999999998,6.08E-2,{"$f":"SUM(G506:G509)","v":12.260367499999999},null,96927]
[null,null,"Massa corrida PVA para paredes internas","18L",4.8899999999999999E-2,70.015000000000001,3.4237335,null,null,96927]
[null,null,"Pintor com encargos complementares","h",0.312,22.372499999999999,6.9802199999999992,null,null,96927]
[null,null,"Servente com Encargos Complementares","h",0.114,15.750999999999998,1.7956139999999998,null,null,96927]
[null,null,null,null,null,"","",null,null,96927]
["SF-00100",{"$f":"INDEX('Orçamentária-TR'!B:C,MATCH(Composições!A511,'Orçamentária-TR'!B:B,0),2)","v":"Pintura com tinta látex acrílica Premium (paredes)"},null,{"$f":"TRIM(INDEX('Orçamentária-TR'!D:D,MATCH(Composições!A511,'Orçamentária-TR'!B:B,0),1))","v":"m2"},null,"","",null,null,154147]
[null,null,null,null,null,"","",null,null,154147]
[null,null,"Pintor com encargos complementares","h",0.187,22.372499999999999,4.1836574999999998,{"$f":"SUM(G513:G515)","v":11.697226499999999},null,154147]
[null,null,"Servente com Encargos Complementares","h",6.9000000000000006E-2,15.750999999999998,1.086819,null,null,154147]
[null,null,"Tinta acrilica premium, cor branco fosco","L",0.33,19.474999999999998,6.4267499999999993,null,null,154147]
[null,null,null,null,null,"","",null,null,154147]
["SF-00101",{"$f":"INDEX('Orçamentária-TR'!B:C,MATCH(Composições!A517,'Orçamentária-TR'!B:B,0),2)","v":"Pintura em verniz sintético"},null,{"$f":"TRIM(INDEX('Orçamentária-TR'!D:D,MATCH(Composições!A517,'Orçamentária-TR'!B:B,0),1))","v":"m2"},null,"","",null,null,1500]
[null,null,null,null,null,"",{"$f":"IF(ISNUMBER(F518),E518*F518,\"\")","v":""},null,null,1500]
[null,null,"Lixa em folha para parede ou madeira, numero 120 (cor vermelha)","un",1,0.60799999999999998,0.60799999999999998,{"$f":"SUM(G519:G522)","v":17.039539999999999},null,1500]
[null,null,"Verniz a base de água para madeira","L",{"$f":"ROUND(3*3.6/100,4)","v":0.108},25.53,2.7572399999999999,null,null,1500]
[null,null,"Pintor com encargos complementares","h",0.4,22.372499999999999,8.9489999999999998,null,null,1500]
[null,null,"Servente com Encargos Complementares","h",0.3,15.750999999999998,4.7252999999999989,null,null,1500]
[]
[null,null,"Obs: considerando rendimento informado na especificação técnica de produto equivalente da Suvinil (Lata de 3,6L rende até 100 m²/demão)."]
[null,null,null,null,null,"",{"$f":"IF(ISNUMBER(F525),E525*F525,\"\")","v":""},null,null,1500]
["SF-00102",{"$f":"INDEX('Orçamentária-TR'!B:C,MATCH(Composições!A526,'Orçamentária-TR'!B:B,0),2)","v":"Pintura esmalte acetinado (metais e madeiras)"},null,{"$f":"TRIM(INDEX('Orçamentária-TR'!D:D,MATCH(Composições!A526,'Orçamentária-TR'!B:B,0),1))","v":"m2"},null,"","",null,null,42000]
[null,null,null,null,null,"","",null,null,42000]
[null,null,"Pintor com encargos complementares","h",0.4,22.372499999999999,8.9489999999999998,{"$f":"SUM(G528:G531)","v":16.440639999999998},null,42000]
[null,null,"Servente com Encargos Complementares","h",0.2,15.750999999999998,3.1501999999999999,null,null,42000]
[null,null,"Lixa em folha para parede ou madeira, numero 120 (cor vermelha)","un",0.4,0.60799999999999998,0.2432,null,null,42000]
[null,null,"Tinta esmalte sintetico a base de água","L",{"$f":"ROUND(3*3.6/75,4)","v":0.14399999999999999},28.46,4.0982399999999997,null,null,42000]
[]
[null,null,"Obs: considerando rendimento informado na especificação técnica de um dos produtos indicados como referência comercial (Lata de 3,6L rende até 75 m²/demão)."]
[null,null,null,null,null,"",{"$f":"IF(ISNUMBER(F534),E534*F534,\"\")","v":""},null,null,42000]
["SF-00103",{"$f":"INDEX('Orçamentária-TR'!B:C,MATCH(Composições!A535,'Orçamentária-TR'!B:B,0),2)","v":"Pintura tinta látex acrílica standard (tetos)"},null,{"$f":"TRIM(INDEX('Orçamentária-TR'!D:D,MATCH(Composições!A535,'Orçamentária-TR'!B:B,0),1))","v":"m2"},null,"","",null,null,140000]
[null,null,null,null,null,"","",null,null,140000]
[null,null,"Pintor com encargos complementares","h",0.24399999999999999,22.372499999999999,5.4588899999999994,{"$f":"SUM(G537:G539)","v":13.287478999999998},null,140000]
[null,null,"Servente com Encargos Complementares","h",8.8999999999999996E-2,15.750999999999998,1.4018389999999998,null,null,140000]
[null,null,"Tinta acrilica premium, cor branco fosco","L",0.33,19.474999999999998,6.4267499999999993,null,null,140000]
[null,null,null,null,null,"","",null,null,140000]
["SF-00104",{"$f":"INDEX('Orçamentária-TR'!B:C,MATCH(Composições!A541,'Orçamentária-TR'!B:B,0),2)","v":"Cerâmica para revestimento de superfícies internas ou externas – Linha Administrativa"},null,{"$f":"TRIM(INDEX('Orçamentária-TR'!D:D,MATCH(Composições!A541,'Orçamentária-TR'!B:B,0),1))","v":"m2"},null,"","",null,null,860]
[null,null,null,null,null,"","",null,null,860]
[null,null,"REVESTIMENTO EM CERAMICA ESMALTADA EXTRA, PEI MAIOR OU IGUAL 4, FORMATO MAIOR A 2025 CM2","m2",1.08,40.336999999999996,43.563960000000002,{"$f":"SUM(G543:G547)","v":68.201260000000005},null,860]
[null,null,"Argamassa colante AC II","kg",6.14,0.72199999999999998,4.4330799999999995,null,null,860]
[null,null,"Rejunte cimenticio, qualquer cor","kg",0.22,2.2799999999999998,0.50159999999999993,null,null,860]
[null,null,"Azulejista ou ladrilhista com encargos complementares","h",0.66,21.260999999999999,14.032260000000001,null,null,860]
[null,null,"Servente com Encargos Complementares","h",0.36,15.750999999999998,5.6703599999999987,null,null,860]
[null,null,null,null,null,"","",null,null,860]
["SF-00105",{"$f":"INDEX('Orçamentária-TR'!B:C,MATCH(Composições!A549,'Orçamentária-TR'!B:B,0),2)","v":{"$error":"#N/A"}},null,{"$f":"TRIM(INDEX('Orçamentária-TR'!C:C,MATCH(Composições!A549,'Orçamentária-TR'!A:A,0),1))","v":{"$error":"#N/A"}},null,"","",null,null,0]
[null,null,null,null,null,"","",null,null,0]
[null,null,"ARGAMASSA TRAÇO 1:4 (EM VOLUME DE CIMENTO E AREIA MÉDIA ÚMIDA) PARA CONTRAPISO, PREPARO MANUAL. AF_08/2019","m3",5.2999999999999999E-2,507.65320049999991,26.905619626499995,{"$f":"SUM(G551:G555)","v":42.58071462649999},null,0]
[null,null,"Pedreiro com Encargos Complementares","h",0.36,21.327499999999997,7.6778999999999984,null,null,0]
[null,null,"Servente com Encargos Complementares","h",0.18,15.750999999999998,2.8351799999999994,null,null,0]
[null,null,"Cimento Portland composto CP II-32","kg",0.5,0.38949999999999996,0.19474999999999998,null,null,0]
[null,null,"Aditivo adesivo liquido para argamassas de revestimentos cimenticios","L",0.435,11.418999999999999,4.9672649999999994,null,null,0]
[null,null,null,null,null,"","",null,null,0]
["SF-00106",{"$f":"INDEX('Orçamentária-TR'!B:C,MATCH(Composições!A557,'Orçamentária-TR'!B:B,0),2)","v":"Contrapiso em argamassa (e=2cm) ou Regularização de contrapiso existente"},null,{"$f":"TRIM(INDEX('Orçamentária-TR'!D:D,MATCH(Composições!A557,'Orçamentária-TR'!B:B,0),1))","v":"m2"},null,"","",null,null,450]
[null,null,null,null,null,"","",null,null,450]
[null,null,"Cimento Portland composto CP II-32","kg",0.5,0.38949999999999996,0.19474999999999998,{"$f":"SUM(G559:G563)","v":29.368134215499992},null,450]
[null,null,"Aditivo adesivo liquido para argamassas de revestimentos cimenticios","L",0.435,11.418999999999999,4.9672649999999994,null,null,450]
[null,null,"ARGAMASSA TRAÇO 1:4 (EM VOLUME DE CIMENTO E AREIA MÉDIA ÚMIDA) PARA CONTRAPISO, PREPARO MANUAL. AF_08/2019","m3",3.1E-2,507.65320049999991,15.737249215499997,null,null,450]
[null,null,"Pedreiro com Encargos Complementares","h",0.28999999999999998,21.327499999999997,6.1849749999999988,null,null,450]
[null,null,"Servente com Encargos Complementares","h",0.14499999999999999,15.750999999999998,2.2838949999999993,null,null,450]
[null,null,null,null,null,"","",null,null,450]
["SF-00107",{"$f":"INDEX('Orçamentária-TR'!B:C,MATCH(Composições!A565,'Orçamentária-TR'!B:B,0),2)","v":"Granito cinza andorinha para piso"},null,{"$f":"TRIM(INDEX('Orçamentária-TR'!D:D,MATCH(Composições!A565,'Orçamentária-TR'!B:B,0),1))","v":"m2"},null,"","",null,null,420]
[null,null,null,null,null,"","",null,null,420]
[null,null,"Argamassa colante tipo AC III","kg",8.6199999999999992,1.1969999999999998,10.318139999999998,{"$f":"SUM(G567:G571)","v":249.93211199999996},null,420]
[null,null,"Marmorista/graniteiro com encargos complementares","h",1.1879999999999999,17.793499999999998,21.138677999999995,null,null,420]
[null,null,"Servente com Encargos Complementares","h",0.59399999999999997,15.750999999999998,9.3560939999999988,null,null,420]
[null,null,"Rejunte cimenticio, qualquer cor","kg",0.14000000000000001,2.2799999999999998,0.31919999999999998,null,null,420]
[null,null,"Granito Cinza Andorinha, com 20 mm de espessura, para piso","m2",1.1599999999999999,180,208.79999999999998,null,null,420]
[null,null,null,null,null,"","",null,null,420]
["SF-00108",{"$f":"INDEX('Orçamentária-TR'!B:C,MATCH(Composições!A573,'Orçamentária-TR'!B:B,0),2)","v":"Granito Cinza Andorinha para rodapé"},null,{"$f":"TRIM(INDEX('Orçamentária-TR'!D:D,MATCH(Composições!A573,'Orçamentária-TR'!B:B,0),1))","v":"m2"},null,"","",null,null,200]
[null,null,null,null,null,"","",null,null,200]
[null,null,"Granito Cinza Andorinha, com 20 mm de espessura e 70 mm de altura, para rodapé","m",{"$f":"ROUND(1.04/0.07,4)","v":14.857100000000001},35.9,533.36989000000005,{"$f":"SUM(G575:G579)","v":623.24591299999997},null,200]
[null,null,"Argamassa colante tipo AC III","kg",{"$f":"ROUND(0.8614/0.1,4)","v":8.6140000000000008},1.1969999999999998,10.310957999999999,null,null,200]
[null,null,"Marmorista/graniteiro com encargos complementares","h",{"$f":"0.299/0.1","v":2.9899999999999998},17.793499999999998,53.202564999999993,null,null,200]
[null,null,"Servente com Encargos Complementares","h",{"$f":"0.15/0.1","v":1.4999999999999998},15.750999999999998,23.626499999999993,null,null,200]
[null,null,"Rejunte cimenticio, qualquer cor","kg",{"$f":"0.12/0.1","v":1.2},2.2799999999999998,2.7359999999999998,null,null,200]
[null,null,null,null,null,"","",null,null,200]
[null,null,"Obs: na pesquisa de preços do insumo, considerou-se 1 m de polimento a cada metro de rodapé.",null,null,"","",null,null,200]
[null,null,null,null,null,"","",null,null,200]
["SF-00109",{"$f":"INDEX('Orçamentária-TR'!B:C,MATCH(Composições!A583,'Orçamentária-TR'!B:B,0),2)","v":"Granito Cinza Andorinha para soleira e peitoril"},null,{"$f":"TRIM(INDEX('Orçamentária-TR'!D:D,MATCH(Composições!A583,'Orçamentária-TR'!B:B,0),1))","v":"m2"},null,"","",null,null,100]
[null,null,null,null,null,"","",null,null,100]
[null,null,"Granito Cinza Andorinha, com 20 mm de espessura e 150 mm de altura, para soleira e peitoril","m",{"$f":"ROUND(1/0.15,4)","v":6.6666999999999996},46.48,309.86821599999996,{"$f":"SUM(G585:G588)","v":413.7167924499999},null,100]
[null,null,"Argamassa colante tipo AC III","kg",{"$f":"1.29/0.15","v":8.6000000000000014},1.1969999999999998,10.2942,null,null,100]
[null,null,"Marmorista/graniteiro com encargos complementares","h",{"$f":"ROUND(0.547/0.15,4)","v":3.6467000000000001},17.793499999999998,64.887556449999991,null,null,100]
[null,null,"Servente com Encargos Complementares","h",{"$f":"ROUND(0.273/0.15,4)","v":1.82},15.750999999999998,28.666819999999998,null,null,100]
[null,null,null,null,null,"","",null,null,100]
[null,null,"Obs: na pesquisa de preços do insumo, considerou-se 1 m de polimento a cada metro de soleira.",null,null,"","",null,null,100]
[null,null,null,null,null,"","",null,null,100]
["SF-00110",{"$f":"INDEX('Orçamentária-TR'!B:C,MATCH(Composições!A592,'Orçamentária-TR'!B:B,0),2)","v":"Granito Preto São Gabriel para piso"},null,{"$f":"TRIM(INDEX('Orçamentária-TR'!D:D,MATCH(Composições!A592,'Orçamentária-TR'!B:B,0),1))","v":"m2"},null,"","",null,null,60]
[null,null,null,null,null,"","",null,null,60]
[null,null,"Argamassa colante tipo AC III","kg",8.6199999999999992,1.1969999999999998,10.318139999999998,{"$f":"SUM(G594:G598)","v":365.93211199999996},null,60]
[null,null,"Marmorista/graniteiro com encargos complementares","h",1.1879999999999999,17.793499999999998,21.138677999999995,null,null,60]
[null,null,"Servente com Encargos Complementares","h",0.59399999999999997,15.750999999999998,9.3560939999999988,null,null,60]
[null,null,"Rejunte cimenticio, qualquer cor","kg",0.14000000000000001,2.2799999999999998,0.31919999999999998,null,null,60]
[null,null,"Granito Preto São Gabriel, com 20 mm de espessura, para piso","m2",1.1599999999999999,280,{"$f":"IF(ISNUMBER(F598),E598*F598,\"\")","v":324.79999999999995},null,null,60]
[null,null,null,null,null,"","",null,null,60]
["SF-00111",{"$f":"INDEX('Orçamentária-TR'!B:C,MATCH(Composições!A600,'Orçamentária-TR'!B:B,0),2)","v":"Granito Preto São Gabriel para rodapé"},null,{"$f":"TRIM(INDEX('Orçamentária-TR'!D:D,MATCH(Composições!A600,'Orçamentária-TR'!B:B,0),1))","v":"m2"},null,"","",null,null,20]
[null,null,null,null,null,"","",null,null,20]
[null,null,"Granito Preto São Gabriel, com 20 mm de espessura e 70 mm de altura, para rodapé","m",{"$f":"ROUND(1.04/0.07,2)","v":14.86},45,668.69999999999993,{"$f":"SUM(G602:G606)","v":758.57602299999985},null,20]
[null,null,"Argamassa colante tipo AC III","kg",{"$f":"ROUND(0.8614/0.1,4)","v":8.6140000000000008},1.1969999999999998,10.310957999999999,null,null,20]
[null,null,"Marmorista/graniteiro com encargos complementares","h",{"$f":"0.299/0.1","v":2.9899999999999998},17.793499999999998,53.202564999999993,null,null,20]
[null,null,"Servente com Encargos Complementares","h",{"$f":"0.15/0.1","v":1.4999999999999998},15.750999999999998,23.626499999999993,null,null,20]
[null,null,"Rejunte cimenticio, qualquer cor","kg",{"$f":"0.12/0.1","v":1.2},2.2799999999999998,2.7359999999999998,null,null,20]
[null,null,null,null,null,"","",null,null,20]
[null,null,"Obs: na pesquisa de preços do insumo, considerou-se 1 m de polimento a cada metro de rodapé.",null,null,"","",null,null,20]
[null,null,null,null,null,"","",null,null,20]
["SF-00112",{"$f":"INDEX('Orçamentária-TR'!B:C,MATCH(Composições!A610,'Orçamentária-TR'!B:B,0),2)","v":"Granito Preto São Gabriel para soleira e peitoril"},null,{"$f":"TRIM(INDEX('Orçamentária-TR'!D:D,MATCH(Composições!A610,'Orçamentária-TR'!B:B,0),1))","v":"m2"},null,"","",null,null,20]
[null,null,null,null,null,"","",null,null,20]
[null,null,"Granito Preto São Gabriel, com 20 mm de espessura e 150 mm de altura, para soleira e peitoril","m",{"$f":"ROUND(1/0.15,4)","v":6.6666999999999996},59.33,395.53531099999998,{"$f":"SUM(G612:G615)","v":499.38388744999992},null,20]
[null,null,"Argamassa colante tipo AC III","kg",{"$f":"ROUND(1.29/0.15,4)","v":8.6},1.1969999999999998,10.294199999999998,null,null,20]
[null,null,"Marmorista/graniteiro com encargos complementares","h",{"$f":"ROUND(0.547/0.15,4)","v":3.6467000000000001},17.793499999999998,64.887556449999991,null,null,20]
[null,null,"Servente com Encargos Complementares","h",{"$f":"ROUND(0.273/0.15,4)","v":1.82},15.750999999999998,28.666819999999998,null,null,20]
[null,null,null,null,null,"","",null,null,20]
[null,null,"Obs: na pesquisa de preços do insumo, considerou-se 1 m de polimento a cada metro de soleira.",null,null,"","",null,null,20]
[null,null,null,null,null,"","",null,null,20]
["SF-00113",{"$f":"INDEX('Orçamentária-TR'!B:C,MATCH(Composições!A619,'Orçamentária-TR'!B:B,0),2)","v":{"$error":"#N/A"}},null,{"$f":"TRIM(INDEX('Orçamentária-TR'!C:C,MATCH(Composições!A619,'Orçamentária-TR'!A:A,0),1))","v":{"$error":"#N/A"}},null,"","",null,null,0]
[null,null,null,null,null,"","",null,null,0]
[null,null,"Cola A Base De Resina Sintetica Para Chapa De Laminado Melaminico","kg",0.04,28.984500000000001,1.1593800000000001,{"$f":"SUM(G621:G623)","v":7.1500799999999991},null,0]
[null,null,"Ajudante especializado com encargos complementares","h",0.15,18.715,2.8072499999999998,null,null,0]
[null,null,"Carpinteiro de esquadria com encargos complementares","h",0.15,21.222999999999999,3.1834499999999997,null,null,0]
[null,null,null,null,null,"","",null,null,0]
["SF-00114",{"$f":"INDEX('Orçamentária-TR'!B:C,MATCH(Composições!A625,'Orçamentária-TR'!B:B,0),2)","v":"Mármore Bege Bahia para piso e parede"},null,{"$f":"TRIM(INDEX('Orçamentária-TR'!D:D,MATCH(Composições!A625,'Orçamentária-TR'!B:B,0),1))","v":"m2"},null,"","",null,null,30]
[null,null,null,null,null,"","",null,null,30]
[null,null,"Argamassa colante tipo AC III","kg",8.6199999999999992,1.1969999999999998,10.318139999999998,{"$f":"SUM(G627:G631)","v":319.53211199999998},null,30]
[null,null,"Marmorista/graniteiro com encargos complementares","h",1.1879999999999999,17.793499999999998,21.138677999999995,null,null,30]
[null,null,"Servente com Encargos Complementares","h",0.59399999999999997,15.750999999999998,9.3560939999999988,null,null,30]
[null,null,"Rejunte cimenticio, qualquer cor","kg",0.14000000000000001,2.2799999999999998,0.31919999999999998,null,null,30]
[null,null,"Mármore Bege Bahia, com 20 mm de espessura, para piso e parede","m2",1.1599999999999999,240,278.39999999999998,null,null,30]
[null,null,null,null,null,"","",null,null,30]
["SF-00115",{"$f":"INDEX('Orçamentária-TR'!B:C,MATCH(Composições!A633,'Orçamentária-TR'!B:B,0),2)","v":"Mármore Branco Especial para piso e parede"},null,{"$f":"TRIM(INDEX('Orçamentária-TR'!D:D,MATCH(Composições!A633,'Orçamentária-TR'!B:B,0),1))","v":"m2"},null,"","",null,null,100]
[null,null,null,null,null,"","",null,null,100]
[null,null,"Argamassa colante tipo AC III","kg",8.6199999999999992,1.1969999999999998,10.318139999999998,{"$f":"SUM(G635:G639)","v":563.13211200000001},null,100]
[null,null,"Marmorista/graniteiro com encargos complementares","h",1.1879999999999999,17.793499999999998,21.138677999999995,null,null,100]
[null,null,"Servente com Encargos Complementares","h",0.59399999999999997,15.750999999999998,9.3560939999999988,null,null,100]
[null,null,"Rejunte cimenticio, qualquer cor","kg",0.14000000000000001,2.2799999999999998,0.31919999999999998,null,null,100]
[null,null,"Mármore Branco Especial, com 20 mm de espessura, para piso e parede","m2",1.1599999999999999,450,522,null,null,100]
[null,null,null,null,null,"","",null,null,100]
["SF-00116",{"$f":"INDEX('Orçamentária-TR'!B:C,MATCH(Composições!A641,'Orçamentária-TR'!B:B,0),2)","v":"Rodapé de madeira"},null,{"$f":"TRIM(INDEX('Orçamentária-TR'!D:D,MATCH(Composições!A641,'Orçamentária-TR'!B:B,0),1))","v":"m"},null,"","",null,null,300]
[null,null,null,null,null,"","",null,null,300]
[null,null,"Ajudante especializado com encargos complementares","h",0.15,18.715,2.8072499999999998,{"$f":"SUM(G643:G646)","v":17.062284999999999},null,300]
[null,null,"Carpinteiro de esquadria com encargos complementares","h",0.15,21.222999999999999,3.1834499999999997,null,null,300]
[null,null,"Cola a base de resina sintetica para chapa de laminado melaminico","kg",0.04,28.984500000000001,1.1593800000000001,null,null,300]
[null,null,"Rodape de madeira macica cumaru/ipe champanhe ou equivalente da regiao, *1,5 x 7 cm","m",1.03,9.6234999999999999,9.9122050000000002,null,null,300]
[null,null,null,null,null,"","",null,null,300]
["SF-00117",{"$f":"INDEX('Orçamentária-TR'!B:C,MATCH(Composições!A648,'Orçamentária-TR'!B:B,0),2)","v":{"$error":"#N/A"}},null,{"$f":"TRIM(INDEX('Orçamentária-TR'!C:C,MATCH(Composições!A648,'Orçamentária-TR'!A:A,0),1))","v":{"$error":"#N/A"}},null,"","",null,null,0]
[null,null,null,null,null,"","",null,null,0]
[null,null,"Marmorista/graniteiro com encargos complementares","h",2,17.793499999999998,35.586999999999996,{"$f":"SUM(G650:G650)","v":35.586999999999996},null,0]
[null,null,null,null,null,"","",null,null,0]
["SF-00118",{"$f":"INDEX('Orçamentária-TR'!B:C,MATCH(Composições!A652,'Orçamentária-TR'!B:B,0),2)","v":{"$error":"#N/A"}},null,{"$f":"TRIM(INDEX('Orçamentária-TR'!C:C,MATCH(Composições!A652,'Orçamentária-TR'!A:A,0),1))","v":{"$error":"#N/A"}},null,"","",null,null,0]
[null,null,null,null,null,"","",null,null,0]
[null,null,"Marmorista/graniteiro com encargos complementares","h",1.75,17.793499999999998,31.138624999999998,{"$f":"SUM(G654:G654)","v":31.138624999999998},null,0]
[null,null,null,null,null,"","",null,null,0]
["SF-00119",{"$f":"INDEX('Orçamentária-TR'!B:C,MATCH(Composições!A656,'Orçamentária-TR'!B:B,0),2)","v":{"$error":"#N/A"}},null,{"$f":"TRIM(INDEX('Orçamentária-TR'!C:C,MATCH(Composições!A656,'Orçamentária-TR'!A:A,0),1))","v":{"$error":"#N/A"}},null,"","",null,null,0]
[null,null,null,null,null,"","",null,null,0]
[null,null,"Marmorista/graniteiro com encargos complementares","h",1,17.793499999999998,17.793499999999998,{"$f":"SUM(G658:G658)","v":17.793499999999998},null,0]
[null,null,null,null,null,"","",null,null,0]
["SF-00120",{"$f":"INDEX('Orçamentária-TR'!B:C,MATCH(Composições!A660,'Orçamentária-TR'!B:B,0),2)","v":{"$error":"#N/A"}},null,{"$f":"TRIM(INDEX('Orçamentária-TR'!C:C,MATCH(Composições!A660,'Orçamentária-TR'!A:A,0),1))","v":{"$error":"#N/A"}},null,"","",null,null,0]
[null,null,null,null,null,"","",null,null,0]
[null,null,"Marmorista/graniteiro com encargos complementares","h",1.25,17.793499999999998,{"$f":"IF(ISNUMBER(F662),E662*F662,\"\")","v":22.241874999999997},{"$f":"SUM(G662:G662)","v":22.241874999999997},null,0]
[null,null,null,null,null,"","",null,null,0]
["SF-00121",{"$f":"INDEX('Orçamentária-TR'!B:C,MATCH(Composições!A664,'Orçamentária-TR'!B:B,0),2)","v":{"$error":"#N/A"}},null,{"$f":"TRIM(INDEX('Orçamentária-TR'!C:C,MATCH(Composições!A664,'Orçamentária-TR'!A:A,0),1))","v":{"$error":"#N/A"}},null,"","",null,null,0]
[null,null,null,null,null,"","",null,null,0]
[null,null,"ABERTURA PARA ENCAIXE DE CUBA OU LAVATORIO EM BANCADA DE MARMORE/ GRANITO OU OUTRO TIPO DE PEDRA NATURAL","un",1,69.939000000000007,69.939000000000007,{"$f":"SUM(G666:G666)","v":69.939000000000007},null,0]
[null,null,null,null,null,"","",null,null,0]
["SF-00122",{"$f":"INDEX('Orçamentária-TR'!B:C,MATCH(Composições!A668,'Orçamentária-TR'!B:B,0),2)","v":{"$error":"#N/A"}},null,{"$f":"TRIM(INDEX('Orçamentária-TR'!C:C,MATCH(Composições!A668,'Orçamentária-TR'!A:A,0),1))","v":{"$error":"#N/A"}},null,"","",null,null,0]
[null,null,null,null,null,"","",null,null,0]
[null,null,"FURO PARA TORNEIRA OU OUTROS ACESSORIOS  EM BANCADA DE MARMORE/ GRANITO OU OUTRO TIPO DE PEDRA NATURAL","un",1,10.488,10.488,{"$f":"SUM(G670:G670)","v":10.488},null,0]
[null,null,null,null,null,"","",null,null,0]
["SF-00123",{"$f":"INDEX('Orçamentária-TR'!B:C,MATCH(Composições!A672,'Orçamentária-TR'!B:B,0),2)","v":{"$error":"#N/A"}},null,{"$f":"TRIM(INDEX('Orçamentária-TR'!C:C,MATCH(Composições!A672,'Orçamentária-TR'!A:A,0),1))","v":{"$error":"#N/A"}},null,"","",null,null,0]
[null,null,null,null,null,"","",null,null,0]
[null,null,"Granito Cinza Andorinha ou equivalente, com 20 mm de espessura e 150 mm de altura, polido, para rodabancada","m",{"$f":"ROUND(1.04/0.15,4)","v":6.9333},"","",{"$f":"SUM(G674:G678)","v":58.092795449999997},null,0]
[null,null,"Argamassa colante tipo ACIII","kg",{"$f":"ROUND(0.8614/0.15,4)","v":5.7427000000000001},1.1969999999999998,6.8740118999999993,null,null,0]
[null,null,"Marmorista/graniteiro com encargos complementares","h",{"$f":"ROUND(0.299/0.15,4)","v":1.9933000000000001},17.793499999999998,35.46778355,null,null,0]
[null,null,"Servente com Encargos Complementares","h",{"$f":"0.15/0.15","v":1},15.750999999999998,15.750999999999998,null,null,0]
[null,null,"Rejunte branco, cimenticio","kg",{"$f":"0.12/0.15","v":0.8},"","",null,null,0]
[null,null,null,null,null,"","",null,null,0]
["SF-00124",{"$f":"INDEX('Orçamentária-TR'!B:C,MATCH(Composições!A680,'Orçamentária-TR'!B:B,0),2)","v":{"$error":"#N/A"}},null,{"$f":"TRIM(INDEX('Orçamentária-TR'!C:C,MATCH(Composições!A680,'Orçamentária-TR'!A:A,0),1))","v":{"$error":"#N/A"}},null,"","",null,null,0]
[null,null,null,null,null,"","",null,null,0]
[null,null,"Granito Cinza Andorinha, com 20 mm de espessura, polido, para bancadas, com testeira com acabamento em meia esquadria","m2",1,"","",{"$f":"SUM(G682:G686)","v":52.575517499999997},null,0]
[null,null,"Cantoneira ferro galvanizado de abas iguais, 1\" x 1/8\" (L x E) , 1,20kg/m","m",0.6,6.8114999999999997,4.0869,null,null,0]
[null,null,"Rejunte epoxi branco","kg",{"$f":"0.0351/1.5/0.6","v":3.9E-2},48.164999999999999,1.8784349999999999,null,null,0]
[null,null,"Marmorista/graniteiro com encargos complementares","h",{"$f":"ROUND(1.49/1.5/0.6,4)","v":1.6556},17.793499999999998,29.458918599999997,null,null,0]
[null,null,"Servente com Encargos Complementares","h",{"$f":"ROUND(0.98/1.5/0.6,4)","v":1.0889},15.750999999999998,17.151263899999996,null,null,0]
[null,null,null,null,null,"","",null,null,0]
["SF-00125",{"$f":"INDEX('Orçamentária-TR'!B:C,MATCH(Composições!A688,'Orçamentária-TR'!B:B,0),2)","v":{"$error":"#N/A"}},null,{"$f":"TRIM(INDEX('Orçamentária-TR'!C:C,MATCH(Composições!A688,'Orçamentária-TR'!A:A,0),1))","v":{"$error":"#N/A"}},null,"","",null,null,0]
[null,null,null,null,null,"","",null,null,0]
[null,null,"Cimento branco","kg",0.7,2.3180000000000001,1.6226,{"$f":"SUM(G690:G694)","v":124.63169115084997},null,0]
[null,null,"Granito Cinza Andorinha ou equivalente, com 20 mm de espessura, polido em todas as faces aparentes, para divisórias","m2",1,"","",null,null,0]
[null,null,"Marmorista/graniteiro com encargos complementares","h",4.8,17.793499999999998,85.408799999999985,null,null,0]
[null,null,"Servente com Encargos Complementares","h",2.2999999999999998,15.750999999999998,36.227299999999993,null,null,0]
[null,null,"ARGAMASSA TRAÇO 1:4 (EM VOLUME DE CIMENTO E AREIA MÉDIA ÚMIDA), PREPARO MANUAL. AF_08/2019","m3",3.3E-3,416.05792449999996,1.3729911508499999,null,null,0]
[null,null,null,null,null,"","",null,null,0]
["SF-00126",{"$f":"INDEX('Orçamentária-TR'!B:C,MATCH(Composições!A696,'Orçamentária-TR'!B:B,0),2)","v":{"$error":"#N/A"}},null,{"$f":"TRIM(INDEX('Orçamentária-TR'!C:C,MATCH(Composições!A696,'Orçamentária-TR'!A:A,0),1))","v":{"$error":"#N/A"}},null,"","",null,null,0]
[null,null,null,null,null,"","",null,null,0]
[null,null,"Granito Preto São Gabriel ou equivalente, com 20 mm de espessura e 150 mm de altura, polido, para rodabancada","m",{"$f":"ROUND(1.04/0.15,4)","v":6.9333},"","",{"$f":"SUM(G698:G702)","v":58.092795449999997},null,0]
[null,null,"Argamassa colante tipo ACIII","kg",{"$f":"ROUND(0.8614/0.15,4)","v":5.7427000000000001},1.1969999999999998,6.8740118999999993,null,null,0]
[null,null,"Marmorista/graniteiro com encargos complementares","h",{"$f":"ROUND(0.299/0.15,4)","v":1.9933000000000001},17.793499999999998,35.46778355,null,null,0]
[null,null,"Servente com Encargos Complementares","h",{"$f":"0.15/0.15","v":1},15.750999999999998,15.750999999999998,null,null,0]
[null,null,"Rejunte branco, cimenticio","kg",{"$f":"0.12/0.15","v":0.8},"","",null,null,0]
[null,null,null,null,null,"","",null,null,0]
["SF-00127",{"$f":"INDEX('Orçamentária-TR'!B:C,MATCH(Composições!A704,'Orçamentária-TR'!B:B,0),2)","v":{"$error":"#N/A"}},null,{"$f":"TRIM(INDEX('Orçamentária-TR'!C:C,MATCH(Composições!A704,'Orçamentária-TR'!A:A,0),1))","v":{"$error":"#N/A"}},null,"","",null,null,0]
[null,null,null,null,null,"","",null,null,0]
[null,null,"Granito Preto São Gabriel ou equivalente, com 20 mm de espessura, polido, com testeira para acabamento em meia esquadria, para bancadas","m2",1.0049999999999999,"","",{"$f":"SUM(G706:G710)","v":52.623682499999994},null,0]
[null,null,"Cantoneira ferro galvanizado de abas iguais, 1\" x 1/8\" (L x E) , 1,20kg/m","m",0.6,6.8114999999999997,4.0869,null,null,0]
[null,null,"Rejunte epoxi branco","kg",{"$f":"ROUND(0.0351/1.5/0.6,2)","v":0.04},48.164999999999999,1.9266000000000001,null,null,0]
[null,null,"Marmorista/graniteiro com encargos complementares","h",{"$f":"ROUND(1.49/1.5/0.6,4)","v":1.6556},17.793499999999998,29.458918599999997,null,null,0]
[null,null,"Servente com Encargos Complementares","h",{"$f":"ROUND(0.98/1.5/0.6,4)","v":1.0889},15.750999999999998,17.151263899999996,null,null,0]
[null,null,null,null,null,"","",null,null,0]
["SF-00128",{"$f":"INDEX('Orçamentária-TR'!B:C,MATCH(Composições!A712,'Orçamentária-TR'!B:B,0),2)","v":{"$error":"#N/A"}},null,{"$f":"TRIM(INDEX('Orçamentária-TR'!C:C,MATCH(Composições!A712,'Orçamentária-TR'!A:A,0),1))","v":{"$error":"#N/A"}},null,"","",null,null,0]
[null,null,null,null,null,"","",null,null,0]
[null,null,"Cantoneira ferro galvanizado de abas iguais, 1\" x 1/8\" (L x E) , 1,20kg/m","m",0.6,6.8114999999999997,4.0869,{"$f":"SUM(G714:G717)","v":52.575517499999997},null,0]
[null,null,"Rejunte epoxi branco","kg",{"$f":"ROUND(0.0351/1.5/0.6,4)","v":3.9E-2},48.164999999999999,1.8784349999999999,null,null,0]
[null,null,"Marmorista/graniteiro com encargos complementares","h",{"$f":"ROUND(1.49/1.5/0.6,4)","v":1.6556},17.793499999999998,29.458918599999997,null,null,0]
[null,null,"Servente com Encargos Complementares","h",{"$f":"ROUND(0.98/1.5/0.6,4)","v":1.0889},15.750999999999998,17.151263899999996,null,null,0]
[null,null,null,null,null,"","",null,null,0]
["SF-00129",{"$f":"INDEX('Orçamentária-TR'!B:C,MATCH(Composições!A719,'Orçamentária-TR'!B:B,0),2)","v":{"$error":"#N/A"}},null,{"$f":"TRIM(INDEX('Orçamentária-TR'!C:C,MATCH(Composições!A719,'Orçamentária-TR'!A:A,0),1))","v":{"$error":"#N/A"}},null,"","",null,null,0]
[null,null,null,null,null,"","",null,null,0]
[null,null,"Argamassa colante tipo ACIII","kg",{"$f":"0.8614","v":0.86140000000000005},1.1969999999999998,1.0310957999999999,{"$f":"SUM(G721:G724)","v":8.7140022999999989},null,0]
[null,null,"Marmorista/graniteiro com encargos complementares","h",{"$f":"0.299","v":0.29899999999999999},17.793499999999998,5.3202564999999993,null,null,0]
[null,null,"Servente com Encargos Complementares","h",{"$f":"0.15","v":0.15},15.750999999999998,2.3626499999999995,null,null,0]
[null,null,"Rejunte branco, cimenticio","kg",{"$f":"0.12","v":0.12},"","",null,null,0]
[null,null,null,null,null,"","",null,null,0]
["SF-00130",{"$f":"INDEX('Orçamentária-TR'!B:C,MATCH(Composições!A726,'Orçamentária-TR'!B:B,0),2)","v":{"$error":"#N/A"}},null,{"$f":"TRIM(INDEX('Orçamentária-TR'!C:C,MATCH(Composições!A726,'Orçamentária-TR'!A:A,0),1))","v":{"$error":"#N/A"}},null,"",{"$f":"IF(ISNUMBER(F726),E726*F726,\"\")","v":""},null,null,0]
[null,null,null,null,null,"","",null,null,0]
[null,null,"Marmorista/graniteiro com encargos complementares","h",1.1879999999999999,17.793499999999998,21.138677999999995,{"$f":"SUM(G728:G730)","v":40.81291199999999},null,0]
[null,null,"Servente com Encargos Complementares","h",0.59399999999999997,15.750999999999998,9.3560939999999988,null,null,0]
[null,null,"Argamassa colante tipo ACIII","kg",8.6199999999999992,1.1969999999999998,10.318139999999998,null,null,0]
[null,null,null,null,null,"","",null,null,0]
["SF-00131",{"$f":"INDEX('Orçamentária-TR'!B:C,MATCH(Composições!A732,'Orçamentária-TR'!B:B,0),2)","v":{"$error":"#N/A"}},null,{"$f":"TRIM(INDEX('Orçamentária-TR'!C:C,MATCH(Composições!A732,'Orçamentária-TR'!A:A,0),1))","v":{"$error":"#N/A"}},null,"","",null,null,0]
[null,null,null,null,null,"","",null,null,0]
[null,null,"Mármore Branco Especial, com 20 mm de espessura e 150 mm de altura, polido, para rodabancada","m",{"$f":"ROUND(1.04/0.15,4)","v":6.9333},"","",{"$f":"SUM(G734:G738)","v":40.81291199999999},null,0]
[null,null,"Argamassa colante tipo ACIII","kg",8.6199999999999992,1.1969999999999998,10.318139999999998,null,null,0]
[null,null,"Marmorista/graniteiro com encargos complementares","h",1.1879999999999999,17.793499999999998,21.138677999999995,null,null,0]
[null,null,"Servente com Encargos Complementares","h",0.59399999999999997,15.750999999999998,9.3560939999999988,null,null,0]
[null,null,"Rejunte branco, cimenticio","kg",0.14000000000000001,"","",null,null,0]
[null,null,null,null,null,"","",null,null,0]
["SF-00138",{"$f":"INDEX('Orçamentária-TR'!B:C,MATCH(Composições!A740,'Orçamentária-TR'!B:B,0),2)","v":{"$error":"#N/A"}},null,{"$f":"TRIM(INDEX('Orçamentária-TR'!C:C,MATCH(Composições!A740,'Orçamentária-TR'!A:A,0),1))","v":{"$error":"#N/A"}},null,"","",null,null,0]
[null,null,null,null,null,"","",null,null,0]
[null,null,"Instalação de divisórias # 35 mm estruturadas em perfis de alumínio, mão de obra para execução","h",1,0,0,{"$f":"SUM(G742:G742)","v":0},null,0]
[null,null,null,null,null,"","",null,null,0]
["SF-00139",{"$f":"INDEX('Orçamentária-TR'!B:C,MATCH(Composições!A744,'Orçamentária-TR'!B:B,0),2)","v":"Alçapão em forro de gesso acartonado"},null,{"$f":"TRIM(INDEX('Orçamentária-TR'!D:D,MATCH(Composições!A744,'Orçamentária-TR'!B:B,0),1))","v":"m2"},null,"","",null,null,195]
[null,null,null,null,null,"","",null,null,195]
[null,null,"Perfil tipo cantoneira em L, em aco galvanizado, branco, para forro removivel, *23* x 3000 mm (L x C)","m",{"$f":"2*(1.5+0.67)","v":4.34},2.5840000000000001,11.214560000000001,{"$f":"SUM(G746:G749)","v":113.65855999999999},null,195]
[null,null,"Placa de PVC com espessura mínima de 5 mm na cor branca","m2",{"$f":"0.36/0.6/0.6","v":1},65.47,65.47,null,null,195]
[null,null,"Gesseiro com encargos complementares","h",1,21.222999999999999,21.222999999999999,null,null,195]
[null,null,"Servente com Encargos Complementares","h",1,15.750999999999998,15.750999999999998,null,null,195]
[null,null,null,null,null,"","",null,null,195]
["SF-00140",{"$f":"INDEX('Orçamentária-TR'!B:C,MATCH(Composições!A751,'Orçamentária-TR'!B:B,0),2)","v":"Forro de PVC em réguas de 100 x 6000mm"},null,{"$f":"TRIM(INDEX('Orçamentária-TR'!D:D,MATCH(Composições!A751,'Orçamentária-TR'!B:B,0),1))","v":"m2"},null,"","",null,null,180]
[null,null,null,null,null,"","",null,null,180]
[null,null,"ARAME GALVANIZADO 6 BWG, D = 5,16 MM (0,157 KG/M), OU 8 BWG, D = 4,19 MM (0,101 KG/M), OU 10 BWG, D = 3,40 MM (0,0713 KG/M)","kg",4.2599999999999999E-2,14.430499999999999,0.61473929999999988,{"$f":"SUM(G753:G760)","v":36.483157799999994},null,180]
[null,null,"Forro de PVC, frisado, branco, regua de 10 cm, espessura de 8 mm a 10 mm e comprimento 6 m (sem colocacao)","m2",1.0955999999999999,11.399999999999999,12.489839999999997,null,null,180]
[null,null,"Perfil canaleta, formato C, em aco zincado, para estrutura forro drywall, E = 0,5 mm, *46 x 18* (L x H), comprimento 3 m","m",3.8498999999999999,3.0779999999999998,11.849992199999999,null,null,180]
[null,null,"Pendural ou presilha reguladora, em aco galvanizado, com corpo, mola e rebite, para perfil tipo canaleta de estrutura em forros drywall","un",1.3265,1.159,1.5374135,null,null,180]
[null,null,"Parafuso dry wall, em aco zincado, cabeca lentilha e ponta broca (LB), largura 4,2 mm, comprimento 13 mm","un",2.1911999999999998,0.18049999999999999,0.39551159999999996,null,null,180]
[null,null,"PARAFUSO ZINCADO, AUTOBROCANTE, FLANGEADO, 4,2 MM X 19 MM","cento",1.32E-2,20.624500000000001,0.27224340000000002,null,null,180]
[null,null,"PARAFUSO, AUTO ATARRACHANTE, CABECA CHATA, FENDA SIMPLES, 1/4\u0094 (6,35 MM) X 25 MM","cento",3.3300000000000003E-2,35.358999999999995,1.1774547,null,null,180]
[null,null,"Montador de estrutura metálica com encargos complementares","h",0.49940000000000001,16.311500000000002,8.1459631000000012,null,null,180]
[null,null,null,null,null,"","",null,null,180]
["SF-00141",{"$f":"INDEX('Orçamentária-TR'!B:C,MATCH(Composições!A762,'Orçamentária-TR'!B:B,0),2)","v":"Forro de PVC em réguas de 100 x 6000mm, sem estrutura"},null,{"$f":"TRIM(INDEX('Orçamentária-TR'!D:D,MATCH(Composições!A762,'Orçamentária-TR'!B:B,0),1))","v":"m2"},null,"","",null,null,360]
[null,null,null,null,null,"","",null,null,360]
[null,null,"Forro de PVC, frisado, branco, regua de 10 cm, espessura de 8 mm a 10 mm e comprimento 6 m (sem colocacao)","m2",1.0955999999999999,11.399999999999999,12.489839999999997,{"$f":"SUM(G764:G766)","v":15.328814299999998},null,360]
[null,null,"Parafuso dry wall, em aco zincado, cabeca lentilha e ponta broca (LB), largura 4,2 mm, comprimento 13 mm","un",2.1911999999999998,0.18049999999999999,0.39551159999999996,null,null,360]
[null,null,"Montador de estrutura metálica com encargos complementares","h",{"$f":"ROUND(0.4994*0.3,4)","v":0.14979999999999999},16.311500000000002,2.4434627,null,null,360]
[null,null,null,null,null,"","",null,null,360]
["SF-00142",{"$f":"INDEX('Orçamentária-TR'!B:C,MATCH(Composições!A768,'Orçamentária-TR'!B:B,0),2)","v":"Forro de PVC modular em placas"},null,{"$f":"TRIM(INDEX('Orçamentária-TR'!D:D,MATCH(Composições!A768,'Orçamentária-TR'!B:B,0),1))","v":"m2"},null,"","",null,null,150]
[null,null,null,null,null,"","",null,null,150]
[null,null,"ARAME GALVANIZADO 6 BWG, D = 5,16 MM (0,157 KG/M), OU 8 BWG, D = 4,19 MM (0,101 KG/M), OU 10 BWG, D = 3,40 MM (0,0713 KG/M)","kg",4.2599999999999999E-2,14.430499999999999,0.61473929999999988,{"$f":"SUM(G770:G777)","v":61.287541799999985},null,150]
[null,null,"Forro de PVC modular em placas de 625 mm x 1250 mm","m2",1.0955999999999999,34.04,37.294223999999993,null,null,150]
[null,null,"Perfil canaleta, formato C, em aco zincado, para estrutura forro drywall, E = 0,5 mm, *46 x 18* (L x H), comprimento 3 m","m",3.8498999999999999,3.0779999999999998,11.849992199999999,null,null,150]
[null,null,"Pendural ou presilha reguladora, em aco galvanizado, com corpo, mola e rebite, para perfil tipo canaleta de estrutura em forros drywall","un",1.3265,1.159,1.5374135,null,null,150]
[null,null,"Parafuso dry wall, em aco zincado, cabeca lentilha e ponta broca (LB), largura 4,2 mm, comprimento 13 mm","un",2.1911999999999998,0.18049999999999999,0.39551159999999996,null,null,150]
[null,null,"PARAFUSO ZINCADO, AUTOBROCANTE, FLANGEADO, 4,2 MM X 19 MM","cento",1.32E-2,20.624500000000001,0.27224340000000002,null,null,150]
[null,null,"PARAFUSO, AUTO ATARRACHANTE, CABECA CHATA, FENDA SIMPLES, 1/4\u0094 (6,35 MM) X 25 MM","cento",3.3300000000000003E-2,35.358999999999995,1.1774547,null,null,150]
[null,null,"Montador de estrutura metálica com encargos complementares","h",0.49940000000000001,16.311500000000002,8.1459631000000012,null,null,150]
[null,null,null,null,null,"","",null,null,150]
["SF-00143",{"$f":"INDEX('Orçamentária-TR'!B:C,MATCH(Composições!A779,'Orçamentária-TR'!B:B,0),2)","v":"Forro em chapas metálicas"},null,{"$f":"TRIM(INDEX('Orçamentária-TR'!D:D,MATCH(Composições!A779,'Orçamentária-TR'!B:B,0),1))","v":"m2"},null,"","",null,null,1600]
[null,null,null,null,null,"","",null,null,1600]
[null,null,"Ajudante de operação em geral com encargos complementares","h",0.5,16.843499999999999,8.4217499999999994,{"$f":"SUM(G781:G784)","v":178.1575},null,1600]
[null,null,"Montador de estrutura metálica com encargos complementares","h",0.5,16.311500000000002,8.1557500000000012,null,null,1600]
[null,null,"Forro em chapa galvanizada","m2",1,121.58,121.58,null,null,1600]
[null,null,"Pintura eletrostática","m2",1,40,40,null,null,1600]
[null,null,null,null,null,"","",null,null,1600]
["SF-00144",{"$f":"INDEX('Orçamentária-TR'!B:C,MATCH(Composições!A786,'Orçamentária-TR'!B:B,0),2)","v":"Forro em gesso acartonado monolítico"},null,{"$f":"TRIM(INDEX('Orçamentária-TR'!D:D,MATCH(Composições!A786,'Orçamentária-TR'!B:B,0),1))","v":"m2"},null,"","",null,null,4000]
[null,null,null,null,null,"","",null,null,4000]
[null,null,"ARAME GALVANIZADO 6 BWG, D = 5,16 MM (0,157 KG/M), OU 8 BWG, D = 4,19 MM (0,101 KG/M), OU 10 BWG, D = 3,40 MM (0,0713 KG/M)","kg",4.2599999999999999E-2,14.430499999999999,0.61473929999999988,{"$f":"SUM(G788:G798)","v":55.418289899999998},null,4000]
[null,null,"Chapa de gesso acartonado, Standard (ST), cor branca, E = 12,5 mm, 1200 x 2400 mm (L x C)","m2",1.0966,20.177999999999997,22.127194799999998,null,null,4000]
[null,null,"Perfil canaleta, formato C, em aco zincado, para estrutura forro drywall, E = 0,5 mm, *46 x 18* (L x H), comprimento 3 m","m",3.851,3.0779999999999998,{"$f":"IF(ISNUMBER(F790),E790*F790,\"\")","v":11.853377999999999},null,null,4000]
[null,null,"Pendural ou presilha reguladora, em aco galvanizado, com corpo, mola e rebite, para perfil tipo canaleta de estrutura em forros drywall","un",1.3265,1.159,1.5374135,null,null,4000]
[null,null,"Fita de papel reforcada com lamina de metal para reforco de cantos de chapa de gesso para drywall","m",1.4395,2.9830000000000001,4.2940285000000005,null,null,4000]
[null,null,"Massa de rejunte em po para drywall, a base de gesso, secagem rapida, para tratamento de juntas de chapa de gesso (com adicao de agua)","kg",0.5202,4.0089999999999995,2.0854817999999997,null,null,4000]
[null,null,"Parafuso dry wall, em aco fosfatizado, cabeca trombeta e ponta agulha (TA), comprimento 25 mm","un",7.9740000000000002,7.5999999999999998E-2,0.60602400000000001,null,null,4000]
[null,null,"Parafuso dry wall, em aco zincado, cabeca lentilha e ponta broca (LB), largura 4,2 mm, comprimento 13 mm","un",2.1911999999999998,0.18049999999999999,0.39551159999999996,null,null,4000]
[null,null,"PARAFUSO ZINCADO, AUTOBROCANTE, FLANGEADO, 4,2 MM X 19 MM","cento",1.32E-2,20.624500000000001,0.27224340000000002,null,null,4000]
[null,null,"Montador de estrutura metálica com encargos complementares","h",0.36280000000000001,16.311500000000002,5.9178122000000011,null,null,4000]
[null,null,"Servente com Encargos Complementares","h",0.36280000000000001,15.750999999999998,5.7144627999999997,null,null,4000]
[null,null,null,null,null,"","",null,null,4000]
["SF-00145",{"$f":"INDEX('Orçamentária-TR'!B:C,MATCH(Composições!A800,'Orçamentária-TR'!B:B,0),2)","v":"Forro em gesso acartonado monolítico, sem estrutura"},null,{"$f":"TRIM(INDEX('Orçamentária-TR'!D:D,MATCH(Composições!A800,'Orçamentária-TR'!B:B,0),1))","v":"m2"},null,"","",null,null,4100]
[null,null,null,null,null,"","",null,null,4100]
[null,null,"Chapa de gesso acartonado, Standard (ST), cor branca, E = 12,5 mm, 1200 x 2400 mm (L x C)","m2",1.0966,20.177999999999997,22.127194799999998,{"$f":"SUM(G802:G808)","v":41.140515700000002},null,4100]
[null,null,"Fita de papel reforcada com lamina de metal para reforco de cantos de chapa de gesso para drywall","m",1.4395,2.9830000000000001,4.2940285000000005,null,null,4100]
[null,null,"Massa de rejunte em po para drywall, a base de gesso, secagem rapida, para tratamento de juntas de chapa de gesso (com adicao de agua)","kg",0.5202,4.0089999999999995,2.0854817999999997,null,null,4100]
[null,null,"Parafuso dry wall, em aco fosfatizado, cabeca trombeta e ponta agulha (TA), comprimento 25 mm","un",7.9740000000000002,7.5999999999999998E-2,0.60602400000000001,null,null,4100]
[null,null,"Parafuso dry wall, em aco zincado, cabeca lentilha e ponta broca (LB), largura 4,2 mm, comprimento 13 mm","un",2.1911999999999998,0.18049999999999999,0.39551159999999996,null,null,4100]
[null,null,"Montador de estrutura metálica com encargos complementares","h",0.36280000000000001,16.311500000000002,5.9178122000000011,null,null,4100]
[null,null,"Servente com Encargos Complementares","h",0.36280000000000001,15.750999999999998,5.7144627999999997,null,null,4100]
[null,null,null,null,null,"","",null,null,4100]
["SF-00146",{"$f":"INDEX('Orçamentária-TR'!B:C,MATCH(Composições!A810,'Orçamentária-TR'!B:B,0),2)","v":"Forro mineral modulado"},null,{"$f":"TRIM(INDEX('Orçamentária-TR'!D:D,MATCH(Composições!A810,'Orçamentária-TR'!B:B,0),1))","v":"m2"},null,"","",null,null,500]
[null,null,null,null,null,"","",null,null,500]
[null,null,"FORRO DE FIBRA MINERAL EM PLACAS DE 625 X 625 MM, E = 15 MM, BORDA RETA, COM PINTURA ANTIMOFO, APOIADO EM PERFIL DE ACO GALVANIZADO COM 24 MM DE BASE - INSTALADO","m2",1,98.685999999999993,98.685999999999993,{"$f":"SUM(G812:G812)","v":98.685999999999993},null,500]
[null,null,null,null,null,"","",null,null,500]
["SF-00147",{"$f":"INDEX('Orçamentária-TR'!B:C,MATCH(Composições!A814,'Orçamentária-TR'!B:B,0),2)","v":"Forro mineral modulado, sem estrutura"},null,{"$f":"TRIM(INDEX('Orçamentária-TR'!D:D,MATCH(Composições!A814,'Orçamentária-TR'!B:B,0),1))","v":"m2"},null,"","",null,null,400]
[null,null,null,null,null,"","",null,null,400]
[null,null,"Ajudante especializado com encargos complementares","h",{"$f":"1.2/4","v":0.3},18.715,5.6144999999999996,{"$f":"SUM(G816:G817)","v":27.5975},null,400]
[null,null,"Placa de fibra mineral para forro, de 625 x 625 mm, E = 15 mm, borda reta, com pintura antimofo (nao inclui perfis)","UN",1,21.983000000000001,21.983000000000001,null,null,400]
[null,null,null,null,null,"","",null,null,400]
["SF-00148",{"$f":"INDEX('Orçamentária-TR'!B:C,MATCH(Composições!A819,'Orçamentária-TR'!B:B,0),2)","v":{"$error":"#N/A"}},null,{"$f":"TRIM(INDEX('Orçamentária-TR'!C:C,MATCH(Composições!A819,'Orçamentária-TR'!A:A,0),1))","v":{"$error":"#N/A"}},null,"","",null,null,0]
[null,null,null,null,null,"","",null,null,0]
[null,null,"Montador de estrutura metálica com encargos complementares","h",{"$f":"ROUND(0.4994*0.3,4)","v":0.14979999999999999},16.311500000000002,2.4434627,{"$f":"SUM(G821:G821)","v":2.4434627},null,0]
[null,null,null,null,null,"","",null,null,0]
["SF-00149",{"$f":"INDEX('Orçamentária-TR'!B:C,MATCH(Composições!A823,'Orçamentária-TR'!B:B,0),2)","v":{"$error":"#N/A"}},null,{"$f":"TRIM(INDEX('Orçamentária-TR'!C:C,MATCH(Composições!A823,'Orçamentária-TR'!A:A,0),1))","v":{"$error":"#N/A"}},null,"","",null,null,0]
[null,null,null,null,null,"","",null,null,0]
[null,null,"Ajudante especializado com encargos complementares","h",1.2,18.715,22.457999999999998,{"$f":"SUM(G825:G826)","v":42.031800000000004},null,0]
[null,null,"Montador de estrutura metálica com encargos complementares","h",1.2,16.311500000000002,19.573800000000002,null,null,0]
[null,null,null,null,null,"","",null,null,0]
["SF-00150",{"$f":"INDEX('Orçamentária-TR'!B:C,MATCH(Composições!A828,'Orçamentária-TR'!B:B,0),2)","v":"Tabica metálica em forro de gesso acartonado"},null,{"$f":"TRIM(INDEX('Orçamentária-TR'!D:D,MATCH(Composições!A828,'Orçamentária-TR'!B:B,0),1))","v":"m"},null,"","",null,null,90]
[null,null,null,null,null,"","",null,null,90]
[null,null,"Perfil tabica fechada, lisa, formato Z, em aco galvanizado natural, largura total na horizontal *40* mm, para estrutura forro drywall","m",1.1512,2.9830000000000001,3.4340296000000001,{"$f":"SUM(G830:G833)","v":8.5822325500000005},null,90]
[null,null,"Parafuso dry wall, em aco zincado, cabeca lentilha e ponta broca (LB), largura 4,2 mm, comprimento 13 mm","un",0.58330000000000004,0.18049999999999999,0.10528565000000001,null,null,90]
[null,null,"PARAFUSO, AUTO ATARRACHANTE, CABECA CHATA, FENDA SIMPLES, 1/4\u0094 (6,35 MM) X 25 MM","cento",7.4899999999999994E-2,35.358999999999995,2.6483890999999993,null,null,90]
[null,null,"Montador de estrutura metálica com encargos complementares","h",0.14680000000000001,16.311500000000002,2.3945282000000008,null,null,90]
[null,null,null,null,null,"","",null,null,90]
["SF-00151",{"$f":"INDEX('Orçamentária-TR'!B:C,MATCH(Composições!A835,'Orçamentária-TR'!B:B,0),2)","v":"Instalação de revestimento de piso têxtil (carpete) reaproveitado"},null,{"$f":"TRIM(INDEX('Orçamentária-TR'!D:D,MATCH(Composições!A835,'Orçamentária-TR'!B:B,0),1))","v":"m2"},null,"","",null,null,1800]
[null,null,null,null,null,"","",null,null,1800]
[null,null,"Servente com Encargos Complementares","h",0.1,15.750999999999998,1.5750999999999999,{"$f":"SUM(G837:G839)","v":6.13035},null,1800]
[null,null,"Pedreiro com Encargos Complementares","h",0.1,21.327499999999997,2.1327499999999997,null,null,1800]
[null,null,"ADESIVO ACRILICO/COLA DE CONTATO","kg",0.1,24.224999999999998,2.4224999999999999,null,null,1800]
[null,null,null,null,null,"","",null,null,1800]
["SF-00152",{"$f":"INDEX('Orçamentária-TR'!B:C,MATCH(Composições!A841,'Orçamentária-TR'!B:B,0),2)","v":"Baguetes metálicos"},null,{"$f":"TRIM(INDEX('Orçamentária-TR'!D:D,MATCH(Composições!A841,'Orçamentária-TR'!B:B,0),1))","v":"m"},null,"","",null,null,1500]
[null,null,null,null,null,"","",null,null,1500]
[null,null,"Vidraceiro com encargos complementares","h",0.25,19.835999999999999,4.9589999999999996,{"$f":"SUM(G843:G844)","v":7.9305000000000003},null,1500]
[null,null,"Baguetes metálicos","m",1.05,2.83,2.9715000000000003,null,null,1500]
[null,null,null,null,null,"","",null,null,1500]
["SF-00153",{"$f":"INDEX('Orçamentária-TR'!B:C,MATCH(Composições!A846,'Orçamentária-TR'!B:B,0),2)","v":{"$error":"#N/A"}},null,{"$f":"TRIM(INDEX('Orçamentária-TR'!C:C,MATCH(Composições!A846,'Orçamentária-TR'!A:A,0),1))","v":{"$error":"#N/A"}},null,"","",null,null,0]
[null,null,null,null,null,"","",null,null,0]
[null,null,"Vidraceiro com encargos complementares","h",0.5,19.835999999999999,9.9179999999999993,{"$f":"SUM(G848:G850)","v":17.72035},null,0]
[null,null,"Servente com Encargos Complementares","h",{"$f":"E848/2","v":0.25},15.750999999999998,3.9377499999999994,null,null,0]
[null,null,"Massa para vidro","kg",0.6,6.4409999999999998,3.8645999999999998,null,null,0]
[null,null,null,null,null,"","",null,null,0]
["SF-00154",{"$f":"INDEX('Orçamentária-TR'!B:C,MATCH(Composições!A852,'Orçamentária-TR'!B:B,0),2)","v":"Espelho cristal, e=5 mm"},null,{"$f":"TRIM(INDEX('Orçamentária-TR'!D:D,MATCH(Composições!A852,'Orçamentária-TR'!B:B,0),1))","v":"m2"},null,"","",null,null,300]
[null,null,null,null,null,"","",null,null,300]
[null,null,"Parafuso frances M16 em aco galvanizado, comprimento = 45 mm, diametro = 16 mm, cabeca abaulada","un",4,3.5054999999999996,{"$f":"IF(ISNUMBER(F854),E854*F854,\"\")","v":14.021999999999998},{"$f":"SUM(G854:G857)","v":429.86739999999998},null,300]
[null,null,"Espelho cristal comum #5mm","m2",1,369.87299999999993,369.87299999999993,null,null,300]
[null,null,"Servente com Encargos Complementares","h",0.4,15.750999999999998,6.3003999999999998,null,null,300]
[null,null,"Vidraceiro com encargos complementares","h",2,19.835999999999999,39.671999999999997,null,null,300]
[null,null,null,null,null,"","",null,null,300]
["SF-00155",{"$f":"INDEX('Orçamentária-TR'!B:C,MATCH(Composições!A859,'Orçamentária-TR'!B:B,0),2)","v":{"$error":"#N/A"}},null,{"$f":"TRIM(INDEX('Orçamentária-TR'!C:C,MATCH(Composições!A859,'Orçamentária-TR'!A:A,0),1))","v":{"$error":"#N/A"}},null,"","",null,null,0]
[null,null,null,null,null,"","",null,null,0]
[null,null,"Servente com Encargos Complementares","h",0.45,15.750999999999998,7.0879499999999993,{"$f":"SUM(G861:G863)","v":26.319749999999999},null,0]
[null,null,"Vidraceiro com encargos complementares","h",0.45,19.835999999999999,8.9261999999999997,null,null,0]
[null,null,"Massa para vidro","kg",1.6,6.4409999999999998,10.3056,null,null,0]
[null,null,null,null,null,"","",null,null,0]
["SF-00156",{"$f":"INDEX('Orçamentária-TR'!B:C,MATCH(Composições!A865,'Orçamentária-TR'!B:B,0),2)","v":"Substituição da calafetação com selante"},null,{"$f":"TRIM(INDEX('Orçamentária-TR'!D:D,MATCH(Composições!A865,'Orçamentária-TR'!B:B,0),1))","v":"m"},null,"","",null,null,900]
[null,null,null,null,null,"","",null,null,900]
[null,null,"Vidraceiro com encargos complementares","h",0.5,19.835999999999999,9.9179999999999993,{"$f":"SUM(G867:G869)","v":19.0232332},null,900]
[null,null,"Servente com Encargos Complementares","h",{"$f":"E867/2","v":0.25},15.750999999999998,3.9377499999999994,null,null,900]
[null,null,"Silicone acetico uso geral incolor 280 g","un",{"$f":"ROUND(1/3,4)","v":0.33329999999999999},15.504,5.1674831999999995,null,null,900]
[null,null,null,null,null,"","",null,null,900]
[null,null,"Obs.: considerando que cada bisnaga rende, no mínimo, 3 m de aplicação.",null,null,"","",null,null,900]
[null,null,null,null,null,"","",null,null,900]
["SF-00157",{"$f":"INDEX('Orçamentária-TR'!B:C,MATCH(Composições!A873,'Orçamentária-TR'!B:B,0),2)","v":"Vidro liso comum transparente 4mm"},null,{"$f":"TRIM(INDEX('Orçamentária-TR'!D:D,MATCH(Composições!A873,'Orçamentária-TR'!B:B,0),1))","v":"m2"},null,"","",null,null,450]
[null,null,null,null,null,"","",null,null,450]
[null,null,"Servente com Encargos Complementares","h",0.45,15.750999999999998,7.0879499999999993,{"$f":"SUM(G875:G878)","v":127.64675},null,450]
[null,null,"Vidraceiro com encargos complementares","h",0.45,19.835999999999999,8.9261999999999997,null,null,450]
[null,null,"Vidro liso incolor 4mm - sem colocacao","m2",1,101.327,101.327,null,null,450]
[null,null,"Massa para vidro","kg",1.6,6.4409999999999998,10.3056,null,null,450]
[null,null,null,null,null,"","",null,null,450]
["SF-00158",{"$f":"INDEX('Orçamentária-TR'!B:C,MATCH(Composições!A880,'Orçamentária-TR'!B:B,0),2)","v":"Vidro liso comum transparente 6mm"},null,{"$f":"TRIM(INDEX('Orçamentária-TR'!D:D,MATCH(Composições!A880,'Orçamentária-TR'!B:B,0),1))","v":"m2"},null,"","",null,null,450]
[null,null,null,null,null,"","",null,null,450]
[null,null,"Servente com Encargos Complementares","h",0.2,15.750999999999998,3.1501999999999999,{"$f":"SUM(G882:G885)","v":179.42270000000002},null,450]
[null,null,"Vidraceiro com encargos complementares","h",1,19.835999999999999,19.835999999999999,null,null,450]
[null,null,"VIDRO LISO INCOLOR 6 MM - SEM COLOCACAO","m2",1,143.55450000000002,143.55450000000002,null,null,450]
[null,null,"Massa para vidro","kg",2,6.4409999999999998,12.882,null,null,450]
[null,null,null,null,null,"","",null,null,450]
["SF-00159",{"$f":"INDEX('Orçamentária-TR'!B:C,MATCH(Composições!A887,'Orçamentária-TR'!B:B,0),2)","v":{"$error":"#N/A"}},null,{"$f":"TRIM(INDEX('Orçamentária-TR'!C:C,MATCH(Composições!A887,'Orçamentária-TR'!A:A,0),1))","v":{"$error":"#N/A"}},null,"","",null,null,0]
[null,null,null,null,null,"","",null,null,0]
[null,null,"Vidraceiro com encargos complementares","h",{"$f":"2.2/2","v":1.1000000000000001},19.835999999999999,21.819600000000001,{"$f":"SUM(G889:G890)","v":39.145700000000005},null,0]
[null,null,"Servente com Encargos Complementares","h",{"$f":"2.2/2","v":1.1000000000000001},15.750999999999998,17.3261,null,null,0]
[null,null,null,null,null,"","",null,null,0]
["SF-00160",{"$f":"INDEX('Orçamentária-TR'!B:C,MATCH(Composições!A892,'Orçamentária-TR'!B:B,0),2)","v":{"$error":"#N/A"}},null,{"$f":"TRIM(INDEX('Orçamentária-TR'!C:C,MATCH(Composições!A892,'Orçamentária-TR'!A:A,0),1))","v":{"$error":"#N/A"}},null,"","",null,null,0]
[null,null,null,null,null,"","",null,null,0]
[null,null,"Vidraceiro com encargos complementares","h",0.75,19.835999999999999,14.876999999999999,{"$f":"SUM(G894:G897)","v":905.1123},null,0]
[null,null,"Servente com Encargos Complementares","h",0.3,15.750999999999998,4.7252999999999989,null,null,0]
[null,null,"Mola Hidráulica de piso universal para portas de batente e portas vai-e-vem em aço inoxidável. Ref.: DORMA, modelo BTS 75V, com eixo intercambiável tipo \"B\"","un",1,771.07,771.07,null,null,0]
[null,null,"Impermeabilizante Dorma SealProtect","un",1,114.44,114.44,null,null,0]
[null,null,null,null,null,"","",null,null,0]
["SF-00161",{"$f":"INDEX('Orçamentária-TR'!B:C,MATCH(Composições!A899,'Orçamentária-TR'!B:B,0),2)","v":{"$error":"#N/A"}},null,{"$f":"TRIM(INDEX('Orçamentária-TR'!C:C,MATCH(Composições!A899,'Orçamentária-TR'!A:A,0),1))","v":{"$error":"#N/A"}},null,"","",null,null,0]
[null,null,null,null,null,"","",null,null,0]
[null,null,"Ajudante especializado com encargos complementares","h",{"$f":"ROUND(1/3,4)","v":0.33329999999999999},18.715,6.2377094999999994,{"$f":"SUM(G901:G901)","v":6.2377094999999994},null,0]
[null,null,null,null,null,"","",null,null,0]
["SF-00166",{"$f":"INDEX('Orçamentária-TR'!B:C,MATCH(Composições!A903,'Orçamentária-TR'!B:B,0),2)","v":{"$error":"#N/A"}},null,{"$f":"TRIM(INDEX('Orçamentária-TR'!C:C,MATCH(Composições!A903,'Orçamentária-TR'!A:A,0),1))","v":{"$error":"#N/A"}},null,"","",null,null,0]
[null,null,null,null,null,"","",null,null,0]
[null,null,"Encanador ou Bombeiro Hidráulico com Encargos Complementares","h",0.2,20.9285,4.1856999999999998,{"$f":"SUM(G905:G907)","v":6.1141999999999994},null,0]
[null,null,"Vedacao PVC, 100 mm, para saida vaso sanitario","un",1,1.9284999999999997,1.9284999999999997,null,null,0]
[null,null,"Tubo de ligação para bacia sanitária em PVC, com acabamento cromado, ajustável ou não. Ref.: DECA 1968C ou equivalente","un",1,"","",null,null,0]
[null,null,null,null,null,"","",null,null,0]
["SF-00167",{"$f":"INDEX('Orçamentária-TR'!B:C,MATCH(Composições!A909,'Orçamentária-TR'!B:B,0),2)","v":{"$error":"#N/A"}},null,{"$f":"TRIM(INDEX('Orçamentária-TR'!C:C,MATCH(Composições!A909,'Orçamentária-TR'!A:A,0),1))","v":{"$error":"#N/A"}},null,"","",null,null,0]
[null,null,null,null,null,"","",null,null,0]
[null,null,"Adesivo plastico para PVC, frasco com 850 gr","un",4.2900000000000001E-2,54.235500000000002,2.32670295,{"$f":"SUM(G911:G916)","v":44.801367299999995},null,0]
[null,null,"Tubo PVC, serie R, DN 100 mm, para esgoto ou aguas pluviais predial (NBR 5688)","m",1.04,21.498499999999996,22.358439999999998,null,null,0]
[null,null,"Solucao limpadora para PVC, frasco com 1000 cm3","un",7.0099999999999996E-2,47.100999999999999,3.3017800999999998,null,null,0]
[null,null,"Lixa d'agua em folha, grao 100","un",0.14849999999999999,1.6054999999999999,0.23841674999999998,null,null,0]
[null,null,"Auxiliar de encanador ou bombeiro hidráulico com encargos complementares","h",0.44500000000000001,16.320999999999998,7.2628449999999996,null,null,0]
[null,null,"Encanador ou Bombeiro Hidráulico com Encargos Complementares","h",0.44500000000000001,20.9285,9.3131824999999999,null,null,0]
[null,null,null,null,null,"","",null,null,0]
["SF-00168",{"$f":"INDEX('Orçamentária-TR'!B:C,MATCH(Composições!A918,'Orçamentária-TR'!B:B,0),2)","v":{"$error":"#N/A"}},null,{"$f":"TRIM(INDEX('Orçamentária-TR'!C:C,MATCH(Composições!A918,'Orçamentária-TR'!A:A,0),1))","v":{"$error":"#N/A"}},null,"",{"$f":"IF(ISNUMBER(F918),E918*F918,\"\")","v":""},null,null,0]
[null,null,null,null,null,"","",null,null,0]
[null,null,"Tubo PVC, serie R, DN 40 mm, para esgoto ou aguas pluviais predial (NBR 5688)","m",1.04,7.5049999999999999,7.8052000000000001,{"$f":"SUM(G920:G923)","v":14.010771},null,0]
[null,null,"Lixa d'agua em folha, grao 100","un",3.6999999999999998E-2,1.6054999999999999,5.9403499999999991E-2,null,null,0]
[null,null,"Auxiliar de encanador ou bombeiro hidráulico com encargos complementares","h",0.16500000000000001,16.320999999999998,2.6929649999999996,null,null,0]
[null,null,"Encanador ou Bombeiro Hidráulico com Encargos Complementares","h",0.16500000000000001,20.9285,3.4532025000000002,null,null,0]
[null,null,null,null,null,"","",null,null,0]
["SF-00169",{"$f":"INDEX('Orçamentária-TR'!B:C,MATCH(Composições!A925,'Orçamentária-TR'!B:B,0),2)","v":{"$error":"#N/A"}},null,{"$f":"TRIM(INDEX('Orçamentária-TR'!C:C,MATCH(Composições!A925,'Orçamentária-TR'!A:A,0),1))","v":{"$error":"#N/A"}},null,"","",null,null,0]
[null,null,null,null,null,"","",null,null,0]
[null,null,"Adesivo plastico para PVC, frasco com 850 gr","un",1.2800000000000001E-2,54.235500000000002,0.69421440000000001,{"$f":"SUM(G927:G932)","v":19.216862200000001},null,0]
[null,null,"Tubo PVC, serie R, DN 50 mm, para esgoto ou aguas pluviais predial (NBR 5688)","m",1.04,9.3574999999999999,9.7317999999999998,null,null,0]
[null,null,"Solucao limpadora para PVC, frasco com 1000 cm3","un",1.9300000000000001E-2,47.100999999999999,0.90904930000000006,null,null,0]
[null,null,"Lixa d'agua em folha, grao 100","un",3.6999999999999998E-2,1.6054999999999999,5.9403499999999991E-2,null,null,0]
[null,null,"Auxiliar de encanador ou bombeiro hidráulico com encargos complementares","h",0.21,16.320999999999998,3.4274099999999996,null,null,0]
[null,null,"Encanador ou Bombeiro Hidráulico com Encargos Complementares","h",0.21,20.9285,4.3949850000000001,null,null,0]
[null,null,null,null,null,"","",null,null,0]
["SF-00170",{"$f":"INDEX('Orçamentária-TR'!B:C,MATCH(Composições!A934,'Orçamentária-TR'!B:B,0),2)","v":{"$error":"#N/A"}},null,{"$f":"TRIM(INDEX('Orçamentária-TR'!C:C,MATCH(Composições!A934,'Orçamentária-TR'!A:A,0),1))","v":{"$error":"#N/A"}},null,"","",null,null,0]
[null,null,null,null,null,"","",null,null,0]
[null,null,"Adesivo plastico para PVC, frasco com 850 gr","un",2.93E-2,54.235500000000002,1.5891001499999999,{"$f":"SUM(G936:G941)","v":28.777439899999997},null,0]
[null,null,"Tubo PVC, serie R, DN 75 mm, para esgoto ou aguas pluviais predial (NBR 5688)","m",1.04,12.273999999999999,12.76496,null,null,0]
[null,null,"Solucao limpadora para PVC, frasco com 1000 cm3","un",4.5499999999999999E-2,47.100999999999999,2.1430954999999998,null,null,0]
[null,null,"Lixa d'agua em folha, grao 100","un",0.1085,1.6054999999999999,0.17419674999999998,null,null,0]
[null,null,"Auxiliar de encanador ou bombeiro hidráulico com encargos complementares","h",0.32500000000000001,16.320999999999998,5.3043249999999995,null,null,0]
[null,null,"Encanador ou Bombeiro Hidráulico com Encargos Complementares","h",0.32500000000000001,20.9285,6.8017624999999997,null,null,0]
[null,null,null,null,null,"","",null,null,0]
["SF-00171",{"$f":"INDEX('Orçamentária-TR'!B:C,MATCH(Composições!A943,'Orçamentária-TR'!B:B,0),2)","v":{"$error":"#N/A"}},null,{"$f":"TRIM(INDEX('Orçamentária-TR'!C:C,MATCH(Composições!A943,'Orçamentária-TR'!A:A,0),1))","v":{"$error":"#N/A"}},null,"","",null,null,0]
[null,null,null,null,null,"","",null,null,0]
[null,null,"Tubo PVC, soldavel, DN 25 mm, agua fria (NBR-5648)","m",1.0609999999999999,2.6505000000000001,2.8121804999999997,{"$f":"SUM(G945:G947)","v":3.4081724999999996},null,0]
[null,null,"Auxiliar de encanador ou bombeiro hidráulico com encargos complementares","h",1.6E-2,16.320999999999998,0.26113599999999998,null,null,0]
[null,null,"Encanador ou Bombeiro Hidráulico com Encargos Complementares","h",1.6E-2,20.9285,0.33485599999999999,null,null,0]
[null,null,null,null,null,"","",null,null,0]
["SF-00172",{"$f":"INDEX('Orçamentária-TR'!B:C,MATCH(Composições!A949,'Orçamentária-TR'!B:B,0),2)","v":{"$error":"#N/A"}},null,{"$f":"TRIM(INDEX('Orçamentária-TR'!C:C,MATCH(Composições!A949,'Orçamentária-TR'!A:A,0),1))","v":{"$error":"#N/A"}},null,"","",null,null,0]
[null,null,null,null,null,"","",null,null,0]
[null,null,"Tubo PVC, soldavel, DN 32 mm, agua fria (NBR-5648)","m",1.0609999999999999,5.9469999999999992,6.309766999999999,{"$f":"SUM(G951:G953)","v":7.0547569999999986},null,0]
[null,null,"Auxiliar de encanador ou bombeiro hidráulico com encargos complementares","h",0.02,16.320999999999998,0.32641999999999999,null,null,0]
[null,null,"Encanador ou Bombeiro Hidráulico com Encargos Complementares","h",0.02,20.9285,0.41857,null,null,0]
[null,null,null,null,null,"","",null,null,0]
["SF-00173",{"$f":"INDEX('Orçamentária-TR'!B:C,MATCH(Composições!A955,'Orçamentária-TR'!B:B,0),2)","v":{"$error":"#N/A"}},null,{"$f":"TRIM(INDEX('Orçamentária-TR'!C:C,MATCH(Composições!A955,'Orçamentária-TR'!A:A,0),1))","v":{"$error":"#N/A"}},null,"","",null,null,0]
[null,null,null,null,null,"","",null,null,0]
[null,null,"Tubo PVC, soldavel, DN 40 mm, agua fria (NBR-5648)","m",1.0609999999999999,8.6639999999999997,9.1925039999999996,{"$f":"SUM(G957:G960)","v":10.099335999999999},null,0]
[null,null,"Lixa d'agua em folha, grao 100","un",8.0000000000000002E-3,1.6054999999999999,1.2844E-2,null,null,0]
[null,null,"Auxiliar de encanador ou bombeiro hidráulico com encargos complementares","h",2.4E-2,16.320999999999998,0.39170399999999994,null,null,0]
[null,null,"Encanador ou Bombeiro Hidráulico com Encargos Complementares","h",2.4E-2,20.9285,0.50228399999999995,null,null,0]
[null,null,null,null,null,"","",null,null,0]
["SF-00174",{"$f":"INDEX('Orçamentária-TR'!B:C,MATCH(Composições!A962,'Orçamentária-TR'!B:B,0),2)","v":{"$error":"#N/A"}},null,{"$f":"TRIM(INDEX('Orçamentária-TR'!C:C,MATCH(Composições!A962,'Orçamentária-TR'!A:A,0),1))","v":{"$error":"#N/A"}},null,"","",null,null,0]
[null,null,null,null,null,"","",null,null,0]
[null,null,"TUBO PVC, SOLDAVEL, DN 50 MM, PARA AGUA FRIA (NBR-5648)","m",1.0609999999999999,9.9274999999999984,10.533077499999997,{"$f":"SUM(G964:G967)","v":11.629367999999998},null,0]
[null,null,"Lixa d'agua em folha, grao 100","un",0.01,1.6054999999999999,1.6055E-2,null,null,0]
[null,null,"Auxiliar de encanador ou bombeiro hidráulico com encargos complementares","h",2.9000000000000001E-2,16.320999999999998,0.47330899999999998,null,null,0]
[null,null,"Encanador ou Bombeiro Hidráulico com Encargos Complementares","h",2.9000000000000001E-2,20.9285,0.60692650000000004,null,null,0]
[null,null,null,null,null,"","",null,null,0]
["SF-00175",{"$f":"INDEX('Orçamentária-TR'!B:C,MATCH(Composições!A969,'Orçamentária-TR'!B:B,0),2)","v":{"$error":"#N/A"}},null,{"$f":"TRIM(INDEX('Orçamentária-TR'!C:C,MATCH(Composições!A969,'Orçamentária-TR'!A:A,0),1))","v":{"$error":"#N/A"}},null,"","",null,null,0]
[null,null,null,null,null,"","",null,null,0]
[null,null,"Base registro gaveta 3/4\" em liga de cobre, mod 4509.202 ref: DECA ou equivalente","un ",1,"","",{"$f":"SUM(G971:G974)","v":10.188977999999999},null,0]
[null,null,"FITA VEDA ROSCA EM ROLOS DE 18 MM X 50 M (L X C)","UN",1.2999999999999999E-2,12.045999999999999,0.15659799999999999,null,null,0]
[null,null,"Encanador ou Bombeiro Hidráulico com Encargos Complementares","h",0.3,20.9285,6.2785500000000001,null,null,0]
[null,null,"Auxiliar de encanador ou bombeiro hidráulico com encargos complementares","h",0.23,16.320999999999998,3.7538299999999998,null,null,0]
[null,null,null,null,null,"","",null,null,0]
["SF-00176",{"$f":"INDEX('Orçamentária-TR'!B:C,MATCH(Composições!A976,'Orçamentária-TR'!B:B,0),2)","v":{"$error":"#N/A"}},null,{"$f":"TRIM(INDEX('Orçamentária-TR'!C:C,MATCH(Composições!A976,'Orçamentária-TR'!A:A,0),1))","v":{"$error":"#N/A"}},null,"","",null,null,0]
[null,null,null,null,null,"","",null,null,0]
[null,null,"Auxiliar de encanador ou bombeiro hidráulico com encargos complementares","h",0.38,16.320999999999998,6.2019799999999989,{"$f":"SUM(G978:G985)","v":56.708931399999997},null,0]
[null,null,"Encanador ou Bombeiro Hidráulico com Encargos Complementares","h",0.38,20.9285,7.9528299999999996,null,null,0]
[null,null,"Adesivo plastico para PVC, frasco com 850 gr","un",1.4800000000000001E-2,54.235500000000002,0.8026854000000001,null,null,0]
[null,null,"Anel borracha para tubo esgoto predial DN 75 mm (NBR 5688)","un",1,1.6054999999999999,1.6054999999999999,null,null,0]
[null,null,"Lixa d'agua em folha, grao 100","un",5.7000000000000002E-2,1.6054999999999999,{"$f":"IF(ISNUMBER(F982),E982*F982,\"\")","v":9.1513499999999998E-2},null,null,0]
[null,null,"Caixa sifonada PVC, 150 x 185 x 75 mm, com grelha quadrada branca","un",1,38.399000000000001,38.399000000000001,null,null,0]
[null,null,"Pasta lubrificante para tubos e conexoes com junta elastica (uso em PVC, aco, polietileno e outros) ( de *400* g)","un",0.03,19.854999999999997,0.5956499999999999,null,null,0]
[null,null,"Solucao limpadora para PVC, frasco com 1000 cm3","un",2.2499999999999999E-2,47.100999999999999,1.0597725,null,null,0]
[null,null,null,null,null,"","",null,null,0]
["SF-00177",{"$f":"INDEX('Orçamentária-TR'!B:C,MATCH(Composições!A987,'Orçamentária-TR'!B:B,0),2)","v":{"$error":"#N/A"}},null,{"$f":"TRIM(INDEX('Orçamentária-TR'!C:C,MATCH(Composições!A987,'Orçamentária-TR'!A:A,0),1))","v":{"$error":"#N/A"}},null,"","",null,null,0]
[null,null,null,null,null,"","",null,null,0]
[null,null,"Auxiliar de encanador ou bombeiro hidráulico com encargos complementares","h",0.38,16.320999999999998,6.2019799999999989,{"$f":"SUM(G989:G996)","v":97.729931399999984},null,0]
[null,null,"Encanador ou Bombeiro Hidráulico com Encargos Complementares","h",0.38,20.9285,7.9528299999999996,null,null,0]
[null,null,"Adesivo plastico para PVC, frasco com 850 gr","un",1.4800000000000001E-2,54.235500000000002,0.8026854000000001,null,null,0]
[null,null,"Anel borracha para tubo esgoto predial DN 75 mm (NBR 5688)","un",1,1.6054999999999999,1.6054999999999999,null,null,0]
[null,null,"Lixa d'agua em folha, grao 100","un",5.7000000000000002E-2,1.6054999999999999,9.1513499999999998E-2,null,null,0]
[null,null,"CAIXA SIFONADA PVC, 250 X 230 X 75 MM, COM TAMPA E PORTA TAMPA QUADRADA BRANCA","un",1,79.419999999999987,79.419999999999987,null,null,0]
[null,null,"Pasta lubrificante para tubos e conexoes com junta elastica (uso em PVC, aco, polietileno e outros) ( de *400* g)","un",0.03,19.854999999999997,0.5956499999999999,null,null,0]
[null,null,"Solucao limpadora para PVC, frasco com 1000 cm3","un",2.2499999999999999E-2,47.100999999999999,1.0597725,null,null,0]
[null,null,null,null,null,"","",null,null,0]
["SF-00178",{"$f":"INDEX('Orçamentária-TR'!B:C,MATCH(Composições!A998,'Orçamentária-TR'!B:B,0),2)","v":{"$error":"#N/A"}},null,{"$f":"TRIM(INDEX('Orçamentária-TR'!C:C,MATCH(Composições!A998,'Orçamentária-TR'!A:A,0),1))","v":{"$error":"#N/A"}},null,"","",null,null,0]
[null,null,null,null,null,"","",null,null,0]
[null,null,"Grelha quadrada para ralo, com caixilho, dimensões 10x10cm, em Aço polido, ref.: Moldenox ou equivalente","un ",1,"","",{"$f":"SUM(G1000:G1001)","v":2.3626499999999995},null,0]
[null,null,"Servente com Encargos Complementares","h",0.15,15.750999999999998,2.3626499999999995,null,null,0]
[null,null,null,null,null,"","",null,null,0]
["SF-00179",{"$f":"INDEX('Orçamentária-TR'!B:C,MATCH(Composições!A1003,'Orçamentária-TR'!B:B,0),2)","v":{"$error":"#N/A"}},null,{"$f":"TRIM(INDEX('Orçamentária-TR'!C:C,MATCH(Composições!A1003,'Orçamentária-TR'!A:A,0),1))","v":{"$error":"#N/A"}},null,"","",null,null,0]
[null,null,null,null,null,"","",null,null,0]
[null,null,"Grelha quadrada para ralo, com caixilho, dimensões 15x15cm, em Aço polido, ref.: Moldenox ou equivalente","un ",1,"","",{"$f":"SUM(G1005:G1006)","v":2.3626499999999995},null,0]
[null,null,"Servente com Encargos Complementares","h",0.15,15.750999999999998,2.3626499999999995,null,null,0]
[null,null,null,null,null,"","",null,null,0]
["SF-00180",{"$f":"INDEX('Orçamentária-TR'!B:C,MATCH(Composições!A1008,'Orçamentária-TR'!B:B,0),2)","v":{"$error":"#N/A"}},null,{"$f":"TRIM(INDEX('Orçamentária-TR'!C:C,MATCH(Composições!A1008,'Orçamentária-TR'!A:A,0),1))","v":{"$error":"#N/A"}},null,"","",null,null,0]
[null,null,null,null,null,"","",null,null,0]
[null,null,"Auxiliar de encanador ou bombeiro hidráulico com encargos complementares","h",7.0000000000000007E-2,16.320999999999998,1.1424699999999999,{"$f":"SUM(G1010:G1015)","v":9.352769949999999},null,0]
[null,null,"Encanador ou Bombeiro Hidráulico com Encargos Complementares","h",7.0000000000000007E-2,20.9285,1.464995,null,null,0]
[null,null,"Adesivo plastico para PVC, frasco com 850 gr","un",4.8999999999999998E-3,54.235500000000002,0.26575395000000002,null,null,0]
[null,null,"Lixa d'agua em folha, grao 100","un",1.7000000000000001E-2,1.6054999999999999,2.7293500000000002E-2,null,null,0]
[null,null,"Ralo seco PVC conico, 100 x 40 mm,  com grelha redonda branca","un",1,6.0989999999999993,6.0989999999999993,null,null,0]
[null,null,"Solucao limpadora para PVC, frasco com 1000 cm3","un",7.4999999999999997E-3,47.100999999999999,0.3532575,null,null,0]
[null,null,null,null,null,"","",null,null,0]
["SF-00181",{"$f":"INDEX('Orçamentária-TR'!B:C,MATCH(Composições!A1017,'Orçamentária-TR'!B:B,0),2)","v":{"$error":"#N/A"}},null,{"$f":"TRIM(INDEX('Orçamentária-TR'!C:C,MATCH(Composições!A1017,'Orçamentária-TR'!A:A,0),1))","v":{"$error":"#N/A"}},null,"","",null,null,0]
[null,null,null,null,null,"","",null,null,0]
[null,null,"Assento poliéster com fixação cromada na cor branco gelo, ref: AP.75.17 – Linha Fast/Aspen – Deca ou equivalente","un ",1,"","",{"$f":"SUM(G1019:G1020)","v":1.5750999999999999},null,0]
[null,null,"Servente com Encargos Complementares","h",0.1,15.750999999999998,1.5750999999999999,null,null,0]
[null,null,null,null,null,"","",null,null,0]
["SF-00182",{"$f":"INDEX('Orçamentária-TR'!B:C,MATCH(Composições!A1022,'Orçamentária-TR'!B:B,0),2)","v":{"$error":"#N/A"}},null,{"$f":"TRIM(INDEX('Orçamentária-TR'!C:C,MATCH(Composições!A1022,'Orçamentária-TR'!A:A,0),1))","v":{"$error":"#N/A"}},null,"","",null,null,0]
[null,null,null,null,null,"","",null,null,0]
[null,null,"Bacia sanitaria (vaso) convencional de louca branca","UN",1,105.4025,105.4025,{"$f":"SUM(G1024:G1030)","v":171.61410849999999},null,0]
[null,null,"Tubo de ligação para bacia sanitária em PVC, com acabamento cromado, ajustável ou não. Ref.: DECA 1968C ou equivalente","un",1,"","",null,null,0]
[null,null,"Parafuso niquelado com acabamento cromado para fixar peca sanitaria, inclui porca cega, arruela e bucha de nylon tamanho S-10","UN",2,16.976500000000001,33.953000000000003,null,null,0]
[null,null,"Vedacao PVC, 100 mm, para saida vaso sanitario","un",1,1.9284999999999997,1.9284999999999997,null,null,0]
[null,null,"Rejunte epoxi branco","kg",0.1469,48.164999999999999,7.0754384999999997,null,null,0]
[null,null,"Encanador ou Bombeiro Hidráulico com Encargos Complementares","h",0.78,20.9285,16.32423,null,null,0]
[null,null,"Servente com Encargos Complementares","h",0.44,15.750999999999998,6.930439999999999,null,null,0]
[null,null,null,null,null,"","",null,null,0]
["SF-00183",{"$f":"INDEX('Orçamentária-TR'!B:C,MATCH(Composições!A1032,'Orçamentária-TR'!B:B,0),2)","v":{"$error":"#N/A"}},null,{"$f":"TRIM(INDEX('Orçamentária-TR'!C:C,MATCH(Composições!A1032,'Orçamentária-TR'!A:A,0),1))","v":{"$error":"#N/A"}},null,"","",null,null,0]
[null,null,null,null,null,"","",null,null,0]
[null,null,"Bacia convencional com saída horizontal (Modelo P.90.17 – Linha Ravena – Deca)","un ",1,"","",{"$f":"SUM(G1034:G1039)","v":66.211608499999997},null,0]
[null,null,"Parafuso niquelado com acabamento cromado para fixar peca sanitaria, inclui porca cega, arruela e bucha de nylon tamanho S-10","UN",2,16.976500000000001,33.953000000000003,null,null,0]
[null,null,"Vedacao PVC, 100 mm, para saida vaso sanitario","un",1,1.9284999999999997,1.9284999999999997,null,null,0]
[null,null,"Rejunte epoxi branco","kg",0.1469,48.164999999999999,7.0754384999999997,null,null,0]
[null,null,"Encanador ou Bombeiro Hidráulico com Encargos Complementares","h",0.78,20.9285,16.32423,null,null,0]
[null,null,"Servente com Encargos Complementares","h",0.44,15.750999999999998,6.930439999999999,null,null,0]
[null,null,null,null,null,"","",null,null,0]
["SF-00184",{"$f":"INDEX('Orçamentária-TR'!B:C,MATCH(Composições!A1041,'Orçamentária-TR'!B:B,0),2)","v":{"$error":"#N/A"}},null,{"$f":"TRIM(INDEX('Orçamentária-TR'!C:C,MATCH(Composições!A1041,'Orçamentária-TR'!A:A,0),1))","v":{"$error":"#N/A"}},null,"","",null,null,0]
[null,null,null,null,null,"","",null,null,0]
[null,null,"Cuba oval de embutir, mod.: L37, cor branca ref: DECA ou equivalente","un ",1,"","",{"$f":"SUM(G1043:G1046)","v":33.443172049999994},null,0]
[null,null,"Massa plastica para marmore/granito","kg",0.52710000000000001,26.685499999999998,14.065927049999999,null,null,0]
[null,null,"Servente com Encargos Complementares","h",0.27,15.750999999999998,4.2527699999999999,null,null,0]
[null,null,"Marmorista/graniteiro com encargos complementares","h",0.85,17.793499999999998,{"$f":"IF(ISNUMBER(F1046),E1046*F1046,\"\")","v":15.124474999999999},null,null,0]
[null,null,null,null,null,"","",null,null,0]
["SF-00185",{"$f":"INDEX('Orçamentária-TR'!B:C,MATCH(Composições!A1048,'Orçamentária-TR'!B:B,0),2)","v":{"$error":"#N/A"}},null,{"$f":"TRIM(INDEX('Orçamentária-TR'!C:C,MATCH(Composições!A1048,'Orçamentária-TR'!A:A,0),1))","v":{"$error":"#N/A"}},null,"","",null,null,0]
[null,null,null,null,null,"","",null,null,0]
[null,null,"Cuba retangular com as dimensões 0,34x0,40x0,18m, em aço Inox AISI 304 com acabamento em alto brilho, com válvula de escoamento, ref: Franke 12646 ou equivalente","un ",1,"","",{"$f":"SUM(G1050:G1053)","v":18.839797699999998},null,0]
[null,null,"Massa plastica para marmore/granito","kg",0.2974,26.685499999999998,7.9362676999999993,null,null,0]
[null,null,"Marmorista/graniteiro com encargos complementares","h",0.48,17.793499999999998,8.5408799999999996,null,null,0]
[null,null,"Servente com Encargos Complementares","h",0.15,15.750999999999998,2.3626499999999995,null,null,0]
[null,null,null,null,null,"","",null,null,0]
["SF-00186",{"$f":"INDEX('Orçamentária-TR'!B:C,MATCH(Composições!A1055,'Orçamentária-TR'!B:B,0),2)","v":{"$error":"#N/A"}},null,{"$f":"TRIM(INDEX('Orçamentária-TR'!C:C,MATCH(Composições!A1055,'Orçamentária-TR'!A:A,0),1))","v":{"$error":"#N/A"}},null,"","",null,null,0]
[null,null,null,null,null,"","",null,null,0]
[null,null,"Cuba semi-encaixe com mesa, mod.: L830 ref: DECA ou equivalente","un ",1,"","",{"$f":"SUM(G1057:G1060)","v":33.443172049999994},null,0]
[null,null,"Massa plastica para marmore/granito","kg",0.52710000000000001,26.685499999999998,14.065927049999999,null,null,0]
[null,null,"Servente com Encargos Complementares","h",0.27,15.750999999999998,4.2527699999999999,null,null,0]
[null,null,"Marmorista/graniteiro com encargos complementares","h",0.85,17.793499999999998,15.124474999999999,null,null,0]
[null,null,null,null,null,"","",null,null,0]
["SF-00187",{"$f":"INDEX('Orçamentária-TR'!B:C,MATCH(Composições!A1062,'Orçamentária-TR'!B:B,0),2)","v":{"$error":"#N/A"}},null,{"$f":"TRIM(INDEX('Orçamentária-TR'!C:C,MATCH(Composições!A1062,'Orçamentária-TR'!A:A,0),1))","v":{"$error":"#N/A"}},null,"","",null,null,0]
[null,null,null,null,null,"","",null,null,0]
[null,null,"Parafuso niquelado 3 1/2\" com acabamento cromado para fixar peca sanitaria, inclui porca cega, arruela e bucha de nylon tamanho S-8","UN",2,12.587499999999999,25.174999999999997,{"$f":"SUM(G1064:G1067)","v":38.771770500000002},null,0]
[null,null,"Rejunte epoxi branco","kg",5.0700000000000002E-2,48.164999999999999,2.4419655000000002,null,null,0]
[null,null,"Encanador ou Bombeiro Hidráulico com Encargos Complementares","h",0.39,20.9285,8.162115,null,null,0]
[null,null,"Servente com Encargos Complementares","h",0.19,15.750999999999998,2.9926899999999996,null,null,0]
[null,null,null,null,null,"","",null,null,0]
["SF-00188",{"$f":"INDEX('Orçamentária-TR'!B:C,MATCH(Composições!A1069,'Orçamentária-TR'!B:B,0),2)","v":{"$error":"#N/A"}},null,{"$f":"TRIM(INDEX('Orçamentária-TR'!C:C,MATCH(Composições!A1069,'Orçamentária-TR'!A:A,0),1))","v":{"$error":"#N/A"}},null,"","",null,null,0]
[null,null,null,null,null,"","",null,null,0]
[null,null,"Parafuso niquelado 3 1/2\" com acabamento cromado para fixar peca sanitaria, inclui porca cega, arruela e bucha de nylon tamanho S-8","UN",2,12.587499999999999,25.174999999999997,{"$f":"SUM(G1071:G1074)","v":38.357119249999997},null,0]
[null,null,"Fita veda rosca em rolos de 18 mm x 10 m (L x C)","UN",3.6499999999999998E-2,3.2679999999999998,0.11928199999999999,null,null,0]
[null,null,"Servente com Encargos Complementares","h",{"$f":"ROUND(0.3179/2,4)","v":0.159},15.750999999999998,2.5044089999999999,null,null,0]
[null,null,"Encanador ou Bombeiro Hidráulico com Encargos Complementares","h",{"$f":"1.009/2","v":0.50449999999999995},20.9285,10.558428249999999,null,null,0]
[null,null,null,null,null,"","",null,null,0]
[null,null,"Obs.: Redução do coeficiente de MO, considerando que esse serviço não inclui engate flexível e válvula de descarga.",null,null,"","",null,null,0]
[null,null,null,null,null,"","",null,null,0]
["SF-00189",{"$f":"INDEX('Orçamentária-TR'!B:C,MATCH(Composições!A1078,'Orçamentária-TR'!B:B,0),2)","v":{"$error":"#N/A"}},null,{"$f":"TRIM(INDEX('Orçamentária-TR'!C:C,MATCH(Composições!A1078,'Orçamentária-TR'!A:A,0),1))","v":{"$error":"#N/A"}},null,"","",null,null,0]
[null,null,null,null,null,"","",null,null,0]
[null,null,"Parafuso niquelado com acabamento cromado para fixar peca sanitaria, inclui porca cega, arruela e bucha de nylon tamanho S-10","UN",2,16.976500000000001,33.953000000000003,{"$f":"SUM(G1080:G1084)","v":56.027089799999999},null,0]
[null,null,"Vedacao PVC, 100 mm, para saida vaso sanitario","un",1,1.9284999999999997,1.9284999999999997,null,null,0]
[null,null,"Rejunte epoxi branco","kg",8.8099999999999998E-2,48.164999999999999,4.2433364999999998,null,null,0]
[null,null,"Encanador ou Bombeiro Hidráulico com Encargos Complementares","h",0.49680000000000002,20.9285,10.3972788,null,null,0]
[null,null,"Servente com Encargos Complementares","h",0.34949999999999998,15.750999999999998,5.5049744999999985,null,null,0]
[null,null,null,null,null,"","",null,null,0]
["SF-00190",{"$f":"INDEX('Orçamentária-TR'!B:C,MATCH(Composições!A1086,'Orçamentária-TR'!B:B,0),2)","v":{"$error":"#N/A"}},null,{"$f":"TRIM(INDEX('Orçamentária-TR'!C:C,MATCH(Composições!A1086,'Orçamentária-TR'!A:A,0),1))","v":{"$error":"#N/A"}},null,"","",null,null,0]
[null,null,null,null,null,"","",null,null,0]
[null,null,"Lavatorio louca branca suspenso *40 x 30* cm","UN",1,68.78,68.78,{"$f":"SUM(G1088:G1092)","v":106.48918409999999},null,0]
[null,null,"Parafuso niquelado 3 1/2\" com acabamento cromado para fixar peca sanitaria, inclui porca cega, arruela e bucha de nylon tamanho S-8","UN",2,12.587499999999999,25.174999999999997,null,null,0]
[null,null,"Rejunte epoxi branco","kg",3.04E-2,48.164999999999999,1.464216,null,null,0]
[null,null,"Encanador ou Bombeiro Hidráulico com Encargos Complementares","h",0.38700000000000001,20.9285,8.0993294999999996,null,null,0]
[null,null,"Servente com Encargos Complementares","h",0.18859999999999999,15.750999999999998,2.9706385999999996,null,null,0]
[null,null,null,null,null,"","",null,null,0]
["SF-00191",{"$f":"INDEX('Orçamentária-TR'!B:C,MATCH(Composições!A1094,'Orçamentária-TR'!B:B,0),2)","v":{"$error":"#N/A"}},null,{"$f":"TRIM(INDEX('Orçamentária-TR'!C:C,MATCH(Composições!A1094,'Orçamentária-TR'!A:A,0),1))","v":{"$error":"#N/A"}},null,"","",null,null,0]
[null,null,null,null,null,"","",null,null,0]
[null,null,"Mictorio sifonado louca branca sem complementos","UN",1,239.61849999999998,239.61849999999998,{"$f":"SUM(G1096:G1100)","v":278.00503125},null,0]
[null,null,"Parafuso niquelado 3 1/2\" com acabamento cromado para fixar peca sanitaria, inclui porca cega, arruela e bucha de nylon tamanho S-8","UN",2,12.587499999999999,25.174999999999997,null,null,0]
[null,null,"Fita veda rosca em rolos de 18 mm x 10 m (L x C)","UN",{"$f":"0.076-0.0175-0.013","v":4.5499999999999999E-2},3.2679999999999998,0.14869399999999999,null,null,0]
[null,null,"Servente com Encargos Complementares","h",{"$f":"ROUND(0.3179/2,4)","v":0.159},15.750999999999998,2.5044089999999999,null,null,0]
[null,null,"Encanador ou Bombeiro Hidráulico com Encargos Complementares","h",{"$f":"1.009/2","v":0.50449999999999995},20.9285,10.558428249999999,null,null,0]
[null,null,null,null,null,"","",null,null,0]
[null,null,"Obs.: Redução do coeficiente de MO, considerando que esse serviço não inclui engate flexível e válvula de descarga.",null,null,"","",null,null,0]
[null,null,null,null,null,"","",null,null,0]
["SF-00192",{"$f":"INDEX('Orçamentária-TR'!B:C,MATCH(Composições!A1104,'Orçamentária-TR'!B:B,0),2)","v":{"$error":"#N/A"}},null,{"$f":"TRIM(INDEX('Orçamentária-TR'!C:C,MATCH(Composições!A1104,'Orçamentária-TR'!A:A,0),1))","v":{"$error":"#N/A"}},null,"","",null,null,0]
[null,null,null,null,null,"","",null,null,0]
[null,null,"Tanque de louça com capacidade de 38 litros na cor branca, suspenso, sem coluna","un ",1,"","",{"$f":"SUM(G1106:G1110)","v":75.997434999999982},null,0]
[null,null,"Parafuso niquelado 3 1/2\" com acabamento cromado para fixar peca sanitaria, inclui porca cega, arruela e bucha de nylon tamanho S-8","UN",4,12.587499999999999,50.349999999999994,null,null,0]
[null,null,"Rejunte epoxi branco","kg",6.5000000000000002E-2,48.164999999999999,3.130725,null,null,0]
[null,null,"Encanador ou Bombeiro Hidráulico com Encargos Complementares","h",0.82,20.9285,17.161369999999998,null,null,0]
[null,null,"Servente com Encargos Complementares","h",0.34,15.750999999999998,{"$f":"IF(ISNUMBER(F1110),E1110*F1110,\"\")","v":5.35534},null,null,0]
[null,null,null,null,null,"","",null,null,0]
["SF-00193",{"$f":"INDEX('Orçamentária-TR'!B:C,MATCH(Composições!A1112,'Orçamentária-TR'!B:B,0),2)","v":{"$error":"#N/A"}},null,{"$f":"TRIM(INDEX('Orçamentária-TR'!C:C,MATCH(Composições!A1112,'Orçamentária-TR'!A:A,0),1))","v":{"$error":"#N/A"}},null,"","",null,null,0]
[null,null,null,null,null,"","",null,null,0]
[null,null,"Acabamento para registro de gaveta de 1 ¼” a 1 ½” (GD), cromado. Ref.: Modelo 4900.C35.GD – Linha Aspen – Deca","un ",1,"","",{"$f":"SUM(G1114:G1115)","v":1.67428},null,0]
[null,null,"Encanador ou Bombeiro Hidráulico com Encargos Complementares","h",0.08,20.9285,1.67428,null,null,0]
[null,null,null,null,null,"","",null,null,0]
["SF-00194",{"$f":"INDEX('Orçamentária-TR'!B:C,MATCH(Composições!A1117,'Orçamentária-TR'!B:B,0),2)","v":{"$error":"#N/A"}},null,{"$f":"TRIM(INDEX('Orçamentária-TR'!C:C,MATCH(Composições!A1117,'Orçamentária-TR'!A:A,0),1))","v":{"$error":"#N/A"}},null,"","",null,null,0]
[null,null,null,null,null,"","",null,null,0]
[null,null,"Acabamento para registro de gaveta e pressão até 1” (PQ), cromado. Ref.: Modelo, 4900.C35.PQ – Linha Aspen – Deca","un ",1,"","",{"$f":"SUM(G1119:G1120)","v":1.67428},null,0]
[null,null,"Encanador ou Bombeiro Hidráulico com Encargos Complementares","h",0.08,20.9285,1.67428,null,null,0]
[null,null,null,null,null,"","",null,null,0]
["SF-00195",{"$f":"INDEX('Orçamentária-TR'!B:C,MATCH(Composições!A1122,'Orçamentária-TR'!B:B,0),2)","v":{"$error":"#N/A"}},null,{"$f":"TRIM(INDEX('Orçamentária-TR'!C:C,MATCH(Composições!A1122,'Orçamentária-TR'!A:A,0),1))","v":{"$error":"#N/A"}},null,"","",null,null,0]
[null,null,null,null,null,"","",null,null,0]
[null,null,"Ducha higiênica com registro e derivação, com gatilho branco e flexível de 1,2m. Ref.: Modelo 1984.C35.ACT – Linha Aspen – Deca","un ",1,"","",{"$f":"SUM(G1124:G1126)","v":18.624749999999999},null,0]
[null,null,"Encanador ou Bombeiro Hidráulico com Encargos Complementares","h",0.5,20.9285,10.46425,null,null,0]
[null,null,"Auxiliar de encanador ou bombeiro hidráulico com encargos complementares","h",0.5,16.320999999999998,8.160499999999999,null,null,0]
[null,null,null,null,null,"","",null,null,0]
["SF-00196",{"$f":"INDEX('Orçamentária-TR'!B:C,MATCH(Composições!A1128,'Orçamentária-TR'!B:B,0),2)","v":{"$error":"#N/A"}},null,{"$f":"TRIM(INDEX('Orçamentária-TR'!C:C,MATCH(Composições!A1128,'Orçamentária-TR'!A:A,0),1))","v":{"$error":"#N/A"}},null,"","",null,null,0]
[null,null,null,null,null,"","",null,null,0]
[null,null,"Encanador ou Bombeiro Hidráulico com Encargos Complementares","h",0.16209999999999999,20.9285,3.3925098499999997,{"$f":"SUM(G1130:G1131)","v":3.7629965499999996},null,0]
[null,null,"Auxiliar de encanador ou bombeiro hidráulico com encargos complementares","h",2.2700000000000001E-2,16.320999999999998,0.3704867,null,null,0]
[null,null,null,null,null,"","",null,null,0]
["SF-00197",{"$f":"INDEX('Orçamentária-TR'!B:C,MATCH(Composições!A1133,'Orçamentária-TR'!B:B,0),2)","v":{"$error":"#N/A"}},null,{"$f":"TRIM(INDEX('Orçamentária-TR'!C:C,MATCH(Composições!A1133,'Orçamentária-TR'!A:A,0),1))","v":{"$error":"#N/A"}},null,"","",null,null,0]
[null,null,null,null,null,"","",null,null,0]
[null,null,"Engate / rabicho flexivel inox 1/2 \" x 40 cm","UN",1,27.530999999999999,27.530999999999999,{"$f":"SUM(G1135:G1138)","v":31.515014999999998},null,0]
[null,null,"Fita veda rosca em rolos de 18 mm x 10 m (L x C)","UN",1.7500000000000002E-2,3.2679999999999998,5.7190000000000005E-2,null,null,0]
[null,null,"Encanador ou Bombeiro Hidráulico com Encargos Complementares","h",0.15,20.9285,3.139275,null,null,0]
[null,null,"Servente com Encargos Complementares","h",0.05,15.750999999999998,0.78754999999999997,null,null,0]
[null,null,null,null,null,"","",null,null,0]
["SF-00198",{"$f":"INDEX('Orçamentária-TR'!B:C,MATCH(Composições!A1140,'Orçamentária-TR'!B:B,0),2)","v":{"$error":"#N/A"}},null,{"$f":"TRIM(INDEX('Orçamentária-TR'!C:C,MATCH(Composições!A1140,'Orçamentária-TR'!A:A,0),1))","v":{"$error":"#N/A"}},null,"","",null,null,0]
[null,null,null,null,null,"","",null,null,0]
[null,null,"Sifão regulável com tubo de saída corrugado para cozinha, cromado.  Ref.: Modelo VSM182 – Esteves","un ",1,"","",{"$f":"SUM(G1142:G1145)","v":7.2316850000000006},null,0]
[null,null,"Fita veda rosca em rolos de 18 mm x 10 m (L x C)","UN",0.05,3.2679999999999998,0.16339999999999999,null,null,0]
[null,null,"Servente com Encargos Complementares","h",0.09,15.750999999999998,1.4175899999999997,null,null,0]
[null,null,"Encanador ou Bombeiro Hidráulico com Encargos Complementares","h",0.27,20.9285,5.6506950000000007,null,null,0]
[null,null,null,null,null,"","",null,null,0]
["SF-00199",{"$f":"INDEX('Orçamentária-TR'!B:C,MATCH(Composições!A1147,'Orçamentária-TR'!B:B,0),2)","v":{"$error":"#N/A"}},null,{"$f":"TRIM(INDEX('Orçamentária-TR'!C:C,MATCH(Composições!A1147,'Orçamentária-TR'!A:A,0),1))","v":{"$error":"#N/A"}},null,"","",null,null,0]
[null,null,null,null,null,"","",null,null,0]
[null,null,"Sifao em metal cromado para pia ou lavatorio, 1 x 1.1/2 \"","UN",1,109.67749999999999,109.67749999999999,{"$f":"SUM(G1149:G1152)","v":116.90918499999999},null,0]
[null,null,"Fita veda rosca em rolos de 18 mm x 10 m (L x C)","UN",0.05,3.2679999999999998,0.16339999999999999,null,null,0]
[null,null,"Encanador ou Bombeiro Hidráulico com Encargos Complementares","h",0.27,20.9285,5.6506950000000007,null,null,0]
[null,null,"Servente com Encargos Complementares","h",0.09,15.750999999999998,1.4175899999999997,null,null,0]
[null,null,null,null,null,"","",null,null,0]
["SF-00200",{"$f":"INDEX('Orçamentária-TR'!B:C,MATCH(Composições!A1154,'Orçamentária-TR'!B:B,0),2)","v":{"$error":"#N/A"}},null,{"$f":"TRIM(INDEX('Orçamentária-TR'!C:C,MATCH(Composições!A1154,'Orçamentária-TR'!A:A,0),1))","v":{"$error":"#N/A"}},null,"","",null,null,0]
[null,null,null,null,null,"","",null,null,0]
[null,null,"Fita veda rosca em rolos de 18 mm x 10 m (L x C)","UN",0.05,3.2679999999999998,0.16339999999999999,{"$f":"SUM(G1156:G1159)","v":123.38818499999999},null,0]
[null,null,"Servente com Encargos Complementares","h",0.09,15.750999999999998,1.4175899999999997,null,null,0]
[null,null,"Encanador ou Bombeiro Hidráulico com Encargos Complementares","h",0.27,20.9285,5.6506950000000007,null,null,0]
[null,null,"Sifao em metal cromado para tanque, 1.1/4 x 1.1/2 \"","un",1,116.15649999999999,116.15649999999999,null,null,0]
[null,null,null,null,null,"","",null,null,0]
["SF-00201",{"$f":"INDEX('Orçamentária-TR'!B:C,MATCH(Composições!A1161,'Orçamentária-TR'!B:B,0),2)","v":{"$error":"#N/A"}},null,{"$f":"TRIM(INDEX('Orçamentária-TR'!C:C,MATCH(Composições!A1161,'Orçamentária-TR'!A:A,0),1))","v":{"$error":"#N/A"}},null,"","",null,null,0]
[null,null,null,null,null,"","",null,null,0]
[null,null,"Torneira de mesa para cozinha, cromada. Ref.: Deca Targa 1167.C40.CR","un ",1,"","",{"$f":"SUM(G1163:G1166)","v":4.4447422000000003},null,0]
[null,null,"Fita veda rosca em rolos de 18 mm x 10 m (L x C)","UN",3.04E-2,3.2679999999999998,9.9347199999999997E-2,null,null,0]
[null,null,"Encanador ou Bombeiro Hidráulico com Encargos Complementares","h",0.17,20.9285,3.5578450000000004,null,null,0]
[null,null,"Servente com Encargos Complementares","h",0.05,15.750999999999998,0.78754999999999997,null,null,0]
[null,null,null,null,null,"","",null,null,0]
["SF-00202",{"$f":"INDEX('Orçamentária-TR'!B:C,MATCH(Composições!A1168,'Orçamentária-TR'!B:B,0),2)","v":{"$error":"#N/A"}},null,{"$f":"TRIM(INDEX('Orçamentária-TR'!C:C,MATCH(Composições!A1168,'Orçamentária-TR'!A:A,0),1))","v":{"$error":"#N/A"}},null,"","",null,null,0]
[null,null,null,null,null,"","",null,null,0]
[null,null,"Torneira de mesa bica móvel com arejador articulado para cozinha, cromada. Ref.: Código B5814C2CRB – Linha City – Celite","un ",1,"","",{"$f":"SUM(G1170:G1173)","v":4.4447422000000003},null,0]
[null,null,"Fita veda rosca em rolos de 18 mm x 10 m (L x C)","UN",3.04E-2,3.2679999999999998,9.9347199999999997E-2,null,null,0]
[null,null,"Encanador ou Bombeiro Hidráulico com Encargos Complementares","h",0.17,20.9285,3.5578450000000004,null,null,0]
[null,null,"Servente com Encargos Complementares","h",0.05,15.750999999999998,0.78754999999999997,null,null,0]
[null,null,null,null,null,"",{"$f":"IF(ISNUMBER(F1174),E1174*F1174,\"\")","v":""},null,null,0]
["SF-00203",{"$f":"INDEX('Orçamentária-TR'!B:C,MATCH(Composições!A1175,'Orçamentária-TR'!B:B,0),2)","v":{"$error":"#N/A"}},null,{"$f":"TRIM(INDEX('Orçamentária-TR'!C:C,MATCH(Composições!A1175,'Orçamentária-TR'!A:A,0),1))","v":{"$error":"#N/A"}},null,"","",null,null,0]
[null,null,null,null,null,"","",null,null,0]
[null,null,"Torneira de mesa para lavatório, para uso clínico e apoio à pessoa. Ref.: Deca Link 1196.CLNK","un ",1,"","",{"$f":"SUM(G1177:G1180)","v":2.6647271999999997},null,0]
[null,null,"Fita veda rosca em rolos de 18 mm x 10 m (L x C)","UN",3.04E-2,3.2679999999999998,9.9347199999999997E-2,null,null,0]
[null,null,"Encanador ou Bombeiro Hidráulico com Encargos Complementares","h",0.1,20.9285,2.0928499999999999,null,null,0]
[null,null,"Servente com Encargos Complementares","h",0.03,15.750999999999998,0.47252999999999989,null,null,0]
[null,null,null,null,null,"","",null,null,0]
["SF-00204",{"$f":"INDEX('Orçamentária-TR'!B:C,MATCH(Composições!A1182,'Orçamentária-TR'!B:B,0),2)","v":{"$error":"#N/A"}},null,{"$f":"TRIM(INDEX('Orçamentária-TR'!C:C,MATCH(Composições!A1182,'Orçamentária-TR'!A:A,0),1))","v":{"$error":"#N/A"}},null,"","",null,null,0]
[null,null,null,null,null,"","",null,null,0]
[null,null,"Torneira de mesa para lavatorio, bica alta, com arejador, cromado. Ref.: Código B5810C2CRB – Linha City – Celite","un ",1,"","",{"$f":"SUM(G1184:G1187)","v":2.6647271999999997},null,0]
[null,null,"Fita veda rosca em rolos de 18 mm x 10 m (L x C)","UN",3.04E-2,3.2679999999999998,9.9347199999999997E-2,null,null,0]
[null,null,"Encanador ou Bombeiro Hidráulico com Encargos Complementares","h",0.1,20.9285,2.0928499999999999,null,null,0]
[null,null,"Servente com Encargos Complementares","h",0.03,15.750999999999998,0.47252999999999989,null,null,0]
[null,null,null,null,null,"","",null,null,0]
["SF-00205",{"$f":"INDEX('Orçamentária-TR'!B:C,MATCH(Composições!A1189,'Orçamentária-TR'!B:B,0),2)","v":{"$error":"#N/A"}},null,{"$f":"TRIM(INDEX('Orçamentária-TR'!C:C,MATCH(Composições!A1189,'Orçamentária-TR'!A:A,0),1))","v":{"$error":"#N/A"}},null,"","",null,null,0]
[null,null,null,null,null,"","",null,null,0]
[null,null,"Torneira de mesa para lavatorio bica baixa. Ref.: Código B5811C2CRB – Linha City – Celite","un ",1,"","",{"$f":"SUM(G1191:G1194)","v":2.6647271999999997},null,0]
[null,null,"Fita veda rosca em rolos de 18 mm x 10 m (L x C)","UN",3.04E-2,3.2679999999999998,9.9347199999999997E-2,null,null,0]
[null,null,"Encanador ou Bombeiro Hidráulico com Encargos Complementares","h",0.1,20.9285,2.0928499999999999,null,null,0]
[null,null,"Servente com Encargos Complementares","h",0.03,15.750999999999998,0.47252999999999989,null,null,0]
[null,null,null,null,null,"","",null,null,0]
["SF-00206",{"$f":"INDEX('Orçamentária-TR'!B:C,MATCH(Composições!A1196,'Orçamentária-TR'!B:B,0),2)","v":{"$error":"#N/A"}},null,{"$f":"TRIM(INDEX('Orçamentária-TR'!C:C,MATCH(Composições!A1196,'Orçamentária-TR'!A:A,0),1))","v":{"$error":"#N/A"}},null,"","",null,null,0]
[null,null,null,null,null,"","",null,null,0]
[null,null,"TORNEIRA CROMADA DE MESA PARA LAVATORIO TEMPORIZADA PRESSAO BICA BAIXA","UN",1,142.32899999999998,142.32899999999998,{"$f":"SUM(G1198:G1201)","v":144.9937272},null,0]
[null,null,"Fita veda rosca em rolos de 18 mm x 10 m (L x C)","UN",3.04E-2,3.2679999999999998,9.9347199999999997E-2,null,null,0]
[null,null,"Encanador ou Bombeiro Hidráulico com Encargos Complementares","h",0.1,20.9285,2.0928499999999999,null,null,0]
[null,null,"Servente com Encargos Complementares","h",0.03,15.750999999999998,0.47252999999999989,null,null,0]
[null,null,null,null,null,"","",null,null,0]
["SF-00207",{"$f":"INDEX('Orçamentária-TR'!B:C,MATCH(Composições!A1203,'Orçamentária-TR'!B:B,0),2)","v":{"$error":"#N/A"}},null,{"$f":"TRIM(INDEX('Orçamentária-TR'!C:C,MATCH(Composições!A1203,'Orçamentária-TR'!A:A,0),1))","v":{"$error":"#N/A"}},null,"","",null,null,0]
[null,null,null,null,null,"","",null,null,0]
[null,null,"Torneira de parede para cozinha bica móvel com arejador articulado, cromada. Ref.: Código B5815C2CRB – Linha City – Celite","un ",1,"","",{"$f":"SUM(G1205:G1208)","v":4.4447422000000003},null,0]
[null,null,"Fita veda rosca em rolos de 18 mm x 10 m (L x C)","UN",3.04E-2,3.2679999999999998,9.9347199999999997E-2,null,null,0]
[null,null,"Encanador ou Bombeiro Hidráulico com Encargos Complementares","h",0.17,20.9285,3.5578450000000004,null,null,0]
[null,null,"Servente com Encargos Complementares","h",0.05,15.750999999999998,0.78754999999999997,null,null,0]
[null,null,null,null,null,"","",null,null,0]
["SF-00208",{"$f":"INDEX('Orçamentária-TR'!B:C,MATCH(Composições!A1210,'Orçamentária-TR'!B:B,0),2)","v":{"$error":"#N/A"}},null,{"$f":"TRIM(INDEX('Orçamentária-TR'!C:C,MATCH(Composições!A1210,'Orçamentária-TR'!A:A,0),1))","v":{"$error":"#N/A"}},null,"","",null,null,0]
[null,null,null,null,null,"","",null,null,0]
[null,null,"Fita veda rosca em rolos de 18 mm x 10 m (L x C)","UN",3.04E-2,3.2679999999999998,9.9347199999999997E-2,{"$f":"SUM(G1212:G1215)","v":54.670672199999998},null,0]
[null,null,"Encanador ou Bombeiro Hidráulico com Encargos Complementares","h",0.15,20.9285,3.139275,null,null,0]
[null,null,"Servente com Encargos Complementares","h",0.05,15.750999999999998,0.78754999999999997,null,null,0]
[null,null,"Torneira cromada com bico para jardim/tanque 1/2 \" ou 3/4 \" (ref 1153)","un",1,50.644500000000001,50.644500000000001,null,null,0]
[null,null,null,null,null,"","",null,null,0]
["SF-00209",{"$f":"INDEX('Orçamentária-TR'!B:C,MATCH(Composições!A1217,'Orçamentária-TR'!B:B,0),2)","v":{"$error":"#N/A"}},null,{"$f":"TRIM(INDEX('Orçamentária-TR'!C:C,MATCH(Composições!A1217,'Orçamentária-TR'!A:A,0),1))","v":{"$error":"#N/A"}},null,"","",null,null,0]
[null,null,null,null,null,"","",null,null,0]
[null,null,"Válvula de descarga 1 1/2\" cromada. ref.: modelo 2565.C.112.CONF – linha Hydra Eco Conforto – Deca ","un ",1,"","",{"$f":"SUM(G1219:G1222)","v":29.618729500000001},null,0]
[null,null,"Fita veda rosca em rolos de 18 mm x 50 m (L x C)","UN",1.9E-2,12.045999999999999,0.22887399999999999,null,null,0]
[null,null,"Auxiliar de encanador ou bombeiro hidráulico com encargos complementares","h",0.78900000000000003,16.320999999999998,12.877268999999998,null,null,0]
[null,null,"Encanador ou Bombeiro Hidráulico com Encargos Complementares","h",0.78900000000000003,20.9285,16.512586500000001,null,null,0]
[null,null,null,null,null,"","",null,null,0]
["SF-00210",{"$f":"INDEX('Orçamentária-TR'!B:C,MATCH(Composições!A1224,'Orçamentária-TR'!B:B,0),2)","v":{"$error":"#N/A"}},null,{"$f":"TRIM(INDEX('Orçamentária-TR'!C:C,MATCH(Composições!A1224,'Orçamentária-TR'!A:A,0),1))","v":{"$error":"#N/A"}},null,"","",null,null,0]
[null,null,null,null,null,"","",null,null,0]
[null,null,"Valvula de descarga metalica, base 1 1/2 \" e acabamento metalico cromado","UN",1,178.6,178.6,{"$f":"SUM(G1226:G1229)","v":208.21872949999999},null,0]
[null,null,"Fita veda rosca em rolos de 18 mm x 50 m (L x C)","UN",1.9E-2,12.045999999999999,0.22887399999999999,null,null,0]
[null,null,"Auxiliar de encanador ou bombeiro hidráulico com encargos complementares","h",0.78900000000000003,16.320999999999998,12.877268999999998,null,null,0]
[null,null,"Encanador ou Bombeiro Hidráulico com Encargos Complementares","h",0.78900000000000003,20.9285,16.512586500000001,null,null,0]
[null,null,null,null,null,"","",null,null,0]
["SF-00211",{"$f":"INDEX('Orçamentária-TR'!B:C,MATCH(Composições!A1231,'Orçamentária-TR'!B:B,0),2)","v":{"$error":"#N/A"}},null,{"$f":"TRIM(INDEX('Orçamentária-TR'!C:C,MATCH(Composições!A1231,'Orçamentária-TR'!A:A,0),1))","v":{"$error":"#N/A"}},null,"","",null,null,0]
[null,null,null,null,null,"","",null,null,0]
[null,null,"Válvula de descarga 1 1/4\" . Ref.: Modelo 2565.C.114.CONF – Linha Hydra Eco Conforto – Deca","un ",1,"","",{"$f":"SUM(G1233:G1236)","v":29.618729500000001},null,0]
[null,null,"Fita veda rosca em rolos de 18 mm x 50 m (L x C)","UN",1.9E-2,12.045999999999999,0.22887399999999999,null,null,0]
[null,null,"Auxiliar de encanador ou bombeiro hidráulico com encargos complementares","h",0.78900000000000003,16.320999999999998,12.877268999999998,null,null,0]
[null,null,"Encanador ou Bombeiro Hidráulico com Encargos Complementares","h",0.78900000000000003,20.9285,16.512586500000001,null,null,0]
[null,null,null,null,null,"","",null,null,0]
["SF-00212",{"$f":"INDEX('Orçamentária-TR'!B:C,MATCH(Composições!A1238,'Orçamentária-TR'!B:B,0),2)","v":{"$error":"#N/A"}},null,{"$f":"TRIM(INDEX('Orçamentária-TR'!C:C,MATCH(Composições!A1238,'Orçamentária-TR'!A:A,0),1))","v":{"$error":"#N/A"}},null,"",{"$f":"IF(ISNUMBER(F1238),E1238*F1238,\"\")","v":""},null,null,0]
[null,null,null,null,null,"","",null,null,0]
[null,null,"Valvula de descarga metalica, base 1 1/4 \" e acabamento metalico cromado","UN",1,144.685,144.685,{"$f":"SUM(G1240:G1243)","v":174.30372949999997},null,0]
[null,null,"Fita veda rosca em rolos de 18 mm x 50 m (L x C)","UN",1.9E-2,12.045999999999999,0.22887399999999999,null,null,0]
[null,null,"Auxiliar de encanador ou bombeiro hidráulico com encargos complementares","h",0.78900000000000003,16.320999999999998,12.877268999999998,null,null,0]
[null,null,"Encanador ou Bombeiro Hidráulico com Encargos Complementares","h",0.78900000000000003,20.9285,16.512586500000001,null,null,0]
[null,null,null,null,null,"","",null,null,0]
["SF-00213",{"$f":"INDEX('Orçamentária-TR'!B:C,MATCH(Composições!A1245,'Orçamentária-TR'!B:B,0),2)","v":{"$error":"#N/A"}},null,{"$f":"TRIM(INDEX('Orçamentária-TR'!C:C,MATCH(Composições!A1245,'Orçamentária-TR'!A:A,0),1))","v":{"$error":"#N/A"}},null,"","",null,null,0]
[null,null,null,null,null,"","",null,null,0]
[null,null,"Valvula em metal cromado para lavatorio, 1 \" sem ladrao","UN",1,27.416999999999998,27.416999999999998,{"$f":"SUM(G1247:G1250)","v":31.893114999999998},null,0]
[null,null,"Fita veda rosca em rolos de 18 mm x 10 m (L x C)","UN",0.04,3.2679999999999998,0.13072,null,null,0]
[null,null,"Encanador ou Bombeiro Hidráulico com Encargos Complementares","h",0.17,20.9285,3.5578450000000004,null,null,0]
[null,null,"Servente com Encargos Complementares","h",0.05,15.750999999999998,0.78754999999999997,null,null,0]
[null,null,null,null,null,"","",null,null,0]
["SF-00214",{"$f":"INDEX('Orçamentária-TR'!B:C,MATCH(Composições!A1252,'Orçamentária-TR'!B:B,0),2)","v":{"$error":"#N/A"}},null,{"$f":"TRIM(INDEX('Orçamentária-TR'!C:C,MATCH(Composições!A1252,'Orçamentária-TR'!A:A,0),1))","v":{"$error":"#N/A"}},null,"","",null,null,0]
[null,null,null,null,null,"","",null,null,0]
[null,null,"Fita veda rosca em rolos de 18 mm x 10 m (L x C)","UN",0.04,3.2679999999999998,0.13072,{"$f":"SUM(G1254:G1257)","v":23.742115000000002},null,0]
[null,null,"Valvula em metal cromado para tanque, 1.1/2 \" sem ladrao","un",1,19.266000000000002,19.266000000000002,null,null,0]
[null,null,"Encanador ou Bombeiro Hidráulico com Encargos Complementares","h",0.17,20.9285,3.5578450000000004,null,null,0]
[null,null,"Servente com Encargos Complementares","h",0.05,15.750999999999998,0.78754999999999997,null,null,0]
[null,null,null,null,null,"","",null,null,0]
["SF-00215",{"$f":"INDEX('Orçamentária-TR'!B:C,MATCH(Composições!A1259,'Orçamentária-TR'!B:B,0),2)","v":{"$error":"#N/A"}},null,{"$f":"TRIM(INDEX('Orçamentária-TR'!C:C,MATCH(Composições!A1259,'Orçamentária-TR'!A:A,0),1))","v":{"$error":"#N/A"}},null,"","",null,null,0]
[null,null,null,null,null,"","",null,null,0]
[null,null,"Valvula de descarga em metal cromado para mictorio com acionamento por pressao e fechamento automatico","UN",1,153.73850000000002,153.73850000000002,{"$f":"SUM(G1261:G1264)","v":183.35722950000002},null,0]
[null,null,"Fita veda rosca em rolos de 18 mm x 50 m (L x C)","UN",1.9E-2,12.045999999999999,0.22887399999999999,null,null,0]
[null,null,"Auxiliar de encanador ou bombeiro hidráulico com encargos complementares","h",0.78900000000000003,16.320999999999998,12.877268999999998,null,null,0]
[null,null,"Encanador ou Bombeiro Hidráulico com Encargos Complementares","h",0.78900000000000003,20.9285,16.512586500000001,null,null,0]
[null,null,null,null,null,"","",null,null,0]
["SF-00216",{"$f":"INDEX('Orçamentária-TR'!B:C,MATCH(Composições!A1266,'Orçamentária-TR'!B:B,0),2)","v":{"$error":"#N/A"}},null,{"$f":"TRIM(INDEX('Orçamentária-TR'!C:C,MATCH(Composições!A1266,'Orçamentária-TR'!A:A,0),1))","v":{"$error":"#N/A"}},null,"","",null,null,0]
[null,null,null,null,null,"","",null,null,0]
[null,null,"Eletricista com encargos complementares","h",0.28999999999999998,21.526999999999997,6.2428299999999988,{"$f":"SUM(G1268:G1270)","v":11.105404999999998},null,0]
[null,null,"Auxiliar de eletricista com encargos complementares","h",0.28999999999999998,16.767499999999998,4.8625749999999988,null,null,0]
[null,null,"Alarme de emergência audiovisual intermitente com fio. Ref. Planeta Acessível Alarme PCD ou AbaFire AFSAVPNE + AbaFire AFAMPNE ","un ",1,"","",null,null,0]
[null,null,null,null,null,"","",null,null,0]
["SF-00217",{"$f":"INDEX('Orçamentária-TR'!B:C,MATCH(Composições!A1272,'Orçamentária-TR'!B:B,0),2)","v":{"$error":"#N/A"}},null,{"$f":"TRIM(INDEX('Orçamentária-TR'!C:C,MATCH(Composições!A1272,'Orçamentária-TR'!A:A,0),1))","v":{"$error":"#N/A"}},null,"","",null,null,0]
[null,null,null,null,null,"","",null,null,0]
[null,null,"Barra de apoio com comprimento de 405mm e espaçamento de 66mm da parede, barra com bitola de 32m, em aço escovado","un ",1,"","",{"$f":"SUM(G1274:G1277)","v":39.928499999999993},null,0]
[null,null,"Bucha de nylon, diametro do furo 8 mm, comprimento 40 mm, com parafuso de rosca soberba, cabeca chata, fenda simples, 4,8 x 50 mm","UN",6,0.47499999999999998,2.8499999999999996,null,null,0]
[null,null,"Pedreiro com Encargos Complementares","h",1,21.327499999999997,21.327499999999997,null,null,0]
[null,null,"Servente com Encargos Complementares","h",1,15.750999999999998,15.750999999999998,null,null,0]
[null,null,null,null,null,"","",null,null,0]
["SF-00218",{"$f":"INDEX('Orçamentária-TR'!B:C,MATCH(Composições!A1279,'Orçamentária-TR'!B:B,0),2)","v":{"$error":"#N/A"}},null,{"$f":"TRIM(INDEX('Orçamentária-TR'!C:C,MATCH(Composições!A1279,'Orçamentária-TR'!A:A,0),1))","v":{"$error":"#N/A"}},null,"","",null,null,0]
[null,null,null,null,null,"","",null,null,0]
[null,null,"Barra de apoio com comprimento de 705mm e espaçamento de 66mm da parede, barra com bitola de 32mm em aço escovado","un ",1,"","",{"$f":"SUM(G1281:G1284)","v":39.928499999999993},null,0]
[null,null,"Bucha de nylon, diametro do furo 8 mm, comprimento 40 mm, com parafuso de rosca soberba, cabeca chata, fenda simples, 4,8 x 50 mm","UN",6,0.47499999999999998,2.8499999999999996,null,null,0]
[null,null,"Pedreiro com Encargos Complementares","h",1,21.327499999999997,21.327499999999997,null,null,0]
[null,null,"Servente com Encargos Complementares","h",1,15.750999999999998,15.750999999999998,null,null,0]
[null,null,null,null,null,"","",null,null,0]
["SF-00219",{"$f":"INDEX('Orçamentária-TR'!B:C,MATCH(Composições!A1286,'Orçamentária-TR'!B:B,0),2)","v":{"$error":"#N/A"}},null,{"$f":"TRIM(INDEX('Orçamentária-TR'!C:C,MATCH(Composições!A1286,'Orçamentária-TR'!A:A,0),1))","v":{"$error":"#N/A"}},null,"","",null,null,0]
[null,null,null,null,null,"","",null,null,0]
[null,null,"Barra de apoio linha conforto com comprimento de 805mm e espaçamento de 66mm da parede, barra com bitola de 32mm em aço escovado","un ",1,"","",{"$f":"SUM(G1288:G1291)","v":39.928499999999993},null,0]
[null,null,"Bucha de nylon, diametro do furo 8 mm, comprimento 40 mm, com parafuso de rosca soberba, cabeca chata, fenda simples, 4,8 x 50 mm","UN",6,0.47499999999999998,2.8499999999999996,null,null,0]
[null,null,"Pedreiro com Encargos Complementares","h",1,21.327499999999997,21.327499999999997,null,null,0]
[null,null,"Servente com Encargos Complementares","h",1,15.750999999999998,15.750999999999998,null,null,0]
[null,null,null,null,null,"","",null,null,0]
["SF-00220",{"$f":"INDEX('Orçamentária-TR'!B:C,MATCH(Composições!A1293,'Orçamentária-TR'!B:B,0),2)","v":{"$error":"#N/A"}},null,{"$f":"TRIM(INDEX('Orçamentária-TR'!C:C,MATCH(Composições!A1293,'Orçamentária-TR'!A:A,0),1))","v":{"$error":"#N/A"}},null,"","",null,null,0]
[null,null,null,null,null,"","",null,null,0]
[null,null,"Pedreiro com Encargos Complementares","h",1,21.327499999999997,21.327499999999997,{"$f":"SUM(G1295:G1298)","v":39.928499999999993},null,0]
[null,null,"Servente com Encargos Complementares","h",1,15.750999999999998,15.750999999999998,null,null,0]
[null,null,"Barra de apoio lateral fixa, com 303mm de comprimento, com a bitola de 32mm e em aço escovado","un",1,"","",null,null,0]
[null,null,"Bucha de nylon, diametro do furo 8 mm, comprimento 40 mm, com parafuso de rosca soberba, cabeca chata, fenda simples, 4,8 x 50 mm","UN",6,0.47499999999999998,2.8499999999999996,null,null,0]
[null,null,null,null,null,"","",null,null,0]
["SF-00221",{"$f":"INDEX('Orçamentária-TR'!B:C,MATCH(Composições!A1300,'Orçamentária-TR'!B:B,0),2)","v":{"$error":"#N/A"}},null,{"$f":"TRIM(INDEX('Orçamentária-TR'!C:C,MATCH(Composições!A1300,'Orçamentária-TR'!A:A,0),1))","v":{"$error":"#N/A"}},null,"","",null,null,0]
[null,null,null,null,null,"","",null,null,0]
[null,null,"Lavatório para instalação com coluna suspensa, para apoio à pessoa com deficiência. Ref.: Modelo L.39.17 – Linha Spot – Deca","un ",1,"",{"$f":"IF(ISNUMBER(F1302),E1302*F1302,\"\")","v":""},{"$f":"SUM(G1302:G1306)","v":38.771770500000002},null,0]
[null,null,"Parafuso niquelado 3 1/2\" com acabamento cromado para fixar peca sanitaria, inclui porca cega, arruela e bucha de nylon tamanho S-8","UN",2,12.587499999999999,25.174999999999997,null,null,0]
[null,null,"Rejunte epoxi branco","kg",5.0700000000000002E-2,48.164999999999999,2.4419655000000002,null,null,0]
[null,null,"Encanador ou Bombeiro Hidráulico com Encargos Complementares","h",0.39,20.9285,8.162115,null,null,0]
[null,null,"Servente com Encargos Complementares","h",0.19,15.750999999999998,2.9926899999999996,null,null,0]
[null,null,null,null,null,"","",null,null,0]
["SF-00222",{"$f":"INDEX('Orçamentária-TR'!B:C,MATCH(Composições!A1308,'Orçamentária-TR'!B:B,0),2)","v":{"$error":"#N/A"}},null,{"$f":"TRIM(INDEX('Orçamentária-TR'!C:C,MATCH(Composições!A1308,'Orçamentária-TR'!A:A,0),1))","v":{"$error":"#N/A"}},null,"","",null,null,0]
[null,null,null,null,null,"","",null,null,0]
[null,null,"Encanador ou Bombeiro Hidráulico com Encargos Complementares","h",1.47,20.9285,30.764894999999999,{"$f":"SUM(G1310:G1315)","v":118.97001049999999},null,0]
[null,null,"Servente com Encargos Complementares","h",0.65,15.750999999999998,10.238149999999999,null,null,0]
[null,null,"Lavatório para instalação com coluna suspensa, para apoio à pessoa com deficiência. Ref.: Modelo L.39.17 – Linha Spot – Deca","un ",1,"","",null,null,0]
[null,null,"Parafuso niquelado 3 1/2\" com acabamento cromado para fixar peca sanitaria, inclui porca cega, arruela e bucha de nylon tamanho S-8","UN",6,12.587499999999999,75.524999999999991,null,null,0]
[null,null,"Rejunte epoxi branco","kg",5.0700000000000002E-2,48.164999999999999,2.4419655000000002,null,null,0]
[null,null,"Coluna suspensa para lavatório para apoio à pessoa com deficiência. Ref..: Deca Spot CS.39.17","un",1,"","",null,null,0]
[null,null,null,null,null,"","",null,null,0]
["SF-00223",{"$f":"INDEX('Orçamentária-TR'!B:C,MATCH(Composições!A1317,'Orçamentária-TR'!B:B,0),2)","v":{"$error":"#N/A"}},null,{"$f":"TRIM(INDEX('Orçamentária-TR'!C:C,MATCH(Composições!A1317,'Orçamentária-TR'!A:A,0),1))","v":{"$error":"#N/A"}},null,"","",null,null,0]
[null,null,null,null,null,"","",null,null,0]
[null,null,"Cabide, cromado. Ref.: Modelo 2060.C.FLX – Linha Flex – Deca","un ",1,"","",{"$f":"SUM(G1319:G1320)","v":3.76299655},null,0]
[null,null,"Fixação utilizando parafuso e bucha de nylon, somente mão de obra. af_10/2016","UN",1,3.76299655,3.76299655,null,null,0]
[null,null,null,null,null,"","",null,null,0]
["SF-00224",{"$f":"INDEX('Orçamentária-TR'!B:C,MATCH(Composições!A1322,'Orçamentária-TR'!B:B,0),2)","v":{"$error":"#N/A"}},null,{"$f":"TRIM(INDEX('Orçamentária-TR'!C:C,MATCH(Composições!A1322,'Orçamentária-TR'!A:A,0),1))","v":{"$error":"#N/A"}},null,"","",null,null,0]
[null,null,null,null,null,"","",null,null,0]
[null,null,"Papeleira, cromada. Ref.: Modelo 2020.C.FLX – Linha Flex – Deca","un ",1,"","",{"$f":"SUM(G1324:G1325)","v":3.76299655},null,0]
[null,null,"Fixação utilizando parafuso e bucha de nylon, somente mão de obra. af_10/2016","UN",1,3.76299655,3.76299655,null,null,0]
[null,null,null,null,null,"","",null,null,0]
["SF-00225",{"$f":"INDEX('Orçamentária-TR'!B:C,MATCH(Composições!A1327,'Orçamentária-TR'!B:B,0),2)","v":{"$error":"#N/A"}},null,{"$f":"TRIM(INDEX('Orçamentária-TR'!C:C,MATCH(Composições!A1327,'Orçamentária-TR'!A:A,0),1))","v":{"$error":"#N/A"}},null,"","",null,null,0]
[null,null,null,null,null,"","",null,null,0]
[null,null,"Porta-toalha em argola, cromado. Ref.: Modelo 2050.C.FLX – Linha Flex – Deca","un ",1,"","",{"$f":"SUM(G1329:G1330)","v":3.76299655},null,0]
[null,null,"Fixação utilizando parafuso e bucha de nylon, somente mão de obra. af_10/2016","UN",1,3.76299655,3.76299655,null,null,0]
[null,null,null,null,null,"","",null,null,0]
["SF-00226",{"$f":"INDEX('Orçamentária-TR'!B:C,MATCH(Composições!A1332,'Orçamentária-TR'!B:B,0),2)","v":{"$error":"#N/A"}},null,{"$f":"TRIM(INDEX('Orçamentária-TR'!C:C,MATCH(Composições!A1332,'Orçamentária-TR'!A:A,0),1))","v":{"$error":"#N/A"}},null,"","",null,null,0]
[null,null,null,null,null,"","",null,null,0]
[null,null,"Porta-toalha em barra, cromado. Ref.: Modelo 2040.C.FLX – Linha Flex – Deca","un ",1,"","",{"$f":"SUM(G1334:G1335)","v":3.76299655},null,0]
[null,null,"Fixação utilizando parafuso e bucha de nylon, somente mão de obra. af_10/2016","UN",1,3.76299655,3.76299655,null,null,0]
[null,null,null,null,null,"","",null,null,0]
["SF-00227",{"$f":"INDEX('Orçamentária-TR'!B:C,MATCH(Composições!A1337,'Orçamentária-TR'!B:B,0),2)","v":{"$error":"#N/A"}},null,{"$f":"TRIM(INDEX('Orçamentária-TR'!C:C,MATCH(Composições!A1337,'Orçamentária-TR'!A:A,0),1))","v":{"$error":"#N/A"}},null,"","",null,null,0]
[null,null,null,null,null,"","",null,null,0]
[null,null,"Auxiliar de eletricista com encargos complementares","h",0.14499999999999999,16.767499999999998,2.4312874999999994,{"$f":"SUM(G1339:G1342)","v":7.2854979572899987},null,0]
[null,null,"Eletricista com encargos complementares","h",0.14499999999999999,21.526999999999997,3.1214149999999994,null,null,0]
[null,null,"ARGAMASSA TRAÇO 1:3 (EM VOLUME DE CIMENTO E AREIA MÉDIA ÚMIDA), PREPARO MANUAL. AF_08/2019","m3",8.9999999999999998E-4,447.55050809999994,0.40279545728999994,null,null,0]
[null,null,"Caixa de passagem, em PVC, de 4\" x 2\", para eletroduto flexivel corrugado","un",1,1.3299999999999998,1.3299999999999998,null,null,0]
[null,null,null,null,null,"","",null,null,0]
["SF-00228",{"$f":"INDEX('Orçamentária-TR'!B:C,MATCH(Composições!A1344,'Orçamentária-TR'!B:B,0),2)","v":{"$error":"#N/A"}},null,{"$f":"TRIM(INDEX('Orçamentária-TR'!C:C,MATCH(Composições!A1344,'Orçamentária-TR'!A:A,0),1))","v":{"$error":"#N/A"}},null,"","",null,null,0]
[null,null,null,null,null,"","",null,null,0]
[null,null,"Auxiliar de eletricista com encargos complementares","h",0.14499999999999999,16.767499999999998,2.4312874999999994,{"$f":"SUM(G1346:G1348)","v":5.5527024999999988},null,0]
[null,null,"Eletricista com encargos complementares","h",0.14499999999999999,21.526999999999997,3.1214149999999994,null,null,0]
[null,null,"Caixa 4x2 para drywall","un",1,"","",null,null,0]
[null,null,null,null,null,"","",null,null,0]
["SF-00229",{"$f":"INDEX('Orçamentária-TR'!B:C,MATCH(Composições!A1350,'Orçamentária-TR'!B:B,0),2)","v":{"$error":"#N/A"}},null,{"$f":"TRIM(INDEX('Orçamentária-TR'!C:C,MATCH(Composições!A1350,'Orçamentária-TR'!A:A,0),1))","v":{"$error":"#N/A"}},null,"","",null,null,0]
[null,null,null,null,null,"","",null,null,0]
[null,null,"Auxiliar de eletricista com encargos complementares","h",0.16600000000000001,16.767499999999998,2.7834049999999997,{"$f":"SUM(G1352:G1355)","v":9.5444476097199988},null,0]
[null,null,"Eletricista com encargos complementares","h",0.16600000000000001,21.526999999999997,3.5734819999999998,null,null,0]
[null,null,"ARGAMASSA TRAÇO 1:3 (EM VOLUME DE CIMENTO E AREIA MÉDIA ÚMIDA), PREPARO MANUAL. AF_08/2019","m3",1.1999999999999999E-3,447.55050809999994,0.53706060971999992,null,null,0]
[null,null,"Caixa de passagem, em PVC, de 4\" x 4\", para eletroduto flexivel corrugado","un",1,2.6505000000000001,2.6505000000000001,null,null,0]
[null,null,null,null,null,"","",null,null,0]
["SF-00230",{"$f":"INDEX('Orçamentária-TR'!B:C,MATCH(Composições!A1357,'Orçamentária-TR'!B:B,0),2)","v":{"$error":"#N/A"}},null,{"$f":"TRIM(INDEX('Orçamentária-TR'!C:C,MATCH(Composições!A1357,'Orçamentária-TR'!A:A,0),1))","v":{"$error":"#N/A"}},null,"","",null,null,0]
[null,null,null,null,null,"","",null,null,0]
[null,null,"Auxiliar de eletricista com encargos complementares","h",0.16600000000000001,16.767499999999998,2.7834049999999997,{"$f":"SUM(G1359:G1361)","v":6.3568869999999995},null,0]
[null,null,"Eletricista com encargos complementares","h",0.16600000000000001,21.526999999999997,3.5734819999999998,null,null,0]
[null,null,"Caixa 4x4 para drywall","un",1,"","",null,null,0]
[null,null,null,null,null,"","",null,null,0]
["SF-00231",{"$f":"INDEX('Orçamentária-TR'!B:C,MATCH(Composições!A1363,'Orçamentária-TR'!B:B,0),2)","v":{"$error":"#N/A"}},null,{"$f":"TRIM(INDEX('Orçamentária-TR'!C:C,MATCH(Composições!A1363,'Orçamentária-TR'!A:A,0),1))","v":{"$error":"#N/A"}},null,"","",null,null,0]
[null,null,null,null,null,"","",null,null,0]
[null,null,"Auxiliar de eletricista com encargos complementares","h",0.34599999999999997,16.767499999999998,5.8015549999999987,{"$f":"SUM(G1365:G1367)","v":13.249896999999997},null,0]
[null,null,"Eletricista com encargos complementares","h",0.34599999999999997,21.526999999999997,{"$f":"IF(ISNUMBER(F1366),E1366*F1366,\"\")","v":7.4483419999999985},null,null,0]
[null,null,"Caixa de passagem em alumínio c/ tampa, 100x100x50mm","m",1,"","",null,null,0]
[null,null,null,null,null,"","",null,null,0]
["SF-00232",{"$f":"INDEX('Orçamentária-TR'!B:C,MATCH(Composições!A1369,'Orçamentária-TR'!B:B,0),2)","v":{"$error":"#N/A"}},null,{"$f":"TRIM(INDEX('Orçamentária-TR'!C:C,MATCH(Composições!A1369,'Orçamentária-TR'!A:A,0),1))","v":{"$error":"#N/A"}},null,"","",null,null,0]
[null,null,null,null,null,"","",null,null,0]
[null,null,"Auxiliar de eletricista com encargos complementares","h",0.34599999999999997,16.767499999999998,5.8015549999999987,{"$f":"SUM(G1371:G1373)","v":13.249896999999997},null,0]
[null,null,"Eletricista com encargos complementares","h",0.34599999999999997,21.526999999999997,7.4483419999999985,null,null,0]
[null,null,"Caixa de passagem em alumínio c/ tampa, 200x200x100mm","m",1,"","",null,null,0]
[null,null,null,null,null,"","",null,null,0]
["SF-00233",{"$f":"INDEX('Orçamentária-TR'!B:C,MATCH(Composições!A1375,'Orçamentária-TR'!B:B,0),2)","v":{"$error":"#N/A"}},null,{"$f":"TRIM(INDEX('Orçamentária-TR'!C:C,MATCH(Composições!A1375,'Orçamentária-TR'!A:A,0),1))","v":{"$error":"#N/A"}},null,"","",null,null,0]
[null,null,null,null,null,"","",null,null,0]
[null,null,"Eletricista com encargos complementares","h",0.34599999999999997,21.526999999999997,7.4483419999999985,{"$f":"SUM(G1377:G1379)","v":43.003687999999997},null,0]
[null,null,"Servente com Encargos Complementares","h",0.34599999999999997,15.750999999999998,5.4498459999999991,null,null,0]
[null,null,"CAIXA DE PASSAGEM ELETRICA DE PAREDE, DE EMBUTIR, EM PVC, COM TAMPA APARAFUSADA, DIMENSOES 150 X 150 X *75* MM","un",1,30.105499999999999,30.105499999999999,null,null,0]
[null,null,null,null,null,"","",null,null,0]
["SF-00234",{"$f":"INDEX('Orçamentária-TR'!B:C,MATCH(Composições!A1381,'Orçamentária-TR'!B:B,0),2)","v":{"$error":"#N/A"}},null,{"$f":"TRIM(INDEX('Orçamentária-TR'!C:C,MATCH(Composições!A1381,'Orçamentária-TR'!A:A,0),1))","v":{"$error":"#N/A"}},null,"","",null,null,0]
[null,null,null,null,null,"","",null,null,0]
[null,null,"Eletricista com encargos complementares","h",0.34599999999999997,21.526999999999997,7.4483419999999985,{"$f":"SUM(G1383:G1385)","v":13.249896999999997},null,0]
[null,null,"Auxiliar de eletricista com encargos complementares","h",0.34599999999999997,16.767499999999998,5.8015549999999987,null,null,0]
[null,null,"Caixa para piso elevado, 170 mm x 170 mm x 70 mm (dimensões aproximadas), incluindo módulos de tomadas 2P+T (fêmea).","un",1,"","",null,null,0]
[null,null,null,null,null,"","",null,null,0]
["SF-00235",{"$f":"INDEX('Orçamentária-TR'!B:C,MATCH(Composições!A1387,'Orçamentária-TR'!B:B,0),2)","v":{"$error":"#N/A"}},null,{"$f":"TRIM(INDEX('Orçamentária-TR'!C:C,MATCH(Composições!A1387,'Orçamentária-TR'!A:A,0),1))","v":{"$error":"#N/A"}},null,"","",null,null,0]
[null,null,null,null,null,"","",null,null,0]
[null,null,"Canaleta em alumínio com tampa, divisória interna, 73x25mm, incluindo curvas, conexões e acessórios de fixação","m",1.1499999999999999,"","",{"$f":"SUM(G1389:G1391)","v":6.8930099999999985},null,0]
[null,null,"Auxiliar de eletricista com encargos complementares","h",0.18,16.767499999999998,3.0181499999999994,null,null,0]
[null,null,"Eletricista com encargos complementares","h",0.18,21.526999999999997,3.8748599999999995,null,null,0]
[null,null,null,null,null,"","",null,null,0]
["SF-00236",{"$f":"INDEX('Orçamentária-TR'!B:C,MATCH(Composições!A1393,'Orçamentária-TR'!B:B,0),2)","v":{"$error":"#N/A"}},null,{"$f":"TRIM(INDEX('Orçamentária-TR'!C:C,MATCH(Composições!A1393,'Orçamentária-TR'!A:A,0),1))","v":{"$error":"#N/A"}},null,"","",null,null,0]
[null,null,null,null,null,"","",null,null,0]
[null,null,"Auxiliar de eletricista com encargos complementares","h",0.53849999999999998,16.767499999999998,9.0292987499999988,{"$f":"SUM(G1395:G1398)","v":31.812588249999994},null,0]
[null,null,"Eletricista com encargos complementares","h",0.53849999999999998,21.526999999999997,11.592289499999998,null,null,0]
[null,null,"Bucha de nylon sem aba S6, com parafuso de 4,20 x 40 mm em aco zincado com rosca soberba, cabeca chata e fenda Phillips","un",2,0.19,0.38,null,null,0]
[null,null,"Condulete de aluminio tipo X, para eletroduto roscavel de 1\", com tampa cega","un",1,10.811,10.811,null,null,0]
[null,null,null,null,null,"","",null,null,0]
["SF-00237",{"$f":"INDEX('Orçamentária-TR'!B:C,MATCH(Composições!A1400,'Orçamentária-TR'!B:B,0),2)","v":{"$error":"#N/A"}},null,{"$f":"TRIM(INDEX('Orçamentária-TR'!C:C,MATCH(Composições!A1400,'Orçamentária-TR'!A:A,0),1))","v":{"$error":"#N/A"}},null,"","",null,null,0]
[null,null,null,null,null,"","",null,null,0]
[null,null,"Eletricista com encargos complementares","h",0.45,21.526999999999997,9.687149999999999,{"$f":"SUM(G1402:G1413)","v":18.145277399999998},null,0]
[null,null,"Auxiliar de eletricista com encargos complementares","h",0.45,16.767499999999998,7.5453749999999991,null,null,0]
[null,null,"Tiro com pistola para fixação de pino Ø 1/4\" em concreto, inclusive cartucho e pino","un ",0.67,0,0,null,null,0]
[null,null,"Eletrocalha perfurada (cabos elétricos) ou lisa (dados), tipo \"U\", de aço galvanizado eletrolítico 100 x 50 mm, fabricado em chapa #20 (0,95 mm)","m",1.05,"","",null,null,0]
[null,null,"Barra roscada em aço Ø 1/4\", comprimento 1 m, bicromatizada ou zincada","m",0.8,0,0,null,null,0]
[null,null,"PORCA ZINCADA, SEXTAVADA, DIAMETRO 1/4\"","UN",4.0033000000000003,0.22799999999999998,0.91275240000000002,null,null,0]
[null,null,"Arruela em aço galvanizado Ø 1/4\"","un ",4.0033000000000003,0,0,null,null,0]
[null,null,"Suporte suspensão vertical para eletrocalha 100 x 50 mm largura x aba","un ",0.67,0,0,null,null,0]
[null,null,"Prolongador para tirante rosqueado de 1/4\" x 50 mm","un ",1.05,0,0,null,null,0]
[null,null,"Parafuso lentilha 1/4 x 1/2\"","un",2.67,0,0,null,null,0]
[null,null,"Tala auto portante para emenda 50 mm","un ",0.66669999999999996,0,0,null,null,0]
[null,null,"Tampa de encaixe para eletrocalha aço galvanizado perfurada ou lisa, 100 mm","m",1.05,"","",null,null,0]
[null,null,null,null,null,"","",null,null,0]
["SF-00238",{"$f":"INDEX('Orçamentária-TR'!B:C,MATCH(Composições!A1415,'Orçamentária-TR'!B:B,0),2)","v":{"$error":"#N/A"}},null,{"$f":"TRIM(INDEX('Orçamentária-TR'!C:C,MATCH(Composições!A1415,'Orçamentária-TR'!A:A,0),1))","v":{"$error":"#N/A"}},null,"","",null,null,0]
[null,null,null,null,null,"","",null,null,0]
[null,null,"Eletricista com encargos complementares","h",0.6,21.526999999999997,12.916199999999998,{"$f":"SUM(G1417:G1428)","v":24.193467599999998},null,0]
[null,null,"Auxiliar de eletricista com encargos complementares","h",0.6,16.767499999999998,10.060499999999999,null,null,0]
[null,null,"Tiro com pistola para fixação de pino Ø 1/4\" em concreto, inclusive cartucho e pino","un ",1.3332999999999999,0,0,null,null,0]
[null,null,"Eletrocalha perfurada (cabos elétricos) ou lisa (dados), tipo \"U\", de aço galvanizado eletrolítico 200 x 100 mm, fabricado em chapa #18 (1,25 mm)","m",1.05,"","",null,null,0]
[null,null,"Barra roscada em aço Ø 1/4\", comprimento 1 m, bicromatizada ou zincada","m",1.6,0,0,null,null,0]
[null,null,"PORCA ZINCADA, SEXTAVADA, DIAMETRO 1/4\"","UN",5.3367000000000004,0.22799999999999998,1.2167676000000001,null,null,0]
[null,null,"Arruela em aço galvanizado Ø 1/4\"","un ",5.34,0,0,null,null,0]
[null,null,"Suporte suspensão omega para eletrocalha 200 x 100mm largura x aba","un ",0.67,0,0,null,null,0]
[null,null,"Prolongador para tirante rosqueado de 1/4\" x 50 mm","un ",1.3332999999999999,0,0,null,null,0]
[null,null,"Parafuso lentilha 1/4 x 1/2\"","un",2.67,0,0,null,null,0]
[null,null,"Tala auto portante para emenda 100 mm","un ",0.67,0,0,null,null,0]
[null,null,"Tampa de encaixe para eletrocalha aço galvanizado perfurada ou lisa, 200 mm","m",1.05,"","",null,null,0]
[null,null,null,null,null,"","",null,null,0]
["SF-00239",{"$f":"INDEX('Orçamentária-TR'!B:C,MATCH(Composições!A1430,'Orçamentária-TR'!B:B,0),2)","v":{"$error":"#N/A"}},null,{"$f":"TRIM(INDEX('Orçamentária-TR'!C:C,MATCH(Composições!A1430,'Orçamentária-TR'!A:A,0),1))","v":{"$error":"#N/A"}},null,"",{"$f":"IF(ISNUMBER(F1430),E1430*F1430,\"\")","v":""},null,null,0]
[null,null,null,null,null,"","",null,null,0]
[null,null,"Eletricista com encargos complementares","h",0.5,21.526999999999997,10.763499999999999,{"$f":"SUM(G1432:G1443)","v":20.3640176},null,0]
[null,null,"Auxiliar de eletricista com encargos complementares","h",0.5,16.767499999999998,8.3837499999999991,null,null,0]
[null,null,"Tiro com pistola para fixação de pino Ø 1/4\" em concreto, inclusive cartucho e pino","un ",1.3332999999999999,0,0,null,null,0]
[null,null,"Eletrocalha perfurada (cabos elétricos) ou lisa (dados), tipo \"U\", de aço galvanizado eletrolítico 200 x 50 mm, fabricado em chapa #18 (1,25 mm)","m",1.05,"","",null,null,0]
[null,null,"Barra roscada em aço Ø 1/4\", comprimento 1 m, bicromatizada ou zincada","m",1.6,0,0,null,null,0]
[null,null,"PORCA ZINCADA, SEXTAVADA, DIAMETRO 1/4\"","UN",5.3367000000000004,0.22799999999999998,1.2167676000000001,null,null,0]
[null,null,"Arruela em aço galvanizado Ø 1/4\"","un ",5.34,0,0,null,null,0]
[null,null,"Suporte suspensão omega para eletrocalha 200 x 50 mm largura x aba","un ",0.67,0,0,null,null,0]
[null,null,"Prolongador para tirante rosqueado de 1/4\" x 50 mm","un ",1.3332999999999999,0,0,null,null,0]
[null,null,"Parafuso lentilha 1/4 x 1/2\"","un",2.67,0,0,null,null,0]
[null,null,"Tala auto portante para emenda 50 mm","un ",0.67,0,0,null,null,0]
[null,null,"Tampa de encaixe para eletrocalha aço galvanizado perfurada ou lisa, 200 mm","m",1.05,"","",null,null,0]
[null,null,null,null,null,"","",null,null,0]
["SF-00240",{"$f":"INDEX('Orçamentária-TR'!B:C,MATCH(Composições!A1445,'Orçamentária-TR'!B:B,0),2)","v":{"$error":"#N/A"}},null,{"$f":"TRIM(INDEX('Orçamentária-TR'!C:C,MATCH(Composições!A1445,'Orçamentária-TR'!A:A,0),1))","v":{"$error":"#N/A"}},null,"","",null,null,0]
[null,null,null,null,null,"","",null,null,0]
[null,null,"Eletricista com encargos complementares","h",0.65,21.526999999999997,13.99255,{"$f":"SUM(G1447:G1458)","v":26.108192599999999},null,0]
[null,null,"Auxiliar de eletricista com encargos complementares","h",0.65,16.767499999999998,10.898874999999999,null,null,0]
[null,null,"Tiro com pistola para fixação de pino Ø 1/4\" em concreto, inclusive cartucho e pino","un ",1.3332999999999999,0,0,null,null,0]
[null,null,"Eletrocalha perfurada (cabos elétricos) ou lisa (dados), tipo \"U\", de aço galvanizado eletrolítico 300 x 100 mm, fabricado em chapa #18 (1,25 mm)","m",1.05,"","",null,null,0]
[null,null,"Barra roscada em aço Ø 1/4\", comprimento 1 m, bicromatizada ou zincada","m",1.6,0,0,null,null,0]
[null,null,"PORCA ZINCADA, SEXTAVADA, DIAMETRO 1/4\"","UN",5.3367000000000004,0.22799999999999998,1.2167676000000001,null,null,0]
[null,null,"Arruela em aço galvanizado Ø 1/4\"","un ",5.34,0,0,null,null,0]
[null,null,"Suporte suspensão omega para eletrocalha 300 x 100 mm largura x aba","un ",0.67,0,0,null,null,0]
[null,null,"Prolongador para tirante rosqueado de 1/4\" x 50 mm","un ",1.3332999999999999,0,0,null,null,0]
[null,null,"Parafuso lentilha 1/4 x 1/2\"","un",2.67,0,0,null,null,0]
[null,null,"Tala auto portante para emenda 100 mm","un ",0.67,0,0,null,null,0]
[null,null,"Tampa de encaixe para eletrocalha aço galvanizado perfurada ou lisa, 300 mm","m",1.05,"","",null,null,0]
[null,null,null,null,null,"","",null,null,0]
["SF-00241",{"$f":"INDEX('Orçamentária-TR'!B:C,MATCH(Composições!A1460,'Orçamentária-TR'!B:B,0),2)","v":{"$error":"#N/A"}},null,{"$f":"TRIM(INDEX('Orçamentária-TR'!C:C,MATCH(Composições!A1460,'Orçamentária-TR'!A:A,0),1))","v":{"$error":"#N/A"}},null,"","",null,null,0]
[null,null,null,null,null,"","",null,null,0]
[null,null,"Eletricista com encargos complementares","h",0.55000000000000004,21.526999999999997,11.83985,{"$f":"SUM(G1462:G1473)","v":22.278742600000001},null,0]
[null,null,"Auxiliar de eletricista com encargos complementares","h",0.55000000000000004,16.767499999999998,9.2221250000000001,null,null,0]
[null,null,"Tiro com pistola para fixação de pino Ø 1/4\" em concreto, inclusive cartucho e pino","un ",1.3332999999999999,0,0,null,null,0]
[null,null,"Eletrocalha perfurada (cabos elétricos) ou lisa (dados), tipo \"U\", de aço galvanizado eletrolítico 300 x 050 mm, fabricado em chapa #18 (1,25 mm)","m",1.05,"","",null,null,0]
[null,null,"Barra roscada em aço Ø 1/4\", comprimento 1 m, bicromatizada ou zincada","m",1.6,0,0,null,null,0]
[null,null,"PORCA ZINCADA, SEXTAVADA, DIAMETRO 1/4\"","UN",5.3367000000000004,0.22799999999999998,1.2167676000000001,null,null,0]
[null,null,"Arruela em aço galvanizado Ø 1/4\"","un ",5.34,0,0,null,null,0]
[null,null,"Suporte suspensão omega para eletrocalha 300 x 50 mm largura x aba","un ",0.67,0,0,null,null,0]
[null,null,"Prolongador para tirante rosqueado de 1/4\" x 50 mm","un ",1.3332999999999999,0,0,null,null,0]
[null,null,"Parafuso lentilha 1/4 x 1/2\"","un",2.67,0,0,null,null,0]
[null,null,"Tala auto portante para emenda 50 mm","un ",0.67,0,0,null,null,0]
[null,null,"Tampa de encaixe para eletrocalha aço galvanizado perfurada ou lisa, 300 mm","m",1.05,"","",null,null,0]
[null,null,null,null,null,"","",null,null,0]
["SF-00242",{"$f":"INDEX('Orçamentária-TR'!B:C,MATCH(Composições!A1475,'Orçamentária-TR'!B:B,0),2)","v":{"$error":"#N/A"}},null,{"$f":"TRIM(INDEX('Orçamentária-TR'!C:C,MATCH(Composições!A1475,'Orçamentária-TR'!A:A,0),1))","v":{"$error":"#N/A"}},null,"","",null,null,0]
[null,null,null,null,null,"","",null,null,0]
[null,null,"Eletricista com encargos complementares","h",0.55000000000000004,21.526999999999997,11.83985,{"$f":"SUM(G1477:G1488)","v":22.278742600000001},null,0]
[null,null,"Auxiliar de eletricista com encargos complementares","h",0.55000000000000004,16.767499999999998,9.2221250000000001,null,null,0]
[null,null,"Tiro com pistola para fixação de pino Ø 1/4\" em concreto, inclusive cartucho e pino","un ",1.3332999999999999,0,0,null,null,0]
[null,null,"Eletrocalha perfurada (cabos elétricos) ou lisa (dados), tipo \"U\", de aço galvanizado eletrolítico 400 x 050 mm, fabricado em chapa #16 (1,55 mm)","m",1.05,"","",null,null,0]
[null,null,"Barra roscada em aço Ø 1/4\", comprimento 1 m, bicromatizada ou zincada","m",1.6,0,0,null,null,0]
[null,null,"PORCA ZINCADA, SEXTAVADA, DIAMETRO 1/4\"","UN",5.3367000000000004,0.22799999999999998,1.2167676000000001,null,null,0]
[null,null,"Arruela em aço galvanizado Ø 1/4\"","un ",5.34,0,0,null,null,0]
[null,null,"Suporte suspensão omega para eletrocalha 400 x 50 mm largura x aba","un ",0.67,0,0,null,null,0]
[null,null,"Prolongador para tirante rosqueado de 1/4\" x 50 mm","un ",1.3332999999999999,0,0,null,null,0]
[null,null,"Parafuso lentilha 1/4 x 1/2\"","un",2.67,0,0,null,null,0]
[null,null,"Tala auto portante para emenda 50 mm","un ",0.67,0,0,null,null,0]
[null,null,"Tampa de encaixe para eletrocalha aço galvanizado perfurada ou lisa, 400 mm","m",1.05,"","",null,null,0]
[null,null,null,null,null,"","",null,null,0]
["SF-00243",{"$f":"INDEX('Orçamentária-TR'!B:C,MATCH(Composições!A1490,'Orçamentária-TR'!B:B,0),2)","v":{"$error":"#N/A"}},null,{"$f":"TRIM(INDEX('Orçamentária-TR'!C:C,MATCH(Composições!A1490,'Orçamentária-TR'!A:A,0),1))","v":{"$error":"#N/A"}},null,"","",null,null,0]
[null,null,null,null,null,"","",null,null,0]
[null,null,"Eletricista com encargos complementares","h",0.45,21.526999999999997,9.687149999999999,{"$f":"SUM(G1492:G1503)","v":18.145277399999998},null,0]
[null,null,"Auxiliar de eletricista com encargos complementares","h",0.45,16.767499999999998,7.5453749999999991,null,null,0]
[null,null,"Tiro com pistola para fixação de pino Ø 1/4\" em concreto, inclusive cartucho e pino","un ",0.67,0,{"$f":"IF(ISNUMBER(F1494),E1494*F1494,\"\")","v":0},null,null,0]
[null,null,"Eletrocalha perfurada (cabos elétricos) ou lisa (dados), tipo \"U\", de aço galvanizado eletrolítico 50 x 50 mm, fabricado em chapa #22 (0,8 mm)","m",1.05,"","",null,null,0]
[null,null,"Barra roscada em aço Ø 1/4\", comprimento 1 m, bicromatizada ou zincada","m",0.8,0,0,null,null,0]
[null,null,"PORCA ZINCADA, SEXTAVADA, DIAMETRO 1/4\"","UN",4.0033000000000003,0.22799999999999998,0.91275240000000002,null,null,0]
[null,null,"Arruela em aço galvanizado Ø 1/4\"","un ",4.0033000000000003,0,0,null,null,0]
[null,null,"Suporte suspensão vertical para eletrocalha 50 x 50 mm largura x aba","un ",0.67,0,0,null,null,0]
[null,null,"Prolongador para tirante rosqueado de 1/4\" x 50 mm","un ",1.05,0,0,null,null,0]
[null,null,"Parafuso lentilha 1/4 x 1/2\"","un",2.67,0,0,null,null,0]
[null,null,"Tala auto portante para emenda 50 mm","un ",0.66669999999999996,0,0,null,null,0]
[null,null,"Tampa de encaixe para eletrocalha aço galvanizado perfurada ou lisa, 50 mm","m",1.05,"","",null,null,0]
[null,null,null,null,null,"","",null,null,0]
["SF-00244",{"$f":"INDEX('Orçamentária-TR'!B:C,MATCH(Composições!A1505,'Orçamentária-TR'!B:B,0),2)","v":{"$error":"#N/A"}},null,{"$f":"TRIM(INDEX('Orçamentária-TR'!C:C,MATCH(Composições!A1505,'Orçamentária-TR'!A:A,0),1))","v":{"$error":"#N/A"}},null,"","",null,null,0]
[null,null,null,null,null,"","",null,null,0]
[null,null,"Eletroduto de aço com costura galvanização eletrolítica Ø 1 1/2\"","m",1.05,0,0,{"$f":"SUM(G1507:G1511)","v":18.112851170934999},null,0]
[null,null,"Eletricista com encargos complementares","h",0.28210000000000002,21.526999999999997,6.0727666999999999,null,null,0]
[null,null,"Auxiliar de eletricista com encargos complementares","h",0.28210000000000002,16.767499999999998,4.7301117499999998,null,null,0]
[null,null,"Fixação de tubos verticais de PPR diâmetros menores ou iguais a 40 mm com abraçadeira metálica rígida tipo D 1/2\", fixada em perfilado em alvenaria. af_05/2015","m",2,1.1589240000000001,2.3178480000000001,null,null,0]
[null,null,"Luva de emenda para eletroduto, aço galvanizado, DN 40 mm (1 1/2''), aparente, instalada em parede - fornecimento e instalação. af_11/2016_p","UN",0.33329999999999999,14.977871949999999,4.9921247209349993,null,null,0]
[null,null,null,null,null,"","",null,null,0]
["SF-00245",{"$f":"INDEX('Orçamentária-TR'!B:C,MATCH(Composições!A1513,'Orçamentária-TR'!B:B,0),2)","v":{"$error":"#N/A"}},null,{"$f":"TRIM(INDEX('Orçamentária-TR'!C:C,MATCH(Composições!A1513,'Orçamentária-TR'!A:A,0),1))","v":{"$error":"#N/A"}},null,"","",null,null,0]
[null,null,null,null,null,"","",null,null,0]
[null,null,"Eletroduto de aço com costura galvanização eletrolítica Ø 1 1/4\"","m",1.05,0,0,{"$f":"SUM(G1515:G1519)","v":15.851676250569998},null,0]
[null,null,"Eletricista com encargos complementares","h",0.247,21.526999999999997,5.3171689999999989,null,null,0]
[null,null,"Auxiliar de eletricista com encargos complementares","h",0.247,16.767499999999998,4.1415724999999997,null,null,0]
[null,null,"Fixação de tubos verticais de PPR diâmetros menores ou iguais a 40 mm com abraçadeira metálica rígida tipo D 1/2\", fixada em perfilado em alvenaria. af_05/2015","m",2,1.1589240000000001,2.3178480000000001,null,null,0]
[null,null,"Luva de emenda para eletroduto, aço galvanizado, DN 32 mm (1 1/4''), aparente, instalada em parede - fornecimento e instalação. af_11/2016_p","UN",0.33329999999999999,12.226482899999999,4.0750867505699997,null,null,0]
[null,null,null,null,null,"","",null,null,0]
["SF-00246",{"$f":"INDEX('Orçamentária-TR'!B:C,MATCH(Composições!A1521,'Orçamentária-TR'!B:B,0),2)","v":{"$error":"#N/A"}},null,{"$f":"TRIM(INDEX('Orçamentária-TR'!C:C,MATCH(Composições!A1521,'Orçamentária-TR'!A:A,0),1))","v":{"$error":"#N/A"}},null,"","",null,null,0]
[null,null,null,null,null,"","",null,null,0]
[null,null,"Eletroduto de aço com costura galvanização eletrolítica Ø 1\"","m",1.05,0,0,{"$f":"SUM(G1523:G1527)","v":13.822716757604999},null,0]
[null,null,"Eletricista com encargos complementares","h",0.21629999999999999,21.526999999999997,4.6562900999999997,null,null,0]
[null,null,"Auxiliar de eletricista com encargos complementares","h",0.21629999999999999,16.767499999999998,3.6268102499999997,null,null,0]
[null,null,"Fixação de tubos verticais de PPR diâmetros menores ou iguais a 40 mm com abraçadeira metálica rígida tipo D 1/2\", fixada em perfilado em alvenaria. af_05/2015","m",2,1.1589240000000001,2.3178480000000001,null,null,0]
[null,null,"Luva de emenda para eletroduto, aço galvanizado, DN 25 mm (1''), aparente, instalada em parede - fornecimento e instalação. af_11/2016_p","UN",0.33329999999999999,9.6662718499999993,3.2217684076049995,null,null,0]
[null,null,null,null,null,"","",null,null,0]
["SF-00247",{"$f":"INDEX('Orçamentária-TR'!B:C,MATCH(Composições!A1529,'Orçamentária-TR'!B:B,0),2)","v":{"$error":"#N/A"}},null,{"$f":"TRIM(INDEX('Orçamentária-TR'!C:C,MATCH(Composições!A1529,'Orçamentária-TR'!A:A,0),1))","v":{"$error":"#N/A"}},null,"","",null,null,0]
[null,null,null,null,null,"","",null,null,0]
[null,null,"Eletroduto de aço com costura galvanização eletrolítica Ø 2\"","m",1.05,0,0,{"$f":"SUM(G1531:G1535)","v":21.098732520935002},null,0]
[null,null,"Eletricista com encargos complementares","h",0.28210000000000002,21.526999999999997,6.0727666999999999,null,null,0]
[null,null,"Auxiliar de eletricista com encargos complementares","h",0.28210000000000002,16.767499999999998,4.7301117499999998,null,null,0]
[null,null,"FIXAÇÃO DE TUBOS VERTICAIS DE PPR DIÂMETROS MAIORES QUE 40 MM E MENORES OU IGUAIS A 75 MM COM ABRAÇADEIRA METÁLICA RÍGIDA TIPO D 2\", FIXADA EM PERFILADO EM ALVENARIA. AF_05/2015","M",2,2.3336465000000004,4.6672930000000008,null,null,0]
[null,null,"Luva de emenda para eletroduto, aço galvanizado, DN 50 mm (2''), aparente, instalada em parede - fornecimento e instalação. af_11/2016_p","UN",0.33329999999999999,16.887371949999999,5.6285610709349996,null,null,0]
[null,null,null,null,null,"","",null,null,0]
["SF-00248",{"$f":"INDEX('Orçamentária-TR'!B:C,MATCH(Composições!A1537,'Orçamentária-TR'!B:B,0),2)","v":{"$error":"#N/A"}},null,{"$f":"TRIM(INDEX('Orçamentária-TR'!C:C,MATCH(Composições!A1537,'Orçamentária-TR'!A:A,0),1))","v":{"$error":"#N/A"}},null,"","",null,null,0]
[null,null,null,null,null,"","",null,null,0]
[null,null,"Eletroduto de aço com costura galvanização eletrolítica Ø 3/4\"","m",1.05,0,0,{"$f":"SUM(G1539:G1543)","v":12.632480136494998},null,0]
[null,null,"Eletricista com encargos complementares","h",0.19439999999999999,21.526999999999997,4.1848487999999993,null,null,0]
[null,null,"Auxiliar de eletricista com encargos complementares","h",0.19439999999999999,16.767499999999998,3.2596019999999997,null,null,0]
[null,null,"Fixação de tubos verticais de PPR diâmetros menores ou iguais a 40 mm com abraçadeira metálica rígida tipo D 1/2\", fixada em perfilado em alvenaria. af_05/2015","m",2,1.1589240000000001,2.3178480000000001,null,null,0]
[null,null,"Luva de emenda para eletroduto, aço galvanizado, DN 20 mm (3/4''), aparente, instalada em parede - fornecimento e instalação. af_11/2016_p","UN",0.33329999999999999,8.6114051499999995,2.8701813364949995,null,null,0]
[null,null,null,null,null,"","",null,null,0]
["SF-00249",{"$f":"INDEX('Orçamentária-TR'!B:C,MATCH(Composições!A1545,'Orçamentária-TR'!B:B,0),2)","v":{"$error":"#N/A"}},null,{"$f":"TRIM(INDEX('Orçamentária-TR'!C:C,MATCH(Composições!A1545,'Orçamentária-TR'!A:A,0),1))","v":{"$error":"#N/A"}},null,"","",null,null,0]
[null,null,null,null,null,"","",null,null,0]
[null,null,"Eletroduto PVC flexivel corrugado, reforcado, cor laranja, de 32 mm, para lajes e pisos","m",1.1000000000000001,4.2464999999999993,4.6711499999999999,{"$f":"SUM(G1547:G1550)","v":10.398006499999999},null,0]
[null,null,"Eletricista com encargos complementares","h",0.09,21.526999999999997,1.9374299999999998,null,null,0]
[null,null,"Auxiliar de eletricista com encargos complementares","h",0.09,16.767499999999998,1.5090749999999997,null,null,0]
[null,null,"Fixação de tubos horizontais de PVC, CPVC ou cobre diâmetros menores ou iguais a 40 mm ou eletrocalhas até 150mm de largura, com abraçadeira metálica rígida tipo d 1/2\u0094, fixada em perfilado em laje. af_05/2015","m",1,2.2803515000000005,2.2803515000000005,null,null,0]
[null,null,null,null,null,"","",null,null,0]
["SF-00250",{"$f":"INDEX('Orçamentária-TR'!B:C,MATCH(Composições!A1552,'Orçamentária-TR'!B:B,0),2)","v":{"$error":"#N/A"}},null,{"$f":"TRIM(INDEX('Orçamentária-TR'!C:C,MATCH(Composições!A1552,'Orçamentária-TR'!A:A,0),1))","v":{"$error":"#N/A"}},null,"","",null,null,0]
[null,null,null,null,null,"","",null,null,0]
[null,null,"Eletricista com encargos complementares","h",7.0000000000000007E-2,21.526999999999997,1.5068900000000001,{"$f":"SUM(G1554:G1557)","v":7.3853664999999999},null,0]
[null,null,"Auxiliar de eletricista com encargos complementares","h",7.0000000000000007E-2,16.767499999999998,1.1737249999999999,null,null,0]
[null,null,"Eletroduto PVC flexivel corrugado, reforcado, cor laranja, de 25 mm, para lajes e pisos","m",1.1000000000000001,2.2039999999999997,2.4243999999999999,null,null,0]
[null,null,"Fixação de tubos horizontais de PVC, CPVC ou cobre diâmetros menores ou iguais a 40 mm ou eletrocalhas até 150mm de largura, com abraçadeira metálica rígida tipo d 1/2\u0094, fixada em perfilado em laje. af_05/2015","m",1,2.2803515000000005,2.2803515000000005,null,null,0]
[null,null,null,null,null,"",{"$f":"IF(ISNUMBER(F1558),E1558*F1558,\"\")","v":""},null,null,0]
["SF-00251",{"$f":"INDEX('Orçamentária-TR'!B:C,MATCH(Composições!A1559,'Orçamentária-TR'!B:B,0),2)","v":{"$error":"#N/A"}},null,{"$f":"TRIM(INDEX('Orçamentária-TR'!C:C,MATCH(Composições!A1559,'Orçamentária-TR'!A:A,0),1))","v":{"$error":"#N/A"}},null,"","",null,null,0]
[null,null,null,null,null,"","",null,null,0]
[null,null,"Eletroduto flexivel, em aco galvanizado, revestido externamente com PVC preto, diametro externo de 32 mm (1\"), tipo sealtubo","m",1.1000000000000001,12.787000000000001,14.065700000000001,{"$f":"SUM(G1561:G1564)","v":18.188063500000002},null,0]
[null,null,"ARAME RECOZIDO 16 BWG, D = 1,60 MM (0,016 KG/M) OU 18 BWG, D = 1,25 MM (0,01 KG/M)","kg",2E-3,12.426,2.4852000000000003E-2,null,null,0]
[null,null,"Auxiliar de eletricista com encargos complementares","h",0.107,16.767499999999998,1.7941224999999998,null,null,0]
[null,null,"Eletricista com encargos complementares","h",0.107,21.526999999999997,2.3033889999999997,null,null,0]
[null,null,null,null,null,"","",null,null,0]
["SF-00252",{"$f":"INDEX('Orçamentária-TR'!B:C,MATCH(Composições!A1566,'Orçamentária-TR'!B:B,0),2)","v":{"$error":"#N/A"}},null,{"$f":"TRIM(INDEX('Orçamentária-TR'!C:C,MATCH(Composições!A1566,'Orçamentária-TR'!A:A,0),1))","v":{"$error":"#N/A"}},null,"","",null,null,0]
[null,null,null,null,null,"","",null,null,0]
[null,null,"Eletroduto flexivel, em aco galvanizado, revestido externamente com PVC preto, diametro externo de 25 mm (3/4\"), tipo sealtubo","m",1.1000000000000001,9.7469999999999999,10.7217,{"$f":"SUM(G1568:G1571)","v":14.078173499999998},null,0]
[null,null,"ARAME RECOZIDO 16 BWG, D = 1,60 MM (0,016 KG/M) OU 18 BWG, D = 1,25 MM (0,01 KG/M)","kg",2E-3,12.426,2.4852000000000003E-2,null,null,0]
[null,null,"Auxiliar de eletricista com encargos complementares","h",8.6999999999999994E-2,16.767499999999998,1.4587724999999998,null,null,0]
[null,null,"Eletricista com encargos complementares","h",8.6999999999999994E-2,21.526999999999997,1.8728489999999995,null,null,0]
[null,null,null,null,null,"","",null,null,0]
["SF-00253",{"$f":"INDEX('Orçamentária-TR'!B:C,MATCH(Composições!A1573,'Orçamentária-TR'!B:B,0),2)","v":{"$error":"#N/A"}},null,{"$f":"TRIM(INDEX('Orçamentária-TR'!C:C,MATCH(Composições!A1573,'Orçamentária-TR'!A:A,0),1))","v":{"$error":"#N/A"}},null,"","",null,null,0]
[null,null,null,null,null,"","",null,null,0]
[null,null,"Perfilado perfurado em aço galvanizado # 18, 38 x 38 mm","m",1.05,"","",{"$f":"SUM(G1575:G1586)","v":17.8397574},null,0]
[null,null,"Auxiliar de eletricista com encargos complementares","h",0.45,16.767499999999998,7.5453749999999991,null,null,0]
[null,null,"Eletricista com encargos complementares","h",0.45,21.526999999999997,9.687149999999999,null,null,0]
[null,null,"Tiro com pistola para fixação de pino Ø 1/4\" em concreto, inclusive cartucho e pino","un ",0.67,0,0,null,null,0]
[null,null,"Suporte curto para perfilado em aço galvanizado # 22, 38 mm x 100 mm","un ",0.67,0,0,null,null,0]
[null,null,"Barra roscada em aço Ø 1/4\", comprimento 1 m, bicromatizada ou zincada","m",0.8,0,0,null,null,0]
[null,null,"PORCA ZINCADA, SEXTAVADA, DIAMETRO 1/4\"","UN",2.6633,0.22799999999999998,0.60723239999999989,null,null,0]
[null,null,"Arruela em aço galvanizado Ø 1/4\"","un ",2.6633,0,0,null,null,0]
[null,null,"Prolongador para tirante rosqueado de 1/4\" x 50 mm","un ",0.67,0,0,null,null,0]
[null,null,"Parafuso lentilha 1/4 x 1/2\"","un",1.33,0,0,null,null,0]
[null,null,"Tala 4 furos para emenda 38 mm","un ",0.33329999999999999,0,0,null,null,0]
[null,null,"Tampa de encaixe para perfilado em aço galvanizado 38 mm","m",1.05,0,0,null,null,0]
[null,null,null,null,null,"","",null,null,0]
["SF-00254",{"$f":"INDEX('Orçamentária-TR'!B:C,MATCH(Composições!A1588,'Orçamentária-TR'!B:B,0),2)","v":{"$error":"#N/A"}},null,{"$f":"TRIM(INDEX('Orçamentária-TR'!C:C,MATCH(Composições!A1588,'Orçamentária-TR'!A:A,0),1))","v":{"$error":"#N/A"}},null,"","",null,null,0]
[null,null,null,null,null,"","",null,null,0]
[null,null,"Espelho / placa de 3 postos 4\" x 2\", para instalacao de tomadas e interruptores","un",1,2.4510000000000001,2.4510000000000001,{"$f":"SUM(G1590:G1592)","v":5.6183759999999996},null,0]
[null,null,"Suporte de fixacao para espelho / placa 4\" x 2\", para 3 modulos, para instalacao de tomadas e interruptores (somente suporte)","un",1,1.2729999999999999,1.2729999999999999,null,null,0]
[null,null,"Eletricista com encargos complementares","h",8.7999999999999995E-2,21.526999999999997,1.8943759999999996,null,null,0]
[null,null,null,null,null,"","",null,null,0]
["SF-00255",{"$f":"INDEX('Orçamentária-TR'!B:C,MATCH(Composições!A1594,'Orçamentária-TR'!B:B,0),2)","v":{"$error":"#N/A"}},null,{"$f":"TRIM(INDEX('Orçamentária-TR'!C:C,MATCH(Composições!A1594,'Orçamentária-TR'!A:A,0),1))","v":{"$error":"#N/A"}},null,"","",null,null,0]
[null,null,null,null,null,"","",null,null,0]
[null,null,"Espelho / placa de 6 postos 4\" x 4\", para instalacao de tomadas e interruptores","un",1,4.9779999999999998,4.9779999999999998,{"$f":"SUM(G1596:G1598)","v":9.2973079999999992},null,0]
[null,null,"Suporte de fixacao para espelho / placa 4\" x 4\", para 6 modulos, para instalacao de tomadas e interruptores (somente suporte)","un",1,2.0804999999999998,2.0804999999999998,null,null,0]
[null,null,"Eletricista com encargos complementares","h",0.104,21.526999999999997,2.2388079999999997,null,null,0]
[null,null,null,null,null,"","",null,null,0]
["SF-00256",{"$f":"INDEX('Orçamentária-TR'!B:C,MATCH(Composições!A1600,'Orçamentária-TR'!B:B,0),2)","v":{"$error":"#N/A"}},null,{"$f":"TRIM(INDEX('Orçamentária-TR'!C:C,MATCH(Composições!A1600,'Orçamentária-TR'!A:A,0),1))","v":{"$error":"#N/A"}},null,"","",null,null,0]
[null,null,null,null,null,"","",null,null,0]
[null,null,"Espelho cego redondo","un",1,"","",{"$f":"SUM(G1602:G1604)","v":4.3193079999999995},null,0]
[null,null,"Suporte de fixacao para espelho / placa 4\" x 4\", para 6 modulos, para instalacao de tomadas e interruptores (somente suporte)","un",1,2.0804999999999998,2.0804999999999998,null,null,0]
[null,null,"Eletricista com encargos complementares","h",0.104,21.526999999999997,2.2388079999999997,null,null,0]
[null,null,null,null,null,"","",null,null,0]
["SF-00257",{"$f":"INDEX('Orçamentária-TR'!B:C,MATCH(Composições!A1606,'Orçamentária-TR'!B:B,0),2)","v":{"$error":"#N/A"}},null,{"$f":"TRIM(INDEX('Orçamentária-TR'!C:C,MATCH(Composições!A1606,'Orçamentária-TR'!A:A,0),1))","v":{"$error":"#N/A"}},null,"","",null,null,0]
[null,null,null,null,null,"","",null,null,0]
[null,null,"Eletricista com encargos complementares","h",{"$f":"0.3/2","v":0.15},21.526999999999997,3.2290499999999995,{"$f":"SUM(G1608:G1611)","v":5.7441749999999994},null,0]
[null,null,"Auxiliar de eletricista com encargos complementares","h",{"$f":"0.3/2","v":0.15},16.767499999999998,2.5151249999999998,null,null,0]
[null,null,"Tampa para condulete alumínio para eletrodutos de 1\", de sobrepor , com conexões e acessórios. ","un",1,"","",null,null,0]
[null,null,"Interruptor para condulete alumínio para eletrodutos de 1’’, de sobrepor, com conexões e acessórios.","un",1,"","",null,null,0]
[null,null,null,null,null,"","",null,null,0]
["SF-00258",{"$f":"INDEX('Orçamentária-TR'!B:C,MATCH(Composições!A1613,'Orçamentária-TR'!B:B,0),2)","v":{"$error":"#N/A"}},null,{"$f":"TRIM(INDEX('Orçamentária-TR'!C:C,MATCH(Composições!A1613,'Orçamentária-TR'!A:A,0),1))","v":{"$error":"#N/A"}},null,"","",null,null,0]
[null,null,null,null,null,"","",null,null,0]
[null,null,"Eletricista com encargos complementares","h",0.1,21.526999999999997,2.1526999999999998,{"$f":"SUM(G1615:G1616)","v":2.1526999999999998},null,0]
[null,null,"Módulo cego","un",1,"","",null,null,0]
[null,null,null,null,null,"","",null,null,0]
["SF-00259",{"$f":"INDEX('Orçamentária-TR'!B:C,MATCH(Composições!A1618,'Orçamentária-TR'!B:B,0),2)","v":{"$error":"#N/A"}},null,{"$f":"TRIM(INDEX('Orçamentária-TR'!C:C,MATCH(Composições!A1618,'Orçamentária-TR'!A:A,0),1))","v":{"$error":"#N/A"}},null,"","",null,null,0]
[null,null,null,null,null,"","",null,null,0]
[null,null,"Interruptor paralelo 10A, 250V (apenas modulo)","un",1,7.5430000000000001,7.5430000000000001,{"$f":"SUM(G1620:G1622)","v":19.337705999999997},null,0]
[null,null,"Auxiliar de eletricista com encargos complementares","h",0.308,16.767499999999998,5.1643899999999991,null,null,0]
[null,null,"Eletricista com encargos complementares","h",0.308,21.526999999999997,{"$f":"IF(ISNUMBER(F1622),E1622*F1622,\"\")","v":6.6303159999999988},null,null,0]
[null,null,null,null,null,"","",null,null,0]
["SF-00260",{"$f":"INDEX('Orçamentária-TR'!B:C,MATCH(Composições!A1624,'Orçamentária-TR'!B:B,0),2)","v":{"$error":"#N/A"}},null,{"$f":"TRIM(INDEX('Orçamentária-TR'!C:C,MATCH(Composições!A1624,'Orçamentária-TR'!A:A,0),1))","v":{"$error":"#N/A"}},null,"","",null,null,0]
[null,null,null,null,null,"","",null,null,0]
[null,null,"Interruptor simples 10A, 250V (apenas modulo)","un",1,5.7854999999999999,5.7854999999999999,{"$f":"SUM(G1626:G1628)","v":14.401762499999998},null,0]
[null,null,"Auxiliar de eletricista com encargos complementares","h",0.22500000000000001,16.767499999999998,3.7726874999999995,null,null,0]
[null,null,"Eletricista com encargos complementares","h",0.22500000000000001,21.526999999999997,4.8435749999999995,null,null,0]
[null,null,null,null,null,"","",null,null,0]
["SF-00261",{"$f":"INDEX('Orçamentária-TR'!B:C,MATCH(Composições!A1630,'Orçamentária-TR'!B:B,0),2)","v":{"$error":"#N/A"}},null,{"$f":"TRIM(INDEX('Orçamentária-TR'!C:C,MATCH(Composições!A1630,'Orçamentária-TR'!A:A,0),1))","v":{"$error":"#N/A"}},null,"","",null,null,0]
[null,null,null,null,null,"","",null,null,0]
[null,null,"Eletricista com encargos complementares","h",0.1,21.526999999999997,2.1526999999999998,{"$f":"SUM(G1632:G1633)","v":2.1526999999999998},null,0]
[null,null,"Módulo para saída de fio","un",1,"","",null,null,0]
[null,null,null,null,null,"","",null,null,0]
["SF-00262",{"$f":"INDEX('Orçamentária-TR'!B:C,MATCH(Composições!A1635,'Orçamentária-TR'!B:B,0),2)","v":{"$error":"#N/A"}},null,{"$f":"TRIM(INDEX('Orçamentária-TR'!C:C,MATCH(Composições!A1635,'Orçamentária-TR'!A:A,0),1))","v":{"$error":"#N/A"}},null,"","",null,null,0]
[null,null,null,null,null,"","",null,null,0]
[null,null,"Eletricista com encargos complementares","h",0.308,21.526999999999997,6.6303159999999988,{"$f":"SUM(G1637:G1639)","v":11.794705999999998},null,0]
[null,null,"Auxiliar de eletricista com encargos complementares","h",0.308,16.767499999999998,5.1643899999999991,null,null,0]
[null,null,"Módulo sensor de presença","un",1,"","",null,null,0]
[null,null,null,null,null,"","",null,null,0]
["SF-00263",{"$f":"INDEX('Orçamentária-TR'!B:C,MATCH(Composições!A1641,'Orçamentária-TR'!B:B,0),2)","v":{"$error":"#N/A"}},null,{"$f":"TRIM(INDEX('Orçamentária-TR'!C:C,MATCH(Composições!A1641,'Orçamentária-TR'!A:A,0),1))","v":{"$error":"#N/A"}},null,"","",null,null,0]
[null,null,null,null,null,"","",null,null,0]
[null,null,"TOMADA 2P+T 10A, 250V  (APENAS MODULO)","un",1,6.583499999999999,6.583499999999999,{"$f":"SUM(G1643:G1645)","v":15.582707499999998},null,0]
[null,null,"Auxiliar de eletricista com encargos complementares","h",0.23499999999999999,16.767499999999998,3.9403624999999995,null,null,0]
[null,null,"Eletricista com encargos complementares","h",0.23499999999999999,21.526999999999997,5.0588449999999989,null,null,0]
[null,null,null,null,null,"","",null,null,0]
["SF-00264",{"$f":"INDEX('Orçamentária-TR'!B:C,MATCH(Composições!A1647,'Orçamentária-TR'!B:B,0),2)","v":{"$error":"#N/A"}},null,{"$f":"TRIM(INDEX('Orçamentária-TR'!C:C,MATCH(Composições!A1647,'Orçamentária-TR'!A:A,0),1))","v":{"$error":"#N/A"}},null,"","",null,null,0]
[null,null,null,null,null,"","",null,null,0]
[null,null,"TOMADA 2P+T 20A, 250V  (APENAS MODULO)","un",1,8.426499999999999,8.426499999999999,{"$f":"SUM(G1649:G1651)","v":17.425707499999998},null,0]
[null,null,"Auxiliar de eletricista com encargos complementares","h",0.23499999999999999,16.767499999999998,3.9403624999999995,null,null,0]
[null,null,"Eletricista com encargos complementares","h",0.23499999999999999,21.526999999999997,5.0588449999999989,null,null,0]
[null,null,null,null,null,"","",null,null,0]
["SF-00265",{"$f":"INDEX('Orçamentária-TR'!B:C,MATCH(Composições!A1653,'Orçamentária-TR'!B:B,0),2)","v":{"$error":"#N/A"}},null,{"$f":"TRIM(INDEX('Orçamentária-TR'!C:C,MATCH(Composições!A1653,'Orçamentária-TR'!A:A,0),1))","v":{"$error":"#N/A"}},null,"","",null,null,0]
[null,null,null,null,null,"","",null,null,0]
[null,null,"Auxiliar de eletricista com encargos complementares","h",{"$f":"0.35/2","v":0.17499999999999999},16.767499999999998,2.9343124999999994,{"$f":"SUM(G1655:G1657)","v":6.7015374999999988},null,0]
[null,null,"Eletricista com encargos complementares","h",{"$f":"0.35/2","v":0.17499999999999999},21.526999999999997,3.7672249999999994,"",null,0]
[null,null,"Porta equipamentos para canaleta de alumínio aparente","un",1,"","",null,null,0]
[null,null,null,null,null,"","",null,null,0]
["SF-00266",{"$f":"INDEX('Orçamentária-TR'!B:C,MATCH(Composições!A1659,'Orçamentária-TR'!B:B,0),2)","v":{"$error":"#N/A"}},null,{"$f":"TRIM(INDEX('Orçamentária-TR'!C:C,MATCH(Composições!A1659,'Orçamentária-TR'!A:A,0),1))","v":{"$error":"#N/A"}},null,"","",null,null,0]
[null,null,null,null,null,"","",null,null,0]
[null,null,"Auxiliar de eletricista com encargos complementares","h",0.1,16.767499999999998,1.67675,{"$f":"SUM(G1661:G1662)","v":1.67675},null,0]
[null,null,"Tampa cega para caixa de piso 4x2 cromada. ","un",1,"","",null,null,0]
[null,null,null,null,null,"","",null,null,0]
["SF-00267",{"$f":"INDEX('Orçamentária-TR'!B:C,MATCH(Composições!A1664,'Orçamentária-TR'!B:B,0),2)","v":{"$error":"#N/A"}},null,{"$f":"TRIM(INDEX('Orçamentária-TR'!C:C,MATCH(Composições!A1664,'Orçamentária-TR'!A:A,0),1))","v":{"$error":"#N/A"}},null,"","",null,null,0]
[null,null,null,null,null,"","",null,null,0]
[null,null,"Auxiliar de eletricista com encargos complementares","h",0.1,16.767499999999998,1.67675,{"$f":"SUM(G1666:G1667)","v":1.67675},null,0]
[null,null,"Tampa cega para caixa de piso 4x4 cromada. ","un",1,"","",null,null,0]
[null,null,null,null,null,"","",null,null,0]
["SF-00268",{"$f":"INDEX('Orçamentária-TR'!B:C,MATCH(Composições!A1669,'Orçamentária-TR'!B:B,0),2)","v":{"$error":"#N/A"}},null,{"$f":"TRIM(INDEX('Orçamentária-TR'!C:C,MATCH(Composições!A1669,'Orçamentária-TR'!A:A,0),1))","v":{"$error":"#N/A"}},null,"","",null,null,0]
[null,null,null,null,null,"","",null,null,0]
[null,null,"Auxiliar de eletricista com encargos complementares","h",0.15,16.767499999999998,2.5151249999999998,{"$f":"SUM(G1671:G1672)","v":2.5151249999999998},null,0]
[null,null,"Tampa cega para condulete alumínio para eletrodutos de 1’’, de sobrepor, com conexões e acessórios.","un",1,"","",null,null,0]
[null,null,null,null,null,"","",null,null,0]
["SF-00269",{"$f":"INDEX('Orçamentária-TR'!B:C,MATCH(Composições!A1674,'Orçamentária-TR'!B:B,0),2)","v":{"$error":"#N/A"}},null,{"$f":"TRIM(INDEX('Orçamentária-TR'!C:C,MATCH(Composições!A1674,'Orçamentária-TR'!A:A,0),1))","v":{"$error":"#N/A"}},null,"","",null,null,0]
[null,null,null,null,null,"","",null,null,0]
[null,null,"Auxiliar de eletricista com encargos complementares","h",0.15,16.767499999999998,2.5151249999999998,{"$f":"SUM(G1676:G1678)","v":5.7441749999999994},null,0]
[null,null,"Eletricista com encargos complementares","h",0.15,21.526999999999997,3.2290499999999995,null,null,0]
[null,null,"Espelho para dois módulos RJ45 para condulete alumínio para eletrodutos de 1’’, de sobrepor, com conexões e acessórios.","un",1,"","",null,null,0]
[null,null,null,null,null,"","",null,null,0]
["SF-00270",{"$f":"INDEX('Orçamentária-TR'!B:C,MATCH(Composições!A1680,'Orçamentária-TR'!B:B,0),2)","v":{"$error":"#N/A"}},null,{"$f":"TRIM(INDEX('Orçamentária-TR'!C:C,MATCH(Composições!A1680,'Orçamentária-TR'!A:A,0),1))","v":{"$error":"#N/A"}},null,"","",null,null,0]
[null,null,null,null,null,"","",null,null,0]
[null,null,"Eletricista com encargos complementares","h",0.308,21.526999999999997,6.6303159999999988,{"$f":"SUM(G1682:G1685)","v":11.794705999999998},null,0]
[null,null,"Auxiliar de eletricista com encargos complementares","h",0.308,16.767499999999998,5.1643899999999991,null,null,0]
[null,null,"Tampa para condulete alumínio para eletrodutos de 1\", de sobrepor , com conexões e acessórios. ","un",1,"","",null,null,0]
[null,null,"Tomada para condulete alumínio para eletrodutos de 1’’, de sobrepor, com conexões e acessórios. ","un",1,"","",null,null,0]
[null,null,null,null,null,"",{"$f":"IF(ISNUMBER(F1686),E1686*F1686,\"\")","v":""},null,null,0]
["SF-00271",{"$f":"INDEX('Orçamentária-TR'!B:C,MATCH(Composições!A1687,'Orçamentária-TR'!B:B,0),2)","v":{"$error":"#N/A"}},null,{"$f":"TRIM(INDEX('Orçamentária-TR'!C:C,MATCH(Composições!A1687,'Orçamentária-TR'!A:A,0),1))","v":{"$error":"#N/A"}},null,"","",null,null,0]
[null,null,null,null,null,"","",null,null,0]
[null,null,"Auxiliar de eletricista com encargos complementares","h",0.65,16.767499999999998,10.898874999999999,{"$f":"SUM(G1689:G1692)","v":24.891424999999998},null,0]
[null,null,"Eletricista com encargos complementares","h",0.65,21.526999999999997,13.99255,null,null,0]
[null,null,"Caixa com tampa fixa em perfil para tomada em perfilado","un",1,0,0,null,null,0]
[null,null,"Tomada de embutir 2 polos + terra sem placa 250 V 10 A","un",1,0,0,null,null,0]
[null,null,null,null,null,"","",null,null,0]
["SF-00272",{"$f":"INDEX('Orçamentária-TR'!B:C,MATCH(Composições!A1694,'Orçamentária-TR'!B:B,0),2)","v":{"$error":"#N/A"}},null,{"$f":"TRIM(INDEX('Orçamentária-TR'!C:C,MATCH(Composições!A1694,'Orçamentária-TR'!A:A,0),1))","v":{"$error":"#N/A"}},null,"","",null,null,0]
[null,null,null,null,null,"","",null,null,0]
[null,null,"Bloco autônomo (luminária de emergência). Ref.: Aureon BLOKITO BLK 500 (9901.0000.1079.05 – Aclaramento e 9901.0000.1128.05 – balizamento)","un ",1,"","",{"$f":"SUM(G1696:G1698)","v":5.1183055},null,0]
[null,null,"Auxiliar de eletricista com encargos complementares","h",7.4800000000000005E-2,16.767499999999998,1.2542089999999999,null,null,0]
[null,null,"Eletricista com encargos complementares","h",0.17949999999999999,21.526999999999997,3.8640964999999996,null,null,0]
[null,null,null,null,null,"","",null,null,0]
["SF-00273",{"$f":"INDEX('Orçamentária-TR'!B:C,MATCH(Composições!A1700,'Orçamentária-TR'!B:B,0),2)","v":{"$error":"#N/A"}},null,{"$f":"TRIM(INDEX('Orçamentária-TR'!C:C,MATCH(Composições!A1700,'Orçamentária-TR'!A:A,0),1))","v":{"$error":"#N/A"}},null,"","",null,null,0]
[null,null,null,null,null,"","",null,null,0]
[null,null,"Auxiliar de eletricista com encargos complementares","h",0.12889999999999999,16.767499999999998,2.1613307499999994,{"$f":"SUM(G1702:G1706)","v":8.8217845499999985},null,0]
[null,null,"Eletricista com encargos complementares","h",0.30940000000000001,21.526999999999997,6.6604537999999991,null,null,0]
[null,null,"Cabo PP 3x2,5mm2 300/500 V, extraflexível (classe 5), com condutor de proteção, com isolação, enchimento e cobertura de PVC","m",1.5,"","",null,null,0]
[null,null,"Plugue (macho) com 3 polos (2P+T), para 10A","un ",1,"","",null,null,0]
[null,null,"Plugue (fêmea) com 3 polos (2P+T), para 10A","un ",1,"","",null,null,0]
[null,null,null,null,null,"","",null,null,0]
["SF-00274",{"$f":"INDEX('Orçamentária-TR'!B:C,MATCH(Composições!A1708,'Orçamentária-TR'!B:B,0),2)","v":{"$error":"#N/A"}},null,{"$f":"TRIM(INDEX('Orçamentária-TR'!C:C,MATCH(Composições!A1708,'Orçamentária-TR'!A:A,0),1))","v":{"$error":"#N/A"}},null,"","",null,null,0]
[null,null,null,null,null,"","",null,null,0]
[null,null,"Luminária de embutir T5 2 x 14W, ref: Intral DE-500 (cod. 08017); Lumicenter FAA20-E214","un ",1,"","",{"$f":"SUM(G1710:G1717)","v":8.8217845499999985},null,0]
[null,null,"Reator eletrônico 2x14W, ref: Philips EB214A26; Philips EL214-28A26; Lumicenter LEB. 214; MarGirus PB 2X14 AF2","un ",1,"","",null,null,0]
[null,null,"Lâmpada fluorescente T5 de 14W, ref: Osram HE 14W/840 SMARTLUX; Philips TL5-14W-HE/840; GE F14W/T5/840","un ",2,"","",null,null,0]
[null,null,"Cabo PP 3x2,5mm2 300/500 V, extraflexível (classe 5), com condutor de proteção, com isolação, enchimento e cobertura de PVC","m",1.5,"","",null,null,0]
[null,null,"Plugue (macho) com 3 polos (2P+T), para 10A","un ",1,"","",null,null,0]
[null,null,"Plugue (fêmea) com 3 polos (2P+T), para 10A","un ",1,"","",null,null,0]
[null,null,"Auxiliar de eletricista com encargos complementares","h",0.12889999999999999,16.767499999999998,2.1613307499999994,null,null,0]
[null,null,"Eletricista com encargos complementares","h",0.30940000000000001,21.526999999999997,6.6604537999999991,null,null,0]
[null,null,null,null,null,"","",null,null,0]
["SF-00275",{"$f":"INDEX('Orçamentária-TR'!B:C,MATCH(Composições!A1719,'Orçamentária-TR'!B:B,0),2)","v":{"$error":"#N/A"}},null,{"$f":"TRIM(INDEX('Orçamentária-TR'!C:C,MATCH(Composições!A1719,'Orçamentária-TR'!A:A,0),1))","v":{"$error":"#N/A"}},null,"","",null,null,0]
[null,null,null,null,null,"","",null,null,0]
[null,null,"Luminária de sobrepor T5 2 x 14W, ref: Intral DS-500 (cod. 08021); Lumicenter FAA20-S214","un ",1,"","",{"$f":"SUM(G1721:G1728)","v":13.430677249999999},null,0]
[null,null,"Reator eletrônico 2x14W, ref: Philips EB214A26; Philips EL214-28A26; Lumicenter LEB. 214; MarGirus PB 2X14 AF2","un ",1,"","",null,null,0]
[null,null,"Lâmpada fluorescente T5 de 14W, ref: Osram HE 14W/840 SMARTLUX; Philips TL5-14W-HE/840; GE F14W/T5/840","un ",2,"","",null,null,0]
[null,null,"Cabo PP 3x2,5mm2 300/500 V, extraflexível (classe 5), com condutor de proteção, com isolação, enchimento e cobertura de PVC","m",1.5,"","",null,null,0]
[null,null,"Plugue (macho) com 3 polos (2P+T), para 10A","un ",1,"","",null,null,0]
[null,null,"Plugue (fêmea) com 3 polos (2P+T), para 10A","un ",1,"","",null,null,0]
[null,null,"Auxiliar de eletricista com encargos complementares","h",0.1963,16.767499999999998,3.2914602499999996,null,null,0]
[null,null,"Eletricista com encargos complementares","h",0.47099999999999997,21.526999999999997,10.139216999999999,null,null,0]
[null,null,null,null,null,"","",null,null,0]
["SF-00276",{"$f":"INDEX('Orçamentária-TR'!B:C,MATCH(Composições!A1730,'Orçamentária-TR'!B:B,0),2)","v":{"$error":"#N/A"}},null,{"$f":"TRIM(INDEX('Orçamentária-TR'!C:C,MATCH(Composições!A1730,'Orçamentária-TR'!A:A,0),1))","v":{"$error":"#N/A"}},null,"","",null,null,0]
[null,null,null,null,null,"","",null,null,0]
[null,null,"Luminária de embutir T5 2 x 28W, ref: Intral DE-500 (cod. 08025); Lumicenter FAA20-E228","un ",1,"","",{"$f":"SUM(G1732:G1739)","v":8.8217845499999985},null,0]
[null,null,"Reator eletrônico 2x28W, ref: Philips EB228A26; Philips EL214-28A26; Intral REH-T5 2x28/127-220/50-60 (cod. 02475); MarGirus PB 2X28 AF2.","un ",1,"","",null,null,0]
[null,null,"Lâmpada fluorescente T5 de 28W, ref: Osram HE 28W/840 SMARTLUX; Philips TL5-28W-HE/840; GE F28W/T5/840","un ",2,"","",null,null,0]
[null,null,"Cabo PP 3x2,5mm2 300/500 V, extraflexível (classe 5), com condutor de proteção, com isolação, enchimento e cobertura de PVC","m",1.5,"","",null,null,0]
[null,null,"Plugue (macho) com 3 polos (2P+T), para 10A","un ",1,"","",null,null,0]
[null,null,"Plugue (fêmea) com 3 polos (2P+T), para 10A","un ",1,"","",null,null,0]
[null,null,"Auxiliar de eletricista com encargos complementares","h",0.12889999999999999,16.767499999999998,2.1613307499999994,null,null,0]
[null,null,"Eletricista com encargos complementares","h",0.30940000000000001,21.526999999999997,6.6604537999999991,null,null,0]
[null,null,null,null,null,"","",null,null,0]
["SF-00277",{"$f":"INDEX('Orçamentária-TR'!B:C,MATCH(Composições!A1741,'Orçamentária-TR'!B:B,0),2)","v":{"$error":"#N/A"}},null,{"$f":"TRIM(INDEX('Orçamentária-TR'!C:C,MATCH(Composições!A1741,'Orçamentária-TR'!A:A,0),1))","v":{"$error":"#N/A"}},null,"","",null,null,0]
[null,null,null,null,null,"","",null,null,0]
[null,null,"Luminária de sobrepor T5 2 x 28W, ref: Intral DS-500 (cod. 08029); Lumicenter FAA20-S228","un ",1,"","",{"$f":"SUM(G1743:G1750)","v":13.430677249999999},null,0]
[null,null,"Reator eletrônico 2x28W, ref: Philips EB228A26; Philips EL214-28A26; Intral REH-T5 2x28/127-220/50-60 (cod. 02475); MarGirus PB 2X28 AF2.","un ",1,"","",null,null,0]
[null,null,"Lâmpada fluorescente T5 de 28W, ref: Osram HE 28W/840 SMARTLUX; Philips TL5-28W-HE/840; GE F28W/T5/840","un ",2,"","",null,null,0]
[null,null,"Cabo PP 3x2,5mm2 300/500 V, extraflexível (classe 5), com condutor de proteção, com isolação, enchimento e cobertura de PVC","m",1.5,"","",null,null,0]
[null,null,"Plugue (macho) com 3 polos (2P+T), para 10A","un ",1,"","",null,null,0]
[null,null,"Plugue (fêmea) com 3 polos (2P+T), para 10A","un ",1,"","",null,null,0]
[null,null,"Auxiliar de eletricista com encargos complementares","h",0.1963,16.767499999999998,3.2914602499999996,null,null,0]
[null,null,"Eletricista com encargos complementares","h",0.47099999999999997,21.526999999999997,{"$f":"IF(ISNUMBER(F1750),E1750*F1750,\"\")","v":10.139216999999999},null,null,0]
[null,null,null,null,null,"","",null,null,0]
["SF-00278",{"$f":"INDEX('Orçamentária-TR'!B:C,MATCH(Composições!A1752,'Orçamentária-TR'!B:B,0),2)","v":{"$error":"#N/A"}},null,{"$f":"TRIM(INDEX('Orçamentária-TR'!C:C,MATCH(Composições!A1752,'Orçamentária-TR'!A:A,0),1))","v":{"$error":"#N/A"}},null,"","",null,null,0]
[null,null,null,null,null,"","",null,null,0]
[null,null,"Auxiliar de eletricista com encargos complementares","h",8.9999999999999993E-3,16.767499999999998,0.15090749999999997,{"$f":"SUM(G1754:G1757)","v":0.37761549999999999},null,0]
[null,null,"Eletricista com encargos complementares","h",8.9999999999999993E-3,21.526999999999997,0.19374299999999997,null,null,0]
[null,null,"Cabo flexível isolado em EPR não halogenado 10 mm² 0,6 a 1 kV","m",1.0269999999999999,0,0,null,null,0]
[null,null,"Fita isolante adesiva antichama, uso ate 750 V, em rolo de 19 mm x 5 m","un",0.01,3.2965,3.2965000000000001E-2,null,null,0]
[null,null,null,null,null,"","",null,null,0]
["SF-00279",{"$f":"INDEX('Orçamentária-TR'!B:C,MATCH(Composições!A1759,'Orçamentária-TR'!B:B,0),2)","v":{"$error":"#N/A"}},null,{"$f":"TRIM(INDEX('Orçamentária-TR'!C:C,MATCH(Composições!A1759,'Orçamentária-TR'!A:A,0),1))","v":{"$error":"#N/A"}},null,"","",null,null,0]
[null,null,null,null,null,"","",null,null,0]
[null,null,"Auxiliar de eletricista com encargos complementares","h",1.2999999999999999E-2,16.767499999999998,0.21797749999999996,{"$f":"SUM(G1761:G1764)","v":0.53079349999999992},null,0]
[null,null,"Eletricista com encargos complementares","h",1.2999999999999999E-2,21.526999999999997,0.27985099999999996,null,null,0]
[null,null,"Cabo flexível isolado em EPR não halogenado 16 mm² 0,6 a 1 kV","m",1.0269999999999999,0,0,null,null,0]
[null,null,"Fita isolante adesiva antichama, uso ate 750 V, em rolo de 19 mm x 5 m","un",0.01,3.2965,3.2965000000000001E-2,null,null,0]
[null,null,null,null,null,"","",null,null,0]
["SF-00280",{"$f":"INDEX('Orçamentária-TR'!B:C,MATCH(Composições!A1766,'Orçamentária-TR'!B:B,0),2)","v":{"$error":"#N/A"}},null,{"$f":"TRIM(INDEX('Orçamentária-TR'!C:C,MATCH(Composições!A1766,'Orçamentária-TR'!A:A,0),1))","v":{"$error":"#N/A"}},null,"","",null,null,0]
[null,null,null,null,null,"","",null,null,0]
[null,null,"Auxiliar de eletricista com encargos complementares","h",0.03,16.767499999999998,0.50302499999999994,{"$f":"SUM(G1768:G1771)","v":1.1785034999999999},null,0]
[null,null,"Eletricista com encargos complementares","h",0.03,21.526999999999997,0.64580999999999988,null,null,0]
[null,null,"Cabo de cobre isolado PVC 450/750V 2,5mm² resistente a chamas, livre de halogênios","m",1.19,"","",null,null,0]
[null,null,"Fita isolante adesiva antichama, uso ate 750 V, em rolo de 19 mm x 5 m","un",8.9999999999999993E-3,3.2965,2.9668499999999997E-2,null,null,0]
[null,null,null,null,null,"","",null,null,0]
["SF-00281",{"$f":"INDEX('Orçamentária-TR'!B:C,MATCH(Composições!A1773,'Orçamentária-TR'!B:B,0),2)","v":{"$error":"#N/A"}},null,{"$f":"TRIM(INDEX('Orçamentária-TR'!C:C,MATCH(Composições!A1773,'Orçamentária-TR'!A:A,0),1))","v":{"$error":"#N/A"}},null,"","",null,null,0]
[null,null,null,null,null,"","",null,null,0]
[null,null,"Auxiliar de eletricista com encargos complementares","h",5.1999999999999998E-2,16.767499999999998,0.87190999999999985,{"$f":"SUM(G1775:G1778)","v":2.0209824999999997},null,0]
[null,null,"Eletricista com encargos complementares","h",5.1999999999999998E-2,21.526999999999997,1.1194039999999998,null,null,0]
[null,null,"Cabo de cobre multipolar, classe 5, isolação em EPR, 0,6/1 kV, 3x2,5mm² resistente a chama, livre de halogênios","m",1.19,"","",null,null,0]
[null,null,"Fita isolante adesiva antichama, uso ate 750 V, em rolo de 19 mm x 5 m","un",8.9999999999999993E-3,3.2965,2.9668499999999997E-2,null,null,0]
[null,null,null,null,null,"","",null,null,0]
["SF-00282",{"$f":"INDEX('Orçamentária-TR'!B:C,MATCH(Composições!A1780,'Orçamentária-TR'!B:B,0),2)","v":{"$error":"#N/A"}},null,{"$f":"TRIM(INDEX('Orçamentária-TR'!C:C,MATCH(Composições!A1780,'Orçamentária-TR'!A:A,0),1))","v":{"$error":"#N/A"}},null,"","",null,null,0]
[null,null,null,null,null,"","",null,null,0]
[null,null,"Auxiliar de eletricista com encargos complementares","h",0.04,16.767499999999998,0.67069999999999996,{"$f":"SUM(G1782:G1785)","v":1.5614485},null,0]
[null,null,"Eletricista com encargos complementares","h",0.04,21.526999999999997,0.86107999999999996,null,null,0]
[null,null,"Cabo de cobre isolado PVC 450/750V 4mm² resistente a chamas, livre de halogênios","m",1.19,"","",null,null,0]
[null,null,"Fita isolante adesiva antichama, uso ate 750 V, em rolo de 19 mm x 5 m","un",8.9999999999999993E-3,3.2965,2.9668499999999997E-2,null,null,0]
[null,null,null,null,null,"","",null,null,0]
["SF-00283",{"$f":"INDEX('Orçamentária-TR'!B:C,MATCH(Composições!A1787,'Orçamentária-TR'!B:B,0),2)","v":{"$error":"#N/A"}},null,{"$f":"TRIM(INDEX('Orçamentária-TR'!C:C,MATCH(Composições!A1787,'Orçamentária-TR'!A:A,0),1))","v":{"$error":"#N/A"}},null,"","",null,null,0]
[null,null,null,null,null,"","",null,null,0]
[null,null,"Auxiliar de eletricista com encargos complementares","h",8.9999999999999993E-3,16.767499999999998,0.15090749999999997,{"$f":"SUM(G1789:G1792)","v":0.37761549999999999},null,0]
[null,null,"Eletricista com encargos complementares","h",8.9999999999999993E-3,21.526999999999997,0.19374299999999997,null,null,0]
[null,null,"Cabo de cobre multipolar, classe 5, isolação em EPR, 0,6/1 kV, 4x2,5mm² resistente a chama, livre de halogênios","m",1.0269999999999999,"","",null,null,0]
[null,null,"Fita isolante adesiva antichama, uso ate 750 V, em rolo de 19 mm x 5 m","un",0.01,3.2965,3.2965000000000001E-2,null,null,0]
[null,null,null,null,null,"","",null,null,0]
["SF-00284",{"$f":"INDEX('Orçamentária-TR'!B:C,MATCH(Composições!A1794,'Orçamentária-TR'!B:B,0),2)","v":{"$error":"#N/A"}},null,{"$f":"TRIM(INDEX('Orçamentária-TR'!C:C,MATCH(Composições!A1794,'Orçamentária-TR'!A:A,0),1))","v":{"$error":"#N/A"}},null,"","",null,null,0]
[null,null,null,null,null,"","",null,null,0]
[null,null,"Auxiliar de eletricista com encargos complementares","h",5.1999999999999998E-2,16.767499999999998,0.87190999999999985,{"$f":"SUM(G1796:G1799)","v":2.0209824999999997},null,0]
[null,null,"Eletricista com encargos complementares","h",5.1999999999999998E-2,21.526999999999997,1.1194039999999998,null,null,0]
[null,null,"Cabo de cobre isolado PVC 450/750V 6mm² resistente a chamas, livre de halogênios","m",1.19,"","",null,null,0]
[null,null,"Fita isolante adesiva antichama, uso ate 750 V, em rolo de 19 mm x 5 m","un",8.9999999999999993E-3,3.2965,2.9668499999999997E-2,null,null,0]
[null,null,null,null,null,"","",null,null,0]
["SF-00285",{"$f":"INDEX('Orçamentária-TR'!B:C,MATCH(Composições!A1801,'Orçamentária-TR'!B:B,0),2)","v":{"$error":"#N/A"}},null,{"$f":"TRIM(INDEX('Orçamentária-TR'!C:C,MATCH(Composições!A1801,'Orçamentária-TR'!A:A,0),1))","v":{"$error":"#N/A"}},null,"","",null,null,0]
[null,null,null,null,null,"","",null,null,0]
[null,null,"Quadro elétrico tipo TTA completo com 30 disjuntores terminais, contemplando disjuntores, dispositovos de proteção contra surto (DPS), módulo diferencial residual (DR), borneiras, barramentos e outros itens necessários, conforme especificação","un",1,"","",{"$f":"SUM(G1803:G1805)","v":134.03074999999998},null,0]
[null,null,"Auxiliar de eletricista com encargos complementares","h",3.5,16.767499999999998,58.686249999999994,null,null,0]
[null,null,"Eletricista com encargos complementares","h",3.5,21.526999999999997,75.344499999999996,null,null,0]
[null,null,null,null,null,"","",null,null,0]
["SF-00293",{"$f":"INDEX('Orçamentária-TR'!B:C,MATCH(Composições!A1807,'Orçamentária-TR'!B:B,0),2)","v":{"$error":"#N/A"}},null,{"$f":"TRIM(INDEX('Orçamentária-TR'!C:C,MATCH(Composições!A1807,'Orçamentária-TR'!A:A,0),1))","v":{"$error":"#N/A"}},null,"","",null,null,0]
[null,null,null,null,null,"","",null,null,0]
[null,null,"Ajudante de operação em geral com encargos complementares","h",2,16.843499999999999,33.686999999999998,{"$f":"SUM(G1809:G1810)","v":78.28},null,0]
[null,null,"MONTADOR ELETROMECÃNICO COM ENCARGOS COMPLEMENTARES","h",2,22.296499999999998,44.592999999999996,null,null,0]
[null,null,null,null,null,"","",null,null,0]
["SF-00294",{"$f":"INDEX('Orçamentária-TR'!B:C,MATCH(Composições!A1812,'Orçamentária-TR'!B:B,0),2)","v":{"$error":"#N/A"}},null,{"$f":"TRIM(INDEX('Orçamentária-TR'!C:C,MATCH(Composições!A1812,'Orçamentária-TR'!A:A,0),1))","v":{"$error":"#N/A"}},null,"","",null,null,0]
[null,null,null,null,null,"","",null,null,0]
[null,null,"Ajudante de operação em geral com encargos complementares","h",3,16.843499999999999,{"$f":"IF(ISNUMBER(F1814),E1814*F1814,\"\")","v":50.530499999999996},{"$f":"SUM(G1814:G1815)","v":117.41999999999999},null,0]
[null,null,"MONTADOR ELETROMECÃNICO COM ENCARGOS COMPLEMENTARES","h",3,22.296499999999998,66.889499999999998,null,null,0]
[null,null,null,null,null,"","",null,null,0]
["SF-00295",{"$f":"INDEX('Orçamentária-TR'!B:C,MATCH(Composições!A1817,'Orçamentária-TR'!B:B,0),2)","v":{"$error":"#N/A"}},null,{"$f":"TRIM(INDEX('Orçamentária-TR'!C:C,MATCH(Composições!A1817,'Orçamentária-TR'!A:A,0),1))","v":{"$error":"#N/A"}},null,"","",null,null,0]
[null,null,null,null,null,"","",null,null,0]
[null,null,"Eletricista com encargos complementares","h",1,21.526999999999997,21.526999999999997,{"$f":"SUM(G1819:G1821)","v":38.294499999999999},null,0]
[null,null,"Auxiliar de eletricista com encargos complementares","h",1,16.767499999999998,16.767499999999998,null,null,0]
[null,null,"Exaustor axial, 1F/220V/60Hz,  vazão máxima 340 m3/h, pressão estática máxima 104 Pa. Referência Comercial: Multivac Muro150B 220V","un ",1,"","",null,null,0]
[null,null,null,null,null,"","",null,null,0]
["SF-00296",{"$f":"INDEX('Orçamentária-TR'!B:C,MATCH(Composições!A1823,'Orçamentária-TR'!B:B,0),2)","v":{"$error":"#N/A"}},null,{"$f":"TRIM(INDEX('Orçamentária-TR'!C:C,MATCH(Composições!A1823,'Orçamentária-TR'!A:A,0),1))","v":{"$error":"#N/A"}},null,"","",null,null,0]
[null,null,null,null,null,"","",null,null,0]
[null,null,"Eletricista com encargos complementares","h",1,21.526999999999997,21.526999999999997,{"$f":"SUM(G1825:G1827)","v":38.294499999999999},null,0]
[null,null,"Auxiliar de eletricista com encargos complementares","h",1,16.767499999999998,16.767499999999998,null,null,0]
[null,null,"Exaustor axial, 1F/220V/60Hz,  vazão máxima 865 m3/h, pressão estática máxima 582 Pa . Referência Comercial: Multivac AXC 200B","un ",1,"","",null,null,0]
[null,null,null,null,null,"","",null,null,0]
["SF-00297",{"$f":"INDEX('Orçamentária-TR'!B:C,MATCH(Composições!A1829,'Orçamentária-TR'!B:B,0),2)","v":{"$error":"#N/A"}},null,{"$f":"TRIM(INDEX('Orçamentária-TR'!C:C,MATCH(Composições!A1829,'Orçamentária-TR'!A:A,0),1))","v":{"$error":"#N/A"}},null,"","",null,null,0]
[null,null,null,null,null,"","",null,null,0]
[null,null,"Chapa de aco galvanizada bitola GSG 22, E = 0,80 mm (6,40 kg/m2)","kg",6.6559999999999997,7.0015000000000001,46.601984000000002,{"$f":"SUM(G1831:G1834)","v":192.70438399999998},null,0]
[null,null,"Suportes e acessórios de fixação de dutos em chapa de aço #22","cj",1,0,0,null,null,0]
[null,null,"Servente com Encargos Complementares","h",3.84,15.750999999999998,60.483839999999987,null,null,0]
[null,null,"MONTADOR ELETROMECÃNICO COM ENCARGOS COMPLEMENTARES","h",3.84,22.296499999999998,85.618559999999988,null,null,0]
[null,null,null,null,null,"","",null,null,0]
["SF-00298",{"$f":"INDEX('Orçamentária-TR'!B:C,MATCH(Composições!A1836,'Orçamentária-TR'!B:B,0),2)","v":{"$error":"#N/A"}},null,{"$f":"TRIM(INDEX('Orçamentária-TR'!C:C,MATCH(Composições!A1836,'Orçamentária-TR'!A:A,0),1))","v":{"$error":"#N/A"}},null,"","",null,null,0]
[null,null,null,null,null,"","",null,null,0]
[null,null,"Servente com Encargos Complementares","h",0.4,15.750999999999998,6.3003999999999998,{"$f":"SUM(G1838:G1840)","v":15.218999999999999},null,0]
[null,null,"MONTADOR ELETROMECÃNICO COM ENCARGOS COMPLEMENTARES","h",0.4,22.296499999999998,8.9185999999999996,null,null,0]
[null,null,"Duto flexível com isolamento térmico e barreira de vapor, diâmetro 6”, 6 m de comprimento. Referência Comercial: Multivac Isodec RT 0.6","m",1.05,"","",null,null,0]
[null,null,null,null,null,"","",null,null,0]
["SF-00299",{"$f":"INDEX('Orçamentária-TR'!B:C,MATCH(Composições!A1842,'Orçamentária-TR'!B:B,0),2)","v":{"$error":"#N/A"}},null,{"$f":"TRIM(INDEX('Orçamentária-TR'!C:C,MATCH(Composições!A1842,'Orçamentária-TR'!A:A,0),1))","v":{"$error":"#N/A"}},null,"","",null,null,0]
[null,null,null,null,null,"","",null,null,0]
[null,null,"Servente com Encargos Complementares","h",0.4,15.750999999999998,6.3003999999999998,{"$f":"SUM(G1844:G1846)","v":15.218999999999999},null,0]
[null,null,"MONTADOR ELETROMECÃNICO COM ENCARGOS COMPLEMENTARES","h",0.4,22.296499999999998,8.9185999999999996,null,null,0]
[null,null,"Duto flexível com isolamento térmico e barreira de vapor, diâmetro 8”, 6 m de comprimento. Referência: Multivac Isodec RT 0.6","m",1.05,"","",null,null,0]
[null,null,null,null,null,"","",null,null,0]
["SF-00300",{"$f":"INDEX('Orçamentária-TR'!B:C,MATCH(Composições!A1848,'Orçamentária-TR'!B:B,0),2)","v":{"$error":"#N/A"}},null,{"$f":"TRIM(INDEX('Orçamentária-TR'!C:C,MATCH(Composições!A1848,'Orçamentária-TR'!A:A,0),1))","v":{"$error":"#N/A"}},null,"","",null,null,0]
[null,null,null,null,null,"","",null,null,0]
[null,null,"Ajudante de operação em geral com encargos complementares","h",2.5,16.843499999999999,42.108750000000001,{"$f":"SUM(G1850:G1852)","v":97.85},null,0]
[null,null,"MONTADOR ELETROMECÃNICO COM ENCARGOS COMPLEMENTARES","h",2.5,22.296499999999998,55.741249999999994,null,null,0]
[null,null,"Difusor de ar quadrado, 360x360 mm, Referência Comercial: Trox ADLQ-AG Nº4","un ",1,"","",null,null,0]
[null,null,null,null,null,"","",null,null,0]
["SF-00301",{"$f":"INDEX('Orçamentária-TR'!B:C,MATCH(Composições!A1854,'Orçamentária-TR'!B:B,0),2)","v":{"$error":"#N/A"}},null,{"$f":"TRIM(INDEX('Orçamentária-TR'!C:C,MATCH(Composições!A1854,'Orçamentária-TR'!A:A,0),1))","v":{"$error":"#N/A"}},null,"","",null,null,0]
[null,null,null,null,null,"","",null,null,0]
[null,null,"Ajudante de operação em geral com encargos complementares","h",2.5,16.843499999999999,42.108750000000001,{"$f":"SUM(G1856:G1858)","v":97.85},null,0]
[null,null,"MONTADOR ELETROMECÃNICO COM ENCARGOS COMPLEMENTARES","h",2.5,22.296499999999998,55.741249999999994,null,null,0]
[null,null,"Difusor de ar quadrado com caixa pleno AK6 360x360 mm. Ref.: Trox ADLK-AG Nº4","un ",1,"","",null,null,0]
[null,null,null,null,null,"","",null,null,0]
["SF-00302",{"$f":"INDEX('Orçamentária-TR'!B:C,MATCH(Composições!A1860,'Orçamentária-TR'!B:B,0),2)","v":{"$error":"#N/A"}},null,{"$f":"TRIM(INDEX('Orçamentária-TR'!C:C,MATCH(Composições!A1860,'Orçamentária-TR'!A:A,0),1))","v":{"$error":"#N/A"}},null,"","",null,null,0]
[null,null,null,null,null,"","",null,null,0]
[null,null,"Ajudante de operação em geral com encargos complementares","h",2.5,16.843499999999999,42.108750000000001,{"$f":"SUM(G1862:G1864)","v":97.85},null,0]
[null,null,"MONTADOR ELETROMECÃNICO COM ENCARGOS COMPLEMENTARES","h",2.5,22.296499999999998,55.741249999999994,null,null,0]
[null,null,"Difusor de ar quadrado para insuflamento em duas direções perpendiculares 376x376 mm, Referência Comercial: Trox  ADQ-2C-AG","un ",1,"","",null,null,0]
[null,null,null,null,null,"","",null,null,0]
["SF-00303",{"$f":"INDEX('Orçamentária-TR'!B:C,MATCH(Composições!A1866,'Orçamentária-TR'!B:B,0),2)","v":{"$error":"#N/A"}},null,{"$f":"TRIM(INDEX('Orçamentária-TR'!C:C,MATCH(Composições!A1866,'Orçamentária-TR'!A:A,0),1))","v":{"$error":"#N/A"}},null,"","",null,null,0]
[null,null,null,null,null,"","",null,null,0]
[null,null,"Ajudante de operação em geral com encargos complementares","h",2.5,16.843499999999999,42.108750000000001,{"$f":"SUM(G1868:G1870)","v":97.85},null,0]
[null,null,"MONTADOR ELETROMECÃNICO COM ENCARGOS COMPLEMENTARES","h",2.5,22.296499999999998,55.741249999999994,null,null,0]
[null,null,"Difusor de ar retangular para insuflamento em duas direções (fluxo na direção perpendicular às maiores arestas do retângulo), 371x208 mm. Ref.: Trox ADQ-2","un ",1,"","",null,null,0]
[null,null,null,null,null,"","",null,null,0]
["SF-00304",{"$f":"INDEX('Orçamentária-TR'!B:C,MATCH(Composições!A1872,'Orçamentária-TR'!B:B,0),2)","v":{"$error":"#N/A"}},null,{"$f":"TRIM(INDEX('Orçamentária-TR'!C:C,MATCH(Composições!A1872,'Orçamentária-TR'!A:A,0),1))","v":{"$error":"#N/A"}},null,"","",null,null,0]
[null,null,null,null,null,"","",null,null,0]
[null,null,"Ajudante de operação em geral com encargos complementares","h",2.5,16.843499999999999,42.108750000000001,{"$f":"SUM(G1874:G1876)","v":97.85},null,0]
[null,null,"MONTADOR ELETROMECÃNICO COM ENCARGOS COMPLEMENTARES","h",2.5,22.296499999999998,55.741249999999994,null,null,0]
[null,null,"Difusor de ar retangular para insuflamento em três direções (um fluxo na direção perpendicular às maiores arestas do retângulo e dois fluxos na direção perpendicular às menores arestas), 264x432 mm, Referência Comercial: Trox  ADQ-32-AG","un ",1,"","",null,null,0]
[null,null,null,null,null,"","",null,null,0]
["SF-00305",{"$f":"INDEX('Orçamentária-TR'!B:C,MATCH(Composições!A1878,'Orçamentária-TR'!B:B,0),2)","v":{"$error":"#N/A"}},null,{"$f":"TRIM(INDEX('Orçamentária-TR'!C:C,MATCH(Composições!A1878,'Orçamentária-TR'!A:A,0),1))","v":{"$error":"#N/A"}},null,"",{"$f":"IF(ISNUMBER(F1878),E1878*F1878,\"\")","v":""},null,null,0]
[null,null,null,null,null,"","",null,null,0]
[null,null,"Ajudante de operação em geral com encargos complementares","h",2.5,16.843499999999999,42.108750000000001,{"$f":"SUM(G1880:G1882)","v":97.85},null,0]
[null,null,"MONTADOR ELETROMECÃNICO COM ENCARGOS COMPLEMENTARES","h",2.5,22.296499999999998,55.741249999999994,null,null,0]
[null,null,"Difusor de ar retangular para insuflamento em três direções 320x562 mm. Ref.: Trox ADQ-32-AG","un ",1,"","",null,null,0]
[null,null,null,null,null,"","",null,null,0]
["SF-00306",{"$f":"INDEX('Orçamentária-TR'!B:C,MATCH(Composições!A1884,'Orçamentária-TR'!B:B,0),2)","v":{"$error":"#N/A"}},null,{"$f":"TRIM(INDEX('Orçamentária-TR'!C:C,MATCH(Composições!A1884,'Orçamentária-TR'!A:A,0),1))","v":{"$error":"#N/A"}},null,"","",null,null,0]
[null,null,null,null,null,"","",null,null,0]
[null,null,"Ajudante de operação em geral com encargos complementares","h",2.5,16.843499999999999,42.108750000000001,{"$f":"SUM(G1886:G1888)","v":97.85},null,0]
[null,null,"MONTADOR ELETROMECÃNICO COM ENCARGOS COMPLEMENTARES","h",2.5,22.296499999999998,55.741249999999994,null,null,0]
[null,null,"Difusor de ar retangular para insuflamento em três direções (dois fluxos na direção perpendicular às maiores arestas do retângulo e um fluxo na direção perpendicular às menores arestas), 371x208 mm. Ref.: Trox ADQ-3","un ",1,"","",null,null,0]
[null,null,null,null,null,"","",null,null,0]
["SF-00307",{"$f":"INDEX('Orçamentária-TR'!B:C,MATCH(Composições!A1890,'Orçamentária-TR'!B:B,0),2)","v":{"$error":"#N/A"}},null,{"$f":"TRIM(INDEX('Orçamentária-TR'!C:C,MATCH(Composições!A1890,'Orçamentária-TR'!A:A,0),1))","v":{"$error":"#N/A"}},null,"","",null,null,0]
[null,null,null,null,null,"","",null,null,0]
[null,null,"Ajudante de operação em geral com encargos complementares","h",2.5,16.843499999999999,42.108750000000001,{"$f":"SUM(G1892:G1894)","v":97.85},null,0]
[null,null,"MONTADOR ELETROMECÃNICO COM ENCARGOS COMPLEMENTARES","h",2.5,22.296499999999998,55.741249999999994,null,null,0]
[null,null,"Difusor de ar retangular para insuflamento em uma direção (fluxo na direção perpendicular às maiores arestas do retângulo), 371x208 mm. Ref.: Trox ADQ-1","un ",1,"","",null,null,0]
[null,null,null,null,null,"","",null,null,0]
["SF-00308",{"$f":"INDEX('Orçamentária-TR'!B:C,MATCH(Composições!A1896,'Orçamentária-TR'!B:B,0),2)","v":{"$error":"#N/A"}},null,{"$f":"TRIM(INDEX('Orçamentária-TR'!C:C,MATCH(Composições!A1896,'Orçamentária-TR'!A:A,0),1))","v":{"$error":"#N/A"}},null,"","",null,null,0]
[null,null,null,null,null,"","",null,null,0]
[null,null,"Ajudante de operação em geral com encargos complementares","h",3.5,16.843499999999999,58.952249999999992,{"$f":"SUM(G1898:G1900)","v":136.98999999999998},null,0]
[null,null,"MONTADOR ELETROMECÃNICO COM ENCARGOS COMPLEMENTARES","h",3.5,22.296499999999998,78.037749999999988,null,null,0]
[null,null,"Grelha para retorno de ar com lâminas fixas e registro, 40 x 20 cm","un ",1,0,0,null,null,0]
[null,null,null,null,null,"","",null,null,0]
["SF-00309",{"$f":"INDEX('Orçamentária-TR'!B:C,MATCH(Composições!A1902,'Orçamentária-TR'!B:B,0),2)","v":{"$error":"#N/A"}},null,{"$f":"TRIM(INDEX('Orçamentária-TR'!C:C,MATCH(Composições!A1902,'Orçamentária-TR'!A:A,0),1))","v":{"$error":"#N/A"}},null,"","",null,null,0]
[null,null,null,null,null,"","",null,null,0]
[null,null,"Ajudante de operação em geral com encargos complementares","h",3.5,16.843499999999999,58.952249999999992,{"$f":"SUM(G1904:G1906)","v":136.98999999999998},null,0]
[null,null,"MONTADOR ELETROMECÃNICO COM ENCARGOS COMPLEMENTARES","h",3.5,22.296499999999998,78.037749999999988,null,null,0]
[null,null,"Grelha para retorno de ar com lâminas fixas e registro, 50 x 30 cm","un ",1,0,0,null,null,0]
[null,null,null,null,null,"","",null,null,0]
["SF-00310",{"$f":"INDEX('Orçamentária-TR'!B:C,MATCH(Composições!A1908,'Orçamentária-TR'!B:B,0),2)","v":{"$error":"#N/A"}},null,{"$f":"TRIM(INDEX('Orçamentária-TR'!C:C,MATCH(Composições!A1908,'Orçamentária-TR'!A:A,0),1))","v":{"$error":"#N/A"}},null,"","",null,null,0]
[null,null,null,null,null,"","",null,null,0]
[null,null,"Ajudante de operação em geral com encargos complementares","h",2.5,16.843499999999999,42.108750000000001,{"$f":"SUM(G1910:G1911)","v":97.85},null,0]
[null,null,"MONTADOR ELETROMECÃNICO COM ENCARGOS COMPLEMENTARES","h",2.5,22.296499999999998,55.741249999999994,null,null,0]
[null,null,null,null,null,"","",null,null,0]
["SF-00311",{"$f":"INDEX('Orçamentária-TR'!B:C,MATCH(Composições!A1913,'Orçamentária-TR'!B:B,0),2)","v":{"$error":"#N/A"}},null,{"$f":"TRIM(INDEX('Orçamentária-TR'!C:C,MATCH(Composições!A1913,'Orçamentária-TR'!A:A,0),1))","v":{"$error":"#N/A"}},null,"","",null,null,0]
[null,null,null,null,null,"","",null,null,0]
[null,null,"Eletricista com encargos complementares","h",1,21.526999999999997,21.526999999999997,{"$f":"SUM(G1915:G1916)","v":38.294499999999999},null,0]
[null,null,"Auxiliar de eletricista com encargos complementares","h",1,16.767499999999998,16.767499999999998,null,null,0]
[null,null,null,null,null,"","",null,null,0]
["SF-00312",{"$f":"INDEX('Orçamentária-TR'!B:C,MATCH(Composições!A1918,'Orçamentária-TR'!B:B,0),2)","v":{"$error":"#N/A"}},null,{"$f":"TRIM(INDEX('Orçamentária-TR'!C:C,MATCH(Composições!A1918,'Orçamentária-TR'!A:A,0),1))","v":{"$error":"#N/A"}},null,"","",null,null,0]
[null,null,null,null,null,"","",null,null,0]
[null,null,"Marceneiro com encargos complementares","h",0.75,21.5745,16.180875,{"$f":"SUM(G1920:G1921)","v":29.582999999999998},null,0]
[null,null,"Ajudante de carpinteiro com encargos complementares","h",0.75,17.869499999999999,13.402124999999998,null,null,0]
[null,null,null,null,null,"","",null,null,0]
["SF-00313",{"$f":"INDEX('Orçamentária-TR'!B:C,MATCH(Composições!A1923,'Orçamentária-TR'!B:B,0),2)","v":{"$error":"#N/A"}},null,{"$f":"TRIM(INDEX('Orçamentária-TR'!C:C,MATCH(Composições!A1923,'Orçamentária-TR'!A:A,0),1))","v":{"$error":"#N/A"}},null,"","",null,null,0]
[null,null,null,null,null,"","",null,null,0]
[null,null,"Auxiliar de eletricista com encargos complementares","h",1,16.767499999999998,16.767499999999998,{"$f":"SUM(G1925:G1927)","v":38.294499999999999},null,0]
[null,null,"Eletricista com encargos complementares","h",1,21.526999999999997,21.526999999999997,null,null,0]
[null,null,"Bomba para condensado de ar-condicionado para instalação oculta, 1F/220V/60Hz, vazão 14 l/h (a 0 mmca). Ref.: Elgin Mini Orange","un",1,"","",null,null,0]
[null,null,null,null,null,"","",null,null,0]
["SF-00314",{"$f":"INDEX('Orçamentária-TR'!B:C,MATCH(Composições!A1929,'Orçamentária-TR'!B:B,0),2)","v":{"$error":"#N/A"}},null,{"$f":"TRIM(INDEX('Orçamentária-TR'!C:C,MATCH(Composições!A1929,'Orçamentária-TR'!A:A,0),1))","v":{"$error":"#N/A"}},null,"","",null,null,0]
[null,null,null,null,null,"","",null,null,0]
[null,null,"Ajudante de operação em geral com encargos complementares","h",0.01,16.843499999999999,0.168435,{"$f":"SUM(G1931:G1932)","v":0.168435},null,0]
[null,null,"Fita aluminizada 48 mm","m",1,"","",null,null,0]
[null,null,null,null,null,"","",null,null,0]
["SF-00315",{"$f":"INDEX('Orçamentária-TR'!B:C,MATCH(Composições!A1934,'Orçamentária-TR'!B:B,0),2)","v":{"$error":"#N/A"}},null,{"$f":"TRIM(INDEX('Orçamentária-TR'!C:C,MATCH(Composições!A1934,'Orçamentária-TR'!A:A,0),1))","v":{"$error":"#N/A"}},null,"","",null,null,0]
[null,null,null,null,null,"","",null,null,0]
[null,null,"Ajudante de operação em geral com encargos complementares","h",0.01,16.843499999999999,0.168435,{"$f":"SUM(G1936:G1937)","v":0.168435},null,0]
[null,null,"Fita PVC 100 mm","m",1,"","",null,null,0]
[null,null,null,null,null,"","",null,null,0]
["SF-00316",{"$f":"INDEX('Orçamentária-TR'!B:C,MATCH(Composições!A1939,'Orçamentária-TR'!B:B,0),2)","v":{"$error":"#N/A"}},null,{"$f":"TRIM(INDEX('Orçamentária-TR'!C:C,MATCH(Composições!A1939,'Orçamentária-TR'!A:A,0),1))","v":{"$error":"#N/A"}},null,"","",null,null,0]
[null,null,null,null,null,"","",null,null,0]
[null,null,"Ajudante de operação em geral com encargos complementares","h",0.05,16.843499999999999,0.84217500000000001,{"$f":"SUM(G1941:G1942)","v":0.84217500000000001},null,0]
[null,null,"Mangueira emborrachada 3/4\"","m",1,"",{"$f":"IF(ISNUMBER(F1942),E1942*F1942,\"\")","v":""},null,null,0]
[null,null,null,null,null,"","",null,null,0]
["SF-00317",{"$f":"INDEX('Orçamentária-TR'!B:C,MATCH(Composições!A1944,'Orçamentária-TR'!B:B,0),2)","v":{"$error":"#N/A"}},null,{"$f":"TRIM(INDEX('Orçamentária-TR'!C:C,MATCH(Composições!A1944,'Orçamentária-TR'!A:A,0),1))","v":{"$error":"#N/A"}},null,"","",null,null,0]
[null,null,null,null,null,"","",null,null,0]
[null,null,"Serralheiro com encargos complementares","h",0.85099999999999998,21.222999999999999,18.060772999999998,{"$f":"SUM(G1946:G1948)","v":32.742224999999998},null,0]
[null,null,"Auxiliar de serralheiro com encargos complementares","h",0.85099999999999998,17.251999999999999,14.681451999999998,null,null,0]
[null,null,"Suporte para unidade condensadora de aparelho split ou fancolete","un ",1,"","",null,null,0]
[null,null,null,null,null,"","",null,null,0]
["SF-00318",{"$f":"INDEX('Orçamentária-TR'!B:C,MATCH(Composições!A1950,'Orçamentária-TR'!B:B,0),2)","v":{"$error":"#N/A"}},null,{"$f":"TRIM(INDEX('Orçamentária-TR'!C:C,MATCH(Composições!A1950,'Orçamentária-TR'!A:A,0),1))","v":{"$error":"#N/A"}},null,"","",null,null,0]
[null,null,null,null,null,"","",null,null,0]
[null,null,"Serralheiro com encargos complementares","h",0.85099999999999998,21.222999999999999,18.060772999999998,{"$f":"SUM(G1952:G1954)","v":32.742224999999998},null,0]
[null,null,"Auxiliar de serralheiro com encargos complementares","h",0.85099999999999998,17.251999999999999,14.681451999999998,null,null,0]
[null,null,"Suporte para unidade evaporadora de aparelho split ou fancolete","un ",1,"","",null,null,0]
[null,null,null,null,null,"","",null,null,0]
["SF-00319",{"$f":"INDEX('Orçamentária-TR'!B:C,MATCH(Composições!A1956,'Orçamentária-TR'!B:B,0),2)","v":{"$error":"#N/A"}},null,{"$f":"TRIM(INDEX('Orçamentária-TR'!C:C,MATCH(Composições!A1956,'Orçamentária-TR'!A:A,0),1))","v":{"$error":"#N/A"}},null,"","",null,null,0]
[null,null,null,null,null,"","",null,null,0]
[null,null,"Auxiliar de encanador ou bombeiro hidráulico com encargos complementares","h",0.77449999999999997,16.320999999999998,12.640614499999998,{"$f":"SUM(G1958:G1961)","v":28.964174749999994},null,0]
[null,null,"Encanador ou Bombeiro Hidráulico com Encargos Complementares","h",0.77449999999999997,20.9285,16.209123249999998,null,null,0]
[null,null,"Filtro em Y 1\" (DN 25 mm), fabricado em bronze, extremidade com roscas, filtro em aço inoxidável, classe de pressão PN20 ou superior. Ref.: Deca 000.085.100.03","un ",1,"","",null,null,0]
[null,null,"Fita veda rosca em rolos de 18 mm x 50 m (L x C)","UN",9.4999999999999998E-3,12.045999999999999,0.114437,null,null,0]
[null,null,null,null,null,"","",null,null,0]
["SF-00320",{"$f":"INDEX('Orçamentária-TR'!B:C,MATCH(Composições!A1963,'Orçamentária-TR'!B:B,0),2)","v":{"$error":"#N/A"}},null,{"$f":"TRIM(INDEX('Orçamentária-TR'!C:C,MATCH(Composições!A1963,'Orçamentária-TR'!A:A,0),1))","v":{"$error":"#N/A"}},null,"","",null,null,0]
[null,null,null,null,null,"","",null,null,0]
[null,null,"Auxiliar de encanador ou bombeiro hidráulico com encargos complementares","h",0.77449999999999997,16.320999999999998,12.640614499999998,{"$f":"SUM(G1965:G1968)","v":28.964174749999994},null,0]
[null,null,"Encanador ou Bombeiro Hidráulico com Encargos Complementares","h",0.77449999999999997,20.9285,16.209123249999998,null,null,0]
[null,null,"Filtro em Y 3/4\" (DN 20 mm), fabricado em bronze, extremidade com roscas, filtro em aço inoxidável, classe de pressão PN20 ou superior. Ref.: Deca 000.085.034.03","un ",1,"","",null,null,0]
[null,null,"Fita veda rosca em rolos de 18 mm x 50 m (L x C)","UN",9.4999999999999998E-3,12.045999999999999,0.114437,null,null,0]
[null,null,null,null,null,"","",null,null,0]
["SF-00321",{"$f":"INDEX('Orçamentária-TR'!B:C,MATCH(Composições!A1970,'Orçamentária-TR'!B:B,0),2)","v":{"$error":"#N/A"}},null,{"$f":"TRIM(INDEX('Orçamentária-TR'!C:C,MATCH(Composições!A1970,'Orçamentária-TR'!A:A,0),1))","v":{"$error":"#N/A"}},null,"","",null,null,0]
[null,null,null,null,null,"","",null,null,0]
[null,null,"Auxiliar de encanador ou bombeiro hidráulico com encargos complementares","h",0.77449999999999997,16.320999999999998,12.640614499999998,{"$f":"SUM(G1972:G1976)","v":28.964174749999994},null,0]
[null,null,"Encanador ou Bombeiro Hidráulico com Encargos Complementares","h",0.77449999999999997,20.9285,16.209123249999998,null,null,0]
[null,null,"Fita veda rosca em rolos de 18 mm x 50 m (L x C)","UN",9.4999999999999998E-3,12.045999999999999,0.114437,null,null,0]
[null,null,"Atuador tipo liga/desliga (ON/OFF), com tensão compatível com o restante do sistema (24 V ou 220 V) e mecanicamente compatível com a válvula fornecida. Referência comercial: IMI Hydronic Engineering EMO-T","un ",1,"","",null,null,0]
[null,null,"Válvula de balanceamento e controle (PIBCV) 2 vias, para controle on-off, diâmetro nominal 1\" (25 mm). Ref.: IMI Hydronic Engineering TA-COMPACT-P DN 25, Honeywell VRN2C","un ",1,"","",null,null,0]
[null,null,null,null,null,"","",null,null,0]
["SF-00322",{"$f":"INDEX('Orçamentária-TR'!B:C,MATCH(Composições!A1978,'Orçamentária-TR'!B:B,0),2)","v":{"$error":"#N/A"}},null,{"$f":"TRIM(INDEX('Orçamentária-TR'!C:C,MATCH(Composições!A1978,'Orçamentária-TR'!A:A,0),1))","v":{"$error":"#N/A"}},null,"","",null,null,0]
[null,null,null,null,null,"","",null,null,0]
[null,null,"Auxiliar de encanador ou bombeiro hidráulico com encargos complementares","h",0.77449999999999997,16.320999999999998,12.640614499999998,{"$f":"SUM(G1980:G1984)","v":28.964174749999994},null,0]
[null,null,"Encanador ou Bombeiro Hidráulico com Encargos Complementares","h",0.77449999999999997,20.9285,16.209123249999998,null,null,0]
[null,null,"Fita veda rosca em rolos de 18 mm x 50 m (L x C)","UN",9.4999999999999998E-3,12.045999999999999,0.114437,null,null,0]
[null,null,"Atuador tipo liga/desliga (ON/OFF), com tensão compatível com o restante do sistema (24 V ou 220 V) e mecanicamente compatível com a válvula fornecida. Referência comercial: IMI Hydronic Engineering EMO-T","un ",1,"","",null,null,0]
[null,null,"Válvula de balanceamento e controle (PIBCV) 2 vias, para controle on-off, diâmetro nominal 3/4\" (20 mm). Ref.: IMI Hydronic Engineering TA-COMPACT-P DN 20, Honeywell VRN2B","un ",1,"","",null,null,0]
[null,null,null,null,null,"","",null,null,0]
["SF-00323",{"$f":"INDEX('Orçamentária-TR'!B:C,MATCH(Composições!A1986,'Orçamentária-TR'!B:B,0),2)","v":{"$error":"#N/A"}},null,{"$f":"TRIM(INDEX('Orçamentária-TR'!C:C,MATCH(Composições!A1986,'Orçamentária-TR'!A:A,0),1))","v":{"$error":"#N/A"}},null,"","",null,null,0]
[null,null,null,null,null,"","",null,null,0]
[null,null,"Fita veda rosca em rolos de 18 mm x 50 m (L x C)","UN",1.9E-2,12.045999999999999,0.22887399999999999,{"$f":"SUM(G1988:G1991)","v":138.22272949999999},null,0]
[null,null,"VALVULA DE ESFERA BRUTA EM BRONZE, BITOLA 1 1/2 \" (REF 1552-B)","un",1,108.60399999999998,108.60399999999998,null,null,0]
[null,null,"Auxiliar de encanador ou bombeiro hidráulico com encargos complementares","h",0.78900000000000003,16.320999999999998,12.877268999999998,null,null,0]
[null,null,"Encanador ou Bombeiro Hidráulico com Encargos Complementares","h",0.78900000000000003,20.9285,16.512586500000001,null,null,0]
[null,null,null,null,null,"","",null,null,0]
["SF-00324",{"$f":"INDEX('Orçamentária-TR'!B:C,MATCH(Composições!A1993,'Orçamentária-TR'!B:B,0),2)","v":{"$error":"#N/A"}},null,{"$f":"TRIM(INDEX('Orçamentária-TR'!C:C,MATCH(Composições!A1993,'Orçamentária-TR'!A:A,0),1))","v":{"$error":"#N/A"}},null,"","",null,null,0]
[null,null,null,null,null,"","",null,null,0]
[null,null,"Fita veda rosca em rolos de 18 mm x 50 m (L x C)","UN",1.9E-2,12.045999999999999,0.22887399999999999,{"$f":"SUM(G1995:G1998)","v":119.74522950000001},null,0]
[null,null,"VALVULA DE ESFERA BRUTA EM BRONZE, BITOLA 1 1/4 \" (REF 1552-B)","un",1,90.126500000000007,90.126500000000007,null,null,0]
[null,null,"Auxiliar de encanador ou bombeiro hidráulico com encargos complementares","h",0.78900000000000003,16.320999999999998,12.877268999999998,null,null,0]
[null,null,"Encanador ou Bombeiro Hidráulico com Encargos Complementares","h",0.78900000000000003,20.9285,16.512586500000001,null,null,0]
[null,null,null,null,null,"","",null,null,0]
["SF-00325",{"$f":"INDEX('Orçamentária-TR'!B:C,MATCH(Composições!A2000,'Orçamentária-TR'!B:B,0),2)","v":{"$error":"#N/A"}},null,{"$f":"TRIM(INDEX('Orçamentária-TR'!C:C,MATCH(Composições!A2000,'Orçamentária-TR'!A:A,0),1))","v":{"$error":"#N/A"}},null,"","",null,null,0]
[null,null,null,null,null,"","",null,null,0]
[null,null,"Fita veda rosca em rolos de 18 mm x 50 m (L x C)","UN",9.4999999999999998E-3,12.045999999999999,0.114437,{"$f":"SUM(G2002:G2005)","v":89.431674749999985},null,0]
[null,null,"Valvula de esfera bruta em bronze, bitola 1 \" (ref 1552-B)","un",1,60.467499999999994,60.467499999999994,null,null,0]
[null,null,"Auxiliar de encanador ou bombeiro hidráulico com encargos complementares","h",0.77449999999999997,16.320999999999998,12.640614499999998,null,null,0]
[null,null,"Encanador ou Bombeiro Hidráulico com Encargos Complementares","h",0.77449999999999997,20.9285,16.209123249999998,null,null,0]
[null,null,null,null,null,"",{"$f":"IF(ISNUMBER(F2006),E2006*F2006,\"\")","v":""},null,null,0]
["SF-00326",{"$f":"INDEX('Orçamentária-TR'!B:C,MATCH(Composições!A2007,'Orçamentária-TR'!B:B,0),2)","v":{"$error":"#N/A"}},null,{"$f":"TRIM(INDEX('Orçamentária-TR'!C:C,MATCH(Composições!A2007,'Orçamentária-TR'!A:A,0),1))","v":{"$error":"#N/A"}},null,"","",null,null,0]
[null,null,null,null,null,"","",null,null,0]
[null,null,"Fita veda rosca em rolos de 18 mm x 50 m (L x C)","UN",9.4999999999999998E-3,12.045999999999999,0.114437,{"$f":"SUM(G2009:G2012)","v":73.756674750000002},null,0]
[null,null,"Valvula de esfera bruta em bronze, bitola 3/4 \" (ref 1552-B)","un",1,44.792499999999997,44.792499999999997,null,null,0]
[null,null,"Auxiliar de encanador ou bombeiro hidráulico com encargos complementares","h",0.77449999999999997,16.320999999999998,12.640614499999998,null,null,0]
[null,null,"Encanador ou Bombeiro Hidráulico com Encargos Complementares","h",0.77449999999999997,20.9285,16.209123249999998,null,null,0]
[null,null,null,null,null,"","",null,null,0]
["SF-00327",{"$f":"INDEX('Orçamentária-TR'!B:C,MATCH(Composições!A2014,'Orçamentária-TR'!B:B,0),2)","v":{"$error":"#N/A"}},null,{"$f":"TRIM(INDEX('Orçamentária-TR'!C:C,MATCH(Composições!A2014,'Orçamentária-TR'!A:A,0),1))","v":{"$error":"#N/A"}},null,"","",null,null,0]
[null,null,null,null,null,"","",null,null,0]
[null,null,"Auxiliar de encanador ou bombeiro hidráulico com encargos complementares","h",0.1,16.320999999999998,1.6320999999999999,{"$f":"SUM(G2016:G2018)","v":3.7249499999999998},null,0]
[null,null,"Encanador ou Bombeiro Hidráulico com Encargos Complementares","h",0.1,20.9285,2.0928499999999999,null,null,0]
[null,null,"Isolamento elastomérico em formato prancha autoadesiva de espessura M. Ref.: AF/Armaflex M-99/E-A, K-Flex ST","m2",1.05,"","",null,null,0]
[null,null,null,null,null,"","",null,null,0]
["SF-00328",{"$f":"INDEX('Orçamentária-TR'!B:C,MATCH(Composições!A2020,'Orçamentária-TR'!B:B,0),2)","v":{"$error":"#N/A"}},null,{"$f":"TRIM(INDEX('Orçamentária-TR'!C:C,MATCH(Composições!A2020,'Orçamentária-TR'!A:A,0),1))","v":{"$error":"#N/A"}},null,"","",null,null,0]
[null,null,null,null,null,"","",null,null,0]
[null,null,"Isolamento elastomérico em formato de tubo ou coquilha de espessura M, próprio para tubulação de cobre de diâmetro nominal 1 1/8\" e para tubulações de ferro de diâmetro nominal 3/4\". Ref.: AF/Armaflex M-28, K-Flex ST","m",1.0210999999999999,"","",{"$f":"SUM(G2022:G2024)","v":0.71519039999999989},null,0]
[null,null,"Auxiliar de encanador ou bombeiro hidráulico com encargos complementares","h",{"$f":"0.064*0.3","v":1.9199999999999998E-2},16.320999999999998,0.31336319999999995,null,null,0]
[null,null,"Encanador ou Bombeiro Hidráulico com Encargos Complementares","h",{"$f":"0.064*0.3","v":1.9199999999999998E-2},20.9285,0.40182719999999994,null,null,0]
[null,null,null,null,null,"","",null,null,0]
[null,null,"Obs.: As seguintes proporções foram consideradas quanto ao tempo de mão de obra: 70% para instalação do tubo e 30% para instalação do isolamento térmico.",null,null,"","",null,null,0]
[null,null,null,null,null,"","",null,null,0]
["SF-00329",{"$f":"INDEX('Orçamentária-TR'!B:C,MATCH(Composições!A2028,'Orçamentária-TR'!B:B,0),2)","v":{"$error":"#N/A"}},null,{"$f":"TRIM(INDEX('Orçamentária-TR'!C:C,MATCH(Composições!A2028,'Orçamentária-TR'!A:A,0),1))","v":{"$error":"#N/A"}},null,"","",null,null,0]
[null,null,null,null,null,"","",null,null,0]
[null,null,"Isolamento elastomérico em formato de tubo ou coquilha de espessura M, próprio para tubulação de cobre de diâmetro nominal 1/2\". Ref.: AF/Armaflex M-12, K-Flex ST","m",1.0210999999999999,"","",{"$f":"SUM(G2030:G2032)","v":0.68166584999999991},null,0]
[null,null,"Auxiliar de encanador ou bombeiro hidráulico com encargos complementares","h",{"$f":"0.061*0.3","v":1.83E-2},16.320999999999998,0.29867429999999995,null,null,0]
[null,null,"Encanador ou Bombeiro Hidráulico com Encargos Complementares","h",{"$f":"0.061*0.3","v":1.83E-2},20.9285,0.38299155000000001,null,null,0]
[null,null,null,null,null,"","",null,null,0]
[null,null,"Obs.: As seguintes proporções foram consideradas quanto ao tempo de mão de obra: 70% para instalação do tubo e 30% para instalação do isolamento térmico.",null,null,"","",null,null,0]
[null,null,null,null,null,"","",null,null,0]
["SF-00330",{"$f":"INDEX('Orçamentária-TR'!B:C,MATCH(Composições!A2036,'Orçamentária-TR'!B:B,0),2)","v":{"$error":"#N/A"}},null,{"$f":"TRIM(INDEX('Orçamentária-TR'!C:C,MATCH(Composições!A2036,'Orçamentária-TR'!A:A,0),1))","v":{"$error":"#N/A"}},null,"","",null,null,0]
[null,null,null,null,null,"","",null,null,0]
[null,null,"Isolamento elastomérico em formato de tubo ou coquilha de espessura M, próprio para tubulação de cobre de diâmetro nominal 1/4\". Ref.: AF/Armaflex M-06, K-Flex ST","m",1.0210999999999999,"","",{"$f":"SUM(G2038:G2040)","v":0.58109219999999984},null,0]
[null,null,"Auxiliar de encanador ou bombeiro hidráulico com encargos complementares","h",{"$f":"0.052*0.3","v":1.5599999999999999E-2},16.320999999999998,0.25460759999999993,null,null,0]
[null,null,"Encanador ou Bombeiro Hidráulico com Encargos Complementares","h",{"$f":"0.052*0.3","v":1.5599999999999999E-2},20.9285,0.32648459999999996,null,null,0]
[null,null,null,null,null,"","",null,null,0]
[null,null,"Obs.: As seguintes proporções foram consideradas quanto ao tempo de mão de obra: 70% para instalação do tubo e 30% para instalação do isolamento térmico.",null,null,"","",null,null,0]
[null,null,null,null,null,"","",null,null,0]
["SF-00331",{"$f":"INDEX('Orçamentária-TR'!B:C,MATCH(Composições!A2044,'Orçamentária-TR'!B:B,0),2)","v":{"$error":"#N/A"}},null,{"$f":"TRIM(INDEX('Orçamentária-TR'!C:C,MATCH(Composições!A2044,'Orçamentária-TR'!A:A,0),1))","v":{"$error":"#N/A"}},null,"","",null,null,0]
[null,null,null,null,null,"","",null,null,0]
[null,null,"Isolamento elastomérico em formato de tubo ou coquilha de espessura M, próprio para tubulação de cobre de diâmetro nominal 3/4\". Ref.: AF/Armaflex M-18, K-Flex ST","m",1.0210999999999999,"","",{"$f":"SUM(G2046:G2048)","v":0.71519039999999989},null,0]
[null,null,"Auxiliar de encanador ou bombeiro hidráulico com encargos complementares","h",{"$f":"0.064*0.3","v":1.9199999999999998E-2},16.320999999999998,0.31336319999999995,null,null,0]
[null,null,"Encanador ou Bombeiro Hidráulico com Encargos Complementares","h",{"$f":"0.064*0.3","v":1.9199999999999998E-2},20.9285,0.40182719999999994,null,null,0]
[null,null,null,null,null,"","",null,null,0]
[null,null,"Obs.: As seguintes proporções foram consideradas quanto ao tempo de mão de obra: 70% para instalação do tubo e 30% para instalação do isolamento térmico.",null,null,"","",null,null,0]
[null,null,null,null,null,"","",null,null,0]
["SF-00332",{"$f":"INDEX('Orçamentária-TR'!B:C,MATCH(Composições!A2052,'Orçamentária-TR'!B:B,0),2)","v":{"$error":"#N/A"}},null,{"$f":"TRIM(INDEX('Orçamentária-TR'!C:C,MATCH(Composições!A2052,'Orçamentária-TR'!A:A,0),1))","v":{"$error":"#N/A"}},null,"","",null,null,0]
[null,null,null,null,null,"","",null,null,0]
[null,null,"Isolamento elastomérico em formato de tubo ou coquilha de espessura M, próprio para tubulação de cobre de diâmetro nominal 3/8\". Ref.: AF/Armaflex M-10, K-Flex ST","m",1.0210999999999999,"","",{"$f":"SUM(G2054:G2056)","v":0.63696644999999996},null,0]
[null,null,"Auxiliar de encanador ou bombeiro hidráulico com encargos complementares","h",{"$f":"0.057*0.3","v":1.7100000000000001E-2},16.320999999999998,0.27908909999999998,null,null,0]
[null,null,"Encanador ou Bombeiro Hidráulico com Encargos Complementares","h",{"$f":"0.057*0.3","v":1.7100000000000001E-2},20.9285,0.35787734999999998,null,null,0]
[null,null,null,null,null,"","",null,null,0]
[null,null,"Obs.: As seguintes proporções foram consideradas quanto ao tempo de mão de obra: 70% para instalação do tubo e 30% para instalação do isolamento térmico.",null,null,"","",null,null,0]
[null,null,null,null,null,"","",null,null,0]
["SF-00333",{"$f":"INDEX('Orçamentária-TR'!B:C,MATCH(Composições!A2060,'Orçamentária-TR'!B:B,0),2)","v":{"$error":"#N/A"}},null,{"$f":"TRIM(INDEX('Orçamentária-TR'!C:C,MATCH(Composições!A2060,'Orçamentária-TR'!A:A,0),1))","v":{"$error":"#N/A"}},null,"","",null,null,0]
[null,null,null,null,null,"","",null,null,0]
[null,null,"Isolamento elastomérico em formato de tubo ou coquilha de espessura M, próprio para tubulação de cobre de diâmetro nominal 5/8\". Ref.: AF/Armaflex M-15, K-Flex ST","m",1.0210999999999999,"","",{"$f":"SUM(G2062:G2064)","v":0.71519039999999989},null,0]
[null,null,"Auxiliar de encanador ou bombeiro hidráulico com encargos complementares","h",{"$f":"0.064*0.3","v":1.9199999999999998E-2},16.320999999999998,0.31336319999999995,null,null,0]
[null,null,"Encanador ou Bombeiro Hidráulico com Encargos Complementares","h",{"$f":"0.064*0.3","v":1.9199999999999998E-2},20.9285,0.40182719999999994,null,null,0]
[null,null,null,null,null,"","",null,null,0]
[null,null,"Obs.: As seguintes proporções foram consideradas quanto ao tempo de mão de obra: 70% para instalação do tubo e 30% para instalação do isolamento térmico.",null,null,"","",null,null,0]
[null,null,null,null,null,"","",null,null,0]
["SF-00334",{"$f":"INDEX('Orçamentária-TR'!B:C,MATCH(Composições!A2068,'Orçamentária-TR'!B:B,0),2)","v":{"$error":"#N/A"}},null,{"$f":"TRIM(INDEX('Orçamentária-TR'!C:C,MATCH(Composições!A2068,'Orçamentária-TR'!A:A,0),1))","v":{"$error":"#N/A"}},null,"","",null,null,0]
[null,null,null,null,null,"","",null,null,0]
[null,null,"Isolamento elastomérico em formato de tubo ou coquilha de espessura M, próprio para tubulação de cobre de diâmetro nominal 7/8\" e para tubulações de ferro de diâmetro nominal 1/2\". Ref.: AF/Armaflex M-22, K-Flex ST","m",1.0210999999999999,"",{"$f":"IF(ISNUMBER(F2070),E2070*F2070,\"\")","v":""},{"$f":"SUM(G2070:G2072)","v":0.71519039999999989},null,0]
[null,null,"Auxiliar de encanador ou bombeiro hidráulico com encargos complementares","h",{"$f":"0.064*0.3","v":1.9199999999999998E-2},16.320999999999998,0.31336319999999995,null,null,0]
[null,null,"Encanador ou Bombeiro Hidráulico com Encargos Complementares","h",{"$f":"0.064*0.3","v":1.9199999999999998E-2},20.9285,0.40182719999999994,null,null,0]
[null,null,null,null,null,"","",null,null,0]
[null,null,"Obs.: As seguintes proporções foram consideradas quanto ao tempo de mão de obra: 70% para instalação do tubo e 30% para instalação do isolamento térmico.",null,null,"","",null,null,0]
[null,null,null,null,null,"","",null,null,0]
["SF-00335",{"$f":"INDEX('Orçamentária-TR'!B:C,MATCH(Composições!A2076,'Orçamentária-TR'!B:B,0),2)","v":{"$error":"#N/A"}},null,{"$f":"TRIM(INDEX('Orçamentária-TR'!C:C,MATCH(Composições!A2076,'Orçamentária-TR'!A:A,0),1))","v":{"$error":"#N/A"}},null,"","",null,null,0]
[null,null,null,null,null,"","",null,null,0]
[null,null,"Isolamento elastomérico em formato de tubo ou coquilha de espessura M, próprio para tubulação de cobre de diâmetro nominal 1\". Ref.: AF/Armaflex M-25, K-Flex ST","m",1.0210999999999999,"","",{"$f":"SUM(G2078:G2080)","v":0.71519039999999989},null,0]
[null,null,"Auxiliar de encanador ou bombeiro hidráulico com encargos complementares","h",{"$f":"0.064*0.3","v":1.9199999999999998E-2},16.320999999999998,0.31336319999999995,null,null,0]
[null,null,"Encanador ou Bombeiro Hidráulico com Encargos Complementares","h",{"$f":"0.064*0.3","v":1.9199999999999998E-2},20.9285,0.40182719999999994,null,null,0]
[null,null,null,null,null,"","",null,null,0]
[null,null,"Obs.: As seguintes proporções foram consideradas quanto ao tempo de mão de obra: 70% para instalação do tubo e 30% para instalação do isolamento térmico.",null,null,"","",null,null,0]
[null,null,null,null,null,"","",null,null,0]
["SF-00336",{"$f":"INDEX('Orçamentária-TR'!B:C,MATCH(Composições!A2084,'Orçamentária-TR'!B:B,0),2)","v":{"$error":"#N/A"}},null,{"$f":"TRIM(INDEX('Orçamentária-TR'!C:C,MATCH(Composições!A2084,'Orçamentária-TR'!A:A,0),1))","v":{"$error":"#N/A"}},null,"","",null,null,0]
[null,null,null,null,null,"","",null,null,0]
[null,null,"Isolamento elastomérico em formato de tubo ou coquilha de espessura M, próprio para tubulação ferro de diâmetro nominal 1 1/2\". Ref.: AF/Armaflex M-48, K-Flex ST","m",1.0210999999999999,"","",{"$f":"SUM(G2086:G2088)","v":0.71519039999999989},null,0]
[null,null,"Auxiliar de encanador ou bombeiro hidráulico com encargos complementares","h",{"$f":"0.064*0.3","v":1.9199999999999998E-2},16.320999999999998,0.31336319999999995,null,null,0]
[null,null,"Encanador ou Bombeiro Hidráulico com Encargos Complementares","h",{"$f":"0.064*0.3","v":1.9199999999999998E-2},20.9285,0.40182719999999994,null,null,0]
[null,null,null,null,null,"","",null,null,0]
[null,null,"Obs.: As seguintes proporções foram consideradas quanto ao tempo de mão de obra: 70% para instalação do tubo e 30% para instalação do isolamento térmico.",null,null,"","",null,null,0]
[null,null,null,null,null,"","",null,null,0]
["SF-00337",{"$f":"INDEX('Orçamentária-TR'!B:C,MATCH(Composições!A2092,'Orçamentária-TR'!B:B,0),2)","v":{"$error":"#N/A"}},null,{"$f":"TRIM(INDEX('Orçamentária-TR'!C:C,MATCH(Composições!A2092,'Orçamentária-TR'!A:A,0),1))","v":{"$error":"#N/A"}},null,"","",null,null,0]
[null,null,null,null,null,"","",null,null,0]
[null,null,"Isolamento elastomérico em formato de tubo ou coquilha de espessura M, próprio para tubulação ferro de diâmetro nominal 1 1/4\". Ref.: AF/Armaflex M-42, K-Flex ST","m",1.0210999999999999,"","",{"$f":"SUM(G2094:G2096)","v":0.71519039999999989},null,0]
[null,null,"Auxiliar de encanador ou bombeiro hidráulico com encargos complementares","h",{"$f":"0.064*0.3","v":1.9199999999999998E-2},16.320999999999998,0.31336319999999995,null,null,0]
[null,null,"Encanador ou Bombeiro Hidráulico com Encargos Complementares","h",{"$f":"0.064*0.3","v":1.9199999999999998E-2},20.9285,0.40182719999999994,null,null,0]
[null,null,null,null,null,"","",null,null,0]
[null,null,"Obs.: As seguintes proporções foram consideradas quanto ao tempo de mão de obra: 70% para instalação do tubo e 30% para instalação do isolamento térmico.",null,null,"","",null,null,0]
[null,null,null,null,null,"","",null,null,0]
["SF-00338",{"$f":"INDEX('Orçamentária-TR'!B:C,MATCH(Composições!A2100,'Orçamentária-TR'!B:B,0),2)","v":{"$error":"#N/A"}},null,{"$f":"TRIM(INDEX('Orçamentária-TR'!C:C,MATCH(Composições!A2100,'Orçamentária-TR'!A:A,0),1))","v":{"$error":"#N/A"}},null,"","",null,null,0]
[null,null,null,null,null,"","",null,null,0]
[null,null,"Isolamento elastomérico em formato de tubo ou coquilha de espessura M, próprio para tubulação ferro de diâmetro nominal 1\". Ref.: AF/Armaflex M-35, K-Flex ST","m",1.0210999999999999,"","",{"$f":"SUM(G2102:G2104)","v":0.71519039999999989},null,0]
[null,null,"Auxiliar de encanador ou bombeiro hidráulico com encargos complementares","h",{"$f":"0.064*0.3","v":1.9199999999999998E-2},16.320999999999998,0.31336319999999995,null,null,0]
[null,null,"Encanador ou Bombeiro Hidráulico com Encargos Complementares","h",{"$f":"0.064*0.3","v":1.9199999999999998E-2},20.9285,0.40182719999999994,null,null,0]
[null,null,null,null,null,"","",null,null,0]
[null,null,"Obs.: As seguintes proporções foram consideradas quanto ao tempo de mão de obra: 70% para instalação do tubo e 30% para instalação do isolamento térmico.",null,null,"","",null,null,0]
[null,null,null,null,null,"","",null,null,0]
["SF-00339",{"$f":"INDEX('Orçamentária-TR'!B:C,MATCH(Composições!A2108,'Orçamentária-TR'!B:B,0),2)","v":{"$error":"#N/A"}},null,{"$f":"TRIM(INDEX('Orçamentária-TR'!C:C,MATCH(Composições!A2108,'Orçamentária-TR'!A:A,0),1))","v":{"$error":"#N/A"}},null,"","",null,null,0]
[null,null,null,null,null,"","",null,null,0]
[null,null,"Auxiliar de encanador ou bombeiro hidráulico com encargos complementares","h",0.2,16.320999999999998,3.2641999999999998,{"$f":"SUM(G2110:G2112)","v":7.4498999999999995},null,0]
[null,null,"Encanador ou Bombeiro Hidráulico com Encargos Complementares","h",0.2,20.9285,4.1856999999999998,null,null,0]
[null,null,"Alumínio corrugado sem barreira espessura mínima = 0,15mm","m2",1.05,"","",null,null,0]
[null,null,null,null,null,"","",null,null,0]
["SF-00340",{"$f":"INDEX('Orçamentária-TR'!B:C,MATCH(Composições!A2114,'Orçamentária-TR'!B:B,0),2)","v":{"$error":"#N/A"}},null,{"$f":"TRIM(INDEX('Orçamentária-TR'!C:C,MATCH(Composições!A2114,'Orçamentária-TR'!A:A,0),1))","v":{"$error":"#N/A"}},null,"","",null,null,0]
[null,null,null,null,null,"","",null,null,0]
[null,null,"Encanador ou Bombeiro Hidráulico com Encargos Complementares","h",0.29199999999999998,20.9285,6.1111219999999999,{"$f":"SUM(G2116:G2118)","v":52.717903499999991},null,0]
[null,null,"Auxiliar de encanador ou bombeiro hidráulico com encargos complementares","h",0.29199999999999998,16.320999999999998,4.765731999999999,null,null,0]
[null,null,"TUBO ACO CARBONO SEM COSTURA 1 1/2\", E= *3,68 MM, SCHEDULE 40, 4,05 KG/M","m",1.0389999999999999,40.270499999999998,41.841049499999997,null,null,0]
[null,null,null,null,null,"","",null,null,0]
["SF-00341",{"$f":"INDEX('Orçamentária-TR'!B:C,MATCH(Composições!A2120,'Orçamentária-TR'!B:B,0),2)","v":{"$error":"#N/A"}},null,{"$f":"TRIM(INDEX('Orçamentária-TR'!C:C,MATCH(Composições!A2120,'Orçamentária-TR'!A:A,0),1))","v":{"$error":"#N/A"}},null,"","",null,null,0]
[null,null,null,null,null,"","",null,null,0]
[null,null,"Encanador ou Bombeiro Hidráulico com Encargos Complementares","h",0.27500000000000002,20.9285,5.7553375000000004,{"$f":"SUM(G2122:G2124)","v":10.243612500000001},null,0]
[null,null,"Auxiliar de encanador ou bombeiro hidráulico com encargos complementares","h",0.27500000000000002,16.320999999999998,4.4882749999999998,null,null,0]
[null,null,"Tubo de aço galvanizado sem costura schedule 40 Ø 1 1/4\"","m",1.0389999999999999,0,0,null,null,0]
[null,null,null,null,null,"","",null,null,0]
["SF-00342",{"$f":"INDEX('Orçamentária-TR'!B:C,MATCH(Composições!A2126,'Orçamentária-TR'!B:B,0),2)","v":{"$error":"#N/A"}},null,{"$f":"TRIM(INDEX('Orçamentária-TR'!C:C,MATCH(Composições!A2126,'Orçamentária-TR'!A:A,0),1))","v":{"$error":"#N/A"}},null,"","",null,null,0]
[null,null,null,null,null,"","",null,null,0]
[null,null,"Encanador ou Bombeiro Hidráulico com Encargos Complementares","h",0.29699999999999999,20.9285,6.2157644999999997,{"$f":"SUM(G2128:G2130)","v":11.063101499999998},null,0]
[null,null,"Auxiliar de encanador ou bombeiro hidráulico com encargos complementares","h",0.29699999999999999,16.320999999999998,4.8473369999999996,null,null,0]
[null,null,"Tubo de aço galvanizado sem costura schedule 40 Ø 1\"","m",1.0389999999999999,0,0,null,null,0]
[null,null,null,null,null,"","",null,null,0]
["SF-00343",{"$f":"INDEX('Orçamentária-TR'!B:C,MATCH(Composições!A2132,'Orçamentária-TR'!B:B,0),2)","v":{"$error":"#N/A"}},null,{"$f":"TRIM(INDEX('Orçamentária-TR'!C:C,MATCH(Composições!A2132,'Orçamentária-TR'!A:A,0),1))","v":{"$error":"#N/A"}},null,"","",null,null,0]
[null,null,null,null,null,"","",null,null,0]
[null,null,"Encanador ou Bombeiro Hidráulico com Encargos Complementares","h",0.29699999999999999,20.9285,{"$f":"IF(ISNUMBER(F2134),E2134*F2134,\"\")","v":6.2157644999999997},{"$f":"SUM(G2134:G2136)","v":36.519120999999998},null,0]
[null,null,"Auxiliar de encanador ou bombeiro hidráulico com encargos complementares","h",0.29699999999999999,16.320999999999998,4.8473369999999996,null,null,0]
[null,null,"TUBO ACO CARBONO SEM COSTURA 3/4\", E= *2,87 MM, SCHEDULE 40, *1,69 KG/M","m",1.0389999999999999,24.500499999999999,25.456019499999996,null,null,0]
[null,null,null,null,null,"","",null,null,0]
["SF-00344",{"$f":"INDEX('Orçamentária-TR'!B:C,MATCH(Composições!A2138,'Orçamentária-TR'!B:B,0),2)","v":{"$error":"#N/A"}},null,{"$f":"TRIM(INDEX('Orçamentária-TR'!C:C,MATCH(Composições!A2138,'Orçamentária-TR'!A:A,0),1))","v":{"$error":"#N/A"}},null,"","",null,null,0]
[null,null,null,null,null,"","",null,null,0]
[null,null,"Tubo de cobre flexivel, D = 1/2 \", E = 0,79 mm, para ar-condicionado/ instalacoes gas residenciais e comerciais","m",1.0210999999999999,25.782999999999998,26.327021299999995,{"$f":"SUM(G2140:G2142)","v":27.917574949999995},null,0]
[null,null,"Auxiliar de encanador ou bombeiro hidráulico com encargos complementares","h",{"$f":"0.061*0.7","v":4.2699999999999995E-2},16.320999999999998,0.69690669999999988,null,null,0]
[null,null,"Encanador ou Bombeiro Hidráulico com Encargos Complementares","h",{"$f":"0.061*0.7","v":4.2699999999999995E-2},20.9285,0.89364694999999983,null,null,0]
[null,null,null,null,null,"","",null,null,0]
[null,null,"Obs.: As seguintes proporções foram consideradas quanto ao tempo de mão de obra: 70% para instalação do tubo e 30% para instalação do isolamento térmico.",null,null,"","",null,null,0]
[null,null,null,null,null,"","",null,null,0]
["SF-00345",{"$f":"INDEX('Orçamentária-TR'!B:C,MATCH(Composições!A2146,'Orçamentária-TR'!B:B,0),2)","v":{"$error":"#N/A"}},null,{"$f":"TRIM(INDEX('Orçamentária-TR'!C:C,MATCH(Composições!A2146,'Orçamentária-TR'!A:A,0),1))","v":{"$error":"#N/A"}},null,"","",null,null,0]
[null,null,null,null,null,"","",null,null,0]
[null,null,"Tubo de cobre flexivel, D = 1/4 \", E = 0,79 mm, para ar-condicionado/ instalacoes gas residenciais e comerciais","m",1.0210999999999999,12.359499999999999,12.620285449999997,{"$f":"SUM(G2148:G2150)","v":13.976167249999996},null,0]
[null,null,"Auxiliar de encanador ou bombeiro hidráulico com encargos complementares","h",{"$f":"0.052*0.7","v":3.6399999999999995E-2},16.320999999999998,0.59408439999999985,null,null,0]
[null,null,"Encanador ou Bombeiro Hidráulico com Encargos Complementares","h",{"$f":"0.052*0.7","v":3.6399999999999995E-2},20.9285,0.76179739999999985,null,null,0]
[null,null,null,null,null,"","",null,null,0]
[null,null,"Obs.: As seguintes proporções foram consideradas quanto ao tempo de mão de obra: 70% para instalação do tubo e 30% para instalação do isolamento térmico.",null,null,"","",null,null,0]
[null,null,null,null,null,"","",null,null,0]
["SF-00346",{"$f":"INDEX('Orçamentária-TR'!B:C,MATCH(Composições!A2154,'Orçamentária-TR'!B:B,0),2)","v":{"$error":"#N/A"}},null,{"$f":"TRIM(INDEX('Orçamentária-TR'!C:C,MATCH(Composições!A2154,'Orçamentária-TR'!A:A,0),1))","v":{"$error":"#N/A"}},null,"","",null,null,0]
[null,null,null,null,null,"","",null,null,0]
[null,null,"Tubo de cobre flexivel, D = 3/4 \", E = 0,79 mm, para ar-condicionado/ instalacoes gas residenciais e comerciais","m",1.0210999999999999,38.788499999999999,39.606937349999995,{"$f":"SUM(G2156:G2158)","v":41.275714949999994},null,0]
[null,null,"Auxiliar de encanador ou bombeiro hidráulico com encargos complementares","h",{"$f":"0.064*0.7","v":4.48E-2},16.320999999999998,0.73118079999999985,null,null,0]
[null,null,"Encanador ou Bombeiro Hidráulico com Encargos Complementares","h",{"$f":"0.064*0.7","v":4.48E-2},20.9285,0.93759680000000001,null,null,0]
[null,null,null,null,null,"","",null,null,0]
[null,null,"Obs.: As seguintes proporções foram consideradas quanto ao tempo de mão de obra: 70% para instalação do tubo e 30% para instalação do isolamento térmico.",null,null,"","",null,null,0]
[null,null,null,null,null,"","",null,null,0]
["SF-00347",{"$f":"INDEX('Orçamentária-TR'!B:C,MATCH(Composições!A2162,'Orçamentária-TR'!B:B,0),2)","v":{"$error":"#N/A"}},null,{"$f":"TRIM(INDEX('Orçamentária-TR'!C:C,MATCH(Composições!A2162,'Orçamentária-TR'!A:A,0),1))","v":{"$error":"#N/A"}},null,"","",null,null,0]
[null,null,null,null,null,"","",null,null,0]
[null,null,"Tubo de cobre flexivel, D = 3/8 \", E = 0,79 mm, para ar-condicionado/ instalacoes gas residenciais e comerciais","m",1.0210999999999999,19.009499999999999,19.410600449999997,{"$f":"SUM(G2164:G2166)","v":20.896855499999997},null,0]
[null,null,"Auxiliar de encanador ou bombeiro hidráulico com encargos complementares","h",{"$f":"0.057*0.7","v":3.9899999999999998E-2},16.320999999999998,0.65120789999999984,null,null,0]
[null,null,"Encanador ou Bombeiro Hidráulico com Encargos Complementares","h",{"$f":"0.057*0.7","v":3.9899999999999998E-2},20.9285,0.83504714999999996,null,null,0]
[null,null,null,null,null,"","",null,null,0]
[null,null,"Obs.: As seguintes proporções foram consideradas quanto ao tempo de mão de obra: 70% para instalação do tubo e 30% para instalação do isolamento térmico.",null,null,"","",null,null,0]
[null,null,null,null,null,"","",null,null,0]
["SF-00348",{"$f":"INDEX('Orçamentária-TR'!B:C,MATCH(Composições!A2170,'Orçamentária-TR'!B:B,0),2)","v":{"$error":"#N/A"}},null,{"$f":"TRIM(INDEX('Orçamentária-TR'!C:C,MATCH(Composições!A2170,'Orçamentária-TR'!A:A,0),1))","v":{"$error":"#N/A"}},null,"","",null,null,0]
[null,null,null,null,null,"","",null,null,0]
[null,null,"Tubo de cobre flexivel, D = 5/8 \", E = 0,79 mm, para ar-condicionado/ instalacoes gas residenciais e comerciais","m",1.0210999999999999,32.071999999999996,32.748719199999989,{"$f":"SUM(G2172:G2174)","v":34.417496799999988},null,0]
[null,null,"Auxiliar de encanador ou bombeiro hidráulico com encargos complementares","h",{"$f":"0.064*0.7","v":4.48E-2},16.320999999999998,0.73118079999999985,null,null,0]
[null,null,"Encanador ou Bombeiro Hidráulico com Encargos Complementares","h",{"$f":"0.064*0.7","v":4.48E-2},20.9285,0.93759680000000001,null,null,0]
[null,null,null,null,null,"","",null,null,0]
[null,null,"Obs.: As seguintes proporções foram consideradas quanto ao tempo de mão de obra: 70% para instalação do tubo e 30% para instalação do isolamento térmico.",null,null,"","",null,null,0]
[null,null,null,null,null,"","",null,null,0]
["SF-00349",{"$f":"INDEX('Orçamentária-TR'!B:C,MATCH(Composições!A2178,'Orçamentária-TR'!B:B,0),2)","v":{"$error":"#N/A"}},null,{"$f":"TRIM(INDEX('Orçamentária-TR'!C:C,MATCH(Composições!A2178,'Orçamentária-TR'!A:A,0),1))","v":{"$error":"#N/A"}},null,"","",null,null,0]
[null,null,null,null,null,"","",null,null,0]
[null,null,"Tubo de cobre flexivel, D = 7/8 \", E = 0,79 mm, para ar-condicionado/ instalacoes gas residenciais e comerciais","m",1.0210999999999999,0,0,{"$f":"SUM(G2180:G2182)","v":1.6687775999999999},null,0]
[null,null,"Auxiliar de encanador ou bombeiro hidráulico com encargos complementares","h",{"$f":"0.064*0.7","v":4.48E-2},16.320999999999998,0.73118079999999985,null,null,0]
[null,null,"Encanador ou Bombeiro Hidráulico com Encargos Complementares","h",{"$f":"0.064*0.7","v":4.48E-2},20.9285,0.93759680000000001,null,null,0]
[null,null,null,null,null,"","",null,null,0]
[null,null,"Obs.: As seguintes proporções foram consideradas quanto ao tempo de mão de obra: 70% para instalação do tubo e 30% para instalação do isolamento térmico.",null,null,"","",null,null,0]
[null,null,null,null,null,"","",null,null,0]
["SF-00350",{"$f":"INDEX('Orçamentária-TR'!B:C,MATCH(Composições!A2186,'Orçamentária-TR'!B:B,0),2)","v":{"$error":"#N/A"}},null,{"$f":"TRIM(INDEX('Orçamentária-TR'!C:C,MATCH(Composições!A2186,'Orçamentária-TR'!A:A,0),1))","v":{"$error":"#N/A"}},null,"","",null,null,0]
[null,null,null,null,null,"","",null,null,0]
[null,null,"Tubo de cobre flexivel, D = 1 \", E = 0,79 mm, para ar-condicionado/ instalacoes gas residenciais e comerciais","m",1.0210999999999999,0,0,{"$f":"SUM(G2188:G2190)","v":1.6687775999999999},null,0]
[null,null,"Auxiliar de encanador ou bombeiro hidráulico com encargos complementares","h",{"$f":"0.064*0.7","v":4.48E-2},16.320999999999998,0.73118079999999985,null,null,0]
[null,null,"Encanador ou Bombeiro Hidráulico com Encargos Complementares","h",{"$f":"0.064*0.7","v":4.48E-2},20.9285,0.93759680000000001,null,null,0]
[null,null,null,null,null,"","",null,null,0]
[null,null,"Obs.: As seguintes proporções foram consideradas quanto ao tempo de mão de obra: 70% para instalação do tubo e 30% para instalação do isolamento térmico.",null,null,"","",null,null,0]
[null,null,null,null,null,"","",null,null,0]
["SF-00351",{"$f":"INDEX('Orçamentária-TR'!B:C,MATCH(Composições!A2194,'Orçamentária-TR'!B:B,0),2)","v":{"$error":"#N/A"}},null,{"$f":"TRIM(INDEX('Orçamentária-TR'!C:C,MATCH(Composições!A2194,'Orçamentária-TR'!A:A,0),1))","v":{"$error":"#N/A"}},null,"","",null,null,0]
[null,null,null,null,null,"","",null,null,0]
[null,null,"Tubo de cobre flexivel, D = 1 1/8 \", E = 0,79 mm, para ar-condicionado/ instalacoes gas residenciais e comerciais","m",1.0210999999999999,0,0,{"$f":"SUM(G2196:G2198)","v":1.6687775999999999},null,0]
[null,null,"Auxiliar de encanador ou bombeiro hidráulico com encargos complementares","h",{"$f":"0.064*0.7","v":4.48E-2},16.320999999999998,0.73118079999999985,null,null,0]
[null,null,"Encanador ou Bombeiro Hidráulico com Encargos Complementares","h",{"$f":"0.064*0.7","v":4.48E-2},20.9285,{"$f":"IF(ISNUMBER(F2198),E2198*F2198,\"\")","v":0.93759680000000001},null,null,0]
[null,null,null,null,null,"","",null,null,0]
[null,null,"Obs.: As seguintes proporções foram consideradas quanto ao tempo de mão de obra: 70% para instalação do tubo e 30% para instalação do isolamento térmico.",null,null,"","",null,null,0]
[null,null,null,null,null,"","",null,null,0]
["SF-00354",{"$f":"INDEX('Orçamentária-TR'!B:C,MATCH(Composições!A2202,'Orçamentária-TR'!B:B,0),2)","v":{"$error":"#N/A"}},null,{"$f":"TRIM(INDEX('Orçamentária-TR'!C:C,MATCH(Composições!A2202,'Orçamentária-TR'!A:A,0),1))","v":{"$error":"#N/A"}},null,"","",null,null,0]
[null,null,null,null,null,"","",null,null,0]
[null,null,"Marceneiro com encargos complementares","h",1.8,21.5745,38.834099999999999,{"$f":"SUM(G2204:G2205)","v":95.123024999999984},null,0]
[null,null,"Ajudante de carpinteiro com encargos complementares","h",3.15,17.869499999999999,56.288924999999992,null,null,0]
[null,null,null,null,null,"","",null,null,0]
["SF-00355",{"$f":"INDEX('Orçamentária-TR'!B:C,MATCH(Composições!A2207,'Orçamentária-TR'!B:B,0),2)","v":{"$error":"#N/A"}},null,{"$f":"TRIM(INDEX('Orçamentária-TR'!C:C,MATCH(Composições!A2207,'Orçamentária-TR'!A:A,0),1))","v":{"$error":"#N/A"}},null,"","",null,null,0]
[null,null,null,null,null,"","",null,null,0]
[null,null,"Marceneiro com encargos complementares","h",1.8,21.5745,38.834099999999999,{"$f":"SUM(G2209:G2212)","v":143.12106249999999},null,0]
[null,null,"Ajudante de carpinteiro com encargos complementares","h",{"$f":"3.15/2","v":1.575},17.869499999999999,28.144462499999996,null,null,0]
[null,null,"Suporte mao-francesa em aco, abas iguais 40 cm, capacidade minima 70 kg, branco","un",2,11.257499999999999,22.514999999999997,null,null,0]
[null,null,"Chapa de MDF branco liso 2 faces, e = 25 mm, de *2,75 x 1,85* m","m2",1,53.627499999999998,53.627499999999998,null,null,0]
[null,null,null,null,null,"","",null,null,0]
["SF-00356",{"$f":"INDEX('Orçamentária-TR'!B:C,MATCH(Composições!A2214,'Orçamentária-TR'!B:B,0),2)","v":{"$error":"#N/A"}},null,{"$f":"TRIM(INDEX('Orçamentária-TR'!C:C,MATCH(Composições!A2214,'Orçamentária-TR'!A:A,0),1))","v":{"$error":"#N/A"}},null,"","",null,null,0]
[null,null,null,null,null,"","",null,null,0]
[null,null,"Marceneiro com encargos complementares","h",1,21.5745,21.5745,{"$f":"SUM(G2216:G2218)","v":39.444000000000003},null,0]
[null,null,"Ajudante de carpinteiro com encargos complementares","h",1,17.869499999999999,17.869499999999999,null,null,0]
[null,null,"Painel de TV de 120 x 180 cm, fabricado em MDP. Ref.: Urbe Móveis Plus","un",1,"","",null,null,0]
[null,null,null,null,null,"","",null,null,0]
["SF-00357",{"$f":"INDEX('Orçamentária-TR'!B:C,MATCH(Composições!A2220,'Orçamentária-TR'!B:B,0),2)","v":{"$error":"#N/A"}},null,{"$f":"TRIM(INDEX('Orçamentária-TR'!C:C,MATCH(Composições!A2220,'Orçamentária-TR'!A:A,0),1))","v":{"$error":"#N/A"}},null,"","",null,null,0]
[null,null,null,null,null,"","",null,null,0]
[null,null,"Marceneiro com encargos complementares","h",1,21.5745,21.5745,{"$f":"SUM(G2222:G2224)","v":39.444000000000003},null,0]
[null,null,"Ajudante de carpinteiro com encargos complementares","h",1,17.869499999999999,17.869499999999999,null,null,0]
[null,null,"Painel de TV de 160 x 160 cm, fabricado em MDP. Ref.: HB Móveis Life Canyon, HB Móveis Livin","un",1,"","",null,null,0]
[null,null,null,null,null,"","",null,null,0]
["SF-00358",{"$f":"INDEX('Orçamentária-TR'!B:C,MATCH(Composições!A2226,'Orçamentária-TR'!B:B,0),2)","v":{"$error":"#N/A"}},null,{"$f":"TRIM(INDEX('Orçamentária-TR'!C:C,MATCH(Composições!A2226,'Orçamentária-TR'!A:A,0),1))","v":{"$error":"#N/A"}},null,"","",null,null,0]
[null,null,null,null,null,"","",null,null,0]
[null,null,"Marceneiro com encargos complementares","h",1,21.5745,21.5745,{"$f":"SUM(G2228:G2230)","v":39.444000000000003},null,0]
[null,null,"Ajudante de carpinteiro com encargos complementares","h",1,17.869499999999999,17.869499999999999,null,null,0]
[null,null,"Painel de TV de 90 x 120 cm, fabricado em MDP. Ref.: Germai Ipanema 90 x 120 x 26,5","un",1,"","",null,null,0]
[null,null,null,null,null,"","",null,null,0]
["SF-00359",{"$f":"INDEX('Orçamentária-TR'!B:C,MATCH(Composições!A2232,'Orçamentária-TR'!B:B,0),2)","v":{"$error":"#N/A"}},null,{"$f":"TRIM(INDEX('Orçamentária-TR'!C:C,MATCH(Composições!A2232,'Orçamentária-TR'!A:A,0),1))","v":{"$error":"#N/A"}},null,"","",null,null,0]
[null,null,null,null,null,"","",null,null,0]
[null,null,"Prego de aco polido com cabeca 18 x 27 (2 1/2 x 10)","kg",0.2,9.6709999999999994,1.9341999999999999,{"$f":"SUM(G2234:G2240)","v":321.21194258062997},null,0]
[null,null,"Tinta asfaltica impermeabilizante dispersa em agua, para materiais cimenticios","L",0.1671,8.9774999999999991,1.5001402499999998,null,null,0]
[null,null,"Carpinteiro de esquadria com encargos complementares","h",0.55200000000000005,21.222999999999999,11.715096000000001,null,null,0]
[null,null,"Pedreiro com Encargos Complementares","h",1.3620000000000001,21.327499999999997,29.048054999999998,null,null,0]
[null,null,"Servente com Encargos Complementares","h",0.95699999999999996,15.750999999999998,15.073706999999997,null,null,0]
[null,null,"ARGAMASSA TRAÇO 1:3 (EM VOLUME DE CIMENTO E AREIA MÉDIA ÚMIDA), PREPARO MANUAL. AF_08/2019","M3",2.23E-2,447.55050809999994,9.9803763306299995,null,null,0]
[null,null,"BATENTE PARA PORTA DE MADEIRA, PADRÃO MÉDIO - FORNECIMENTO E MONTAGEM. AF_12/2019","UN",1,251.96036799999996,251.96036799999996,null,null,0]
[null,null,null,null,null,"","",null,null,0]
["SF-00360",{"$f":"INDEX('Orçamentária-TR'!B:C,MATCH(Composições!A2242,'Orçamentária-TR'!B:B,0),2)","v":{"$error":"#N/A"}},null,{"$f":"TRIM(INDEX('Orçamentária-TR'!C:C,MATCH(Composições!A2242,'Orçamentária-TR'!A:A,0),1))","v":{"$error":"#N/A"}},null,"","",null,null,0]
[null,null,null,null,null,"","",null,null,0]
[null,null,"Servente com Encargos Complementares","h",0.3,15.750999999999998,4.7252999999999989,{"$f":"SUM(G2244:G2246)","v":11.197649999999999},null,0]
[null,null,"Marceneiro com encargos complementares","h",0.3,21.5745,6.4723499999999996,null,null,0]
[null,null,"Chapa de proteção em aço inox AISI 304, largura conforme projeto, 400 mm de altura, chapa com espessura de 1 mm, acabamento escovado fosco","m2",1,"","",null,null,0]
[null,null,null,null,null,"","",null,null,0]
["SF-00361",{"$f":"INDEX('Orçamentária-TR'!B:C,MATCH(Composições!A2248,'Orçamentária-TR'!B:B,0),2)","v":{"$error":"#N/A"}},null,{"$f":"TRIM(INDEX('Orçamentária-TR'!C:C,MATCH(Composições!A2248,'Orçamentária-TR'!A:A,0),1))","v":{"$error":"#N/A"}},null,"","",null,null,0]
[null,null,null,null,null,"","",null,null,0]
[null,null,"DOBRADICA EM LATAO, 3 \" X 2 1/2 \", E= 1,9 A 2 MM, COM ANEL, CROMADO, TAMPA BOLA, COM PARAFUSOS","UN",3,18.838499999999996,56.515499999999989,{"$f":"SUM(G2250:G2254)","v":277.96967699999999},null,0]
[null,null,"PORTA DE MADEIRA, FOLHA MEDIA (NBR 15930) DE 60 X 210 CM, E = 35 MM, NUCLEO SARRAFEADO, CAPA LISA EM HDF, ACABAMENTO LAMINADO NATURAL PARA VERNIZ","UN",1,183.39750000000001,183.39750000000001,null,null,0]
[null,null,"PARAFUSO ROSCA SOBERBA ZINCADO CABECA CHATA FENDA SIMPLES 3,5 X 25 MM (1 \")","UN",19.8,3.7999999999999999E-2,0.75239999999999996,null,null,0]
[null,null,"CARPINTEIRO DE ESQUADRIA COM ENCARGOS COMPLEMENTARES","H",1.282,21.222999999999999,27.207885999999998,null,null,0]
[null,null,"SERVENTE COM ENCARGOS COMPLEMENTARES","H",0.64100000000000001,15.750999999999998,10.096390999999999,null,null,0]
[null,null,null,null,null,"","",null,null,0]
["SF-00362",{"$f":"INDEX('Orçamentária-TR'!B:C,MATCH(Composições!A2256,'Orçamentária-TR'!B:B,0),2)","v":{"$error":"#N/A"}},null,{"$f":"TRIM(INDEX('Orçamentária-TR'!C:C,MATCH(Composições!A2256,'Orçamentária-TR'!A:A,0),1))","v":{"$error":"#N/A"}},null,"","",null,null,0]
[null,null,null,null,null,"","",null,null,0]
[null,null,"DOBRADICA EM LATAO, 3 \" X 2 1/2 \", E= 1,9 A 2 MM, COM ANEL, CROMADO, TAMPA BOLA, COM PARAFUSOS","UN",3,18.838499999999996,56.515499999999989,{"$f":"SUM(G2258:G2262)","v":224.76317899999998},null,0]
[null,null,"PORTA DE MADEIRA, FOLHA MEDIA (NBR 15930) DE 70 X 210 CM, E = 35 MM, NUCLEO SARRAFEADO, CAPA LISA EM HDF, ACABAMENTO EM LAMINADO NATURAL PARA VERNIZ","UN",1,126.35,126.35,null,null,0]
[null,null,"PARAFUSO ROSCA SOBERBA ZINCADO CABECA CHATA FENDA SIMPLES 3,5 X 25 MM (1 \")","UN",19.8,3.7999999999999999E-2,0.75239999999999996,null,null,0]
[null,null,"CARPINTEIRO DE ESQUADRIA COM ENCARGOS COMPLEMENTARES","H",1.4139999999999999,21.222999999999999,30.009321999999997,null,null,0]
[null,null,"SERVENTE COM ENCARGOS COMPLEMENTARES","H",0.70699999999999996,15.750999999999998,{"$f":"IF(ISNUMBER(F2262),E2262*F2262,\"\")","v":11.135956999999998},null,null,0]
[null,null,null,null,null,"","",null,null,0]
["SF-00363",{"$f":"INDEX('Orçamentária-TR'!B:C,MATCH(Composições!A2264,'Orçamentária-TR'!B:B,0),2)","v":{"$error":"#N/A"}},null,{"$f":"TRIM(INDEX('Orçamentária-TR'!C:C,MATCH(Composições!A2264,'Orçamentária-TR'!A:A,0),1))","v":{"$error":"#N/A"}},null,"","",null,null,0]
[null,null,null,null,null,"","",null,null,0]
[null,null,"DOBRADICA EM LATAO, 3 \" X 2 1/2 \", E= 1,9 A 2 MM, COM ANEL, CROMADO, TAMPA BOLA, COM PARAFUSOS","UN",3,18.838499999999996,56.515499999999989,{"$f":"SUM(G2266:G2270)","v":317.42918100000003},null,0]
[null,null,"PORTA DE MADEIRA, FOLHA MEDIA (NBR 15930) DE 80 X 210 CM, E = 35 MM, NUCLEO SARRAFEADO, CAPA LISA EM HDF, ACABAMENTO EM LAMINADO NATURAL PARA VERNIZ","UN",1,215.17499999999998,215.17499999999998,null,null,0]
[null,null,"PARAFUSO ROSCA SOBERBA ZINCADO CABECA CHATA FENDA SIMPLES 3,5 X 25 MM (1 \")","UN",19.8,3.7999999999999999E-2,0.75239999999999996,null,null,0]
[null,null,"CARPINTEIRO DE ESQUADRIA COM ENCARGOS COMPLEMENTARES","H",1.546,21.222999999999999,32.810758,null,null,0]
[null,null,"SERVENTE COM ENCARGOS COMPLEMENTARES","H",0.77300000000000002,15.750999999999998,12.175522999999998,null,null,0]
[null,null,null,null,null,"","",null,null,0]
["SF-00364",{"$f":"INDEX('Orçamentária-TR'!B:C,MATCH(Composições!A2272,'Orçamentária-TR'!B:B,0),2)","v":{"$error":"#N/A"}},null,{"$f":"TRIM(INDEX('Orçamentária-TR'!C:C,MATCH(Composições!A2272,'Orçamentária-TR'!A:A,0),1))","v":{"$error":"#N/A"}},null,"","",null,null,0]
[null,null,null,null,null,"","",null,null,0]
[null,null,"DOBRADICA EM LATAO, 3 \" X 2 1/2 \", E= 1,9 A 2 MM, COM ANEL, CROMADO, TAMPA BOLA, COM PARAFUSOS","UN",3,18.838499999999996,56.515499999999989,{"$f":"SUM(G2274:G2278)","v":303.78068299999995},null,0]
[null,null,"PORTA DE MADEIRA, FOLHA MEDIA (NBR 15930) DE 90 X 210 CM, E = 35 MM, NUCLEO SARRAFEADO, CAPA LISA EM HDF, ACABAMENTO EM LAMINADO NATURAL PARA VERNIZ","UN",1,197.68549999999999,197.68549999999999,null,null,0]
[null,null,"PARAFUSO ROSCA SOBERBA ZINCADO CABECA CHATA FENDA SIMPLES 3,5 X 25 MM (1 \")","UN",19.8,3.7999999999999999E-2,0.75239999999999996,null,null,0]
[null,null,"CARPINTEIRO DE ESQUADRIA COM ENCARGOS COMPLEMENTARES","H",1.6779999999999999,21.222999999999999,35.612193999999995,null,null,0]
[null,null,"SERVENTE COM ENCARGOS COMPLEMENTARES","H",0.83899999999999997,15.750999999999998,13.215088999999997,null,null,0]
[null,null,null,null,null,"","",null,null,0]
["SF-00365",{"$f":"INDEX('Orçamentária-TR'!B:C,MATCH(Composições!A2280,'Orçamentária-TR'!B:B,0),2)","v":{"$error":"#N/A"}},null,{"$f":"TRIM(INDEX('Orçamentária-TR'!C:C,MATCH(Composições!A2280,'Orçamentária-TR'!A:A,0),1))","v":{"$error":"#N/A"}},null,"","",null,null,0]
[null,null,null,null,null,"","",null,null,0]
[null,null,"DOBRADICA EM LATAO, 3 \" X 2 1/2 \", E= 1,9 A 2 MM, COM ANEL, CROMADO, TAMPA BOLA, COM PARAFUSOS","UN",3,18.838499999999996,56.515499999999989,{"$f":"SUM(G2282:G2286)","v":322.92318299999999},null,0]
[null,null,"PORTA DE MADEIRA, FOLHA MEDIA (NBR 15930) DE 100 X 210 CM, E = 35 MM, NUCLEO SARRAFEADO, CAPA LISA EM HDF, ACABAMENTO EM LAMINADO NATURAL PARA VERNIZ","UN",1,216.828,216.828,null,null,0]
[null,null,"PARAFUSO ROSCA SOBERBA ZINCADO CABECA CHATA FENDA SIMPLES 3,5 X 25 MM (1 \")","UN",19.8,3.7999999999999999E-2,0.75239999999999996,null,null,0]
[null,null,"CARPINTEIRO DE ESQUADRIA COM ENCARGOS COMPLEMENTARES","H",1.6779999999999999,21.222999999999999,35.612193999999995,null,null,0]
[null,null,"SERVENTE COM ENCARGOS COMPLEMENTARES","H",0.83899999999999997,15.750999999999998,13.215088999999997,null,null,0]
[null,null,null,null,null,"","",null,null,0]
["SF-00366",{"$f":"INDEX('Orçamentária-TR'!B:C,MATCH(Composições!A2288,'Orçamentária-TR'!B:B,0),2)","v":{"$error":"#N/A"}},null,{"$f":"TRIM(INDEX('Orçamentária-TR'!C:C,MATCH(Composições!A2288,'Orçamentária-TR'!A:A,0),1))","v":{"$error":"#N/A"}},null,"","",null,null,0]
[null,null,null,null,null,"","",null,null,0]
[null,null,"Prego de aco polido com cabeca 18 x 27 (2 1/2 x 10)","kg",0.2,9.6709999999999994,1.9341999999999999,{"$f":"SUM(G2290:G2295)","v":69.251574580629992},null,0]
[null,null,"Tinta asfaltica impermeabilizante dispersa em agua, para materiais cimenticios","L",0.1671,8.9774999999999991,1.5001402499999998,null,null,0]
[null,null,"Carpinteiro de esquadria com encargos complementares","h",0.55200000000000005,21.222999999999999,11.715096000000001,null,null,0]
[null,null,"Pedreiro com Encargos Complementares","h",1.3620000000000001,21.327499999999997,29.048054999999998,null,null,0]
[null,null,"Servente com Encargos Complementares","h",0.95699999999999996,15.750999999999998,15.073706999999997,null,null,0]
[null,null,"ARGAMASSA TRAÇO 1:3 (EM VOLUME DE CIMENTO E AREIA MÉDIA ÚMIDA), PREPARO MANUAL. AF_08/2019","M3",2.23E-2,447.55050809999994,9.9803763306299995,null,null,0]
[null,null,null,null,null,"","",null,null,0]
["SF-00367",{"$f":"INDEX('Orçamentária-TR'!B:C,MATCH(Composições!A2297,'Orçamentária-TR'!B:B,0),2)","v":{"$error":"#N/A"}},null,{"$f":"TRIM(INDEX('Orçamentária-TR'!C:C,MATCH(Composições!A2297,'Orçamentária-TR'!A:A,0),1))","v":{"$error":"#N/A"}},null,"","",null,null,0]
[null,null,null,null,null,"","",null,null,0]
[null,null,"PARAFUSO ROSCA SOBERBA ZINCADO CABECA CHATA FENDA SIMPLES 3,5 X 25 MM (1 \")","UN",19.8,3.7999999999999999E-2,0.75239999999999996,{"$f":"SUM(G2299:G2302)","v":57.287992500000001},null,0]
[null,null,"CARPINTEIRO DE ESQUADRIA COM ENCARGOS COMPLEMENTARES","H",1.546,21.222999999999999,32.810758,null,null,0]
[null,null,"PEDREIRO COM ENCARGOS COMPLEMENTARES","H",0.221,21.327499999999997,4.7133774999999991,null,null,0]
[null,null,"SERVENTE COM ENCARGOS COMPLEMENTARES","H",1.2070000000000001,15.750999999999998,19.011457,null,null,0]
[null,null,null,null,null,"","",null,null,0]
["SF-00368",{"$f":"INDEX('Orçamentária-TR'!B:C,MATCH(Composições!A2304,'Orçamentária-TR'!B:B,0),2)","v":{"$error":"#N/A"}},null,{"$f":"TRIM(INDEX('Orçamentária-TR'!C:C,MATCH(Composições!A2304,'Orçamentária-TR'!A:A,0),1))","v":{"$error":"#N/A"}},null,"","",null,null,0]
[null,null,null,null,null,"","",null,null,0]
[null,null,"DOBRADICA EM LATAO, 3 \" X 2 1/2 \", E= 1,9 A 2 MM, COM ANEL, CROMADO, TAMPA BOLA, COM PARAFUSOS","UN",1,18.838499999999996,18.838499999999996,{"$f":"SUM(G2306:G2308)","v":45.49272599999999},null,0]
[null,null,"SERVENTE COM ENCARGOS COMPLEMENTARES","h",0.45800000000000002,15.750999999999998,7.213957999999999,null,null,0]
[null,null,"Carpinteiro de esquadria com encargos complementares","h",0.91600000000000004,21.222999999999999,19.440268,null,null,0]
[null,null,null,null,null,"","",null,null,0]
["SF-00369",{"$f":"INDEX('Orçamentária-TR'!B:C,MATCH(Composições!A2310,'Orçamentária-TR'!B:B,0),2)","v":{"$error":"#N/A"}},null,{"$f":"TRIM(INDEX('Orçamentária-TR'!C:C,MATCH(Composições!A2310,'Orçamentária-TR'!A:A,0),1))","v":{"$error":"#N/A"}},null,"","",null,null,0]
[null,null,null,null,null,"","",null,null,0]
[null,null,"Fechadura para porta de banheiro, com maçaneta em formato de barra, confeccionada em aço com acabamento inox polido. Ref.: MZ 270 WC Standard – Linha Standard – Papaiz","un ",1,"","",{"$f":"SUM(G2312:G2314)","v":22.326424999999997},null,0]
[null,null,"Carpinteiro de esquadria com encargos complementares","h",0.76700000000000002,21.222999999999999,16.278040999999998,null,null,0]
[null,null,"Servente com Encargos Complementares","h",0.38400000000000001,15.750999999999998,6.0483839999999995,null,null,0]
[null,null,null,null,null,"","",null,null,0]
["SF-00370",{"$f":"INDEX('Orçamentária-TR'!B:C,MATCH(Composições!A2316,'Orçamentária-TR'!B:B,0),2)","v":{"$error":"#N/A"}},null,{"$f":"TRIM(INDEX('Orçamentária-TR'!C:C,MATCH(Composições!A2316,'Orçamentária-TR'!A:A,0),1))","v":{"$error":"#N/A"}},null,"","",null,null,0]
[null,null,null,null,null,"","",null,null,0]
[null,null,"Fechadura para porta externa, com maçaneta em formato de barra, confeccionada em zamac com acabamento cromado. Ref.: MZ 270 EXT Standard – Linha Standard – Papaiz","un ",1,"","",{"$f":"SUM(G2318:G2320)","v":29.156697000000001},null,0]
[null,null,"Carpinteiro de esquadria com encargos complementares","h",1.002,21.222999999999999,21.265446000000001,null,null,0]
[null,null,"Servente com Encargos Complementares","h",0.501,15.750999999999998,7.8912509999999987,null,null,0]
[null,null,null,null,null,"","",null,null,0]
["SF-00371",{"$f":"INDEX('Orçamentária-TR'!B:C,MATCH(Composições!A2322,'Orçamentária-TR'!B:B,0),2)","v":{"$error":"#N/A"}},null,{"$f":"TRIM(INDEX('Orçamentária-TR'!C:C,MATCH(Composições!A2322,'Orçamentária-TR'!A:A,0),1))","v":{"$error":"#N/A"}},null,"","",null,null,0]
[null,null,null,null,null,"","",null,null,0]
[null,null,"Fechadura para porta interna, com acabamento cromado brilhante, maçaneta tipo pera, com pino giratório central. Ref.: CJ 030 (externo) – Linha Professionel – La Fonte","un ",1,"","",{"$f":"SUM(G2324:G2326)","v":29.156697000000001},null,0]
[null,null,"Carpinteiro de esquadria com encargos complementares","h",1.002,21.222999999999999,21.265446000000001,null,null,0]
[null,null,"Servente com Encargos Complementares","h",0.501,15.750999999999998,{"$f":"IF(ISNUMBER(F2326),E2326*F2326,\"\")","v":7.8912509999999987},null,null,0]
[null,null,null,null,null,"","",null,null,0]
["SF-00372",{"$f":"INDEX('Orçamentária-TR'!B:C,MATCH(Composições!A2328,'Orçamentária-TR'!B:B,0),2)","v":{"$error":"#N/A"}},null,{"$f":"TRIM(INDEX('Orçamentária-TR'!C:C,MATCH(Composições!A2328,'Orçamentária-TR'!A:A,0),1))","v":{"$error":"#N/A"}},null,"","",null,null,0]
[null,null,null,null,null,"","",null,null,0]
[null,null,"Carpinteiro de esquadria com encargos complementares","h",1.002,21.222999999999999,21.265446000000001,{"$f":"SUM(G2330:G2331)","v":29.156697000000001},null,0]
[null,null,"Servente com Encargos Complementares","h",0.501,15.750999999999998,7.8912509999999987,null,null,0]
[null,null,null,null,null,"","",null,null,0]
["SF-00373",{"$f":"INDEX('Orçamentária-TR'!B:C,MATCH(Composições!A2333,'Orçamentária-TR'!B:B,0),2)","v":{"$error":"#N/A"}},null,{"$f":"TRIM(INDEX('Orçamentária-TR'!C:C,MATCH(Composições!A2333,'Orçamentária-TR'!A:A,0),1))","v":{"$error":"#N/A"}},null,"","",null,null,0]
[null,null,null,null,null,"","",null,null,0]
[null,null,"Marceneiro com encargos complementares","h",1,21.5745,21.5745,{"$f":"SUM(G2335:G2336)","v":21.5745},null,0]
[null,null,"Mola aérea para fechamento automático de portas com regulagem da velocidade de fechamento. Ref.: Mola automática – Modelo 453 - Coimbra","un",1,"","",null,null,0]
[null,null,null,null,null,"","",null,null,0]
["SF-00374",{"$f":"INDEX('Orçamentária-TR'!B:C,MATCH(Composições!A2338,'Orçamentária-TR'!B:B,0),2)","v":{"$error":"#N/A"}},null,{"$f":"TRIM(INDEX('Orçamentária-TR'!C:C,MATCH(Composições!A2338,'Orçamentária-TR'!A:A,0),1))","v":{"$error":"#N/A"}},null,"","",null,null,0]
[null,null,null,null,null,"","",null,null,0]
[null,null,"Marceneiro com encargos complementares","h",{"$f":"1/2","v":0.5},21.5745,10.78725,{"$f":"SUM(G2340:G2341)","v":10.78725},null,0]
[null,null,"Pivô em latão com acabamento cromado para portas pivotantes até 150 kg. Conjunto completo composto de superior macho e fêmea e inferior macho e fêmea. Ref.: Pivô Strong 150 - La fonte","un",1,"","",null,null,0]
[null,null,null,null,null,"","",null,null,0]
["SF-00375",{"$f":"INDEX('Orçamentária-TR'!B:C,MATCH(Composições!A2343,'Orçamentária-TR'!B:B,0),2)","v":{"$error":"#N/A"}},null,{"$f":"TRIM(INDEX('Orçamentária-TR'!C:C,MATCH(Composições!A2343,'Orçamentária-TR'!A:A,0),1))","v":{"$error":"#N/A"}},null,"","",null,null,0]
[null,null,null,null,null,"","",null,null,0]
[null,null,"Auxiliar de eletricista com encargos complementares","h",2.8E-3,16.767499999999998,4.6948999999999998E-2,{"$f":"SUM(G2345:G2347)","v":0.10722459999999999},null,0]
[null,null,"Eletricista com encargos complementares","h",2.8E-3,21.526999999999997,6.0275599999999992E-2,null,null,0]
[null,null,"Cabo de dados tipo UTP, tipo LSZH, categoria 6. Ref.: AMP 1989106-6, Furukawa 23400196","m",1.05,"","",null,null,0]
[null,null,null,null,null,"","",null,null,0]
["SF-00376",{"$f":"INDEX('Orçamentária-TR'!B:C,MATCH(Composições!A2349,'Orçamentária-TR'!B:B,0),2)","v":{"$error":"#N/A"}},null,{"$f":"TRIM(INDEX('Orçamentária-TR'!C:C,MATCH(Composições!A2349,'Orçamentária-TR'!A:A,0),1))","v":{"$error":"#N/A"}},null,"","",null,null,0]
[null,null,null,null,null,"","",null,null,0]
[null,null,"Tampa p/ conector /RJ45. ref.: Schneider Electric PRM47761 (Padrão Keystone), Schneider Electric PRM47771 (Padrão AMP)","un ",1,"","",{"$f":"SUM(G2351:G2355)","v":15.792651799999998},null,0]
[null,null,"Módulo RJ 45 - CAT 6. Ref.: AMP 1375055-2, Furukawa 35030621","un ",1,"","",null,null,0]
[null,null,"Certificação de ponto de rede","un ",1,"","",null,null,0]
[null,null,"Auxiliar de eletricista com encargos complementares","h",{"$f":"0.2062*2","v":0.41239999999999999},16.767499999999998,6.9149169999999991,null,null,0]
[null,null,"Eletricista com encargos complementares","h",{"$f":"0.2062*2","v":0.41239999999999999},21.526999999999997,8.8777347999999989,null,null,0]
[null,null,null,null,null,"","",null,null,0]
["SF-00377",{"$f":"INDEX('Orçamentária-TR'!B:C,MATCH(Composições!A2357,'Orçamentária-TR'!B:B,0),2)","v":{"$error":"#N/A"}},null,{"$f":"TRIM(INDEX('Orçamentária-TR'!C:C,MATCH(Composições!A2357,'Orçamentária-TR'!A:A,0),1))","v":{"$error":"#N/A"}},null,"","",null,null,0]
[null,null,null,null,null,"","",null,null,0]
[null,null,"Auxiliar de eletricista com encargos complementares","h",{"$f":"6.2007","v":6.2007000000000003},16.767499999999998,103.97023725,{"$f":"SUM(G2359:G2362)","v":237.45270614999998},null,0]
[null,null,"Eletricista com encargos complementares","h",{"$f":"6.2007","v":6.2007000000000003},21.526999999999997,133.48246889999999,null,null,0]
[null,null,"Painel de distribuição (patch panel) de 24 portas, categoria 6. Ref.: AMP 1375014-2","un",1,"","",null,null,0]
[null,null,"Módulo RJ 45 - CAT 6. Ref.: AMP 1375055-2, Furukawa 35030621","un ",24,"","",null,null,0]
[null,null,null,null,null,"","",null,null,0]
["SF-00378",{"$f":"INDEX('Orçamentária-TR'!B:C,MATCH(Composições!A2364,'Orçamentária-TR'!B:B,0),2)","v":{"$error":"#N/A"}},null,{"$f":"TRIM(INDEX('Orçamentária-TR'!C:C,MATCH(Composições!A2364,'Orçamentária-TR'!A:A,0),1))","v":{"$error":"#N/A"}},null,"","",null,null,0]
[null,null,null,null,null,"","",null,null,0]
[null,null,"Auxiliar de eletricista com encargos complementares","h",6.4100000000000004E-2,16.767499999999998,1.07479675,{"$f":"SUM(G2366:G2368)","v":3.49207745},null,0]
[null,null,"Eletricista com encargos complementares","h",6.4100000000000004E-2,21.526999999999997,1.3798807,null,null,0]
[null,null,"CABO TELEFONICO CCI 50, 2 PARES, USO INTERNO, SEM BLINDAGEM","m",1.05,0.98799999999999999,1.0374000000000001,null,null,0]
[null,null,null,null,null,"","",null,null,0]
["SF-00379",{"$f":"INDEX('Orçamentária-TR'!B:C,MATCH(Composições!A2370,'Orçamentária-TR'!B:B,0),2)","v":{"$error":"#N/A"}},null,{"$f":"TRIM(INDEX('Orçamentária-TR'!C:C,MATCH(Composições!A2370,'Orçamentária-TR'!A:A,0),1))","v":{"$error":"#N/A"}},null,"","",null,null,0]
[null,null,null,null,null,"","",null,null,0]
[null,null,"Tampa p/ conector /RJ45. ref.: Schneider Electric PRM47761 (padrão Keystone), Schneider Electric PRM47771 (padrão AMP)","un ",1,"","",{"$f":"SUM(G2372:G2375)","v":35.018825899999996},null,0]
[null,null,"Tomada RJ45, 8 fios, CAT 5E (apenas modulo)","UN",1,27.122499999999999,27.122499999999999,null,null,0]
[null,null,"Auxiliar de eletricista com encargos complementares","h",0.20619999999999999,16.767499999999998,3.4574584999999995,null,null,0]
[null,null,"Eletricista com encargos complementares","h",0.20619999999999999,21.526999999999997,4.4388673999999995,null,null,0]
[null,null,null,null,null,"","",null,null,0]
["SF-00380",{"$f":"INDEX('Orçamentária-TR'!B:C,MATCH(Composições!A2377,'Orçamentária-TR'!B:B,0),2)","v":{"$error":"#N/A"}},null,{"$f":"TRIM(INDEX('Orçamentária-TR'!C:C,MATCH(Composições!A2377,'Orçamentária-TR'!A:A,0),1))","v":{"$error":"#N/A"}},null,"","",null,null,0]
[null,null,null,null,null,"","",null,null,0]
[null,null,"Ajudante de operação em geral com encargos complementares","h",3.5,16.843499999999999,58.952249999999992,{"$f":"SUM(G2379:G2381)","v":136.98999999999998},null,0]
[null,null,"MONTADOR ELETROMECÃNICO COM ENCARGOS COMPLEMENTARES","h",3.5,22.296499999999998,78.037749999999988,null,null,0]
[null,null,"Grelha para retorno para portas, divisórias e paredes 525x325 mm, Ref. Trox AGS-T","un ",1,"","",null,null,0]
[null,null,null,null,null,"","",null,null,0]
["SF-00408",{"$f":"INDEX('Orçamentária-TR'!B:C,MATCH(Composições!A2383,'Orçamentária-TR'!B:B,0),2)","v":{"$error":"#N/A"}},null,{"$f":"TRIM(INDEX('Orçamentária-TR'!C:C,MATCH(Composições!A2383,'Orçamentária-TR'!A:A,0),1))","v":{"$error":"#N/A"}},null,"","",null,null,0]
[null,null,null,null,null,"","",null,null,0]
[null,null,"FECHADURA DE EMBUTIR PARA PORTA EXTERNA / ENTRADA, MAQUINA 40 MM, COM CILINDRO, MACANETA ALAVANCA E ESPELHO EM METAL CROMADO - NIVEL SEGURANCA MEDIO - COMPLETA","CJ",1,47.404999999999994,47.404999999999994,{"$f":"SUM(G2385:G2385)","v":47.404999999999994},null,0]
[null,null,null,null,null,"","",null,null,0]
["SF-00467",{"$f":"INDEX('Orçamentária-TR'!B:C,MATCH(Composições!A2387,'Orçamentária-TR'!B:B,0),2)","v":{"$error":"#N/A"}},null,{"$f":"TRIM(INDEX('Orçamentária-TR'!C:C,MATCH(Composições!A2387,'Orçamentária-TR'!A:A,0),1))","v":{"$error":"#N/A"}},null,"","",null,null,0]
[null,null,null,null,null,"","",null,null,0]
[null,null,"ESPUMA EXPANSIVA DE POLIURETANO, APLICACAO MANUAL - 500 ML","UN",1,20.9,20.9,{"$f":"SUM(G2389:G2389)","v":20.9},null,0]
[null,null,null,null,null,"",{"$f":"IF(ISNUMBER(F2390),E2390*F2390,\"\")","v":""},null,null,0]
["SF-00563",{"$f":"INDEX('Orçamentária-TR'!B:C,MATCH(Composições!A2391,'Orçamentária-TR'!B:B,0),2)","v":"Argamassa Para Contrapiso"},null,{"$f":"TRIM(INDEX('Orçamentária-TR'!D:D,MATCH(Composições!A2391,'Orçamentária-TR'!B:B,0),1))","v":"40 kg"},null,"","",null,null,190]
[null,null,null,null,null,"","",null,null,190]
[null,null,"ARGAMASSA PRONTA PARA CONTRAPISO","kg",40,0.39899999999999997,15.959999999999999,{"$f":"SUM(G2393:G2393)","v":15.959999999999999},null,190]
[null,null,null,null,null,"","",null,null,190]
["SF-00564",{"$f":"INDEX('Orçamentária-TR'!B:C,MATCH(Composições!A2395,'Orçamentária-TR'!B:B,0),2)","v":"Argamassa Múltiplo Uso"},null,{"$f":"TRIM(INDEX('Orçamentária-TR'!D:D,MATCH(Composições!A2395,'Orçamentária-TR'!B:B,0),1))","v":"40 kg"},null,"","",null,null,380]
[null,null,null,null,null,"","",null,null,380]
[null,null,"ARGAMASSA INDUSTRIALIZADA MULTIUSO, PARA REVESTIMENTO INTERNO E EXTERNO E ASSENTAMENTO DE BLOCOS DIVERSOS","kg",40,0.41799999999999998,16.72,{"$f":"SUM(G2397:G2397)","v":16.72},null,380]
[null,null,null,null,null,"","",null,null,380]
["SF-00565",{"$f":"INDEX('Orçamentária-TR'!B:C,MATCH(Composições!A2399,'Orçamentária-TR'!B:B,0),2)","v":"Cimento Portland CP II E 32"},null,{"$f":"TRIM(INDEX('Orçamentária-TR'!D:D,MATCH(Composições!A2399,'Orçamentária-TR'!B:B,0),1))","v":"50 kg"},null,"","",null,null,600]
[null,null,null,null,null,"","",null,null,600]
[null,null,"CIMENTO PORTLAND COMPOSTO CP II-32","kg",50,0.38949999999999996,19.474999999999998,{"$f":"SUM(G2401:G2401)","v":19.474999999999998},null,600]
[null,null,null,null,null,"","",null,null,600]
["SF-00566",{"$f":"INDEX('Orçamentária-TR'!B:C,MATCH(Composições!A2403,'Orçamentária-TR'!B:B,0),2)","v":"Argamassa Colante tipo AC III"},null,{"$f":"TRIM(INDEX('Orçamentária-TR'!D:D,MATCH(Composições!A2403,'Orçamentária-TR'!B:B,0),1))","v":"20 kg"},null,"","",null,null,100]
[null,null,null,null,null,"","",null,null,100]
[null,null,"Argamassa colante tipo AC III","kg",20,1.1969999999999998,23.939999999999998,{"$f":"SUM(G2405:G2405)","v":23.939999999999998},null,100]
[null,null,null,null,null,"","",null,null,100]
["SF-00567",{"$f":"INDEX('Orçamentária-TR'!B:C,MATCH(Composições!A2407,'Orçamentária-TR'!B:B,0),2)","v":"Gesso Para Uso Geral"},null,{"$f":"TRIM(INDEX('Orçamentária-TR'!D:D,MATCH(Composições!A2407,'Orçamentária-TR'!B:B,0),1))","v":"40 kg"},null,"","",null,null,20]
[null,null,null,null,null,"","",null,null,20]
[null,null,"GESSO EM PO PARA REVESTIMENTOS/MOLDURAS/SANCAS","kg",40,0.57950000000000002,23.18,{"$f":"SUM(G2409:G2409)","v":23.18},null,20]
[null,null,null,null,null,"","",null,null,20]
["SF-00568",{"$f":"INDEX('Orçamentária-TR'!B:C,MATCH(Composições!A2411,'Orçamentária-TR'!B:B,0),2)","v":"Areia Média"},null,{"$f":"TRIM(INDEX('Orçamentária-TR'!D:D,MATCH(Composições!A2411,'Orçamentária-TR'!B:B,0),1))","v":"m3"},null,"","",null,null,120]
[null,null,null,null,null,"","",null,null,120]
[null,null,"AREIA MEDIA - POSTO JAZIDA/FORNECEDOR (RETIRADO NA JAZIDA, SEM TRANSPORTE)","m3",1,93.8125,93.8125,{"$f":"SUM(G2413:G2415)","v":109.17065599999999},null,120]
[null,null,"CARGA, MANOBRAS E DESCARGA DE AREIA, BRITA, PEDRA DE MAO E SOLOS COM CAMINHAO BASCULANTE 6 M3 (DESCARGA LIVRE)","m3",{"$f":"E2413","v":1},0.7583660000000001,0.7583660000000001,null,null,120]
[null,null,"TRANSPORTE COM CAMINHÃO BASCULANTE DE 6 M3, EM VIA URBANA PAVIMENTADA, DMT ATÉ 30 KM (UNIDADE: TxKM). AF_01/2018","TxKM",{"$f":"E2413*20","v":20},0.72998949999999996,14.599789999999999,null,null,120]
[null,null,null,null,null,"","",null,null,120]
[null,null,"Obs.: Considerando fornecedor de areia a 20 km do Senado Federal.",null,null,"","",null,null,120]
[null,null,null,null,null,"","",null,null,120]
["SF-00569",{"$f":"INDEX('Orçamentária-TR'!B:C,MATCH(Composições!A2419,'Orçamentária-TR'!B:B,0),2)","v":"Brita Nº 0"},null,{"$f":"TRIM(INDEX('Orçamentária-TR'!D:D,MATCH(Composições!A2419,'Orçamentária-TR'!B:B,0),1))","v":"m3"},null,"","",null,null,30]
[null,null,null,null,null,"","",null,null,30]
[null,null,"PEDRA BRITADA N. 0, OU PEDRISCO (4,8 A 9,5 MM) POSTO PEDREIRA/FORNECEDOR, SEM FRETE","m3",1,79.268000000000001,79.268000000000001,{"$f":"SUM(G2421:G2423)","v":94.626155999999995},null,30]
[null,null,"CARGA, MANOBRAS E DESCARGA DE AREIA, BRITA, PEDRA DE MAO E SOLOS COM CAMINHAO BASCULANTE 6 M3 (DESCARGA LIVRE)","m3",{"$f":"E2421","v":1},0.7583660000000001,0.7583660000000001,null,null,30]
[null,null,"TRANSPORTE COM CAMINHÃO BASCULANTE DE 6 M3, EM VIA URBANA PAVIMENTADA, DMT ATÉ 30 KM (UNIDADE: TxKM). AF_01/2018","TxKM",{"$f":"E2421*20","v":20},0.72998949999999996,14.599789999999999,null,null,30]
[null,null,null,null,null,"","",null,null,30]
[null,null,"Obs.: Considerando fornecedor de brita a 20 km do Senado Federal.",null,null,"","",null,null,30]
[null,null,null,null,null,"","",null,null,30]
["SF-00570",{"$f":"INDEX('Orçamentária-TR'!B:C,MATCH(Composições!A2427,'Orçamentária-TR'!B:B,0),2)","v":"Brita Nº 1"},null,{"$f":"TRIM(INDEX('Orçamentária-TR'!D:D,MATCH(Composições!A2427,'Orçamentária-TR'!B:B,0),1))","v":"m3"},null,"","",null,null,10]
[null,null,null,null,null,"","",null,null,10]
[null,null,"PEDRA BRITADA N. 1 (9,5 a 19 MM) POSTO PEDREIRA/FORNECEDOR, SEM FRETE","m3",1,62.082499999999989,62.082499999999989,{"$f":"SUM(G2429:G2431)","v":77.44065599999999},null,10]
[null,null,"CARGA, MANOBRAS E DESCARGA DE AREIA, BRITA, PEDRA DE MAO E SOLOS COM CAMINHAO BASCULANTE 6 M3 (DESCARGA LIVRE)","m3",{"$f":"E2429","v":1},0.7583660000000001,0.7583660000000001,null,null,10]
[null,null,"TRANSPORTE COM CAMINHÃO BASCULANTE DE 6 M3, EM VIA URBANA PAVIMENTADA, DMT ATÉ 30 KM (UNIDADE: TxKM). AF_01/2018","TxKM",{"$f":"E2429*20","v":20},0.72998949999999996,14.599789999999999,null,null,10]
[null,null,null,null,null,"","",null,null,10]
[null,null,"Obs.: Considerando fornecedor de brita a 20 km do Senado Federal.",null,null,"","",null,null,10]
[null,null,null,null,null,"","",null,null,10]
["SF-00571",{"$f":"INDEX('Orçamentária-TR'!B:C,MATCH(Composições!A2435,'Orçamentária-TR'!B:B,0),2)","v":"Bloco Cerâmico De 08 Furos"},null,{"$f":"TRIM(INDEX('Orçamentária-TR'!D:D,MATCH(Composições!A2435,'Orçamentária-TR'!B:B,0),1))","v":"un"},null,"","",null,null,25000]
[null,null,null,null,null,"","",null,null,25000]
[null,null,"BLOCO CERAMICO VAZADO PARA ALVENARIA DE VEDACAO, DE 9 X 19 X 19 CM (L X A X C)","mil",{"$f":"1/1000","v":1E-3},495.00699999999995,0.49500699999999997,{"$f":"SUM(G2437:G2437)","v":0.49500699999999997},null,25000]
[null,null,null,null,null,"","",null,null,25000]
["SF-00572",{"$f":"INDEX('Orçamentária-TR'!B:C,MATCH(Composições!A2439,'Orçamentária-TR'!B:B,0),2)","v":"Tijolo Maciço"},null,{"$f":"TRIM(INDEX('Orçamentária-TR'!D:D,MATCH(Composições!A2439,'Orçamentária-TR'!B:B,0),1))","v":"un"},null,"","",null,null,10000]
[null,null,null,null,null,"","",null,null,10000]
[null,null,"TIJOLO CERAMICO MACICO COMUM *5 X 10 X 20* CM (L X A X C)","UN",1,0.42749999999999999,0.42749999999999999,{"$f":"SUM(G2441:G2441)","v":0.42749999999999999},null,10000]
[null,null,null,null,null,"","",null,null,10000]
["SF-00573",{"$f":"INDEX('Orçamentária-TR'!B:C,MATCH(Composições!A2443,'Orçamentária-TR'!B:B,0),2)","v":"Bloco De Concreto Com 02 Furos"},null,{"$f":"TRIM(INDEX('Orçamentária-TR'!D:D,MATCH(Composições!A2443,'Orçamentária-TR'!B:B,0),1))","v":"un"},null,"","",null,null,1000]
[null,null,null,null,null,"","",null,null,1000]
[null,null,"BLOCO DE CONCRETO ESTRUTURAL 9 X 19 X 39 CM, FBK 4,5 MPA (NBR 6136)","UN",1,1.6054999999999999,1.6054999999999999,{"$f":"SUM(G2445:G2445)","v":1.6054999999999999},null,1000]
[null,null,null,null,null,"","",null,null,1000]
["SF-00574",{"$f":"INDEX('Orçamentária-TR'!B:C,MATCH(Composições!A2447,'Orçamentária-TR'!B:B,0),2)","v":"Bloco De Concreto Tipo Canaleta"},null,{"$f":"TRIM(INDEX('Orçamentária-TR'!D:D,MATCH(Composições!A2447,'Orçamentária-TR'!B:B,0),1))","v":"un"},null,"","",null,null,250]
[null,null,null,null,null,"","",null,null,250]
[null,null,"Bloco de concreto tipo canaleta 11,5 x 19 x 39 cm","un ",1,2.4319999999999999,2.4319999999999999,{"$f":"SUM(G2449:G2449)","v":2.4319999999999999},null,250]
[null,null,null,null,null,"","",null,null,250]
["SF-00575",{"$f":"INDEX('Orçamentária-TR'!B:C,MATCH(Composições!A2451,'Orçamentária-TR'!B:B,0),2)","v":"Vergalhão Ca-60 Diâmetro 5,0 Mm"},null,{"$f":"TRIM(INDEX('Orçamentária-TR'!D:D,MATCH(Composições!A2451,'Orçamentária-TR'!B:B,0),1))","v":"m"},null,"","",null,null,100]
[null,null,null,null,null,"","",null,null,100]
[null,null,"TIJOLO CERAMICO MACICO COMUM *5 X 10 X 20* CM (L X A X C)","UN",1,0.42749999999999999,0.42749999999999999,{"$f":"SUM(G2453:G2453)","v":0.42749999999999999},null,100]
[null,null,null,null,null,"",{"$f":"IF(ISNUMBER(F2454),E2454*F2454,\"\")","v":""},null,null,100]
["SF-00576",{"$f":"INDEX('Orçamentária-TR'!B:C,MATCH(Composições!A2455,'Orçamentária-TR'!B:B,0),2)","v":"Vergalhão Ca-50 Diâmetro 6,3 Mm"},null,{"$f":"TRIM(INDEX('Orçamentária-TR'!D:D,MATCH(Composições!A2455,'Orçamentária-TR'!B:B,0),1))","v":"m"},null,"","",null,null,100]
[null,null,null,null,null,"","",null,null,100]
[null,null,"ACO CA-50, 6,3 MM, VERGALHAO","kg",0.245,5.0919999999999996,1.2475399999999999,{"$f":"SUM(G2457:G2457)","v":1.2475399999999999},null,100]
[null,null,null,null,null,"","",null,null,100]
["SF-00577",{"$f":"INDEX('Orçamentária-TR'!B:C,MATCH(Composições!A2459,'Orçamentária-TR'!B:B,0),2)","v":"Vergalhão Ca-50 Diâmetro 8,0 Mm"},null,{"$f":"TRIM(INDEX('Orçamentária-TR'!D:D,MATCH(Composições!A2459,'Orçamentária-TR'!B:B,0),1))","v":"m"},null,"","",null,null,100]
[null,null,null,null,null,"","",null,null,100]
[null,null,"ACO CA-50, 8,0 MM, VERGALHAO","kg",0.39500000000000002,5.1204999999999998,2.0225974999999998,{"$f":"SUM(G2461:G2461)","v":2.0225974999999998},null,100]
[null,null,null,null,null,"","",null,null,100]
["SF-00578",{"$f":"INDEX('Orçamentária-TR'!B:C,MATCH(Composições!A2463,'Orçamentária-TR'!B:B,0),2)","v":"Vergalhão Ca-50 Diâmetro 10,0 Mm"},null,{"$f":"TRIM(INDEX('Orçamentária-TR'!D:D,MATCH(Composições!A2463,'Orçamentária-TR'!B:B,0),1))","v":"m"},null,"","",null,null,100]
[null,null,null,null,null,"","",null,null,100]
[null,null,"ACO CA-50, 10,0 MM, VERGALHAO","kg",0.61699999999999999,4.8259999999999996,2.9776419999999999,{"$f":"SUM(G2465:G2465)","v":2.9776419999999999},null,100]
[null,null,null,null,null,"","",null,null,100]
["SF-00579",{"$f":"INDEX('Orçamentária-TR'!B:C,MATCH(Composições!A2467,'Orçamentária-TR'!B:B,0),2)","v":"Vergalhão Ca-50 Diâmetro 12,5 Mm"},null,{"$f":"TRIM(INDEX('Orçamentária-TR'!D:D,MATCH(Composições!A2467,'Orçamentária-TR'!B:B,0),1))","v":"m"},null,"","",null,null,100]
[null,null,null,null,null,"","",null,null,100]
[null,null,"ACO CA-50, 12,5 MM OU 16,0 MM, VERGALHAO","kg",0.96299999999999997,4.18,4.0253399999999999,{"$f":"SUM(G2469:G2469)","v":4.0253399999999999},null,100]
[null,null,null,null,null,"","",null,null,100]
["SF-00580",{"$f":"INDEX('Orçamentária-TR'!B:C,MATCH(Composições!A2471,'Orçamentária-TR'!B:B,0),2)","v":"Arame Recozido Nº 18"},null,{"$f":"TRIM(INDEX('Orçamentária-TR'!D:D,MATCH(Composições!A2471,'Orçamentária-TR'!B:B,0),1))","v":"kg"},null,"","",null,null,150]
[null,null,null,null,null,"","",null,null,150]
[null,null,"ARAME RECOZIDO 16 BWG, D = 1,65 MM (0,016 KG/M) OU 18 BWG, D = 1,25 MM (0,01 KG/M)","kg",1,12.426,12.426,{"$f":"SUM(G2473:G2473)","v":12.426},null,150]
[null,null,null,null,null,"","",null,null,150]
["SF-00581",{"$f":"INDEX('Orçamentária-TR'!B:C,MATCH(Composições!A2475,'Orçamentária-TR'!B:B,0),2)","v":{"$error":"#N/A"}},null,{"$f":"TRIM(INDEX('Orçamentária-TR'!C:C,MATCH(Composições!A2475,'Orçamentária-TR'!A:A,0),1))","v":{"$error":"#N/A"}},null,"","",null,null,0]
[null,null,null,null,null,"","",null,null,0]
[null,null,"ADESIVO ESTRUTURAL A BASE DE RESINA EPOXI, BICOMPONENTE, PASTOSO (TIXOTROPICO)","kg",1,31.007999999999999,31.007999999999999,{"$f":"SUM(G2477:G2477)","v":31.007999999999999},null,0]
[null,null,null,null,null,"","",null,null,0]
["SF-00588",{"$f":"INDEX('Orçamentária-TR'!B:C,MATCH(Composições!A2479,'Orçamentária-TR'!B:B,0),2)","v":"Aditivo Impermeabilizante"},null,{"$f":"TRIM(INDEX('Orçamentária-TR'!D:D,MATCH(Composições!A2479,'Orçamentária-TR'!B:B,0),1))","v":"L"},null,"","",null,null,360]
[null,null,null,null,null,"","",null,null,360]
[null,null,"ADITIVO IMPERMEABILIZANTE DE PEGA NORMAL PARA ARGAMASSAS E CONCRETOS SEM ARMACAO, LIQUIDO E ISENTO DE CLORETOS","L",1,4.8925000000000001,4.8925000000000001,{"$f":"SUM(G2481:G2481)","v":4.8925000000000001},null,360]
[null,null,null,null,null,"","",null,null,360]
["SF-00708",{"$f":"INDEX('Orçamentária-TR'!B:C,MATCH(Composições!A2483,'Orçamentária-TR'!B:B,0),2)","v":{"$error":"#N/A"}},null,{"$f":"TRIM(INDEX('Orçamentária-TR'!D:D,MATCH(Composições!A2483,'Orçamentária-TR'!B:B,0),1))","v":{"$error":"#N/A"}},null,"","",null,null,1]
[null,null,null,null,null,"","",null,null,1]
[null,null,"ENGENHEIRO CIVIL DE OBRA PLENO COM ENCARGOS COMPLEMENTARES","h",{"$f":"ROUND(220/(1+112.85%),4)","v":103.3592},94.249499999999983,9741.5529203999977,{"$f":"SUM(G2485:G2485)","v":9741.5529203999977},null,1]
[null,null,null,null,null,"","",null,null,1]
[null,null,"Obs: considerando 220h/mês e encargos sociais indicados na tabela do SINAPI.",null,null,"","",null,null,1]
[null,null,null,null,null,"","",null,null,1]
["SF-00709",{"$f":"INDEX('Orçamentária-TR'!B:C,MATCH(Composições!A2489,'Orçamentária-TR'!B:B,0),2)","v":{"$error":"#N/A"}},null,{"$f":"TRIM(INDEX('Orçamentária-TR'!D:D,MATCH(Composições!A2489,'Orçamentária-TR'!B:B,0),1))","v":{"$error":"#N/A"}},null,"","",null,null,2]
[null,null,null,null,null,"","",null,null,2]
[null,null,"ALMOXARIFE COM ENCARGOS COMPLEMENTARES","h",{"$f":"ROUND(220/(1+112.85%),4)","v":103.3592},25.336500000000001,2618.7603708000001,{"$f":"SUM(G2491:G2491)","v":2618.7603708000001},null,2]
[null,null,null,null,null,"","",null,null,2]
[null,null,"Obs: considerando 220h/mês e encargos sociais indicados na tabela do SINAPI.",null,null,"","",null,null,2]
[null,null,null,null,null,"","",null,null,2]
["SF-00710",{"$f":"INDEX('Orçamentária-TR'!B:C,MATCH(Composições!A2495,'Orçamentária-TR'!B:B,0),2)","v":{"$error":"#N/A"}},null,{"$f":"TRIM(INDEX('Orçamentária-TR'!D:D,MATCH(Composições!A2495,'Orçamentária-TR'!B:B,0),1))","v":{"$error":"#N/A"}},null,"","",null,null,9]
[null,null,null,null,null,"","",null,null,9]
[null,null,"SERVENTE COM ENCARGOS COMPLEMENTARES","h",{"$f":"ROUND(220/(1+112.85%),4)","v":103.3592},15.750999999999998,1628.0107591999997,{"$f":"SUM(G2497:G2497)","v":1628.0107591999997},null,9]
[null,null,null,null,null,"","",null,null,9]
[null,null,"Obs: considerando 220h/mês e encargos sociais indicados na tabela do SINAPI.",null,null,"","",null,null,9]
[null,null,null,null,null,"","",null,null,9]
["SF-00711",{"$f":"INDEX('Orçamentária-TR'!B:C,MATCH(Composições!A2501,'Orçamentária-TR'!B:B,0),2)","v":{"$error":"#N/A"}},null,{"$f":"TRIM(INDEX('Orçamentária-TR'!C:C,MATCH(Composições!A2501,'Orçamentária-TR'!A:A,0),1))","v":{"$error":"#N/A"}},null,"","",null,null,0]
[null,null,null,null,null,"","",null,null,0]
[null,null,"AJUDANTE DE CARPINTEIRO COM ENCARGOS COMPLEMENTARES","h",{"$f":"ROUND(220/(1+112.85%),4)","v":103.3592},17.869499999999999,1846.9772243999998,{"$f":"SUM(G2503:G2503)","v":1846.9772243999998},null,0]
[null,null,null,null,null,"","",null,null,0]
[null,null,"Obs: considerando 220h/mês e encargos sociais indicados na tabela do SINAPI.",null,null,"","",null,null,0]
[null,null,null,null,null,"","",null,null,0]
["SF-00712",{"$f":"INDEX('Orçamentária-TR'!B:C,MATCH(Composições!A2507,'Orçamentária-TR'!B:B,0),2)","v":{"$error":"#N/A"}},null,{"$f":"TRIM(INDEX('Orçamentária-TR'!C:C,MATCH(Composições!A2507,'Orçamentária-TR'!A:A,0),1))","v":{"$error":"#N/A"}},null,"","",null,null,0]
[null,null,null,null,null,"","",null,null,0]
[null,null,"AUXILIAR DE SERRALHEIRO COM ENCARGOS COMPLEMENTARES","h",{"$f":"ROUND(220/(1+112.85%),4)","v":103.3592},17.251999999999999,1783.1529183999999,{"$f":"SUM(G2509:G2509)","v":1783.1529183999999},null,0]
[null,null,null,null,null,"","",null,null,0]
[null,null,"Obs: considerando 220h/mês e encargos sociais indicados na tabela do SINAPI.",null,null,"","",null,null,0]
[null,null,null,null,null,"","",null,null,0]
["SF-00713",{"$f":"INDEX('Orçamentária-TR'!B:C,MATCH(Composições!A2513,'Orçamentária-TR'!B:B,0),2)","v":{"$error":"#N/A"}},null,{"$f":"TRIM(INDEX('Orçamentária-TR'!C:C,MATCH(Composições!A2513,'Orçamentária-TR'!A:A,0),1))","v":{"$error":"#N/A"}},null,"","",null,null,0]
[null,null,null,null,null,"","",null,null,0]
[null,null,"Marceneiro com encargos complementares","h",{"$f":"ROUND(220/(1+112.85%),4)","v":103.3592},21.5745,2229.9230603999999,{"$f":"SUM(G2515:G2515)","v":2229.9230603999999},null,0]
[null,null,null,null,null,"","",null,null,0]
[null,null,"Obs: considerando 220h/mês e encargos sociais indicados na tabela do SINAPI.",null,null,"","",null,null,0]
[null,null,null,null,null,"",{"$f":"IF(ISNUMBER(F2518),E2518*F2518,\"\")","v":""},null,null,0]
["SF-00714",{"$f":"INDEX('Orçamentária-TR'!B:C,MATCH(Composições!A2519,'Orçamentária-TR'!B:B,0),2)","v":{"$error":"#N/A"}},null,{"$f":"TRIM(INDEX('Orçamentária-TR'!C:C,MATCH(Composições!A2519,'Orçamentária-TR'!A:A,0),1))","v":{"$error":"#N/A"}},null,"","",null,null,0]
[null,null,null,null,null,"","",null,null,0]
[null,null,"Marceneiro com encargos complementares","h",{"$f":"ROUND(220/(1+112.85%),4)","v":103.3592},21.5745,2229.9230603999999,{"$f":"SUM(G2521:G2521)","v":2229.9230603999999},null,0]
[null,null,null,null,null,"","",null,null,0]
[null,null,"Obs: considerando 220h/mês e encargos sociais indicados na tabela do SINAPI.",null,null,"","",null,null,0]
[null,null,null,null,null,"","",null,null,0]
["SF-00715",{"$f":"INDEX('Orçamentária-TR'!B:C,MATCH(Composições!A2525,'Orçamentária-TR'!B:B,0),2)","v":{"$error":"#N/A"}},null,{"$f":"TRIM(INDEX('Orçamentária-TR'!C:C,MATCH(Composições!A2525,'Orçamentária-TR'!A:A,0),1))","v":{"$error":"#N/A"}},null,"","",null,null,0]
[null,null,null,null,null,"","",null,null,0]
[null,null,"Serralheiro com encargos complementares","h",{"$f":"ROUND(220/(1+112.85%),4)","v":103.3592},21.222999999999999,2193.5923015999997,{"$f":"SUM(G2527:G2527)","v":2193.5923015999997},null,0]
[null,null,null,null,null,"","",null,null,0]
[null,null,"Obs: considerando 220h/mês e encargos sociais indicados na tabela do SINAPI.",null,null,"","",null,null,0]
[null,null,null,null,null,"","",null,null,0]
["SF-00716",{"$f":"INDEX('Orçamentária-TR'!B:C,MATCH(Composições!A2531,'Orçamentária-TR'!B:B,0),2)","v":{"$error":"#N/A"}},null,{"$f":"TRIM(INDEX('Orçamentária-TR'!D:D,MATCH(Composições!A2531,'Orçamentária-TR'!B:B,0),1))","v":{"$error":"#N/A"}},null,"","",null,null,3]
[null,null,null,null,null,"","",null,null,3]
[null,null,"Mestre de obras com encargos complementares","h",{"$f":"ROUND(220/(1+112.85%),4)","v":103.3592},25.374500000000001,2622.6880204000004,{"$f":"SUM(G2533:G2533)","v":2622.6880204000004},null,3]
[null,null,null,null,null,"","",null,null,3]
[null,null,"Obs: considerando 220h/mês e encargos sociais indicados na tabela do SINAPI.",null,null,"","",null,null,3]
[null,null,null,null,null,"","",null,null,3]
["SF-00717",{"$f":"INDEX('Orçamentária-TR'!B:C,MATCH(Composições!A2537,'Orçamentária-TR'!B:B,0),2)","v":{"$error":"#N/A"}},null,{"$f":"TRIM(INDEX('Orçamentária-TR'!D:D,MATCH(Composições!A2537,'Orçamentária-TR'!B:B,0),1))","v":{"$error":"#N/A"}},null,"","",null,null,13]
[null,null,null,null,null,"","",null,null,13]
[null,null,"PEDREIRO COM ENCARGOS COMPLEMENTARES","h",{"$f":"ROUND(220/(1+112.85%),4)","v":103.3592},21.327499999999997,2204.3933379999999,{"$f":"SUM(G2539:G2539)","v":2204.3933379999999},null,13]
[null,null,null,null,null,"","",null,null,13]
[null,null,"Obs: considerando 220h/mês e encargos sociais indicados na tabela do SINAPI.",null,null,"","",null,null,13]
[null,null,null,null,null,"","",null,null,13]
["SF-00844",{"$f":"INDEX('Orçamentária-TR'!B:C,MATCH(Composições!A2543,'Orçamentária-TR'!B:B,0),2)","v":"Instalação de vidro (comum, temperado, aramado ou laminado) reaproveitado"},null,{"$f":"TRIM(INDEX('Orçamentária-TR'!D:D,MATCH(Composições!A2543,'Orçamentária-TR'!B:B,0),1))","v":"m2"},null,"","",null,null,450]
[null,null,null,null,null,"","",null,null,450]
[null,null,"Vidraceiro com encargos complementares","h",1,19.835999999999999,19.835999999999999,{"$f":"SUM(G2545:G2547)","v":35.868199999999995},null,450]
[null,null,"Servente com Encargos Complementares","h",0.2,15.750999999999998,3.1501999999999999,null,null,450]
[null,null,"Massa para vidro","Kg",2,6.4409999999999998,12.882,null,null,450]
[null,null,null,null,null,"","",null,null,450]
["SF-00845",{"$f":"INDEX('Orçamentária-TR'!B:C,MATCH(Composições!A2549,'Orçamentária-TR'!B:B,0),2)","v":"Vidro temperado incolor com 8mm de espessura"},null,{"$f":"TRIM(INDEX('Orçamentária-TR'!D:D,MATCH(Composições!A2549,'Orçamentária-TR'!B:B,0),1))","v":"m2"},null,"","",null,null,150]
[null,null,null,null,null,"","",null,null,150]
[null,null,"Vidraceiro com encargos complementares","h",1,19.835999999999999,19.835999999999999,{"$f":"SUM(G2551:G2554)","v":154.08619999999999},null,150]
[null,null,"Servente com Encargos Complementares","h",0.2,15.750999999999998,3.1501999999999999,null,null,150]
[null,null,"Massa para vidro","Kg",2,6.4409999999999998,12.882,null,null,150]
[null,null,"VIDRO LISO INCOLOR 5MM - SEM COLOCACAO","m2",1,118.21799999999999,118.21799999999999,null,null,150]
[null,null,null,null,null,"","",null,null,150]
["SF-00846",{"$f":"INDEX('Orçamentária-TR'!B:C,MATCH(Composições!A2556,'Orçamentária-TR'!B:B,0),2)","v":"Vidro liso comum transparente 5mm"},null,{"$f":"TRIM(INDEX('Orçamentária-TR'!D:D,MATCH(Composições!A2556,'Orçamentária-TR'!B:B,0),1))","v":"m2"},null,"","",null,null,900]
[null,null,null,null,null,"","",null,null,900]
[null,null,"Vidraceiro com encargos complementares","h",0.5,19.835999999999999,9.9179999999999993,{"$f":"SUM(G2558:G2561)","v":129.3235},null,900]
[null,null,"Servente com Encargos Complementares","h",0.5,15.750999999999998,7.8754999999999988,null,null,900]
[null,null,"Massa para vidro","Kg",1.5,6.4409999999999998,9.6615000000000002,null,null,900]
[null,null,"VIDRO TEMPERADO INCOLOR E = 8 MM, SEM COLOCACAO","m2",1,101.8685,101.8685,null,null,900]
[null,null,null,null,null,"","",null,null,900]
["SF-00847",{"$f":"INDEX('Orçamentária-TR'!B:C,MATCH(Composições!A2563,'Orçamentária-TR'!B:B,0),2)","v":"Corte em vidro ou espelho reaproveitado"},null,{"$f":"TRIM(INDEX('Orçamentária-TR'!D:D,MATCH(Composições!A2563,'Orçamentária-TR'!B:B,0),1))","v":"m"},null,"","",null,null,90]
[null,null,null,null,null,"","",null,null,90]
[null,null,"Vidraceiro com encargos complementares","h",0.5,19.835999999999999,9.9179999999999993,{"$f":"SUM(G2565:G2566)","v":17.793499999999998},null,90]
[null,null,"Servente com Encargos Complementares","h",0.5,15.750999999999998,7.8754999999999988,null,null,90]
[null,null,null,null,null,"","",null,null,90]
["SF-00848",{"$f":"INDEX('Orçamentária-TR'!B:C,MATCH(Composições!A2568,'Orçamentária-TR'!B:B,0),2)","v":"Lapidação de vidro / espelho reaproveitado"},null,{"$f":"TRIM(INDEX('Orçamentária-TR'!D:D,MATCH(Composições!A2568,'Orçamentária-TR'!B:B,0),1))","v":"m"},null,"","",null,null,45]
[null,null,null,null,null,"","",null,null,45]
[null,null,"Vidraceiro com encargos complementares","h",0.75,19.835999999999999,14.876999999999999,{"$f":"SUM(G2570:G2571)","v":26.690249999999999},null,45]
[null,null,"Servente com Encargos Complementares","h",0.75,15.750999999999998,11.813249999999998,null,null,45]
[null,null,null,null,null,"","",null,null,45]
["SF-00849",{"$f":"INDEX('Orçamentária-TR'!B:C,MATCH(Composições!A2573,'Orçamentária-TR'!B:B,0),2)","v":"Vidro temperado incolor com 10 mm de espessura"},null,{"$f":"TRIM(INDEX('Orçamentária-TR'!D:D,MATCH(Composições!A2573,'Orçamentária-TR'!B:B,0),1))","v":"m2"},null,"","",null,null,360]
[null,null,null,null,null,"","",null,null,360]
[null,null,"Vidraceiro com encargos complementares","h",0.5,19.835999999999999,9.9179999999999993,{"$f":"SUM(G2575:G2578)","v":159.7045},null,360]
[null,null,"Servente com Encargos Complementares","h",0.5,15.750999999999998,7.8754999999999988,null,null,360]
[null,null,"Massa para vidro","Kg",1.5,6.4409999999999998,9.6615000000000002,null,null,360]
[null,null,"VIDRO TEMPERADO INCOLOR E = 10 MM, SEM COLOCACAO","m2",1,132.24950000000001,132.24950000000001,null,null,360]
[null,null,null,null,null,"","",null,null,360]
["SF-00850",{"$f":"INDEX('Orçamentária-TR'!B:C,MATCH(Composições!A2580,'Orçamentária-TR'!B:B,0),2)","v":"Bucha para pivô de dobradiça para vidro temperado"},null,{"$f":"TRIM(INDEX('Orçamentária-TR'!D:D,MATCH(Composições!A2580,'Orçamentária-TR'!B:B,0),1))","v":"un"},null,"","",null,null,60]
[null,null,null,null,null,"","",null,null,60]
[null,null,"Vidraceiro com encargos complementares","h",0.15,19.835999999999999,{"$f":"IF(ISNUMBER(F2582),E2582*F2582,\"\")","v":2.9753999999999996},{"$f":"SUM(G2582:G2583)","v":6.0723999999999991},null,60]
[null,null,"Bucha para pivô de dobradiça para vidro temperado. Ref.: Santa Marina/1201; Belga Metais / 9201","un",1,3.0969999999999995,3.0969999999999995,null,null,60]
[null,null,null,null,null,"","",null,null,60]
["SF-00851",{"$f":"INDEX('Orçamentária-TR'!B:C,MATCH(Composições!A2585,'Orçamentária-TR'!B:B,0),2)","v":"Suporte para bandeira de vidro temperado, com ponto de giro para dobradiça"},null,{"$f":"TRIM(INDEX('Orçamentária-TR'!D:D,MATCH(Composições!A2585,'Orçamentária-TR'!B:B,0),1))","v":"un"},null,"","",null,null,9]
[null,null,null,null,null,"","",null,null,9]
[null,null,"Vidraceiro com encargos complementares","h",0.3,19.835999999999999,5.9507999999999992,{"$f":"SUM(G2587:G2588)","v":35.457799999999999},null,9]
[null,null,"Suporte para bandeira de vidro temperado, com ponto de giro para dobradiça. Ref.: Santa Marina / 1203; Belga Metais / 9203","un",1,29.506999999999998,29.506999999999998,null,null,9]
[null,null,null,null,null,"","",null,null,9]
["SF-00852",{"$f":"INDEX('Orçamentária-TR'!B:C,MATCH(Composições!A2590,'Orçamentária-TR'!B:B,0),2)","v":"Suporte de canto, simples, para vidro temperado"},null,{"$f":"TRIM(INDEX('Orçamentária-TR'!D:D,MATCH(Composições!A2590,'Orçamentária-TR'!B:B,0),1))","v":"un"},null,"","",null,null,9]
[null,null,null,null,null,"","",null,null,9]
[null,null,"Vidraceiro com encargos complementares","h",0.15,19.835999999999999,2.9753999999999996,{"$f":"SUM(G2592:G2593)","v":13.6724},null,9]
[null,null,"Suporte de canto, simples, para vidro temperado. Ref.: Santa Marina/1302; Belga Metais/9302","un",1,10.696999999999999,10.696999999999999,null,null,9]
[null,null,null,null,null,"","",null,null,9]
["SF-00853",{"$f":"INDEX('Orçamentária-TR'!B:C,MATCH(Composições!A2595,'Orçamentária-TR'!B:B,0),2)","v":"Suporte de união, sem batedor, para dois ou três vidros temperados"},null,{"$f":"TRIM(INDEX('Orçamentária-TR'!D:D,MATCH(Composições!A2595,'Orçamentária-TR'!B:B,0),1))","v":"un"},null,"","",null,null,6]
[null,null,null,null,null,"","",null,null,6]
[null,null,"Vidraceiro com encargos complementares","h",0.3,19.835999999999999,5.9507999999999992,{"$f":"SUM(G2597:G2598)","v":37.842299999999994},null,6]
[null,null,"Suporte de união em \"L\" em latão fundido, sem batedor, para dois ou três vidros temperados de 10 mm. Ref.: Santa Marina/1310; Belga Metais/9310","un",1,31.891499999999997,31.891499999999997,null,null,6]
[null,null,null,null,null,"","",null,null,6]
[null,null,"OBS: Para o preço unitário do insumo, considerou-se 85% do preço da peça tipo 1308 da tabela TCPO/Pini, percentual esse verificado mediante pesquisa de mercado.",null,null,"","",null,null,6]
[null,null,null,null,null,"","",null,null,6]
["SF-00854",{"$f":"INDEX('Orçamentária-TR'!B:C,MATCH(Composições!A2602,'Orçamentária-TR'!B:B,0),2)","v":"Botão de correção para vidro temperado"},null,{"$f":"TRIM(INDEX('Orçamentária-TR'!D:D,MATCH(Composições!A2602,'Orçamentária-TR'!B:B,0),1))","v":"un"},null,"","",null,null,30]
[null,null,null,null,null,"","",null,null,30]
[null,null,"Vidraceiro com encargos complementares","h",0.15,19.835999999999999,2.9753999999999996,{"$f":"SUM(G2604:G2605)","v":9.0364000000000004},null,30]
[null,null,"Botão de correção fosco acetinado com parafuso. Ref.: Santa Marina/1002","un",1,6.0609999999999999,6.0609999999999999,null,null,30]
[null,null,null,null,null,"","",null,null,30]
["SF-00855",{"$f":"INDEX('Orçamentária-TR'!B:C,MATCH(Composições!A2607,'Orçamentária-TR'!B:B,0),2)","v":"Fechadura bico-de-papagaio, com furo, para vidro temperado"},null,{"$f":"TRIM(INDEX('Orçamentária-TR'!D:D,MATCH(Composições!A2607,'Orçamentária-TR'!B:B,0),1))","v":"un"},null,"","",null,null,30]
[null,null,null,null,null,"","",null,null,30]
[null,null,"Vidraceiro com encargos complementares","h",0.4,19.835999999999999,7.9344000000000001,{"$f":"SUM(G2609:G2610)","v":58.084400000000002},null,30]
[null,null,"Fechadura bico-de-papagaio, com furo, para porta de correr em vidro temperado 10 mm. Ref.: Santa Marina / 3530; Belga Metais / 9510-F","un",1,50.15,50.15,null,null,30]
[null,null,null,null,null,"","",null,null,30]
["SF-00856",{"$f":"INDEX('Orçamentária-TR'!B:C,MATCH(Composições!A2612,'Orçamentária-TR'!B:B,0),2)","v":"Fechadura bico-de-papagaio, com furo, para janela de vidro temperado"},null,{"$f":"TRIM(INDEX('Orçamentária-TR'!D:D,MATCH(Composições!A2612,'Orçamentária-TR'!B:B,0),1))","v":"un"},null,"","",null,null,6]
[null,null,null,null,null,"","",null,null,6]
[null,null,"Vidraceiro com encargos complementares","h",0.4,19.835999999999999,7.9344000000000001,{"$f":"SUM(G2614:G2615)","v":57.934399999999997},null,6]
[null,null,"Fechadura bico-de-papagaio, com furo, para aplicação em janela de correr em vidro temperado 10 mm. Ref.: Santa Marina/3532; Belga Metais/9510-JF","un",1,50,50,null,null,6]
[null,null,null,null,null,"","",null,null,6]
["SF-00857",{"$f":"INDEX('Orçamentária-TR'!B:C,MATCH(Composições!A2617,'Orçamentária-TR'!B:B,0),2)","v":"Fechadura para porta de abrir de vidro temperado"},null,{"$f":"TRIM(INDEX('Orçamentária-TR'!D:D,MATCH(Composições!A2617,'Orçamentária-TR'!B:B,0),1))","v":"un"},null,"","",null,null,57]
[null,null,null,null,null,"","",null,null,57]
[null,null,"Vidraceiro com encargos complementares","h",0.4,19.835999999999999,7.9344000000000001,{"$f":"SUM(G2619:G2620)","v":48.884399999999999},null,57]
[null,null,"Fechadura para aplicação em porta de abrirem vidro temperado 10 mm. Ref.: Santa Marina/1520; Belga Metais/9520","un",1,40.950000000000003,40.950000000000003,null,null,57]
[null,null,null,null,null,"","",null,null,57]
["SF-00858",{"$f":"INDEX('Orçamentária-TR'!B:C,MATCH(Composições!A2622,'Orçamentária-TR'!B:B,0),2)","v":"Contra fechadura, para alvenaria, para porta com fechadura 1520/9520"},null,{"$f":"TRIM(INDEX('Orçamentária-TR'!D:D,MATCH(Composições!A2622,'Orçamentária-TR'!B:B,0),1))","v":"un"},null,"","",null,null,45]
[null,null,null,null,null,"","",null,null,45]
[null,null,"Vidraceiro com encargos complementares","h",0.25,19.835999999999999,4.9589999999999996,{"$f":"SUM(G2624:G2625)","v":10.818999999999999},null,45]
[null,null,"Contra fechadura, para alvenaria, para porta com fechadura 1520/952, aplicada em alvenaria junto a porta de abrirem vidro temperado 10 mm. Ref.: TQ Ferragens/1504; Santa Marina/1504; Belga Metais/1504","un",1,5.86,5.86,null,null,45]
[null,null,null,null,null,"","",null,null,45]
["SF-00859",{"$f":"INDEX('Orçamentária-TR'!B:C,MATCH(Composições!A2627,'Orçamentária-TR'!B:B,0),2)","v":"Contra fechadura de pressão para porta de vidro temperado"},null,{"$f":"TRIM(INDEX('Orçamentária-TR'!D:D,MATCH(Composições!A2627,'Orçamentária-TR'!B:B,0),1))","v":"un"},null,"","",null,null,24]
[null,null,null,null,null,"","",null,null,24]
[null,null,"Vidraceiro com encargos complementares","h",0.25,19.835999999999999,4.9589999999999996,{"$f":"SUM(G2629:G2630)","v":41.948999999999998},null,24]
[null,null,"Contra fechadura de pressão para porta de vidro temperado de 10 mm, usada com fechaduras de referência 1520SE / 9520PRD / 9520PRE. Ref.: Santa Marina/1504S; Belga Metais 9504S","un",1,36.99,36.99,null,null,24]
[null,null,null,null,null,"","",null,null,24]
["SF-00860",{"$f":"INDEX('Orçamentária-TR'!B:C,MATCH(Composições!A2632,'Orçamentária-TR'!B:B,0),2)","v":"Contra fechadura, com furo, para porta com furo"},null,{"$f":"TRIM(INDEX('Orçamentária-TR'!D:D,MATCH(Composições!A2632,'Orçamentária-TR'!B:B,0),1))","v":"un"},null,"","",null,null,12]
[null,null,null,null,null,"","",null,null,12]
[null,null,"Vidraceiro com encargos complementares","h",0.25,19.835999999999999,4.9589999999999996,{"$f":"SUM(G2634:G2635)","v":31.739000000000001},null,12]
[null,null,"Contra fechadura, com furo, para porta de correr com furo em vidro temperado 10 mm, usada com fechaduras de referência 3530/9510-F. Ref.: Santa Marina/3534; Belga Metais/9511-F","un",1,26.78,26.78,null,null,12]
[null,null,null,null,null,"","",null,null,12]
["SF-00861",{"$f":"INDEX('Orçamentária-TR'!B:C,MATCH(Composições!A2637,'Orçamentária-TR'!B:B,0),2)","v":"Trinco inferior, com miolo, para porta de vidro temperado"},null,{"$f":"TRIM(INDEX('Orçamentária-TR'!D:D,MATCH(Composições!A2637,'Orçamentária-TR'!B:B,0),1))","v":"un"},null,"","",null,null,30]
[null,null,null,null,null,"","",null,null,30]
[null,null,"Vidraceiro com encargos complementares","h",0.25,19.835999999999999,4.9589999999999996,{"$f":"SUM(G2639:G2640)","v":19.959499999999998},null,30]
[null,null,"Trinco inferior, com miolo, em latão fundido cromado, para porta de vidro temperado 10 mm. Ref.: Santa Marina/1502; Belga Metais/9502","un",1,15.000499999999999,15.000499999999999,null,null,30]
[null,null,null,null,null,"","",null,null,30]
["SF-00862",{"$f":"INDEX('Orçamentária-TR'!B:C,MATCH(Composições!A2642,'Orçamentária-TR'!B:B,0),2)","v":"Mola hidráulica BTS 75R"},null,{"$f":"TRIM(INDEX('Orçamentária-TR'!D:D,MATCH(Composições!A2642,'Orçamentária-TR'!B:B,0),1))","v":"un"},null,"","",null,null,180]
[null,null,null,null,null,"","",null,null,180]
[null,null,"Vidraceiro com encargos complementares","h",0.75,19.835999999999999,14.876999999999999,{"$f":"SUM(G2644:G2649)","v":927.06687599999998},null,180]
[null,null,"Servente com Encargos Complementares","h",0.3,15.750999999999998,4.7252999999999989,null,null,180]
[null,null,"Impermeabilizante Dorma SealProtect","un",1,114.44,{"$f":"IF(ISNUMBER(F2646),E2646*F2646,\"\")","v":114.44},null,null,180]
[null,null,"Mola Hidráulica de piso universal para portas de batente e portas vai-e-vem em aço inoxidável. Ref.: DORMA, modelo BTS 75V, com eixo intercambiável tipo \"B\"","un",1,771.07,771.07,null,null,180]
[null,null,"Vidraceiro com encargos complementares","h",{"$f":"0.5*2.1*0.8","v":0.84000000000000008},19.835999999999999,16.662240000000001,null,null,180]
[null,null,"Servente com Encargos Complementares","h",{"$f":"0.2*2.1*0.8","v":0.33600000000000008},15.750999999999998,5.2923360000000006,null,null,180]
[null,null,null,null,null,"","",null,null,180]
[null,null,"Obs: considerando remoção de uma folha de 2,10 m x 0,80 m.",null,null,"","",null,null,180]
[null,null,null,null,null,"","",null,null,180]
["SF-00863",{"$f":"INDEX('Orçamentária-TR'!B:C,MATCH(Composições!A2653,'Orçamentária-TR'!B:B,0),2)","v":"Puxador redondo, padrão em poliéster, para porta de vidro temperado"},null,{"$f":"TRIM(INDEX('Orçamentária-TR'!D:D,MATCH(Composições!A2653,'Orçamentária-TR'!B:B,0),1))","v":"un"},null,"","",null,null,30]
[null,null,null,null,null,"","",null,null,30]
[null,null,"Vidraceiro com encargos complementares","h",0.2,19.835999999999999,3.9672000000000001,{"$f":"SUM(G2655:G2656)","v":40.8872},null,30]
[null,null,"Puxador para porta de vidro temperado redondo duplo em resina poliéster incolor com aditivo anti-UV com 110-135 mm de diâmetro. Ref.: 1608 e 1609, Poliforma Alumínios e Ferragens; 1613, Aço Metais","un",1,36.92,36.92,null,null,30]
[null,null,null,null,null,"","",null,null,30]
["SF-00864",{"$f":"INDEX('Orçamentária-TR'!B:C,MATCH(Composições!A2658,'Orçamentária-TR'!B:B,0),2)","v":"Puxador em aço inox sob medida – Tipo A"},null,{"$f":"TRIM(INDEX('Orçamentária-TR'!D:D,MATCH(Composições!A2658,'Orçamentária-TR'!B:B,0),1))","v":"un"},null,"","",null,null,24]
[null,null,null,null,null,"","",null,null,24]
[null,null,"Vidraceiro com encargos complementares","h",0.4,19.835999999999999,7.9344000000000001,{"$f":"SUM(G2660:G2661)","v":352.93439999999998},null,24]
[null,null,"Puxador para porta de vidro temperado em aço inox, sob medida, tipo A","un",1,345,345,null,null,24]
[null,null,null,null,null,"","",null,null,24]
["SF-00865",{"$f":"INDEX('Orçamentária-TR'!B:C,MATCH(Composições!A2663,'Orçamentária-TR'!B:B,0),2)","v":"Dobradiça superior para porta de vidro temperado"},null,{"$f":"TRIM(INDEX('Orçamentária-TR'!D:D,MATCH(Composições!A2663,'Orçamentária-TR'!B:B,0),1))","v":"un"},null,"","",null,null,177]
[null,null,null,null,null,"","",null,null,177]
[null,null,"Vidraceiro com encargos complementares","h",0.3,19.835999999999999,5.9507999999999992,{"$f":"SUM(G2665:G2666)","v":33.842799999999997},null,177]
[null,null,"Dobradiça superior para porta de vidro temperado, em latão fundido cromado. Ref.: Santa Marina / 1101 ou Belga Metais / 9101","un",1,27.891999999999999,27.891999999999999,null,null,177]
[null,null,null,null,null,"","",null,null,177]
["SF-00866",{"$f":"INDEX('Orçamentária-TR'!B:C,MATCH(Composições!A2668,'Orçamentária-TR'!B:B,0),2)","v":"Perfil em alumínio, tipo U - abas iguais - PU 5/8\" x 5/8\" – espessura 1,58mm"},null,{"$f":"TRIM(INDEX('Orçamentária-TR'!D:D,MATCH(Composições!A2668,'Orçamentária-TR'!B:B,0),1))","v":"m"},null,"","",null,null,300]
[null,null,null,null,null,"","",null,null,300]
[null,null,"Vidraceiro com encargos complementares","h",0.2,19.835999999999999,3.9672000000000001,{"$f":"SUM(G2670:G2671)","v":9.3154149999999998},null,300]
[null,null,"PERFIL DE ALUMINIO ANODIZADO","kg",0.19,28.148499999999999,5.3482149999999997,null,null,300]
[null,null,null,null,null,"","",null,null,300]
[null,null,"Obs: Perfil em alumínio anodizado, tipo U - abas iguais - PU 5/8\" x 5/8\" – espessura 1,58mm",null,null,"","",null,null,300]
[null,null,"Fonte do coeficiente: http://www.estreladosmetais.com.br/pag_metal_aluminio_perfil_u_igual.php",null,null,"","",null,null,300]
[null,null,null,null,null,"","",null,null,300]
["SF-00867",{"$f":"INDEX('Orçamentária-TR'!B:C,MATCH(Composições!A2676,'Orçamentária-TR'!B:B,0),2)","v":"Trilho superior em alumínio 60mm x 49,5mm, para vidro temperado"},null,{"$f":"TRIM(INDEX('Orçamentária-TR'!D:D,MATCH(Composições!A2676,'Orçamentária-TR'!B:B,0),1))","v":"m"},null,"","",null,null,150]
[null,null,null,null,null,"","",null,null,150]
[null,null,"Vidraceiro com encargos complementares","h",0.3,19.835999999999999,5.9507999999999992,{"$f":"SUM(G2678:G2679)","v":27.709590499999997},null,150]
[null,null,"PERFIL DE ALUMINIO ANODIZADO","kg",0.77300000000000002,28.148499999999999,21.7587905,null,null,150]
[null,null,null,null,null,"","",null,null,150]
[null,null,"Obs: Trilho superior em alumínio anodizado 60mm x 49,5mm, para vidro temperado. Ref.: AL-0051",null,null,"","",null,null,150]
[null,null,"Fonte do coeficiente: http://www.ferragensdbf.com.br/produtos-aluminio.html",null,null,"","",null,null,150]
[null,null,null,null,null,"","",null,null,150]
["SF-00868",{"$f":"INDEX('Orçamentária-TR'!B:C,MATCH(Composições!A2684,'Orçamentária-TR'!B:B,0),2)","v":"Perfil em alumínio para acabamento de trilho superior"},null,{"$f":"TRIM(INDEX('Orçamentária-TR'!D:D,MATCH(Composições!A2684,'Orçamentária-TR'!B:B,0),1))","v":"m"},null,"","",null,null,150]
[null,null,null,null,null,"","",null,null,150]
[null,null,"Vidraceiro com encargos complementares","h",0.2,19.835999999999999,3.9672000000000001,{"$f":"SUM(G2686:G2687)","v":11.8769285},null,150]
[null,null,"PERFIL DE ALUMINIO ANODIZADO","kg",0.28100000000000003,28.148499999999999,7.9097284999999999,null,null,150]
[null,null,null,null,null,"","",null,null,150]
[null,null,"Obs: Perfil guia inferior de alumínio anodizado 39,3 mm x 24 mm para vidro temperado 10mm. Ref.: Perfil Guia Inferior AL-0005",null,null,"","",null,null,150]
[null,null,"Fonte do coeficiente: http://www.ferragensdbf.com.br/produtos-aluminio.html",null,null,"","",null,null,150]
[null,null,null,null,null,"","",null,null,150]
["SF-00869",{"$f":"INDEX('Orçamentária-TR'!B:C,MATCH(Composições!A2692,'Orçamentária-TR'!B:B,0),2)","v":"Perfil guia inferior de alumínio 39,3 mm x 24 mm para vidro temperado 10mm"},null,{"$f":"TRIM(INDEX('Orçamentária-TR'!D:D,MATCH(Composições!A2692,'Orçamentária-TR'!B:B,0),1))","v":"m"},null,"","",null,null,150]
[null,null,null,null,null,"","",null,null,150]
[null,null,"Vidraceiro com encargos complementares","h",0.3,19.835999999999999,5.9507999999999992,{"$f":"SUM(G2694:G2695)","v":18.645773499999997},null,150]
[null,null,"PERFIL DE ALUMINIO ANODIZADO","kg",0.45100000000000001,28.148499999999999,12.6949735,null,null,150]
[null,null,null,null,null,"","",null,null,150]
[null,null,"Obs: Perfil guia inferior de alumínio anodizado 39,3 mm x 24 mm para vidro temperado 10mm. Ref.: Perfil Guia Inferior AL-0005",null,null,"","",null,null,150]
[null,null,"Fonte do coeficiente: http://www.ferragensdbf.com.br/produtos-aluminio.html",null,null,"","",null,null,150]
[null,null,null,null,null,"","",null,null,150]
["SF-00870",{"$f":"INDEX('Orçamentária-TR'!B:C,MATCH(Composições!A2700,'Orçamentária-TR'!B:B,0),2)","v":"Capa do Perfil Guia Inferior “Click”"},null,{"$f":"TRIM(INDEX('Orçamentária-TR'!D:D,MATCH(Composições!A2700,'Orçamentária-TR'!B:B,0),1))","v":"m"},null,"","",null,null,150]
[null,null,null,null,null,"","",null,null,150]
[null,null,"Vidraceiro com encargos complementares","h",0.15,19.835999999999999,2.9753999999999996,{"$f":"SUM(G2702:G2703)","v":6.0717349999999994},null,150]
[null,null,"PERFIL DE ALUMINIO ANODIZADO","kg",0.11,28.148499999999999,3.0963349999999998,null,null,150]
[null,null,null,null,null,"","",null,null,150]
[null,null,"Obs: Perfil Guia Inferior “Click” de alumínio anodizado. Ref.: Perfil AL-0013",null,null,"","",null,null,150]
[null,null,"Fonte do coeficiente: http://www.ferragensdbf.com.br/produtos-aluminio.html",null,null,"","",null,null,150]
[null,null,null,null,null,"","",null,null,150]
["SF-00871",{"$f":"INDEX('Orçamentária-TR'!B:C,MATCH(Composições!A2708,'Orçamentária-TR'!B:B,0),2)","v":"Dobradiça inferior para porta de vidro temperado"},null,{"$f":"TRIM(INDEX('Orçamentária-TR'!D:D,MATCH(Composições!A2708,'Orçamentária-TR'!B:B,0),1))","v":"un"},null,"","",null,null,177]
[null,null,null,null,null,"","",null,null,177]
[null,null,"Vidraceiro com encargos complementares","h",0.3,19.835999999999999,{"$f":"IF(ISNUMBER(F2710),E2710*F2710,\"\")","v":5.9507999999999992},{"$f":"SUM(G2710:G2711)","v":38.041800000000002},null,177]
[null,null,"Dobradiça inferior para porta de vidro temperado, em latão fundido cromado. Ref.: Santa Marina / 1103; Belga Metais / 9103","un",1,32.091000000000001,32.091000000000001,null,null,177]
[null,null,null,null,null,"","",null,null,177]
["SF-00872",{"$f":"INDEX('Orçamentária-TR'!B:C,MATCH(Composições!A2713,'Orçamentária-TR'!B:B,0),2)","v":"Escova de vedação para vidro temperado"},null,{"$f":"TRIM(INDEX('Orçamentária-TR'!D:D,MATCH(Composições!A2713,'Orçamentária-TR'!B:B,0),1))","v":"m"},null,"","",null,null,150]
[null,null,null,null,null,"","",null,null,150]
[null,null,"Vidraceiro com encargos complementares","h",0.3,19.835999999999999,5.9507999999999992,{"$f":"SUM(G2715:G2716)","v":8.5507999999999988},null,150]
[null,null,"Escova de vedação para aplicação em janela ou porta de vidro temperado, autocolante ou de encaixe, na cor preta, branca ou cinza alumínio, entre 5mm e 7mm de base. Ref.: 290-1 (vidromax) 5x5 preto; Seal; VBrasil; Aluinter","un",1,2.6,2.6,null,null,150]
[null,null,null,null,null,"","",null,null,150]
["SF-00873",{"$f":"INDEX('Orçamentária-TR'!B:C,MATCH(Composições!A2718,'Orçamentária-TR'!B:B,0),2)","v":"Roldana simples para porta de correr em vidro temperado"},null,{"$f":"TRIM(INDEX('Orçamentária-TR'!D:D,MATCH(Composições!A2718,'Orçamentária-TR'!B:B,0),1))","v":"un"},null,"","",null,null,300]
[null,null,null,null,null,"","",null,null,300]
[null,null,"Vidraceiro com encargos complementares","h",0.15,19.835999999999999,2.9753999999999996,{"$f":"SUM(G2720:G2721)","v":7.2453999999999992},null,300]
[null,null,"Roldana simples em nylon para porta ou janela de correr de vidro temperado. Ref.: Santa Marina/1125N; Belga Metais/9125","un",1,4.2699999999999996,4.2699999999999996,null,null,300]
[null,null,null,null,null,"","",null,null,300]
["SF-00874",{"$f":"INDEX('Orçamentária-TR'!B:C,MATCH(Composições!A2723,'Orçamentária-TR'!B:B,0),2)","v":"Roldana dupla para porta de correr em vidro temperado"},null,{"$f":"TRIM(INDEX('Orçamentária-TR'!D:D,MATCH(Composições!A2723,'Orçamentária-TR'!B:B,0),1))","v":"un"},null,"","",null,null,60]
[null,null,null,null,null,"","",null,null,60]
[null,null,"Vidraceiro com encargos complementares","h",0.15,19.835999999999999,2.9753999999999996,{"$f":"SUM(G2725:G2726)","v":9.9554000000000009},null,60]
[null,null,"Roldana dupla em nylon para porta ou janela de correr de vidro temperado. Ref.: Santa Marina/1125N; Belga Metais/9125","un",1,6.98,6.98,null,null,60]
[null,null,null,null,null,"","",null,null,60]
["SF-00875",{"$f":"INDEX('Orçamentária-TR'!B:C,MATCH(Composições!A2728,'Orçamentária-TR'!B:B,0),2)","v":"Capuchinho para trinco para vidro temperado"},null,{"$f":"TRIM(INDEX('Orçamentária-TR'!D:D,MATCH(Composições!A2728,'Orçamentária-TR'!B:B,0),1))","v":"un"},null,"","",null,null,42]
[null,null,null,null,null,"","",null,null,42]
[null,null,"Vidraceiro com encargos complementares","h",0.1,19.835999999999999,1.9836,{"$f":"SUM(G2730:G2731)","v":4.2541000000000002},null,42]
[null,null,"Capuchinho para trinco para vidro temperado, com furo de 8 ou 10 mm, em latão fundido. Ref.: Santa Marina/1037; Santa Marina/1038; Belga Metais/9038","un",1,2.2705000000000002,2.2705000000000002,null,null,42]
[null,null,null,null,null,"","",null,null,42]
["SF-00876",{"$f":"INDEX('Orçamentária-TR'!B:C,MATCH(Composições!A2733,'Orçamentária-TR'!B:B,0),2)","v":"Facão simples para lateral e bandeira de vidro temperado"},null,{"$f":"TRIM(INDEX('Orçamentária-TR'!D:D,MATCH(Composições!A2733,'Orçamentária-TR'!B:B,0),1))","v":"un"},null,"","",null,null,30]
[null,null,null,null,null,"","",null,null,30]
[null,null,"Vidraceiro com encargos complementares","h",0.4,19.835999999999999,7.9344000000000001,{"$f":"SUM(G2735:G2736)","v":47.853400000000008},null,30]
[null,null,"Facão simples para lateral e bandeira de vidro temperado 10 mm, com ponto de giro para dobradiça superior, em latão fundido cromado. Ref.: Santa Marina/1209; Belga Metais/9209","un",1,39.919000000000004,39.919000000000004,null,null,30]
[null,null,null,null,null,"","",null,null,30]
["SF-00877",{"$f":"INDEX('Orçamentária-TR'!B:C,MATCH(Composições!A2738,'Orçamentária-TR'!B:B,0),2)","v":"Fechadura de pressão para porta de abrir em vidro temperado"},null,{"$f":"TRIM(INDEX('Orçamentária-TR'!D:D,MATCH(Composições!A2738,'Orçamentária-TR'!B:B,0),1))","v":"un"},null,"","",null,null,30]
[null,null,null,null,null,"","",null,null,30]
[null,null,"Vidraceiro com encargos complementares","h",0.4,19.835999999999999,7.9344000000000001,{"$f":"SUM(G2740:G2741)","v":108.1344},null,30]
[null,null,"Fechadura de pressão para porta de abrir em vidro temperado 10 mm. Ref.: Belga  Metais/9520-PRD (lado direito); Santa Marina/1520SE; Belga Metais/9520-PRE (lado esquerdo)","un",1,100.2,100.2,null,null,30]
[null,null,null,null,null,"","",null,null,30]
["SF-00878",{"$f":"INDEX('Orçamentária-TR'!B:C,MATCH(Composições!A2743,'Orçamentária-TR'!B:B,0),2)","v":"Suporte de união, com miolo, para vidro temperado"},null,{"$f":"TRIM(INDEX('Orçamentária-TR'!D:D,MATCH(Composições!A2743,'Orçamentária-TR'!B:B,0),1))","v":"un"},null,"","",null,null,24]
[null,null,null,null,null,"","",null,null,24]
[null,null,"Vidraceiro com encargos complementares","h",0.3,19.835999999999999,5.9507999999999992,{"$f":"SUM(G2745:G2746)","v":25.454299999999996},null,24]
[null,null,"Suporte de união, com miolo, para vidro temperado de 10 mm, em latão fundido cromado. Ref.: Santa Marina/1306; Belga Metais/9306","un",1,19.503499999999999,19.503499999999999,null,null,24]
[null,null,null,null,null,"","",null,null,24]
["SF-00879",{"$f":"INDEX('Orçamentária-TR'!B:C,MATCH(Composições!A2748,'Orçamentária-TR'!B:B,0),2)","v":"Suporte para basculante e pivotante de vidro temperado"},null,{"$f":"TRIM(INDEX('Orçamentária-TR'!D:D,MATCH(Composições!A2748,'Orçamentária-TR'!B:B,0),1))","v":"un"},null,"","",null,null,30]
[null,null,null,null,null,"","",null,null,30]
[null,null,"Vidraceiro com encargos complementares","h",0.2,19.835999999999999,3.9672000000000001,{"$f":"SUM(G2750:G2751)","v":15.604699999999999},null,30]
[null,null,"Suporte para basculante e pivotante de vidro temperado 10 mm, em latão fundido cromado. Ref.: Santa Marina/1230; Belga Metais/9230","un",1,11.637499999999999,11.637499999999999,null,null,30]
[null,null,null,null,null,"","",null,null,30]
["SF-00880",{"$f":"INDEX('Orçamentária-TR'!B:C,MATCH(Composições!A2753,'Orçamentária-TR'!B:B,0),2)","v":"Trinco central para basculante em vidro temperado"},null,{"$f":"TRIM(INDEX('Orçamentária-TR'!D:D,MATCH(Composições!A2753,'Orçamentária-TR'!B:B,0),1))","v":"un"},null,"","",null,null,30]
[null,null,null,null,null,"","",null,null,30]
[null,null,"Vidraceiro com encargos complementares","h",0.2,19.835999999999999,3.9672000000000001,{"$f":"SUM(G2755:G2756)","v":13.6572},null,30]
[null,null,"Trinco central para basculante em vidro temperado 10 mm, em latão fundido cromado. Ref.: Santa Marina/1523; Belga Metais/9523","un",1,9.69,9.69,null,null,30]
[null,null,null,null,null,"","",null,null,30]
["SF-00881",{"$f":"INDEX('Orçamentária-TR'!B:C,MATCH(Composições!A2758,'Orçamentária-TR'!B:B,0),2)","v":"Vidro laminado incolor de 8mm de espessura"},null,{"$f":"TRIM(INDEX('Orçamentária-TR'!D:D,MATCH(Composições!A2758,'Orçamentária-TR'!B:B,0),1))","v":"m2"},null,"","",null,null,180]
[null,null,null,null,null,"","",null,null,180]
[null,null,"Vidro laminado incolor de 8mm de espessura","m2",1,484.11049999999994,484.11049999999994,{"$f":"SUM(G2760:G2763)","v":511.56549999999993},null,180]
[null,null,"Vidraceiro com encargos complementares","h",0.5,19.835999999999999,9.9179999999999993,null,null,180]
[null,null,"Servente com Encargos Complementares","h",0.5,15.750999999999998,7.8754999999999988,null,null,180]
[null,null,"Massa para vidro","Kg",1.5,6.4409999999999998,9.6615000000000002,null,null,180]
[null,null,null,null,null,"","",null,null,180]
["SF-00883",{"$f":"INDEX('Orçamentária-TR'!B:C,MATCH(Composições!A2765,'Orçamentária-TR'!B:B,0),2)","v":"Dobradiça automática para box de vidro temperado"},null,{"$f":"TRIM(INDEX('Orçamentária-TR'!D:D,MATCH(Composições!A2765,'Orçamentária-TR'!B:B,0),1))","v":"un"},null,"","",null,null,30]
[null,null,null,null,null,"","",null,null,30]
[null,null,"Vidraceiro com encargos complementares","h",0.2,19.835999999999999,3.9672000000000001,{"$f":"SUM(G2767:G2768)","v":43.867199999999997},null,30]
[null,null,"Dobradiça automática para Box de vidro temperado. Ref.: Belga Metais/9114 e Belga Metais/9115","un",1,39.9,39.9,null,null,30]
[null,null,null,null,null,"","",null,null,30]
["SF-00884",{"$f":"INDEX('Orçamentária-TR'!B:C,MATCH(Composições!A2770,'Orçamentária-TR'!B:B,0),2)","v":"Dobradiça horizontal para vidro basculante com trinco"},null,{"$f":"TRIM(INDEX('Orçamentária-TR'!D:D,MATCH(Composições!A2770,'Orçamentária-TR'!B:B,0),1))","v":"un"},null,"","",null,null,6]
[null,null,null,null,null,"","",null,null,6]
[null,null,"Vidraceiro com encargos complementares","h",0.2,19.835999999999999,3.9672000000000001,{"$f":"SUM(G2772:G2773)","v":25.0672},null,6]
[null,null,"Dobradiça horizontal, com trinco central, para janela tipo basculante de vidro temperado com 8mm ou 10mm de espessura. Ref.: Belga Metais/9123-A","un",1,21.1,21.1,null,null,6]
[null,null,null,null,null,"",{"$f":"IF(ISNUMBER(F2774),E2774*F2774,\"\")","v":""},null,null,6]
["SF-00885",{"$f":"INDEX('Orçamentária-TR'!B:C,MATCH(Composições!A2775,'Orçamentária-TR'!B:B,0),2)","v":"Dobradiça horizontal para vidro basculante"},null,{"$f":"TRIM(INDEX('Orçamentária-TR'!D:D,MATCH(Composições!A2775,'Orçamentária-TR'!B:B,0),1))","v":"un"},null,"","",null,null,30]
[null,null,null,null,null,"","",null,null,30]
[null,null,"Vidraceiro com encargos complementares","h",0.2,19.835999999999999,3.9672000000000001,{"$f":"SUM(G2777:G2778)","v":15.177200000000001},null,30]
[null,null,"Dobradiça horizontal, sem trinco, para janela tipo basculante de vidro temperado com 8mm ou 10mm de espessura. Ref.: Belga Metais/9123","un",1,11.21,11.21,null,null,30]
[null,null,null,null,null,"","",null,null,30]
["SF-00886",{"$f":"INDEX('Orçamentária-TR'!B:C,MATCH(Composições!A2780,'Orçamentária-TR'!B:B,0),2)","v":"Fechadura elétrica para porta de vidro temperado"},null,{"$f":"TRIM(INDEX('Orçamentária-TR'!D:D,MATCH(Composições!A2780,'Orçamentária-TR'!B:B,0),1))","v":"un"},null,"","",null,null,9]
[null,null,null,null,null,"","",null,null,9]
[null,null,"Vidraceiro com encargos complementares","h",1.5,19.835999999999999,29.753999999999998,{"$f":"SUM(G2782:G2783)","v":425.43400000000003},null,9]
[null,null,"Fechadura elétrica para porta de vidro temperado com 8mm ou 10mm de espessura, acabamento cromado. Ref.: Fechadura Modelo FV35ICR / FV35ECRA / FV32ICR / FV32IPR / FV32ICRA / FV32ECRA, fabricante Amelco","un",1,395.68,395.68,null,null,9]
[null,null,null,null,null,"","",null,null,9]
["SF-00887",{"$f":"INDEX('Orçamentária-TR'!B:C,MATCH(Composições!A2785,'Orçamentária-TR'!B:B,0),2)","v":"Porteiro eletrônico"},null,{"$f":"TRIM(INDEX('Orçamentária-TR'!D:D,MATCH(Composições!A2785,'Orçamentária-TR'!B:B,0),1))","v":"un"},null,"","",null,null,6]
[null,null,null,null,null,"","",null,null,6]
[null,null,"Vidraceiro com encargos complementares","h",1.5,19.835999999999999,29.753999999999998,{"$f":"SUM(G2787:G2788)","v":212.75399999999999},null,6]
[null,null,"Porteiro eletrônico residencial. Ref.: Amelco AM-m²00","un",1,183,183,null,null,6]
[null,null,null,null,null,"","",null,null,6]
["SF-00888",{"$f":"INDEX('Orçamentária-TR'!B:C,MATCH(Composições!A2790,'Orçamentária-TR'!B:B,0),2)","v":"Acionador fixo"},null,{"$f":"TRIM(INDEX('Orçamentária-TR'!D:D,MATCH(Composições!A2790,'Orçamentária-TR'!B:B,0),1))","v":"un"},null,"","",null,null,6]
[null,null,null,null,null,"","",null,null,6]
[null,null,"Vidraceiro com encargos complementares","h",1,19.835999999999999,19.835999999999999,{"$f":"SUM(G2792:G2793)","v":98.885999999999996},null,6]
[null,null,"Acionador de fechadura elétrica para porta de vidro temperado com 01 acionador fixo. Ref.; Amelco AF62UP","un",1,79.05,79.05,null,null,6]
[null,null,null,null,null,"","",null,null,6]
["SF-00889",{"$f":"INDEX('Orçamentária-TR'!B:C,MATCH(Composições!A2795,'Orçamentária-TR'!B:B,0),2)","v":"Mini chapinha para trinco basculante"},null,{"$f":"TRIM(INDEX('Orçamentária-TR'!D:D,MATCH(Composições!A2795,'Orçamentária-TR'!B:B,0),1))","v":"un"},null,"","",null,null,6]
[null,null,null,null,null,"","",null,null,6]
[null,null,"Vidraceiro com encargos complementares","h",0.1,19.835999999999999,1.9836,{"$f":"SUM(G2797:G2798)","v":4.7236000000000002},null,6]
[null,null,"Mini chapinha para trinco de janela basculante em vidro temperado 8 ou 10 mm, em latão fundido cromado. Ref.: Belga Metais/9801-M","un",1,2.74,2.74,null,null,6]
[null,null,null,null,null,"","",null,null,6]
["SF-00890",{"$f":"INDEX('Orçamentária-TR'!B:C,MATCH(Composições!A2800,'Orçamentária-TR'!B:B,0),2)","v":"Puxador de latão - diâmetro 25mm"},null,{"$f":"TRIM(INDEX('Orçamentária-TR'!D:D,MATCH(Composições!A2800,'Orçamentária-TR'!B:B,0),1))","v":"un"},null,"","",null,null,12]
[null,null,null,null,null,"","",null,null,12]
[null,null,"Vidraceiro com encargos complementares","h",0.2,19.835999999999999,3.9672000000000001,{"$f":"SUM(G2802:G2803)","v":8.6672000000000011},null,12]
[null,null,"Puxador de latão polido - diâmetro 25mm, para portas e janelas de vidro temperado. Ref.: Belga Metais/9629","un",1,4.7,4.7,null,null,12]
[null,null,null,null,null,"","",null,null,12]
["SF-00891",{"$f":"INDEX('Orçamentária-TR'!B:C,MATCH(Composições!A2805,'Orçamentária-TR'!B:B,0),2)","v":"Trinco sem miolo para vidro temperado"},null,{"$f":"TRIM(INDEX('Orçamentária-TR'!D:D,MATCH(Composições!A2805,'Orçamentária-TR'!B:B,0),1))","v":"un"},null,"","",null,null,18]
[null,null,null,null,null,"","",null,null,18]
[null,null,"Vidraceiro com encargos complementares","h",0.2,19.835999999999999,3.9672000000000001,{"$f":"SUM(G2807:G2808)","v":19.307200000000002},null,18]
[null,null,"Trinco sem miolo, para vidro temperado 8mm ou 10 mm, funcionando como suporte inferior de centro, em latão fundido cromado. Ref.: Belga Metais/9335","un",1,15.34,15.34,null,null,18]
[null,null,null,null,null,"","",null,null,18]
["SF-00892",{"$f":"INDEX('Orçamentária-TR'!B:C,MATCH(Composições!A2810,'Orçamentária-TR'!B:B,0),2)","v":"Tubo de alumínio quadrado 50x50"},null,{"$f":"TRIM(INDEX('Orçamentária-TR'!D:D,MATCH(Composições!A2810,'Orçamentária-TR'!B:B,0),1))","v":"m"},null,"","",null,null,45]
[null,null,null,null,null,"","",null,null,45]
[null,null,"Vidraceiro com encargos complementares","h",0.25,19.835999999999999,4.9589999999999996,{"$f":"SUM(G2812:G2813)","v":28.969670499999999},null,45]
[null,null,"PERFIL DE ALUMINIO ANODIZADO","kg",0.85299999999999998,28.148499999999999,24.0106705,null,null,45]
[null,null,null,null,null,"","",null,null,45]
[null,null,"Obs: Tubo de alumínio quadrado 50x50, para fixação de painéis em vidro temperado de 8mm ou 10 mm",null,null,"","",null,null,45]
[null,null,"Fonte do coeficiente: http://www.ferragensdbf.com.br/produtos-aluminio.html",null,null,"","",null,null,45]
[null,null,null,null,null,"","",null,null,45]
["SF-00893",{"$f":"INDEX('Orçamentária-TR'!B:C,MATCH(Composições!A2818,'Orçamentária-TR'!B:B,0),2)","v":"Veda fresta adesivo “E” branco"},null,{"$f":"TRIM(INDEX('Orçamentária-TR'!D:D,MATCH(Composições!A2818,'Orçamentária-TR'!B:B,0),1))","v":"m"},null,"","",null,null,30]
[null,null,null,null,null,"","",null,null,30]
[null,null,"Vidraceiro com encargos complementares","h",0.2,19.835999999999999,3.9672000000000001,{"$f":"SUM(G2820:G2821)","v":6.8112999999999992},null,30]
[null,null,"Veda fresta adesivo “E” em PVC branco, elemento vedante adesivo para portas e janelas","m",0.11899999999999999,23.9,2.8440999999999996,null,null,30]
[null,null,null,null,null,"","",null,null,30]
["SF-00894",{"$f":"INDEX('Orçamentária-TR'!B:C,MATCH(Composições!A2823,'Orçamentária-TR'!B:B,0),2)","v":"Vedapress 10mm"},null,{"$f":"TRIM(INDEX('Orçamentária-TR'!D:D,MATCH(Composições!A2823,'Orçamentária-TR'!B:B,0),1))","v":"m"},null,"","",null,null,30]
[null,null,null,null,null,"","",null,null,30]
[null,null,"Vidraceiro com encargos complementares","h",0.3,19.835999999999999,5.9507999999999992,{"$f":"SUM(G2825:G2826)","v":9.3004714999999987},null,30]
[null,null,"PERFIL DE ALUMINIO ANODIZADO","kg",0.11899999999999999,28.148499999999999,3.3496714999999995,null,null,30]
[null,null,null,null,null,"","",null,null,30]
[null,null,"Obs: Vedapress 10mm, elemento vedante para portas e janelas de vidro temperado de 8mm ou 10 mm. Ref.: AL-15 - Poliformas alumínio e ferragens",null,null,"","",null,null,30]
[null,null,"Fonte do coeficiente: http://www.alumipremium.com/produto/al15",null,null,"","",null,null,30]
[null,null,null,null,null,"","",null,null,30]
["SF-00895",{"$f":"INDEX('Orçamentária-TR'!B:C,MATCH(Composições!A2831,'Orçamentária-TR'!B:B,0),2)","v":"Regulagem de ferragens"},null,{"$f":"TRIM(INDEX('Orçamentária-TR'!D:D,MATCH(Composições!A2831,'Orçamentária-TR'!B:B,0),1))","v":"un"},null,"","",null,null,600]
[null,null,null,null,null,"","",null,null,600]
[null,null,"Vidraceiro com encargos complementares","h",1.5,19.835999999999999,29.753999999999998,{"$f":"SUM(G2833:G2833)","v":29.753999999999998},null,600]
[null,null,null,null,null,"","",null,null,600]
["SF-00896",{"$f":"INDEX('Orçamentária-TR'!B:C,MATCH(Composições!A2835,'Orçamentária-TR'!B:B,0),2)","v":"Vidro fumê / bronze temperado 10mm"},null,{"$f":"TRIM(INDEX('Orçamentária-TR'!D:D,MATCH(Composições!A2835,'Orçamentária-TR'!B:B,0),1))","v":"m2"},null,"","",null,null,150]
[null,null,null,null,null,"","",null,null,150]
[null,null,"Vidraceiro com encargos complementares","h",0.5,19.835999999999999,9.9179999999999993,{"$f":"SUM(G2837:G2840)","v":257.45499999999998},null,150]
[null,null,"Servente com Encargos Complementares","h",0.5,15.750999999999998,{"$f":"IF(ISNUMBER(F2838),E2838*F2838,\"\")","v":7.8754999999999988},null,null,150]
[null,null,"Massa para vidro","Kg",1.5,6.4409999999999998,9.6615000000000002,null,null,150]
[null,null,"Vidro fumê/bronze temperado 10mm","m2",1,230,230,null,null,150]
[null,null,null,null,null,"","",null,null,150]
["SF-00897",{"$f":"INDEX('Orçamentária-TR'!B:C,MATCH(Composições!A2842,'Orçamentária-TR'!B:B,0),2)","v":"Puxador em aço inox sob medida – Tipo B"},null,{"$f":"TRIM(INDEX('Orçamentária-TR'!D:D,MATCH(Composições!A2842,'Orçamentária-TR'!B:B,0),1))","v":"un"},null,"","",null,null,24]
[null,null,null,null,null,"","",null,null,24]
[null,null,"Vidraceiro com encargos complementares","h",0.4,19.835999999999999,7.9344000000000001,{"$f":"SUM(G2844:G2845)","v":417.93439999999998},null,24]
[null,null,"Puxador para porta de vidro temperado em aço inox, sob medida, tipo B","un",1,410,410,null,null,24]
[null,null,null,null,null,"","",null,null,24]
["SF-00898",{"$f":"INDEX('Orçamentária-TR'!B:C,MATCH(Composições!A2847,'Orçamentária-TR'!B:B,0),2)","v":{"$error":"#N/A"}},null,{"$f":"TRIM(INDEX('Orçamentária-TR'!C:C,MATCH(Composições!A2847,'Orçamentária-TR'!A:A,0),1))","v":{"$error":"#N/A"}},null,"","",null,null,0]
[null,null,null,null,null,"","",null,null,0]
[null,null,"ARAME RECOZIDO 16 BWG, D = 1,60 MM (0,016 KG/M) OU 18 BWG, D = 1,25 MM (0,01 KG/M)","KG",2.5000000000000001E-2,12.426,0.31065000000000004,{"$f":"SUM(G2849:G2853)","v":9.6706304499999991},null,0]
[null,null,"ESPACADOR / DISTANCIADOR CIRCULAR COM ENTRADA LATERAL, EM PLASTICO, PARA VERGALHAO *4,2 A 12,5* MM, COBRIMENTO 20 MM","UN",0.74299999999999999,0.1235,9.1760499999999995E-2,null,null,0]
[null,null,"AJUDANTE DE ARMADOR COM ENCARGOS COMPLEMENTARES","H",2.0899999999999998E-2,16.463499999999996,0.3440871499999999,null,null,0]
[null,null,"ARMADOR COM ENCARGOS COMPLEMENTARES","H",0.1278,21.222999999999999,2.7122993999999996,null,null,0]
[null,null,"CORTE E DOBRA DE AÇO CA-50, DIÂMETRO DE 8,0 MM, UTILIZADO EM ESTRUTURAS DIVERSAS, EXCETO LAJES. AF_12/2015","KG",1,6.2118333999999997,6.2118333999999997,null,null,0]
[null,null,null,null,null,"","",null,null,0]
["SF-00899",{"$f":"INDEX('Orçamentária-TR'!B:C,MATCH(Composições!A2855,'Orçamentária-TR'!B:B,0),2)","v":"Pivô para dobradiça inferior (Montagem com a 1103-TQ)"},null,{"$f":"TRIM(INDEX('Orçamentária-TR'!D:D,MATCH(Composições!A2855,'Orçamentária-TR'!B:B,0),1))","v":"un"},null,"","",null,null,30]
[null,null,null,null,null,"","",null,null,30]
[null,null,"Vidraceiro com encargos complementares","h",0.2,19.835999999999999,3.9672000000000001,{"$f":"SUM(G2857:G2858)","v":10.767199999999999},null,30]
[null,null,"Pivô para dobradiça inferior (montagem com a 1103- TQ) para porta em vidro temperado","un",1,6.8,6.8,null,null,30]
[null,null,null,null,null,"","",null,null,30]
["SF-00900",{"$f":"INDEX('Orçamentária-TR'!B:C,MATCH(Composições!A2860,'Orçamentária-TR'!B:B,0),2)","v":"Dobradiça direita inferior excêntrica"},null,{"$f":"TRIM(INDEX('Orçamentária-TR'!D:D,MATCH(Composições!A2860,'Orçamentária-TR'!B:B,0),1))","v":"un"},null,"","",null,null,12]
[null,null,null,null,null,"","",null,null,12]
[null,null,"Vidraceiro com encargos complementares","h",0.3,19.835999999999999,5.9507999999999992,{"$f":"SUM(G2862:G2863)","v":74.370800000000003},null,12]
[null,null,"Dobradiça direita inferior excêntrica para porta pivotante em vidro temperado, dimensões máximas recomendadas 1000 x 2100 mm ou 900 x 2400 mm","un",1,68.42,68.42,null,null,12]
[null,null,null,null,null,"","",null,null,12]
["SF-00901",{"$f":"INDEX('Orçamentária-TR'!B:C,MATCH(Composições!A2865,'Orçamentária-TR'!B:B,0),2)","v":"Dobradiça esquerda inferior excêntrica"},null,{"$f":"TRIM(INDEX('Orçamentária-TR'!D:D,MATCH(Composições!A2865,'Orçamentária-TR'!B:B,0),1))","v":"un"},null,"","",null,null,12]
[null,null,null,null,null,"","",null,null,12]
[null,null,"Vidraceiro com encargos complementares","h",0.3,19.835999999999999,5.9507999999999992,{"$f":"SUM(G2867:G2868)","v":74.370800000000003},null,12]
[null,null,"Dobradiça esquerda inferior excêntrica para porta pivotante em vidro temperado, dimensões máximas recomendadas 1000 x 2100 mm ou 900 x 2400 mm","un",1,68.42,68.42,null,null,12]
[null,null,null,null,null,"","",null,null,12]
["SF-00902",{"$f":"INDEX('Orçamentária-TR'!B:C,MATCH(Composições!A2870,'Orçamentária-TR'!B:B,0),2)","v":"Dobradiça pivotante inferior com trinco"},null,{"$f":"TRIM(INDEX('Orçamentária-TR'!D:D,MATCH(Composições!A2870,'Orçamentária-TR'!B:B,0),1))","v":"un"},null,"","",null,null,12]
[null,null,null,null,null,"","",null,null,12]
[null,null,"Vidraceiro com encargos complementares","h",0.3,19.835999999999999,5.9507999999999992,{"$f":"SUM(G2872:G2873)","v":49.960799999999999},null,12]
[null,null,"Dobradiça pivotante inferior com trinco, em alumínio, para porta em vidro temperado, dimensões máximas recomendadas 900 x 2200 mm","un",1,44.01,44.01,null,null,12]
[null,null,null,null,null,"","",null,null,12]
["SF-00903",{"$f":"INDEX('Orçamentária-TR'!B:C,MATCH(Composições!A2875,'Orçamentária-TR'!B:B,0),2)","v":"Carrinho para porta de correr 1 roldana e 2 furos"},null,{"$f":"TRIM(INDEX('Orçamentária-TR'!D:D,MATCH(Composições!A2875,'Orçamentária-TR'!B:B,0),1))","v":"un"},null,"","",null,null,18]
[null,null,null,null,null,"","",null,null,18]
[null,null,"Vidraceiro com encargos complementares","h",0.15,19.835999999999999,2.9753999999999996,{"$f":"SUM(G2877:G2878)","v":14.185400000000001},null,18]
[null,null,"Carrinho para porta de correr em vidro temperado até 20kg 1 roldana e 2 furos. Ref.: Vidromax 1122-S","un",1,11.21,11.21,null,null,18]
[null,null,null,null,null,"","",null,null,18]
["SF-00904",{"$f":"INDEX('Orçamentária-TR'!B:C,MATCH(Composições!A2880,'Orçamentária-TR'!B:B,0),2)","v":"Carrinho para porta de correr 2 roldanas e 2 furos"},null,{"$f":"TRIM(INDEX('Orçamentária-TR'!D:D,MATCH(Composições!A2880,'Orçamentária-TR'!B:B,0),1))","v":"un"},null,"","",null,null,18]
[null,null,null,null,null,"","",null,null,18]
[null,null,"Vidraceiro com encargos complementares","h",0.15,19.835999999999999,2.9753999999999996,{"$f":"SUM(G2882:G2883)","v":17.1754},null,18]
[null,null,"Carrinho para porta de correr em vidro temperado até 80kg 2 roldanas e 2 furos. Ref.: Vidromax 1122","un",1,14.2,14.2,null,null,18]
[null,null,null,null,null,"","",null,null,18]
["SF-00905",{"$f":"INDEX('Orçamentária-TR'!B:C,MATCH(Composições!A2885,'Orçamentária-TR'!B:B,0),2)","v":"Carrinho para porta de correr com roldana côncava"},null,{"$f":"TRIM(INDEX('Orçamentária-TR'!D:D,MATCH(Composições!A2885,'Orçamentária-TR'!B:B,0),1))","v":"un"},null,"","",null,null,12]
[null,null,null,null,null,"","",null,null,12]
[null,null,"Vidraceiro com encargos complementares","h",0.15,19.835999999999999,2.9753999999999996,{"$f":"SUM(G2887:G2888)","v":37.215400000000002},null,12]
[null,null,"Carrinho para porta de correr em vidro temperado com roldana côncava, dimensões máximas recomendadas 600 x 1800 mm","un",1,34.24,34.24,null,null,12]
[null,null,null,null,null,"","",null,null,12]
["SF-00906",{"$f":"INDEX('Orçamentária-TR'!B:C,MATCH(Composições!A2890,'Orçamentária-TR'!B:B,0),2)","v":"Guia de nylon para porta de correr"},null,{"$f":"TRIM(INDEX('Orçamentária-TR'!D:D,MATCH(Composições!A2890,'Orçamentária-TR'!B:B,0),1))","v":"un"},null,"","",null,null,30]
[null,null,null,null,null,"","",null,null,30]
[null,null,"Vidraceiro com encargos complementares","h",0.15,19.835999999999999,2.9753999999999996,{"$f":"SUM(G2892:G2893)","v":3.9253999999999998},null,30]
[null,null,"Guia de nylon para porta de correr em vidro temperado","un",1,0.95,0.95,null,null,30]
[null,null,null,null,null,"","",null,null,30]
["SF-00907",{"$f":"INDEX('Orçamentária-TR'!B:C,MATCH(Composições!A2895,'Orçamentária-TR'!B:B,0),2)","v":"Puxador H tubular em aço inox, comprimento 45cm, para portas de vidro temperado"},null,{"$f":"TRIM(INDEX('Orçamentária-TR'!D:D,MATCH(Composições!A2895,'Orçamentária-TR'!B:B,0),1))","v":"un"},null,"","",null,null,12]
[null,null,null,null,null,"","",null,null,12]
[null,null,"Vidraceiro com encargos complementares","h",0.4,19.835999999999999,7.9344000000000001,{"$f":"SUM(G2897:G2898)","v":58.924400000000006},null,12]
[null,null,"Puxador H tubular em aço inox AISI304, com porcas tipo castelo, comprimento 45cm, entre furos de 30cm,  diâmetro 1.1/4\",  chapa #16, acabamento escovado. Ref.: PX-RD, Poliforma Alumínio e Ferragens","un",1,50.99,50.99,null,null,12]
[null,null,null,null,null,"","",null,null,12]
["SF-00908",{"$f":"INDEX('Orçamentária-TR'!B:C,MATCH(Composições!A2900,'Orçamentária-TR'!B:B,0),2)","v":"Transporte de vidros"},null,{"$f":"TRIM(INDEX('Orçamentária-TR'!D:D,MATCH(Composições!A2900,'Orçamentária-TR'!B:B,0),1))","v":"m2 x km"},null,"","",null,null,600]
[null,null,null,null,null,"","",null,null,600]
[null,null,"Servente com Encargos Complementares","h",2.9209999999999998,15.750999999999998,{"$f":"IF(ISNUMBER(F2902),E2902*F2902,\"\")","v":46.008670999999993},{"$f":"SUM(G2902:G2902)","v":46.008670999999993},null,600]
[null,null,null,null,null,"","",null,null,600]
[null,null,"Fonte do coeficiente: http://www.alumipremium.com/produto/al15",null,null,"","",null,null,600]
[null,null,null,null,null,"","",null,null,600]
["SF-00909",{"$f":"INDEX('Orçamentária-TR'!B:C,MATCH(Composições!A2906,'Orçamentária-TR'!B:B,0),2)","v":"Vidro fantasia 4mm (canelado, martelado, pontilhado e mini-boreal)"},null,{"$f":"TRIM(INDEX('Orçamentária-TR'!D:D,MATCH(Composições!A2906,'Orçamentária-TR'!B:B,0),1))","v":"m2"},null,"","",null,null,15]
[null,null,null,null,null,"","",null,null,15]
[null,null,"Vidraceiro com encargos complementares","h",0.45,19.835999999999999,8.9261999999999997,{"$f":"SUM(G2908:G2911)","v":110.11165},null,15]
[null,null,"Servente com Encargos Complementares","h",0.45,15.750999999999998,7.0879499999999993,null,null,15]
[null,null,"Massa para vidro","Kg",1.5,6.4409999999999998,9.6615000000000002,null,null,15]
[null,null,"VIDRO MARTELADO OU CANELADO, 4 MM - SEM COLOCACAO","m2",1,84.435999999999993,84.435999999999993,null,null,15]
[null,null,null,null,null,"","",null,null,15]
["SF-00910",{"$f":"INDEX('Orçamentária-TR'!B:C,MATCH(Composições!A2913,'Orçamentária-TR'!B:B,0),2)","v":"Vidro fumê/bronze 5mm"},null,{"$f":"TRIM(INDEX('Orçamentária-TR'!D:D,MATCH(Composições!A2913,'Orçamentária-TR'!B:B,0),1))","v":"m2"},null,"","",null,null,300]
[null,null,null,null,null,"","",null,null,300]
[null,null,"Vidraceiro com encargos complementares","h",1,19.835999999999999,19.835999999999999,{"$f":"SUM(G2915:G2918)","v":181.7122},null,300]
[null,null,"Servente com Encargos Complementares","h",0.2,15.750999999999998,3.1501999999999999,null,null,300]
[null,null,"Massa para vidro","Kg",2,6.4409999999999998,12.882,null,null,300]
[null,null,"VIDRO LISO FUME, E = 5 MM - SEM COLOCACAO","m2",1,145.84399999999999,145.84399999999999,null,null,300]
[null,null,null,null,null,"","",null,null,300]
["SF-00911",{"$f":"INDEX('Orçamentária-TR'!B:C,MATCH(Composições!A2920,'Orçamentária-TR'!B:B,0),2)","v":"Recuperação de massa em esquadria metálica"},null,{"$f":"TRIM(INDEX('Orçamentária-TR'!D:D,MATCH(Composições!A2920,'Orçamentária-TR'!B:B,0),1))","v":"m"},null,"","",null,null,3000]
[null,null,null,null,null,"","",null,null,3000]
[null,null,"Vidraceiro com encargos complementares","h",{"$f":"ROUND(1/3,4)","v":0.33329999999999999},19.835999999999999,6.6113387999999995,{"$f":"SUM(G2922:G2924)","v":22.643538800000002},null,3000]
[null,null,"Servente com Encargos Complementares","h",0.2,15.750999999999998,3.1501999999999999,null,null,3000]
[null,null,"Massa para vidro","Kg",2,6.4409999999999998,12.882,null,null,3000]
[null,null,null,null,null,"","",null,null,3000]
["SF-00912",{"$f":"INDEX('Orçamentária-TR'!B:C,MATCH(Composições!A2926,'Orçamentária-TR'!B:B,0),2)","v":"Instalação de espelho reaproveitado"},null,{"$f":"TRIM(INDEX('Orçamentária-TR'!D:D,MATCH(Composições!A2926,'Orçamentária-TR'!B:B,0),1))","v":"m2"},null,"","",null,null,60]
[null,null,null,null,null,"","",null,null,60]
[null,null,"Servente com Encargos Complementares","h",0.4,15.750999999999998,6.3003999999999998,{"$f":"SUM(G2928:G2930)","v":59.994399999999992},null,60]
[null,null,"Vidraceiro com encargos complementares","h",2,19.835999999999999,39.671999999999997,null,null,60]
[null,null,"PARAFUSO FRANCES M16 EM ACO GALVANIZADO, COMPRIMENTO = 45 MM, DIAMETRO = 16 MM, CABECA ABAULADA","UN",4,3.5054999999999996,14.021999999999998,null,null,60]
[null,null,null,null,null,"","",null,null,60]
["SF-00913",{"$f":"INDEX('Orçamentária-TR'!B:C,MATCH(Composições!A2932,'Orçamentária-TR'!B:B,0),2)","v":"Espelho fumê/bronze 4mm lapidado"},null,{"$f":"TRIM(INDEX('Orçamentária-TR'!D:D,MATCH(Composições!A2932,'Orçamentária-TR'!B:B,0),1))","v":"m2"},null,"","",null,null,60]
[null,null,null,null,null,"","",null,null,60]
[null,null,"PARAFUSO FRANCES M16 EM ACO GALVANIZADO, COMPRIMENTO = 45 MM, DIAMETRO = 16 MM, CABECA ABAULADA","un",4,3.5054999999999996,14.021999999999998,{"$f":"SUM(G2934:G2937)","v":407.37440000000004},null,60]
[null,null,"Espelho fumê/bronze 4mm lapidado","m2",1,347.38,347.38,null,null,60]
[null,null,"Servente com Encargos Complementares","h",0.4,15.750999999999998,6.3003999999999998,null,null,60]
[null,null,"Vidraceiro com encargos complementares","h",2,19.835999999999999,39.671999999999997,null,null,60]
[null,null,null,null,null,"","",null,null,60]
["SF-00914",{"$f":"INDEX('Orçamentária-TR'!B:C,MATCH(Composições!A2939,'Orçamentária-TR'!B:B,0),2)","v":"Finesson (parafuso de fixação francês)"},null,{"$f":"TRIM(INDEX('Orçamentária-TR'!D:D,MATCH(Composições!A2939,'Orçamentária-TR'!B:B,0),1))","v":"un"},null,"","",null,null,450]
[null,null,null,null,null,"","",null,null,450]
[null,null,"Vidraceiro com encargos complementares","h",0.1,19.835999999999999,1.9836,{"$f":"SUM(G2941:G2942)","v":5.4890999999999996},null,450]
[null,null,"PARAFUSO FRANCES M16 EM ACO GALVANIZADO, COMPRIMENTO = 45 MM, DIAMETRO = 16 MM, CABECA ABAULADA","un",1,3.5054999999999996,3.5054999999999996,null,null,450]
[null,null,null,null,null,"","",null,null,450]
["SF-00915",{"$f":"INDEX('Orçamentária-TR'!B:C,MATCH(Composições!A2944,'Orçamentária-TR'!B:B,0),2)","v":{"$error":"#N/A"}},null,{"$f":"TRIM(INDEX('Orçamentária-TR'!C:C,MATCH(Composições!A2944,'Orçamentária-TR'!A:A,0),1))","v":{"$error":"#N/A"}},null,"","",null,null,0]
[null,null,null,null,null,"","",null,null,0]
[null,null,"PEDREIRO COM ENCARGOS COMPLEMENTARES","H",4.7313999999999998,21.327499999999997,100.90893349999999,{"$f":"SUM(G2946:G2948)","v":2308.9337301},null,0]
[null,null,"SERVENTE COM ENCARGOS COMPLEMENTARES","H",3.3466,15.750999999999998,52.712296599999995,null,null,0]
[null,null,"GRAUTE CIMENTICIO PARA USO GERAL","KG",1875,1.1495,2155.3125,null,null,0]
[null,null,null,null,null,"","",null,null,0]
["SF-00916",{"$f":"INDEX('Orçamentária-TR'!B:C,MATCH(Composições!A2950,'Orçamentária-TR'!B:B,0),2)","v":{"$error":"#N/A"}},null,{"$f":"TRIM(INDEX('Orçamentária-TR'!C:C,MATCH(Composições!A2950,'Orçamentária-TR'!A:A,0),1))","v":{"$error":"#N/A"}},null,"","",null,null,0]
[null,null,null,null,null,"","",null,null,0]
[null,null,"ARAME RECOZIDO 16 BWG, D = 1,60 MM (0,016 KG/M) OU 18 BWG, D = 1,25 MM (0,01 KG/M)","KG",2.5000000000000001E-2,12.426,0.31065000000000004,{"$f":"SUM(G2952:G2956)","v":6.8298483000000019},null,0]
[null,null,"ESPACADOR / DISTANCIADOR CIRCULAR COM ENTRADA LATERAL, EM PLASTICO, PARA VERGALHAO *4,2 A 12,5* MM, COBRIMENTO 20 MM","UN",0.36699999999999999,0.1235,4.5324499999999997E-2,null,null,0]
[null,null,"AJUDANTE DE ARMADOR COM ENCARGOS COMPLEMENTARES","H",1.14E-2,16.463499999999996,0.18768389999999996,null,null,0]
[null,null,"ARMADOR COM ENCARGOS COMPLEMENTARES","H",6.9800000000000001E-2,21.222999999999999,1.4813654000000001,null,null,0]
[null,null,"CORTE E DOBRA DE AÇO CA-50, DIÂMETRO DE 12,5 MM, UTILIZADO EM ESTRUTURAS DIVERSAS, EXCETO LAJES. AF_12/2015","KG",1,4.8048245000000014,4.8048245000000014,null,null,0]
[null,null,null,null,null,"","",null,null,0]
["SF-00917",{"$f":"INDEX('Orçamentária-TR'!B:C,MATCH(Composições!A2958,'Orçamentária-TR'!B:B,0),2)","v":{"$error":"#N/A"}},null,{"$f":"TRIM(INDEX('Orçamentária-TR'!C:C,MATCH(Composições!A2958,'Orçamentária-TR'!A:A,0),1))","v":{"$error":"#N/A"}},null,"","",null,null,0]
[null,null,null,null,null,"","",null,null,0]
[null,null,"ARAME RECOZIDO 16 BWG, D = 1,60 MM (0,016 KG/M) OU 18 BWG, D = 1,25 MM (0,01 KG/M)","KG",2.5000000000000001E-2,12.426,0.31065000000000004,{"$f":"SUM(G2960:G2964)","v":6.6039829499999989},null,0]
[null,null,"ESPACADOR / DISTANCIADOR CIRCULAR COM ENTRADA LATERAL, EM PLASTICO, PARA VERGALHAO *4,2 A 12,5* MM, COBRIMENTO 20 MM","UN",0.113,0.1235,1.3955500000000001E-2,null,null,0]
[null,null,"AJUDANTE DE ARMADOR COM ENCARGOS COMPLEMENTARES","H",5.1000000000000004E-3,16.463499999999996,8.3963849999999993E-2,null,null,0]
[null,null,"ARMADOR COM ENCARGOS COMPLEMENTARES","H",3.1199999999999999E-2,21.222999999999999,0.6621575999999999,null,null,0]
[null,null,"CORTE E DOBRA DE AÇO CA-50, DIÂMETRO DE 20,0 MM, UTILIZADO EM ESTRUTURAS DIVERSAS, EXCETO LAJES. AF_12/2015","KG",1,5.5332559999999988,5.5332559999999988,null,null,0]
[null,null,null,null,null,"","",null,null,0]
["SF-00918",{"$f":"INDEX('Orçamentária-TR'!B:C,MATCH(Composições!A2966,'Orçamentária-TR'!B:B,0),2)","v":{"$error":"#N/A"}},null,{"$f":"TRIM(INDEX('Orçamentária-TR'!C:C,MATCH(Composições!A2966,'Orçamentária-TR'!A:A,0),1))","v":{"$error":"#N/A"}},null,"",{"$f":"IF(ISNUMBER(F2966),E2966*F2966,\"\")","v":""},null,null,0]
[null,null,null,null,null,"","",null,null,0]
[null,null,"Servente com Encargos Complementares","h",0.55000000000000004,15.750999999999998,8.6630500000000001,{"$f":"SUM(G2968:G2969)","v":19.572850000000003},null,0]
[null,null,"Vidraceiro com encargos complementares","h",0.55000000000000004,19.835999999999999,10.909800000000001,null,null,0]
[null,null,null,null,null,"","",null,null,0]
["SF-00919",{"$f":"INDEX('Orçamentária-TR'!B:C,MATCH(Composições!A2971,'Orçamentária-TR'!B:B,0),2)","v":{"$error":"#N/A"}},null,{"$f":"TRIM(INDEX('Orçamentária-TR'!C:C,MATCH(Composições!A2971,'Orçamentária-TR'!A:A,0),1))","v":{"$error":"#N/A"}},null,"","",null,null,0]
[null,null,null,null,null,"","",null,null,0]
[null,null,"Servente com Encargos Complementares","h",3.956,15.750999999999998,62.31095599999999,{"$f":"SUM(G2973:G2973)","v":62.31095599999999},null,0]
[null,null,null,null,null,"","",null,null,0]
["SF-00920",{"$f":"INDEX('Orçamentária-TR'!B:C,MATCH(Composições!A2975,'Orçamentária-TR'!B:B,0),2)","v":{"$error":"#N/A"}},null,{"$f":"TRIM(INDEX('Orçamentária-TR'!C:C,MATCH(Composições!A2975,'Orçamentária-TR'!A:A,0),1))","v":{"$error":"#N/A"}},null,"","",null,null,0]
[null,null,null,null,null,"","",null,null,0]
[null,null,"SERVENTE COM ENCARGOS COMPLEMENTARES","H",0.65,15.750999999999998,10.238149999999999,{"$f":"SUM(G2977:G2980)","v":22.192778999999998},null,0]
[null,null,"COMPACTADOR DE SOLOS DE PERCUSSÃO (SOQUETE) COM MOTOR A GASOLINA 4 TEMPOS, POTÊNCIA 4 CV - CHP DIURNO. AF_08/2015","CHP",0.27400000000000002,22.875999999999998,6.2680239999999996,null,null,0]
[null,null,"COMPACTADOR DE SOLOS DE PERCUSSÃO (SOQUETE) COM MOTOR A GASOLINA 4 TEMPOS, POTÊNCIA 4 CV - CHI DIURNO. AF_08/2015","CHI",0.254,17.755500000000001,4.5098970000000005,null,null,0]
[null,null,"UMIDIFICAÇÃO DE MATERIAL PARA VALAS COM CAMINHÃO PIPA 10000L. AF_11/2016","M3",1,1.1767079999999999,1.1767079999999999,null,null,0]
[null,null,null,null,null,"","",null,null,0]
["SF-00921",{"$f":"INDEX('Orçamentária-TR'!B:C,MATCH(Composições!A2982,'Orçamentária-TR'!B:B,0),2)","v":{"$error":"#N/A"}},null,{"$f":"TRIM(INDEX('Orçamentária-TR'!C:C,MATCH(Composições!A2982,'Orçamentária-TR'!A:A,0),1))","v":{"$error":"#N/A"}},null,"","",null,null,0]
[null,null,null,null,null,"","",null,null,0]
[null,null,"CAMINHÃO PIPA 10.000 L TRUCADO, PESO BRUTO TOTAL 23.000 KG, CARGA ÚTIL MÁXIMA 15.935 KG, DISTÂNCIA ENTRE EIXOS 4,8 M, POTÊNCIA 230 CV, INCLUSIVE TANQUE DE AÇO PARA TRANSPORTE DE ÁGUA - CHP DIURNO. AF_06/2014","CHP",6.0000000000000001E-3,155.50549999999998,0.93303299999999989,{"$f":"SUM(G2984:G2991)","v":61.429441500000003},null,0]
[null,null,"CAMINHÃO PIPA 10.000 L TRUCADO, PESO BRUTO TOTAL 23.000 KG, CARGA ÚTIL MÁXIMA 15.935 KG, DISTÂNCIA ENTRE EIXOS 4,8 M, POTÊNCIA 230 CV, INCLUSIVE TANQUE DE AÇO PARA TRANSPORTE DE ÁGUA - CHI DIURNO. AF_06/2014","CHI",3.0000000000000001E-3,33.971999999999994,0.10191599999999998,null,null,0]
[null,null,"ARGILA, ARGILA VERMELHA OU ARGILA ARENOSA (RETIRADA NA JAZIDA, SEM TRANSPORTE)","M3",1.25,8.8919999999999995,11.114999999999998,null,null,0]
[null,null,"SERVENTE COM ENCARGOS COMPLEMENTARES","H",0.65900000000000003,15.750999999999998,10.379909,null,null,0]
[null,null,"COMPACTADOR DE SOLOS DE PERCUSSÃO (SOQUETE) COM MOTOR A GASOLINA 4 TEMPOS, POTÊNCIA 4 CV - CHP DIURNO. AF_08/2015","CHP",0.27400000000000002,22.875999999999998,6.2680239999999996,null,null,0]
[null,null,"COMPACTADOR DE SOLOS DE PERCUSSÃO (SOQUETE) COM MOTOR A GASOLINA 4 TEMPOS, POTÊNCIA 4 CV - CHI DIURNO. AF_08/2015","CHI",0.254,17.755500000000001,4.5098970000000005,null,null,0]
[null,null,"CARGA, MANOBRAS E DESCARGA DE AREIA, BRITA, PEDRA DE MAO E SOLOS COM CAMINHAO BASCULANTE 6 M3 (DESCARGA LIVRE)","m3",{"$f":"E2986*1","v":1.25},0.7583660000000001,0.94795750000000012,null,null,0]
[null,null,"TRANSPORTE COM CAMINHÃO BASCULANTE DE 6 M3, EM VIA URBANA PAVIMENTADA, DMT ATÉ 30 KM (UNIDADE: M3xKM). AF_01/2018","M3xKM",{"$f":"E2986*20","v":25},1.0869482000000001,27.173705000000005,null,null,0]
[null,null,null,null,null,"","",null,null,0]
[null,null,"Obs.: Considerando fornecedor de argila a 20 km do Senado Federal.",null,null,"","",null,null,0]
[null,null,null,null,null,"","",null,null,0]
["SF-00922",{"$f":"INDEX('Orçamentária-TR'!B:C,MATCH(Composições!A2995,'Orçamentária-TR'!B:B,0),2)","v":{"$error":"#N/A"}},null,{"$f":"TRIM(INDEX('Orçamentária-TR'!C:C,MATCH(Composições!A2995,'Orçamentária-TR'!A:A,0),1))","v":{"$error":"#N/A"}},null,"","",null,null,0]
[null,null,null,null,null,"","",null,null,0]
[null,null,"TUBO DE COBRE CLASSE \"E\", DN = 22 MM, PARA INSTALACAO HIDRAULICA PREDIAL","M",1.0210999999999999,33.658499999999997,34.368694349999991,{"$f":"SUM(G2997:G2999)","v":39.732622349999986},null,0]
[null,null,"AUXILIAR DE ENCANADOR OU BOMBEIRO HIDRÁULICO COM ENCARGOS COMPLEMENTARES","H",0.14399999999999999,16.320999999999998,2.3502239999999994,null,null,0]
[null,null,"ENCANADOR OU BOMBEIRO HIDRÁULICO COM ENCARGOS COMPLEMENTARES","H",0.14399999999999999,20.9285,3.0137039999999997,null,null,0]
[null,null,null,null,null,"","",null,null,0]
["SF-00923",{"$f":"INDEX('Orçamentária-TR'!B:C,MATCH(Composições!A3001,'Orçamentária-TR'!B:B,0),2)","v":{"$error":"#N/A"}},null,{"$f":"TRIM(INDEX('Orçamentária-TR'!C:C,MATCH(Composições!A3001,'Orçamentária-TR'!A:A,0),1))","v":{"$error":"#N/A"}},null,"","",null,null,0]
[null,null,null,null,null,"","",null,null,0]
[null,null,"TUBO DE COBRE CLASSE \"E\", DN = 28 MM, PARA INSTALACAO HIDRAULICA PREDIAL","M",1.0210999999999999,42.721499999999999,43.622923649999997,{"$f":"SUM(G3003:G3005)","v":49.582843649999994},null,0]
[null,null,"AUXILIAR DE ENCANADOR OU BOMBEIRO HIDRÁULICO COM ENCARGOS COMPLEMENTARES","H",0.16,16.320999999999998,2.6113599999999999,null,null,0]
[null,null,"ENCANADOR OU BOMBEIRO HIDRÁULICO COM ENCARGOS COMPLEMENTARES","H",0.16,20.9285,3.34856,null,null,0]
[null,null,null,null,null,"","",null,null,0]
["SF-00924",{"$f":"INDEX('Orçamentária-TR'!B:C,MATCH(Composições!A3007,'Orçamentária-TR'!B:B,0),2)","v":{"$error":"#N/A"}},null,{"$f":"TRIM(INDEX('Orçamentária-TR'!C:C,MATCH(Composições!A3007,'Orçamentária-TR'!A:A,0),1))","v":{"$error":"#N/A"}},null,"","",null,null,0]
[null,null,null,null,null,"","",null,null,0]
[null,null,"TUBO DE COBRE CLASSE \"E\", DN = 42 MM, PARA INSTALACAO HIDRAULICA PREDIAL","M",1.0210999999999999,83.780499999999989,85.548268549999975,{"$f":"SUM(G3009:G3011)","v":88.379230549999974},null,0]
[null,null,"AUXILIAR DE ENCANADOR OU BOMBEIRO HIDRÁULICO COM ENCARGOS COMPLEMENTARES","H",7.5999999999999998E-2,16.320999999999998,1.2403959999999998,null,null,0]
[null,null,"ENCANADOR OU BOMBEIRO HIDRÁULICO COM ENCARGOS COMPLEMENTARES","H",7.5999999999999998E-2,20.9285,1.5905659999999999,null,null,0]
[null,null,null,null,null,"","",null,null,0]
["SF-00925",{"$f":"INDEX('Orçamentária-TR'!B:C,MATCH(Composições!A3013,'Orçamentária-TR'!B:B,0),2)","v":{"$error":"#N/A"}},null,{"$f":"TRIM(INDEX('Orçamentária-TR'!C:C,MATCH(Composições!A3013,'Orçamentária-TR'!A:A,0),1))","v":{"$error":"#N/A"}},null,"","",null,null,0]
[null,null,null,null,null,"","",null,null,0]
[null,null,"PARAFUSO NIQUELADO COM ACABAMENTO CROMADO PARA FIXAR PECA SANITARIA, INCLUI PORCA CEGA, ARRUELA E BUCHA DE NYLON TAMANHO S-10","UN",2,16.976500000000001,33.953000000000003,{"$f":"SUM(G3015:G3021)","v":591.33360849999997},null,0]
[null,null,"VEDACAO PVC, 100 MM, PARA SAIDA VASO SANITARIO","UN",1,1.9284999999999997,1.9284999999999997,null,null,0]
[null,null,"BACIA SANITARIA (VASO) CONVENCIONAL PARA PCD SEM FURO FRONTAL, DE LOUCA BRANCA, SEM ASSENTO","UN",1,525.12199999999996,525.12199999999996,null,null,0]
[null,null,"REJUNTE EPOXI BRANCO","KG",0.1469,48.164999999999999,7.0754384999999997,null,null,0]
[null,null,"ENCANADOR OU BOMBEIRO HIDRÁULICO COM ENCARGOS COMPLEMENTARES","H",0.78,20.9285,16.32423,null,null,0]
[null,null,"SERVENTE COM ENCARGOS COMPLEMENTARES","H",0.44,15.750999999999998,6.930439999999999,null,null,0]
[null,null,"Tubo de ligação para bacia sanitária em PVC, com acabamento cromado, ajustável ou não. Ref.: DECA 1968C ou equivalente","un",1,"","",null,null,0]
[null,null,null,null,null,"","",null,null,0]
["SF-00926",{"$f":"INDEX('Orçamentária-TR'!B:C,MATCH(Composições!A3023,'Orçamentária-TR'!B:B,0),2)","v":{"$error":"#N/A"}},null,{"$f":"TRIM(INDEX('Orçamentária-TR'!C:C,MATCH(Composições!A3023,'Orçamentária-TR'!A:A,0),1))","v":{"$error":"#N/A"}},null,"","",null,null,0]
[null,null,null,null,null,"","",null,null,0]
[null,null,"Assento poliéster, mod.: Vogue plus, cor branca, com fixação cromada. AP.51 ref: DECA ou equivalente","un ",1,"","",{"$f":"SUM(G3025:G3026)","v":1.5750999999999999},null,0]
[null,null,"Servente Com Encargos Complementares","h",0.1,15.750999999999998,1.5750999999999999,null,null,0]
[null,null,null,null,null,"","",null,null,0]
["SF-00927",{"$f":"INDEX('Orçamentária-TR'!B:C,MATCH(Composições!A3028,'Orçamentária-TR'!B:B,0),2)","v":{"$error":"#N/A"}},null,{"$f":"TRIM(INDEX('Orçamentária-TR'!C:C,MATCH(Composições!A3028,'Orçamentária-TR'!A:A,0),1))","v":{"$error":"#N/A"}},null,"","",null,null,0]
[null,null,null,null,null,"","",null,null,0]
[null,null,"Registro gaveta em liga de cobre, bitola 1 1/2\" mod:1502.B.112 ref: DECA ou equivalente","un ",1,"",{"$f":"IF(ISNUMBER(F3030),E3030*F3030,\"\")","v":""},{"$f":"SUM(G3030:G3033)","v":29.618729500000001},null,0]
[null,null,"FITA VEDA ROSCA EM ROLOS DE 18 MM X 50 M (L X C)","UN",1.9E-2,12.045999999999999,0.22887399999999999,null,null,0]
[null,null,"Encanador ou Bombeiro Hidráulico com Encargos Complementares","h",0.78900000000000003,20.9285,16.512586500000001,null,null,0]
[null,null,"AUXILIAR DE ENCANADOR OU BOMBEIRO HIDRÁULICO COM ENCARGOS COMPLEMENTARES","h",0.78900000000000003,16.320999999999998,12.877268999999998,null,null,0]
[null,null,null,null,null,"","",null,null,0]
["SF-00928",{"$f":"INDEX('Orçamentária-TR'!B:C,MATCH(Composições!A3035,'Orçamentária-TR'!B:B,0),2)","v":{"$error":"#N/A"}},null,{"$f":"TRIM(INDEX('Orçamentária-TR'!C:C,MATCH(Composições!A3035,'Orçamentária-TR'!A:A,0),1))","v":{"$error":"#N/A"}},null,"","",null,null,0]
[null,null,null,null,null,"","",null,null,0]
[null,null,"Cabo flexível isolado em EPR não halogenado 25 mm² 0,6 a 1 kV","m",1.0149999999999999,0,0,{"$f":"SUM(G3037:G3040)","v":2.4805164999999998},null,0]
[null,null,"Fita isolante adesiva antichama, uso ate 750 V, em rolo de 19 mm x 5 m","UN",8.9999999999999993E-3,3.2965,2.9668499999999997E-2,null,null,0]
[null,null,"Auxiliar de eletricista com encargos complementares","h",6.4000000000000001E-2,16.767499999999998,1.0731199999999999,null,null,0]
[null,null,"Eletricista com encargos complementares","h",6.4000000000000001E-2,21.526999999999997,1.3777279999999998,null,null,0]
[null,null,null,null,null,"","",null,null,0]
["SF-00929",{"$f":"INDEX('Orçamentária-TR'!B:C,MATCH(Composições!A3042,'Orçamentária-TR'!B:B,0),2)","v":{"$error":"#N/A"}},null,{"$f":"TRIM(INDEX('Orçamentária-TR'!C:C,MATCH(Composições!A3042,'Orçamentária-TR'!A:A,0),1))","v":{"$error":"#N/A"}},null,"","",null,null,0]
[null,null,null,null,null,"","",null,null,0]
[null,null,"Cabo flexível isolado em EPR não halogenado 35 mm² 0,6 a 1 kV","m",1.0149999999999999,0,0,{"$f":"SUM(G3044:G3047)","v":2.8251669999999995},null,0]
[null,null,"Fita isolante adesiva antichama, uso ate 750 V, em rolo de 19 mm x 5 m","UN",8.9999999999999993E-3,3.2965,2.9668499999999997E-2,null,null,0]
[null,null,"Auxiliar de eletricista com encargos complementares","h",7.2999999999999995E-2,16.767499999999998,1.2240274999999998,null,null,0]
[null,null,"Eletricista com encargos complementares","h",7.2999999999999995E-2,21.526999999999997,1.5714709999999996,null,null,0]
[null,null,null,null,null,"","",null,null,0]
["SF-00930",{"$f":"INDEX('Orçamentária-TR'!B:C,MATCH(Composições!A3049,'Orçamentária-TR'!B:B,0),2)","v":{"$error":"#N/A"}},null,{"$f":"TRIM(INDEX('Orçamentária-TR'!C:C,MATCH(Composições!A3049,'Orçamentária-TR'!A:A,0),1))","v":{"$error":"#N/A"}},null,"","",null,null,0]
[null,null,null,null,null,"","",null,null,0]
[null,null,"Cabo flexível isolado em EPR não halogenado 50 mm² 0,6 a 1 kV","m",1.0149999999999999,0,0,{"$f":"SUM(G3051:G3054)","v":3.3612899999999994},null,0]
[null,null,"Fita isolante adesiva antichama, uso ate 750 V, em rolo de 19 mm x 5 m","UN",8.9999999999999993E-3,3.2965,2.9668499999999997E-2,null,null,0]
[null,null,"Auxiliar de eletricista com encargos complementares","h",8.6999999999999994E-2,16.767499999999998,1.4587724999999998,null,null,0]
[null,null,"Eletricista com encargos complementares","h",8.6999999999999994E-2,21.526999999999997,1.8728489999999995,null,null,0]
[null,null,null,null,null,"","",null,null,0]
["SF-00931",{"$f":"INDEX('Orçamentária-TR'!B:C,MATCH(Composições!A3056,'Orçamentária-TR'!B:B,0),2)","v":{"$error":"#N/A"}},null,{"$f":"TRIM(INDEX('Orçamentária-TR'!C:C,MATCH(Composições!A3056,'Orçamentária-TR'!A:A,0),1))","v":{"$error":"#N/A"}},null,"","",null,null,0]
[null,null,null,null,null,"","",null,null,0]
[null,null,"Cabo flexível isolado em EPR não halogenado 70 mm² 0,6 a 1 kV","m",1.0149999999999999,0,0,{"$f":"SUM(G3058:G3061)","v":4.0505909999999989},null,0]
[null,null,"Fita isolante adesiva antichama, uso ate 750 V, em rolo de 19 mm x 5 m","UN",8.9999999999999993E-3,3.2965,2.9668499999999997E-2,null,null,0]
[null,null,"Auxiliar de eletricista com encargos complementares","h",0.105,16.767499999999998,1.7605874999999997,null,null,0]
[null,null,"Eletricista com encargos complementares","h",0.105,21.526999999999997,2.2603349999999995,null,null,0]
[null,null,null,null,null,"","",null,null,0]
["SF-00932",{"$f":"INDEX('Orçamentária-TR'!B:C,MATCH(Composições!A3063,'Orçamentária-TR'!B:B,0),2)","v":{"$error":"#N/A"}},null,{"$f":"TRIM(INDEX('Orçamentária-TR'!C:C,MATCH(Composições!A3063,'Orçamentária-TR'!A:A,0),1))","v":{"$error":"#N/A"}},null,"","",null,null,0]
[null,null,null,null,null,"","",null,null,0]
[null,null,"Cabo flexível isolado em EPR não halogenado 95 mm² 0,6 a 1 kV","m",1.0149999999999999,0,0,{"$f":"SUM(G3065:G3068)","v":4.931364499999999},null,0]
[null,null,"Fita isolante adesiva antichama, uso ate 750 V, em rolo de 19 mm x 5 m","UN",8.9999999999999993E-3,3.2965,2.9668499999999997E-2,null,null,0]
[null,null,"Auxiliar de eletricista com encargos complementares","h",0.128,16.767499999999998,2.1462399999999997,null,null,0]
[null,null,"Eletricista com encargos complementares","h",0.128,21.526999999999997,2.7554559999999997,null,null,0]
[null,null,null,null,null,"","",null,null,0]
["SF-00933",{"$f":"INDEX('Orçamentária-TR'!B:C,MATCH(Composições!A3070,'Orçamentária-TR'!B:B,0),2)","v":{"$error":"#N/A"}},null,{"$f":"TRIM(INDEX('Orçamentária-TR'!C:C,MATCH(Composições!A3070,'Orçamentária-TR'!A:A,0),1))","v":{"$error":"#N/A"}},null,"","",null,null,0]
[null,null,null,null,null,"","",null,null,0]
[null,null,"Cabo flexível isolado em EPR não halogenado 120 mm² 0,6 a 1 kV","m",1.0149999999999999,0,0,{"$f":"SUM(G3072:G3075)","v":5.8504324999999993},null,0]
[null,null,"Fita isolante adesiva antichama, uso ate 750 V, em rolo de 19 mm x 5 m","UN",8.9999999999999993E-3,3.2965,2.9668499999999997E-2,null,null,0]
[null,null,"Auxiliar de eletricista com encargos complementares","h",0.152,16.767499999999998,2.5486599999999995,null,null,0]
[null,null,"Eletricista com encargos complementares","h",0.152,21.526999999999997,3.2721039999999997,null,null,0]
[null,null,null,null,null,"","",null,null,0]
["SF-00934",{"$f":"INDEX('Orçamentária-TR'!B:C,MATCH(Composições!A3077,'Orçamentária-TR'!B:B,0),2)","v":{"$error":"#N/A"}},null,{"$f":"TRIM(INDEX('Orçamentária-TR'!C:C,MATCH(Composições!A3077,'Orçamentária-TR'!A:A,0),1))","v":{"$error":"#N/A"}},null,"","",null,null,0]
[null,null,null,null,null,"","",null,null,0]
[null,null,"Cabo flexível isolado em EPR não halogenado 150 mm² 0,6 a 1 kV","m",1.0149999999999999,0,0,{"$f":"SUM(G3079:G3082)","v":6.8843839999999989},null,0]
[null,null,"Fita isolante adesiva antichama, uso ate 750 V, em rolo de 19 mm x 5 m","UN",8.9999999999999993E-3,3.2965,2.9668499999999997E-2,null,null,0]
[null,null,"Auxiliar de eletricista com encargos complementares","h",0.17899999999999999,16.767499999999998,3.0013824999999996,null,null,0]
[null,null,"Eletricista com encargos complementares","h",0.17899999999999999,21.526999999999997,3.8533329999999992,null,null,0]
[null,null,null,null,null,"","",null,null,0]
["SF-00935",{"$f":"INDEX('Orçamentária-TR'!B:C,MATCH(Composições!A3084,'Orçamentária-TR'!B:B,0),2)","v":{"$error":"#N/A"}},null,{"$f":"TRIM(INDEX('Orçamentária-TR'!C:C,MATCH(Composições!A3084,'Orçamentária-TR'!A:A,0),1))","v":{"$error":"#N/A"}},null,"","",null,null,0]
[null,null,null,null,null,"","",null,null,0]
[null,null,"Cabo flexível isolado em EPR não halogenado 185 mm² 0,6 a 1 kV","m",1.0149999999999999,0,0,{"$f":"SUM(G3086:G3089)","v":8.1481025000000002},null,0]
[null,null,"Fita isolante adesiva antichama, uso ate 750 V, em rolo de 19 mm x 5 m","UN",8.9999999999999993E-3,3.2965,2.9668499999999997E-2,null,null,0]
[null,null,"Auxiliar de eletricista com encargos complementares","h",0.21199999999999999,16.767499999999998,3.5547099999999996,null,null,0]
[null,null,"Eletricista com encargos complementares","h",0.21199999999999999,21.526999999999997,4.5637239999999997,null,null,0]
[null,null,null,null,null,"","",null,null,0]
["SF-00936",{"$f":"INDEX('Orçamentária-TR'!B:C,MATCH(Composições!A3091,'Orçamentária-TR'!B:B,0),2)","v":{"$error":"#N/A"}},null,{"$f":"TRIM(INDEX('Orçamentária-TR'!C:C,MATCH(Composições!A3091,'Orçamentária-TR'!A:A,0),1))","v":{"$error":"#N/A"}},null,"","",null,null,0]
[null,null,null,null,null,"","",null,null,0]
[null,null,"Cabo flexível isolado em EPR não halogenado 240 mm² 0,6 a 1 kV","m",1.0149999999999999,0,0,{"$f":"SUM(G3093:G3096)","v":2.4805164999999998},null,0]
[null,null,"Fita isolante adesiva antichama, uso ate 750 V, em rolo de 19 mm x 5 m","UN",8.9999999999999993E-3,3.2965,{"$f":"IF(ISNUMBER(F3094),E3094*F3094,\"\")","v":2.9668499999999997E-2},null,null,0]
[null,null,"Auxiliar de eletricista com encargos complementares","h",6.4000000000000001E-2,16.767499999999998,1.0731199999999999,null,null,0]
[null,null,"Eletricista com encargos complementares","h",6.4000000000000001E-2,21.526999999999997,1.3777279999999998,null,null,0]
[null,null,null,null,null,"","",null,null,0]
["SF-00937",{"$f":"INDEX('Orçamentária-TR'!B:C,MATCH(Composições!A3098,'Orçamentária-TR'!B:B,0),2)","v":"Montagem e desmontagem de andaime fachadeiro"},null,{"$f":"TRIM(INDEX('Orçamentária-TR'!D:D,MATCH(Composições!A3098,'Orçamentária-TR'!B:B,0),1))","v":"m2"},null,"","",null,null,3400]
[null,null,null,null,null,"","",null,null,3400]
[null,null,"MONTADOR DE ESTRUTURA METÁLICA COM ENCARGOS COMPLEMENTARES","H",0.29509999999999997,16.311500000000002,4.8135236500000005,{"$f":"SUM(G3100:G3102)","v":7.3550127091400004},null,3400]
[null,null,"SERVENTE COM ENCARGOS COMPLEMENTARES","H",5.8999999999999997E-2,15.750999999999998,0.92930899999999983,null,null,3400]
[null,null,"TRANSPORTE HORIZONTAL MANUAL, DE TUBO DE AÇO CARBONO LEVE OU MÉDIO, PRETO OU GALVANIZADO, COM DIÂMETRO MAIOR QUE 32 MM E MENOR OU IGUAL A 65 MM (UNIDADE: MXKM). AF_07/2019","MXKM",0.1673,9.6364617999999975,1.6121800591399997,null,null,3400]
[null,null,null,null,null,"","",null,null,3400]
["SF-00938",{"$f":"INDEX('Orçamentária-TR'!B:C,MATCH(Composições!A3104,'Orçamentária-TR'!B:B,0),2)","v":"Montagem e desmontagem de andaime tubular"},null,{"$f":"TRIM(INDEX('Orçamentária-TR'!D:D,MATCH(Composições!A3104,'Orçamentária-TR'!B:B,0),1))","v":"m"},null,"","",null,null,120]
[null,null,null,null,null,"","",null,null,120]
[null,null,"MONTADOR DE ESTRUTURA METÁLICA COM ENCARGOS COMPLEMENTARES","H",0.5,16.311500000000002,8.1557500000000012,{"$f":"SUM(G3106:G3108)","v":13.604707643599999},null,120]
[null,null,"SERVENTE COM ENCARGOS COMPLEMENTARES","H",0.1,15.750999999999998,1.5750999999999999,null,null,120]
[null,null,"TRANSPORTE HORIZONTAL MANUAL, DE TUBO DE AÇO CARBONO LEVE OU MÉDIO, PRETO OU GALVANIZADO, COM DIÂMETRO MAIOR QUE 32 MM E MENOR OU IGUAL A 65 MM (UNIDADE: MXKM). AF_07/2019","MXKM",0.40200000000000002,9.6364617999999975,3.8738576435999992,null,null,120]
[null,null,null,null,null,"","",null,null,120]
["SF-00940",{"$f":"INDEX('Orçamentária-TR'!B:C,MATCH(Composições!A3110,'Orçamentária-TR'!B:B,0),2)","v":{"$error":"#N/A"}},null,{"$f":"TRIM(INDEX('Orçamentária-TR'!C:C,MATCH(Composições!A3110,'Orçamentária-TR'!A:A,0),1))","v":{"$error":"#N/A"}},null,"","",null,null,0]
[null,null,null,null,null,"","",null,null,0]
[null,null,"ABRACADEIRA DE NYLON PARA AMARRACAO DE CABOS, COMPRIMENTO DE 200 X *4,6* MM","UN",0.89449999999999996,0.18049999999999999,0.16145725,{"$f":"SUM(G3112:G3115)","v":3.7108843},null,0]
[null,null,"TELA FACHADEIRA EM POLIETILENO, ROLO DE 3 X 100 M (L X C), COR BRANCA, SEM LOGOMARCA - PARA PROTECAO DE OBRAS","M2",{"$f":"ROUND(1.177*(1/3),4)","v":0.39229999999999998},1.9,0.74536999999999998,null,null,0]
[null,null,"AJUDANTE DE CARPINTEIRO COM ENCARGOS COMPLEMENTARES","H",6.9900000000000004E-2,17.869499999999999,1.2490780500000001,null,null,0]
[null,null,"CARPINTEIRO DE FORMAS COM ENCARGOS COMPLEMENTARES","H",7.3400000000000007E-2,21.184999999999999,1.5549790000000001,null,null,0]
[null,null,null,null,null,"","",null,null,0]
[null,null,"Obs.: Considerou-se aproveitamento de 3x para a tela, já que trata-se de locação.",null,null,"","",null,null,0]
[null,null,null,null,null,"","",null,null,0]
["SF-00942",{"$f":"INDEX('Orçamentária-TR'!B:C,MATCH(Composições!A3119,'Orçamentária-TR'!B:B,0),2)","v":{"$error":"#N/A"}},null,{"$f":"TRIM(INDEX('Orçamentária-TR'!C:C,MATCH(Composições!A3119,'Orçamentária-TR'!A:A,0),1))","v":{"$error":"#N/A"}},null,"","",null,null,0]
[null,null,null,null,null,"","",null,null,0]
[null,null,"Serralheiro com encargos complementares","h",2.5,21.222999999999999,53.057499999999997,{"$f":"SUM(G3121:G3122)","v":139.3175},null,0]
[null,null,"Auxiliar de serralheiro com encargos complementares","h",5,17.251999999999999,86.259999999999991,null,null,0]
[null,null,null,null,null,"","",null,null,0]
["SF-00943",{"$f":"INDEX('Orçamentária-TR'!B:C,MATCH(Composições!A3124,'Orçamentária-TR'!B:B,0),2)","v":{"$error":"#N/A"}},null,{"$f":"TRIM(INDEX('Orçamentária-TR'!C:C,MATCH(Composições!A3124,'Orçamentária-TR'!A:A,0),1))","v":{"$error":"#N/A"}},null,"","",null,null,0]
[null,null,null,null,null,"","",null,null,0]
[null,null,"Registro de gaveta em liga de cobre, bitola 1\" mod: 4509.302 ref: DECA ou equivalente","un ",1,"","",{"$f":"SUM(G3126:G3129)","v":28.964174749999994},null,0]
[null,null,"FITA VEDA ROSCA EM ROLOS DE 18 MM X 50 M (L X C)","UN",9.4999999999999998E-3,12.045999999999999,0.114437,null,null,0]
[null,null,"Encanador ou Bombeiro Hidráulico com Encargos Complementares","h",0.77449999999999997,20.9285,16.209123249999998,null,null,0]
[null,null,"Auxiliar de encanador ou bombeiro hidráulico com encargos complementares","h",0.77449999999999997,16.320999999999998,12.640614499999998,null,null,0]
[null,null,null,null,null,"","",null,null,0]
["SF-00944",{"$f":"INDEX('Orçamentária-TR'!B:C,MATCH(Composições!A3131,'Orçamentária-TR'!B:B,0),2)","v":{"$error":"#N/A"}},null,{"$f":"TRIM(INDEX('Orçamentária-TR'!C:C,MATCH(Composições!A3131,'Orçamentária-TR'!A:A,0),1))","v":{"$error":"#N/A"}},null,"","",null,null,0]
[null,null,null,null,null,"","",null,null,0]
[null,null,"FITA VEDA ROSCA EM ROLOS DE 18 MM X 50 M (L X C)","UN",1.2999999999999999E-2,12.045999999999999,0.15659799999999999,{"$f":"SUM(G3133:G3136)","v":7.6064979999999993},null,0]
[null,null,"Registro de pressão em liga de cobre, bitola 3/4\" mod: 4416.202 ref: DECA ou equivalente","un ",1,"","",null,null,0]
[null,null,"Auxiliar de encanador ou bombeiro hidráulico com encargos complementares","h",0.2,16.320999999999998,3.2641999999999998,null,null,0]
[null,null,"Encanador ou Bombeiro Hidráulico com Encargos Complementares","h",0.2,20.9285,4.1856999999999998,null,null,0]
[null,null,null,null,null,"","",null,null,0]
["SF-00946",{"$f":"INDEX('Orçamentária-TR'!B:C,MATCH(Composições!A3138,'Orçamentária-TR'!B:B,0),2)","v":{"$error":"#N/A"}},null,{"$f":"TRIM(INDEX('Orçamentária-TR'!C:C,MATCH(Composições!A3138,'Orçamentária-TR'!A:A,0),1))","v":{"$error":"#N/A"}},null,"","",null,null,0]
[null,null,null,null,null,"","",null,null,0]
[null,null,"TAMPAO FOFO ARTICULADO P/ REGISTRO, CLASSE A15 CARGA MAXIMA 1,5 T, *400 X 400* MM","UN",1,152.17099999999999,152.17099999999999,{"$f":"SUM(G3140:G3143)","v":217.64365954620001},null,0]
[null,null,"ARGAMASSA TRAÇO 1:4 (EM VOLUME DE CIMENTO E AREIA GROSSA ÚMIDA) PARA CHAPISCO CONVENCIONAL, PREPARO MECÂNICO COM BETONEIRA 400 L. AF_08/2019","M3",7.0000000000000001E-3,348.45850659999996,2.4392095461999999,null,null,0]
[null,null,"Pedreiro com Encargos Complementares","h",1.7,21.327499999999997,36.256749999999997,null,null,0]
[null,null,"Servente com Encargos Complementares","h",1.7,15.750999999999998,26.776699999999995,null,null,0]
[null,null,null,null,null,"","",null,null,0]
["SF-00947",{"$f":"INDEX('Orçamentária-TR'!B:C,MATCH(Composições!A3145,'Orçamentária-TR'!B:B,0),2)","v":{"$error":"#N/A"}},null,{"$f":"TRIM(INDEX('Orçamentária-TR'!C:C,MATCH(Composições!A3145,'Orçamentária-TR'!A:A,0),1))","v":{"$error":"#N/A"}},null,"","",null,null,0]
[null,null,null,null,null,"","",null,null,0]
[null,null,"Arquiteto de obra pleno com encargos complementares","h",1,86.383499999999998,86.383499999999998,{"$f":"SUM(G3147:G3147)","v":86.383499999999998},null,0]
[null,null,null,null,null,"","",null,null,0]
["SF-00948",{"$f":"INDEX('Orçamentária-TR'!B:C,MATCH(Composições!A3149,'Orçamentária-TR'!B:B,0),2)","v":"Locação de andaime suspenso tipo leve"},null,{"$f":"TRIM(INDEX('Orçamentária-TR'!D:D,MATCH(Composições!A3149,'Orçamentária-TR'!B:B,0),1))","v":"un x mês"},null,"","",null,null,3]
[null,null,null,null,null,"","",null,null,3]
[null,null,"LOCACAO DE ANDAIME SUSPENSO OU BALANCIM MANUAL, CAPACIDADE DE CARGA TOTAL DE APROXIMADAMENTE 250 KG/M2, PLATAFORMA DE 1,50 M X 0,80 M (C X L), CABO DE 45 M","MES",1,522.5,522.5,{"$f":"SUM(G3151:G3151)","v":522.5},null,3]
[null,null,null,null,null,"","",null,null,3]
["SF-00950",{"$f":"INDEX('Orçamentária-TR'!B:C,MATCH(Composições!A3153,'Orçamentária-TR'!B:B,0),2)","v":{"$error":"#N/A"}},null,{"$f":"TRIM(INDEX('Orçamentária-TR'!C:C,MATCH(Composições!A3153,'Orçamentária-TR'!A:A,0),1))","v":{"$error":"#N/A"}},null,"","",null,null,0]
[null,null,null,null,null,"","",null,null,0]
[null,null,"Servente com Encargos Complementares","h",8.8999999999999996E-2,15.750999999999998,1.4018389999999998,{"$f":"SUM(G3155:G3156)","v":1.4159464999999998},null,0]
[null,null,"LAVADORA DE ALTA PRESSAO (LAVA-JATO) PARA AGUA FRIA, PRESSAO DE OPERACAO ENTRE 1400 E 1900 LIB/POL2, VAZAO MAXIMA ENTRE 400 E 700 L/H - CHP DIURNO. AF_04/2019","chp",1.4999999999999999E-2,0.9405,1.41075E-2,null,null,0]
[null,null,null,null,null,"","",null,null,0]
["SF-00951",{"$f":"INDEX('Orçamentária-TR'!B:C,MATCH(Composições!A3158,'Orçamentária-TR'!B:B,0),2)","v":{"$error":"#N/A"}},null,{"$f":"TRIM(INDEX('Orçamentária-TR'!C:C,MATCH(Composições!A3158,'Orçamentária-TR'!A:A,0),1))","v":{"$error":"#N/A"}},null,"",{"$f":"IF(ISNUMBER(F3158),E3158*F3158,\"\")","v":""},null,null,0]
[null,null,null,null,null,"","",null,null,0]
[null,null,"Marmorista/graniteiro com encargos complementares","h",0.25,17.793499999999998,4.4483749999999995,{"$f":"SUM(G3160:G3161)","v":4.4483749999999995},null,0]
[null,null,null,null,null,"","",null,null,0]
["SF-00952",{"$f":"INDEX('Orçamentária-TR'!B:C,MATCH(Composições!A3162,'Orçamentária-TR'!B:B,0),2)","v":{"$error":"#N/A"}},null,{"$f":"TRIM(INDEX('Orçamentária-TR'!C:C,MATCH(Composições!A3162,'Orçamentária-TR'!A:A,0),1))","v":{"$error":"#N/A"}},null,"","",null,null,0]
[null,null,null,null,null,"","",null,null,0]
[null,null,"Pedreiro com Encargos Complementares","H",3.7400000000000003E-2,21.327499999999997,0.79764849999999998,{"$f":"SUM(G3164:G3165)","v":2.4562287999999999},null,0]
[null,null,"Servente com Encargos Complementares","H",0.1053,15.750999999999998,1.6585802999999999,null,null,0]
[null,null,null,null,null,"","",null,null,0]
["SF-00953",{"$f":"INDEX('Orçamentária-TR'!B:C,MATCH(Composições!A3167,'Orçamentária-TR'!B:B,0),2)","v":"Impermeabilização com emulsão asfáltica"},null,{"$f":"TRIM(INDEX('Orçamentária-TR'!D:D,MATCH(Composições!A3167,'Orçamentária-TR'!B:B,0),1))","v":"m2"},null,"","",null,null,2874]
[null,null,null,null,null,"","",null,null,2874]
[null,null,"MANTA LIQUIDA DE BASE ASFALTICA MODIFICADA COM A ADICAO DE ELASTOMEROS DILUIDOS EM SOLVENTE ORGANICO, APLICACAO A FRIO (MEMBRANA IMPERMEABILIZANTE ASFASTICA)","KG",1.5,14.097999999999999,21.146999999999998,{"$f":"SUM(G3169:G3172)","v":38.641589999999994},null,2874]
[null,null,"Ajudante Especializado Com Encargos Complementares","H",8.5000000000000006E-2,18.715,1.5907750000000001,null,null,2874]
[null,null,"VEU POLIESTER","M2",1.351,5.1100000000000003,6.9036100000000005]
[null,null,"IMPERMEABILIZADOR COM ENCARGOS COMPLEMENTARES","H",0.42199999999999999,21.327499999999997,9.0002049999999976,null,null,2874]
[null,null,null,null,null,"","",null,null,2874]
["SF-00954",{"$f":"INDEX('Orçamentária-TR'!B:C,MATCH(Composições!A3174,'Orçamentária-TR'!B:B,0),2)","v":"Camada de proteção mecânica simples de impermeabilização"},null,{"$f":"TRIM(INDEX('Orçamentária-TR'!D:D,MATCH(Composições!A3174,'Orçamentária-TR'!B:B,0),1))","v":"m2"},null,"","",null,null,6855]
[null,null,null,null,null,"","",null,null,6855]
[null,null,"CAMADA SEPARADORA DE FILME DE POLIETILENO 20 A 25 MICRA","M2",1.04,1.5105,1.5709200000000001,{"$f":"SUM(G3176:G3179)","v":36.914791487500004},null,6855]
[null,null,"ARGAMASSA TRAÇO 1:3 (EM VOLUME DE CIMENTO E AREIA MÉDIA ÚMIDA) PARA CONTRAPISO, PREPARO MANUAL. AF_08/2019","M3",3.5000000000000003E-2,548.4047425,19.194165987500003,null,null,6855]
[null,null,"Pedreiro com Encargos Complementares","H",0.65900000000000003,21.327499999999997,14.054822499999998,null,null,6855]
[null,null,"Servente com Encargos Complementares","H",0.13300000000000001,15.750999999999998,2.0948829999999998,null,null,6855]
[null,null,null,null,null,"","",null,null,6855]
["SF-00955",{"$f":"INDEX('Orçamentária-TR'!B:C,MATCH(Composições!A3181,'Orçamentária-TR'!B:B,0),2)","v":{"$error":"#N/A"}},null,{"$f":"TRIM(INDEX('Orçamentária-TR'!C:C,MATCH(Composições!A3181,'Orçamentária-TR'!A:A,0),1))","v":{"$error":"#N/A"}},null,"","",null,null,0]
[null,null,null,null,null,"","",null,null,0]
[null,null,"TELA DE ARAME GALVANIZADA, HEXAGONAL, FIO 0,56 MM (24 BWG), MALHA 1/2\", H = 1 M","M2",1.05,7.6284999999999989,8.0099249999999991,{"$f":"SUM(G3183:G3186)","v":44.5136989875},null,0]
[null,null,"ARGAMASSA TRAÇO 1:3 (EM VOLUME DE CIMENTO E AREIA MÉDIA ÚMIDA) PARA CONTRAPISO, PREPARO MANUAL. AF_08/2019","M3",3.5000000000000003E-2,548.4047425,19.194165987500003,null,null,0]
[null,null,"Pedreiro com Encargos Complementares","H",0.70599999999999996,21.327499999999997,15.057214999999998,null,null,0]
[null,null,"Servente com Encargos Complementares","H",0.14299999999999999,15.750999999999998,2.2523929999999996,null,null,0]
[null,null,null,null,null,"","",null,null,0]
["SF-00956",{"$f":"INDEX('Orçamentária-TR'!B:C,MATCH(Composições!A3188,'Orçamentária-TR'!B:B,0),2)","v":{"$error":"#N/A"}},null,{"$f":"TRIM(INDEX('Orçamentária-TR'!C:C,MATCH(Composições!A3188,'Orçamentária-TR'!A:A,0),1))","v":{"$error":"#N/A"}},null,"","",null,null,0]
[null,null,null,null,null,"","",null,null,0]
[null,null,"Marmorista/graniteiro com encargos complementares","h",0.4,17.793499999999998,7.1173999999999999,{"$f":"SUM(G3190:G3191)","v":13.4178},null,0]
[null,null,"Servente com Encargos Complementares","h",0.4,15.750999999999998,6.3003999999999998,null,null,0]
[null,null,null,null,null,"","",null,null,0]
["SF-00957",{"$f":"INDEX('Orçamentária-TR'!B:C,MATCH(Composições!A3193,'Orçamentária-TR'!B:B,0),2)","v":{"$error":"#N/A"}},null,{"$f":"TRIM(INDEX('Orçamentária-TR'!C:C,MATCH(Composições!A3193,'Orçamentária-TR'!A:A,0),1))","v":{"$error":"#N/A"}},null,"","",null,null,0]
[null,null,null,null,null,"","",null,null,0]
[null,null,"Marmorista/graniteiro com encargos complementares","h",1.2,17.793499999999998,21.352199999999996,{"$f":"SUM(G3195:G3196)","v":40.253399999999992},null,0]
[null,null,"Servente com Encargos Complementares","h",1.2,15.750999999999998,18.901199999999996,null,null,0]
[null,null,null,null,null,"","",null,null,0]
["SF-00958",{"$f":"INDEX('Orçamentária-TR'!B:C,MATCH(Composições!A3198,'Orçamentária-TR'!B:B,0),2)","v":{"$error":"#N/A"}},null,{"$f":"TRIM(INDEX('Orçamentária-TR'!C:C,MATCH(Composições!A3198,'Orçamentária-TR'!A:A,0),1))","v":{"$error":"#N/A"}},null,"","",null,null,0]
[null,null,null,null,null,"","",null,null,0]
[null,null,"Papel kraft betumado","m2",1.05,3.9994999999999998,4.1994749999999996,{"$f":"SUM(G3200:G3201)","v":7.3496749999999995},null,0]
[null,null,"Servente com Encargos Complementares","h",0.2,15.750999999999998,3.1501999999999999,null,null,0]
[null,null,null,null,null,"","",null,null,0]
["SF-00959",{"$f":"INDEX('Orçamentária-TR'!B:C,MATCH(Composições!A3203,'Orçamentária-TR'!B:B,0),2)","v":{"$error":"#N/A"}},null,{"$f":"TRIM(INDEX('Orçamentária-TR'!C:C,MATCH(Composições!A3203,'Orçamentária-TR'!A:A,0),1))","v":{"$error":"#N/A"}},null,"","",null,null,0]
[null,null,null,null,null,"","",null,null,0]
[null,null,"Servente com Encargos Complementares","h",0.3,15.750999999999998,4.7252999999999989,{"$f":"SUM(G3205)","v":4.7252999999999989},null,0]
[null,null,null,null,null,"","",null,null,0]
["SF-00960",{"$f":"INDEX('Orçamentária-TR'!B:C,MATCH(Composições!A3207,'Orçamentária-TR'!B:B,0),2)","v":{"$error":"#N/A"}},null,{"$f":"TRIM(INDEX('Orçamentária-TR'!C:C,MATCH(Composições!A3207,'Orçamentária-TR'!A:A,0),1))","v":{"$error":"#N/A"}},null,"","",null,null,0]
[null,null,null,null,null,"","",null,null,0]
[null,null,"Servente com Encargos Complementares","h",0.1,15.750999999999998,1.5750999999999999,{"$f":"SUM(G3209)","v":1.5750999999999999},null,0]
[null,null,null,null,null,"","",null,null,0]
["SF-00961",{"$f":"INDEX('Orçamentária-TR'!B:C,MATCH(Composições!A3211,'Orçamentária-TR'!B:B,0),2)","v":{"$error":"#N/A"}},null,{"$f":"TRIM(INDEX('Orçamentária-TR'!C:C,MATCH(Composições!A3211,'Orçamentária-TR'!A:A,0),1))","v":{"$error":"#N/A"}},null,"","",null,null,0]
[null,null,null,null,null,"","",null,null,0]
[null,null,"Pedreiro com Encargos Complementares","h",{"$f":"0.1+0.1","v":0.2},21.327499999999997,4.2654999999999994,{"$f":"SUM(G3213:G3217)","v":7.5561788065999993},null,0]
[null,null,"Servente com Encargos Complementares","h",{"$f":"0.1+0.1","v":0.2},15.750999999999998,3.1501999999999999,null,null,0]
[null,null,"Broca com ponta de widia Ø 3/8\" x 160 mm","un ",{"$f":"0.016*2","v":3.2000000000000001E-2},0,0,null,null,0]
[null,null,"Furadeira de impacto elétrica - 0,65 kW, Ø mandril 5/8\"","h prod",{"$f":"0.1*2","v":0.2},0,0,null,null,0]
[null,null,"GRAUTE FGK=25 MPA; TRAÇO 1:0,02:1,2:1,5 (CIMENTO/ CAL/ AREIA GROSSA/ BRITA 0) - PREPARO MECÂNICO COM BETONEIRA 400 L. AF_02/2015","m3",{"$f":"ROUND(0.15*0.05*0.05,4)","v":4.0000000000000002E-4},351.19701649999996,0.14047880659999998,null,null,0]
[null,null,null,null,null,"","",null,null,0]
[null,null,"Fontes: PINI 05.102.000020.SER",null,null,"","",null,null,0]
[null,null,null,null,null,"","",null,null,0]
["SF-00962",{"$f":"INDEX('Orçamentária-TR'!B:C,MATCH(Composições!A3221,'Orçamentária-TR'!B:B,0),2)","v":{"$error":"#N/A"}},null,{"$f":"TRIM(INDEX('Orçamentária-TR'!C:C,MATCH(Composições!A3221,'Orçamentária-TR'!A:A,0),1))","v":{"$error":"#N/A"}},null,"","",null,null,0]
[null,null,null,null,null,"","",null,null,0]
[null,null,"Pedreiro com Encargos Complementares","h",{"$f":"0.1+0.1","v":0.2},21.327499999999997,{"$f":"IF(ISNUMBER(F3223),E3223*F3223,\"\")","v":4.2654999999999994},{"$f":"SUM(G3223:G3228)","v":7.5561788065999993},null,0]
[null,null,"Servente com Encargos Complementares","h",{"$f":"0.1+0.1","v":0.2},15.750999999999998,3.1501999999999999,null,null,0]
[null,null,"Broca com ponta de widia Ø 3/8\" x 160 mm","un ",{"$f":"0.016*2","v":3.2000000000000001E-2},0,0,null,null,0]
[null,null,"Furadeira de impacto elétrica - 0,65 kW, Ø mandril 5/8\"","h prod",{"$f":"0.1*2","v":0.2},0,0,null,null,0]
[null,null,"Insert metálico tipo 2, conforme projeto","un ",1,"","",null,null,0]
[null,null,"GRAUTE FGK=25 MPA; TRAÇO 1:0,02:1,2:1,5 (CIMENTO/ CAL/ AREIA GROSSA/ BRITA 0) - PREPARO MECÂNICO COM BETONEIRA 400 L. AF_02/2015","m3",{"$f":"ROUND(0.15*0.05*0.05,4)","v":4.0000000000000002E-4},351.19701649999996,0.14047880659999998,null,null,0]
[null,null,null,null,null,"","",null,null,0]
[null,null,"Fontes: PINI 05.102.000020.SER",null,null,"","",null,null,0]
[null,null,null,null,null,"","",null,null,0]
["SF-00964",{"$f":"INDEX('Orçamentária-TR'!B:C,MATCH(Composições!A3232,'Orçamentária-TR'!B:B,0),2)","v":{"$error":"#N/A"}},null,{"$f":"TRIM(INDEX('Orçamentária-TR'!C:C,MATCH(Composições!A3232,'Orçamentária-TR'!A:A,0),1))","v":{"$error":"#N/A"}},null,"","",null,null,0]
[null,null,null,null,null,"","",null,null,0]
[null,null,"Mármore branco especial 20mm","m2",1.05,"","",{"$f":"SUM(G3234:G3238)","v":38.858324999999994},null,0]
[null,null,"Marmorista/graniteiro com encargos complementares","h",1.35,17.793499999999998,24.021224999999998,null,null,0]
[null,null,"Servente com Encargos Complementares","h",0.6,15.750999999999998,9.4505999999999979,null,null,0]
[null,null,"Argamassa colante tipo ACIII","kg",4.5,1.1969999999999998,5.386499999999999,null,null,0]
[null,null,"Rejunte branco, cimenticio","kg",0.3,"","",null,null,0]
[null,null,null,null,null,"","",null,null,0]
["SF-00965",{"$f":"INDEX('Orçamentária-TR'!B:C,MATCH(Composições!A3240,'Orçamentária-TR'!B:B,0),2)","v":{"$error":"#N/A"}},null,{"$f":"TRIM(INDEX('Orçamentária-TR'!C:C,MATCH(Composições!A3240,'Orçamentária-TR'!A:A,0),1))","v":{"$error":"#N/A"}},null,"","",null,null,0]
[null,null,null,null,null,"","",null,null,0]
[null,null,"Mármore branco especial 20mm","m2",1.05,"","",{"$f":"SUM(G3242:G3252)","v":55.398269701649987},null,0]
[null,null,"Marmorista/graniteiro com encargos complementares","h",{"$f":"1.35","v":1.35},17.793499999999998,24.021224999999998,null,null,0]
[null,null,"Pedreiro com Encargos Complementares","h",0.1,21.327499999999997,2.1327499999999997,null,null,0]
[null,null,"Servente com Encargos Complementares","h",{"$f":"0.6+0.1+0.1","v":0.79999999999999993},15.750999999999998,12.600799999999998,null,null,0]
[null,null,"Argamassa colante tipo ACIII","kg",4.5,1.1969999999999998,5.386499999999999,null,null,0]
[null,null,"Rejunte branco, cimenticio","kg",0.3,"","",null,null,0]
[null,null,"PARAFUSO DE ACO TIPO CHUMBADOR PARABOLT, DIAMETRO 3/8\", COMPRIMENTO 75 MM","UN",{"$f":"2/(0.4*0.8)","v":6.2499999999999991},1.7954999999999999,11.221874999999997,null,null,0]
[null,null,"Broca com ponta de widia Ø 3/8\" x 160 mm","un ",{"$f":"(2/(0.4*0.8))*(0.016)*1.5","v":0.15},0,0,null,null,0]
[null,null,"Furadeira de impacto elétrica - 0,65 kW, Ø mandril 5/8\"","h prod",{"$f":"(2/(0.4*0.8))*0.1*1.5","v":0.9375},0,0,null,null,0]
[null,null,"Insert metálico tipo 1, conforme projeto","un ",{"$f":"2/(0.4*0.8)","v":6.2499999999999991},"","",null,null,0]
[null,null,"GRAUTE FGK=25 MPA; TRAÇO 1:0,02:1,2:1,5 (CIMENTO/ CAL/ AREIA GROSSA/ BRITA 0) - PREPARO MECÂNICO COM BETONEIRA 400 L. AF_02/2015","m3",1E-4,351.19701649999996,3.5119701649999994E-2,null,null,0]
[null,null,null,null,null,"","",null,null,0]
[null,null,"Fontes: ORSE 03735, PINI 05.102.000020.SER e 05.108.000450.SER",null,null,"","",null,null,0]
[null,null,"Observações: Considerando uma placa de 0,40 m x 0,80 m, que, conforme projeto, necessita de 2 inserts.",null,null,"","",null,null,0]
[null,null,null,null,null,"","",null,null,0]
["SF-00966",{"$f":"INDEX('Orçamentária-TR'!B:C,MATCH(Composições!A3257,'Orçamentária-TR'!B:B,0),2)","v":{"$error":"#N/A"}},null,{"$f":"TRIM(INDEX('Orçamentária-TR'!C:C,MATCH(Composições!A3257,'Orçamentária-TR'!A:A,0),1))","v":{"$error":"#N/A"}},null,"","",null,null,0]
[null,null,null,null,null,"","",null,null,0]
[null,null,"Mármore branco especial 30mm","m2",1.05,"","",{"$f":"SUM(G3259:G3263)","v":38.858324999999994},null,0]
[null,null,"Marmorista/graniteiro com encargos complementares","h",1.35,17.793499999999998,24.021224999999998,null,null,0]
[null,null,"Servente com Encargos Complementares","h",0.6,15.750999999999998,9.4505999999999979,null,null,0]
[null,null,"Argamassa colante tipo ACIII","kg",4.5,1.1969999999999998,5.386499999999999,null,null,0]
[null,null,"Rejunte branco, cimenticio","kg",0.3,"","",null,null,0]
[null,null,null,null,null,"","",null,null,0]
["SF-00967",{"$f":"INDEX('Orçamentária-TR'!B:C,MATCH(Composições!A3265,'Orçamentária-TR'!B:B,0),2)","v":{"$error":"#N/A"}},null,{"$f":"TRIM(INDEX('Orçamentária-TR'!C:C,MATCH(Composições!A3265,'Orçamentária-TR'!A:A,0),1))","v":{"$error":"#N/A"}},null,"","",null,null,0]
[null,null,null,null,null,"","",null,null,0]
[null,null,"Mármore branco especial 30mm","m2",1.05,"","",{"$f":"SUM(G3267:G3277)","v":55.398269701649987},null,0]
[null,null,"Marmorista/graniteiro com encargos complementares","h",{"$f":"1.35","v":1.35},17.793499999999998,24.021224999999998,null,null,0]
[null,null,"Pedreiro com Encargos Complementares","h",0.1,21.327499999999997,2.1327499999999997,null,null,0]
[null,null,"Servente com Encargos Complementares","h",{"$f":"0.6+0.1+0.1","v":0.79999999999999993},15.750999999999998,12.600799999999998,null,null,0]
[null,null,"Argamassa colante tipo ACIII","kg",4.5,1.1969999999999998,5.386499999999999,null,null,0]
[null,null,"Rejunte branco, cimenticio","kg",0.3,"","",null,null,0]
[null,null,"PARAFUSO DE ACO TIPO CHUMBADOR PARABOLT, DIAMETRO 3/8\", COMPRIMENTO 75 MM","UN",{"$f":"2/(0.4*0.8)","v":6.2499999999999991},1.7954999999999999,11.221874999999997,null,null,0]
[null,null,"Broca com ponta de widia Ø 3/8\" x 160 mm","un ",{"$f":"(2/(0.4*0.8))*(0.016)*1.5","v":0.15},0,0,null,null,0]
[null,null,"Furadeira de impacto elétrica - 0,65 kW, Ø mandril 5/8\"","h prod",{"$f":"(2/(0.4*0.8))*0.1*1.5","v":0.9375},0,0,null,null,0]
[null,null,"Insert metálico tipo 1, conforme projeto","un ",{"$f":"2/(0.4*0.8)","v":6.2499999999999991},"","",null,null,0]
[null,null,"GRAUTE FGK=25 MPA; TRAÇO 1:0,02:1,2:1,5 (CIMENTO/ CAL/ AREIA GROSSA/ BRITA 0) - PREPARO MECÂNICO COM BETONEIRA 400 L. AF_02/2015","m3",1E-4,351.19701649999996,3.5119701649999994E-2,null,null,0]
[null,null,null,null,null,"","",null,null,0]
[null,null,"Fontes: ORSE 03735, PINI 05.102.000020.SER e 05.108.000450.SER",null,null,"","",null,null,0]
[null,null,"Observações: Considerando uma placa de 0,40 m x 0,80 m, que, conforme projeto, necessita de 2 inserts.",null,null,"","",null,null,0]
[null,null,null,null,null,"","",null,null,0]
["SF-00968",{"$f":"INDEX('Orçamentária-TR'!B:C,MATCH(Composições!A3282,'Orçamentária-TR'!B:B,0),2)","v":{"$error":"#N/A"}},null,{"$f":"TRIM(INDEX('Orçamentária-TR'!C:C,MATCH(Composições!A3282,'Orçamentária-TR'!A:A,0),1))","v":{"$error":"#N/A"}},null,"","",null,null,0]
[null,null,null,null,null,"","",null,null,0]
[null,null,"Mármore branco especial 30mm","m2",1.05,"","",{"$f":"SUM(G3284:G3289)","v":6.0585947016499997},null,0]
[null,null,"Marmorista/graniteiro com encargos complementares","h",0.25,17.793499999999998,4.4483749999999995,null,null,0]
[null,null,"Servente com Encargos Complementares","h",0.1,15.750999999999998,1.5750999999999999,null,null,0]
[null,null,"Broca com ponta de widia Ø 3/8\" x 160 mm","un ",{"$f":"(2/(0.4*0.8))*0.016/2","v":4.9999999999999996E-2},0,{"$f":"IF(ISNUMBER(F3287),E3287*F3287,\"\")","v":0},null,null,0]
[null,null,"Furadeira de impacto elétrica - 0,65 kW, Ø mandril 5/8\"","h prod",{"$f":"(2/(0.4*0.8))*0.1/2","v":0.3125},0,0,null,null,0]
[null,null,"GRAUTE FGK=25 MPA; TRAÇO 1:0,02:1,2:1,5 (CIMENTO/ CAL/ AREIA GROSSA/ BRITA 0) - PREPARO MECÂNICO COM BETONEIRA 400 L. AF_02/2015","m3",1E-4,351.19701649999996,3.5119701649999994E-2,null,null,0]
[null,null,null,null,null,"","",null,null,0]
[null,null,"Fontes: PINI 05.102.000020.SER e 05.108.000450.SER",null,null,"","",null,null,0]
[null,null,"Observações: Considerando uma placa de 0,40 m x 0,80 m, que, conforme projeto, necessita de 2 inserts.",null,null,"","",null,null,0]
[null,null,null,null,null,"","",null,null,0]
["SF-00970",{"$f":"INDEX('Orçamentária-TR'!B:C,MATCH(Composições!A3294,'Orçamentária-TR'!B:B,0),2)","v":{"$error":"#N/A"}},null,{"$f":"TRIM(INDEX('Orçamentária-TR'!C:C,MATCH(Composições!A3294,'Orçamentária-TR'!A:A,0),1))","v":{"$error":"#N/A"}},null,"","",null,null,0]
[null,null,null,null,null,"","",null,null,0]
[null,null,"Marmorista/graniteiro com encargos complementares","h",1.35,17.793499999999998,24.021224999999998,{"$f":"SUM(G3296:G3299)","v":38.858324999999994},null,0]
[null,null,"Servente com Encargos Complementares","h",0.6,15.750999999999998,9.4505999999999979,null,null,0]
[null,null,"Argamassa colante tipo ACIII","kg",4.5,1.1969999999999998,5.386499999999999,null,null,0]
[null,null,"Rejunte branco, cimenticio","kg",0.3,"","",null,null,0]
[null,null,null,null,null,"","",null,null,0]
["SF-00971",{"$f":"INDEX('Orçamentária-TR'!B:C,MATCH(Composições!A3301,'Orçamentária-TR'!B:B,0),2)","v":{"$error":"#N/A"}},null,{"$f":"TRIM(INDEX('Orçamentária-TR'!C:C,MATCH(Composições!A3301,'Orçamentária-TR'!A:A,0),1))","v":{"$error":"#N/A"}},null,"","",null,null,0]
[null,null,null,null,null,"","",null,null,0]
[null,null,"Marmorista/graniteiro com encargos complementares","h",{"$f":"1.35","v":1.35},17.793499999999998,24.021224999999998,{"$f":"SUM(G3303:G3312)","v":55.398269701649987},null,0]
[null,null,"Pedreiro com Encargos Complementares","h",0.1,21.327499999999997,2.1327499999999997,null,null,0]
[null,null,"Servente com Encargos Complementares","h",{"$f":"0.6+0.1+0.1","v":0.79999999999999993},15.750999999999998,12.600799999999998,null,null,0]
[null,null,"Argamassa colante tipo ACIII","kg",4.5,1.1969999999999998,5.386499999999999,null,null,0]
[null,null,"Rejunte branco, cimenticio","kg",0.3,"","",null,null,0]
[null,null,"PARAFUSO DE ACO TIPO CHUMBADOR PARABOLT, DIAMETRO 3/8\", COMPRIMENTO 75 MM","UN",{"$f":"2/(0.4*0.8)","v":6.2499999999999991},1.7954999999999999,11.221874999999997,null,null,0]
[null,null,"Broca com ponta de widia Ø 3/8\" x 160 mm","un ",{"$f":"(2/(0.4*0.8))*(0.016)*1.5","v":0.15},0,0,null,null,0]
[null,null,"Furadeira de impacto elétrica - 0,65 kW, Ø mandril 5/8\"","h prod",{"$f":"(2/(0.4*0.8))*0.1*1.5","v":0.9375},0,0,null,null,0]
[null,null,"Insert metálico tipo 1, conforme projeto","un ",{"$f":"2/(0.4*0.8)","v":6.2499999999999991},"","",null,null,0]
[null,null,"GRAUTE FGK=25 MPA; TRAÇO 1:0,02:1,2:1,5 (CIMENTO/ CAL/ AREIA GROSSA/ BRITA 0) - PREPARO MECÂNICO COM BETONEIRA 400 L. AF_02/2015","m3",1E-4,351.19701649999996,3.5119701649999994E-2,null,null,0]
[null,null,null,null,null,"","",null,null,0]
[null,null,"Fontes: ORSE 03735, PINI 05.102.000020.SER e 05.108.000450.SER",null,null,"","",null,null,0]
[null,null,"Observações: Considerando uma placa de 0,40 m x 0,80 m, que, conforme projeto, necessita de 2 inserts.",null,null,"","",null,null,0]
[null,null,null,null,null,"","",null,null,0]
["SF-00972",{"$f":"INDEX('Orçamentária-TR'!B:C,MATCH(Composições!A3317,'Orçamentária-TR'!B:B,0),2)","v":{"$error":"#N/A"}},null,{"$f":"TRIM(INDEX('Orçamentária-TR'!C:C,MATCH(Composições!A3317,'Orçamentária-TR'!A:A,0),1))","v":{"$error":"#N/A"}},null,"","",null,null,0]
[null,null,null,null,null,"","",null,null,0]
[null,null,"Pintor com encargos complementares","h",0.4,22.372499999999999,8.9489999999999998,{"$f":"SUM(G3319:G3321)","v":10.747350000000001},null,0]
[null,null,"Ajudante de pintor com Encargos Complementares","h",0.1,17.983499999999999,1.7983500000000001,null,null,0]
[null,null,"Hidrofugante à base de silano e silicone","L",0.33,0,0,null,null,0]
[null,null,null,null,null,"","",null,null,0]
["SF-00973",{"$f":"INDEX('Orçamentária-TR'!B:C,MATCH(Composições!A3323,'Orçamentária-TR'!B:B,0),2)","v":{"$error":"#N/A"}},null,{"$f":"TRIM(INDEX('Orçamentária-TR'!C:C,MATCH(Composições!A3323,'Orçamentária-TR'!A:A,0),1))","v":{"$error":"#N/A"}},null,"","",null,null,0]
[null,null,null,null,null,"","",null,null,0]
[null,null,"Marmorista/graniteiro com encargos complementares","h",0.6,17.793499999999998,10.676099999999998,{"$f":"SUM(G3325:G3327)","v":16.976499999999998},null,0]
[null,null,"Servente com Encargos Complementares","h",0.4,15.750999999999998,6.3003999999999998,null,null,0]
[null,null,"Cantoneira em alumínio abas iguais 1\" x 1/8\" com pintura eletrostática branca","m",1,"","",null,null,0]
[null,null,null,null,null,"","",null,null,0]
["SF-00974",{"$f":"INDEX('Orçamentária-TR'!B:C,MATCH(Composições!A3329,'Orçamentária-TR'!B:B,0),2)","v":{"$error":"#N/A"}},null,{"$f":"TRIM(INDEX('Orçamentária-TR'!C:C,MATCH(Composições!A3329,'Orçamentária-TR'!A:A,0),1))","v":{"$error":"#N/A"}},null,"","",null,null,0]
[null,null,null,null,null,"","",null,null,0]
[null,null,"Granito Amarelo Capri para rodapé","m2",1.05,"","",{"$f":"SUM(G3331:G3335)","v":89.876022999999989},null,0]
[null,null,"Argamassa colante tipo ACIII","kg",{"$f":"0.8614/0.1","v":8.6140000000000008},1.1969999999999998,10.310957999999999,null,null,0]
[null,null,"Marmorista/graniteiro com encargos complementares","h",{"$f":"0.299/0.1","v":2.9899999999999998},17.793499999999998,53.202564999999993,null,null,0]
[null,null,"Servente com Encargos Complementares","h",{"$f":"0.15/0.1","v":1.4999999999999998},15.750999999999998,23.626499999999993,null,null,0]
[null,null,"Rejunte colorido, cimenticio","kg",{"$f":"0.12/0.1","v":1.2},2.2799999999999998,2.7359999999999998,null,null,0]
[null,null,null,null,null,"","",null,null,0]
["SF-00975",{"$f":"INDEX('Orçamentária-TR'!B:C,MATCH(Composições!A3337,'Orçamentária-TR'!B:B,0),2)","v":{"$error":"#N/A"}},null,{"$f":"TRIM(INDEX('Orçamentária-TR'!C:C,MATCH(Composições!A3337,'Orçamentária-TR'!A:A,0),1))","v":{"$error":"#N/A"}},null,"","",null,null,0]
[null,null,null,null,null,"","",null,null,0]
[null,null,"Servente com Encargos Complementares","h",0.05,15.750999999999998,0.78754999999999997,{"$f":"SUM(G3339:G3342)","v":0.78754999999999997},null,0]
[null,null,"Lixadeira angular manual elétrica Ø 7\" 2200 W 6600 rpm","loc/un/dia",{"$f":"0.25/10","v":2.5000000000000001E-2},0,0,null,null,0]
[null,null,"Ponta montada A2 haste 1/4\"","un",0.25,"","",null,null,0]
[null,null,"Rejunte branco, cimenticio","kg",0.05,"","",null,null,0]
[null,null,null,null,null,"","",null,null,0]
["SF-00976",{"$f":"INDEX('Orçamentária-TR'!B:C,MATCH(Composições!A3344,'Orçamentária-TR'!B:B,0),2)","v":{"$error":"#N/A"}},null,{"$f":"TRIM(INDEX('Orçamentária-TR'!C:C,MATCH(Composições!A3344,'Orçamentária-TR'!A:A,0),1))","v":{"$error":"#N/A"}},null,"","",null,null,0]
[null,null,null,null,null,"","",null,null,0]
[null,null,"Servente com Encargos Complementares","h",0.25,15.750999999999998,3.9377499999999994,{"$f":"SUM(G3346:G3347)","v":3.9377499999999994},null,0]
[null,null,"Rejunte branco, cimenticio","kg",0.52900000000000003,"","",null,null,0]
[null,null,null,null,null,"","",null,null,0]
["SF-00977",{"$f":"INDEX('Orçamentária-TR'!B:C,MATCH(Composições!A3349,'Orçamentária-TR'!B:B,0),2)","v":"Junta de movimentação em fachada"},null,{"$f":"TRIM(INDEX('Orçamentária-TR'!D:D,MATCH(Composições!A3349,'Orçamentária-TR'!B:B,0),1))","v":"m"},null,"","",null,null,2000]
[null,null,null,null,null,"","",null,null,2000]
[null,null,"Pedreiro com Encargos Complementares","h",0.33,21.327499999999997,{"$f":"IF(ISNUMBER(F3351),E3351*F3351,\"\")","v":7.0380749999999992},{"$f":"SUM(G3351:G3355)","v":24.340738499999997},null,2000]
[null,null,"Servente com Encargos Complementares","h",0.1,15.750999999999998,1.5750999999999999,null,null,2000]
[null,null,"Primer de secagem rápida e alto poder de aderência ao concreto","L",0.15,26.048999999999999,3.9073499999999997,null,null,2000]
[null,null,"Corpo de apoio em polietileno para aplicação de mástiques em juntas","m",1,0.46549999999999997,0.46549999999999997,null,null,2000]
[null,null,"SELANTE ELASTICO MONOCOMPONENTE A BASE DE POLIURETANO (PU) PARA JUNTAS DIVERSAS","310ml",{"$f":"ROUND(0.15/0.31,4)","v":0.4839},23.465,11.354713499999999,null,null,2000]
[null,null,null,null,null,"","",null,null,2000]
["SF-00978",{"$f":"INDEX('Orçamentária-TR'!B:C,MATCH(Composições!A3357,'Orçamentária-TR'!B:B,0),2)","v":{"$error":"#N/A"}},null,{"$f":"TRIM(INDEX('Orçamentária-TR'!C:C,MATCH(Composições!A3357,'Orçamentária-TR'!A:A,0),1))","v":{"$error":"#N/A"}},null,"","",null,null,0]
[null,null,null,null,null,"","",null,null,0]
[null,null,"Pedreiro com Encargos Complementares","h",0.16500000000000001,21.327499999999997,3.5190374999999996,{"$f":"SUM(G3359:G3361)","v":12.912675499999999},null,0]
[null,null,"Servente com Encargos Complementares","h",0.1,15.750999999999998,1.5750999999999999,null,null,0]
[null,null,"SELANTE ELASTICO MONOCOMPONENTE A BASE DE POLIURETANO (PU) PARA JUNTAS DIVERSAS","310ml",{"$f":"ROUND(0.1033/0.31,4)","v":0.3332},23.465,7.8185380000000002,null,null,0]
[null,null,null,null,null,"","",null,null,0]
["SF-00980",{"$f":"INDEX('Orçamentária-TR'!B:C,MATCH(Composições!A3363,'Orçamentária-TR'!B:B,0),2)","v":{"$error":"#N/A"}},null,{"$f":"TRIM(INDEX('Orçamentária-TR'!C:C,MATCH(Composições!A3363,'Orçamentária-TR'!A:A,0),1))","v":{"$error":"#N/A"}},null,"","",null,null,0]
[null,null,null,null,null,"","",null,null,0]
[null,null,"CHUVEIRO COMUM EM PLASTICO BRANCO, COM CANO, 3 TEMPERATURAS, 5500 W (110/220 V)","UN",1,54.311500000000002,54.311500000000002,{"$f":"SUM(G3365:G3368)","v":65.945054650000003},null,0]
[null,null,"FITA VEDA ROSCA EM ROLOS DE 18 MM X 10 M (L X C)","UN",2.1000000000000001E-2,3.2679999999999998,6.8627999999999995E-2,null,null,0]
[null,null,"ENCANADOR OU BOMBEIRO HIDRÁULICO COM ENCARGOS COMPLEMENTARES","H",0.44669999999999999,20.9285,9.3487609499999991,null,null,0]
[null,null,"SERVENTE COM ENCARGOS COMPLEMENTARES","H",0.14069999999999999,15.750999999999998,2.2161656999999995,null,null,0]
[null,null,null,null,null,"","",null,null,0]
["SF-00981",{"$f":"INDEX('Orçamentária-TR'!B:C,MATCH(Composições!A3370,'Orçamentária-TR'!B:B,0),2)","v":"Base para pavimentação com concreto magro"},null,{"$f":"TRIM(INDEX('Orçamentária-TR'!D:D,MATCH(Composições!A3370,'Orçamentária-TR'!B:B,0),1))","v":"m3"},null,"","",null,null,30]
[null,null,null,null,null,"","",null,null,30]
[null,null,"Pedreiro com Encargos Complementares","H",2,21.327499999999997,42.654999999999994,{"$f":"SUM(G3372:G3374)","v":423.73030461999997},null,30]
[null,null,"Servente com Encargos Complementares","H",6,15.750999999999998,94.505999999999986,null,null,30]
[null,null,"CONCRETO MAGRO PARA LASTRO, TRAÇO 1:4,5:4,5 (CIMENTO/ AREIA MÉDIA/ BRITA 1)  - PREPARO MECÂNICO COM BETONEIRA 600 L. AF_07/2016","M3",1,286.56930461999997,286.56930461999997,null,null,30]
[null,null,null,null,null,"","",null,null,30]
["SF-00982",{"$f":"INDEX('Orçamentária-TR'!B:C,MATCH(Composições!A3376,'Orçamentária-TR'!B:B,0),2)","v":"Pavimentação em concreto armado simples"},null,{"$f":"TRIM(INDEX('Orçamentária-TR'!D:D,MATCH(Composições!A3376,'Orçamentária-TR'!B:B,0),1))","v":"m2"},null,"","",null,null,735]
[null,null,null,null,null,"","",null,null,735]
[null,null,"TELA DE ACO SOLDADA NERVURADA, CA-60, Q-196, (3,11 KG/M2), DIAMETRO DO FIO = 5,0 MM, LARGURA = 2,45 M, ESPACAMENTO DA MALHA = 10 X 10 CM","M2",1.05,19.0855,20.039774999999999,{"$f":"SUM(G3378:G3383)","v":81.535191811199994},null,735]
[null,null,"ARMADOR COM ENCARGOS COMPLEMENTARES","H",0.02,21.222999999999999,0.42446,null,null,735]
[null,null,"Pedreiro com Encargos Complementares","H",0.26,21.327499999999997,5.5451499999999996,null,null,735]
[null,null,"Servente com Encargos Complementares","H",1.94,15.750999999999998,30.556939999999994,null,null,735]
[null,null,"CONCRETO FCK = 20MPA, TRAÇO 1:2,7:3 (CIMENTO/ AREIA MÉDIA/ BRITA 1)  - PREPARO MECÂNICO COM BETONEIRA 600 L. AF_07/2016","M3",7.0000000000000007E-2,320.39439016,22.427607311200003,null,null,735]
[null,null,"SELANTE ELASTICO MONOCOMPONENTE A BASE DE POLIURETANO (PU) PARA JUNTAS DIVERSAS","310ML",0.10829999999999999,23.465,2.5412594999999998,null,null,735]
[null,null,null,null,null,"","",null,null,735]
["SF-00983",{"$f":"INDEX('Orçamentária-TR'!B:C,MATCH(Composições!A3385,'Orçamentária-TR'!B:B,0),2)","v":{"$error":"#N/A"}},null,{"$f":"TRIM(INDEX('Orçamentária-TR'!C:C,MATCH(Composições!A3385,'Orçamentária-TR'!A:A,0),1))","v":{"$error":"#N/A"}},null,"","",null,null,0]
[null,null,null,null,null,"","",null,null,0]
[null,null,"Encanador ou Bombeiro Hidráulico com Encargos Complementares","h",4,20.9285,83.713999999999999,{"$f":"SUM(G3387:G3388)","v":146.71799999999999},null,0]
[null,null,"Servente com Encargos Complementares","h",4,15.750999999999998,63.003999999999991,null,null,0]
[null,null,null,null,null,"","",null,null,0]
["SF-00984",{"$f":"INDEX('Orçamentária-TR'!B:C,MATCH(Composições!A3390,'Orçamentária-TR'!B:B,0),2)","v":{"$error":"#N/A"}},null,{"$f":"TRIM(INDEX('Orçamentária-TR'!C:C,MATCH(Composições!A3390,'Orçamentária-TR'!A:A,0),1))","v":{"$error":"#N/A"}},null,"","",null,null,0]
[null,null,null,null,null,"","",null,null,0]
[null,null,"CAMINHÃO BASCULANTE 6 M3 TOCO, PESO BRUTO TOTAL 16.000 KG, CARGA ÚTIL MÁXIMA 11.130 KG, DISTÂNCIA ENTRE EIXOS 5,36 M, POTÊNCIA 185 CV, INCLUSIVE CAÇAMBA METÁLICA - CHP DIURNO. AF_06/2014","CHP",1.04E-2,96.463000000000008,1.0032152000000001,{"$f":"SUM(G3392:G3393)","v":1.0869482000000001},null,0]
[null,null,"CAMINHÃO BASCULANTE 6 M3 TOCO, PESO BRUTO TOTAL 16.000 KG, CARGA ÚTIL MÁXIMA 11.130 KG, DISTÂNCIA ENTRE EIXOS 5,36 M, POTÊNCIA 185 CV, INCLUSIVE CAÇAMBA METÁLICA - CHI DIURNO. AF_06/2014","CHI",2.5999999999999999E-3,32.204999999999998,8.3732999999999988E-2,null,null,0]
[null,null,null,null,null,"","",null,null,0]
["SF-00986",{"$f":"INDEX('Orçamentária-TR'!B:C,MATCH(Composições!A3395,'Orçamentária-TR'!B:B,0),2)","v":{"$error":"#N/A"}},null,{"$f":"TRIM(INDEX('Orçamentária-TR'!C:C,MATCH(Composições!A3395,'Orçamentária-TR'!A:A,0),1))","v":{"$error":"#N/A"}},null,"","",null,null,0]
[null,null,null,null,null,"","",null,null,0]
[null,null,"OXIGENIO, RECARGA PARA CILINDRO DE CONJUNTO OXICORTE GRANDE","m3",2.1999999999999999E-2,10.1745,0.22383899999999998,{"$f":"SUM(G3397:G3401)","v":2.9431664999999998},null,0]
[null,null,"ACETILENO (RECARGA PARA CILINDRO DE CONJUNTO OXICORTE GRANDE)","kg",5.0000000000000001E-3,46.445499999999996,0.23222749999999998,null,null,0]
[null,null,"APARELHO PARA CORTE E SOLDA OXI-ACETILENO SOBRE RODAS, INCLUSIVE CILINDROS E MAÇARICOS - CHP DIURNO. AF_12/2015","CHP",{"$f":"E3400","v":4.3999999999999997E-2},18.847999999999999,0.82931199999999994,null,null,0]
[null,null,"Soldador com encargos complementares","h",4.3999999999999997E-2,21.925999999999998,0.96474399999999982,null,null,0]
[null,null,"Servente com Encargos Complementares","h",4.3999999999999997E-2,15.750999999999998,0.69304399999999988,null,null,0]
[null,null,null,null,null,"","",null,null,0]
["SF-00987",{"$f":"INDEX('Orçamentária-TR'!B:C,MATCH(Composições!A3403,'Orçamentária-TR'!B:B,0),2)","v":{"$error":"#N/A"}},null,{"$f":"TRIM(INDEX('Orçamentária-TR'!C:C,MATCH(Composições!A3403,'Orçamentária-TR'!A:A,0),1))","v":{"$error":"#N/A"}},null,"","",null,null,0]
[null,null,null,null,null,"","",null,null,0]
[null,null,"Servente com Encargos Complementares","h",4.3,15.750999999999998,67.729299999999981,{"$f":"SUM(G3405:G3405)","v":67.729299999999981},null,0]
[null,null,null,null,null,"","",null,null,0]
["SF-00988",{"$f":"INDEX('Orçamentária-TR'!B:C,MATCH(Composições!A3407,'Orçamentária-TR'!B:B,0),2)","v":{"$error":"#N/A"}},null,{"$f":"TRIM(INDEX('Orçamentária-TR'!C:C,MATCH(Composições!A3407,'Orçamentária-TR'!A:A,0),1))","v":{"$error":"#N/A"}},null,"","",null,null,0]
[null,null,null,null,null,"","",null,null,0]
[null,null,"TRATOR DE ESTEIRAS, POTÊNCIA 100 HP, PESO OPERACIONAL 9,4 T, COM LÂMINA 2,19 M3 - CHP DIURNO. AF_06/2014","CHP",1.7600000000000001E-2,102.8565,1.8102744,{"$f":"SUM(G3409:G3409)","v":1.8102744},null,0]
[null,null,null,null,null,"","",null,null,0]
["SF-00989",{"$f":"INDEX('Orçamentária-TR'!B:C,MATCH(Composições!A3411,'Orçamentária-TR'!B:B,0),2)","v":{"$error":"#N/A"}},null,{"$f":"TRIM(INDEX('Orçamentária-TR'!C:C,MATCH(Composições!A3411,'Orçamentária-TR'!A:A,0),1))","v":{"$error":"#N/A"}},null,"","",null,null,0]
[null,null,null,null,null,"","",null,null,0]
[null,null,"GRAMA BATATAIS EM PLACAS, SEM PLANTIO","m2",1,4.7404999999999999,4.7404999999999999,{"$f":"SUM(G3413:G3423)","v":37.832807454080005},null,0]
[null,null,"Servente com Encargos Complementares","h",0.15640000000000001,15.750999999999998,2.4634563999999997,null,null,0]
[null,null,"JARDINEIRO COM ENCARGOS COMPLEMENTARES","h",3.9100000000000003E-2,20.6435,{"$f":"IF(ISNUMBER(F3415),E3415*F3415,\"\")","v":0.80716085000000004},null,null,0]
[null,null,"Servente com Encargos Complementares","h",{"$f":"1.6*0.25","v":0.4},15.750999999999998,6.3003999999999998,null,null,0]
[null,null,"CALCARIO DOLOMITICO A (POSTO PEDREIRA/FORNECEDOR, SEM FRETE)","kg",{"$f":"1*0.25","v":0.25},8.5499999999999993E-2,2.1374999999999998E-2,null,null,0]
[null,null,"TERRA VEGETAL (GRANEL)","m3",{"$f":"0.9*0.25","v":0.22500000000000001},101.783,22.901175000000002,null,null,0]
[null,null,"FERTILIZANTE NPK - 10:10:10","kg",{"$f":"1*0.25","v":0.25},2.2989999999999999,0.57474999999999998,null,null,0]
[null,null,"FERTILIZANTE ORGANICO COMPOSTO, CLASSE A","kg",{"$f":"0.1*0.25","v":2.5000000000000001E-2},0.8075,2.0187500000000001E-2,null,null,0]
[null,null,"CARGA, MANOBRAS E DESCARGA DE AREIA, BRITA, PEDRA DE MAO E SOLOS COM CAMINHAO BASCULANTE 6 M3 (DESCARGA LIVRE)","t",{"$f":"ROUND(1*E3417/1000,4)","v":2.9999999999999997E-4},0.50918859999999999,1.5275657999999997E-4,null,null,0]
[null,null,"TRANSPORTE COM CAMINHÃO BASCULANTE DE 6 M3, EM VIA URBANA PAVIMENTADA, DMT ATÉ 30 KM (UNIDADE: TxKM). AF_01/2018","TxKM",{"$f":"20*E3417*1/1000","v":5.0000000000000001E-3},0.72998949999999996,3.6499474999999999E-3,null,null,0]
[null,null,null,null,null,"","",null,null,0]
[null,null,"Obs.: Considerando fornecedor de calcário a 20km do Senado Federal.",null,null,"","",null,null,0]
[null,null,null,null,null,"","",null,null,0]
["SF-00990",{"$f":"INDEX('Orçamentária-TR'!B:C,MATCH(Composições!A3426,'Orçamentária-TR'!B:B,0),2)","v":"Pintura de meios-fios com tinta acrílica"},null,{"$f":"TRIM(INDEX('Orçamentária-TR'!D:D,MATCH(Composições!A3426,'Orçamentária-TR'!B:B,0),1))","v":"m"},null,"","",null,null,13890]
[null,null,null,null,null,"","",null,null,13890]
[null,null,"TINTA ACRILICA PREMIUM PARA PISO","L",{"$f":"ROUND(0.17/2*(0.25+0.13+0.25),4)","v":5.3600000000000002E-2},12.995999999999999,0.69658559999999992,{"$f":"SUM(G3428:G3430)","v":4.403544975},null,13890]
[null,null,"PINTOR COM ENCARGOS COMPLEMENTARES","H",{"$f":"0.35*(0.25+0.13+0.25)/2","v":0.11024999999999999},22.372499999999999,2.4665681249999998,null,null,13890]
[null,null,"Servente com Encargos Complementares","H",{"$f":"0.25*(0.25+0.13+0.25)/2","v":7.8750000000000001E-2},15.750999999999998,1.2403912499999998,null,null,13890]
[null,null,null,null,null,"","",null,null,13890]
[null,null,"Obs: considerando uma demão, meio-fio de 30 cm x 15 cm x 13 cm (altura, base inferior, base superior), enterrado 5 cm.",null,null,"","",null,null,13890]
[null,null,null,null,null,"","",null,null,13890]
["SF-00991",{"$f":"INDEX('Orçamentária-TR'!B:C,MATCH(Composições!A3434,'Orçamentária-TR'!B:B,0),2)","v":"Meios-fios em concreto pré-moldado"},null,{"$f":"TRIM(INDEX('Orçamentária-TR'!D:D,MATCH(Composições!A3434,'Orçamentária-TR'!B:B,0),1))","v":"m"},null,"","",null,null,270]
[null,null,null,null,null,"","",null,null,270]
[null,null,"AREIA MEDIA - POSTO JAZIDA/FORNECEDOR (RETIRADO NA JAZIDA, SEM TRANSPORTE)","m3",7.0000000000000001E-3,93.8125,0.65668749999999998,{"$f":"SUM(G3436:G3444)","v":34.9358238262},null,270]
[null,null,"MEIO-FIO OU GUIA DE CONCRETO, PRE-MOLDADO, COMP 1 M, *30 X 15/ 12* CM (H X L1/L2)","m",1.0049999999999999,18.524999999999999,18.617624999999997,null,null,270]
[null,null,"Pedreiro com Encargos Complementares","h",0.39400000000000002,21.327499999999997,8.4030349999999991,null,null,270]
[null,null,"Servente com Encargos Complementares","h",0.39400000000000002,15.750999999999998,6.2058939999999989,null,null,270]
[null,null,"ARGAMASSA TRAÇO 1:3 (EM VOLUME DE CIMENTO E AREIA MÉDIA ÚMIDA), PREPARO MANUAL. AF_08/2019","m3",2E-3,447.55050809999994,0.89510101619999993,null,null,270]
[null,null,"CARGA, MANOBRAS E DESCARGA DE AREIA, BRITA, PEDRA DE MAO E SOLOS COM CAMINHAO BASCULANTE 6 M3 (DESCARGA LIVRE)","m3",{"$f":"1*E3436","v":7.0000000000000001E-3},0.7583660000000001,5.308562000000001E-3,null,null,270]
[null,null,"TRANSPORTE COM CAMINHÃO BASCULANTE DE 6 M3, EM VIA URBANA PAVIMENTADA, DMT ATÉ 30 KM (UNIDADE: M3xKM). AF_01/2018","M3xKM",{"$f":"0.007*20","v":0.14000000000000001},1.0869482000000001,0.15217274800000002,null,null,270]
[null,null,null,null,null,"","",null,null,270]
[null,null,"Obs.: Considerando fornecedor de areia a 20km do Senado Federal.",null,null,"","",null,null,270]
[null,null,null,null,null,"","",null,null,270]
["SF-00992",{"$f":"INDEX('Orçamentária-TR'!B:C,MATCH(Composições!A3446,'Orçamentária-TR'!B:B,0),2)","v":{"$error":"#N/A"}},null,{"$f":"TRIM(INDEX('Orçamentária-TR'!C:C,MATCH(Composições!A3446,'Orçamentária-TR'!A:A,0),1))","v":{"$error":"#N/A"}},null,"","",null,null,0]
[null,null,null,null,null,"","",null,null,0]
[null,null,"PEDRA BRITADA N. 2 (19 A 38 MM) POSTO PEDREIRA/FORNECEDOR, SEM FRETE","M3",8.2100000000000006E-2,62.082499999999989,5.0969732499999996,{"$f":"SUM(G3448:G3458)","v":24.831131292999995},null,0]
[null,null,"CAMINHÃO BASCULANTE 6 M3, PESO BRUTO TOTAL 16.000 KG, CARGA ÚTIL MÁXIMA 13.071 KG, DISTÂNCIA ENTRE EIXOS 4,80 M, POTÊNCIA 230 CV INCLUSIVE CAÇAMBA METÁLICA - CHP DIURNO. AF_06/2014","CHP",3.2000000000000002E-3,108.33799999999999,0.34668159999999998,null,null,0]
[null,null,"TUBO DRENO, CORRUGADO, ESPIRALADO, FLEXIVEL, PERFURADO, EM POLIETILENO DE ALTA DENSIDADE (PEAD), DN 100 MM, (4\") PARA DRENAGEM - EM ROLO (NORMA DNIT 093/2006 - E.M)","M",1,4.5314999999999994,4.5314999999999994,null,null,0]
[null,null,"ENCANADOR OU BOMBEIRO HIDRÁULICO COM ENCARGOS COMPLEMENTARES","H",1.7500000000000002E-2,20.9285,0.36624875000000001,null,null,0]
[null,null,"SERVENTE COM ENCARGOS COMPLEMENTARES","H",0.79930000000000001,15.750999999999998,12.589774299999998,null,null,0]
[null,null,"PLACA VIBRATÓRIA REVERSÍVEL COM MOTOR 4 TEMPOS A GASOLINA, FORÇA CENTRÍFUGA DE 25 KN (2500 KGF), POTÊNCIA 5,5 CV - CHP DIURNO. AF_08/2015","CHP",7.6E-3,6.9634999999999998,5.29226E-2,null,null,0]
[null,null,"CARGA, MANOBRAS E DESCARGA DE AREIA, BRITA, PEDRA DE MAO E SOLOS COM CAMINHAO BASCULANTE 6 M3 (DESCARGA LIVRE)","m3",{"$f":"1*E3448","v":8.2100000000000006E-2},0.7583660000000001,6.226184860000001E-2,null,null,0]
[null,null,"TRANSPORTE COM CAMINHÃO BASCULANTE DE 6 M3, EM VIA URBANA PAVIMENTADA, DMT ATÉ 30 KM (UNIDADE: M3xKM). AF_01/2018","M3xKM",{"$f":"E3448*20","v":1.6420000000000001},1.0869482000000001,1.7847689444000003,null,null,0]
[null,null,null,null,null,"","",null,null,0]
[null,null,"Obs.: Considerando fornecedor de brita a 20km do Senado Federal.",null,null,"","",null,null,0]
[null,null,null,null,null,"","",null,null,0]
["SF-00994",{"$f":"INDEX('Orçamentária-TR'!B:C,MATCH(Composições!A3459,'Orçamentária-TR'!B:B,0),2)","v":{"$error":"#N/A"}},null,{"$f":"TRIM(INDEX('Orçamentária-TR'!C:C,MATCH(Composições!A3459,'Orçamentária-TR'!A:A,0),1))","v":{"$error":"#N/A"}},null,"","",null,null,0]
[null,null,null,null,null,"","",null,null,0]
[null,null,"Pedreiro com Encargos Complementares","h",{"$f":"0.1+0.1","v":0.2},21.327499999999997,4.2654999999999994,{"$f":"SUM(G3461:G3466)","v":7.5561788065999993},null,0]
[null,null,"Servente com Encargos Complementares","h",{"$f":"0.1+0.1","v":0.2},15.750999999999998,3.1501999999999999,null,null,0]
[null,null,"Broca com ponta de widia Ø 3/8\" x 160 mm","un ",{"$f":"0.016*2","v":3.2000000000000001E-2},0,0,null,null,0]
[null,null,"Furadeira de impacto elétrica - 0,65 kW, Ø mandril 5/8\"","h prod",{"$f":"0.1*2","v":0.2},0,0,null,null,0]
[null,null,"Insert metálico tipo 3, conforme projeto","un ",1,"","",null,null,0]
[null,null,"GRAUTE FGK=25 MPA; TRAÇO 1:0,02:1,2:1,5 (CIMENTO/ CAL/ AREIA GROSSA/ BRITA 0) - PREPARO MECÂNICO COM BETONEIRA 400 L. AF_02/2015","m3",{"$f":"ROUND(0.15*0.05*0.05,4)","v":4.0000000000000002E-4},351.19701649999996,0.14047880659999998,null,null,0]
[null,null,null,null,null,"","",null,null,0]
[null,null,"Fontes: PINI 05.102.000020.SER",null,null,"","",null,null,0]
[null,null,null,null,null,"","",null,null,0]
["SF-01001",{"$f":"INDEX('Orçamentária-TR'!B:C,MATCH(Composições!A3470,'Orçamentária-TR'!B:B,0),2)","v":{"$error":"#N/A"}},null,{"$f":"TRIM(INDEX('Orçamentária-TR'!C:C,MATCH(Composições!A3470,'Orçamentária-TR'!A:A,0),1))","v":{"$error":"#N/A"}},null,"","",null,null,0]
[null,null,null,null,null,"","",null,null,0]
[null,null,"LOCACAO DE CONTAINER 2,30  X  6,00 M, ALT. 2,50 M, COM 1 SANITARIO, PARA ESCRITORIO, COMPLETO, SEM DIVISORIAS INTERNAS","MES",1,495.9,495.9,{"$f":"SUM(G3472:G3472)","v":495.9},null,0]
[null,null,null,null,null,"","",null,null,0]
["SF-01011",{"$f":"INDEX('Orçamentária-TR'!B:C,MATCH(Composições!A3474,'Orçamentária-TR'!B:B,0),2)","v":{"$error":"#N/A"}},null,{"$f":"TRIM(INDEX('Orçamentária-TR'!C:C,MATCH(Composições!A3474,'Orçamentária-TR'!A:A,0),1))","v":{"$error":"#N/A"}},null,"","",null,null,0]
[null,null,null,null,null,"","",null,null,0]
[null,null,"MARTELETE OU ROMPEDOR PNEUMÁTICO MANUAL, 28 KG, COM SILENCIADOR - CHP DIURNO. AF_07/2016","CHP",0.183,19.484500000000001,3.5656634999999999,{"$f":"SUM(G3476:G3482)","v":34.432917564799993},null,0]
[null,null,"MARTELETE OU ROMPEDOR PNEUMÁTICO MANUAL, 28 KG, COM SILENCIADOR - CHI DIURNO. AF_07/2016","CHI",0.40100000000000002,18.173499999999997,7.2875734999999988,null,null,0]
[null,null,"Auxiliar de encanador ou bombeiro hidráulico com encargos complementares","h",9.0999999999999998E-2,16.320999999999998,1.4852109999999998,null,null,0]
[null,null,"Encanador ou Bombeiro Hidráulico com Encargos Complementares","h",0.58299999999999996,20.9285,{"$f":"IF(ISNUMBER(F3479),E3479*F3479,\"\")","v":12.2013155},null,null,0]
[null,null,"Auxiliar de encanador ou bombeiro hidráulico com encargos complementares","h",3.7999999999999999E-2,16.320999999999998,0.62019799999999992,null,null,0]
[null,null,"Encanador ou Bombeiro Hidráulico com Encargos Complementares","h",0.27200000000000002,20.9285,5.6925520000000001,null,null,0]
[null,null,"ARGAMASSA TRAÇO 1:3 (EM VOLUME DE CIMENTO E AREIA MÉDIA ÚMIDA), PREPARO MANUAL. AF_08/2019","m3",8.0000000000000002E-3,447.55050809999994,3.5804040647999997,null,null,0]
[null,null,null,null,null,"","",null,null,0]
["SF-01012",{"$f":"INDEX('Orçamentária-TR'!B:C,MATCH(Composições!A3484,'Orçamentária-TR'!B:B,0),2)","v":{"$error":"#N/A"}},null,{"$f":"TRIM(INDEX('Orçamentária-TR'!C:C,MATCH(Composições!A3484,'Orçamentária-TR'!A:A,0),1))","v":{"$error":"#N/A"}},null,"","",null,null,0]
[null,null,null,null,null,"","",null,null,0]
[null,null,"Rejunte colorido, cimenticio","kg",0.25900000000000001,2.2799999999999998,0.59051999999999993,{"$f":"SUM(G3486:G3487)","v":8.4660199999999985},null,0]
[null,null,"Servente com Encargos Complementares","h",{"$f":"0.25*2","v":0.5},15.750999999999998,7.8754999999999988,null,null,0]
[null,null,null,null,null,"","",null,null,0]
["SF-01013",{"$f":"INDEX('Orçamentária-TR'!B:C,MATCH(Composições!A3489,'Orçamentária-TR'!B:B,0),2)","v":{"$error":"#N/A"}},null,{"$f":"TRIM(INDEX('Orçamentária-TR'!C:C,MATCH(Composições!A3489,'Orçamentária-TR'!A:A,0),1))","v":{"$error":"#N/A"}},null,"","",null,null,0]
[null,null,null,null,null,"","",null,null,0]
[null,null,"Impermeabilizante Idea HP","L",{"$f":"ROUND(1/12,4)","v":8.3299999999999999E-2},"","",{"$f":"SUM(G3491:G3493)","v":17.521799999999999},null,0]
[null,null,"IMPERMEABILIZADOR COM ENCARGOS COMPLEMENTARES","H",{"$f":"1.2/2","v":0.6},21.327499999999997,12.796499999999998,null,null,0]
[null,null,"Servente com Encargos Complementares","H",{"$f":"0.6/2","v":0.3},15.750999999999998,4.7252999999999989,null,null,0]
[null,null,null,null,null,"","",null,null,0]
[null,null,"Obs: Rendimento informado na especificação do serviço (12 m2 para 1 L, considerando duas demãos).",null,null,"","",null,null,0]
[null,null,"Fonte: SINAPI 73872/2",null,null,"","",null,null,0]
[null,null,null,null,null,"","",null,null,0]
["SF-01014",{"$f":"INDEX('Orçamentária-TR'!B:C,MATCH(Composições!A3498,'Orçamentária-TR'!B:B,0),2)","v":"Piso vinílico semiflexível"},null,{"$f":"TRIM(INDEX('Orçamentária-TR'!D:D,MATCH(Composições!A3498,'Orçamentária-TR'!B:B,0),1))","v":"m2"},null,"","",null,null,510]
[null,null,null,null,null,"","",null,null,510]
[null,null,"ADESIVO ACRILICO/COLA DE CONTATO","KG",9.5000000000000001E-2,24.224999999999998,2.3013749999999997,{"$f":"SUM(G3500:G3505)","v":92.319042999999994},null,510]
[null,null,"PLACA VINILICA SEMIFLEXIVEL PARA REVESTIMENTO DE PISOS E PAREDES, E = 2 MM (SEM COLOCACAO)","M2",1.1100000000000001,74.099999999999994,82.251000000000005,null,null,510]
[null,null,"PEDREIRO COM ENCARGOS COMPLEMENTARES","H",0.26100000000000001,21.327499999999997,5.5664774999999995,null,null,510]
[null,null,"SERVENTE COM ENCARGOS COMPLEMENTARES","H",0.13,15.750999999999998,2.0476299999999998,null,null,510]
[null,null,"POLIDORA DE PISO (POLITRIZ), PESO DE 100KG, DIÂMETRO 450 MM, MOTOR ELÉTRICO, POTÊNCIA 4 HP - CHP DIURNO. AF_09/2016","CHP",2.5000000000000001E-2,2.1564999999999999,5.3912500000000002E-2,null,null,510]
[null,null,"POLIDORA DE PISO (POLITRIZ), PESO DE 100KG, DIÂMETRO 450 MM, MOTOR ELÉTRICO, POTÊNCIA 4 HP - CHI DIURNO. AF_09/2016","CHI",0.23599999999999999,0.41799999999999998,9.8647999999999986E-2,null,null,510]
[null,null,null,null,null,"","",null,null,510]
["SF-01029",{"$f":"INDEX('Orçamentária-TR'!B:C,MATCH(Composições!A3507,'Orçamentária-TR'!B:B,0),2)","v":{"$error":"#N/A"}},null,{"$f":"TRIM(INDEX('Orçamentária-TR'!C:C,MATCH(Composições!A3507,'Orçamentária-TR'!A:A,0),1))","v":{"$error":"#N/A"}},null,"","",null,null,0]
[null,null,null,null,null,"","",null,null,0]
[null,null,"LOCACAO DE CONTAINER 2,30 X 6,00 M, ALT. 2,50 M,  PARA SANITARIO,  COM 4 BACIAS, 8 CHUVEIROS,1 LAVATORIO E 1 MICTORIO","MES",1,619.875,619.875,{"$f":"SUM(G3509:G3509)","v":619.875},null,0]
[null,null,null,null,null,"","",null,null,0]
["SF-01030",{"$f":"INDEX('Orçamentária-TR'!B:C,MATCH(Composições!A3511,'Orçamentária-TR'!B:B,0),2)","v":{"$error":"#N/A"}},null,{"$f":"TRIM(INDEX('Orçamentária-TR'!C:C,MATCH(Composições!A3511,'Orçamentária-TR'!A:A,0),1))","v":{"$error":"#N/A"}},null,"","",null,null,0]
[null,null,null,null,null,"","",null,null,0]
[null,null,"LOCACAO DE CONTAINER 2,30  X  6,00 M, ALT. 2,50 M, PARA ESCRITORIO, SEM DIVISORIAS INTERNAS E SEM SANITARIO","MES",1,387.41949999999997,387.41949999999997,{"$f":"SUM(G3513:G3513)","v":387.41949999999997},null,0]
[null,null,null,null,null,"","",null,null,0]
["SF-01031",{"$f":"INDEX('Orçamentária-TR'!B:C,MATCH(Composições!A3515,'Orçamentária-TR'!B:B,0),2)","v":{"$error":"#N/A"}},null,{"$f":"TRIM(INDEX('Orçamentária-TR'!C:C,MATCH(Composições!A3515,'Orçamentária-TR'!A:A,0),1))","v":{"$error":"#N/A"}},null,"","",null,null,0]
[null,null,null,null,null,"","",null,null,0]
[null,null,"PLACA DE OBRA (PARA CONSTRUCAO CIVIL) EM CHAPA GALVANIZADA *N. 22*, ADESIVADA, DE *2,0 X 1,125* M","M2",1,285,285,{"$f":"SUM(G3517:G3518)","v":285},null,0]
[null,null,null,null,null,"","",null,null,0]
["SF-01041",{"$f":"INDEX('Orçamentária-TR'!B:C,MATCH(Composições!A3519,'Orçamentária-TR'!B:B,0),2)","v":{"$error":"#N/A"}},null,{"$f":"TRIM(INDEX('Orçamentária-TR'!D:D,MATCH(Composições!A3519,'Orçamentária-TR'!B:B,0),1))","v":{"$error":"#N/A"}},null,"","",null,null,1]
[null,null,null,null,null,"","",null,null,1]
[null,null,"TÉCNICO EM SEGURANÇA DO TRABALHO COM ENCARGOS COMPLEMENTARES","MES",{"$f":"ROUND(1/(1+72.54%),4)","v":0.5796},6557.3940000000002,3800.6655624,{"$f":"SUM(G3521:G3524)","v":3800.6655624},null,1]
[null,null,null,null,null,"","",null,null,1]
[null,null,"Obs: considerando 220h/mês e encargos sociais indicados na tabela do SINAPI.",null,null,"","",null,null,1]
[null,null,null,null,null,"","",null,null,1]
["SF-01053",{"$f":"INDEX('Orçamentária-TR'!B:C,MATCH(Composições!A3525,'Orçamentária-TR'!B:B,0),2)","v":{"$error":"#N/A"}},null,{"$f":"TRIM(INDEX('Orçamentária-TR'!C:C,MATCH(Composições!A3525,'Orçamentária-TR'!A:A,0),1))","v":{"$error":"#N/A"}},null,"","",null,null,0]
[null,null,null,null,null,"","",null,null,0]
[null,null,"Marmorista/graniteiro com encargos complementares","h",{"$f":"0.5/50","v":0.01},17.793499999999998,0.17793499999999998,{"$f":"SUM(G3527:G3528)","v":0.17793499999999998},null,0]
[null,null,"Adesivo epóxi estrutural - bisnaga de 50ml","un ",{"$f":"1/50","v":0.02},"","",null,null,0]
[null,null,null,null,null,"","",null,null,0]
["SF-01054",{"$f":"INDEX('Orçamentária-TR'!B:C,MATCH(Composições!A3530,'Orçamentária-TR'!B:B,0),2)","v":{"$error":"#N/A"}},null,{"$f":"TRIM(INDEX('Orçamentária-TR'!C:C,MATCH(Composições!A3530,'Orçamentária-TR'!A:A,0),1))","v":{"$error":"#N/A"}},null,"","",null,null,0]
[null,null,null,null,null,"","",null,null,0]
[null,null,"Pedreiro com Encargos Complementares","h",0.5,21.327499999999997,10.663749999999999,{"$f":"SUM(G3532:G3537)","v":28.039844918119996},null,0]
[null,null,"Servente com Encargos Complementares","h",0.51,15.750999999999998,8.0330099999999991,null,null,0]
[null,null,"ARGAMASSA TRAÇO 1:3 (EM VOLUME DE CIMENTO E AREIA GROSSA ÚMIDA) PARA CHAPISCO CONVENCIONAL, PREPARO MANUAL. AF_08/2019","m3",3.0999999999999999E-3,465.79242519999991,1.4439565181199996,null,null,0]
[null,null,"Perfil metálico em chapa #14 dobrada","m",1,"","",null,null,0]
[null,null,"Servente com Encargos Complementares","h",0.15,15.750999999999998,2.3626499999999995,null,null,0]
[null,null,"SILICONE ACETICO USO GERAL INCOLOR 280 G","UN",{"$f":"ROUND(0.1/0.28,4)","v":0.35709999999999997},15.504,5.5364783999999991,null,null,0]
[null,null,null,null,null,"","",null,null,0]
[null,null,"Fonte: SIURB 08-01-70 e CDHU 403091",null,null,"","",null,null,0]
[null,null,null,null,null,"","",null,null,0]
["SF-01059",{"$f":"INDEX('Orçamentária-TR'!B:C,MATCH(Composições!A3541,'Orçamentária-TR'!B:B,0),2)","v":{"$error":"#N/A"}},null,{"$f":"TRIM(INDEX('Orçamentária-TR'!C:C,MATCH(Composições!A3541,'Orçamentária-TR'!A:A,0),1))","v":{"$error":"#N/A"}},null,"","",null,null,0]
[null,null,null,null,null,"","",null,null,0]
[null,null,"Granito Vermelho Brasília, com 20 mm de espessura, polido, com testeira para acabamento em meia esquadria, para bancadas","m2",1,"",{"$f":"IF(ISNUMBER(F3543),E3543*F3543,\"\")","v":""},{"$f":"SUM(G3543:G3547)","v":52.575517499999997},null,0]
[null,null,"Cantoneira ferro galvanizado de abas iguais, 1\" x 1/8\" (L x E) , 1,20kg/m","m",0.6,6.8114999999999997,4.0869,null,null,0]
[null,null,"Rejunte epoxi branco","kg",{"$f":"0.0351/1.5/0.6","v":3.9E-2},48.164999999999999,1.8784349999999999,null,null,0]
[null,null,"Marmorista/graniteiro com encargos complementares","h",{"$f":"ROUND(1.49/1.5/0.6,4)","v":1.6556},17.793499999999998,29.458918599999997,null,null,0]
[null,null,"Servente com Encargos Complementares","h",{"$f":"ROUND(0.98/1.5/0.6,4)","v":1.0889},15.750999999999998,17.151263899999996,null,null,0]
[null,null,null,null,null,"","",null,null,0]
["SF-01060",{"$f":"INDEX('Orçamentária-TR'!B:C,MATCH(Composições!A3549,'Orçamentária-TR'!B:B,0),2)","v":{"$error":"#N/A"}},null,{"$f":"TRIM(INDEX('Orçamentária-TR'!C:C,MATCH(Composições!A3549,'Orçamentária-TR'!A:A,0),1))","v":{"$error":"#N/A"}},null,"","",null,null,0]
[null,null,null,null,null,"","",null,null,0]
[null,null,"SELANTE ELASTICO MONOCOMPONENTE A BASE DE POLIURETANO (PU) PARA JUNTAS DIVERSAS","310ML",0.88290000000000002,23.465,20.7172485,{"$f":"SUM(G3551:G3556)","v":363.04271184999993},null,0]
[null,null,"BUCHA DE NYLON SEM ABA S10, COM PARAFUSO DE 6,10 X 65 MM EM ACO ZINCADO COM ROSCA SOBERBA, CABECA CHATA E FENDA PHILLIPS","UN",4.8166000000000002,0.57950000000000002,2.7912197000000001,null,null,0]
[null,null,"GUARNICAO/MOLDURA DE ACABAMENTO PARA ESQUADRIA DE ALUMINIO ANODIZADO NATURAL, PARA 1 FACE","M",6.8503999999999996,6.0704999999999991,41.585353199999993,null,null,0]
[null,null,"PORTA DE ABRIR EM ALUMINIO TIPO VENEZIANA, ACABAMENTO ANODIZADO NATURAL, SEM GUARNICAO/ALIZAR/VISTA, 87 X 210 CM","UN",0.54730000000000001,523.99149999999997,286.78054794999997,null,null,0]
[null,null,"Pedreiro com encargos complementares","H",0.3826,21.327499999999997,8.1599014999999984,null,null,0]
[null,null,"Servente com Encargos Complementares","H",0.191,15.750999999999998,3.0084409999999995,null,null,0]
[null,null,null,null,null,"","",null,null,0]
["SF-01061",{"$f":"INDEX('Orçamentária-TR'!B:C,MATCH(Composições!A3558,'Orçamentária-TR'!B:B,0),2)","v":{"$error":"#N/A"}},null,{"$f":"TRIM(INDEX('Orçamentária-TR'!C:C,MATCH(Composições!A3558,'Orçamentária-TR'!A:A,0),1))","v":{"$error":"#N/A"}},null,"","",null,null,0]
[null,null,null,null,null,"","",null,null,0]
[null,null,"JANELA MAXIM AR EM ALUMINIO, 80 X 60 CM (A X L), BATENTE/REQUADRO DE 4 A 14 CM, COM VIDRO, SEM GUARNICAO/ALIZAR","M2",1,280.27849999999995,280.27849999999995,{"$f":"SUM(G3560:G3564)","v":352.69418229999997},null,0]
[null,null,"PARAFUSO DE ACO ZINCADO COM ROSCA SOBERBA, CABECA CHATA E FENDA SIMPLES, DIAMETRO 4,2 MM, COMPRIMENTO * 32 * MM","UN",24.4,0.13300000000000001,3.2452000000000001,null,null,0]
[null,null,"SILICONE ACETICO USO GERAL INCOLOR 280 G","UN",1.2466999999999999,15.504,19.328836799999998,null,null,0]
[null,null,"PEDREIRO COM ENCARGOS COMPLEMENTARES","H",1.7070000000000001,21.327499999999997,36.406042499999998,null,null,0]
[null,null,"SERVENTE COM ENCARGOS COMPLEMENTARES","H",0.85299999999999998,15.750999999999998,13.435602999999997,null,null,0]
[null,null,null,null,null,"","",null,null,0]
["SF-01062",{"$f":"INDEX('Orçamentária-TR'!B:C,MATCH(Composições!A3566,'Orçamentária-TR'!B:B,0),2)","v":{"$error":"#N/A"}},null,{"$f":"TRIM(INDEX('Orçamentária-TR'!C:C,MATCH(Composições!A3566,'Orçamentária-TR'!A:A,0),1))","v":{"$error":"#N/A"}},null,"","",null,null,0]
[null,null,null,null,null,"","",null,null,0]
[null,null,"PORTA DE ENROLAR MANUAL COMPLETA, ARTICULADA RAIADA LARGA, EM ACO GALVANIZADO NATURAL, CHAPA NUMERO 24 (SEM INSTALACAO)","M2",1,196.042,196.042,{"$f":"SUM(G3568:G3574)","v":236.36342778999997},null,0]
[null,null,"PEDREIRO COM ENCARGOS COMPLEMENTARES","H",1,21.327499999999997,21.327499999999997,null,null,0]
[null,null,"SERVENTE COM ENCARGOS COMPLEMENTARES","H",1.1000000000000001,15.750999999999998,17.3261,null,null,0]
[null,null,"AREIA MEDIA - POSTO JAZIDA/FORNECEDOR (RETIRADO NA JAZIDA, SEM TRANSPORTE)","M3",1.2999999999999999E-2,93.8125,1.2195624999999999,null,null,0]
[null,null,"CIMENTO PORTLAND COMPOSTO CP II-32","KG",0.4,0.38949999999999996,0.15579999999999999,null,null,0]
[null,null,"CARGA, MANOBRAS E DESCARGA DE AREIA, BRITA, PEDRA DE MAO E SOLOS COM CAMINHAO BASCULANTE 6 M3 (DESCARGA LIVRE)","m3",{"$f":"1*E3571","v":1.2999999999999999E-2},0.7583660000000001,9.8587580000000005E-3,null,null,0]
[null,null,"TRANSPORTE COM CAMINHÃO BASCULANTE DE 6 M3, EM VIA URBANA PAVIMENTADA, DMT ATÉ 30 KM (UNIDADE: M3xKM). AF_01/2018","M3xKM",{"$f":"E3571*20","v":0.26},1.0869482000000001,0.28260653200000002,null,null,0]
[null,null,null,null,null,"","",null,null,0]
[null,null,"Obs.: Considerando fornecedor de areia a 20 km do Senado Federal.",null,null,"","",null,null,0]
[null,null,null,null,null,"","",null,null,0]
["SF-01063",{"$f":"INDEX('Orçamentária-TR'!B:C,MATCH(Composições!A3578,'Orçamentária-TR'!B:B,0),2)","v":{"$error":"#N/A"}},null,{"$f":"TRIM(INDEX('Orçamentária-TR'!C:C,MATCH(Composições!A3578,'Orçamentária-TR'!A:A,0),1))","v":{"$error":"#N/A"}},null,"","",null,null,0]
[null,null,null,null,null,"","",null,null,0]
[null,null,"FITA VEDA ROSCA EM ROLOS DE 18 MM X 50 M (L X C)","UN",0.20519999999999999,12.045999999999999,2.4718391999999998,{"$f":"SUM(G3580:G3591)","v":517.0729891499999},null,0]
[null,null,"COTOVELO 90 GRAUS DE FERRO GALVANIZADO, COM ROSCA BSP, DE 1\"","UN",2,9.0344999999999995,18.068999999999999,null,null,0]
[null,null,"NIPLE DE FERRO GALVANIZADO, COM ROSCA BSP, DE 1\"","UN",4,6.6974999999999998,26.79,null,null,0]
[null,null,"PLUG OU BUJAO DE FERRO GALVANIZADO, DE 1/2\"","UN",2,2.3844999999999996,4.7689999999999992,null,null,0]
[null,null,"TE DE REDUCAO DE FERRO GALVANIZADO, COM ROSCA BSP, DE 1\" X 1/2\"","UN",2,14.6965,29.393000000000001,null,null,0]
[null,null,"UNIAO DE FERRO GALVANIZADO, COM ROSCA BSP, COM ASSENTO PLANO, DE 1\"","UN",1,19.294499999999999,19.294499999999999,null,null,0]
[null,null,"VALVULA DE ESFERA BRUTA EM BRONZE, BITOLA 1 \" (REF 1552-B)","UN",3,60.467499999999994,181.40249999999997,null,null,0]
[null,null,"VALVULA DE ESFERA BRUTA EM BRONZE, BITOLA 1/2 \" (REF 1552-B)","UN",2,38.798000000000002,77.596000000000004,null,null,0]
[null,null,"TUBO ACO GALVANIZADO COM COSTURA, CLASSE MEDIA, DN 1\", E = 3,38 MM, PESO 2,50 KG/M (NBR 5580)","M",0.72729999999999995,22.999500000000001,16.727536350000001,null,null,0]
[null,null,"AUXILIAR DE ENCANADOR OU BOMBEIRO HIDRÁULICO COM ENCARGOS COMPLEMENTARES","H",1.6462000000000001,16.320999999999998,26.867630199999997,null,null,0]
[null,null,"ENCANADOR OU BOMBEIRO HIDRÁULICO COM ENCARGOS COMPLEMENTARES","H",5.4324000000000003,20.9285,113.69198340000001,null,null,0]
[null,null,"MEDIDOR DE GÁS EM ALUMÍNIO. Ref. LAO G6 ","UN",1,"","",null,null,0]
[null,null,null,null,null,"","",null,null,0]
["SF-01064",{"$f":"INDEX('Orçamentária-TR'!B:C,MATCH(Composições!A3593,'Orçamentária-TR'!B:B,0),2)","v":{"$error":"#N/A"}},null,{"$f":"TRIM(INDEX('Orçamentária-TR'!C:C,MATCH(Composições!A3593,'Orçamentária-TR'!A:A,0),1))","v":{"$error":"#N/A"}},null,"","",null,null,0]
[null,null,null,null,null,"","",null,null,0]
[null,null,"FITA VEDA ROSCA EM ROLOS DE 18 MM X 50 M (L X C)","UN",1.2999999999999999E-2,12.045999999999999,0.15659799999999999,{"$f":"SUM(G3595:G3598)","v":7.6064979999999993},null,0]
[null,null,"Válvula de esfera tripartida Classe 300","UN",1,"","",null,null,0]
[null,null,"AUXILIAR DE ENCANADOR OU BOMBEIRO HIDRÁULICO COM ENCARGOS COMPLEMENTARES","H",0.2,16.320999999999998,3.2641999999999998,null,null,0]
[null,null,"ENCANADOR OU BOMBEIRO HIDRÁULICO COM ENCARGOS COMPLEMENTARES","H",0.2,20.9285,4.1856999999999998,null,null,0]
[null,null,null,null,null,"","",null,null,0]
["SF-01065",{"$f":"INDEX('Orçamentária-TR'!B:C,MATCH(Composições!A3600,'Orçamentária-TR'!B:B,0),2)","v":{"$error":"#N/A"}},null,{"$f":"TRIM(INDEX('Orçamentária-TR'!C:C,MATCH(Composições!A3600,'Orçamentária-TR'!A:A,0),1))","v":{"$error":"#N/A"}},null,"","",null,null,0]
[null,null,null,null,null,"","",null,null,0]
[null,null,"CHAPA DE MADEIRA COMPENSADA RESINADA PARA FORMA DE CONCRETO, DE *2,2 X 1,1* M, E = 17 MM","M2",2.9790000000000001,28.062999999999999,83.599677,{"$f":"SUM(G3602:G3614)","v":2444.9217941602146},null,0]
[null,null,"DESMOLDANTE PROTETOR PARA FORMAS DE MADEIRA, DE BASE OLEOSA EMULSIONADA EM AGUA","L",0.12,4.7024999999999997,0.56429999999999991,null,null,0]
[null,null,"PREGO DE ACO POLIDO COM CABECA 15 X 15 (1 1/4 X 13)","KG",0.64449999999999996,10.887,7.0166715000000002,null,null,0]
[null,null,"AJUDANTE DE CARPINTEIRO COM ENCARGOS COMPLEMENTARES","H",1.8137000000000001,17.869499999999999,32.409912149999997,null,null,0]
[null,null,"CARPINTEIRO DE ESQUADRIA COM ENCARGOS COMPLEMENTARES","H",9.0685000000000002,21.222999999999999,192.46077549999998,null,null,0]
[null,null,"PEDREIRO COM ENCARGOS COMPLEMENTARES","H",32.192999999999998,21.327499999999997,{"$f":"IF(ISNUMBER(F3607),E3607*F3607,\"\")","v":686.59620749999988},null,null,0]
[null,null,"SERVENTE COM ENCARGOS COMPLEMENTARES","H",32.192999999999998,15.750999999999998,507.07194299999992,null,null,0]
[null,null,"VIBRADOR DE IMERSÃO, DIÂMETRO DE PONTEIRA 45MM, MOTOR ELÉTRICO TRIFÁSICO POTÊNCIA DE 2 CV - CHP DIURNO. AF_06/2015","CHP",6.6319999999999997,1.254,8.3165279999999999,null,null,0]
[null,null,"VIBRADOR DE IMERSÃO, DIÂMETRO DE PONTEIRA 45MM, MOTOR ELÉTRICO TRIFÁSICO POTÊNCIA DE 2 CV - CHI DIURNO. AF_06/2015","CHI",18.246200000000002,0.3135,5.7201837000000006,null,null,0]
[null,null,"SERRA CIRCULAR DE BANCADA COM MOTOR ELÉTRICO POTÊNCIA DE 5HP, COM COIFA PARA DISCO 10\" - CHP DIURNO. AF_08/2015","CHP",0.77359999999999995,18.6295,14.4117812,null,null,0]
[null,null,"SERRA CIRCULAR DE BANCADA COM MOTOR ELÉTRICO POTÊNCIA DE 5HP, COM COIFA PARA DISCO 10\" - CHI DIURNO. AF_08/2015","CHI",1.0401,16.777000000000001,17.449757700000003,null,null,0]
[null,null,"ARMAÇÃO DE LAJE DE UMA ESTRUTURA CONVENCIONAL DE CONCRETO ARMADO EM UMA EDIFICAÇÃO TÉRREA OU SOBRADO UTILIZANDO AÇO CA-60 DE 4,2 MM - MONTAGEM. AF_12/2015","KG",42.646299999999997,12.26765305,523.17001226621494,null,null,0]
[null,null,"CONCRETO FCK = 15MPA, TRAÇO 1:3,4:3,5 (CIMENTO/ AREIA MÉDIA/ BRITA 1)  - PREPARO MECÂNICO COM BETONEIRA 600 L. AF_07/2016","M3",1.2,305.11170386999999,366.13404464399997,null,null,0]
[null,null,null,null,null,"","",null,null,0]
["SF-01066",{"$f":"INDEX('Orçamentária-TR'!B:C,MATCH(Composições!A3616,'Orçamentária-TR'!B:B,0),2)","v":{"$error":"#N/A"}},null,{"$f":"TRIM(INDEX('Orçamentária-TR'!C:C,MATCH(Composições!A3616,'Orçamentária-TR'!A:A,0),1))","v":{"$error":"#N/A"}},null,"","",null,null,0]
[null,null,null,null,null,"","",null,null,0]
[null,null,"ELETRODUTO/DUTO PEAD FLEXIVEL PAREDE SIMPLES, CORRUGACAO HELICOIDAL, COR PRETA, SEM ROSCA, DE 3\",  PARA CABEAMENTO SUBTERRANEO (NBR 15715)","M",1.1000000000000001,6.9349999999999996,7.6284999999999998,{"$f":"SUM(G3618:G3620)","v":15.134221999999999},null,0]
[null,null,"AUXILIAR DE ELETRICISTA COM ENCARGOS COMPLEMENTARES","H",0.19600000000000001,16.767499999999998,3.2864299999999997,null,null,0]
[null,null,"ELETRICISTA COM ENCARGOS COMPLEMENTARES","H",0.19600000000000001,21.526999999999997,4.2192919999999994,null,null,0]
[null,null,null,null,null,"","",null,null,0]
["SF-01068",{"$f":"INDEX('Orçamentária-TR'!B:C,MATCH(Composições!A3622,'Orçamentária-TR'!B:B,0),2)","v":{"$error":"#N/A"}},null,{"$f":"TRIM(INDEX('Orçamentária-TR'!C:C,MATCH(Composições!A3622,'Orçamentária-TR'!A:A,0),1))","v":{"$error":"#N/A"}},null,"","",null,null,0]
[null,null,null,null,null,"","",null,null,0]
[null,null,"Eletroduto de aço com costura galvanização eletrolítica Ø 3\"","M",1.05,0,0,{"$f":"SUM(G3624:G3626)","v":38.294499999999999},null,0]
[null,null,"AUXILIAR DE ELETRICISTA COM ENCARGOS COMPLEMENTARES","H",1,16.767499999999998,16.767499999999998,null,null,0]
[null,null,"ELETRICISTA COM ENCARGOS COMPLEMENTARES","H",1,21.526999999999997,21.526999999999997,null,null,0]
[null,null,null,null,null,"","",null,null,0]
["SF-01069",{"$f":"INDEX('Orçamentária-TR'!B:C,MATCH(Composições!A3628,'Orçamentária-TR'!B:B,0),2)","v":{"$error":"#N/A"}},null,{"$f":"TRIM(INDEX('Orçamentária-TR'!C:C,MATCH(Composições!A3628,'Orçamentária-TR'!A:A,0),1))","v":{"$error":"#N/A"}},null,"","",null,null,0]
[null,null,null,null,null,"","",null,null,0]
[null,null,"Grelha em ferro fundido com caixilho de apoio espessura 15 mm, largura 200 mm","m",1,0,0,{"$f":"SUM(G3630:G3632)","v":24.842594999999999},null,0]
[null,null,"PEDREIRO COM ENCARGOS COMPLEMENTARES","H",0.67,21.327499999999997,14.289425,null,null,0]
[null,null,"SERVENTE COM ENCARGOS COMPLEMENTARES","H",0.67,15.750999999999998,10.55317,null,null,0]
[null,null,null,null,null,"","",null,null,0]
["SF-01070",{"$f":"INDEX('Orçamentária-TR'!B:C,MATCH(Composições!A3634,'Orçamentária-TR'!B:B,0),2)","v":{"$error":"#N/A"}},null,{"$f":"TRIM(INDEX('Orçamentária-TR'!C:C,MATCH(Composições!A3634,'Orçamentária-TR'!A:A,0),1))","v":{"$error":"#N/A"}},null,"","",null,null,0]
[null,null,null,null,null,"","",null,null,0]
[null,null,"Granito Vermelho Brasília, com 20 mm de espessura e 150 mm de altura, para soleira e peitoril","m",{"$f":"ROUND(1/0.15,4)","v":6.6666999999999996},"","",{"$f":"SUM(G3636:G3639)","v":103.84857645},null,0]
[null,null,"Argamassa colante tipo ACIII","kg",{"$f":"1.29/0.15","v":8.6000000000000014},1.1969999999999998,10.2942,null,null,0]
[null,null,"Marmorista/graniteiro com encargos complementares","h",{"$f":"ROUND(0.547/0.15,4)","v":3.6467000000000001},17.793499999999998,64.887556449999991,null,null,0]
[null,null,"Servente com Encargos Complementares","h",{"$f":"0.273/0.15","v":1.8200000000000003},15.750999999999998,28.666820000000001,null,null,0]
[null,null,null,null,null,"","",null,null,0]
["SF-01071",{"$f":"INDEX('Orçamentária-TR'!B:C,MATCH(Composições!A3641,'Orçamentária-TR'!B:B,0),2)","v":{"$error":"#N/A"}},null,{"$f":"TRIM(INDEX('Orçamentária-TR'!C:C,MATCH(Composições!A3641,'Orçamentária-TR'!A:A,0),1))","v":{"$error":"#N/A"}},null,"","",null,null,0]
[null,null,null,null,null,"","",null,null,0]
[null,null,"Luminária redonda de embutir, LED, potência 19 W, temperatura de cor 3000 K, fluxo luminoso 1770 lm. Ref: OSRAM - LEDVANCE DOWNLIGHT XL WT 830","un ",1,"","",{"$f":"SUM(G3643:G3648)","v":8.8217845499999985},null,0]
[null,null,"Cabo PP 3x2,5mm2 300/500 V, extraflexível (classe 5), com condutor de proteção, com isolação, enchimento e cobertura de PVC","m",1.5,"","",null,null,0]
[null,null,"Plugue (macho) com 3 polos (2P+T), para 10A","un ",1,"","",null,null,0]
[null,null,"Plugue (fêmea) com 3 polos (2P+T), para 10A","un ",1,"","",null,null,0]
[null,null,"Auxiliar de eletricista com encargos complementares","h",0.12889999999999999,16.767499999999998,2.1613307499999994,null,null,0]
[null,null,"Eletricista com encargos complementares","h",0.30940000000000001,21.526999999999997,6.6604537999999991,null,null,0]
[null,null,null,null,null,"","",null,null,0]
["SF-01072",{"$f":"INDEX('Orçamentária-TR'!B:C,MATCH(Composições!A3650,'Orçamentária-TR'!B:B,0),2)","v":{"$error":"#N/A"}},null,{"$f":"TRIM(INDEX('Orçamentária-TR'!C:C,MATCH(Composições!A3650,'Orçamentária-TR'!A:A,0),1))","v":{"$error":"#N/A"}},null,"","",null,null,0]
[null,null,null,null,null,"","",null,null,0]
[null,null,"ADESIVO ACRILICO/COLA DE CONTATO","KG",9.5000000000000001E-2,24.224999999999998,2.3013749999999997,{"$f":"SUM(G3652:G3655)","v":20.869576250000001},null,0]
[null,null,"PISO TATIL ALERTA OU DIRECIONAL, DE BORRACHA, COLORIDO, 25 X 25 CM, E = 5 MM, PARA COLA","M2",{"$f":"1*0.25*0.25","v":6.25E-2},175.2655,10.95409375,null,null,0]
[null,null,"PEDREIRO COM ENCARGOS COMPLEMENTARES","H",0.26100000000000001,21.327499999999997,5.5664774999999995,null,null,0]
[null,null,"SERVENTE COM ENCARGOS COMPLEMENTARES","H",0.13,15.750999999999998,2.0476299999999998,null,null,0]
[null,null,null,null,null,"","",null,null,0]
["SF-01073",{"$f":"INDEX('Orçamentária-TR'!B:C,MATCH(Composições!A3657,'Orçamentária-TR'!B:B,0),2)","v":{"$error":"#N/A"}},null,{"$f":"TRIM(INDEX('Orçamentária-TR'!C:C,MATCH(Composições!A3657,'Orçamentária-TR'!A:A,0),1))","v":{"$error":"#N/A"}},null,"","",null,null,0]
[null,null,null,null,null,"","",null,null,0]
[null,null,"Cimento branco","kg",0.7,2.3180000000000001,1.6226,{"$f":"SUM(G3659:G3663)","v":124.63169115084997},null,0]
[null,null,"Granito Vermelho Brasília ou equivalente, com 30 mm de espessura, polido em todas as faces aparentes, para divisórias","m2",1,"","",null,null,0]
[null,null,"Marmorista/graniteiro com encargos complementares","h",4.8,17.793499999999998,85.408799999999985,null,null,0]
[null,null,"Servente com Encargos Complementares","h",2.2999999999999998,15.750999999999998,36.227299999999993,null,null,0]
[null,null,"ARGAMASSA TRAÇO 1:4 (EM VOLUME DE CIMENTO E AREIA MÉDIA ÚMIDA), PREPARO MANUAL. AF_08/2019","m3",3.3E-3,416.05792449999996,1.3729911508499999,null,null,0]
[null,null,null,null,null,"","",null,null,0]
["SF-01074",{"$f":"INDEX('Orçamentária-TR'!B:C,MATCH(Composições!A3665,'Orçamentária-TR'!B:B,0),2)","v":{"$error":"#N/A"}},null,{"$f":"TRIM(INDEX('Orçamentária-TR'!C:C,MATCH(Composições!A3665,'Orçamentária-TR'!A:A,0),1))","v":{"$error":"#N/A"}},null,"","",null,null,0]
[null,null,null,null,null,"","",null,null,0]
[null,null,"TAMPAO FOFO ARTICULADO P/ REGISTRO, CLASSE A15 CARGA MAX 1,5 T, *200 X 200* MM","UN",1,60.866499999999988,60.866499999999988,{"$f":"SUM(G3667:G3670)","v":126.33915954619998},null,0]
[null,null,"ARGAMASSA TRAÇO 1:4 (EM VOLUME DE CIMENTO E AREIA GROSSA ÚMIDA) PARA CHAPISCO CONVENCIONAL, PREPARO MECÂNICO COM BETONEIRA 400 L. AF_08/2019","M3",7.0000000000000001E-3,348.45850659999996,2.4392095461999999,null,null,0]
[null,null,"Pedreiro com Encargos Complementares","h",1.7,21.327499999999997,36.256749999999997,null,null,0]
[null,null,"Servente com Encargos Complementares","h",1.7,15.750999999999998,26.776699999999995,null,null,0]
[null,null,null,null,null,"",{"$f":"IF(ISNUMBER(F3671),E3671*F3671,\"\")","v":""},null,null,0]
["SF-01076",{"$f":"INDEX('Orçamentária-TR'!B:C,MATCH(Composições!A3672,'Orçamentária-TR'!B:B,0),2)","v":{"$error":"#N/A"}},null,{"$f":"TRIM(INDEX('Orçamentária-TR'!C:C,MATCH(Composições!A3672,'Orçamentária-TR'!A:A,0),1))","v":{"$error":"#N/A"}},null,"","",null,null,0]
[null,null,null,null,null,"","",null,null,0]
[null,null,"Cerâmica GAIL (Referência 1009 Placa Cerâmica Linha Gressit da Marca Gail, tamanho 240 mm x 116 mm, espessura 9 mm)","m2",1.08,"","",{"$f":"SUM(G3674:G3678)","v":24.6373},null,0]
[null,null,"Argamassa colante AC-II","kg",6.14,0.72199999999999998,4.4330799999999995,null,null,0]
[null,null,"Rejunte colorido, cimenticio","kg",0.22,2.2799999999999998,0.50159999999999993,null,null,0]
[null,null,"Azulejista ou ladrilhista com encargos complementares","h",0.66,21.260999999999999,14.032260000000001,null,null,0]
[null,null,"Servente com Encargos Complementares","h",0.36,15.750999999999998,5.6703599999999987,null,null,0]
[null,null,null,null,null,"","",null,null,0]
["SF-01077",{"$f":"INDEX('Orçamentária-TR'!B:C,MATCH(Composições!A3680,'Orçamentária-TR'!B:B,0),2)","v":{"$error":"#N/A"}},null,{"$f":"TRIM(INDEX('Orçamentária-TR'!C:C,MATCH(Composições!A3680,'Orçamentária-TR'!A:A,0),1))","v":{"$error":"#N/A"}},null,"","",null,null,0]
[null,null,null,null,null,"","",null,null,0]
[null,null,"AREIA PARA ATERRO - POSTO JAZIDA/FORNECEDOR (RETIRADO NA JAZIDA, SEM TRANSPORTE)","M3",1.25,84.93,106.16250000000001,{"$f":"SUM(G3682:G3689)","v":156.47694150000001},null,0]
[null,null,"CAMINHÃO PIPA 10.000 L TRUCADO, PESO BRUTO TOTAL 23.000 KG, CARGA ÚTIL MÁXIMA 15.935 KG, DISTÂNCIA ENTRE EIXOS 4,8 M, POTÊNCIA 230 CV, INCLUSIVE TANQUE DE AÇO PARA TRANSPORTE DE ÁGUA - CHP DIURNO. AF_06/2014","CHP",6.0000000000000001E-3,155.50549999999998,0.93303299999999989,null,null,0]
[null,null,"CAMINHÃO PIPA 10.000 L TRUCADO, PESO BRUTO TOTAL 23.000 KG, CARGA ÚTIL MÁXIMA 15.935 KG, DISTÂNCIA ENTRE EIXOS 4,8 M, POTÊNCIA 230 CV, INCLUSIVE TANQUE DE AÇO PARA TRANSPORTE DE ÁGUA - CHI DIURNO. AF_06/2014","CHI",3.0000000000000001E-3,33.971999999999994,0.10191599999999998,null,null,0]
[null,null,"SERVENTE COM ENCARGOS COMPLEMENTARES","H",0.65900000000000003,15.750999999999998,10.379909,null,null,0]
[null,null,"COMPACTADOR DE SOLOS DE PERCUSSÃO (SOQUETE) COM MOTOR A GASOLINA 4 TEMPOS, POTÊNCIA 4 CV - CHP DIURNO. AF_08/2015","CHP",0.27400000000000002,22.875999999999998,6.2680239999999996,null,null,0]
[null,null,"COMPACTADOR DE SOLOS DE PERCUSSÃO (SOQUETE) COM MOTOR A GASOLINA 4 TEMPOS, POTÊNCIA 4 CV - CHI DIURNO. AF_08/2015","CHI",0.254,17.755500000000001,4.5098970000000005,null,null,0]
[null,null,"CARGA, MANOBRAS E DESCARGA DE AREIA, BRITA, PEDRA DE MAO E SOLOS COM CAMINHAO BASCULANTE 6 M3 (DESCARGA LIVRE)","m3",{"$f":"1*E3682","v":1.25},0.7583660000000001,0.94795750000000012,null,null,0]
[null,null,"TRANSPORTE COM CAMINHÃO BASCULANTE DE 6 M3, EM VIA URBANA PAVIMENTADA, DMT ATÉ 30 KM (UNIDADE: M3xKM). AF_01/2018","M3xKM",{"$f":"E3682*20","v":25},1.0869482000000001,27.173705000000005,null,null,0]
[null,null,null,null,null,"","",null,null,0]
[null,null,"Obs.: Considerando fornecedor de areia a 20 km do Senado Federal.",null,null,"","",null,null,0]
[null,null,null,null,null,"","",null,null,0]
["SF-01078",{"$f":"INDEX('Orçamentária-TR'!B:C,MATCH(Composições!A3693,'Orçamentária-TR'!B:B,0),2)","v":{"$error":"#N/A"}},null,{"$f":"TRIM(INDEX('Orçamentária-TR'!C:C,MATCH(Composições!A3693,'Orçamentária-TR'!A:A,0),1))","v":{"$error":"#N/A"}},null,"","",null,null,0]
[null,null,null,null,null,"","",null,null,0]
[null,null,"CHAPA DE ACO GROSSA, ASTM A36, E = 3/8 \" (9,53 MM) 74,69 KG/M2","KG",1.4,5.4245000000000001,7.5942999999999996,{"$f":"SUM(G3695:G3704)","v":748.17912149999995},null,0]
[null,null,"ELETRODO REVESTIDO AWS - E6013, DIAMETRO IGUAL A 2,50 MM","KG",3.0000000000000001E-3,16.083499999999997,4.8250499999999995E-2,null,null,0]
[null,null,"PARAFUSO DE ACO TIPO CHUMBADOR PARABOLT, DIAMETRO 3/8\", COMPRIMENTO 75 MM","UN",3.3330000000000002,1.7954999999999999,5.9844014999999997,null,null,0]
[null,null,"PARAFUSO DE FERRO POLIDO, SEXTAVADO, COM ROSCA INTEIRA, DIAMETRO 5/16\", COMPRIMENTO 3/4\", COM PORCA E ARRUELA LISA LEVE","UN",5,0.33249999999999996,1.6624999999999999,null,null,0]
[null,null,"PERFIL DE BORRACHA EPDM MACICO *12 X 15* MM PARA ESQUADRIAS","M",3.149,6.6499999999999995,20.940849999999998,null,null,0]
[null,null,"PERFIL DE ALUMINIO ANODIZADO","KG",3.4089999999999998,28.148499999999999,95.958236499999984,null,null,0]
[null,null,"VIDRO COMUM LAMINADO LISO INCOLOR DUPLO, ESPESSURA TOTAL 8 MM (CADA CAMADA DE 4 MM) - COLOCADO","M2",0.998,485.03199999999998,484.061936,null,null,0]
[null,null,"SILICONE ACETICO USO GERAL INCOLOR 280 G","UN",0.85499999999999998,15.504,13.25592,null,null,0]
[null,null,"AUXILIAR DE SERRALHEIRO COM ENCARGOS COMPLEMENTARES","H",2.754,17.251999999999999,47.512007999999994,null,null,0]
[null,null,"SERRALHEIRO COM ENCARGOS COMPLEMENTARES","H",3.3530000000000002,21.222999999999999,71.160719,null,null,0]
[null,null,null,null,null,"","",null,null,0]
["SF-01080",{"$f":"INDEX('Orçamentária-TR'!B:C,MATCH(Composições!A3706,'Orçamentária-TR'!B:B,0),2)","v":{"$error":"#N/A"}},null,{"$f":"TRIM(INDEX('Orçamentária-TR'!C:C,MATCH(Composições!A3706,'Orçamentária-TR'!A:A,0),1))","v":{"$error":"#N/A"}},null,"","",null,null,0]
[null,null,null,null,null,"","",null,null,0]
[null,null,"Vidraceiro com encargos complementares","h",{"$f":"1/10","v":0.1},19.835999999999999,1.9836,{"$f":"SUM(G3708:G3709)","v":1.9836},null,0]
[null,null,"Perfil \"U\" em aço galvanizado 25mm x 25mm, espessura 1,5mm (#16)","m",1.05,"","",null,null,0]
[null,null,null,null,null,"","",null,null,0]
["SF-01082",{"$f":"INDEX('Orçamentária-TR'!B:C,MATCH(Composições!A3711,'Orçamentária-TR'!B:B,0),2)","v":{"$error":"#N/A"}},null,{"$f":"TRIM(INDEX('Orçamentária-TR'!C:C,MATCH(Composições!A3711,'Orçamentária-TR'!A:A,0),1))","v":{"$error":"#N/A"}},null,"","",null,null,0]
[null,null,null,null,null,"","",null,null,0]
[null,null,"ALIMENTACAO - HORISTA (COLETADO CAIXA)","h",1,2.4414999999999996,2.4414999999999996,{"$f":"SUM(G3713:G3713)","v":2.4414999999999996},null,0]
[null,null,null,null,null,"","",null,null,0]
["SF-01083",{"$f":"INDEX('Orçamentária-TR'!B:C,MATCH(Composições!A3715,'Orçamentária-TR'!B:B,0),2)","v":{"$error":"#N/A"}},null,{"$f":"TRIM(INDEX('Orçamentária-TR'!C:C,MATCH(Composições!A3715,'Orçamentária-TR'!A:A,0),1))","v":{"$error":"#N/A"}},null,"","",null,null,0]
[null,null,null,null,null,"","",null,null,0]
[null,null,"TRANSPORTE - HORISTA (COLETADO CAIXA)","H",1.05,1.292,1.3566,{"$f":"SUM(G3717:G3717)","v":1.3566},null,0]
[null,null,null,null,null,"","",null,null,0]
["SF-01088",{"$f":"INDEX('Orçamentária-TR'!B:C,MATCH(Composições!A3719,'Orçamentária-TR'!B:B,0),2)","v":{"$error":"#N/A"}},null,{"$f":"TRIM(INDEX('Orçamentária-TR'!C:C,MATCH(Composições!A3719,'Orçamentária-TR'!A:A,0),1))","v":{"$error":"#N/A"}},null,"","",null,null,0]
[null,null,null,null,null,"","",null,null,0]
[null,null,"COTOVELO DE COBRE 90 GRAUS (REF 607) SEM ANEL DE SOLDA, BOLSA X BOLSA, 35 MM","UN",1,25.041999999999998,25.041999999999998,{"$f":"SUM(G3721:G3726)","v":32.049266499999995},null,0]
[null,null,"SOLDA ESTANHO/COBRE PARA CONEXOES DE COBRE, FIO 2,5 MM, CARRETEL 500 GR (SEM CHUMBO)","UN",8.3999999999999995E-3,185.02199999999999,1.5541847999999998,null,null,0]
[null,null,"LIXA D'AGUA EM FOLHA, GRAO 100","UN",5.9400000000000001E-2,1.6054999999999999,9.5366699999999999E-2,null,null,0]
[null,null,"PASTA PARA SOLDA DE TUBOS E CONEXOES DE COBRE (EMBALAGEM COM 250 G)","UN",1.0800000000000001E-2,33.914999999999999,0.366282,null,null,0]
[null,null,"AUXILIAR DE ENCANADOR OU BOMBEIRO HIDRÁULICO COM ENCARGOS COMPLEMENTARES","H",0.13400000000000001,16.320999999999998,2.187014,null,null,0]
[null,null,"ENCANADOR OU BOMBEIRO HIDRÁULICO COM ENCARGOS COMPLEMENTARES","H",0.13400000000000001,20.9285,2.8044190000000002,null,null,0]
[null,null,null,null,null,"","",null,null,0]
["SF-01089",{"$f":"INDEX('Orçamentária-TR'!B:C,MATCH(Composições!A3728,'Orçamentária-TR'!B:B,0),2)","v":{"$error":"#N/A"}},null,{"$f":"TRIM(INDEX('Orçamentária-TR'!C:C,MATCH(Composições!A3728,'Orçamentária-TR'!A:A,0),1))","v":{"$error":"#N/A"}},null,"","",null,null,0]
[null,null,null,null,null,"","",null,null,0]
[null,null,"COTOVELO DE COBRE 90 GRAUS (REF 607) SEM ANEL DE SOLDA, BOLSA X BOLSA, 42 MM","UN",1,38.436999999999998,38.436999999999998,{"$f":"SUM(G3730:G3735)","v":48.354974349999999},null,0]
[null,null,"SOLDA ESTANHO/COBRE PARA CONEXOES DE COBRE, FIO 2,5 MM, CARRETEL 500 GR (SEM CHUMBO)","UN",1.7600000000000001E-2,185.02199999999999,3.2563872000000003,null,null,0]
[null,null,"LIXA D'AGUA EM FOLHA, GRAO 100","UN",6.93E-2,1.6054999999999999,0.11126114999999999,null,null,0]
[null,null,"PASTA PARA SOLDA DE TUBOS E CONEXOES DE COBRE (EMBALAGEM COM 250 G)","UN",2.29E-2,33.914999999999999,0.7766535,null,null,0]
[null,null,"AUXILIAR DE ENCANADOR OU BOMBEIRO HIDRÁULICO COM ENCARGOS COMPLEMENTARES","H",0.155,16.320999999999998,2.5297549999999998,null,null,0]
[null,null,"ENCANADOR OU BOMBEIRO HIDRÁULICO COM ENCARGOS COMPLEMENTARES","H",0.155,20.9285,{"$f":"IF(ISNUMBER(F3735),E3735*F3735,\"\")","v":3.2439174999999998},null,null,0]
[null,null,null,null,null,"","",null,null,0]
["SF-01090",{"$f":"INDEX('Orçamentária-TR'!B:C,MATCH(Composições!A3737,'Orçamentária-TR'!B:B,0),2)","v":{"$error":"#N/A"}},null,{"$f":"TRIM(INDEX('Orçamentária-TR'!C:C,MATCH(Composições!A3737,'Orçamentária-TR'!A:A,0),1))","v":{"$error":"#N/A"}},null,"","",null,null,0]
[null,null,null,null,null,"","",null,null,0]
[null,null,"COTOVELO DE COBRE 90 GRAUS (REF 607) SEM ANEL DE SOLDA, BOLSA X BOLSA, 22 MM","UN",1,7.4194999999999993,7.4194999999999993,{"$f":"SUM(G3739:G3744)","v":12.166579699999998},null,0]
[null,null,"SOLDA ESTANHO/COBRE PARA CONEXOES DE COBRE, FIO 2,5 MM, CARRETEL 500 GR (SEM CHUMBO)","UN",4.7999999999999996E-3,185.02199999999999,0.88810559999999983,null,null,0]
[null,null,"LIXA D'AGUA EM FOLHA, GRAO 100","UN",4.3200000000000002E-2,1.6054999999999999,6.9357600000000005E-2,null,null,0]
[null,null,"PASTA PARA SOLDA DE TUBOS E CONEXOES DE COBRE (EMBALAGEM COM 250 G)","UN",6.3E-3,33.914999999999999,0.21366450000000001,null,null,0]
[null,null,"AUXILIAR DE ENCANADOR OU BOMBEIRO HIDRÁULICO COM ENCARGOS COMPLEMENTARES","H",9.6000000000000002E-2,16.320999999999998,1.5668159999999998,null,null,0]
[null,null,"ENCANADOR OU BOMBEIRO HIDRÁULICO COM ENCARGOS COMPLEMENTARES","H",9.6000000000000002E-2,20.9285,2.0091359999999998,null,null,0]
[null,null,null,null,null,"","",null,null,0]
["SF-01092",{"$f":"INDEX('Orçamentária-TR'!B:C,MATCH(Composições!A3746,'Orçamentária-TR'!B:B,0),2)","v":{"$error":"#N/A"}},null,{"$f":"TRIM(INDEX('Orçamentária-TR'!C:C,MATCH(Composições!A3746,'Orçamentária-TR'!A:A,0),1))","v":{"$error":"#N/A"}},null,"","",null,null,0]
[null,null,null,null,null,"","",null,null,0]
[null,null,"LUVA DE COBRE (REF 600) SEM ANEL DE SOLDA, BOLSA X BOLSA, 35 MM","UN",1,15.560999999999998,15.560999999999998,{"$f":"SUM(G3748:G3753)","v":20.892039},null,0]
[null,null,"SOLDA ESTANHO/COBRE PARA CONEXOES DE COBRE, FIO 2,5 MM, CARRETEL 500 GR (SEM CHUMBO)","UN",8.3999999999999995E-3,185.02199999999999,1.5541847999999998,null,null,0]
[null,null,"LIXA D'AGUA EM FOLHA, GRAO 100","UN",5.9400000000000001E-2,1.6054999999999999,9.5366699999999999E-2,null,null,0]
[null,null,"PASTA PARA SOLDA DE TUBOS E CONEXOES DE COBRE (EMBALAGEM COM 250 G)","UN",1.0800000000000001E-2,33.914999999999999,0.366282,null,null,0]
[null,null,"AUXILIAR DE ENCANADOR OU BOMBEIRO HIDRÁULICO COM ENCARGOS COMPLEMENTARES","H",8.8999999999999996E-2,16.320999999999998,1.4525689999999998,null,null,0]
[null,null,"ENCANADOR OU BOMBEIRO HIDRÁULICO COM ENCARGOS COMPLEMENTARES","H",8.8999999999999996E-2,20.9285,1.8626364999999998,null,null,0]
[null,null,null,null,null,"","",null,null,0]
["SF-01093",{"$f":"INDEX('Orçamentária-TR'!B:C,MATCH(Composições!A3755,'Orçamentária-TR'!B:B,0),2)","v":{"$error":"#N/A"}},null,{"$f":"TRIM(INDEX('Orçamentária-TR'!C:C,MATCH(Composições!A3755,'Orçamentária-TR'!A:A,0),1))","v":{"$error":"#N/A"}},null,"","",null,null,0]
[null,null,null,null,null,"","",null,null,0]
[null,null,"LUVA DE COBRE (REF 600) SEM ANEL DE SOLDA, BOLSA X BOLSA, 42 MM","UN",1,19.731499999999997,19.731499999999997,{"$f":"SUM(G3757:G3762)","v":27.712500349999992},null,0]
[null,null,"SOLDA ESTANHO/COBRE PARA CONEXOES DE COBRE, FIO 2,5 MM, CARRETEL 500 GR (SEM CHUMBO)","UN",1.7600000000000001E-2,185.02199999999999,3.2563872000000003,null,null,0]
[null,null,"LIXA D'AGUA EM FOLHA, GRAO 100","UN",6.93E-2,1.6054999999999999,0.11126114999999999,null,null,0]
[null,null,"PASTA PARA SOLDA DE TUBOS E CONEXOES DE COBRE (EMBALAGEM COM 250 G)","UN",2.29E-2,33.914999999999999,0.7766535,null,null,0]
[null,null,"AUXILIAR DE ENCANADOR OU BOMBEIRO HIDRÁULICO COM ENCARGOS COMPLEMENTARES","H",0.10299999999999999,16.320999999999998,1.6810629999999998,null,null,0]
[null,null,"ENCANADOR OU BOMBEIRO HIDRÁULICO COM ENCARGOS COMPLEMENTARES","H",0.10299999999999999,20.9285,2.1556354999999998,null,null,0]
[null,null,null,null,null,"","",null,null,0]
["SF-01094",{"$f":"INDEX('Orçamentária-TR'!B:C,MATCH(Composições!A3764,'Orçamentária-TR'!B:B,0),2)","v":{"$error":"#N/A"}},null,{"$f":"TRIM(INDEX('Orçamentária-TR'!C:C,MATCH(Composições!A3764,'Orçamentária-TR'!A:A,0),1))","v":{"$error":"#N/A"}},null,"","",null,null,0]
[null,null,null,null,null,"","",null,null,0]
[null,null,"LUVA DE COBRE (REF 600) SEM ANEL DE SOLDA, BOLSA X BOLSA, 22 MM","UN",1,3.5150000000000001,3.5150000000000001,{"$f":"SUM(G3766:G3771)","v":7.0700957000000004},null,0]
[null,null,"SOLDA ESTANHO/COBRE PARA CONEXOES DE COBRE, FIO 2,5 MM, CARRETEL 500 GR (SEM CHUMBO)","UN",4.7999999999999996E-3,185.02199999999999,0.88810559999999983,null,null,0]
[null,null,"LIXA D'AGUA EM FOLHA, GRAO 100","UN",4.3200000000000002E-2,1.6054999999999999,6.9357600000000005E-2,null,null,0]
[null,null,"PASTA PARA SOLDA DE TUBOS E CONEXOES DE COBRE (EMBALAGEM COM 250 G)","UN",6.3E-3,33.914999999999999,0.21366450000000001,null,null,0]
[null,null,"AUXILIAR DE ENCANADOR OU BOMBEIRO HIDRÁULICO COM ENCARGOS COMPLEMENTARES","H",6.4000000000000001E-2,16.320999999999998,1.0445439999999999,null,null,0]
[null,null,"ENCANADOR OU BOMBEIRO HIDRÁULICO COM ENCARGOS COMPLEMENTARES","H",6.4000000000000001E-2,20.9285,1.3394239999999999,null,null,0]
[null,null,null,null,null,"","",null,null,0]
["SF-01097",{"$f":"INDEX('Orçamentária-TR'!B:C,MATCH(Composições!A3773,'Orçamentária-TR'!B:B,0),2)","v":{"$error":"#N/A"}},null,{"$f":"TRIM(INDEX('Orçamentária-TR'!C:C,MATCH(Composições!A3773,'Orçamentária-TR'!A:A,0),1))","v":{"$error":"#N/A"}},null,"","",null,null,0]
[null,null,null,null,null,"","",null,null,0]
[null,null,"TUBO DE COBRE CLASSE \"A\", DN = 1 1/4 \" (35 MM), PARA INSTALACOES DE MEDIA PRESSAO PARA GASES COMBUSTIVEIS E MEDICINAIS","M",1.0210999999999999,94.192499999999995,96.17996174999999,{"$f":"SUM(G3775:G3777)","v":98.638428749999989},null,0]
[null,null,"AUXILIAR DE ENCANADOR OU BOMBEIRO HIDRÁULICO COM ENCARGOS COMPLEMENTARES","H",6.6000000000000003E-2,16.320999999999998,1.077186,null,null,0]
[null,null,"ENCANADOR OU BOMBEIRO HIDRÁULICO COM ENCARGOS COMPLEMENTARES","H",6.6000000000000003E-2,20.9285,1.381281,null,null,0]
[null,null,null,null,null,"","",null,null,0]
["SF-01098",{"$f":"INDEX('Orçamentária-TR'!B:C,MATCH(Composições!A3779,'Orçamentária-TR'!B:B,0),2)","v":{"$error":"#N/A"}},null,{"$f":"TRIM(INDEX('Orçamentária-TR'!C:C,MATCH(Composições!A3779,'Orçamentária-TR'!A:A,0),1))","v":{"$error":"#N/A"}},null,"","",null,null,0]
[null,null,null,null,null,"","",null,null,0]
[null,null,"TUBO DE COBRE CLASSE \"A\", DN = 1 1/2 \" (42 MM), PARA INSTALACOES DE MEDIA PRESSAO PARA GASES COMBUSTIVEIS E MEDICINAIS","M",1.0210999999999999,113.32550000000001,115.71666805,{"$f":"SUM(G3781:G3783)","v":118.54763005},null,0]
[null,null,"AUXILIAR DE ENCANADOR OU BOMBEIRO HIDRÁULICO COM ENCARGOS COMPLEMENTARES","H",7.5999999999999998E-2,16.320999999999998,1.2403959999999998,null,null,0]
[null,null,"ENCANADOR OU BOMBEIRO HIDRÁULICO COM ENCARGOS COMPLEMENTARES","H",7.5999999999999998E-2,20.9285,1.5905659999999999,null,null,0]
[null,null,null,null,null,"","",null,null,0]
["SF-01101",{"$f":"INDEX('Orçamentária-TR'!B:C,MATCH(Composições!A3785,'Orçamentária-TR'!B:B,0),2)","v":{"$error":"#N/A"}},null,{"$f":"TRIM(INDEX('Orçamentária-TR'!C:C,MATCH(Composições!A3785,'Orçamentária-TR'!A:A,0),1))","v":{"$error":"#N/A"}},null,"","",null,null,0]
[null,null,null,null,null,"","",null,null,0]
[null,null,"ELETRODUTO FLEXIVEL, EM ACO GALVANIZADO, REVESTIDO EXTERNAMENTE COM PVC PRETO, DIAMETRO EXTERNO DE 50 MM( 1 1/2\"), TIPO SEALTUBO","M",1.1000000000000001,24.832999999999998,27.316300000000002,{"$f":"SUM(G3787:G3790)","v":32.3614593},null,0]
[null,null,"ARAME RECOZIDO 16 BWG, D = 1,60 MM (0,016 KG/M) OU 18 BWG, D = 1,25 MM (0,01 KG/M)","KG",2.3E-3,12.426,2.8579799999999999E-2,null,null,0]
[null,null,"AUXILIAR DE ELETRICISTA COM ENCARGOS COMPLEMENTARES","H",0.13100000000000001,16.767499999999998,2.1965425000000001,null,null,0]
[null,null,"ELETRICISTA COM ENCARGOS COMPLEMENTARES","H",0.13100000000000001,21.526999999999997,2.8200369999999997,null,null,0]
[null,null,null,null,null,"","",null,null,0]
["SF-01102",{"$f":"INDEX('Orçamentária-TR'!B:C,MATCH(Composições!A3792,'Orçamentária-TR'!B:B,0),2)","v":{"$error":"#N/A"}},null,{"$f":"TRIM(INDEX('Orçamentária-TR'!D:D,MATCH(Composições!A3792,'Orçamentária-TR'!B:B,0),1))","v":{"$error":"#N/A"}},null,"","",null,null,2]
[null,null,null,null,null,"","",null,null,2]
[null,null,"TECNICO DE EDIFICACOES COM ENCARGOS COMPLEMENTARES","h",{"$f":"ROUND(1/(1+72.54%),2)","v":0.57999999999999996},2867.8125,1663.33125,{"$f":"SUM(G3794:G3794)","v":1663.33125},null,2]
[null,null,null,null,null,"","",null,null,2]
[null,null,"Obs: considerando 220h/mês e encargos sociais indicados na tabela do SINAPI.",null,null,"","",null,null,2]
[null,null,null,null,null,"","",null,null,2]
["SF-01104",{"$f":"INDEX('Orçamentária-TR'!B:C,MATCH(Composições!A3798,'Orçamentária-TR'!B:B,0),2)","v":"Projeto de Impermeabilização"},null,{"$f":"TRIM(INDEX('Orçamentária-TR'!D:D,MATCH(Composições!A3798,'Orçamentária-TR'!B:B,0),1))","v":"m2"},null,"","",null,null,16000]
[null,null,null,null,null,"",{"$f":"IF(ISNUMBER(F3799),E3799*F3799,\"\")","v":""},null,null,16000]
[null,null,"ENGENHEIRO CIVIL PLENO COM ENCARGOS COMPLEMENTARES","h",{"$f":"ROUND(1/10,4)","v":0.1},94.572499999999991,9.4572500000000002,{"$f":"SUM(G3800:G3800)","v":9.4572500000000002},null,16000]
[null,null,null,null,null,"","",null,null,16000]
["SF-01105",{"$f":"INDEX('Orçamentária-TR'!B:C,MATCH(Composições!A3802,'Orçamentária-TR'!B:B,0),2)","v":"Laminado decorativo de alta pressão (LDAP)"},null,{"$f":"TRIM(INDEX('Orçamentária-TR'!D:D,MATCH(Composições!A3802,'Orçamentária-TR'!B:B,0),1))","v":"m2"},null,"","",null,null,180]
[null,null,null,null,null,"","",null,null,180]
[null,null,"Servente com Encargos Complementares","h",0.18,15.750999999999998,2.8351799999999994,{"$f":"SUM(G3804:G3807)","v":91.021304999999998},null,180]
[null,null,"TAQUEADOR OU TAQUEIRO COM ENCARGOS COMPLEMENTARES","h",0.18,24.747499999999999,4.4545499999999993,null,null,180]
[null,null,"Cola a base de resina sintetica para chapa de laminado melaminico","kg",0.9,28.984500000000001,26.08605,null,null,180]
[null,null,"Laminado melamínico texturizado esp. 1,3 mm","m2",1.05,54.900499999999994,57.645524999999999,null,null,180]
[null,null,null,null,null,"","",null,null,180]
["SF-01106",{"$f":"INDEX('Orçamentária-TR'!B:C,MATCH(Composições!A3809,'Orçamentária-TR'!B:B,0),2)","v":"Granito Preto Absoluto para revestimento de superfícies internas e externas - Linha Administrativa"},null,{"$f":"TRIM(INDEX('Orçamentária-TR'!D:D,MATCH(Composições!A3809,'Orçamentária-TR'!B:B,0),1))","v":"m2"},null,"","",null,null,130]
[null,null,null,null,null,"","",null,null,130]
[null,null,"Argamassa colante tipo AC III","kg",8.6199999999999992,1.1969999999999998,10.318139999999998,{"$f":"SUM(G3811:G3815)","v":686.09211199999993},null,130]
[null,null,"Marmorista/graniteiro com encargos complementares","h",1.1879999999999999,17.793499999999998,21.138677999999995,null,null,130]
[null,null,"Servente com Encargos Complementares","h",0.59399999999999997,15.750999999999998,9.3560939999999988,null,null,130]
[null,null,"Rejunte cimenticio, qualquer cor","kg",0.14000000000000001,2.2799999999999998,0.31919999999999998,null,null,130]
[null,null,"Granito Preto Absoluto, com 20 mm de espessura","m2",1.1599999999999999,556,644.95999999999992,null,null,130]
[null,null,null,null,null,"","",null,null,130]
["SF-01107",{"$f":"INDEX('Orçamentária-TR'!B:C,MATCH(Composições!A3817,'Orçamentária-TR'!B:B,0),2)","v":"Granito Arabesco para revestimento de superfícies internas e externas - Linha Administrativa"},null,{"$f":"TRIM(INDEX('Orçamentária-TR'!D:D,MATCH(Composições!A3817,'Orçamentária-TR'!B:B,0),1))","v":"m2"},null,"","",null,null,30]
[null,null,null,null,null,"","",null,null,30]
[null,null,"Argamassa colante tipo AC III","kg",8.6199999999999992,1.1969999999999998,10.318139999999998,{"$f":"SUM(G3819:G3823)","v":281.19411199999996},null,30]
[null,null,"Marmorista/graniteiro com encargos complementares","h",1.1879999999999999,17.793499999999998,21.138677999999995,null,null,30]
[null,null,"Servente com Encargos Complementares","h",0.59399999999999997,15.750999999999998,9.3560939999999988,null,null,30]
[null,null,"Rejunte cimenticio, qualquer cor","kg",0.14000000000000001,2.2799999999999998,0.31919999999999998,null,null,30]
[null,null,"Granito Arabesco, com 20 mm de espessura","m2",1.1599999999999999,206.95,240.06199999999998,null,null,30]
[null,null,null,null,null,"","",null,null,30]
["SF-01108",{"$f":"INDEX('Orçamentária-TR'!B:C,MATCH(Composições!A3825,'Orçamentária-TR'!B:B,0),2)","v":"Porcelanato para revestimento de superfícies internas e externas - Linha Residencial"},null,{"$f":"TRIM(INDEX('Orçamentária-TR'!D:D,MATCH(Composições!A3825,'Orçamentária-TR'!B:B,0),1))","v":"m2"},null,"","",null,null,100]
[null,null,null,null,null,"","",null,null,100]
[null,null,"PISO EM PORCELANATO RETIFICADO EXTRA, FORMATO MENOR OU IGUAL A 2025 CM2","M2",1.07,46.198500000000003,49.432395000000007,{"$f":"SUM(G3827:G3831)","v":77.204695000000001},null,100]
[null,null,"Rejunte cimenticio, qualquer cor","KG",0.24,2.2799999999999998,0.54719999999999991,null,null,100]
[null,null,"Argamassa colante tipo AC III","KG",8.6199999999999992,1.1969999999999998,10.318139999999998,null,null,100]
[null,null,"AZULEJISTA OU LADRILHISTA COM ENCARGOS COMPLEMENTARES","H",0.61,21.260999999999999,12.969209999999999,null,null,100]
[null,null,"SERVENTE COM ENCARGOS COMPLEMENTARES","H",0.25,15.750999999999998,3.9377499999999994,null,null,100]
[null,null,null,null,null,"","",null,null,100]
["SF-01109",{"$f":"INDEX('Orçamentária-TR'!B:C,MATCH(Composições!A3833,'Orçamentária-TR'!B:B,0),2)","v":"Granitina para revestimento de pisos"},null,{"$f":"TRIM(INDEX('Orçamentária-TR'!D:D,MATCH(Composições!A3833,'Orçamentária-TR'!B:B,0),1))","v":"m2"},null,"","",null,null,390]
[null,null,null,null,null,"","",null,null,390]
[null,null,"JUNTA PLASTICA DE DILATACAO PARA PISOS, COR CINZA, 17 X 3 MM (ALTURA X ESPESSURA)","M",1,0.66499999999999992,0.66499999999999992,{"$f":"SUM(G3835:G3839)","v":95.789864010000002},null,390]
[null,null,"PISO EM GRANILITE, MARMORITE OU GRANITINA, AGREGADO COR PRETO, CINZA, PALHA OU BRANCO, E=  *8* MM (INCLUSO EXECUCAO)","M2",1,67.45,67.45,null,null,390]
[null,null,"ARGAMASSA TRAÇO 1:4 (EM VOLUME DE CIMENTO E AREIA MÉDIA ÚMIDA) PARA CONTRAPISO, PREPARO MANUAL. AF_08/2019","M3",0.02,507.65320049999991,10.153064009999998,null,null,390]
[null,null,"PEDREIRO COM ENCARGOS COMPLEMENTARES","H",0.6,21.327499999999997,12.796499999999998,null,null,390]
[null,null,"SERVENTE COM ENCARGOS COMPLEMENTARES","H",0.3,15.750999999999998,4.7252999999999989,null,null,390]
[null,null,null,null,null,"","",null,null,390]
["SF-01110",{"$f":"INDEX('Orçamentária-TR'!B:C,MATCH(Composições!A3841,'Orçamentária-TR'!B:B,0),2)","v":"Piso vinílico flexível em manta"},null,{"$f":"TRIM(INDEX('Orçamentária-TR'!D:D,MATCH(Composições!A3841,'Orçamentária-TR'!B:B,0),1))","v":"m2"},null,"","",null,null,140]
[null,null,null,null,null,"","",null,null,140]
[null,null,"Piso vinílico em manta esp. 2 mm","m2",1.05,118.06,123.96300000000001,{"$f":"SUM(G3843:G3846)","v":138.00352500000002},null,140]
[null,null,"ADESIVO ACRILICO/COLA DE CONTATO","kg",0.35,24.224999999999998,8.478749999999998,null,null,140]
[null,null,"Pedreiro com Encargos Complementares","h",0.15,21.327499999999997,3.1991249999999996,null,null,140]
[null,null,"Servente com Encargos Complementares","h",0.15,15.750999999999998,2.3626499999999995,null,null,140]
[null,null,null,null,null,"","",null,null,140]
["SF-01111",{"$f":"INDEX('Orçamentária-TR'!B:C,MATCH(Composições!A3848,'Orçamentária-TR'!B:B,0),2)","v":"Tratamento de juntas de dilatação ou movimentação"},null,{"$f":"TRIM(INDEX('Orçamentária-TR'!D:D,MATCH(Composições!A3848,'Orçamentária-TR'!B:B,0),1))","v":"m"},null,"","",null,null,4300]
[null,null,null,null,null,"","",null,null,4300]
[null,null,"Pedreiro com Encargos Complementares","h",0.35,21.327499999999997,7.4646249999999981,{"$f":"SUM(G3850:G3854)","v":35.263904999999994},null,4300]
[null,null,"Servente com Encargos Complementares","h",0.35,15.750999999999998,5.5128499999999985,null,null,4300]
[null,null,"SELANTE MONOCOMPONENTE A BASE DE SILICONE DE BAIXO MODULO, PARA JUNTAS DE PAVIMENTACAO","L",0.1,106.58049999999999,10.658049999999999,null,null,4300]
[null,null,"Corpo de apoio em polietileno para aplicação de mástiques em juntas","m",1,0.46549999999999997,0.46549999999999997,null,null,4300]
[null,null,"ADESIVO ESTRUTURAL A BASE DE RESINA EPOXI, BICOMPONENTE, PASTOSO (TIXOTROPICO)","kg",0.36,31.007999999999999,11.162879999999999,null,null,4300]
[null,null,null,null,null,"","",null,null,4300]
["SF-01112",{"$f":"INDEX('Orçamentária-TR'!B:C,MATCH(Composições!A3856,'Orçamentária-TR'!B:B,0),2)","v":"Recuperação superficial de preparação para pintura epóxi de alto desempenho"},null,{"$f":"TRIM(INDEX('Orçamentária-TR'!D:D,MATCH(Composições!A3856,'Orçamentária-TR'!B:B,0),1))","v":"m2"},null,"","",null,null,360]
[null,null,null,null,null,"","",null,null,360]
[null,null,"Pedreiro com Encargos Complementares","h",0.3,21.327499999999997,6.3982499999999991,{"$f":"SUM(G3858:G3863)","v":122.11630000000001},null,360]
[null,null,"Servente com Encargos Complementares","h",{"$f":"0.3+0.25","v":0.55000000000000004},15.750999999999998,8.6630500000000001,null,null,360]
[null,null,"Massa rápida para recuperação","kg",5,18.98,94.9,null,null,360]
[null,null,"Argamassa para recuperação","kg",0.5,11.5,5.75,null,null,360]
[null,null,"Primer à base de resina acrílica","kg",0.1,46.76,4.6760000000000002,null,null,360]
[null,null,"Lixa grana 100 para superfície metálica","UN",0.5,3.4579999999999997,{"$f":"IF(ISNUMBER(F3863),E3863*F3863,\"\")","v":1.7289999999999999},null,null,360]
[null,null,null,null,null,"","",null,null,360]
[null,null,"Fonte: Pini 20.105.000010.SER e Pini 20.105.000015.SER",null,null,"","",null,null,360]
[null,null,null,null,null,"","",null,null,360]
["SF-01113",{"$f":"INDEX('Orçamentária-TR'!B:C,MATCH(Composições!A3867,'Orçamentária-TR'!B:B,0),2)","v":"Lixamento, calafetação e aplicação de sinteco em piso de madeira - Linha Residencial"},null,{"$f":"TRIM(INDEX('Orçamentária-TR'!D:D,MATCH(Composições!A3867,'Orçamentária-TR'!B:B,0),1))","v":"m2"},null,"","",null,null,600]
[null,null,null,null,null,"","",null,null,600]
[null,null,"Raspagem, calafetagem, aplicação de synteko alto brilho em piso de madeira","m2",1,42.75,42.75,{"$f":"SUM(G3869:G3869)","v":42.75},null,600]
[null,null,null,null,null,"","",null,null,600]
["SF-01114",{"$f":"INDEX('Orçamentária-TR'!B:C,MATCH(Composições!A3871,'Orçamentária-TR'!B:B,0),2)","v":"Piso em taco de madeira - Linha Residencial"},null,{"$f":"TRIM(INDEX('Orçamentária-TR'!D:D,MATCH(Composições!A3871,'Orçamentária-TR'!B:B,0),1))","v":"m2"},null,"","",null,null,300]
[null,null,null,null,null,"","",null,null,300]
[null,null,"TACO DE MADEIRA PARA PISO, IPE (CERNE) OU EQUIVALENTE DA REGIAO, 7 X 42 CM, E = 2 CM","M2",1.05,100.624,105.65519999999999,{"$f":"SUM(G3873:G3876)","v":130.50957499999998},null,300]
[null,null,"COLA BRANCA BASE PVA","L",0.5,16.634499999999999,8.3172499999999996,null,null,300]
[null,null,"SERVENTE COM ENCARGOS COMPLEMENTARES","H",0.5,15.750999999999998,7.8754999999999988,null,null,300]
[null,null,"TAQUEADOR OU TAQUEIRO COM ENCARGOS COMPLEMENTARES","H",0.35,24.747499999999999,8.661624999999999,null,null,300]
[null,null,null,null,null,"","",null,null,300]
["SF-01115",{"$f":"INDEX('Orçamentária-TR'!B:C,MATCH(Composições!A3878,'Orçamentária-TR'!B:B,0),2)","v":"Piso de borracha antiderrapante tipo moeda"},null,{"$f":"TRIM(INDEX('Orçamentária-TR'!D:D,MATCH(Composições!A3878,'Orçamentária-TR'!B:B,0),1))","v":"m2"},null,"","",null,null,150]
[null,null,null,null,null,"","",null,null,150]
[null,null,"ADESIVO ACRILICO/COLA DE CONTATO","KG",0.37,24.224999999999998,8.9632499999999986,{"$f":"SUM(G3880:G3883)","v":174.72409499999998},null,150]
[null,null,"PISO DE BORRACHA FRISADO OU PASTILHADO, PRETO, EM PLACAS 50 X 50 CM, E = 7 MM, PARA ARGAMASSA","M2",1,159.45749999999998,159.45749999999998,null,null,150]
[null,null,"PEDREIRO COM ENCARGOS COMPLEMENTARES","H",0.17,21.327499999999997,3.6256749999999998,null,null,150]
[null,null,"SERVENTE COM ENCARGOS COMPLEMENTARES","H",0.17,15.750999999999998,2.67767,null,null,150]
[null,null,null,null,null,"","",null,null,150]
["SF-01116",{"$f":"INDEX('Orçamentária-TR'!B:C,MATCH(Composições!A3885,'Orçamentária-TR'!B:B,0),2)","v":"Piso sintético flutuante - Linha Residencial"},null,{"$f":"TRIM(INDEX('Orçamentária-TR'!D:D,MATCH(Composições!A3885,'Orçamentária-TR'!B:B,0),1))","v":"m2"},null,"","",null,null,600]
[null,null,null,null,null,"","",null,null,600]
[null,null,"Piso sintético flutuante, laminado de alta resistência, superfície em overlay, substrato HDF-H, painel de fibras de madeira de alta densidade, e = 7 cm","M2",1.05,73.900000000000006,77.595000000000013,{"$f":"SUM(G3887:G3889)","v":94.132125000000016},null,600]
[null,null,"SERVENTE COM ENCARGOS COMPLEMENTARES","H",0.5,15.750999999999998,7.8754999999999988,null,null,600]
[null,null,"TAQUEADOR OU TAQUEIRO COM ENCARGOS COMPLEMENTARES","H",0.35,24.747499999999999,8.661624999999999,null,null,600]
[null,null,null,null,null,"","",null,null,600]
["SF-01117",{"$f":"INDEX('Orçamentária-TR'!B:C,MATCH(Composições!A3891,'Orçamentária-TR'!B:B,0),2)","v":"Revestimento acústico perfilado - Linha Administrativa"},null,{"$f":"TRIM(INDEX('Orçamentária-TR'!D:D,MATCH(Composições!A3891,'Orçamentária-TR'!B:B,0),1))","v":"m2"},null,"","",null,null,300]
[null,null,null,null,null,"","",null,null,300]
[null,null,"Placa acústica perfilada, semi-rígida, de estrutura micro-celular, com dimensões de 625x625x25 mm, na cor natural (cinza claro)","m2",1.05,163.4,171.57000000000002,{"$f":"SUM(G3893:G3895)","v":179.400375},null,300]
[null,null,"TAQUEADOR OU TAQUEIRO COM ENCARGOS COMPLEMENTARES","H",0.15,24.747499999999999,3.7121249999999995,null,null,300]
[null,null,"ADESIVO ACRILICO/COLA DE CONTATO","kg",0.17,24.224999999999998,4.1182499999999997,null,null,300]
[null,null,null,null,null,"","",null,null,300]
["SF-01118",{"$f":"INDEX('Orçamentária-TR'!B:C,MATCH(Composições!A3897,'Orçamentária-TR'!B:B,0),2)","v":"Revestimento acústico plano - Linha Administrativa"},null,{"$f":"TRIM(INDEX('Orçamentária-TR'!D:D,MATCH(Composições!A3897,'Orçamentária-TR'!B:B,0),1))","v":"m2"},null,"","",null,null,300]
[null,null,null,null,null,"","",null,null,300]
[null,null,"Placa acústica plana, semi-rígida, de estrutura micro-celular, com dimensões de 625x625x25 mm, na cor natural (cinza claro)","m2",1.05,191.9,201.495,{"$f":"SUM(G3899:G3901)","v":209.32537499999998},null,300]
[null,null,"TAQUEADOR OU TAQUEIRO COM ENCARGOS COMPLEMENTARES","H",0.15,24.747499999999999,3.7121249999999995,null,null,300]
[null,null,"ADESIVO ACRILICO/COLA DE CONTATO","kg",0.17,24.224999999999998,4.1182499999999997,null,null,300]
[null,null,null,null,null,"","",null,null,300]
["SF-01119",{"$f":"INDEX('Orçamentária-TR'!B:C,MATCH(Composições!A3903,'Orçamentária-TR'!B:B,0),2)","v":"Forro monolítico de gesso em placas"},null,{"$f":"TRIM(INDEX('Orçamentária-TR'!D:D,MATCH(Composições!A3903,'Orçamentária-TR'!B:B,0),1))","v":"m2"},null,"","",null,null,90]
[null,null,null,null,null,"","",null,null,90]
[null,null,"ARAME GALVANIZADO 18 BWG, D = 1,24MM (0,009 KG/M)","KG",2.5000000000000001E-2,17.717499999999998,0.44293749999999998,{"$f":"SUM(G3905:G3911)","v":38.53348295},null,90]
[null,null,"GESSO EM PO PARA REVESTIMENTOS/MOLDURAS/SANCAS","KG",0.99639999999999995,0.57950000000000002,0.57741379999999998,null,null,90]
[null,null,"PLACA DE GESSO PARA FORRO, DE  *60 X 60* CM E ESPESSURA DE 12 MM (30 MM NAS BORDAS) SEM COLOCACAO","M2",1.0293000000000001,13.195499999999999,13.582128150000001,null,null,90]
[null,null,"SISAL EM FIBRA","KG",7.7999999999999996E-3,11.875,9.2624999999999999E-2,null,null,90]
[null,null,"PARAFUSO ZINCADO, AUTOBROCANTE, FLANGEADO, 4,2 MM X 19 MM","CENTO",3.0800000000000001E-2,20.624500000000001,0.63523460000000009,null,null,90]
[null,null,"GESSEIRO COM ENCARGOS COMPLEMENTARES","H",0.7974,21.222999999999999,16.923220199999999,null,null,90]
[null,null,"SERVENTE COM ENCARGOS COMPLEMENTARES","H",0.3987,15.750999999999998,6.2799236999999994,null,null,90]
[null,null,null,null,null,"","",null,null,90]
["SF-01120",{"$f":"INDEX('Orçamentária-TR'!B:C,MATCH(Composições!A3913,'Orçamentária-TR'!B:B,0),2)","v":"Textura acrílica - Linha Administrativa"},null,{"$f":"TRIM(INDEX('Orçamentária-TR'!D:D,MATCH(Composições!A3913,'Orçamentária-TR'!B:B,0),1))","v":"m2"},null,"","",null,null,4500]
[null,null,null,null,null,"","",null,null,4500]
[null,null,"MASSA PARA TEXTURA LISA DE BASE ACRILICA, USO INTERNO E EXTERNO","KG",1.1399999999999999,5.9944999999999995,6.8337299999999992,{"$f":"SUM(G3915:G3917)","v":12.126579},null,4500]
[null,null,"PINTOR COM ENCARGOS COMPLEMENTARES","H",0.188,22.372499999999999,4.2060300000000002,null,null,4500]
[null,null,"SERVENTE COM ENCARGOS COMPLEMENTARES","H",6.9000000000000006E-2,15.750999999999998,1.086819,null,null,4500]
[null,null,null,null,null,"","",null,null,4500]
["SF-01121",{"$f":"INDEX('Orçamentária-TR'!B:C,MATCH(Composições!A3919,'Orçamentária-TR'!B:B,0),2)","v":"Pintura com tinta látex acrílica Premium - cores especiais (sistema tintométrico)"},null,{"$f":"TRIM(INDEX('Orçamentária-TR'!D:D,MATCH(Composições!A3919,'Orçamentária-TR'!B:B,0),1))","v":"m2"},null,"","",null,null,6460]
[null,null,null,null,null,"","",null,null,6460]
[null,null,"TINTA ACRILICA PREMIUM, COR BRANCO FOSCO","L",{"$f":"ROUND(0.33*1.15,4)","v":0.3795},19.474999999999998,7.3907624999999992,{"$f":"SUM(G3921:G3923)","v":12.661239},null,6460]
[null,null,"PINTOR COM ENCARGOS COMPLEMENTARES","H",0.187,22.372499999999999,4.1836574999999998,null,null,6460]
[null,null,"SERVENTE COM ENCARGOS COMPLEMENTARES","H",6.9000000000000006E-2,15.750999999999998,1.086819,null,null,6460]
[null,null,null,null,null,"","",null,null,6460]
[null,null,"Obs.: Acréscimo de 15% no coeficiente da tinta para suprir a diferença de preço da tinta branca para as tintas de cores especiais.",null,null,"","",null,null,6460]
[null,null,null,null,null,"","",null,null,6460]
["SF-01123",{"$f":"INDEX('Orçamentária-TR'!B:C,MATCH(Composições!A3927,'Orçamentária-TR'!B:B,0),2)","v":"Pintura com tinta acrílica (pisos)"},null,{"$f":"TRIM(INDEX('Orçamentária-TR'!D:D,MATCH(Composições!A3927,'Orçamentária-TR'!B:B,0),1))","v":"m2"},null,"",{"$f":"IF(ISNUMBER(F3927),E3927*F3927,\"\")","v":""},null,null,12000]
[null,null,null,null,null,"","",null,null,12000]
[null,null,"TINTA ACRILICA PREMIUM PARA PISO","L",0.17,12.995999999999999,2.20932,{"$f":"SUM(G3929:G3931)","v":13.977444999999998},null,12000]
[null,null,"PINTOR COM ENCARGOS COMPLEMENTARES","H",0.35,22.372499999999999,7.8303749999999992,null,null,12000]
[null,null,"SERVENTE COM ENCARGOS COMPLEMENTARES","H",0.25,15.750999999999998,3.9377499999999994,null,null,12000]
[null,null,null,null,null,"","",null,null,12000]
["SF-01124",{"$f":"INDEX('Orçamentária-TR'!B:C,MATCH(Composições!A3933,'Orçamentária-TR'!B:B,0),2)","v":"Pintura com tinta epóxi de alto desempenho (pisos)"},null,{"$f":"TRIM(INDEX('Orçamentária-TR'!D:D,MATCH(Composições!A3933,'Orçamentária-TR'!B:B,0),1))","v":"m2"},null,"","",null,null,3600]
[null,null,null,null,null,"","",null,null,3600]
[null,null,"TINTA EPOXI PREMIUM, BRANCA","L",0.52559999999999996,62.329499999999996,32.760385199999995,{"$f":"SUM(G3935:G3938)","v":57.215953999999996},null,3600]
[null,null,"PEDREIRO COM ENCARGOS COMPLEMENTARES","H",0.5,21.327499999999997,10.663749999999999,null,null,3600]
[null,null,"SERVENTE COM ENCARGOS COMPLEMENTARES","H",0.5,15.750999999999998,7.8754999999999988,null,null,3600]
[null,null,"PRIMER EPOXI","GL",3.9199999999999999E-2,150.9265,5.9163188,null,null,3600]
[null,null,null,null,null,"","",null,null,3600]
["SF-01125",{"$f":"INDEX('Orçamentária-TR'!B:C,MATCH(Composições!A3940,'Orçamentária-TR'!B:B,0),2)","v":"Verniz de poliuretano sobre pintura epóxi de alto desempenho"},null,{"$f":"TRIM(INDEX('Orçamentária-TR'!D:D,MATCH(Composições!A3940,'Orçamentária-TR'!B:B,0),1))","v":"m2"},null,"","",null,null,3600]
[null,null,null,null,null,"","",null,null,3600]
[null,null,"LIXA EM FOLHA PARA PAREDE OU MADEIRA, NUMERO 120 (COR VERMELHA)","UN",0.4,0.60799999999999998,0.2432,{"$f":"SUM(G3942:G3946)","v":18.451555499999998},null,3600]
[null,null,"SOLVENTE DILUENTE A BASE DE AGUARRAS","L",3.3000000000000002E-2,10.6685,0.3520605,null,null,3600]
[null,null,"VERNIZ POLIURETANO BRILHANTE PARA MADEIRA, COM FILTRO SOLAR, USO INTERNO E EXTERNO","L",0.22,27.673499999999997,6.088169999999999,null,null,3600]
[null,null,"PINTOR COM ENCARGOS COMPLEMENTARES","H",0.35,22.372499999999999,7.8303749999999992,null,null,3600]
[null,null,"SERVENTE COM ENCARGOS COMPLEMENTARES","H",0.25,15.750999999999998,3.9377499999999994,null,null,3600]
[null,null,null,null,null,"","",null,null,3600]
["SF-01126",{"$f":"INDEX('Orçamentária-TR'!B:C,MATCH(Composições!A3948,'Orçamentária-TR'!B:B,0),2)","v":"Tratamento antiderrapante em verniz de poliuretano sobre pintura epóxi"},null,{"$f":"TRIM(INDEX('Orçamentária-TR'!D:D,MATCH(Composições!A3948,'Orçamentária-TR'!B:B,0),1))","v":"m2"},null,"","",null,null,2100]
[null,null,null,null,null,"","",null,null,2100]
[null,null,"Carga inerte para tratamento antiderrapante em piso (ref.: Sikadur 512 ou 515)","KG",2,3.33,6.66,{"$f":"SUM(G3950:G3951)","v":7.7468190000000003},null,2100]
[null,null,"SERVENTE COM ENCARGOS COMPLEMENTARES","H",6.9000000000000006E-2,15.750999999999998,1.086819,null,null,2100]
[null,null,null,null,null,"","",null,null,2100]
["SF-01127",{"$f":"INDEX('Orçamentária-TR'!B:C,MATCH(Composições!A3953,'Orçamentária-TR'!B:B,0),2)","v":"Pintura para superfícies galvanizadas"},null,{"$f":"TRIM(INDEX('Orçamentária-TR'!D:D,MATCH(Composições!A3953,'Orçamentária-TR'!B:B,0),1))","v":"m2"},null,"","",null,null,30]
[null,null,null,null,null,"","",null,null,30]
[null,null,"SOLVENTE DILUENTE A BASE DE AGUARRAS","L",6.1899999999999997E-2,10.6685,0.66038014999999994,{"$f":"SUM(G3955:G3961)","v":25.025173599999995},null,30]
[null,null,"PRIMER UNIVERSAL, FUNDO ANTICORROSIVO TIPO ZARCAO","18L",1.15E-2,428.51649999999995,4.9279397499999993,null,null,30]
[null,null,"PINTOR COM ENCARGOS COMPLEMENTARES","H",0.52659999999999996,22.372499999999999,11.781358499999998,null,null,30]
[null,null,"COMPRESSOR DE AR, VAZAO DE 10 PCM, RESERVATORIO 100 L, PRESSAO DE TRABALHO ENTRE 6,9 E 9,7 BAR  POTENCIA 2 HP, TENSAO 110/220 V \u0096 CHI DIURNO. AF_05/2017","CHI",0.37319999999999998,0.13300000000000001,4.9635600000000002E-2,null,null,30]
[null,null,"COMPRESSOR DE AR, VAZAO DE 10 PCM, RESERVATORIO 100 L, PRESSAO DE TRABALHO ENTRE 6,9 E 9,7 BAR, POTENCIA 2 HP, TENSAO 110/220 V - CHP DIURNO. AF_05/2017","CHP",0.15340000000000001,1.0165,0.15593109999999999,null,null,30]
[null,null,"LIXA EM FOLHA PARA FERRO, NUMERO 150","UN",0.3,2.5649999999999999,0.76949999999999996,null,null,30]
[null,null,"PINTOR COM ENCARGOS COMPLEMENTARES","H",0.29859999999999998,22.372499999999999,6.6804284999999988,null,null,30]
[null,null,null,null,null,"","",null,null,30]
["SF-01128",{"$f":"INDEX('Orçamentária-TR'!B:C,MATCH(Composições!A3963,'Orçamentária-TR'!B:B,0),2)","v":"Selagem ou resselagem de juntas em pavimentação de concreto armado"},null,{"$f":"TRIM(INDEX('Orçamentária-TR'!D:D,MATCH(Composições!A3963,'Orçamentária-TR'!B:B,0),1))","v":"m"},null,"","",null,null,300]
[null,null,null,null,null,"","",null,null,300]
[null,null,"SERVENTE COM ENCARGOS COMPLEMENTARES","h",{"$f":"ROUND(4/74.7,4)","v":5.3499999999999999E-2},15.750999999999998,0.84267849999999989,{"$f":"SUM(G3965:G3970)","v":8.037722090941525},null,300]
[null,null,"Compressor de ar portátil de 71 PCM - 15 kW","CHP",{"$f":"ROUND(1/74.7,4)","v":1.34E-2},15.399189744578706,0.20634914257735468,null,null,300]
[null,null,"Serra para corte de concreto e asfalto - 10 kW","CHP",{"$f":"ROUND(1/74.7,4)","v":1.34E-2},16.427136385532421,0.22012362756613446,null,null,300]
[null,null,"Cordão de polietileno expandido","m",1,0.12005921836228288,0.12005921836228288,null,null,300]
[null,null,"Disco diamantado - D = 350 mm","UN",3.3E-3,235.21978861689504,0.77622530243575361,null,null,300]
[null,null,"SELANTE A BASE DE ALCATRAO E POLIURETANO PARA JUNTAS HORIZONTAIS","kg",0.1181,49.722999999999999,5.8722862999999998,null,null,300]
[null,null,null,null,null,"","",null,null,300]
["SF-01129",{"$f":"INDEX('Orçamentária-TR'!B:C,MATCH(Composições!A3972,'Orçamentária-TR'!B:B,0),2)","v":"Pavimentação em elementos intertravados de concreto"},null,{"$f":"TRIM(INDEX('Orçamentária-TR'!D:D,MATCH(Composições!A3972,'Orçamentária-TR'!B:B,0),1))","v":"m2"},null,"","",null,null,330]
[null,null,null,null,null,"","",null,null,330]
[null,null,"AREIA MEDIA - POSTO JAZIDA/FORNECEDOR (RETIRADO NA JAZIDA, SEM TRANSPORTE)","M3",5.6800000000000003E-2,93.8125,5.3285499999999999,{"$f":"SUM(G3974:G3984)","v":45.423546582},null,330]
[null,null,"PO DE PEDRA (POSTO PEDREIRA/FORNECEDOR, SEM FRETE)","M3",3.5999999999999999E-3,59.261000000000003,0.21333959999999999,null,null,330]
[null,null,"BLOQUETE/PISO DE CONCRETO - MODELO BLOCO PISOGRAMA/CONCREGRAMA 2 FUROS, DIMENSOES APROX. DE 35 CM X 15 CM E ESPESSURA DE 7 CM (+/- 1 CM), COR NATURAL","M2",1.0042,34.7605,34.906494100000003,null,null,330]
[null,null,"CALCETEIRO COM ENCARGOS COMPLEMENTARES","H",9.7000000000000003E-2,20.035499999999999,1.9434434999999999,null,null,330]
[null,null,"SERVENTE COM ENCARGOS COMPLEMENTARES","H",9.7000000000000003E-2,15.750999999999998,1.5278469999999997,null,null,330]
[null,null,"PLACA VIBRATÓRIA REVERSÍVEL COM MOTOR 4 TEMPOS A GASOLINA, FORÇA CENTRÍFUGA DE 25 KN (2500 KGF), POTÊNCIA 5,5 CV - CHP DIURNO. AF_08/2015","CHP",4.1000000000000003E-3,6.9634999999999998,2.8550350000000002E-2,null,null,330]
[null,null,"PLACA VIBRATÓRIA REVERSÍVEL COM MOTOR 4 TEMPOS A GASOLINA, FORÇA CENTRÍFUGA DE 25 KN (2500 KGF), POTÊNCIA 5,5 CV - CHI DIURNO. AF_08/2015","CHI",4.4400000000000002E-2,0.71249999999999991,3.1634999999999996E-2,null,null,330]
[null,null,"CORTADORA DE PISO COM MOTOR 4 TEMPOS A GASOLINA, POTÊNCIA DE 13 HP, COM DISCO DE CORTE DIAMANTADO SEGMENTADO PARA CONCRETO, DIÂMETRO DE 350 MM, FURO DE 1\" (14 X 1\") - CHP DIURNO. AF_08/2015","CHP",3.7000000000000002E-3,14.535,5.3779500000000001E-2,null,null,330]
[null,null,"CORTADORA DE PISO COM MOTOR 4 TEMPOS A GASOLINA, POTÊNCIA DE 13 HP, COM DISCO DE CORTE DIAMANTADO SEGMENTADO PARA CONCRETO, DIÂMETRO DE 350 MM, FURO DE 1\" (14 X 1\") - CHI DIURNO. AF_08/2015","CHI",4.48E-2,0.69350000000000001,3.1068800000000001E-2,null,null,330]
[null,null,"CARGA, MANOBRAS E DESCARGA DE AREIA, BRITA, PEDRA DE MAO E SOLOS COM CAMINHAO BASCULANTE 6 M3 (DESCARGA LIVRE)","m3",{"$f":"1*(E3974+E3975)","v":6.0400000000000002E-2},0.7583660000000001,4.5805306400000009E-2,null,null,330]
[null,null,"TRANSPORTE COM CAMINHÃO BASCULANTE DE 6 M3, EM VIA URBANA PAVIMENTADA, DMT ATÉ 30 KM (UNIDADE: M3xKM). AF_01/2018","M3xKM",{"$f":"20*(E3974+E3975)","v":1.208},1.0869482000000001,1.3130334256,null,null,330]
[null,null,null,null,null,"","",null,null,330]
[null,null,"Obs: considerando fornecedor de areia e brita a 20 km do Senado Federal",null,null,"","",null,null,330]
[null,null,null,null,null,"","",null,null,330]
["SF-01130",{"$f":"INDEX('Orçamentária-TR'!B:C,MATCH(Composições!A3988,'Orçamentária-TR'!B:B,0),2)","v":"Pavimentação com Asfalto Pré-Misturado a Frio (PMF)"},null,{"$f":"TRIM(INDEX('Orçamentária-TR'!D:D,MATCH(Composições!A3988,'Orçamentária-TR'!B:B,0),1))","v":"m3"},null,"","",null,null,50]
[null,null,null,null,null,"","",null,null,50]
[null,null,"SERVENTE COM ENCARGOS COMPLEMENTARES","H",0.4,15.750999999999998,6.3003999999999998,{"$f":"SUM(G3990:G4011)","v":519.34467285000005},null,50]
[null,null,"ROLO COMPACTADOR DE PNEUS, ESTATICO, PRESSAO VARIAVEL, POTENCIA 110 HP, PESO SEM/COM LASTRO 10,8/27 T, LARGURA DE ROLAGEM 2,30 M - CHI DIURNO. AF_06/2017","CHI",6.0000000000000001E-3,45.314999999999998,{"$f":"IF(ISNUMBER(F3991),E3991*F3991,\"\")","v":0.27188999999999997},null,null,50]
[null,null,"ROLO COMPACTADOR DE PNEUS, ESTATICO, PRESSAO VARIAVEL, POTENCIA 110 HP, PESO SEM/COM LASTRO 10,8/27 T, LARGURA DE ROLAGEM 2,30 M - CHP DIURNO. AF_06/2017","CHP",1.0699999999999999E-2,109.136,1.1677552,null,null,50]
[null,null,"ROLO COMPACTADOR VIBRATORIO TANDEM, ACO LISO, POTENCIA 125 HP, PESO SEM/COM LASTRO 10,20/11,65 T, LARGURA DE TRABALHO 1,73 M - CHP DIURNO. AF_11/2016","CHP",6.1999999999999998E-3,116.166,0.7202291999999999,null,null,50]
[null,null,"ROLO COMPACTADOR VIBRATORIO TANDEM, ACO LISO, POTENCIA 125 HP, PESO SEM/COM LASTRO 10,20/11,65 T, LARGURA DE TRABALHO 1,73 M - CHI DIURNO. AF_11/2016","CHI",1.0500000000000001E-2,42.512499999999996,0.44638125000000001,null,null,50]
[null,null,"TRATOR DE PNEUS, POTÊNCIA 85 CV, TRAÇÃO 4X4, PESO COM LASTRO DE 4.675 KG - CHI DIURNO. AF_06/2014","CHI",1.2200000000000001E-2,24.918499999999998,0.30400569999999999,null,null,50]
[null,null,"TRATOR DE PNEUS, POTÊNCIA 85 CV, TRAÇÃO 4X4, PESO COM LASTRO DE 4.675 KG - CHP DIURNO. AF_06/2014","CHP",4.4999999999999997E-3,93.688999999999993,0.42160049999999993,null,null,50]
[null,null,"VASSOURA MECÂNICA REBOCÁVEL COM ESCOVA CILÍNDRICA, LARGURA ÚTIL DE VARRIMENTO DE 2,44 M - CHI DIURNO. AF_06/2014","CHI",1.2200000000000001E-2,2.1659999999999999,2.6425199999999999E-2,null,null,50]
[null,null,"VASSOURA MECÂNICA REBOCÁVEL COM ESCOVA CILÍNDRICA, LARGURA ÚTIL DE VARRIMENTO DE 2,44 M - CHP DIURNO. AF_06/2014","CHP",4.4999999999999997E-3,4.5504999999999995,2.0477249999999995E-2,null,null,50]
[null,null,"VIBROACABADORA DE ASFALTO SOBRE ESTEIRAS, LARGURA DE PAVIMENTAÇÃO 1,90 M A 5,30 M, POTÊNCIA 105 HP CAPACIDADE 450 T/H - CHP DIURNO. AF_11/2014","CHP",1.67E-2,235.57149999999999,3.9340440499999998,null,null,50]
[null,null,"CAMINHÃO BASCULANTE 10 M3, TRUCADO, POTÊNCIA 230 CV, INCLUSIVE CAÇAMBA METÁLICA, COM DISTRIBUIDOR DE AGREGADOS ACOPLADO - CHP DIURNO. AF_02/2017","CHP",2.7199999999999998E-2,140.904,3.8325887999999999,null,null,50]
[null,null,"SERVENTE COM ENCARGOS COMPLEMENTARES","H",0.3,15.750999999999998,4.7252999999999989,null,null,50]
[null,null,"AREIA GROSSA - POSTO JAZIDA/FORNECEDOR (RETIRADO NA JAZIDA, SEM TRANSPORTE)","m3",0.18,113.24949999999998,20.384909999999998,null,null,50]
[null,null,"PEDRA BRITADA N. 0, OU PEDRISCO (4,8 A 9,5 MM) POSTO PEDREIRA/FORNECEDOR, SEM FRETE","m3",1.26,79.268000000000001,99.877679999999998,null,null,50]
[null,null,"EMULSAO ASFALTICA CATIONICA RL-1C PARA USO EM PAVIMENTACAO ASFALTICA (COLETADO CAIXA NA ANP ACRESCIDO DE ICMS)","T",0.14000000000000001,2278.1095,318.93533000000002,null,null,50]
[null,null,"GRUPO GERADOR ESTACIONÁRIO, POTÊNCIA 150 KVA, MOTOR A DIESEL- CHP DIURNO. AF_03/2016","CHP",0.05,89.119500000000002,4.4559750000000005,null,null,50]
[null,null,"PÁ CARREGADEIRA SOBRE RODAS, POTÊNCIA 197 HP, CAPACIDADE DA CAÇAMBA 2,5 A 3,5 M3, PESO OPERACIONAL 18338 KG - CHP DIURNO. AF_06/2014","CHP",2.1000000000000001E-2,121.84699999999998,2.5587869999999997,null,null,50]
[null,null,"PÁ CARREGADEIRA SOBRE RODAS, POTÊNCIA 197 HP, CAPACIDADE DA CAÇAMBA 2,5 A 3,5 M3, PESO OPERACIONAL 18338 KG - CHI DIURNO. AF_06/2014","CHI",2.9000000000000001E-2,50.606500000000004,1.4675885000000002,null,null,50]
[null,null,"USINA DE ASFALTO À FRIO, CAPACIDADE DE 40 A 60 TON/HORA, ELÉTRICA POTÊNCIA 30 CV - CHP DIURNO. AF_03/2016","CHP",0.05,106.191,5.3095500000000007,null,null,50]
[null,null,"TANQUE DE ASFALTO ESTACIONÁRIO COM SERPENTINA, CAPACIDADE 30.000 L - CHP DIURNO. AF_06/2014","CHP",0.1,117.87599999999999,11.787599999999999,null,null,50]
[null,null,"CARGA, MANOBRAS E DESCARGA DE AREIA, BRITA, PEDRA DE MAO E SOLOS COM CAMINHAO BASCULANTE 6 M3 (DESCARGA LIVRE)","m3",{"$f":"1*(E4002+E4003)","v":1.44},0.7583660000000001,1.0920470400000002,null,null,50]
[null,null,"TRANSPORTE COM CAMINHÃO BASCULANTE DE 6 M3, EM VIA URBANA PAVIMENTADA, DMT ATÉ 30 KM (UNIDADE: M3xKM). AF_01/2018","M3xKM",{"$f":"20*(E4003+E4002)","v":28.799999999999997},1.0869482000000001,31.304108160000002,null,null,50]
[null,null,null,null,null,"","",null,null,50]
[null,null,"Obs: considerando fornecedor de areia e brita a 20 km do Senado Federal",null,null,"","",null,null,50]
[null,null,null,null,null,"","",null,null,50]
["SF-01131",{"$f":"INDEX('Orçamentária-TR'!B:C,MATCH(Composições!A4015,'Orçamentária-TR'!B:B,0),2)","v":"Pavimentação asfáltica com CBUQ para aplicação a frio (remendo)"},null,{"$f":"TRIM(INDEX('Orçamentária-TR'!D:D,MATCH(Composições!A4015,'Orçamentária-TR'!B:B,0),1))","v":"m3"},null,"","",null,null,50]
[null,null,null,null,null,"","",null,null,50]
[null,null,"SERVENTE COM ENCARGOS COMPLEMENTARES","H",{"$f":"6/0.5","v":12},15.750999999999998,189.01199999999997,{"$f":"SUM(G4017:G4020)","v":2666.9136824421189},null,50]
[null,null,"Compactador manual de placa vibratória - 3 kW - CHP","CHP",{"$f":"0.2/0.5","v":0.4},5.3359652605459047,2.1343861042183621,null,null,50]
[null,null,"Compactador manual de placa vibratória - 3 kW - CHI","CHI",{"$f":"0.8/0.5","v":1.6},0.47956021118783038,0.76729633790052865,null,null,50]
[null,null,"Asfalto a frio ensacado","kg",2500,0.99,2475,null,null,50]
[null,null,null,null,null,"","",null,null,50]
["SF-01132",{"$f":"INDEX('Orçamentária-TR'!B:C,MATCH(Composições!A4022,'Orçamentária-TR'!B:B,0),2)","v":"Pintura para sinalização e demarcação viária horizontal"},null,{"$f":"TRIM(INDEX('Orçamentária-TR'!D:D,MATCH(Composições!A4022,'Orçamentária-TR'!B:B,0),1))","v":"m2"},null,"","",null,null,6210]
[null,null,null,null,null,"","",null,null,6210]
[null,null,"SOLVENTE DILUENTE A BASE DE AGUARRAS","L",0.13,10.6685,1.3869050000000001,{"$f":"SUM(G4024:G4030)","v":14.582214049999999},null,6210]
[null,null,"CAMINHÃO TOCO, PBT 16.000 KG, CARGA ÚTIL MÁX. 10.685 KG, DIST. ENTRE EIXOS 4,8 M, POTÊNCIA 189 CV, INCLUSIVE CARROCERIA FIXA ABERTA DE MADEIRA P/ TRANSPORTE GERAL DE CARGA SECA, DIMEN. APROX. 2,5 X 7,00 X 0,50 M - CHP DIURNO. AF_06/2014","CHP",3.3E-3,101.973,0.3365109,null,null,6210]
[null,null,"TINTA A BASE DE RESINA ACRILICA, PARA SINALIZACAO HORIZONTAL VIARIA (NBR 11862)","L",0.6,13.765499999999999,8.2592999999999996,null,null,6210]
[null,null,"TINTA ACRILICA PREMIUM PARA PISO","L",0.03,12.995999999999999,0.38987999999999995,null,null,6210]
[null,null,"MICROESFERAS DE VIDRO PARA SINALIZACAO HORIZONTAL VIARIA, TIPO I-B (PREMIX) - NBR 16184","KG",0.4,8.4359999999999999,3.3744000000000001,null,null,6210]
[null,null,"SERVENTE COM ENCARGOS COMPLEMENTARES","H",3.3300000000000003E-2,15.750999999999998,0.52450829999999993,null,null,6210]
[null,null,"MÁQUINA DEMARCADORA DE FAIXA DE TRÁFEGO À FRIO, AUTOPROPELIDA, POTÊNCIA 38 HP - CHP DIURNO. AF_07/2016","CHP",3.3E-3,94.154499999999999,0.31070985000000001,null,null,6210]
[null,null,null,null,null,"","",null,null,6210]
["SF-01133",{"$f":"INDEX('Orçamentária-TR'!B:C,MATCH(Composições!A4032,'Orçamentária-TR'!B:B,0),2)","v":"Telha metálica trapezoidal galvanizada - GR-40"},null,{"$f":"TRIM(INDEX('Orçamentária-TR'!D:D,MATCH(Composições!A4032,'Orçamentária-TR'!B:B,0),1))","v":"m2"},null,"","",null,null,1200]
[null,null,null,null,null,"","",null,null,1200]
[null,null,"TELHA TRAPEZOIDAL EM ACO ZINCADO, SEM PINTURA, ALTURA DE APROXIMADAMENTE 40 MM, ESPESSURA DE 0,50 MM E LARGURA UTIL DE 980 MM","M2",1.1659999999999999,31.283499999999997,36.476560999999997,{"$f":"SUM(G4034:G4039)","v":44.555905349999996},null,1200]
[null,null,"HASTE RETA PARA GANCHO DE FERRO GALVANIZADO, COM ROSCA 1/4 \" X 30 CM PARA FIXACAO DE TELHA METALICA, INCLUI PORCA E ARRUELAS DE VEDACAO","CJ",4.1500000000000004,1.0734999999999999,4.455025,null,null,1200]
[null,null,"SERVENTE COM ENCARGOS COMPLEMENTARES","H",9.7000000000000003E-2,15.750999999999998,1.5278469999999997,null,null,1200]
[null,null,"TELHADISTA COM ENCARGOS COMPLEMENTARES","H",9.0999999999999998E-2,22.619499999999999,2.0583744999999998,null,null,1200]
[null,null,"GUINCHO ELÉTRICO DE COLUNA, CAPACIDADE 400 KG, COM MOTO FREIO, MOTOR TRIFÁSICO DE 1,25 CV - CHP DIURNO. AF_03/2016","CHP",8.9999999999999998E-4,17.727,1.5954300000000001E-2,null,null,1200]
[null,null,"GUINCHO ELÉTRICO DE COLUNA, CAPACIDADE 400 KG, COM MOTO FREIO, MOTOR TRIFÁSICO DE 1,25 CV - CHI DIURNO. AF_03/2016","CHI",1.2999999999999999E-3,17.0335,2.2143549999999998E-2,null,null,1200]
[null,null,null,null,null,"","",null,null,1200]
["SF-01134",{"$f":"INDEX('Orçamentária-TR'!B:C,MATCH(Composições!A4041,'Orçamentária-TR'!B:B,0),2)","v":"Cumeeira para telha metálica trapezoidal galvanizada - GR-40"},null,{"$f":"TRIM(INDEX('Orçamentária-TR'!D:D,MATCH(Composições!A4041,'Orçamentária-TR'!B:B,0),1))","v":"m"},null,"","",null,null,600]
[null,null,null,null,null,"","",null,null,600]
[null,null,"HASTE RETA PARA GANCHO DE FERRO GALVANIZADO, COM ROSCA 1/4 \" X 30 CM PARA FIXACAO DE TELHA METALICA, INCLUI PORCA E ARRUELAS DE VEDACAO","CJ",4.1500000000000004,1.0734999999999999,4.455025,{"$f":"SUM(G4043:G4048)","v":58.982133699999984},null,600]
[null,null,"Cumeeira metálica galvanizada GR 40 com espessura de 0,43 mm","m",1.0289999999999999,50.48,51.943919999999991,null,null,600]
[null,null,"SERVENTE COM ENCARGOS COMPLEMENTARES","H",7.2999999999999995E-2,15.750999999999998,1.1498229999999998,null,null,600]
[null,null,"TELHADISTA COM ENCARGOS COMPLEMENTARES","H",0.06,22.619499999999999,1.3571699999999998,null,null,600]
[null,null,"GUINCHO ELÉTRICO DE COLUNA, CAPACIDADE 400 KG, COM MOTO FREIO, MOTOR TRIFÁSICO DE 1,25 CV - CHP DIURNO. AF_03/2016","CHP",1.8E-3,17.727,3.1908600000000002E-2,null,null,600]
[null,null,"GUINCHO ELÉTRICO DE COLUNA, CAPACIDADE 400 KG, COM MOTO FREIO, MOTOR TRIFÁSICO DE 1,25 CV - CHI DIURNO. AF_03/2016","CHI",2.5999999999999999E-3,17.0335,4.4287099999999996E-2,null,null,600]
[null,null,null,null,null,"","",null,null,600]
["SF-01135",{"$f":"INDEX('Orçamentária-TR'!B:C,MATCH(Composições!A4050,'Orçamentária-TR'!B:B,0),2)","v":"Telha metálica trapezoidal galvanizada - GR-25"},null,{"$f":"TRIM(INDEX('Orçamentária-TR'!D:D,MATCH(Composições!A4050,'Orçamentária-TR'!B:B,0),1))","v":"m2"},null,"","",null,null,900]
[null,null,null,null,null,"","",null,null,900]
[null,null,"Telha metálica trapezoidal galvanizada GR 25 com espessura de 0,43 mm, com largura de 1020 mm e comprimento de 5 metros.","M2",1.1659999999999999,33.5,39.061,{"$f":"SUM(G4052:G4057)","v":47.140344349999999},null,900]
[null,null,"HASTE RETA PARA GANCHO DE FERRO GALVANIZADO, COM ROSCA 1/4 \" X 30 CM PARA FIXACAO DE TELHA METALICA, INCLUI PORCA E ARRUELAS DE VEDACAO","CJ",4.1500000000000004,1.0734999999999999,4.455025,null,null,900]
[null,null,"SERVENTE COM ENCARGOS COMPLEMENTARES","H",9.7000000000000003E-2,15.750999999999998,1.5278469999999997,null,null,900]
[null,null,"TELHADISTA COM ENCARGOS COMPLEMENTARES","H",9.0999999999999998E-2,22.619499999999999,{"$f":"IF(ISNUMBER(F4055),E4055*F4055,\"\")","v":2.0583744999999998},null,null,900]
[null,null,"GUINCHO ELÉTRICO DE COLUNA, CAPACIDADE 400 KG, COM MOTO FREIO, MOTOR TRIFÁSICO DE 1,25 CV - CHP DIURNO. AF_03/2016","CHP",8.9999999999999998E-4,17.727,1.5954300000000001E-2,null,null,900]
[null,null,"GUINCHO ELÉTRICO DE COLUNA, CAPACIDADE 400 KG, COM MOTO FREIO, MOTOR TRIFÁSICO DE 1,25 CV - CHI DIURNO. AF_03/2016","CHI",1.2999999999999999E-3,17.0335,2.2143549999999998E-2,null,null,900]
[null,null,null,null,null,"","",null,null,900]
["SF-01136",{"$f":"INDEX('Orçamentária-TR'!B:C,MATCH(Composições!A4059,'Orçamentária-TR'!B:B,0),2)","v":"Cumeeira para telha metálica trapezoidal galvanizada - GR-25"},null,{"$f":"TRIM(INDEX('Orçamentária-TR'!D:D,MATCH(Composições!A4059,'Orçamentária-TR'!B:B,0),1))","v":"m"},null,"","",null,null,600]
[null,null,null,null,null,"","",null,null,600]
[null,null,"HASTE RETA PARA GANCHO DE FERRO GALVANIZADO, COM ROSCA 1/4 \" X 30 CM PARA FIXACAO DE TELHA METALICA, INCLUI PORCA E ARRUELAS DE VEDACAO","CJ",4.1500000000000004,1.0734999999999999,4.455025,{"$f":"SUM(G4061:G4066)","v":43.824963699999991},null,600]
[null,null,"Cumeeira metálica galvanizada GR 25 com espessura de 0,43 mm","m",1.0289999999999999,35.75,36.786749999999998,null,null,600]
[null,null,"SERVENTE COM ENCARGOS COMPLEMENTARES","H",7.2999999999999995E-2,15.750999999999998,1.1498229999999998,null,null,600]
[null,null,"TELHADISTA COM ENCARGOS COMPLEMENTARES","H",0.06,22.619499999999999,1.3571699999999998,null,null,600]
[null,null,"GUINCHO ELÉTRICO DE COLUNA, CAPACIDADE 400 KG, COM MOTO FREIO, MOTOR TRIFÁSICO DE 1,25 CV - CHP DIURNO. AF_03/2016","CHP",1.8E-3,17.727,3.1908600000000002E-2,null,null,600]
[null,null,"GUINCHO ELÉTRICO DE COLUNA, CAPACIDADE 400 KG, COM MOTO FREIO, MOTOR TRIFÁSICO DE 1,25 CV - CHI DIURNO. AF_03/2016","CHI",2.5999999999999999E-3,17.0335,4.4287099999999996E-2,null,null,600]
[null,null,null,null,null,"","",null,null,600]
["SF-01137",{"$f":"INDEX('Orçamentária-TR'!B:C,MATCH(Composições!A4068,'Orçamentária-TR'!B:B,0),2)","v":"Telha de fibrocimento modulada - espessura 8mm"},null,{"$f":"TRIM(INDEX('Orçamentária-TR'!D:D,MATCH(Composições!A4068,'Orçamentária-TR'!B:B,0),1))","v":"m2"},null,"","",null,null,150]
[null,null,null,null,null,"","",null,null,150]
[null,null,"TELHADISTA COM ENCARGOS COMPLEMENTARES","h",0.3,22.619499999999999,6.785849999999999,{"$f":"SUM(G4070:G4076)","v":76.145825000000002},null,150]
[null,null,"SERVENTE COM ENCARGOS COMPLEMENTARES","h",0.6,15.750999999999998,9.4505999999999979,null,null,150]
[null,null,"Conjunto de vedação elástica para furo Ø 8 mm","UN",1.1100000000000001,0.22799999999999998,0.25308000000000003,null,null,150]
[null,null,"Telha estrutural de fibrocimento ondulada esp. 8 mm largura útil 102 cm","m2",1.24,44.117999999999995,54.706319999999991,null,null,150]
[null,null,"Calço plástico para fixação de telha de fibrocimento tipo modulada e onda 50","UN",1.1100000000000001,2.052,2.2777200000000004,null,null,150]
[null,null,"Fixador de aba telha de fibrocimento simples modulada","UN",1,1.2064999999999999,1.2064999999999999,null,null,150]
[null,null,"Parafuso rosca soberba galvanizado Ø 8 mm x 165 mm","UN",1.1100000000000001,1.3204999999999998,1.4657549999999999,null,null,150]
[null,null,null,null,null,"","",null,null,150]
["SF-01138",{"$f":"INDEX('Orçamentária-TR'!B:C,MATCH(Composições!A4078,'Orçamentária-TR'!B:B,0),2)","v":"Cumeeira articulada ABA SUPERIOR de fibrocimento para telha modulada - espessura 6 mm"},null,{"$f":"TRIM(INDEX('Orçamentária-TR'!D:D,MATCH(Composições!A4078,'Orçamentária-TR'!B:B,0),1))","v":"m"},null,"","",null,null,75]
[null,null,null,null,null,"","",null,null,75]
[null,null,"TELHADISTA COM ENCARGOS COMPLEMENTARES","h",{"$f":"0.12/2","v":0.06},22.619499999999999,1.3571699999999998,{"$f":"SUM(G4080:G4084)","v":56.824249999999999},null,75]
[null,null,"SERVENTE COM ENCARGOS COMPLEMENTARES","h",{"$f":"0.12/2","v":0.06},15.750999999999998,0.94505999999999979,null,null,75]
[null,null,"Conjunto de vedação elástica para furo Ø 8 mm","UN",{"$f":"4.12/2","v":2.06},0.22799999999999998,0.46967999999999999,null,null,75]
[null,null,"Cumeeira articulada superior para telha de fibrocimento modulada ou onda 50","UN",2.06,24.918499999999998,51.33211,null,null,75]
[null,null,"Parafuso rosca soberba galvanizado Ø 8 mm x 165 mm","UN",{"$f":"4.12/2","v":2.06},1.3204999999999998,2.7202299999999995,null,null,75]
[null,null,null,null,null,"","",null,null,75]
["SF-01139",{"$f":"INDEX('Orçamentária-TR'!B:C,MATCH(Composições!A4086,'Orçamentária-TR'!B:B,0),2)","v":"Cumeeira articulada ABA INFERIOR de fibrocimento para telha modulada - espessura 6 mm"},null,{"$f":"TRIM(INDEX('Orçamentária-TR'!D:D,MATCH(Composições!A4086,'Orçamentária-TR'!B:B,0),1))","v":"m"},null,"","",null,null,75]
[null,null,null,null,null,"","",null,null,75]
[null,null,"TELHADISTA COM ENCARGOS COMPLEMENTARES","h",{"$f":"0.12/2","v":0.06},22.619499999999999,1.3571699999999998,{"$f":"SUM(G4088:G4092)","v":56.843819999999994},null,75]
[null,null,"SERVENTE COM ENCARGOS COMPLEMENTARES","h",{"$f":"0.12/2","v":0.06},15.750999999999998,0.94505999999999979,null,null,75]
[null,null,"Conjunto de vedação elástica para furo Ø 8 mm","UN",{"$f":"4.12/2","v":2.06},0.22799999999999998,0.46967999999999999,null,null,75]
[null,null,"Cumeeira articulada inferior para telha de fibrocimento tipo modulada ou onda 50","UN",2.06,24.927999999999997,51.351679999999995,null,null,75]
[null,null,"Parafuso rosca soberba galvanizado Ø 8 mm x 165 mm","UN",{"$f":"4.12/2","v":2.06},1.3204999999999998,2.7202299999999995,null,null,75]
[null,null,null,null,null,"","",null,null,75]
["SF-01140",{"$f":"INDEX('Orçamentária-TR'!B:C,MATCH(Composições!A4094,'Orçamentária-TR'!B:B,0),2)","v":"Telha de fibrocimento ondulada - espessura 6mm"},null,{"$f":"TRIM(INDEX('Orçamentária-TR'!D:D,MATCH(Composições!A4094,'Orçamentária-TR'!B:B,0),1))","v":"m2"},null,"","",null,null,1500]
[null,null,null,null,null,"","",null,null,1500]
[null,null,"CONJUNTO ARRUELAS DE VEDACAO 5/16\" PARA TELHA FIBROCIMENTO (UMA ARRUELA METALICA E UMA ARRUELA PVC - CONICAS)","CJ",1.27,0.14249999999999999,0.180975,{"$f":"SUM(G4096:G4102)","v":27.85734115},null,1500]
[null,null,"PARAFUSO ZINCADO ROSCA SOBERBA, CABECA SEXTAVADA, 5/16 \" X 250 MM, PARA FIXACAO DE TELHA EM MADEIRA","UN",1.27,2.1659999999999999,2.75082,null,null,1500]
[null,null,"TELHA DE FIBROCIMENTO ONDULADA E = 6 MM, DE 2,44 X 1,10 M (SEM AMIANTO)","M2",1.2749999999999999,15.494499999999999,19.755487499999997,null,null,1500]
[null,null,"SERVENTE COM ENCARGOS COMPLEMENTARES","H",0.15,15.750999999999998,2.3626499999999995,null,null,1500]
[null,null,"TELHADISTA COM ENCARGOS COMPLEMENTARES","H",0.115,22.619499999999999,2.6012425000000001,null,null,1500]
[null,null,"GUINCHO ELÉTRICO DE COLUNA, CAPACIDADE 400 KG, COM MOTO FREIO, MOTOR TRIFÁSICO DE 1,25 CV - CHP DIURNO. AF_03/2016","CHP",5.0000000000000001E-3,17.727,8.8635000000000005E-2,null,null,1500]
[null,null,"GUINCHO ELÉTRICO DE COLUNA, CAPACIDADE 400 KG, COM MOTO FREIO, MOTOR TRIFÁSICO DE 1,25 CV - CHI DIURNO. AF_03/2016","CHI",6.8999999999999999E-3,17.0335,0.11753115,null,null,1500]
[null,null,null,null,null,"","",null,null,1500]
["SF-01141",{"$f":"INDEX('Orçamentária-TR'!B:C,MATCH(Composições!A4104,'Orçamentária-TR'!B:B,0),2)","v":"Cumeeira UNIVERSAL para telha de fibrocimento ondulada - espessura 6 mm"},null,{"$f":"TRIM(INDEX('Orçamentária-TR'!D:D,MATCH(Composições!A4104,'Orçamentária-TR'!B:B,0),1))","v":"m"},null,"","",null,null,300]
[null,null,null,null,null,"","",null,null,300]
[null,null,"CONJUNTO ARRUELAS DE VEDACAO 5/16\" PARA TELHA FIBROCIMENTO (UMA ARRUELA METALICA E UMA ARRUELA PVC - CONICAS)","CJ",4.2,0.14249999999999999,0.59849999999999992,{"$f":"SUM(G4106:G4112)","v":34.928722199999996},null,300]
[null,null,"PARAFUSO ZINCADO ROSCA SOBERBA, CABECA SEXTAVADA, 5/16 \" X 250 MM, PARA FIXACAO DE TELHA EM MADEIRA","UN",4.2,2.1659999999999999,9.0972000000000008,null,null,300]
[null,null,"CUMEEIRA UNIVERSAL PARA TELHA ONDULADA DE FIBROCIMENTO, E = 6 MM, ABA 210 MM, COMPRIMENTO 1100 MM (SEM AMIANTO)","UN",1.0289999999999999,22.011500000000002,22.6498335,null,null,300]
[null,null,"SERVENTE COM ENCARGOS COMPLEMENTARES","H",7.2999999999999995E-2,15.750999999999998,1.1498229999999998,null,null,300]
[null,null,"TELHADISTA COM ENCARGOS COMPLEMENTARES","H",0.06,22.619499999999999,1.3571699999999998,null,null,300]
[null,null,"GUINCHO ELÉTRICO DE COLUNA, CAPACIDADE 400 KG, COM MOTO FREIO, MOTOR TRIFÁSICO DE 1,25 CV - CHP DIURNO. AF_03/2016","CHP",1.8E-3,17.727,3.1908600000000002E-2,null,null,300]
[null,null,"GUINCHO ELÉTRICO DE COLUNA, CAPACIDADE 400 KG, COM MOTO FREIO, MOTOR TRIFÁSICO DE 1,25 CV - CHI DIURNO. AF_03/2016","CHI",2.5999999999999999E-3,17.0335,4.4287099999999996E-2,null,null,300]
[null,null,null,null,null,"","",null,null,300]
["SF-01142",{"$f":"INDEX('Orçamentária-TR'!B:C,MATCH(Composições!A4114,'Orçamentária-TR'!B:B,0),2)","v":"Cumeeira TIPO SHED para telha de fibrocimento ondulada - espessura 6 mm"},null,{"$f":"TRIM(INDEX('Orçamentária-TR'!D:D,MATCH(Composições!A4114,'Orçamentária-TR'!B:B,0),1))","v":"m"},null,"","",null,null,300]
[null,null,null,null,null,"","",null,null,300]
[null,null,"CONJUNTO ARRUELAS DE VEDACAO 5/16\" PARA TELHA FIBROCIMENTO (UMA ARRUELA METALICA E UMA ARRUELA PVC - CONICAS)","CJ",4.2,0.14249999999999999,0.59849999999999992,{"$f":"SUM(G4116:G4122)","v":33.452944699999996},null,300]
[null,null,"PARAFUSO ZINCADO ROSCA SOBERBA, CABECA SEXTAVADA, 5/16 \" X 250 MM, PARA FIXACAO DE TELHA EM MADEIRA","UN",4.2,2.1659999999999999,9.0972000000000008,null,null,300]
[null,null,"CUMEEIRA SHED PARA TELHA ONDULADA DE FIBROCIMENTO, E = 6 MM, ABA 280 MM, COMPRIMENTO 1100 MM (SEM AMIANTO)","UN",1.0289999999999999,21.270499999999998,21.887344499999998,null,null,300]
[null,null,"SERVENTE COM ENCARGOS COMPLEMENTARES","H",5.5E-2,15.750999999999998,{"$f":"IF(ISNUMBER(F4119),E4119*F4119,\"\")","v":0.86630499999999988},null,null,300]
[null,null,"TELHADISTA COM ENCARGOS COMPLEMENTARES","H",4.1000000000000002E-2,22.619499999999999,0.92739949999999993,null,null,300]
[null,null,"GUINCHO ELÉTRICO DE COLUNA, CAPACIDADE 400 KG, COM MOTO FREIO, MOTOR TRIFÁSICO DE 1,25 CV - CHP DIURNO. AF_03/2016","CHP",1.8E-3,17.727,3.1908600000000002E-2,null,null,300]
[null,null,"GUINCHO ELÉTRICO DE COLUNA, CAPACIDADE 400 KG, COM MOTO FREIO, MOTOR TRIFÁSICO DE 1,25 CV - CHI DIURNO. AF_03/2016","CHI",2.5999999999999999E-3,17.0335,4.4287099999999996E-2,null,null,300]
[null,null,null,null,null,"","",null,null,300]
["SF-01143",{"$f":"INDEX('Orçamentária-TR'!B:C,MATCH(Composições!A4124,'Orçamentária-TR'!B:B,0),2)","v":"Telha de fibrocimento - Canalete 49 Eternit"},null,{"$f":"TRIM(INDEX('Orçamentária-TR'!D:D,MATCH(Composições!A4124,'Orçamentária-TR'!B:B,0),1))","v":"m2"},null,"","",null,null,300]
[null,null,null,null,null,"","",null,null,300]
[null,null,"TELHADISTA COM ENCARGOS COMPLEMENTARES","h",0.15,22.619499999999999,3.3929249999999995,{"$f":"SUM(G4126:G4130)","v":60.447265000000002},null,300]
[null,null,"SERVENTE COM ENCARGOS COMPLEMENTARES","h",0.15,15.750999999999998,2.3626499999999995,null,null,300]
[null,null,"Conjunto de vedação elástica para furo Ø 8 mm","UN",4.12,0.22799999999999998,0.93935999999999997,null,null,300]
[null,null,"Telha estrutural de fibrocimento esp. 8 mm largura útil 49 cm","m2",1.06,42.512499999999996,45.063249999999996,null,null,300]
[null,null,"Parafuso rosca soberba galvanizado Ø 8 mm x 250 mm","UN",4.12,2.109,8.6890800000000006,null,null,300]
[null,null,null,null,null,"","",null,null,300]
["SF-01147",{"$f":"INDEX('Orçamentária-TR'!B:C,MATCH(Composições!A4132,'Orçamentária-TR'!B:B,0),2)","v":"Escada tipo marinheiro COM proteção"},null,{"$f":"TRIM(INDEX('Orçamentária-TR'!D:D,MATCH(Composições!A4132,'Orçamentária-TR'!B:B,0),1))","v":"m"},null,"","",null,null,150]
[null,null,null,null,null,"","",null,null,150]
[null,null,"ACO CA-50, 10,0 MM, VERGALHAO","KG",2.8,4.8259999999999996,13.512799999999999,{"$f":"SUM(G4134:G4146)","v":215.18238177834999},null,150]
[null,null,"FUNDO ANTICORROSIVO PARA METAIS FERROSOS (ZARCAO)","L",2.5000000000000001E-2,27.264999999999997,0.68162499999999993,null,null,150]
[null,null,"ARMADOR COM ENCARGOS COMPLEMENTARES","H",0.35,21.222999999999999,7.4280499999999989,null,null,150]
[null,null,"PEDREIRO COM ENCARGOS COMPLEMENTARES","H",1.1000000000000001,21.327499999999997,23.460249999999998,null,null,150]
[null,null,"SERVENTE COM ENCARGOS COMPLEMENTARES","H",1.1299999999999999,15.750999999999998,17.798629999999996,null,null,150]
[null,null,"ARGAMASSA TRAÇO 1:3 (EM VOLUME DE CIMENTO E AREIA MÉDIA ÚMIDA), PREPARO MANUAL. AF_08/2019","M3",3.5000000000000001E-3,447.55050809999994,1.5664267783499999,null,null,150]
[null,null,"ACO CA-50, 10,0 MM, VERGALHAO","KG",3,4.8259999999999996,14.477999999999998,null,null,150]
[null,null,"CANTONEIRA ACO ABAS IGUAIS (QUALQUER BITOLA), ESPESSURA ENTRE 1/8\" E 1/4\"","KG",15,4.4554999999999998,66.832499999999996,null,null,150]
[null,null,"PEDREIRO COM ENCARGOS COMPLEMENTARES","H",0.4,21.327499999999997,8.5309999999999988,null,null,150]
[null,null,"SERVENTE COM ENCARGOS COMPLEMENTARES","H",0.8,15.750999999999998,12.6008,null,null,150]
[null,null,"Soldador com encargos complementares","H",2,21.925999999999998,43.851999999999997,null,null,150]
[null,null,"ELETRODO REVESTIDO AWS - E7018, DIAMETRO IGUAL A 4,00 MM","KG",0.2,16.7485,3.3497000000000003,null,null,150]
[null,null,"FUNDO ANTICORROSIVO PARA METAIS FERROSOS (ZARCAO)","L",0.04,27.264999999999997,1.0906,null,null,150]
[null,null,null,null,null,"","",null,null,150]
["SF-01148",{"$f":"INDEX('Orçamentária-TR'!B:C,MATCH(Composições!A4148,'Orçamentária-TR'!B:B,0),2)","v":"Escada tipo marinheiro SEM proteção"},null,{"$f":"TRIM(INDEX('Orçamentária-TR'!D:D,MATCH(Composições!A4148,'Orçamentária-TR'!B:B,0),1))","v":"m"},null,"","",null,null,75]
[null,null,null,null,null,"","",null,null,75]
[null,null,"ACO CA-50, 10,0 MM, VERGALHAO","KG",2.8,4.8259999999999996,13.512799999999999,{"$f":"SUM(G4150:G4155)","v":64.447781778349992},null,75]
[null,null,"FUNDO ANTICORROSIVO PARA METAIS FERROSOS (ZARCAO)","L",2.5000000000000001E-2,27.264999999999997,0.68162499999999993,null,null,75]
[null,null,"ARMADOR COM ENCARGOS COMPLEMENTARES","H",0.35,21.222999999999999,7.4280499999999989,null,null,75]
[null,null,"PEDREIRO COM ENCARGOS COMPLEMENTARES","H",1.1000000000000001,21.327499999999997,23.460249999999998,null,null,75]
[null,null,"SERVENTE COM ENCARGOS COMPLEMENTARES","H",1.1299999999999999,15.750999999999998,17.798629999999996,null,null,75]
[null,null,"ARGAMASSA TRAÇO 1:3 (EM VOLUME DE CIMENTO E AREIA MÉDIA ÚMIDA), PREPARO MANUAL. AF_08/2019","M3",3.5000000000000001E-3,447.55050809999994,1.5664267783499999,null,null,75]
[null,null,null,null,null,"","",null,null,75]
["SF-01149",{"$f":"INDEX('Orçamentária-TR'!B:C,MATCH(Composições!A4157,'Orçamentária-TR'!B:B,0),2)","v":"Limpeza e Preparação do Substrato para Impermeabilização"},null,{"$f":"TRIM(INDEX('Orçamentária-TR'!D:D,MATCH(Composições!A4157,'Orçamentária-TR'!B:B,0),1))","v":"m2"},null,"","",null,null,26598]
[null,null,null,null,null,"","",null,null,26598]
[null,null,"SERVENTE COM ENCARGOS COMPLEMENTARES","h",0.11,15.750999999999998,1.7326099999999998,{"$f":"SUM(G4159:G4161)","v":7.909889999999999},null,26598]
[null,null,"Lava-jato água fria pressão 1700 psi","loc/un/h",0.22,5.4339999999999993,1.1954799999999999,null,null,26598]
[null,null,"Solução limpadora diluída em água","L",0.4,12.454499999999999,4.9817999999999998,null,null,26598]
[null,null,null,null,null,"","",null,null,26598]
["SF-01150",{"$f":"INDEX('Orçamentária-TR'!B:C,MATCH(Composições!A4163,'Orçamentária-TR'!B:B,0),2)","v":"Substituição de Coletores de Águas Pluviais"},null,{"$f":"TRIM(INDEX('Orçamentária-TR'!D:D,MATCH(Composições!A4163,'Orçamentária-TR'!B:B,0),1))","v":"un"},null,"","",null,null,1566]
[null,null,null,null,null,"","",null,null,1566]
[null,null,"ANEL BORRACHA, DN 150 MM, PARA TUBO SERIE REFORCADA ESGOTO PREDIAL","UN",1,8.4550000000000001,8.4550000000000001,{"$f":"SUM(G4165:G4179)","v":152.8253828},null,1566]
[null,null,"REDUCAO EXCENTRICA PVC, SERIE R, DN 150 X 100 MM, PARA ESGOTO PREDIAL","UN",1,29.924999999999997,29.924999999999997,null,null,1566]
[null,null,"PASTA LUBRIFICANTE PARA TUBOS E CONEXOES COM JUNTA ELASTICA (USO EM PVC, ACO, POLIETILENO E OUTROS) ( DE *400* G)","UN",7.0000000000000007E-2,19.854999999999997,1.3898499999999998,null,null,1566]
[null,null,"AUXILIAR DE ENCANADOR OU BOMBEIRO HIDRÁULICO COM ENCARGOS COMPLEMENTARES","H",0.11,16.320999999999998,1.7953099999999997,null,null,1566]
[null,null,"ENCANADOR OU BOMBEIRO HIDRÁULICO COM ENCARGOS COMPLEMENTARES","H",0.11,20.9285,2.3021349999999998,null,null,1566]
[null,null,"ADESIVO PLASTICO PARA PVC, FRASCO COM 850 GR","UN",6.1999999999999998E-3,54.235500000000002,0.33626010000000001,null,null,1566]
[null,null,"TUBO PVC, SERIE R, DN 150 MM, PARA ESGOTO OU AGUAS PLUVIAIS PREDIAL (NBR 5688)","M",{"$f":"1.04/2","v":0.52},43.6905,22.719060000000002,null,null,1566]
[null,null,"SOLUCAO LIMPADORA PARA PVC, FRASCO COM 1000 CM3","UN",1.0200000000000001E-2,47.100999999999999,0.48043020000000003,null,null,1566]
[null,null,"LIXA D'AGUA EM FOLHA, GRAO 100","UN",3.6999999999999998E-2,1.6054999999999999,5.9403499999999991E-2,null,null,1566]
[null,null,"AUXILIAR DE ENCANADOR OU BOMBEIRO HIDRÁULICO COM ENCARGOS COMPLEMENTARES","H",0.18,16.320999999999998,2.9377799999999996,null,null,1566]
[null,null,"ENCANADOR OU BOMBEIRO HIDRÁULICO COM ENCARGOS COMPLEMENTARES","H",0.18,20.9285,3.7671299999999999,null,null,1566]
[null,null,"PEDREIRO COM ENCARGOS COMPLEMENTARES","H",1,21.327499999999997,21.327499999999997,null,null,1566]
[null,null,"ADESIVO ESTRUTURAL A BASE DE RESINA EPOXI, BICOMPONENTE, PASTOSO (TIXOTROPICO)","KG",0.5655,31.007999999999999,17.535024,null,null,1566]
[null,null,"SELANTE ELASTICO MONOCOMPONENTE A BASE DE POLIURETANO (PU) PARA JUNTAS DIVERSAS","310ml",0.2,23.465,4.6930000000000005,null,null,1566]
[null,null,"RALO FOFO SEMIESFERICO, 150 MM, PARA LAJES/ CALHAS","UN",1,35.102499999999999,35.102499999999999,null,null,1566]
[null,null,null,null,null,"","",null,null,1566]
["SF-01151",{"$f":"INDEX('Orçamentária-TR'!B:C,MATCH(Composições!A4181,'Orçamentária-TR'!B:B,0),2)","v":"Tratamento de Tubulação Passante para Impermeabilização"},null,{"$f":"TRIM(INDEX('Orçamentária-TR'!D:D,MATCH(Composições!A4181,'Orçamentária-TR'!B:B,0),1))","v":"un"},null,"","",null,null,732]
[null,null,null,null,null,"","",null,null,732]
[null,null,"IMPERMEABILIZADOR COM ENCARGOS COMPLEMENTARES","H",0.5,21.327499999999997,{"$f":"IF(ISNUMBER(F4183),E4183*F4183,\"\")","v":10.663749999999999},{"$f":"SUM(G4183:G4185)","v":32.891773999999998},null,732]
[null,null,"ADESIVO ESTRUTURAL A BASE DE RESINA EPOXI, BICOMPONENTE, PASTOSO (TIXOTROPICO)","KG",0.5655,31.007999999999999,17.535024,null,null,732]
[null,null,"SELANTE ELASTICO MONOCOMPONENTE A BASE DE POLIURETANO (PU) PARA JUNTAS DIVERSAS","310ml",0.2,23.465,4.6930000000000005,null,null,732]
[null,null,null,null,null,"","",null,null,732]
["SF-01152",{"$f":"INDEX('Orçamentária-TR'!B:C,MATCH(Composições!A4187,'Orçamentária-TR'!B:B,0),2)","v":"Regularização de substrato para Impermeabilização - 3cm"},null,{"$f":"TRIM(INDEX('Orçamentária-TR'!D:D,MATCH(Composições!A4187,'Orçamentária-TR'!B:B,0),1))","v":"m2"},null,"","",null,null,26552]
[null,null,null,null,null,"","",null,null,26552]
[null,null,"CIMENTO PORTLAND COMPOSTO CP II-32","KG",0.5,0.38949999999999996,0.19474999999999998,{"$f":"SUM(G4189:G4193)","v":32.769040937280003},null,26552]
[null,null,"ADITIVO ADESIVO LIQUIDO PARA ARGAMASSAS DE REVESTIMENTOS CIMENTICIOS","L",0.435,11.418999999999999,4.9672649999999994,null,null,26552]
[null,null,"ARGAMASSA TRAÇO 1:4 (EM VOLUME DE CIMENTO E AREIA MÉDIA ÚMIDA) PARA CONTRAPISO, PREPARO MECÂNICO COM BETONEIRA 400 L. AF_08/2019","M3",4.3099999999999999E-2,416.93818880000009,17.970035937280002,null,null,26552]
[null,null,"PEDREIRO COM ENCARGOS COMPLEMENTARES","H",0.33,21.327499999999997,7.0380749999999992,null,null,26552]
[null,null,"SERVENTE COM ENCARGOS COMPLEMENTARES","H",0.16500000000000001,15.750999999999998,2.5989149999999999,null,null,26552]
[null,null,null,null,null,"","",null,null,26552]
["SF-01153",{"$f":"INDEX('Orçamentária-TR'!B:C,MATCH(Composições!A4195,'Orçamentária-TR'!B:B,0),2)","v":"Regularização de substrato para Impermeabilização - 6cm"},null,{"$f":"TRIM(INDEX('Orçamentária-TR'!D:D,MATCH(Composições!A4195,'Orçamentária-TR'!B:B,0),1))","v":"m2"},null,"","",null,null,900]
[null,null,null,null,null,"","",null,null,900]
[null,null,"PEDREIRO COM ENCARGOS COMPLEMENTARES","h",0.38,21.327499999999997,8.1044499999999982,{"$f":"SUM(G4197:G4199)","v":38.577999279680007},null,900]
[null,null,"SERVENTE COM ENCARGOS COMPLEMENTARES","h",0.185,15.750999999999998,2.9139349999999995,null,null,900]
[null,null,"ARGAMASSA TRAÇO 1:4 (EM VOLUME DE CIMENTO E AREIA MÉDIA ÚMIDA) PARA CONTRAPISO, PREPARO MECÂNICO COM BETONEIRA 400 L. AF_08/2019","M3",6.6100000000000006E-2,416.93818880000009,27.559614279680009,null,null,900]
[null,null,null,null,null,"","",null,null,900]
["SF-01154",{"$f":"INDEX('Orçamentária-TR'!B:C,MATCH(Composições!A4201,'Orçamentária-TR'!B:B,0),2)","v":"Camada Separadora para Impermeabilização"},null,{"$f":"TRIM(INDEX('Orçamentária-TR'!D:D,MATCH(Composições!A4201,'Orçamentária-TR'!B:B,0),1))","v":"m2"},null,"","",null,null,23544]
[null,null,null,null,null,"","",null,null,23544]
[null,null,"SERVENTE COM ENCARGOS COMPLEMENTARES","H",0.01,15.750999999999998,0.15750999999999998,{"$f":"SUM(G4203:G4204)","v":6.2185100000000002},null,23544]
[null,null,"GEOTEXTIL NAO TECIDO AGULHADO DE FILAMENTOS CONTINUOS 100% POLIESTER, RESITENCIA A TRACAO = 10 KN/M","m2",1.1000000000000001,5.51,6.0609999999999999,null,null,23544]
[null,null,null,null,null,"","",null,null,23544]
["SF-01155",{"$f":"INDEX('Orçamentária-TR'!B:C,MATCH(Composições!A4206,'Orçamentária-TR'!B:B,0),2)","v":"Camada de Proteção Térmica para Impermeabilização"},null,{"$f":"TRIM(INDEX('Orçamentária-TR'!D:D,MATCH(Composições!A4206,'Orçamentária-TR'!B:B,0),1))","v":"m2"},null,"","",null,null,23436]
[null,null,null,null,null,"","",null,null,23436]
[null,null,"SERVENTE COM ENCARGOS COMPLEMENTARES","H",0.05,15.750999999999998,0.78754999999999997,{"$f":"SUM(G4208:G4209)","v":7.4708000000000006},null,23436]
[null,null,"POLIESTIRENO EXPANDIDO/EPS (ISOPOR), TIPO 2F, PLACA, ISOLAMENTO TERMOACUSTICO, E = 20 MM, 1000 X 500 MM","m2",1.05,6.3650000000000002,6.6832500000000001,null,null,23436]
[null,null,null,null,null,"","",null,null,23436]
["SF-01156",{"$f":"INDEX('Orçamentária-TR'!B:C,MATCH(Composições!A4211,'Orçamentária-TR'!B:B,0),2)","v":"Camada de Amortecimento para Impermeabilização"},null,{"$f":"TRIM(INDEX('Orçamentária-TR'!D:D,MATCH(Composições!A4211,'Orçamentária-TR'!B:B,0),1))","v":"m2"},null,"","",null,null,21738]
[null,null,null,null,null,"","",null,null,21738]
[null,null,"PEDREIRO COM ENCARGOS COMPLEMENTARES","h",0.28999999999999998,21.327499999999997,6.1849749999999988,{"$f":"SUM(G4213:G4215)","v":21.255133031799996},null,21738]
[null,null,"SERVENTE COM ENCARGOS COMPLEMENTARES","h",0.14499999999999999,15.750999999999998,2.2838949999999993,null,null,21738]
[null,null,"ARGAMASSA TRAÇO 1:2:8 (EM VOLUME DE CIMENTO, CAL E AREIA MÉDIA ÚMIDA) PARA EMBOÇO/MASSA ÚNICA/ASSENTAMENTO DE ALVENARIA DE VEDAÇÃO, PREPARO MECÂNICO COM BETONEIRA 400 L. AF_08/2019","M3",3.1E-2,412.46009779999991,12.786263031799997,null,null,21738]
[null,null,null,null,null,"","",null,null,21738]
["SF-01157",{"$f":"INDEX('Orçamentária-TR'!B:C,MATCH(Composições!A4217,'Orçamentária-TR'!B:B,0),2)","v":"Camada de Proteção Mecânica em Placas de Impermeabilização"},null,{"$f":"TRIM(INDEX('Orçamentária-TR'!D:D,MATCH(Composições!A4217,'Orçamentária-TR'!B:B,0),1))","v":"m2"},null,"","",null,null,19314]
[null,null,null,null,null,"","",null,null,19314]
[null,null,"CAMADA SEPARADORA DE FILME DE POLIETILENO 20 A 25 MICRA","M2",1.04,1.5105,1.5709200000000001,{"$f":"SUM(G4219:G4223)","v":63.601083169999995},null,19314]
[null,null,"ARGAMASSA TRAÇO 1:3 (EM VOLUME DE CIMENTO E AREIA MÉDIA ÚMIDA) PARA CONTRAPISO, PREPARO MANUAL. AF_08/2019","M3",4.3999999999999997E-2,548.4047425,24.129808669999999,null,null,19314]
[null,null,"PEDREIRO COM ENCARGOS COMPLEMENTARES","H",0.89900000000000002,21.327499999999997,19.173422499999997,null,null,19314]
[null,null,"SERVENTE COM ENCARGOS COMPLEMENTARES","H",0.182,15.750999999999998,2.8666819999999995,null,null,19314]
[null,null,"MANTA LIQUIDA DE BASE ASFALTICA MODIFICADA COM A ADICAO DE ELASTOMEROS DILUIDOS EM SOLVENTE ORGANICO, APLICACAO A FRIO (MEMBRANA IMPERMEABILIZANTE ASFASTICA)","KG",{"$f":"0.15*2.5*(6/2)","v":1.125},14.097999999999999,15.860249999999999,null,null,19314]
[null,null,null,null,null,"","",null,null,19314]
["SF-01158",{"$f":"INDEX('Orçamentária-TR'!B:C,MATCH(Composições!A4225,'Orçamentária-TR'!B:B,0),2)","v":"Pintura Inibidora de Raízes em Estrutura Impermeabilizada"},null,{"$f":"TRIM(INDEX('Orçamentária-TR'!D:D,MATCH(Composições!A4225,'Orçamentária-TR'!B:B,0),1))","v":"m2"},null,"","",null,null,2259]
[null,null,null,null,null,"","",null,null,2259]
[null,null,"Pintura inibidora de raízes","L",1,20,20,{"$f":"SUM(G4227:G4229)","v":31.437049999999999},null,2259]
[null,null,"PINTOR COM ENCARGOS COMPLEMENTARES","H",0.3,22.372499999999999,6.7117499999999994,null,null,2259]
[null,null,"SERVENTE COM ENCARGOS COMPLEMENTARES","H",0.3,15.750999999999998,4.7252999999999989,null,null,2259]
[null,null,null,null,null,"","",null,null,2259]
["SF-01159",{"$f":"INDEX('Orçamentária-TR'!B:C,MATCH(Composições!A4231,'Orçamentária-TR'!B:B,0),2)","v":"Camada Drenante para Impermeabilização"},null,{"$f":"TRIM(INDEX('Orçamentária-TR'!D:D,MATCH(Composições!A4231,'Orçamentária-TR'!B:B,0),1))","v":"m2"},null,"","",null,null,7299]
[null,null,null,null,null,"","",null,null,7299]
[null,null,"SERVENTE COM ENCARGOS COMPLEMENTARES","H",0.02,15.750999999999998,0.31501999999999997,{"$f":"SUM(G4233:G4235)","v":27.27102},null,7299]
[null,null,"Geocomposto Drenante industrializado formado por estrutura drenante de pelo menos 10 mm","m2",1.05,19.899999999999999,20.895,null,null,7299]
[null,null,"GEOTEXTIL NAO TECIDO AGULHADO DE FILAMENTOS CONTINUOS 100% POLIESTER, RESITENCIA A TRACAO = 10 KN/M","m2",1.1000000000000001,5.51,6.0609999999999999,null,null,7299]
[null,null,null,null,null,"","",null,null,7299]
["SF-01160",{"$f":"INDEX('Orçamentária-TR'!B:C,MATCH(Composições!A4237,'Orçamentária-TR'!B:B,0),2)","v":"Calha em Chapa de Aço Galvanizado nº 24"},null,{"$f":"TRIM(INDEX('Orçamentária-TR'!D:D,MATCH(Composições!A4237,'Orçamentária-TR'!B:B,0),1))","v":"m2"},null,"","",null,null,1027]
[null,null,null,null,null,"","",null,null,1027]
[null,null,"SELANTE ELASTICO MONOCOMPONENTE A BASE DE POLIURETANO (PU) PARA JUNTAS DIVERSAS","310ML",0.161,23.465,3.7778650000000003,{"$f":"SUM(G4239:G4247)","v":98.101065999999989},null,1027]
[null,null,"PREGO DE ACO POLIDO COM CABECA 18 X 27 (2 1/2 X 10)","KG",2.5000000000000001E-2,9.6709999999999994,0.24177499999999999,null,null,1027]
[null,null,"REBITE DE ALUMINIO VAZADO DE REPUXO, 3,2 X 8 MM (1KG = 1025 UNIDADES)","KG",4.8999999999999998E-3,45.894500000000001,0.22488305,null,null,1027]
[null,null,"SOLDA EM BARRA DE ESTANHO-CHUMBO 50/50","KG",0.18,81.500500000000002,14.67009,null,null,1027]
[null,null,"CALHA QUADRADA DE CHAPA DE ACO GALVANIZADA NUM 24, CORTE 100 CM","M",1.05,53.788999999999994,56.478449999999995,null,null,1027]
[null,null,"SERVENTE COM ENCARGOS COMPLEMENTARES","H",0.63300000000000001,15.750999999999998,9.9703829999999982,null,null,1027]
[null,null,"TELHADISTA COM ENCARGOS COMPLEMENTARES","H",0.53900000000000003,22.619499999999999,12.191910500000001,null,null,1027]
[null,null,"GUINCHO ELÉTRICO DE COLUNA, CAPACIDADE 400 KG, COM MOTO FREIO, MOTOR TRIFÁSICO DE 1,25 CV - CHP DIURNO. AF_03/2016","CHP",1.32E-2,17.727,0.23399639999999999,null,null,1027]
[null,null,"GUINCHO ELÉTRICO DE COLUNA, CAPACIDADE 400 KG, COM MOTO FREIO, MOTOR TRIFÁSICO DE 1,25 CV - CHI DIURNO. AF_03/2016","CHI",1.83E-2,17.0335,{"$f":"IF(ISNUMBER(F4247),E4247*F4247,\"\")","v":0.31171304999999999},null,null,1027]
[null,null,null,null,null,"","",null,null,1027]
["SF-01161",{"$f":"INDEX('Orçamentária-TR'!B:C,MATCH(Composições!A4249,'Orçamentária-TR'!B:B,0),2)","v":"Rufo em Chapa de Aço Galvanizado nº 24"},null,{"$f":"TRIM(INDEX('Orçamentária-TR'!D:D,MATCH(Composições!A4249,'Orçamentária-TR'!B:B,0),1))","v":"m2"},null,"","",null,null,511]
[null,null,null,null,null,"","",null,null,511]
[null,null,"SELANTE ELASTICO MONOCOMPONENTE A BASE DE POLIURETANO (PU) PARA JUNTAS DIVERSAS","310ML",{"$f":"0.198*2","v":0.39600000000000002},23.465,9.2921399999999998,{"$f":"SUM(G4251:G4259)","v":87.272334249999986},null,511]
[null,null,"PREGO DE ACO POLIDO COM CABECA 18 X 27 (2 1/2 X 10)","KG",{"$f":"0.006*2","v":1.2E-2},9.6709999999999994,0.11605199999999999,null,null,511]
[null,null,"REBITE DE ALUMINIO VAZADO DE REPUXO, 3,2 X 8 MM (1KG = 1025 UNIDADES)","KG",{"$f":"0.0012*2","v":2.3999999999999998E-3},45.894500000000001,0.11014679999999999,null,null,511]
[null,null,"SOLDA EM BARRA DE ESTANHO-CHUMBO 50/50","KG",{"$f":"0.045*2","v":0.09},81.500500000000002,7.335045,null,null,511]
[null,null,"RUFO INTERNO/EXTERNO DE CHAPA DE ACO GALVANIZADA NUM 24, CORTE 25 CM","M",{"$f":"4*1.05","v":4.2},15.256999999999998,64.079399999999993,null,null,511]
[null,null,"SERVENTE COM ENCARGOS COMPLEMENTARES","H",0.20699999999999999,15.750999999999998,3.2604569999999993,null,null,511]
[null,null,"TELHADISTA COM ENCARGOS COMPLEMENTARES","H",0.112,22.619499999999999,2.5333839999999999,null,null,511]
[null,null,"GUINCHO ELÉTRICO DE COLUNA, CAPACIDADE 400 KG, COM MOTO FREIO, MOTOR TRIFÁSICO DE 1,25 CV - CHP DIURNO. AF_03/2016","CHP",1.32E-2,17.727,0.23399639999999999,null,null,511]
[null,null,"GUINCHO ELÉTRICO DE COLUNA, CAPACIDADE 400 KG, COM MOTO FREIO, MOTOR TRIFÁSICO DE 1,25 CV - CHI DIURNO. AF_03/2016","CHI",1.83E-2,17.0335,0.31171304999999999,null,null,511]
[null,null,null,null,null,"","",null,null,511]
["SF-01163",{"$f":"INDEX('Orçamentária-TR'!B:C,MATCH(Composições!A4261,'Orçamentária-TR'!B:B,0),2)","v":"Chapim Pré-Moldado de Concreto Aparente"},null,{"$f":"TRIM(INDEX('Orçamentária-TR'!D:D,MATCH(Composições!A4261,'Orçamentária-TR'!B:B,0),1))","v":"m"},null,"","",null,null,837]
[null,null,null,null,null,"","",null,null,837]
[null,null,"ARAME RECOZIDO 16 BWG, D = 1,65 MM (0,016 KG/M) OU 18 BWG, D = 1,25 MM (0,01 KG/M)","KG",0.02,12.426,0.24852000000000002,{"$f":"SUM(G4263:G4276)","v":100.02120789999999},null,837]
[null,null,"AREIA GROSSA - POSTO JAZIDA/FORNECEDOR (RETIRADO NA JAZIDA, SEM TRANSPORTE)","m3",0.04,113.24949999999998,4.5299799999999992,null,null,837]
[null,null,"ARMADOR COM ENCARGOS COMPLEMENTARES","H",0.8,21.222999999999999,16.978400000000001,null,null,837]
[null,null,"ACO CA-50, 10,0 MM, OU 12,5 MM, OU 16,0 MM, OU 20,0 MM, DOBRADO E CORTADO","KG",1.35,4.7974999999999994,6.4766249999999994,null,null,837]
[null,null,"Carpinteiro de formas com encargos complementares","H",0.7,21.184999999999999,14.829499999999998,null,null,837]
[null,null,"Chapa de madeira compensada resinada 1,10 x 2,20 m # 10 mm","m2",1,16.149999999999999,16.149999999999999,null,null,837]
[null,null,"BETONEIRA CAPACIDADE NOMINAL DE 600 L, CAPACIDADE DE MISTURA 360 L, MOTOR ELÉTRICO TRIFÁSICO POTÊNCIA DE 4 CV, SEM CARREGADOR - CHP DIURNO. AF_11/2014","CHP",0.02,3.3344999999999998,6.6689999999999999E-2,null,null,837]
[null,null,"CIMENTO PORTLAND COMPOSTO CP II-32","KG",17.36,0.38949999999999996,6.7617199999999986,null,null,837]
[null,null,"PEDRA BRITADA N. 0, OU PEDRISCO (4,8 A 9,5 MM) POSTO PEDREIRA/FORNECEDOR, SEM FRETE","m3",0.09,79.268000000000001,7.1341200000000002,null,null,837]
[null,null,"PREGO DE ACO POLIDO COM CABECA 17 X 21 (2 X 11)","kg",0.02,9.8324999999999996,0.19664999999999999,null,null,837]
[null,null,"PEDREIRO COM ENCARGOS COMPLEMENTARES","h",0.3,21.327499999999997,6.3982499999999991,null,null,837]
[null,null,"SERVENTE COM ENCARGOS COMPLEMENTARES","H",1.1000000000000001,15.750999999999998,17.3261,null,null,837]
[null,null,"CARGA, MANOBRAS E DESCARGA DE AREIA, BRITA, PEDRA DE MAO E SOLOS COM CAMINHAO BASCULANTE 6 M3 (DESCARGA LIVRE)","m3",{"$f":"1*(E4264+E4271)","v":0.13},0.7583660000000001,9.8587580000000022E-2,null,null,837]
[null,null,"TRANSPORTE COM CAMINHÃO BASCULANTE DE 6 M3, EM VIA URBANA PAVIMENTADA, DMT ATÉ 30 KM (UNIDADE: M3xKM). AF_01/2018","M3xKM",{"$f":"(E4264+E4271)*20","v":2.6},1.0869482000000001,2.8260653200000005,null,null,837]
[null,null,null,null,null,"","",null,null,837]
[null,null,"Obs: considerando fornecedor de areia e brita a 20 km do Senado Federal",null,null,"","",null,null,837]
[null,null,null,null,null,"","",null,null,837]
["SF-01164",{"$f":"INDEX('Orçamentária-TR'!B:C,MATCH(Composições!A4280,'Orçamentária-TR'!B:B,0),2)","v":"Armação em tela de aço soldado nervurada"},null,{"$f":"TRIM(INDEX('Orçamentária-TR'!D:D,MATCH(Composições!A4280,'Orçamentária-TR'!B:B,0),1))","v":"m2"},null,"","",null,null,1800]
[null,null,null,null,null,"","",null,null,1800]
[null,null,"TELA DE ACO SOLDADA NERVURADA, CA-60, Q-92, (1,48 KG/M2), DIAMETRO DO FIO = 4,2 MM, LARGURA = 2,45 X 60 M DE COMPRIMENTO, ESPACAMENTO DA MALHA = 15  X 15 CM","M2",{"$f":"ROUND(0.712*1.48,4)","v":1.0538000000000001},8.9205000000000005,9.4004229000000006,{"$f":"SUM(G4282:G4286)","v":11.216725050000001},null,1800]
[null,null,"ESPACADOR / DISTANCIADOR CIRCULAR COM ENTRADA LATERAL, EM PLASTICO, PARA VERGALHAO *4,2 A 12,5* MM, COBRIMENTO 20 MM","UN",{"$f":"ROUND(1.382*1.48,4)","v":2.0453999999999999},0.1235,0.25260689999999997,null,null,1800]
[null,null,"ARAME RECOZIDO 16 BWG, D = 1,65 MM (0,016 KG/M) OU 18 BWG, D = 1,25 MM (0,01 KG/M)","KG",{"$f":"ROUND(0.0105*1.48,4)","v":1.55E-2},12.426,0.192603,null,null,1800]
[null,null,"AJUDANTE DE ARMADOR COM ENCARGOS COMPLEMENTARES","H",{"$f":"ROUND(0.006*1.48,4)","v":8.8999999999999999E-3},16.463499999999996,0.14652514999999997,null,null,1800]
[null,null,"ARMADOR COM ENCARGOS COMPLEMENTARES","H",{"$f":"ROUND(0.039*1.48,4)","v":5.7700000000000001E-2},21.222999999999999,1.2245671,null,null,1800]
[null,null,null,null,null,"","",null,null,1800]
["SF-01165",{"$f":"INDEX('Orçamentária-TR'!B:C,MATCH(Composições!A4288,'Orçamentária-TR'!B:B,0),2)","v":"Trama de aço composta por terças para telhados de até 2 águas"},null,{"$f":"TRIM(INDEX('Orçamentária-TR'!D:D,MATCH(Composições!A4288,'Orçamentária-TR'!B:B,0),1))","v":"m2"},null,"","",null,null,480]
[null,null,null,null,null,"","",null,null,480]
[null,null,"PARAFUSO, COMUM, ASTM A307, SEXTAVADO, DIAMETRO 1/2\" (12,7 MM), COMPRIMENTO 1\" (25,4 MM)","CENTO",7.0000000000000001E-3,139.99200000000002,0.97994400000000015,{"$f":"SUM(G4290:G4295)","v":27.233288999999996},null,480]
[null,null,"PERFIL \"U\" ENRIJECIDO DE ACO GALVANIZADO, DOBRADO, 150 X 60 X 20 MM, E = 3,00 MM OU 200 X 75 X 25 MM, E = 3,75 MM","KG",4.3330000000000002,4.8069999999999995,20.828730999999998,null,null,480]
[null,null,"MONTADOR DE ESTRUTURA METÁLICA COM ENCARGOS COMPLEMENTARES","H",0.21299999999999999,16.311500000000002,3.4743495000000002,null,null,480]
[null,null,"SERVENTE COM ENCARGOS COMPLEMENTARES","H",0.106,15.750999999999998,1.6696059999999997,null,null,480]
[null,null,"GUINCHO ELÉTRICO DE COLUNA, CAPACIDADE 400 KG, COM MOTO FREIO, MOTOR TRIFÁSICO DE 1,25 CV - CHP DIURNO. AF_03/2016","CHP",6.7999999999999996E-3,17.727,0.1205436,null,null,480]
[null,null,"GUINCHO ELÉTRICO DE COLUNA, CAPACIDADE 400 KG, COM MOTO FREIO, MOTOR TRIFÁSICO DE 1,25 CV - CHI DIURNO. AF_03/2016","CHI",9.4000000000000004E-3,17.0335,0.1601149,null,null,480]
[null,null,null,null,null,"","",null,null,480]
["SF-01166",{"$f":"INDEX('Orçamentária-TR'!B:C,MATCH(Composições!A4297,'Orçamentária-TR'!B:B,0),2)","v":"Revestimento impermeabilizante bloqueador de umidade"},null,{"$f":"TRIM(INDEX('Orçamentária-TR'!D:D,MATCH(Composições!A4297,'Orçamentária-TR'!B:B,0),1))","v":"m2"},null,"","",null,null,600]
[null,null,null,null,null,"","",null,null,600]
[null,null,"Ajudante de pintor com Encargos Complementares","H",0.1,17.983499999999999,1.7983500000000001,{"$f":"SUM(G4299:G4301)","v":13.648530000000001},null,600]
[null,null,"PINTOR COM ENCARGOS COMPLEMENTARES","H",0.2,22.372499999999999,4.4744999999999999,null,null,600]
[null,null,"Revestimento impermabilizante bloqueador de umidade composto de resina acrílica, pigmentos inorgânicos, cargas minerais, cimento Portland, aditivos, hidrocarbonetos aromáticos e alifáticos","L",{"$f":"2*3.6/75","v":9.6000000000000002E-2},76.83,7.37568,null,null,600]
[null,null,null,null,null,"","",null,null,600]
[null,null,"Obs: considerando rendimento informado na especificação técnica do produto indicado como referência comercial (Lata de 3,6L rende até 3 demãos, com 25 m²/demão).",null,null,"","",null,null,600]
[null,null,null,null,null,"","",null,null,600]
["SF-01167",{"$f":"INDEX('Orçamentária-TR'!B:C,MATCH(Composições!A4305,'Orçamentária-TR'!B:B,0),2)","v":"Pintura com tinta refletiva aluminizada para impermeabilização"},null,{"$f":"TRIM(INDEX('Orçamentária-TR'!D:D,MATCH(Composições!A4305,'Orçamentária-TR'!B:B,0),1))","v":"m2"},null,"","",null,null,2000]
[null,null,null,null,null,"","",null,null,2000]
[null,null,"Ajudante de pintor com Encargos Complementares","H",0.1,17.983499999999999,1.7983500000000001,{"$f":"SUM(G4307:G4309)","v":32.146099999999997},null,2000]
[null,null,"PINTOR COM ENCARGOS COMPLEMENTARES","H",0.2,22.372499999999999,4.4744999999999999,null,null,2000]
[null,null,"Tinta aluminizada de base asfáltica","L",0.5,51.746499999999997,25.873249999999999,null,null,2000]
[null,null,null,null,null,"","",null,null,2000]
["SF-01168",{"$f":"INDEX('Orçamentária-TR'!B:C,MATCH(Composições!A4311,'Orçamentária-TR'!B:B,0),2)","v":"Concreto leve com poliestireno expandido"},null,{"$f":"TRIM(INDEX('Orçamentária-TR'!D:D,MATCH(Composições!A4311,'Orçamentária-TR'!B:B,0),1))","v":"m3"},null,"",{"$f":"IF(ISNUMBER(F4311),E4311*F4311,\"\")","v":""},null,null,170]
[null,null,null,null,null,"","",null,null,170]
[null,null,"SERVENTE COM ENCARGOS COMPLEMENTARES","H",6.5,15.750999999999998,102.38149999999999,{"$f":"SUM(G4313:G4319)","v":685.85471463999977},null,170]
[null,null,"AREIA MEDIA - POSTO JAZIDA/FORNECEDOR (RETIRADO NA JAZIDA, SEM TRANSPORTE)","m3",0.35799999999999998,93.8125,33.584874999999997,null,null,170]
[null,null,"CIMENTO PORTLAND COMPOSTO CP II-32","KG",400,0.38949999999999996,155.79999999999998,null,null,170]
[null,null,"POLIESTIRENO EXPANDIDO/EPS (ISOPOR), PEROLAS, PARA CONCRETO LEVE","kg",10.5,36.726999999999997,385.63349999999997,null,null,170]
[null,null,"BETONEIRA CAPACIDADE NOMINAL DE 400 L, CAPACIDADE DE MISTURA 280 L, MOTOR ELÉTRICO TRIFÁSICO POTÊNCIA DE 2 CV, SEM CARREGADOR - CHP DIURNO. AF_10/2014","CHP",0.34300000000000003,1.1684999999999999,0.40079549999999997,null,null,170]
[null,null,"CARGA, MANOBRAS E DESCARGA DE AREIA, BRITA, PEDRA DE MAO E SOLOS COM CAMINHAO BASCULANTE 6 M3 (DESCARGA LIVRE)","m3",{"$f":"1*E4314","v":0.35799999999999998},0.7583660000000001,0.27149502800000003,null,null,170]
[null,null,"TRANSPORTE COM CAMINHÃO BASCULANTE DE 6 M3, EM VIA URBANA PAVIMENTADA, DMT ATÉ 30 KM (UNIDADE: M3xKM). AF_01/2018","M3xKM",{"$f":"E4314*20","v":7.16},1.0869482000000001,7.7825491120000008,null,null,170]
[null,null,null,null,null,"","",null,null,170]
[null,null,"Obs: considerando fornecedor de areia a 20 km do Senado Federal",null,null,"","",null,null,170]
[null,null,null,null,null,"","",null,null,170]
["SF-01169",{"$f":"INDEX('Orçamentária-TR'!B:C,MATCH(Composições!A4323,'Orçamentária-TR'!B:B,0),2)","v":"Colagem da camada de proteção térmica de impermeabilização"},null,{"$f":"TRIM(INDEX('Orçamentária-TR'!D:D,MATCH(Composições!A4323,'Orçamentária-TR'!B:B,0),1))","v":"m2"},null,"","",null,null,3350]
[null,null,null,null,null,"","",null,null,3350]
[null,null,"PRIMER PARA MANTA ASFALTICA A BASE DE ASFALTO MODIFICADO DILUIDO EM SOLVENTE, APLICACAO A FRIO","L",0.35,15.000499999999999,5.2501749999999996,{"$f":"SUM(G4325:G4326)","v":6.8409499999999994},null,3350]
[null,null,"AJUDANTE ESPECIALIZADO COM ENCARGOS COMPLEMENTARES","H",8.5000000000000006E-2,18.715,1.5907750000000001,null,null,3350]
[null,null,null,null,null,"","",null,null,3350]
[null,null,"Obs: Adotou-se o consumo de 350 mL/m², conforme recomendação do fabricante do produto para aplicação homogênea.",null,null,"","",null,null,3350]
[null,null,"http://vedacit.com.br/produtos/primer-eco-vedacit",null,null,"","",null,null,3350]
[null,null,null,null,null,"","",null,null,3350]
["SF-01170",{"$f":"INDEX('Orçamentária-TR'!B:C,MATCH(Composições!A4331,'Orçamentária-TR'!B:B,0),2)","v":"Impermeabilização com Membrana de Poliuretano"},null,{"$f":"TRIM(INDEX('Orçamentária-TR'!D:D,MATCH(Composições!A4331,'Orçamentária-TR'!B:B,0),1))","v":"m2"},null,"","",null,null,114]
[null,null,null,null,null,"","",null,null,114]
[null,null,"MEMBRANA IMPERMEABILIZANTE A BASE DE POLIURETANO","KG",2,40.688499999999998,81.376999999999995,{"$f":"SUM(G4333:G4335)","v":93.325529999999986},null,114]
[null,null,"AJUDANTE ESPECIALIZADO COM ENCARGOS COMPLEMENTARES","H",9.6000000000000002E-2,18.715,1.79664,null,null,114]
[null,null,"IMPERMEABILIZADOR COM ENCARGOS COMPLEMENTARES","H",0.47599999999999998,21.327499999999997,10.151889999999998,null,null,114]
[null,null,null,null,null,"","",null,null,114]
["SF-01171",{"$f":"INDEX('Orçamentária-TR'!B:C,MATCH(Composições!A4337,'Orçamentária-TR'!B:B,0),2)","v":"Impermeabilização com Manta Asfáltica"},null,{"$f":"TRIM(INDEX('Orçamentária-TR'!D:D,MATCH(Composições!A4337,'Orçamentária-TR'!B:B,0),1))","v":"m2"},null,"","",null,null,21231]
[null,null,null,null,null,"","",null,null,21231]
[null,null,"PRIMER PARA MANTA ASFALTICA A BASE DE ASFALTO MODIFICADO DILUIDO EM SOLVENTE, APLICACAO A FRIO","L",0.61499999999999999,15.000499999999999,9.2253074999999995,{"$f":"SUM(G4339:G4343)","v":88.293427499999979},null,21231]
[null,null,"MANTA ASFALTICA ELASTOMERICA EM POLIESTER 4 MM, TIPO III, CLASSE B, ACABAMENTO PP (NBR 9952)","M2",1.125,47.917999999999992,53.907749999999993,null,null,21231]
[null,null,"GAS DE COZINHA - GLP","KG",0.26,5.1869999999999994,1.3486199999999999,null,null,21231]
[null,null,"AJUDANTE ESPECIALIZADO COM ENCARGOS COMPLEMENTARES","H",0.192,18.715,3.59328,null,null,21231]
[null,null,"IMPERMEABILIZADOR COM ENCARGOS COMPLEMENTARES","H",0.94799999999999995,21.327499999999997,20.218469999999996,null,null,21231]
[null,null,null,null,null,"","",null,null,21231]
["SF-01172",{"$f":"INDEX('Orçamentária-TR'!B:C,MATCH(Composições!A4345,'Orçamentária-TR'!B:B,0),2)","v":"Impermeabilização com manta asfáltica aluminizada"},null,{"$f":"TRIM(INDEX('Orçamentária-TR'!D:D,MATCH(Composições!A4345,'Orçamentária-TR'!B:B,0),1))","v":"m2"},null,"","",null,null,2500]
[null,null,null,null,null,"","",null,null,2500]
[null,null,"PRIMER PARA MANTA ASFALTICA A BASE DE ASFALTO MODIFICADO DILUIDO EM SOLVENTE, APLICACAO A FRIO","L",0.61499999999999999,15.000499999999999,9.2253074999999995,{"$f":"SUM(G4347:G4351)","v":63.893864999999991},null,2500]
[null,null,"Manta asfáltica aluminizada","M2",1.125,26.229499999999998,29.508187499999998,null,null,2500]
[null,null,"GAS DE COZINHA - GLP","KG",0.26,5.1869999999999994,1.3486199999999999,null,null,2500]
[null,null,"AJUDANTE ESPECIALIZADO COM ENCARGOS COMPLEMENTARES","H",0.192,18.715,3.59328,null,null,2500]
[null,null,"IMPERMEABILIZADOR COM ENCARGOS COMPLEMENTARES","H",0.94799999999999995,21.327499999999997,20.218469999999996,null,null,2500]
[null,null,null,null,null,"","",null,null,2500]
["SF-01173",{"$f":"INDEX('Orçamentária-TR'!B:C,MATCH(Composições!A4353,'Orçamentária-TR'!B:B,0),2)","v":"Impermeabilização com manta elastomérica de etileno-propileno-dieno-monômero (EPDM)"},null,{"$f":"TRIM(INDEX('Orçamentária-TR'!D:D,MATCH(Composições!A4353,'Orçamentária-TR'!B:B,0),1))","v":"m2"},null,"","",null,null,978]
[null,null,null,null,null,"","",null,null,978]
[null,null,"IMPERMEABILIZADOR COM ENCARGOS COMPLEMENTARES","H",0.5,21.327499999999997,10.663749999999999,{"$f":"SUM(G4355:G4361)","v":129.69305},null,978]
[null,null,"AJUDANTE ESPECIALIZADO COM ENCARGOS COMPLEMENTARES","H",0.5,18.715,9.3574999999999999,null,null,978]
[null,null,"Emulsão hidro-asfáltica","KG",0.8,11.751499999999998,9.4011999999999993,null,null,978]
[null,null,"Tinta betuminosa","L",0.6,24.414999999999999,14.648999999999999,null,null,978]
[null,null,"Manta butílica # 0,8 mm","m2",1.1000000000000001,62.11099999999999,68.322099999999992,null,null,978]
[null,null,"Fita de caldeação para manta butilíca largura 50 mm # 3 mm","m",2,1.4915,2.9830000000000001,null,null,978]
[null,null,"Adesivo auto vulcanizante para manta butilíca","L",0.2,71.582499999999996,14.3165,null,null,978]
[null,null,null,null,null,"","",null,null,978]
["SF-01174",{"$f":"INDEX('Orçamentária-TR'!B:C,MATCH(Composições!A4363,'Orçamentária-TR'!B:B,0),2)","v":"Impermeabilização com membrana acrílica"},null,{"$f":"TRIM(INDEX('Orçamentária-TR'!D:D,MATCH(Composições!A4363,'Orçamentária-TR'!B:B,0),1))","v":"m2"},null,"","",null,null,5000]
[null,null,null,null,null,"","",null,null,5000]
[null,null,"MEMBRANA IMPERMEABILIZANTE ACRILICA MONOCOMPONENTE","KG",1.2,15.760499999999999,18.912599999999998,{"$f":"SUM(G4365:G4367)","v":33.429549999999999},null,5000]
[null,null,"AJUDANTE ESPECIALIZADO COM ENCARGOS COMPLEMENTARES","H",0.11700000000000001,18.715,2.1896550000000001,null,null,5000]
[null,null,"IMPERMEABILIZADOR COM ENCARGOS COMPLEMENTARES","H",0.57799999999999996,21.327499999999997,12.327294999999998,null,null,5000]
[null,null,null,null,null,"","",null,null,5000]
["SF-01175",{"$f":"INDEX('Orçamentária-TR'!B:C,MATCH(Composições!A4369,'Orçamentária-TR'!B:B,0),2)","v":"Asfalto elastomérico para colagem de manta asfáltica"},null,{"$f":"TRIM(INDEX('Orçamentária-TR'!D:D,MATCH(Composições!A4369,'Orçamentária-TR'!B:B,0),1))","v":"m2"},null,"","",null,null,3000]
[null,null,null,null,null,"","",null,null,3000]
[null,null,"Asfalto elastomérico","KG",3,8.5,25.5,{"$f":"SUM(G4371:G4372)","v":29.765499999999999},null,3000]
[null,null,"IMPERMEABILIZADOR COM ENCARGOS COMPLEMENTARES","H",0.2,21.327499999999997,4.2654999999999994,null,null,3000]
[null,null,null,null,null,"","",null,null,3000]
[null,null,"*Adotou-se o consumo de 2 kg/m², valor intermediário da recomendação do fabricante do produto.",null,null,"","",null,null,3000]
[null,null,"http://www.denverimper.com.br/files/produtos/0000001-0000500/122/e5fe48d2b8810574e94921c5fb6cea0c.pdf",null,null,"",{"$f":"IF(ISNUMBER(F4375),E4375*F4375,\"\")","v":""},null,null,3000]
[null,null,null,null,null,"","",null,null,3000]
["SF-01176",{"$f":"INDEX('Orçamentária-TR'!B:C,MATCH(Composições!A4377,'Orçamentária-TR'!B:B,0),2)","v":"Impermeabilização com manta dupla (com maçarico)"},null,{"$f":"TRIM(INDEX('Orçamentária-TR'!D:D,MATCH(Composições!A4377,'Orçamentária-TR'!B:B,0),1))","v":"m2"},null,"","",null,null,5650]
[null,null,null,null,null,"","",null,null,5650]
[null,null,"PRIMER PARA MANTA ASFALTICA A BASE DE ASFALTO MODIFICADO DILUIDO EM SOLVENTE, APLICACAO A FRIO","L",0.61499999999999999,15.000499999999999,9.2253074999999995,{"$f":"SUM(G4379:G4384)","v":144.26263},null,5650]
[null,null,"MANTA ASFALTICA ELASTOMERICA EM POLIESTER 3 MM, TIPO III, CLASSE B, ACABAMENTO PP (NBR 9952)","M2",1.125,39.025999999999996,43.904249999999998,null,null,5650]
[null,null,"MANTA ASFALTICA ELASTOMERICA EM POLIESTER 4 MM, TIPO III, CLASSE B, ACABAMENTO PP (NBR 9952)","M2",1.125,47.917999999999992,53.907749999999993,null,null,5650]
[null,null,"GAS DE COZINHA - GLP","KG",0.52,5.1869999999999994,2.6972399999999999,null,null,5650]
[null,null,"AJUDANTE ESPECIALIZADO COM ENCARGOS COMPLEMENTARES","H",0.27800000000000002,18.715,5.2027700000000001,null,null,5650]
[null,null,"IMPERMEABILIZADOR COM ENCARGOS COMPLEMENTARES","H",1.375,21.327499999999997,29.325312499999995,null,null,5650]
[null,null,null,null,null,"","",null,null,5650]
["SF-01177",{"$f":"INDEX('Orçamentária-TR'!B:C,MATCH(Composições!A4386,'Orçamentária-TR'!B:B,0),2)","v":"Impermeabilização com manta dupla (com asfalto elastomérico)"},null,{"$f":"TRIM(INDEX('Orçamentária-TR'!D:D,MATCH(Composições!A4386,'Orçamentária-TR'!B:B,0),1))","v":"m2"},null,"","",null,null,5650]
[null,null,null,null,null,"","",null,null,5650]
[null,null,"PRIMER PARA MANTA ASFALTICA A BASE DE ASFALTO MODIFICADO DILUIDO EM SOLVENTE, APLICACAO A FRIO","L",0.61499999999999999,15.000499999999999,9.2253074999999995,{"$f":"SUM(G4388:G4393)","v":163.76815999999999},null,5650]
[null,null,"MANTA ASFALTICA ELASTOMERICA EM POLIESTER 3 MM, TIPO III, CLASSE B, ACABAMENTO PP (NBR 9952)","M2",1.125,39.025999999999996,43.904249999999998,null,null,5650]
[null,null,"MANTA ASFALTICA ELASTOMERICA EM POLIESTER 4 MM, TIPO III, CLASSE B, ACABAMENTO PP (NBR 9952)","M2",1.125,47.917999999999992,53.907749999999993,null,null,5650]
[null,null,"Asfalto elastomérico","KG",2,8.5,17,null,null,5650]
[null,null,"AJUDANTE ESPECIALIZADO COM ENCARGOS COMPLEMENTARES","H",{"$f":"0.278*2","v":0.55600000000000005},18.715,10.40554,null,null,5650]
[null,null,"IMPERMEABILIZADOR COM ENCARGOS COMPLEMENTARES","H",1.375,21.327499999999997,29.325312499999995,null,null,5650]
[null,null,null,null,null,"","",null,null,5650]
[null,null,"*Adotou-se o consumo de 2 kg/m², valor intermediário da recomendação do fabricante do produto.",null,null,"","",null,null,5650]
[null,null,"http://www.denverimper.com.br/files/produtos/0000001-0000500/122/e5fe48d2b8810574e94921c5fb6cea0c.pdf",null,null,"","",null,null,5650]
[null,null,null,null,null,"","",null,null,5650]
["SF-01179",{"$f":"INDEX('Orçamentária-TR'!B:C,MATCH(Composições!A4398,'Orçamentária-TR'!B:B,0),2)","v":"Aditivo Incorporador de Ar"},null,{"$f":"TRIM(INDEX('Orçamentária-TR'!D:D,MATCH(Composições!A4398,'Orçamentária-TR'!B:B,0),1))","v":"kg"},null,"","",null,null,100]
[null,null,null,null,null,"","",null,null,100]
[null,null,"ADITIVO LIQUIDO INCORPORADOR DE AR PARA CONCRETO E ARGAMASSA, LIQUIDO E ISENTO DE CLORETOS","L",1.01,4.8449999999999998,4.8934499999999996,{"$f":"SUM(G4400:G4400)","v":4.8934499999999996},null,100]
[null,null,null,null,null,"","",null,null,100]
[null,null,"Obs: considerando 1,01 L/kg, conforme especificado na ficha técnica do produto indicado como referência comercial.",null,null,"","",null,null,100]
[null,null,null,null,null,"","",null,null,100]
["SF-01180",{"$f":"INDEX('Orçamentária-TR'!B:C,MATCH(Composições!A4404,'Orçamentária-TR'!B:B,0),2)","v":"Brita Nº 2"},null,{"$f":"TRIM(INDEX('Orçamentária-TR'!D:D,MATCH(Composições!A4404,'Orçamentária-TR'!B:B,0),1))","v":"m3"},null,"","",null,null,10]
[null,null,null,null,null,"","",null,null,10]
[null,null,"PEDRA BRITADA N. 2 (19 A 38 MM) POSTO PEDREIRA/FORNECEDOR, SEM FRETE","m3",1,62.082499999999989,62.082499999999989,{"$f":"SUM(G4406:G4408)","v":84.579829999999987},null,10]
[null,null,"CARGA, MANOBRAS E DESCARGA DE AREIA, BRITA, PEDRA DE MAO E SOLOS COM CAMINHAO BASCULANTE 6 M3 (DESCARGA LIVRE)","m3",{"$f":"1*E4406","v":1},0.7583660000000001,0.7583660000000001,null,null,10]
[null,null,"TRANSPORTE COM CAMINHÃO BASCULANTE DE 6 M3, EM VIA URBANA PAVIMENTADA, DMT ATÉ 30 KM (UNIDADE: M3xKM). AF_01/2018","M3xKM",{"$f":"E4406*20","v":20},1.0869482000000001,21.738964000000003,null,null,10]
[null,null,null,null,null,"","",null,null,10]
[null,null,"Obs: considerando fornecedor de brita a 20 km do Senado Federal",null,null,"","",null,null,10]
[null,null,null,null,null,"","",null,null,10]
["SF-01232",{"$f":"INDEX('Orçamentária-TR'!B:C,MATCH(Composições!A4412,'Orçamentária-TR'!B:B,0),2)","v":{"$error":"#N/A"}},null,{"$f":"TRIM(INDEX('Orçamentária-TR'!C:C,MATCH(Composições!A4412,'Orçamentária-TR'!A:A,0),1))","v":{"$error":"#N/A"}},null,"","",null,null,0]
[null,null,null,null,null,"","",null,null,0]
[null,null,"PEDREIRO COM ENCARGOS COMPLEMENTARES","H",0.1,21.327499999999997,2.1327499999999997,{"$f":"SUM(G4414:G4421)","v":11.707799999999999},null,0]
[null,null,"SERVENTE COM ENCARGOS COMPLEMENTARES","H",0.1,15.750999999999998,1.5750999999999999,null,null,0]
[null,null,"Cola de contato a base d'água","KG",0.1,"","",null,null,0]
[null,null,"Carpete aveludado azul royal, para uso comercial, adequado para tráfego pesado, conforme especificações técnicas.","m2",1.1000000000000001,"","",null,null,0]
[null,null,"PEDREIRO COM ENCARGOS COMPLEMENTARES","H",0.2,21.327499999999997,4.2654999999999994,null,null,0]
[null,null,"SERVENTE COM ENCARGOS COMPLEMENTARES","H",0.2,15.750999999999998,3.1501999999999999,null,null,0]
[null,null,"CIMENTO PORTLAND COMPOSTO CP II-32","KG",1.5,0.38949999999999996,0.58424999999999994,null,null,0]
[null,null,"Adjuvante para argamassa base PVA","KG",{"$f":"ROUND(E4420*0.1,2)","v":0.15},"","",null,null,0]
[null,null,null,null,null,"","",null,null,0]
["SF-01233",{"$f":"INDEX('Orçamentária-TR'!B:C,MATCH(Composições!A4423,'Orçamentária-TR'!B:B,0),2)","v":{"$error":"#N/A"}},null,{"$f":"TRIM(INDEX('Orçamentária-TR'!C:C,MATCH(Composições!A4423,'Orçamentária-TR'!A:A,0),1))","v":{"$error":"#N/A"}},null,"","",null,null,0]
[null,null,null,null,null,"","",null,null,0]
[null,null,"PEDREIRO COM ENCARGOS COMPLEMENTARES","H",0.01,21.327499999999997,0.21327499999999996,{"$f":"SUM(G4425:G4426)","v":1.7883749999999998},null,0]
[null,null,"SERVENTE COM ENCARGOS COMPLEMENTARES","H",0.1,15.750999999999998,1.5750999999999999,null,null,0]
[null,null,null,null,null,"","",null,null,0]

{"sheet":"Comp.Aux1","index":3,"n_rows":361,"n_cols":9,"rows_kept":361,"cut":false,"hidden":false,"merged":[[47,0,59,0],[5,0,14,0],[15,0,19,0],[20,0,25,0],[26,0,36,0],[37,0,46,0],[284,0,287,0],[288,0,298,0],[299,0,306,0],[307,0,312,0],[224,0,237,0],[276,0,283,0],[60,0,67,0],[68,0,77,0],[78,0,84,0],[85,0,94,0],[95,0,104,0],[105,0,110,0],[111,0,116,0],[117,0,122,0],[123,0,128,0],[191,0,196,0],[179,0,184,0],[185,0,190,0],[129,0,134,0],[135,0,140,0],[141,0,146,0],[147,0,152,0],[197,0,201,0],[202,0,205,0],[206,0,213,0],[153,0,166,0],[167,0,178,0],[214,0,218,0],[219,0,223,0],[238,0,251,0],[252,0,265,0],[266,0,275,0],[313,0,326,0],[327,0,340,0],[341,0,352,0],[353,0,356,0],[357,0,360,0]]}
["Manutenção Civil"]
["COMPOSIÇÕES DE CUSTO UNITÁRIO AUXILIARES DE 1º NÍVEL"]
[]
[]
["DESCRIÇÃO","DISCRIMINAÇÃO DA COMPOSIÇÃO","UNIDADE","COEFICIENTE","CUSTO UNITÁRIO","CUSTO TOTAL","TOTAL",null,"QTD"]
["ARGAMASSA TRAÇO 1:3 (EM VOLUME DE CIMENTO E AREIA MÉDIA ÚMIDA), PREPARO MANUAL. AF_08/2019","","M3",null,"",{"$f":"IF(ISNUMBER(E6),E6*$D6,\"\")","v":""},null,null,1.3274999999999999]
[null,"",null,null,"","",null,null,1.3274999999999999]
[null,"Areia media - posto jazida/fornecedor (retirado na jazida, sem transporte)","M3",1.07,93.8125,100.37937500000001,{"$f":"SUM(F8:F12)","v":447.5505081},null,1.3274999999999999]
[null,"Cimento Portland composto CP II-32","KG",482.96,0.38949999999999996,188.11291999999997,null,null,1.3274999999999999]
[null,"Servente com encargos complementares","H",8.57,15.750999999999998,134.98606999999998,null,null,1.3274999999999999]
[null,"CARGA, MANOBRAS E DESCARGA DE AREIA, BRITA, PEDRA DE MAO E SOLOS COM CAMINHAO BASCULANTE 6 M3 (DESCARGA LIVRE)","M3",{"$f":"ROUND(1*D8,4)","v":1.07},0.7583660000000001,0.81145162000000015,null,null,1.3274999999999999]
[null,"TRANSPORTE COM CAMINHÃO BASCULANTE DE 6 M3, EM VIA URBANA PAVIMENTADA, DMT ATÉ 30 KM (UNIDADE: M3xKM). AF_01/2018","M3xKM",{"$f":"ROUND(D8*20,4)","v":21.4},1.0869482000000001,23.260691480000002,null,null,1.3274999999999999]
[null,null,null,null,"","",null,null,1.3274999999999999]
[null,"Obs.: Considerando fornecedor de areia a 20 km do Senado Federal.",null,null,"","",null,null,1.3274999999999999]
[null,"",null,null,"","",null,null,1.3274999999999999]
["Fixação utilizando parafuso e bucha de nylon, somente mão de obra. af_10/2016","","UN",null,"","",null,null,0]
[null,"",null,null,"","",null,null,0]
[null,"Auxiliar de encanador ou bombeiro hidráulico com encargos complementares","H",2.2700000000000001E-2,16.320999999999998,0.3704867,{"$f":"SUM(F18:F19)","v":3.7629965499999996},null,0]
[null,"Encanador ou bombeiro hidráulico com encargos complementares","H",0.16209999999999999,20.9285,3.3925098499999997,null,null,0]
[null,"",null,null,"","",null,null,0]
["Fixação de tubos horizontais de PVC, CPVC ou cobre diâmetros menores ou iguais a 40 mm ou eletrocalhas até 150mm de largura, com abraçadeira metálica rígida tipo d 1/2\u0094, fixada em perfilado em laje. af_05/2015","","M",null,"","",null,null,0]
[null,"",null,null,"","",null,null,0]
[null,"Abracadeira em aco para amarracao de eletrodutos, tipo D, com 1/2\" e parafuso de fixacao","UN",0.65,1.0355000000000001,0.67307500000000009,{"$f":"SUM(F23:F25)","v":2.2803515000000001},null,0]
[null,"Auxiliar de encanador ou bombeiro hidráulico com encargos complementares","H",0.01,16.320999999999998,0.16320999999999999,null,null,0]
[null,"Encanador ou bombeiro hidráulico com encargos complementares","H",6.9000000000000006E-2,20.9285,1.4440665000000001,null,null,0]
[null,"",null,null,"","",null,null,0]
["Fabricação de fôrma para vigas, em chapa de madeira compensada resinada, E = 17 mm. AF_12/2015","","M2",null,"","",null,null,0]
[null,"",null,null,"","",null,null,0]
[null,"Chapa de madeira compensada resinada para forma de concreto, de *2,2 x 1,1* m, e = 17 mm","M2",1.19,28.062999999999999,33.394969999999994,{"$f":"SUM(F29:F36)","v":76.141293499999989},null,0]
[null,"PONTALETE DE MADEIRA NAO APARELHADA *7,5 X 7,5* CM (3 X 3 \") PINUS, MISTA OU EQUIVALENTE DA REGIAO","M",0.16200000000000001,3.3724999999999996,0.54634499999999997,null,null,0]
[null,"SARRAFO DE MADEIRA NAO APARELHADA *2,5 X 7,5* CM (1 X 3 \") PINUS, MISTA OU EQUIVALENTE DA REGIAO","M",7.734,1.2064999999999999,9.3310709999999997,null,null,0]
[null,"Prego de aco polido com cabeca 17 x 21 (2 x 11)","KG",0.155,9.8324999999999996,1.5240374999999999,null,null,0]
[null,"Ajudante de carpinteiro com encargos complementares","H",0.222,17.869499999999999,3.9670289999999997,null,null,0]
[null,"Carpinteiro de formas com encargos complementares","H",1.111,21.184999999999999,23.536534999999997,null,null,0]
[null,"Serra circular de bancada com motor elétrico potência de 5HP, com coifa para disco 10\" - CHP diurno. af_08/2015","CHP",5.3999999999999999E-2,18.6295,1.0059929999999999,null,null,0]
[null,"Serra circular de bancada com motor elétrico potência de 5HP, com coifa para disco 10\" - CHI diurno. af_08/2015","CHI",0.16900000000000001,16.777000000000001,2.8353130000000002,null,null,0]
[null,"",null,null,"","",null,null,0]
["Fabricação de escoras de viga do tipo garfo, em madeira. af_12/2015","","M",null,"","",null,null,0]
[null,"",null,null,"","",null,null,0]
[null,"Chapa de madeira compensada plastificada para forma de concreto, de 2,20 x 1,10 m, e = 18 mm","M2",0.126,35.900500000000001,4.5234630000000005,{"$f":"SUM(F40:F46)","v":17.205041499999997},null,0]
[null,"PONTALETE DE MADEIRA NAO APARELHADA *7,5 X 7,5* CM (3 X 3 \") PINUS, MISTA OU EQUIVALENTE DA REGIAO","M",2.27,3.3724999999999996,7.6555749999999989,null,null,0]
[null,"Prego de aco polido com cabeca 17 x 21 (2 x 11)","KG",1.7000000000000001E-2,9.8324999999999996,0.16715250000000001,null,null,0]
[null,"Ajudante de carpinteiro com encargos complementares","H",3.4000000000000002E-2,17.869499999999999,0.60756299999999996,null,null,0]
[null,"Carpinteiro de formas com encargos complementares","H",0.17199999999999999,21.184999999999999,3.6438199999999994,null,null,0]
[null,"Serra circular de bancada com motor elétrico potência de 5HP, com coifa para disco 10\" - CHP diurno. af_08/2015","CHP",0.02,18.6295,0.37259000000000003,null,null,0]
[null,"Serra circular de bancada com motor elétrico potência de 5HP, com coifa para disco 10\" - CHI diurno. af_08/2015","CHI",1.4E-2,16.777000000000001,0.23487800000000003,null,null,0]
[null,"",null,null,"","",null,null,0]
["ARGAMASSA TRAÇO 1:2:8 (EM VOLUME DE CIMENTO, CAL E AREIA MÉDIA ÚMIDA) PARA EMBOÇO/MASSA ÚNICA/ASSENTAMENTO DE ALVENARIA DE VEDAÇÃO, PREPARO MECÂNICO COM BETONEIRA 400 L. AF_08/2019","","M3",null,"","",null,null,673.87800000000004]
[null,"",null,null,"","",null,null,673.87800000000004]
[null,"Areia media - posto jazida/fornecedor (retirado na jazida, sem transporte)","M3",1.1599999999999999,93.8125,108.82249999999999,{"$f":"SUM(F50:F57)","v":412.46009779999997},null,673.87800000000004]
[null,"Cal hidratada CH-I para argamassas","KG",174.1,0.73149999999999993,127.35414999999999,null,null,673.87800000000004]
[null,"Cimento Portland composto CP II-32","KG",195.86,0.38949999999999996,76.287469999999999,null,null,673.87800000000004]
[null,"Operador de betoneira estacionária/misturador com encargos complementares","H",4.5,15.959999999999999,71.819999999999993,null,null,673.87800000000004]
[null,"Betoneira capacidade nominal de 400 L, capacidade de mistura 280 L, motor elétrico trifásico potência de 2 cv, sem carregador - CHP diurno. af_10/2014","CHP",1.05,1.1684999999999999,1.2269249999999998,null,null,673.87800000000004]
[null,"Betoneira capacidade nominal de 400 L, capacidade de mistura 280 L, motor elétrico trifásico potência de 2 cv, sem carregador - CHI diurno. af_10/2014","CHI",3.45,0.247,0.85215000000000007,null,null,673.87800000000004]
[null,"CARGA, MANOBRAS E DESCARGA DE AREIA, BRITA, PEDRA DE MAO E SOLOS COM CAMINHAO BASCULANTE 6 M3 (DESCARGA LIVRE)","M3",{"$f":"ROUND(1*D50,4)","v":1.1599999999999999},0.7583660000000001,0.87970456000000008,null,null,673.87800000000004]
[null,"TRANSPORTE COM CAMINHÃO BASCULANTE DE 6 M3, EM VIA URBANA PAVIMENTADA, DMT ATÉ 30 KM (UNIDADE: M3xKM). AF_01/2018","M3xKM",{"$f":"ROUND(D50*20,4)","v":23.2},1.0869482000000001,25.217198240000002,null,null,673.87800000000004]
[null,null,null,null,"","",null,null,673.87800000000004]
[null,"Obs.: Considerando fornecedor de areia a 20 km do Senado Federal.",null,null,"","",null,null,673.87800000000004]
[null,"",null,null,"","",null,null,673.87800000000004]
["Contrapiso em argamassa traço 1:4 (cimento e areia), preparo mecânico com betoneira 400 l, aplicado em áreas secas sobre laje, aderido, espessura 3cm. AF_06/2014","","M2",null,"","",null,null,0]
[null,"",null,null,"","",null,null,0]
[null,"Cimento Portland composto CP II-32","KG",0.5,0.38949999999999996,0.19474999999999998,{"$f":"SUM(F63:F67)","v":32.771081717969999},null,0]
[null,"Aditivo adesivo liquido para argamassas de revestimentos cimenticios","L",0.435,11.418999999999999,4.9672649999999994,null,null,0]
[null,"ARGAMASSA TRAÇO 1:4 (EM VOLUME DE CIMENTO E AREIA MÉDIA ÚMIDA) PARA CONTRAPISO, PREPARO MECÂNICO COM BETONEIRA 400 L. AF_08/2019","M3",4.3099999999999999E-2,416.98553869999995,17.972076717969998,null,null,0]
[null,"Pedreiro com encargos complementares","H",0.33,21.327499999999997,7.0380749999999992,null,null,0]
[null,"Servente com encargos complementares","H",0.16500000000000001,15.750999999999998,2.5989149999999999,null,null,0]
[null,"",null,null,"","",null,null,0]
["ARGAMASSA TRAÇO 1:3 (EM VOLUME DE CIMENTO E AREIA GROSSA ÚMIDA) PARA CHAPISCO CONVENCIONAL, PREPARO MANUAL. AF_08/2019","","M3",null,"","",null,null,5.7959999999999994]
[null,"",null,null,"",{"$f":"IF(ISNUMBER(E70),E70*$D70,\"\")","v":""},null,null,5.7959999999999994]
[null,"Areia grossa - posto jazida/fornecedor (retirado na jazida, sem transporte)","M3",0.94,113.24949999999998,106.45452999999998,{"$f":"SUM(F71:F75)","v":465.79242519999991},null,5.7959999999999994]
[null,"Cimento Portland composto CP II-32","KG",422.63,0.38949999999999996,164.61438499999997,null,null,5.7959999999999994]
[null,"Servente com encargos complementares","H",11.02,15.750999999999998,173.57601999999997,null,null,5.7959999999999994]
[null,"CARGA, MANOBRAS E DESCARGA DE AREIA, BRITA, PEDRA DE MAO E SOLOS COM CAMINHAO BASCULANTE 6 M3 (DESCARGA LIVRE)","M3",{"$f":"ROUND(1*D71,4)","v":0.94},0.7583660000000001,0.71286404000000003,null,null,5.7959999999999994]
[null,"TRANSPORTE COM CAMINHÃO BASCULANTE DE 6 M3, EM VIA URBANA PAVIMENTADA, DMT ATÉ 30 KM (UNIDADE: M3xKM). AF_01/2018","M3xKM",{"$f":"ROUND(D71*20,4)","v":18.8},1.0869482000000001,20.434626160000004,null,null,5.7959999999999994]
[null,null,null,null,"","",null,null,5.7959999999999994]
[null,"Obs.: Considerando fornecedor de areia a 20 km do Senado Federal.",null,null,"","",null,null,5.7959999999999994]
[null,"",null,null,"","",null,null,5.7959999999999994]
["ARGAMASSA INDUSTRIALIZADA PARA CHAPISCO COLANTE, PREPARO COM MISTURADOR DE EIXO HORIZONTAL DE 300 KG. AF_08/2019","","M3",null,"","",null,null,0]
[null,"",null,null,"","",null,null,0]
[null,"Argamassa industrializada para chapisco colante","KG",1981.23,0.78849999999999998,1562.1998550000001,{"$f":"SUM(F81:F84)","v":1643.5048450000002},null,0]
[null,"Operador de betoneira estacionária/misturador com encargos complementares","H",4.72,15.959999999999999,75.331199999999995,null,null,0]
[null,"Misturador de argamassa, eixo horizontal, capacidade de mistura 300 kg, motor elétrico potência 5 cv - CHP diurno. af_06/2014","CHP",1.1000000000000001,3.2109999999999999,3.5321000000000002,null,null,0]
[null,"Misturador de argamassa, eixo horizontal, capacidade de mistura 300 kg, motor elétrico potência 5 cv - CHI diurno. af_06/2014","CHI",3.62,0.67449999999999999,2.4416899999999999,null,null,0]
[null,"",null,null,"","",null,null,0]
["ARGAMASSA TRAÇO 1:4 (EM VOLUME DE CIMENTO E AREIA MÉDIA ÚMIDA) PARA CONTRAPISO, PREPARO MANUAL. AF_08/2019","","M3",null,"","",null,null,21.75]
[null,"",null,null,"","",null,null,21.75]
[null,"Areia media - posto jazida/fornecedor (retirado na jazida, sem transporte)","M3",1.35,93.8125,126.64687500000001,{"$f":"SUM(F88:F92)","v":507.65320049999991},null,21.75]
[null,"Cimento Portland composto CP II-32","KG",454.58,0.38949999999999996,177.05890999999997,null,null,21.75]
[null,"Servente com encargos complementares","H",11.02,15.750999999999998,173.57601999999997,null,null,21.75]
[null,"CARGA, MANOBRAS E DESCARGA DE AREIA, BRITA, PEDRA DE MAO E SOLOS COM CAMINHAO BASCULANTE 6 M3 (DESCARGA LIVRE)","M3",{"$f":"ROUND(1*D88,4)","v":1.35},0.7583660000000001,1.0237941000000002,null,null,21.75]
[null,"TRANSPORTE COM CAMINHÃO BASCULANTE DE 6 M3, EM VIA URBANA PAVIMENTADA, DMT ATÉ 30 KM (UNIDADE: M3xKM). AF_01/2018","M3xKM",{"$f":"ROUND(D88*20,4)","v":27},1.0869482000000001,29.347601400000002,null,null,21.75]
[null,null,null,null,"","",null,null,21.75]
[null,"Obs.: Considerando fornecedor de areia a 20 km do Senado Federal.",null,null,"","",null,null,21.75]
[null,"",null,null,"","",null,null,21.75]
["ARGAMASSA TRAÇO 1:4 (EM VOLUME DE CIMENTO E AREIA MÉDIA ÚMIDA), PREPARO MANUAL. AF_08/2019","","M3",null,"","",null,null,0]
[null,"",null,null,"","",null,null,0]
[null,"Areia media - posto jazida/fornecedor (retirado na jazida, sem transporte)","M3",1.1499999999999999,93.8125,107.88437499999999,{"$f":"SUM(F98:F102)","v":416.05792449999996},null,0]
[null,"Cimento Portland composto CP II-32","KG",389.54,0.38949999999999996,151.72583,null,null,0]
[null,"Servente com encargos complementares","H",8.2899999999999991,15.750999999999998,130.57578999999996,null,null,0]
[null,"CARGA, MANOBRAS E DESCARGA DE AREIA, BRITA, PEDRA DE MAO E SOLOS COM CAMINHAO BASCULANTE 6 M3 (DESCARGA LIVRE)","M3",{"$f":"ROUND(1*D98,4)","v":1.1499999999999999},0.7583660000000001,0.87212090000000009,null,null,0]
[null,"TRANSPORTE COM CAMINHÃO BASCULANTE DE 6 M3, EM VIA URBANA PAVIMENTADA, DMT ATÉ 30 KM (UNIDADE: M3xKM). AF_01/2018","M3xKM",{"$f":"ROUND(D98*20,4)","v":23},1.0869482000000001,24.999808600000001,null,null,0]
[null,null,null,null,"","",null,null,0]
[null,"Obs.: Considerando fornecedor de areia a 20 km do Senado Federal.",null,null,"","",null,null,0]
[null,"",null,null,"","",null,null,0]
["Fixação de tubos verticais de PPR diâmetros menores ou iguais a 40 mm com abraçadeira metálica rígida tipo D 1/2\", fixada em perfilado em alvenaria. af_05/2015","","M",null,"","",null,null,0]
[null,"",null,null,"","",null,null,0]
[null,"Abracadeira em aco para amarracao de eletrodutos, tipo D, com 1/2\" e parafuso de fixacao","UN",0.33300000000000002,1.0355000000000001,0.34482150000000006,{"$f":"SUM(F108:F110)","v":1.1589240000000001},null,0]
[null,"Auxiliar de encanador ou bombeiro hidráulico com encargos complementares","H",5.0000000000000001E-3,16.320999999999998,8.1604999999999997E-2,null,null,0]
[null,"Encanador ou bombeiro hidráulico com encargos complementares","H",3.5000000000000003E-2,20.9285,0.73249750000000002,null,null,0]
[null,"",null,null,"","",null,null,0]
["Luva de emenda para eletroduto, aço galvanizado, DN 20 mm (3/4''), aparente, instalada em parede - fornecimento e instalação. af_11/2016_p","","UN",null,"","",null,null,0]
[null,"",null,null,"","",null,null,0]
[null,"Luva para eletroduto, em aco galvanizado eletrolitico, diametro de 20 mm (3/4\")","UN",1,1.615,1.615,{"$f":"SUM(F114:F116)","v":8.6114051499999995},null,0]
[null,"Auxiliar de eletricista com encargos complementares","H",0.1827,16.767499999999998,3.0634222499999999,null,null,0]
[null,"Eletricista com encargos complementares","H",0.1827,21.526999999999997,3.9329828999999994,null,null,0]
[null,"",null,null,"","",null,null,0]
["Luva de emenda para eletroduto, aço galvanizado, DN 25 mm (1''), aparente, instalada em parede - fornecimento e instalação. af_11/2016_p","","UN",null,"","",null,null,0]
[null,"",null,null,"","",null,null,0]
[null,"Luva para eletroduto, em aco galvanizado eletrolitico, diametro de 25 mm (1\")","UN",1,1.881,1.881,{"$f":"SUM(F120:F122)","v":9.6662718499999993},null,0]
[null,"Auxiliar de eletricista com encargos complementares","H",0.20330000000000001,16.767499999999998,3.4088327499999997,null,null,0]
[null,"Eletricista com encargos complementares","H",0.20330000000000001,21.526999999999997,4.3764390999999998,null,null,0]
[null,"",null,null,"","",null,null,0]
["Luva de emenda para eletroduto, aço galvanizado, DN 32 mm (1 1/4''), aparente, instalada em parede - fornecimento e instalação. af_11/2016_p","","UN",null,"","",null,null,0]
[null,"",null,null,"","",null,null,0]
[null,"Luva para eletroduto, em aco galvanizado eletrolitico, diametro de 32 mm (1 1/4\")","UN",1,3.3344999999999998,3.3344999999999998,{"$f":"SUM(F126:F128)","v":12.226482899999999},null,0]
[null,"Auxiliar de eletricista com encargos complementares","H",0.23219999999999999,16.767499999999998,3.8934134999999994,null,null,0]
[null,"Eletricista com encargos complementares","H",0.23219999999999999,21.526999999999997,4.9985693999999992,null,null,0]
[null,"",null,null,"","",null,null,0]
["Luva de emenda para eletroduto, aço galvanizado, DN 40 mm (1 1/2''), aparente, instalada em parede - fornecimento e instalação. af_11/2016_p","","UN",null,"","",null,null,0]
[null,"",null,null,"","",null,null,0]
[null,"Luva para eletroduto, em aco galvanizado eletrolitico, diametro de 40 mm (1 1/2\")","UN",1,4.8259999999999996,4.8259999999999996,{"$f":"SUM(F132:F134)","v":14.977871949999997},null,0]
[null,"Auxiliar de eletricista com encargos complementares","H",0.2651,16.767499999999998,4.4450642499999997,null,null,0]
[null,"Eletricista com encargos complementares","H",0.2651,21.526999999999997,{"$f":"IF(ISNUMBER(E134),E134*$D134,\"\")","v":5.7068076999999997},null,null,0]
[null,"",null,null,"","",null,null,0]
["Luva de emenda para eletroduto, aço galvanizado, DN 50 mm (2''), aparente, instalada em parede - fornecimento e instalação. af_11/2016_p","","UN",null,"","",null,null,0]
[null,"",null,null,"","",null,null,0]
[null,"Luva para eletroduto, em aco galvanizado eletrolitico, diametro de 50 mm (2\")","UN",1,6.7354999999999992,6.7354999999999992,{"$f":"SUM(F138:F140)","v":16.887371949999999},null,0]
[null,"Auxiliar de eletricista com encargos complementares","H",0.2651,16.767499999999998,4.4450642499999997,null,null,0]
[null,"Eletricista com encargos complementares","H",0.2651,21.526999999999997,5.7068076999999997,null,null,0]
[null,"",null,null,"","",null,null,0]
["Fixação de tubos verticais de PPR diâmetros maiores que 40 mm e menores ou iguais a 75 mm com abraçadeira metálica rígida tipo D 1 1/2\", fixada em perfilado em alvenaria. af_05/2015","","M",null,"","",null,null,0]
[null,"",null,null,"","",null,null,0]
[null,"Abracadeira em aco para amarracao de eletrodutos, tipo D, com 1 1/2\" e parafuso de fixacao","UN",0.33300000000000002,2.1280000000000001,0.70862400000000003,{"$f":"SUM(F144:F146)","v":2.2577224999999999},null,0]
[null,"Auxiliar de encanador ou bombeiro hidráulico com encargos complementares","H",8.9999999999999993E-3,16.320999999999998,0.14688899999999996,null,null,0]
[null,"Encanador ou bombeiro hidráulico com encargos complementares","H",6.7000000000000004E-2,20.9285,1.4022095000000001,null,null,0]
[null,"",null,null,"","",null,null,0]
["Fixação de tubos verticais de PPR diâmetros maiores que 40 mm e menores ou iguais a 75 mm com abraçadeira metálica rígida tipo D 2\", fixada em perfilado em alvenaria. af_05/2015","","M",null,"","",null,null,0]
[null,"",null,null,"","",null,null,0]
[null,"Abracadeira em aco para amarracao de eletrodutos, tipo D, com 2\" e parafuso de fixacao","UN",0.33300000000000002,2.3559999999999999,0.78454800000000002,{"$f":"SUM(F150:F152)","v":2.3336465},null,0]
[null,"Auxiliar de encanador ou bombeiro hidráulico com encargos complementares","H",8.9999999999999993E-3,16.320999999999998,0.14688899999999996,null,null,0]
[null,"Encanador ou bombeiro hidráulico com encargos complementares","H",6.7000000000000004E-2,20.9285,1.4022095000000001,null,null,0]
[null,"",null,null,"","",null,null,0]
["ARGAMASSA TRAÇO 1:2:9 (EM VOLUME DE CIMENTO, CAL E AREIA MÉDIA ÚMIDA) PARA EMBOÇO/MASSA ÚNICA/ASSENTAMENTO DE ALVENARIA DE VEDAÇÃO, PREPARO MECÂNICO COM BETONEIRA 600 L. AF_08/2019","","M3",null,"","",null,null,0]
[null,"",null,null,"","",null,null,0]
[null,"Areia media - posto jazida/fornecedor (retirado na jazida, sem transporte)","M3",1.18,93.8125,110.69874999999999,{"$f":"SUM(F156:F164)","v":397.83221439999994},null,0]
[null,"Cal hidratada CH-I para argamassas","KG",157.44,0.73149999999999993,115.16735999999999,null,null,0]
[null,"Cimento Portland composto CP II-32","KG",177.12,0.38949999999999996,68.98823999999999,null,null,0]
[null,"Servente com encargos complementares","H",0.79,15.750999999999998,12.443289999999999,null,null,0]
[null,"Operador de betoneira estacionária/misturador com encargos complementares","H",3.65,15.959999999999999,58.253999999999998,null,null,0]
[null,"Betoneira capacidade nominal de 600 L, capacidade de mistura 360 L, motor elétrico trifásico potência de 4 cv, sem carregador - CHP diurno. af_11/2014","CHP",0.85,3.3344999999999998,2.8343249999999998,null,null,0]
[null,"Betoneira capacidade nominal de 600 L, capacidade de mistura 360 L, motor elétrico trifásico potência de 4 cv, sem carregador - CHI diurno. af_11/2014","CHI",2.8,1.0355000000000001,2.8994,null,null,0]
[null,"CARGA, MANOBRAS E DESCARGA DE AREIA, BRITA, PEDRA DE MAO E SOLOS COM CAMINHAO BASCULANTE 6 M3 (DESCARGA LIVRE)","M3",{"$f":"ROUND(1*D156,4)","v":1.18},0.7583660000000001,0.89487188000000006,null,null,0]
[null,"TRANSPORTE COM CAMINHÃO BASCULANTE DE 6 M3, EM VIA URBANA PAVIMENTADA, DMT ATÉ 30 KM (UNIDADE: M3xKM). AF_01/2018","M3xKM",{"$f":"ROUND(D156*20,4)","v":23.6},1.0869482000000001,25.651977520000006,null,null,0]
[null,null,null,null,"","",null,null,0]
[null,"Obs.: Considerando fornecedor de areia a 20 km do Senado Federal.",null,null,"","",null,null,0]
[null,null,null,null,"","",null,null,0]
["ARGAMASSA TRAÇO 1:4 (EM VOLUME DE CIMENTO E AREIA MÉDIA ÚMIDA) PARA CONTRAPISO, PREPARO MECÂNICO COM BETONEIRA 400 L. AF_08/2019","","M3",null,"","",null,null,1203.8812]
[null,"",null,null,"","",null,null,1203.8812]
[null,"Areia media - posto jazida/fornecedor (retirado na jazida, sem transporte)","M3",1.36,93.8125,127.58500000000001,{"$f":"SUM(F170:F176)","v":416.93818879999998},null,1203.8812]
[null,"Cimento Portland composto CP II-32","KG",459.85,0.38949999999999996,179.11157499999999,null,null,1203.8812]
[null,"Operador de betoneira estacionária/misturador com encargos complementares","H",4.8499999999999996,15.959999999999999,77.405999999999992,null,null,1203.8812]
[null,"Betoneira capacidade nominal de 400 L, capacidade de mistura 280 L, motor elétrico trifásico potência de 2 cv, sem carregador - CHP diurno. af_10/2014","CHP",1.1299999999999999,1.1684999999999999,1.3204049999999998,null,null,1203.8812]
[null,"Betoneira capacidade nominal de 400 L, capacidade de mistura 280 L, motor elétrico trifásico potência de 2 cv, sem carregador - CHI diurno. af_10/2014","CHI",3.72,0.247,0.91883999999999999,null,null,1203.8812]
[null,"CARGA, MANOBRAS E DESCARGA DE AREIA, BRITA, PEDRA DE MAO E SOLOS COM CAMINHAO BASCULANTE 6 M3 (DESCARGA LIVRE)","M3",{"$f":"ROUND(1*D170,4)","v":1.36},0.7583660000000001,1.0313777600000003,null,null,1203.8812]
[null,"TRANSPORTE COM CAMINHÃO BASCULANTE DE 6 M3, EM VIA URBANA PAVIMENTADA, DMT ATÉ 30 KM (UNIDADE: M3xKM). AF_01/2018","M3xKM",{"$f":"ROUND(D170*20,4)","v":27.2},1.0869482000000001,29.564991040000002,null,null,1203.8812]
[null,null,null,null,"","",null,null,1203.8812]
[null,"Obs.: Considerando fornecedor de areia a 20 km do Senado Federal.",null,null,"","",null,null,1203.8812]
[null,null,null,null,"","",null,null,1203.8812]
["UMIDIFICAÇÃO DE MATERIAL PARA VALAS COM CAMINHÃO PIPA 10000L. AF_11/2016","","M3",null,"","",null,null,0]
[null,"",null,null,"","",null,null,0]
[null,"CAMINHÃO PIPA 10.000 L TRUCADO, PESO BRUTO TOTAL 23.000 KG, CARGA ÚTIL MÁXIMA 15.935 KG, DISTÂNCIA ENTRE EIXOS 4,8 M, POTÊNCIA 230 CV, INCLUSIVE TANQUE DE AÇO PARA TRANSPORTE DE ÁGUA - CHP DIURNO. AF_06/2014","CHP",6.0000000000000001E-3,155.50549999999998,0.93303299999999989,{"$f":"SUM(F182:F184)","v":1.1767079999999999},null,0]
[null,"CAMINHÃO PIPA 10.000 L TRUCADO, PESO BRUTO TOTAL 23.000 KG, CARGA ÚTIL MÁXIMA 15.935 KG, DISTÂNCIA ENTRE EIXOS 4,8 M, POTÊNCIA 230 CV, INCLUSIVE TANQUE DE AÇO PARA TRANSPORTE DE ÁGUA - CHI DIURNO. AF_06/2014","CHI",3.0000000000000001E-3,33.971999999999994,0.10191599999999998,null,null,0]
[null,"SERVENTE COM ENCARGOS COMPLEMENTARES","H",8.9999999999999993E-3,15.750999999999998,0.14175899999999997,null,null,0]
[null,null,null,null,"","",null,null,0]
["CORTE E DOBRA DE AÇO CA-50, DIÂMETRO DE 8,0 MM, UTILIZADO EM ESTRUTURAS DIVERSAS, EXCETO LAJES. AF_12/2015","","KG",null,"","",null,null,0]
[null,"",null,null,"","",null,null,0]
[null,"ACO CA-50, 8,0 MM, VERGALHAO","KG",1.1100000000000001,5.1204999999999998,5.6837550000000006,{"$f":"SUM(F188:F190)","v":6.2118334000000006},null,0]
[null,"AJUDANTE DE ARMADOR COM ENCARGOS COMPLEMENTARES","H",3.2000000000000002E-3,16.463499999999996,5.2683199999999993E-2,null,null,0]
[null,"ARMADOR COM ENCARGOS COMPLEMENTARES","H",2.24E-2,21.222999999999999,0.47539519999999996,null,null,0]
[null,"",null,null,"","",null,null,0]
["CORTE E DOBRA DE AÇO CA-50, DIÂMETRO DE 12,5 MM, UTILIZADO EM ESTRUTURAS DIVERSAS, EXCETO LAJES. AF_12/2015","","KG",null,"","",null,null,0]
[null,"",null,null,"","",null,null,0]
[null,"ACO CA-50, 12,5 MM OU 16,0 MM, VERGALHAO","KG",1.1100000000000001,4.18,4.6398000000000001,{"$f":"SUM(F194:F196)","v":4.8048245000000005},null,0]
[null,"AJUDANTE DE ARMADOR COM ENCARGOS COMPLEMENTARES","H",1E-3,16.463499999999996,1.6463499999999995E-2,null,null,0]
[null,"ARMADOR COM ENCARGOS COMPLEMENTARES","H",7.0000000000000001E-3,21.222999999999999,0.148561,null,null,0]
[null,"",null,null,"","",null,null,0]
["CORTE E DOBRA DE AÇO CA-50, DIÂMETRO DE 20,0 MM, UTILIZADO EM ESTRUTURAS DIVERSAS, EXCETO LAJES. AF_12/2015","","KG",null,"",{"$f":"IF(ISNUMBER(E198),E198*$D198,\"\")","v":""},null,null,0]
[null,"",null,null,"","",null,null,0]
[null,"ACO CA-50, 20,0 MM OU 25,0 MM, VERGALHAO","KG",1.1399999999999999,4.8165000000000004,5.4908099999999997,{"$f":"SUM(F200:F201)","v":5.5332559999999997},null,0]
[null,"ARMADOR COM ENCARGOS COMPLEMENTARES","H",2E-3,21.222999999999999,4.2445999999999998E-2,null,null,0]
[null,"",null,null,"","",null,null,0]
["TRANSPORTE HORIZONTAL MANUAL, DE TUBO DE AÇO CARBONO LEVE OU MÉDIO, PRETO OU GALVANIZADO, COM DIÂMETRO MAIOR QUE 32 MM E MENOR OU IGUAL A 65 MM (UNIDADE: MXKM). AF_07/2019","","MXKM",null,"","",null,null,617.06000000000006]
[null,"",null,null,"","",null,null,617.06000000000006]
[null,"SERVENTE COM ENCARGOS COMPLEMENTARES","H",0.61180000000000001,15.750999999999998,9.6364617999999993,{"$f":"SUM(F205:F205)","v":9.6364617999999993},null,617.06000000000006]
[null,"",null,null,"","",null,null,617.06000000000006]
["LANÇAMENTO COM USO DE BALDES, ADENSAMENTO E ACABAMENTO DE CONCRETO EM ESTRUTURAS. AF_12/2015","","M3",null,"","",null,null,0]
[null,"",null,null,"","",null,null,0]
[null,"Carpinteiro de formas com encargos complementares","h",1.8460000000000001,21.184999999999999,39.107509999999998,{"$f":"SUM(F209:F213)","v":166.91785000000002},null,0]
[null,"Pedreiro com Encargos Complementares","h",1.8460000000000001,21.327499999999997,39.370564999999999,null,null,0]
[null,"Servente com Encargos Complementares","h",{"$f":"5.538","v":5.5380000000000003},15.750999999999998,87.229037999999989,null,null,0]
[null,"Vibrador de imersão, diâmetro de ponteira 45mm, motor elétrico trifásico potência de 2 CV - CHP diurno. AF_06/2015","chp",0.67200000000000004,1.254,0.8426880000000001,null,null,0]
[null,"Vibrador de imersão, diâmetro de ponteira 45mm, motor elétrico trifásico potência de 2 CV - CHI diurno. AF_06/2015","chi",1.1739999999999999,0.3135,0.36804899999999996,null,null,0]
[null,null,null,null,"","",null,null,0]
["TRANSPORTE COM CAMINHÃO BASCULANTE DE 6 M3, EM VIA URBANA PAVIMENTADA, DMT ATÉ 30 KM (UNIDADE: M3xKM). AF_01/2018","","M3xKM",null,"","",null,null,5469.84]
[null,"",null,null,"","",null,null,5469.84]
[null,"CAMINHÃO BASCULANTE 6 M3 TOCO, PESO BRUTO TOTAL 16.000 KG, CARGA ÚTIL MÁXIMA 11.130 KG, DISTÂNCIA ENTRE EIXOS 5,36 M, POTÊNCIA 185 CV, INCLUSIVE CAÇAMBA METÁLICA - CHP DIURNO. AF_06/2014","CHP",1.04E-2,96.463000000000008,1.0032152000000001,{"$f":"SUM(F217:F218)","v":1.0869482000000001},null,5469.84]
[null,"CAMINHÃO BASCULANTE 6 M3 TOCO, PESO BRUTO TOTAL 16.000 KG, CARGA ÚTIL MÁXIMA 11.130 KG, DISTÂNCIA ENTRE EIXOS 5,36 M, POTÊNCIA 185 CV, INCLUSIVE CAÇAMBA METÁLICA - CHI DIURNO. AF_06/2014","CHI",2.5999999999999999E-3,32.204999999999998,8.3732999999999988E-2,null,null,5469.84]
[null,"",null,null,"","",null,null,5469.84]
["TRANSPORTE COM CAMINHÃO BASCULANTE DE 6 M3, EM VIA URBANA PAVIMENTADA, DMT ATÉ 30 KM (UNIDADE: TxKM). AF_01/2018","","TxKM",null,"","",null,null,3200]
[null,"",null,null,"","",null,null,3200]
[null,"CAMINHÃO BASCULANTE 6 M3 TOCO, PESO BRUTO TOTAL 16.000 KG, CARGA ÚTIL MÁXIMA 11.130 KG, DISTÂNCIA ENTRE EIXOS 5,36 M, POTÊNCIA 185 CV, INCLUSIVE CAÇAMBA METÁLICA - CHP DIURNO. AF_06/2014","CHP",7.0000000000000001E-3,96.463000000000008,0.67524100000000009,{"$f":"SUM(F222:F223)","v":0.72998950000000007},null,3200]
[null,"CAMINHÃO BASCULANTE 6 M3 TOCO, PESO BRUTO TOTAL 16.000 KG, CARGA ÚTIL MÁXIMA 11.130 KG, DISTÂNCIA ENTRE EIXOS 5,36 M, POTÊNCIA 185 CV, INCLUSIVE CAÇAMBA METÁLICA - CHI DIURNO. AF_06/2014","CHI",1.6999999999999999E-3,32.204999999999998,5.4748499999999992E-2,null,null,3200]
[null,"",null,null,"","",null,null,3200]
["CONCRETO FCK = 20MPA, TRAÇO 1:2,7:3 (CIMENTO/ AREIA MÉDIA/ BRITA 1)  - PREPARO MECÂNICO COM BETONEIRA 600 L. AF_07/2016","","M3",null,"","",null,null,51.45]
[null,"",null,null,"","",null,null,51.45]
[null,"AREIA MEDIA - POSTO JAZIDA/FORNECEDOR (RETIRADO NA JAZIDA, SEM TRANSPORTE)","M3",0.76100000000000001,93.8125,71.391312499999998,{"$f":"SUM(F227:F235)","v":320.39439016},null,51.45]
[null,"CIMENTO PORTLAND COMPOSTO CP II-32","KG",325.16000000000003,0.38949999999999996,126.64981999999999,null,null,51.45]
[null,"PEDRA BRITADA N. 1 (9,5 a 19 MM) POSTO PEDREIRA/FORNECEDOR, SEM FRETE","M3",0.59099999999999997,62.082499999999989,36.690757499999989,null,null,51.45]
[null,"SERVENTE COM ENCARGOS COMPLEMENTARES","H",2.0299999999999998,15.750999999999998,31.974529999999991,null,null,51.45]
[null,"OPERADOR DE BETONEIRA ESTACIONÁRIA/MISTURADOR COM ENCARGOS COMPLEMENTARES","H",1.28,15.959999999999999,20.428799999999999,null,null,51.45]
[null,"BETONEIRA CAPACIDADE NOMINAL DE 600 L, CAPACIDADE DE MISTURA 360 L, MOTOR ELÉTRICO TRIFÁSICO POTÊNCIA DE 4 CV, SEM CARREGADOR - CHP DIURNO. AF_11/2014","CHP",0.66,3.3344999999999998,2.2007699999999999,null,null,51.45]
[null,"BETONEIRA CAPACIDADE NOMINAL DE 600 L, CAPACIDADE DE MISTURA 360 L, MOTOR ELÉTRICO TRIFÁSICO POTÊNCIA DE 4 CV, SEM CARREGADOR - CHI DIURNO. AF_11/2014","CHI",0.62,1.0355000000000001,0.64201000000000008,null,null,51.45]
[null,"CARGA, MANOBRAS E DESCARGA DE AREIA, BRITA, PEDRA DE MAO E SOLOS COM CAMINHAO BASCULANTE 6 M3 (DESCARGA LIVRE)","M3",{"$f":"ROUND(1*(D227+D229),4)","v":1.3520000000000001},0.7583660000000001,1.0253108320000002,null,null,51.45]
[null,"TRANSPORTE COM CAMINHÃO BASCULANTE DE 6 M3, EM VIA URBANA PAVIMENTADA, DMT ATÉ 30 KM (UNIDADE: M3xKM). AF_01/2018","M3xKM",{"$f":"ROUND((D227+D229)*20,4)","v":27.04},1.0869482000000001,29.391079328000004,null,null,51.45]
[null,null,null,null,"","",null,null,51.45]
[null,"Obs.: Considerando fornecedor de areia e brita a 20 km do Senado Federal.",null,null,"","",null,null,51.45]
[null,"",null,null,"","",null,null,51.45]
["CONCRETO MAGRO PARA LASTRO, TRAÇO 1:4,5:4,5 (CIMENTO/ AREIA MÉDIA/ BRITA 1)  - PREPARO MECÂNICO COM BETONEIRA 400 L. AF_07/2016","","M3",null,"","",null,null,0]
[null,"",null,null,"","",null,null,0]
[null,"AREIA MEDIA - POSTO JAZIDA/FORNECEDOR (RETIRADO NA JAZIDA, SEM TRANSPORTE)","M3",0.82699999999999996,93.8125,77.5829375,{"$f":"SUM(F241:F249)","v":289.20120114999997},null,0]
[null,"CIMENTO PORTLAND COMPOSTO CP II-32","KG",212.02,0.38949999999999996,82.581789999999998,null,null,0]
[null,"PEDRA BRITADA N. 1 (9,5 a 19 MM) POSTO PEDREIRA/FORNECEDOR, SEM FRETE","M3",0.57799999999999996,62.082499999999989,35.883684999999993,null,null,0]
[null,"SERVENTE COM ENCARGOS COMPLEMENTARES","H",2.34,15.750999999999998,36.857339999999994,null,null,0]
[null,"OPERADOR DE BETONEIRA ESTACIONÁRIA/MISTURADOR COM ENCARGOS COMPLEMENTARES","H",1.48,15.959999999999999,23.620799999999999,null,null,0]
[null,"BETONEIRA CAPACIDADE NOMINAL DE 400 L, CAPACIDADE DE MISTURA 280 L, MOTOR ELÉTRICO TRIFÁSICO POTÊNCIA DE 2 CV, SEM CARREGADOR - CHP DIURNO. AF_10/2014","CHP",0.76,1.1684999999999999,0.88805999999999996,null,null,0]
[null,"BETONEIRA CAPACIDADE NOMINAL DE 400 L, CAPACIDADE DE MISTURA 280 L, MOTOR ELÉTRICO TRIFÁSICO POTÊNCIA DE 2 CV, SEM CARREGADOR - CHI DIURNO. AF_10/2014","CHI",0.72,0.247,0.17784,null,null,0]
[null,"CARGA, MANOBRAS E DESCARGA DE AREIA, BRITA, PEDRA DE MAO E SOLOS COM CAMINHAO BASCULANTE 6 M3 (DESCARGA LIVRE)","M3",{"$f":"ROUND(1*(D241+D243),4)","v":1.405},0.7583660000000001,1.0655042300000002,null,null,0]
[null,"TRANSPORTE COM CAMINHÃO BASCULANTE DE 6 M3, EM VIA URBANA PAVIMENTADA, DMT ATÉ 30 KM (UNIDADE: M3xKM). AF_01/2018","M3xKM",{"$f":"ROUND((D241+D243)*20,4)","v":28.1},1.0869482000000001,30.543244420000004,null,null,0]
[null,null,null,null,"","",null,null,0]
[null,"Obs.: Considerando fornecedor de areia e brita a 20 km do Senado Federal.",null,null,"","",null,null,0]
[null,"",null,null,"","",null,null,0]
["GRAUTE FGK=25 MPA; TRAÇO 1:0,02:1,2:1,5 (CIMENTO/ CAL/ AREIA GROSSA/ BRITA 0) - PREPARO MECÂNICO COM BETONEIRA 400 L. AF_02/2015","","M3",null,"","",null,null,0]
[null,"",null,null,"","",null,null,0]
[null,"AREIA GROSSA - POSTO JAZIDA/FORNECEDOR (RETIRADO NA JAZIDA, SEM TRANSPORTE)","M3",0.51,113.24949999999998,57.75724499999999,{"$f":"SUM(F255:F263)","v":351.19701650000002},null,0]
[null,"CAL HIDRATADA CH-I PARA ARGAMASSAS","KG",10.35,0.73149999999999993,7.5710249999999988,null,null,0]
[null,"CIMENTO PORTLAND COMPOSTO CP II-32","KG",431.3,0.38949999999999996,167.99134999999998,null,null,0]
[null,"PEDRA BRITADA N. 0, OU PEDRISCO (4,8 A 9,5 MM) POSTO PEDREIRA/FORNECEDOR, SEM FRETE","M3",0.54,79.268000000000001,42.804720000000003,null,null,0]
[null,"OPERADOR DE BETONEIRA ESTACIONÁRIA/MISTURADOR COM ENCARGOS COMPLEMENTARES","H",3.12,15.959999999999999,49.795200000000001,null,null,0]
[null,"BETONEIRA CAPACIDADE NOMINAL DE 400 L, CAPACIDADE DE MISTURA 280 L, MOTOR ELÉTRICO TRIFÁSICO POTÊNCIA DE 2 CV, SEM CARREGADOR - CHP DIURNO. AF_10/2014","CHP",0.96,1.1684999999999999,1.1217599999999999,null,null,0]
[null,"BETONEIRA CAPACIDADE NOMINAL DE 400 L, CAPACIDADE DE MISTURA 280 L, MOTOR ELÉTRICO TRIFÁSICO POTÊNCIA DE 2 CV, SEM CARREGADOR - CHI DIURNO. AF_10/2014","CHI",2.16,0.247,0.53351999999999999,null,null,0]
[null,"CARGA, MANOBRAS E DESCARGA DE AREIA, BRITA, PEDRA DE MAO E SOLOS COM CAMINHAO BASCULANTE 6 M3 (DESCARGA LIVRE)","M3",{"$f":"ROUND(1*(D255+D258),4)","v":1.05},0.7583660000000001,{"$f":"IF(ISNUMBER(E262),E262*$D262,\"\")","v":0.79628430000000017},null,null,0]
[null,"TRANSPORTE COM CAMINHÃO BASCULANTE DE 6 M3, EM VIA URBANA PAVIMENTADA, DMT ATÉ 30 KM (UNIDADE: M3xKM). AF_01/2018","M3xKM",{"$f":"ROUND((D255+D258)*20,4)","v":21},1.0869482000000001,22.825912200000005,null,null,0]
[null,null,null,null,"","",null,null,0]
[null,"Obs.: Considerando fornecedor de areia e brita a 20 km do Senado Federal.",null,null,"","",null,null,0]
[null,null,null,null,"","",null,null,0]
["ARGAMASSA TRAÇO 1:3 (EM VOLUME DE CIMENTO E AREIA MÉDIA ÚMIDA) PARA CONTRAPISO, PREPARO MANUAL. AF_08/2019","","M3",null,"","",null,null,1089.741]
[null,"",null,null,"","",null,null,1089.741]
[null,"Areia media - posto jazida/fornecedor (retirado na jazida, sem transporte)","M3",1.25,93.8125,117.265625,{"$f":"SUM(F269:F273)","v":548.4047425},null,1089.741]
[null,"Cimento Portland composto CP II-32","KG",563.59,0.38949999999999996,219.518305,null,null,1089.741]
[null,"Servente com encargos complementares","H",11.65,15.750999999999998,183.49914999999999,null,null,1089.741]
[null,"CARGA, MANOBRAS E DESCARGA DE AREIA, BRITA, PEDRA DE MAO E SOLOS COM CAMINHAO BASCULANTE 6 M3 (DESCARGA LIVRE)","M3",{"$f":"ROUND(1*(D269),4)","v":1.25},0.7583660000000001,0.94795750000000012,null,null,1089.741]
[null,"TRANSPORTE COM CAMINHÃO BASCULANTE DE 6 M3, EM VIA URBANA PAVIMENTADA, DMT ATÉ 30 KM (UNIDADE: M3xKM). AF_01/2018","M3xKM",{"$f":"ROUND(D269*20,4)","v":25},1.0869482000000001,27.173705000000005,null,null,1089.741]
[null,null,null,null,"","",null,null,1089.741]
[null,"Obs.: Considerando fornecedor de areia a 20 km do Senado Federal.",null,null,"","",null,null,1089.741]
[null,"",null,null,"","",null,null,1089.741]
["BATENTE PARA PORTA DE MADEIRA, PADRÃO MÉDIO - FORNECIMENTO E MONTAGEM. AF_12/2019","","un",null,"","",null,null,0]
[null,"",null,null,"","",null,null,0]
[null,"BATENTE/ PORTAL/ ADUELA/ MARCO MACICO, E= *3 CM, L= *13 CM, *60 CM A 120* CM X *210 CM,  EM CEDRINHO/ ANGELIM COMERCIAL/ EUCALIPTO/ CURUPIXA/ PEROBA/ CUMARU OU EQUIVALENTE DA REGIAO (NAO INCLUI ALIZARES)","JG",1,172.03549999999998,172.03549999999998,{"$f":"SUM(F279:F283)","v":251.96036800000002},null,0]
[null,"PREGO DE ACO POLIDO COM CABECA 12 X 12","KG",1.0999999999999999E-2,12.958,0.142538,null,null,0]
[null,"PREGO DE ACO POLIDO COM CABECA 18 X 30 (2 3/4 X 10)","KG",2.4E-2,9.8324999999999996,0.23598,null,null,0]
[null,"CARPINTEIRO DE ESQUADRIA COM ENCARGOS COMPLEMENTARES","H",2.7410000000000001,21.222999999999999,58.172243000000002,null,null,0]
[null,"SERVENTE COM ENCARGOS COMPLEMENTARES","H",1.357,15.750999999999998,21.374106999999995,null,null,0]
[null,null,null,null,"","",null,null,0]
["TRANSPORTE COMERCIAL COM CAMINHAO CARROCERIA 9 T, RODOVIA PAVIMENTADA","","TxKM",null,"","",null,null,0]
[null,"",null,null,"","",null,null,0]
[null,"CAMINHÃO TOCO, PBT 16.000 KG, CARGA ÚTIL MÁX. 10.685 KG, DIST. ENTRE EIXOS 4,8 M, POTÊNCIA 189 CV, INCLUSIVE CARROCERIA FIXA ABERTA DE MADEIRA P/ TRANSPORTE GERAL DE CARGA SECA, DIMEN. APROX. 2,5 X 7,00 X 0,50 M - CHP DIURNO. AF_06/2014","CHP",4.4999999999999997E-3,101.973,0.45887849999999997,{"$f":"SUM(F287:F287)","v":0.45887849999999997},null,0]
[null,"",null,null,"","",null,null,0]
["ARGAMASSA TRAÇO 1:0,5:4,5 (EM VOLUME DE CIMENTO, CAL E AREIA MÉDIA ÚMIDA) PARA ASSENTAMENTO DE ALVENARIA, PREPARO MANUAL. AF_08/2019","","M3",null,"","",null,null,0]
[null,"",null,null,"","",null,null,0]
[null,"Areia media - posto jazida/fornecedor (retirado na jazida, sem transporte)","M3",1.07,93.8125,100.37937500000001,{"$f":"SUM(F291:F296)","v":502.75681309999993},null,0]
[null,"CAL HIDRATADA CH-I PARA ARGAMASSAS","KG",75.47,0.73149999999999993,55.206304999999993,null,null,0]
[null,"Cimento Portland composto CP II-32","KG",482.96,0.38949999999999996,188.11291999999997,null,null,0]
[null,"Servente com encargos complementares","H",8.57,15.750999999999998,134.98606999999998,null,null,0]
[null,"CARGA, MANOBRAS E DESCARGA DE AREIA, BRITA, PEDRA DE MAO E SOLOS COM CAMINHAO BASCULANTE 6 M3 (DESCARGA LIVRE)","M3",{"$f":"ROUND(1*D291,4)","v":1.07},0.7583660000000001,0.81145162000000015,null,null,0]
[null,"TRANSPORTE COM CAMINHÃO BASCULANTE DE 6 M3, EM VIA URBANA PAVIMENTADA, DMT ATÉ 30 KM (UNIDADE: M3xKM). AF_01/2018","M3xKM",{"$f":"ROUND(D291*20,4)","v":21.4},1.0869482000000001,23.260691480000002,null,null,0]
[null,null,null,null,"","",null,null,0]
[null,"Obs.: Considerando fornecedor de areia a 20 km do Senado Federal.",null,null,"","",null,null,0]
[null,"",null,null,"","",null,null,0]
["ARMAÇÃO DE LAJE DE UMA ESTRUTURA CONVENCIONAL DE CONCRETO ARMADO EM UMA EDIFICAÇÃO TÉRREA OU SOBRADO UTILIZANDO AÇO CA-60 DE 4,2 MM - MONTAGEM. AF_12/2015","","KG",null,"","",null,null,0]
[null,"",null,null,"","",null,null,0]
[null,"ESPACADOR / DISTANCIADOR CIRCULAR COM ENTRADA LATERAL, EM PLASTICO, PARA VERGALHAO *4,2 A 12,5* MM, COBRIMENTO 20 MM","UN",2.8159999999999998,0.1235,0.34777599999999997,{"$f":"SUM(F302:F306)","v":12.26765305},null,0]
[null,"ARAME RECOZIDO 16 BWG, D = 1,60 MM (0,016 KG/M) OU 18 BWG, D = 1,25 MM (0,01 KG/M)","KG",2.5000000000000001E-2,12.426,0.31065000000000004,null,null,0]
[null,"AJUDANTE DE ARMADOR COM ENCARGOS COMPLEMENTARES","H",3.1E-2,16.463499999999996,0.51036849999999989,null,null,0]
[null,"ARMADOR COM ENCARGOS COMPLEMENTARES","H",0.18959999999999999,21.222999999999999,4.0238807999999997,null,null,0]
[null,"CORTE E DOBRA DE AÇO CA-60, DIÂMETRO DE 4,2 MM, UTILIZADO EM LAJE. AF_12/2015","KG",1,7.0749777500000004,7.0749777500000004,null,null,0]
[null,null,null,null,"","",null,null,0]
["CORTE E DOBRA DE AÇO CA-60, DIÂMETRO DE 4,2 MM, UTILIZADO EM LAJE. AF_12/2015","","KG",null,"","",null,null,0]
[null,"",null,null,"","",null,null,0]
[null,"ACO CA-60, 4,2 MM, OU 5,0 MM, OU 6,0 MM, OU 7,0 MM, VERGALHAO","KG",1.07,4.5599999999999996,4.8792,{"$f":"SUM(F310:F312)","v":7.0749777499999995},null,0]
[null,"AJUDANTE DE ARMADOR COM ENCARGOS COMPLEMENTARES","H",1.3100000000000001E-2,16.463499999999996,0.21567184999999997,null,null,0]
[null,"ARMADOR COM ENCARGOS COMPLEMENTARES","H",9.3299999999999994E-2,21.222999999999999,1.9801058999999999,null,null,0]
[null,"",null,null,"","",null,null,0]
["CONCRETO FCK = 15MPA, TRAÇO 1:3,4:3,5 (CIMENTO/ AREIA MÉDIA/ BRITA 1)  - PREPARO MECÂNICO COM BETONEIRA 600 L. AF_07/2016","","M3",null,"","",null,null,0]
[null,"",null,null,"","",null,null,0]
[null,"AREIA MEDIA - POSTO JAZIDA/FORNECEDOR (RETIRADO NA JAZIDA, SEM TRANSPORTE)","M3",0.80800000000000005,93.8125,75.8005,{"$f":"SUM(F316:F324)","v":305.11170386999999},null,0]
[null,"CIMENTO PORTLAND COMPOSTO CP II-32","KG",274.06,0.38949999999999996,106.74636999999998,null,null,0]
[null,"PEDRA BRITADA N. 1 (9,5 a 19 MM) POSTO PEDREIRA/FORNECEDOR, SEM FRETE","M3",0.58099999999999996,62.082499999999989,36.069932499999993,null,null,0]
[null,"SERVENTE COM ENCARGOS COMPLEMENTARES","H",2.0299999999999998,15.750999999999998,31.974529999999991,null,null,0]
[null,"OPERADOR DE BETONEIRA ESTACIONÁRIA/MISTURADOR COM ENCARGOS COMPLEMENTARES","H",1.28,15.959999999999999,20.428799999999999,null,null,0]
[null,"BETONEIRA CAPACIDADE NOMINAL DE 600 L, CAPACIDADE DE MISTURA 360 L, MOTOR ELÉTRICO TRIFÁSICO POTÊNCIA DE 4 CV, SEM CARREGADOR - CHP DIURNO. AF_11/2014","CHP",0.66,3.3344999999999998,2.2007699999999999,null,null,0]
[null,"BETONEIRA CAPACIDADE NOMINAL DE 600 L, CAPACIDADE DE MISTURA 360 L, MOTOR ELÉTRICO TRIFÁSICO POTÊNCIA DE 4 CV, SEM CARREGADOR - CHI DIURNO. AF_11/2014","CHI",0.62,1.0355000000000001,0.64201000000000008,null,null,0]
[null,"CARGA, MANOBRAS E DESCARGA DE AREIA, BRITA, PEDRA DE MAO E SOLOS COM CAMINHAO BASCULANTE 6 M3 (DESCARGA LIVRE)","M3",{"$f":"ROUND(1*(D316+D318),4)","v":1.389},0.7583660000000001,1.0533703740000002,null,null,0]
[null,"TRANSPORTE COM CAMINHÃO BASCULANTE DE 6 M3, EM VIA URBANA PAVIMENTADA, DMT ATÉ 30 KM (UNIDADE: M3xKM). AF_01/2018","M3xKM",{"$f":"ROUND((D316+D318)*20,4)","v":27.78},1.0869482000000001,30.195420996000006,null,null,0]
[null,null,null,null,"","",null,null,0]
[null,"Obs.: Considerando fornecedor de areia e brita a 20 km do Senado Federal.",null,null,"",{"$f":"IF(ISNUMBER(E326),E326*$D326,\"\")","v":""},null,null,0]
[null,"",null,null,"","",null,null,0]
["CONCRETO MAGRO PARA LASTRO, TRAÇO 1:4,5:4,5 (CIMENTO/ AREIA MÉDIA/ BRITA 1)  - PREPARO MECÂNICO COM BETONEIRA 600 L. AF_07/2016","","M3",null,"","",null,null,30]
[null,"",null,null,"","",null,null,30]
[null,"AREIA MEDIA - POSTO JAZIDA/FORNECEDOR (RETIRADO NA JAZIDA, SEM TRANSPORTE)","M3",0.83199999999999996,93.8125,78.051999999999992,{"$f":"SUM(F330:F338)","v":286.56930461999997},null,30]
[null,"CIMENTO PORTLAND COMPOSTO CP II-32","KG",213.45,0.38949999999999996,83.138774999999981,null,null,30]
[null,"PEDRA BRITADA N. 1 (9,5 a 19 MM) POSTO PEDREIRA/FORNECEDOR, SEM FRETE","M3",0.58199999999999996,62.082499999999989,36.132014999999988,null,null,30]
[null,"SERVENTE COM ENCARGOS COMPLEMENTARES","H",2.11,15.750999999999998,33.234609999999996,null,null,30]
[null,"OPERADOR DE BETONEIRA ESTACIONÁRIA/MISTURADOR COM ENCARGOS COMPLEMENTARES","H",1.33,15.959999999999999,21.226800000000001,null,null,30]
[null,"BETONEIRA CAPACIDADE NOMINAL DE 600 L, CAPACIDADE DE MISTURA 360 L, MOTOR ELÉTRICO TRIFÁSICO POTÊNCIA DE 4 CV, SEM CARREGADOR - CHP DIURNO. AF_11/2014","CHP",0.69,3.3344999999999998,2.3008049999999995,null,null,30]
[null,"BETONEIRA CAPACIDADE NOMINAL DE 600 L, CAPACIDADE DE MISTURA 360 L, MOTOR ELÉTRICO TRIFÁSICO POTÊNCIA DE 4 CV, SEM CARREGADOR - CHI DIURNO. AF_11/2014","CHI",0.65,1.0355000000000001,0.67307500000000009,null,null,30]
[null,"CARGA, MANOBRAS E DESCARGA DE AREIA, BRITA, PEDRA DE MAO E SOLOS COM CAMINHAO BASCULANTE 6 M3 (DESCARGA LIVRE)","M3",{"$f":"ROUND(1*(D330+D332),4)","v":1.4139999999999999},0.7583660000000001,1.0723295240000001,null,null,30]
[null,"TRANSPORTE COM CAMINHÃO BASCULANTE DE 6 M3, EM VIA URBANA PAVIMENTADA, DMT ATÉ 30 KM (UNIDADE: M3xKM). AF_01/2018","M3xKM",{"$f":"ROUND((D330+D332)*20,4)","v":28.28},1.0869482000000001,30.738895096000004,null,null,30]
[null,null,null,null,"","",null,null,30]
[null,"Obs.: Considerando fornecedor de areia e brita a 20 km do Senado Federal.",null,null,"","",null,null,30]
[null,"",null,null,"","",null,null,30]
["ARGAMASSA TRAÇO 1:4 (EM VOLUME DE CIMENTO E AREIA GROSSA ÚMIDA) PARA CHAPISCO CONVENCIONAL, PREPARO MECÂNICO COM BETONEIRA 400 L. AF_08/2019","","M3",null,"","",null,null,0]
[null,"",null,null,"","",null,null,0]
[null,"AREIA GROSSA - POSTO JAZIDA/FORNECEDOR (RETIRADO NA JAZIDA, SEM TRANSPORTE)","M3",1.02,113.24949999999998,115.51448999999998,{"$f":"SUM(F344:F350)","v":348.45850659999996},null,0]
[null,"CIMENTO PORTLAND COMPOSTO CP II-32","KG",343.52,0.38949999999999996,133.80103999999997,null,null,0]
[null,"OPERADOR DE BETONEIRA ESTACIONÁRIA/MISTURADOR COM ENCARGOS COMPLEMENTARES","H",4.6399999999999997,15.959999999999999,74.054399999999987,null,null,0]
[null,"BETONEIRA CAPACIDADE NOMINAL DE 400 L, CAPACIDADE DE MISTURA 280 L, MOTOR ELÉTRICO TRIFÁSICO POTÊNCIA DE 2 CV, SEM CARREGADOR - CHP DIURNO. AF_10/2014","CHP",1.08,1.1684999999999999,1.2619799999999999,null,null,0]
[null,"BETONEIRA CAPACIDADE NOMINAL DE 400 L, CAPACIDADE DE MISTURA 280 L, MOTOR ELÉTRICO TRIFÁSICO POTÊNCIA DE 2 CV, SEM CARREGADOR - CHI DIURNO. AF_10/2014","CHI",3.56,0.247,0.87931999999999999,null,null,0]
[null,"CARGA, MANOBRAS E DESCARGA DE AREIA, BRITA, PEDRA DE MAO E SOLOS COM CAMINHAO BASCULANTE 6 M3 (DESCARGA LIVRE)","M3",{"$f":"ROUND(1*(D342+D344),4)","v":1.02},0.7583660000000001,0.77353332000000008,null,null,0]
[null,"TRANSPORTE COM CAMINHÃO BASCULANTE DE 6 M3, EM VIA URBANA PAVIMENTADA, DMT ATÉ 30 KM (UNIDADE: M3xKM). AF_01/2018","M3xKM",{"$f":"ROUND(D344*20,4)","v":20.399999999999999},1.0869482000000001,22.17374328,null,null,0]
[null,null,null,null,"","",null,null,0]
[null,"Obs.: Considerando fornecedor de areia a 20 km do Senado Federal.",null,null,"","",null,null,0]
[null,"",null,null,"","",null,null,0]
["CARGA, MANOBRAS E DESCARGA DE AREIA, BRITA, PEDRA DE MAO E SOLOS COM CAMINHAO BASCULANTE 6 M3 (DESCARGA LIVRE)","","M3",null,"","",null,null,433.49200000000002]
[null,"",null,null,"","",null,null,433.49200000000002]
[null,"CAMINHÃO BASCULANTE 6 M3, PESO BRUTO TOTAL 16.000 KG, CARGA ÚTIL MÁXIMA 13.071 KG, DISTÂNCIA ENTRE EIXOS 4,80 M, POTÊNCIA 230 CV INCLUSIVE CAÇAMBA METÁLICA - CHP DIURNO. AF_06/2014","CHP",7.0000000000000001E-3,108.33799999999999,0.75836599999999998,{"$f":"SUM(F356:F356)","v":0.75836599999999998},null,433.49200000000002]
[null,"",null,null,"","",null,null,433.49200000000002]
["CARGA, MANOBRAS E DESCARGA DE AREIA, BRITA, PEDRA DE MAO E SOLOS COM CAMINHAO BASCULANTE 6 M3 (DESCARGA LIVRE)","","T",null,"","",null,null,0]
[null,"",null,null,"","",null,null,0]
[null,"CAMINHÃO BASCULANTE 6 M3, PESO BRUTO TOTAL 16.000 KG, CARGA ÚTIL MÁXIMA 13.071 KG, DISTÂNCIA ENTRE EIXOS 4,80 M, POTÊNCIA 230 CV INCLUSIVE CAÇAMBA METÁLICA - CHP DIURNO. AF_06/2014","CHP",4.7000000000000002E-3,108.33799999999999,0.50918859999999999,{"$f":"SUM(F360:F360)","v":0.50918859999999999},null,0]
[null,"",null,null,"","",null,null,0]

{"sheet":"Comp.Aux2","index":4,"n_rows":33,"n_cols":9,"rows_kept":33,"cut":false,"hidden":false,"merged":[[5,0,9,0],[10,0,15,0],[16,0,19,0],[20,0,32,0]]}
["Manutenção Civil"]
["COMPOSIÇÕES DE CUSTO UNITÁRIO AUXILIARES DE 2º NÍVEL"]
[]
[]
["DESCRIÇÃO","DISCRIMINAÇÃO DA COMPOSIÇÃO","UNIDADE","COEFICIENTE","CUSTO UNITÁRIO","CUSTO TOTAL","TOTAL",null,"QTD"]
["TRANSPORTE COM CAMINHÃO BASCULANTE DE 6 M3, EM VIA URBANA PAVIMENTADA, DMT ATÉ 30 KM (UNIDADE: M3XKM). AF_01/2018","","M3xKM",null,"",{"$f":"IF(ISNUMBER(E6),ROUND(E6*$D6,2),\"\")","v":""},null,null,78587.294540000003]
[null,"",null,null,"","",null,null,78587.294540000003]
[null,"CAMINHÃO BASCULANTE 6 M3 TOCO, PESO BRUTO TOTAL 16.000 KG, CARGA ÚTIL MÁXIMA 11.130 KG, DISTÂNCIA ENTRE EIXOS 5,36 M, POTÊNCIA 185 CV, INCLUSIVE CAÇAMBA METÁLICA - CHP DIURNO. AF_06/2014","CHP",1.04E-2,96.463000000000008,1,{"$f":"SUM(F8:F9)","v":1.08},null,78587.294540000003]
[null,"CAMINHÃO BASCULANTE 6 M3 TOCO, PESO BRUTO TOTAL 16.000 KG, CARGA ÚTIL MÁXIMA 11.130 KG, DISTÂNCIA ENTRE EIXOS 5,36 M, POTÊNCIA 185 CV, INCLUSIVE CAÇAMBA METÁLICA - CHI DIURNO. AF_06/2014","CHI",2.5999999999999999E-3,32.204999999999998,0.08,null,null,78587.294540000003]
[null,"",null,null,"","",null,null,78587.294540000003]
["CORTE E DOBRA DE AÇO CA-60, DIÂMETRO DE 4,2 MM, UTILIZADO EM LAJE. AF_12/2015","","KG",null,"","",null,null,0]
[null,"",null,null,"","",null,null,0]
[null,"ACO CA-60, 4,2 MM, OU 5,0 MM, OU 6,0 MM, OU 7,0 MM, VERGALHAO","KG",1.07,4.5599999999999996,4.88,{"$f":"SUM(F13:F15)","v":7.08},null,0]
[null,"AJUDANTE DE ARMADOR COM ENCARGOS COMPLEMENTARES","H",1.3100000000000001E-2,16.463499999999996,0.22,null,null,0]
[null,"ARMADOR COM ENCARGOS COMPLEMENTARES","H",9.3299999999999994E-2,21.222999999999999,1.98,null,null,0]
[null,"",null,null,"","",null,null,0]
["CARGA, MANOBRAS E DESCARGA DE AREIA, BRITA, PEDRA DE MAO E SOLOS COM CAMINHAO BASCULANTE 6 M3 (DESCARGA LIVRE)","","M3",null,"","",null,null,3929.3647270000001]
[null,"",null,null,"","",null,null,3929.3647270000001]
[null,"CAMINHÃO BASCULANTE 6 M3, PESO BRUTO TOTAL 16.000 KG, CARGA ÚTIL MÁXIMA 13.071 KG, DISTÂNCIA ENTRE EIXOS 4,80 M, POTÊNCIA 230 CV INCLUSIVE CAÇAMBA METÁLICA - CHP DIURNO. AF_06/2014","CHP",7.0000000000000001E-3,108.33799999999999,0.76,{"$f":"SUM(F19:F19)","v":0.76},null,3929.3647270000001]
[null,"",null,null,"","",null,null,3929.3647270000001]
["ARGAMASSA TRAÇO 1:4 (EM VOLUME DE CIMENTO E AREIA MÉDIA ÚMIDA) PARA CONTRAPISO, PREPARO MECÂNICO COM BETONEIRA 400 L. AF_08/2019","","M3",null,"","",null,null,0]
[null,"",null,null,"","",null,null,0]
[null,"Areia media - posto jazida/fornecedor (retirado na jazida, sem transporte)","M3",1.36,93.8125,127.59,{"$f":"SUM(F23:F30)","v":416.99999999999994},null,0]
[null,"Cimento Portland composto CP II-32","KG",459.85,0.38949999999999996,179.11,null,null,0]
[null,"Operador de betoneira estacionária/misturador com encargos complementares","H",4.8499999999999996,15.959999999999999,77.41,null,null,0]
[null,"Betoneira capacidade nominal de 400 L, capacidade de mistura 280 L, motor elétrico trifásico potência de 2 cv, sem carregador - CHP diurno. af_10/2014","CHP",1.1299999999999999,1.1684999999999999,1.32,null,null,0]
[null,"Betoneira capacidade nominal de 400 L, capacidade de mistura 280 L, motor elétrico trifásico potência de 2 cv, sem carregador - CHI diurno. af_10/2014","CHI",3.72,0.247,0.92,null,null,0]
[null,"CAMINHÃO BASCULANTE 6 M3, PESO BRUTO TOTAL 16.000 KG, CARGA ÚTIL MÁXIMA 13.071 KG, DISTÂNCIA ENTRE EIXOS 4,80 M, POTÊNCIA 230 CV INCLUSIVE CAÇAMBA METÁLICA - CHP DIURNO. AF_06/2014","CHP",{"$f":"ROUND(0.007*D23,4)","v":9.4999999999999998E-3},108.33799999999999,1.03,null,null,0]
[null,"CAMINHÃO BASCULANTE 6 M3 TOCO, PESO BRUTO TOTAL 16.000 KG, CARGA ÚTIL MÁXIMA 11.130 KG, DISTÂNCIA ENTRE EIXOS 5,36 M, POTÊNCIA 185 CV, INCLUSIVE CAÇAMBA METÁLICA - CHP DIURNO. AF_06/2014","CHP",{"$f":"ROUND(0.01042*20*D23,4)","v":0.28339999999999999},96.463000000000008,27.34,null,null,0]
[null,"CAMINHÃO BASCULANTE 6 M3 TOCO, PESO BRUTO TOTAL 16.000 KG, CARGA ÚTIL MÁXIMA 11.130 KG, DISTÂNCIA ENTRE EIXOS 5,36 M, POTÊNCIA 185 CV, INCLUSIVE CAÇAMBA METÁLICA - CHI DIURNO. AF_06/2014","CHI",{"$f":"ROUND(0.0026*20*D23,4)","v":7.0699999999999999E-2},32.204999999999998,2.2799999999999998,null,null,0]
[null,null,null,null,"","",null,null,0]
[null,"Obs.: Considerando fornecedor de areia a 20 km do Senado Federal.",null,null,"","",null,null,0]
[null,"Obs.2: Inclusão de composições (abertas) Sinapi 72888 e 97914.",null,null,"","",null,null,0]

{"sheet":"BDI","index":5,"n_rows":49,"n_cols":9,"rows_kept":49,"cut":false,"hidden":false,"merged":[[5,0,7,0],[5,5,7,5],[48,0,48,8]]}
["Manutenção Civil"]
["BENEFÍCIOS E DESPESAS INDIRETAS - BDI"]
[]
[]
["BDI Edificações",null,null,null,null,"BDI mero fornecimento"]
["Componentes do BDI","Cálculo sem CPRB","Cálculo com CPRB",null,null,"Componentes do BDI","Cálculo sem CPRB","Cálculo com CPRB"]
[null,"não-desonerado","desonerado",null,null,null,"não-desonerado","desonerado"]
[null,"% considerado","% considerado",null,null,null,"% considerado","% considerado"]
["AC",3.5000000000000003E-2,3.5000000000000003E-2,null,null,"AC",1.7500000000000002E-2,1.7500000000000002E-2]
["S+G",8.0000000000000002E-3,8.0000000000000002E-3,null,null,"S+G",3.8999999999999998E-3,3.8999999999999998E-3]
["R",1.2500000000000001E-2,1.2500000000000001E-2,null,null,"R",5.5999999999999999E-3,5.5999999999999999E-3]
["DF",7.6E-3,7.6E-3,null,null,"DF",8.5000000000000006E-3,8.5000000000000006E-3]
["L",6.7799999999999999E-2,6.7799999999999999E-2,null,null,"L",3.5000000000000003E-2,3.5000000000000003E-2]
["PIS",6.4999999999999997E-3,6.4999999999999997E-3,null,null,"PIS",6.4999999999999997E-3,6.4999999999999997E-3]
["COFINS",0.03,0.03,null,null,"COFINS",0.03,0.03]
["CPRB",0,4.4999999999999998E-2,null,null,"CPRB",0,4.4999999999999998E-2]
["ISS",0.01,0.01,null,null,"ISS",0,0]
["BDI Edificações",{"$f":"ROUND(((1+B9+B10+B11)*(1+B12)*(1+B13))/(1-(B14+B15+B16+B17))-1,4)","v":0.191},{"$f":"ROUND(((1+C9+C10+C11)*(1+C12)*(1+C13))/(1-(C14+C15+C16+C17))-1,4)","v":0.25},null,null,"BDI mero fornecimento",{"$f":"ROUND(((1+G9+G10+G11)*(1+G12)*(1+G13))/(1-(G14+G15+G16+G17))-1,4)","v":0.11260000000000001},{"$f":"ROUND(((1+H9+H10+H11)*(1+H12)*(1+H13))/(1-(H14+H15+H16+H17))-1,4)","v":0.1671}]
[]
["Referências TCU - BDI Edificações",null,null,null,null,"Referências TCU - BDI mero fornecimento"]
["Componentes do BDI","1º Quartil","Médio","3º Quartil",null,"Componentes do BDI","1º Quartil","Médio","3º Quartil"]
["AC",0.03,0.04,5.5E-2,null,"AC",1.4999999999999999E-2,3.4500000000000003E-2,4.4900000000000002E-2]
["S+G",8.0000000000000002E-3,8.0000000000000002E-3,0.01,null,"S+G",3.0000000000000001E-3,4.7999999999999996E-3,8.2000000000000007E-3]
["R",9.7000000000000003E-3,1.2699999999999999E-2,1.2699999999999999E-2,null,"R",5.5999999999999999E-3,8.5000000000000006E-3,8.8999999999999999E-3]
["DF",5.8999999999999999E-3,1.23E-2,1.3899999999999999E-2,null,"DF",8.5000000000000006E-3,8.5000000000000006E-3,1.11E-2]
["L",6.1600000000000002E-2,7.400000000000001E-2,8.9599999999999999E-2,null,"L",3.5000000000000003E-2,5.11E-2,6.2199999999999998E-2]
["BDI Edificações",0.2034,0.22120000000000001,0.25,null,"BDI mero fornecimento",0.111,0.14019999999999999,0.16800000000000001]
[]
[]
[]
[]
[]
[]
[]
[]
[]
[]
[]
[]
[]
[]
[]
[]
[]
[]
[]
[]
[]
["Fontes: Acórdãos 2.369/2011-TCU-Plenário e 2.622/2013-TCU-Plenário."]