{"text_format":"1","workbook":"xlsx","n_sheets":5,"sheets":["Composições","Comp.Aux1","Comp.Aux2","Orçamentária","BDI"],"not_rendered":{"charts":0,"images":3,"macros":1,"external_links":0,"defined_names":13,"comments":0,"pivot_tables":0},"unopened":[],"bounds":{"document_bytes":16777216,"sheet_cells":100000,"rows_first":2000,"rows_last":500,"rows_between":2000,"halvings":0,"cell_chars":16384,"cell_head_chars":4096},"cells_cut":0,"cells_raw":0,"read":"whole","date_system":"1900"}

{"sheet":"Composições","index":0,"n_rows":4978,"n_cols":9,"rows_kept":4978,"cut":false,"hidden":false,"merged":[[4788,0,4794,0],[4788,1,4794,1],[4795,0,4807,0],[4795,1,4807,1],[4775,0,4780,0],[4775,1,4780,1],[4781,0,4787,0],[4781,1,4787,1],[4716,0,4721,0],[4716,1,4721,1],[4722,0,4727,0],[4722,1,4727,1],[4728,0,4734,0],[4728,1,4734,1],[4735,0,4741,0],[4735,1,4741,1],[4742,0,4748,0],[4742,1,4748,1],[4749,0,4756,0],[4749,1,4756,1],[4757,0,4762,0],[4757,1,4762,1],[4763,0,4768,0],[4763,1,4768,1],[4769,0,4774,0],[4769,1,4774,1],[4662,0,4667,0],[4662,1,4667,1],[4668,0,4673,0],[4668,1,4673,1],[4674,0,4679,0],[4674,1,4679,1],[4680,0,4685,0],[4680,1,4685,1],[4686,0,4692,0],[4686,1,4692,1],[4693,0,4697,0],[4693,1,4697,1],[4698,0,4705,0],[4698,1,4705,1],[4706,0,4711,0],[4706,1,4711,1],[4712,0,4715,0],[4712,1,4715,1],[4603,0,4609,0],[4603,1,4609,1],[4610,0,4616,0],[4610,1,4616,1],[4617,0,4623,0],[4617,1,4623,1],[4624,0,4628,0],[4624,1,4628,1],[4629,0,4635,0],[4629,1,4635,1],[4636,1,4642,1],[4636,0,4642,0],[4643,0,4649,0],[4643,1,4649,1],[4650,0,4656,0],[4650,1,4656,1],[4657,0,4661,0],[4657,1,4661,1],[4539,0,4546,0],[4539,1,4546,1],[4547,0,4554,0],[4547,1,4554,1],[4555,0,4562,0],[4555,1,4562,1],[4563,0,4570,0],[4563,1,4570,1],[4507,0,4514,0],[4507,1,4514,1],[4571,0,4580,0],[4571,1,4580,1],[4581,0,4588,0],[4581,1,4588,1],[4589,0,4595,0],[4589,1,4595,1],[4596,0,4602,0],[4596,1,4602,1],[4472,0,4481,0],[4472,1,4481,1],[4482,0,4491,0],[4482,1,4491,1],[4492,0,4496,0],[4492,1,4496,1],[4497,0,4501,0],[4497,1,4501,1],[4502,0,4506,0],[4502,1,4506,1],[4515,0,4522,0],[4515,1,4522,1],[4523,0,4530,0],[4523,1,4530,1],[4531,0,4538,0],[4531,1,4538,1],[4456,0,4466,0],[4456,1,4466,1],[4467,0,4471,0],[4467,1,4471,1],[4430,0,4441,0],[4430,1,4441,1],[4442,0,4447,0],[4442,1,4447,1],[4448,0,4455,0],[4448,1,4455,1],[4407,0,4412,0],[4407,1,4412,1],[4413,0,4420,0],[4413,1,4420,1],[4421,0,4429,0],[4421,1,4429,1],[4381,0,4388,0],[4381,1,4388,1],[4389,0,4396,0],[4389,1,4396,1],[4397,0,4406,0],[4397,1,4406,1],[4355,0,4366,0],[4355,1,4366,1],[4367,0,4374,0],[4367,1,4374,1],[4375,0,4380,0],[4375,1,4380,1],[4332,0,4340,0],[4332,1,4340,1],[4341,0,4348,0],[4341,1,4348,1],[4349,0,4354,0],[4349,1,4354,1],[4293,0,4304,0],[4293,1,4304,1],[4305,0,4323,0],[4305,1,4323,1],[4324,0,4331,0],[4324,1,4331,1],[4269,0,4274,0],[4269,1,4274,1],[4275,0,4280,0],[4275,1,4280,1],[4281,0,4292,0],[4281,1,4292,1],[4250,0,4254,0],[4250,1,4254,1],[4255,0,4260,0],[4255,1,4260,1],[4261,0,4268,0],[4261,1,4268,1],[4231,0,4238,0],[4231,1,4238,1],[4239,0,4244,0],[4239,1,4244,1],[4245,0,4249,0],[4245,1,4249,1],[4197,0,4202,0],[4197,1,4202,1],[4203,0,4222,0],[4203,1,4222,1],[4223,0,4230,0],[4223,1,4230,1],[4164,0,4171,0],[4164,1,4171,1],[4172,0,4187,0],[4172,1,4187,1],[4188,0,4196,0],[4188,1,4196,1],[4134,0,4143,0],[4134,1,4143,1],[4144,0,4153,0],[4144,1,4153,1],[4154,0,4163,0],[4154,1,4163,1],[4108,0,4117,0],[4108,1,4117,1],[4118,0,4125,0],[4118,1,4125,1],[4126,0,4133,0],[4126,1,4133,1],[4081,0,4089,0],[4081,1,4089,1],[4090,0,4098,0],[4090,1,4098,1],[4099,0,4107,0],[4099,1,4107,1],[4055,0,4061,0],[4055,1,4061,1],[4062,0,4071,0],[4062,1,4071,1],[4072,0,4080,0],[4072,1,4080,1],[4003,0,4011,0],[4003,1,4011,1],[4012,0,4027,0],[4012,1,4027,1],[4028,0,4054,0],[4028,1,4054,1],[3980,0,3987,0],[3980,1,3987,1],[3988,0,3992,0],[3988,1,3992,1],[3993,0,4002,0],[3993,1,4002,1],[3967,0,3972,0],[3967,1,3972,1],[3973,0,3979,0],[3973,1,3979,1],[3943,0,3952,0],[3943,1,3952,1],[3953,0,3958,0],[3953,1,3958,1],[3959,0,3966,0],[3959,1,3966,1],[3925,0,3930,0],[3925,1,3930,1],[3931,0,3936,0],[3931,1,3936,1],[3937,0,3942,0],[3937,1,3942,1],[3907,0,3910,0],[3907,1,3910,1],[3911,0,3917,0],[3911,1,3917,1],[3918,0,3924,0],[3918,1,3924,1],[3878,0,3884,0],[3878,1,3884,1],[3885,0,3895,0],[3885,1,3895,1],[3896,0,3906,0],[3896,1,3906,1],[3852,0,3859,0],[3852,1,3859,1],[3860,0,3867,0],[3860,1,3867,1],[3868,0,3877,0],[3868,1,3877,1],[3833,0,3836,0],[3833,1,3836,1],[3837,0,3843,0],[3837,1,3843,1],[3844,0,3851,0],[3844,1,3851,1],[3814,0,3819,0],[3814,1,3819,1],[3820,0,3826,0],[3820,1,3826,1],[3827,0,3832,0],[3827,1,3832,1],[3790,0,3798,0],[3790,1,3798,1],[3799,0,3807,0],[3799,1,3807,1],[3808,0,3813,0],[3808,1,3813,1],[3763,0,3771,0],[3763,1,3771,1],[3772,0,3780,0],[3772,1,3780,1],[3781,0,3789,0],[3781,1,3789,1],[3746,0,3749,0],[3746,1,3749,1],[3750,0,3753,0],[3750,1,3753,1],[3754,0,3762,0],[3754,1,3762,1],[3715,0,3727,0],[3715,1,3727,1],[3728,0,3740,0],[3728,1,3740,1],[3741,0,3745,0],[3741,1,3745,1],[3692,0,3699,0],[3692,1,3699,1],[3700,0,3706,0],[3700,1,3706,1],[3707,0,3714,0],[3707,1,3714,1],[3669,0,3675,0],[3669,1,3675,1],[3676,0,3684,0],[3676,1,3684,1],[3685,0,3691,0],[3685,1,3691,1],[3651,0,3656,0],[3651,1,3656,1],[3657,0,3662,0],[3657,1,3662,1],[3663,0,3668,0],[3663,1,3668,1],[3613,0,3627,0],[3613,1,3627,1],[3628,0,3634,0],[3628,1,3634,1],[3635,0,3650,0],[3635,1,3650,1],[3584,0,3592,0],[3584,1,3592,1],[3593,0,3600,0],[3593,1,3600,1],[3601,0,3612,0],[3601,1,3612,1],[3558,0,3562,0],[3558,1,3562,1],[3563,0,3573,0],[3563,1,3573,1],[3574,0,3583,0],[3574,1,3583,1],[3544,0,3547,0],[3544,1,3547,1],[3548,0,3551,0],[3548,1,3551,1],[3552,0,3557,0],[3552,1,3557,1],[3522,0,3530,0],[3522,1,3530,1],[3531,0,3539,0],[3531,1,3539,1],[3540,0,3543,0],[3540,1,3543,1],[3503,0,3506,0],[3503,1,3506,1],[3507,0,3516,0],[3507,1,3516,1],[3517,0,3521,0],[3517,1,3521,1],[3467,0,3478,0],[3467,1,3478,1],[3479,0,3491,0],[3479,1,3491,1],[3492,0,3502,0],[3492,1,3502,1],[3438,0,3443,0],[3438,1,3443,1],[3444,0,3458,0],[3444,1,3458,1],[3459,0,3466,0],[3459,1,3466,1],[3421,0,3425,0],[3421,1,3425,1],[3426,0,3433,0],[3426,1,3433,1],[3434,0,3437,0],[3434,1,3437,1],[3400,0,3405,0],[3400,1,3405,1],[3406,0,3415,0],[3406,1,3415,1],[3416,0,3420,0],[3416,1,3420,1],[3379,0,3386,0],[3379,1,3386,1],[3387,0,3392,0],[3387,1,3392,1],[3393,0,3399,0],[3393,1,3399,1],[3359,0,3366,0],[3359,1,3366,1],[3367,0,3373,0],[3367,1,3373,1],[3374,0,3378,0],[3374,1,3378,1],[3331,0,3346,0],[3331,1,3346,1],[3347,0,3352,0],[3347,1,3352,1],[3353,0,3358,0],[3353,1,3358,1],[3295,0,3311,0],[3295,1,3311,1],[3312,0,3323,0],[3312,1,3323,1],[3324,0,3330,0],[3324,1,3330,1],[3262,0,3269,0],[3262,1,3269,1],[3270,0,3286,0],[3270,1,3286,1],[3287,0,3294,0],[3287,1,3294,1],[3237,0,3240,0],[3237,1,3240,1],[3241,0,3250,0],[3241,1,3250,1],[3251,0,3261,0],[3251,1,3261,1],[3223,0,3227,0],[3223,1,3227,1],[3228,0,3232,0],[3228,1,3232,1],[3233,0,3236,0],[3233,1,3236,1],[3204,0,3210,0],[3204,1,3210,1],[3211,0,3217,0],[3211,1,3217,1],[3218,0,3222,0],[3218,1,3222,1],[3189,0,3192,0],[3189,1,3192,1],[3193,0,3196,0],[3193,1,3196,1],[3197,0,3203,0],[3197,1,3203,1],[3176,0,3179,0],[3176,1,3179,1],[3180,0,3183,0],[3180,1,3183,1],[3184,0,3188,0],[3184,1,3188,1],[3155,0,3161,0],[3155,1,3161,1],[3162,0,3168,0],[3162,1,3168,1],[3169,0,3175,0],[3169,1,3175,1],[3135,0,3140,0],[3135,1,3140,1],[3141,0,3149,0],[3141,1,3149,1],[3150,0,3154,0],[3150,1,3154,1],[3115,0,3121,0],[3115,1,3121,1],[3122,0,3128,0],[3122,1,3128,1],[3129,0,3134,0],[3129,1,3134,1],[3094,0,3100,0],[3094,1,3100,1],[3101,0,3107,0],[3101,1,3107,1],[3108,0,3114,0],[3108,1,3114,1],[3073,0,3079,0],[3073,1,3079,1],[3080,0,3086,0],[3080,1,3086,1],[3087,0,3093,0],[3087,1,3093,1],[3054,0,3058,0],[3054,1,3058,1],[3059,0,3065,0],[3059,1,3065,1],[3066,0,3072,0],[3066,1,3072,1],[3032,0,3037,0],[3032,1,3037,1],[3038,0,3043,0],[3038,1,3043,1],[3044,0,3053,0],[3044,1,3053,1],[3006,0,3012,0],[3006,1,3012,1],[3013,0,3025,0],[3013,1,3025,1],[3026,0,3031,0],[3026,1,3031,1],[2989,0,2996,0],[2989,1,2996,1],[2997,0,3001,0],[2997,1,3001,1],[3002,0,3005,0],[3002,1,3005,1],[2970,0,2974,0],[2970,1,2974,1],[2975,0,2980,0],[2975,1,2980,1],[2981,0,2988,0],[2981,1,2988,1],[2951,0,2956,0],[2951,1,2956,1],[2957,0,2962,0],[2957,1,2962,1],[2963,0,2969,0],[2963,1,2969,1],[2931,0,2936,0],[2931,1,2936,1],[2937,0,2943,0],[2937,1,2943,1],[2944,0,2950,0],[2944,1,2950,1],[2916,0,2920,0],[2916,1,2920,1],[2921,0,2925,0],[2921,1,2925,1],[2926,0,2930,0],[2926,1,2930,1],[2901,0,2905,0],[2901,1,2905,1],[2906,0,2910,0],[2906,1,2910,1],[2911,0,2915,0],[2911,1,2915,1],[2886,0,2890,0],[2886,1,2890,1],[2891,0,2895,0],[2891,1,2895,1],[2896,0,2900,0],[2896,1,2900,1],[2866,0,2872,0],[2866,1,2872,1],[2873,0,2877,0],[2873,1,2877,1],[2878,0,2885,0],[2878,1,2885,1],[2849,0,2853,0],[2849,1,2853,1],[2854,0,2861,0],[2854,1,2861,1],[2862,0,2865,0],[2862,1,2865,1],[2831,0,2835,0],[2831,1,2835,1],[2836,0,2840,0],[2836,1,2840,1],[2841,0,2848,0],[2841,1,2848,1],[2816,0,2820,0],[2816,1,2820,1],[2821,0,2825,0],[2821,1,2825,1],[2826,0,2830,0],[2826,1,2830,1],[2801,0,2805,0],[2801,1,2805,1],[2806,0,2810,0],[2806,1,2810,1],[2811,0,2815,0],[2811,1,2815,1],[2784,0,2788,0],[2784,1,2788,1],[2789,0,2795,0],[2789,1,2795,1],[2796,0,2800,0],[2796,1,2800,1],[2769,0,2773,0],[2769,1,2773,1],[2774,0,2778,0],[2774,1,2778,1],[2779,0,2783,0],[2779,1,2783,1],[2754,0,2758,0],[2754,1,2758,1],[2759,0,2763,0],[2759,1,2763,1],[2764,0,2768,0],[2764,1,2768,1],[2739,0,2743,0],[2739,1,2743,1],[2744,0,2748,0],[2744,1,2748,1],[2749,0,2753,0],[2749,1,2753,1],[2715,0,2722,0],[2715,1,2722,1],[2723,0,2730,0],[2723,1,2730,1],[2731,0,2738,0],[2731,1,2738,1],[2694,0,2698,0],[2694,1,2698,1],[2699,0,2706,0],[2699,1,2706,1],[2707,0,2714,0],[2707,1,2714,1],[2673,0,2683,0],[2673,1,2683,1],[2684,0,2688,0],[2684,1,2688,1],[2689,0,2693,0],[2689,1,2693,1],[2658,0,2662,0],[2658,1,2662,1],[2663,0,2667,0],[2663,1,2667,1],[2668,0,2672,0],[2668,1,2672,1],[2643,0,2647,0],[2643,1,2647,1],[2648,0,2652,0],[2648,1,2652,1],[2653,0,2657,0],[2653,1,2657,1],[2626,0,2632,0],[2626,1,2632,1],[2633,0,2637,0],[2633,1,2637,1],[2638,0,2642,0],[2638,1,2642,1],[2611,0,2615,0],[2611,1,2615,1],[2616,0,2620,0],[2616,1,2620,1],[2621,0,2625,0],[2621,1,2625,1],[2580,0,2586,0],[2580,1,2586,1],[2587,0,2593,0],[2587,1,2593,1],[2604,0,2610,0],[2604,1,2610,1],[2594,0,2598,0],[2594,1,2598,1],[2599,0,2603,0],[2599,1,2603,1],[2562,0,2567,0],[2562,1,2567,1],[2568,0,2573,0],[2568,1,2573,1],[2574,0,2579,0],[2574,1,2579,1],[2544,0,2549,0],[2544,1,2549,1],[2550,0,2555,0],[2550,1,2555,1],[2556,0,2561,0],[2556,1,2561,1],[2526,0,2531,0],[2526,1,2531,1],[2532,0,2537,0],[2532,1,2537,1],[2538,0,2543,0],[2538,1,2543,1],[2510,0,2513,0],[2510,1,2513,1],[2514,0,2519,0],[2514,1,2519,1],[2520,0,2525,0],[2520,1,2525,1],[2498,0,2501,0],[2498,1,2501,1],[2502,0,2505,0],[2502,1,2505,1],[2506,0,2509,0],[2506,1,2509,1],[2486,0,2489,0],[2486,1,2489,1],[2490,0,2493,0],[2490,1,2493,1],[2494,0,2497,0],[2494,1,2497,1],[2474,0,2477,0],[2474,1,2477,1],[2478,0,2481,0],[2478,1,2481,1],[2482,0,2485,0],[2482,1,2485,1],[2458,0,2465,0],[2458,1,2465,1],[2466,0,2469,0],[2466,1,2469,1],[2470,0,2473,0],[2470,1,2473,1],[2438,0,2441,0],[2438,1,2441,1],[2442,0,2449,0],[2442,1,2449,1],[2450,0,2457,0],[2450,1,2457,1],[2426,0,2429,0],[2426,1,2429,1],[2430,0,2433,0],[2430,1,2433,1],[2434,0,2437,0],[2434,1,2437,1],[2414,0,2417,0],[2414,1,2417,1],[2418,0,2421,0],[2418,1,2421,1],[2422,0,2425,0],[2422,1,2425,1],[2395,0,2400,0],[2395,1,2400,1],[2401,0,2407,0],[2401,1,2407,1],[2408,0,2413,0],[2408,1,2413,1],[2374,0,2379,0],[2374,1,2379,1],[2380,0,2387,0],[2380,1,2387,1],[2388,0,2394,0],[2388,1,2394,1],[2359,0,2363,0],[2359,1,2363,1],[2364,0,2368,0],[2364,1,2368,1],[2369,0,2373,0],[2369,1,2373,1],[2341,0,2346,0],[2341,1,2346,1],[2347,0,2352,0],[2347,1,2352,1],[2353,0,2358,0],[2353,1,2358,1],[2321,0,2327,0],[2321,1,2327,1],[2328,0,2334,0],[2328,1,2334,1],[2335,0,2340,0],[2335,1,2340,1],[2285,0,2296,0],[2285,1,2296,1],[2297,0,2308,0],[2297,1,2308,1],[2309,0,2320,0],[2309,1,2320,1],[2255,0,2260,0],[2255,1,2260,1],[2261,0,2272,0],[2261,1,2272,1],[2273,0,2284,0],[2273,1,2284,1],[2227,0,2232,0],[2227,1,2232,1],[2233,0,2238,0],[2233,1,2238,1],[2239,0,2254,0],[2239,1,2254,1],[2209,0,2213,0],[2209,1,2213,1],[2214,0,2220,0],[2214,1,2220,1],[2221,0,2226,0],[2221,1,2226,1],[2185,0,2192,0],[2185,1,2192,1],[2193,0,2200,0],[2193,1,2200,1],[2201,0,2208,0],[2201,1,2208,1],[2161,0,2168,0],[2161,1,2168,1],[2169,0,2176,0],[2169,1,2176,1],[2177,0,2184,0],[2177,1,2184,1],[2139,0,2144,0],[2139,1,2144,1],[2145,0,2152,0],[2145,1,2152,1],[2153,0,2160,0],[2153,1,2160,1],[2121,0,2126,0],[2121,1,2126,1],[2127,0,2132,0],[2127,1,2132,1],[2133,0,2138,0],[2133,1,2138,1],[2099,0,2106,0],[2099,1,2106,1],[2107,0,2114,0],[2107,1,2114,1],[2115,0,2120,0],[2115,1,2120,1],[2075,0,2082,0],[2075,1,2082,1],[2083,0,2090,0],[2083,1,2090,1],[2091,0,2098,0],[2091,1,2098,1],[2051,0,2058,0],[2051,1,2058,1],[2059,0,2066,0],[2059,1,2066,1],[2067,0,2074,0],[2067,1,2074,1],[2027,0,2034,0],[2027,1,2034,1],[2035,0,2042,0],[2035,1,2042,1],[2043,0,2050,0],[2043,1,2050,1],[2007,0,2013,0],[2007,1,2013,1],[2014,0,2020,0],[2014,1,2020,1],[2021,0,2026,0],[2021,1,2026,1],[1985,0,1992,0],[1985,1,1992,1],[1993,0,1999,0],[1993,1,1999,1],[2000,0,2006,0],[2000,1,2006,1],[1963,0,1969,0],[1963,1,1969,1],[1970,0,1976,0],[1970,1,1976,1],[1977,0,1984,0],[1977,1,1984,1],[1946,0,1950,0],[1946,1,1950,1],[1951,0,1956,0],[1951,1,1956,1],[1957,0,1962,0],[1957,1,1962,1],[1930,0,1935,0],[1930,1,1935,1],[1936,0,1940,0],[1936,1,1940,1],[1941,0,1945,0],[1941,1,1945,1],[1915,0,1919,0],[1915,1,1919,1],[1920,0,1924,0],[1920,1,1924,1],[1925,0,1929,0],[1925,1,1929,1],[1897,0,1902,0],[1897,1,1902,1],[1903,0,1908,0],[1903,1,1908,1],[1909,0,1914,0],[1909,1,1914,1],[1879,0,1884,0],[1879,1,1884,1],[1885,0,1890,0],[1885,1,1890,1],[1891,0,1896,0],[1891,1,1896,1],[1861,0,1866,0],[1861,1,1866,1],[1867,0,1872,0],[1867,1,1872,1],[1873,0,1878,0],[1873,1,1878,1],[1843,0,1848,0],[1843,1,1848,1],[1849,0,1854,0],[1849,1,1854,1],[1855,0,1860,0],[1855,1,1860,1],[1824,0,1829,0],[1824,1,1829,1],[1830,0,1835,0],[1830,1,1835,1],[1836,0,1842,0],[1836,1,1842,1],[1808,0,1813,0],[1808,1,1813,1],[1814,0,1818,0],[1814,1,1818,1],[1819,0,1823,0],[1819,1,1823,1],[1787,0,1793,0],[1787,1,1793,1],[1794,0,1800,0],[1794,1,1800,1],[1801,0,1807,0],[1801,1,1807,1],[1766,0,1772,0],[1766,1,1772,1],[1773,0,1779,0],[1773,1,1779,1],[1780,0,1786,0],[1780,1,1786,1],[1737,0,1747,0],[1737,1,1747,1],[1748,0,1758,0],[1748,1,1758,1],[1759,0,1765,0],[1759,1,1765,1],[1707,0,1714,0],[1707,1,1714,1],[1715,0,1725,0],[1715,1,1725,1],[1726,0,1736,0],[1726,1,1736,1],[1687,0,1693,0],[1687,1,1693,1],[1694,0,1700,0],[1694,1,1700,1],[1701,0,1706,0],[1701,1,1706,1],[1671,0,1675,0],[1671,1,1675,1],[1676,0,1680,0],[1676,1,1680,1],[1681,0,1686,0],[1681,1,1686,1],[1654,0,1659,0],[1654,1,1659,1],[1660,0,1665,0],[1660,1,1665,1],[1666,0,1670,0],[1666,1,1670,1],[1637,0,1641,0],[1637,1,1641,1],[1642,0,1647,0],[1642,1,1647,1],[1648,0,1653,0],[1648,1,1653,1],[1620,0,1624,0],[1620,1,1624,1],[1625,0,1630,0],[1625,1,1630,1],[1631,0,1636,0],[1631,1,1636,1],[1601,0,1606,0],[1601,1,1606,1],[1607,0,1612,0],[1607,1,1612,1],[1613,0,1619,0],[1613,1,1619,1],[1573,0,1579,0],[1573,1,1579,1],[1580,0,1594,0],[1580,1,1594,1],[1595,0,1600,0],[1595,1,1600,1],[1552,0,1558,0],[1552,1,1558,1],[1559,0,1565,0],[1559,1,1565,1],[1566,0,1572,0],[1566,1,1572,1],[1528,0,1535,0],[1528,1,1535,1],[1536,0,1543,0],[1536,1,1543,1],[1544,0,1551,0],[1544,1,1551,1],[1497,0,1511,0],[1497,1,1511,1],[1512,0,1519,0],[1512,1,1519,1],[1520,0,1527,0],[1520,1,1527,1],[1452,0,1466,0],[1452,1,1466,1],[1467,0,1481,0],[1467,1,1481,1],[1482,0,1496,0],[1482,1,1496,1],[1407,0,1421,0],[1407,1,1421,1],[1422,0,1436,0],[1422,1,1436,1],[1437,0,1451,0],[1437,1,1451,1],[1388,0,1393,0],[1388,1,1393,1],[1394,0,1399,0],[1394,1,1399,1],[1400,0,1406,0],[1400,1,1406,1],[1370,0,1375,0],[1370,1,1375,1],[1376,0,1381,0],[1376,1,1381,1],[1382,0,1387,0],[1382,1,1387,1],[1351,0,1356,0],[1351,1,1356,1],[1357,0,1363,0],[1357,1,1363,1],[1364,0,1369,0],[1364,1,1369,1],[1332,0,1337,0],[1332,1,1337,1],[1338,0,1343,0],[1338,1,1343,1],[1344,0,1350,0],[1344,1,1350,1],[1312,0,1320,0],[1312,1,1320,1],[1321,0,1325,0],[1321,1,1325,1],[1326,0,1331,0],[1326,1,1331,1],[1290,0,1296,0],[1290,1,1296,1],[1297,0,1303,0],[1297,1,1303,1],[1304,0,1311,0],[1304,1,1311,1],[1270,0,1275,0],[1270,1,1275,1],[1276,0,1282,0],[1276,1,1282,1],[1283,0,1289,0],[1283,1,1289,1],[1249,0,1255,0],[1249,1,1255,1],[1256,0,1262,0],[1256,1,1262,1],[1263,0,1269,0],[1263,1,1269,1],[1228,0,1234,0],[1228,1,1234,1],[1235,0,1241,0],[1235,1,1241,1],[1242,0,1248,0],[1242,1,1248,1],[1207,0,1213,0],[1207,1,1213,1],[1214,0,1220,0],[1214,1,1220,1]],"merged_total":1394,"flags":["merged_cut"]}
[{"$f":"Orçamentária!A1","v":"Execução de infraestrutura e lançamento de fibra óptica para interligação entre os datacenters da Câmara dos Deputados e Senado Federal"}]
["COMPOSIÇÕES DE CUSTO UNITÁRIO"]
[{"$f":"Orçamentária!A3","v":"Data: dezembro de 2020"}]
[]
["ITEM","DESCRIÇÃO","DISCRIMINAÇÃO DA COMPOSIÇÃO","UNIDADE","COEFICIENTE","CUSTO UNITÁRIO","CUSTO TOTAL","TOTAL DO SERVIÇO","QTD"]
["SF-00001",{"$f":"INDEX(Orçamentária!A:B,MATCH(Composições!A6,Orçamentária!A:A,0),2)","v":"Engenheiro(a) /Arquiteto(a) júnior"},null,{"$f":"TRIM(INDEX(Orçamentária!D:D,MATCH(Composições!A6,Orçamentária!A:A,0),1))","v":"hh"},null,"",{"$f":"IF(ISNUMBER(F6),E6*F6,\"\")","v":""},null,176]
[null,null,null,null,null,"","",null,176]
[null,null,"Engenheiro civil de obra junior com encargos complementares","h",1,83.447999999999993,83.447999999999993,{"$f":"SUM(G8:G8)","v":83.447999999999993},176]
[null,null,null,null,null,"","",null,176]
["SF-00002",{"$f":"INDEX(Orçamentária!A:B,MATCH(Composições!A10,Orçamentária!A:A,0),2)","v":"Mestre de obras"},null,{"$f":"TRIM(INDEX(Orçamentária!D:D,MATCH(Composições!A10,Orçamentária!A:A,0),1))","v":"hh"},null,"","",null,0]
[null,null,null,null,null,"","",null,0]
[null,null,"Mestre de obras com encargos complementares","h",1,26.248499999999996,26.248499999999996,{"$f":"SUM(G12:G12)","v":26.248499999999996},0]
[null,null,null,null,null,"","",null,0]
["SF-00003",{"$f":"INDEX(Orçamentária!A:B,MATCH(Composições!A14,Orçamentária!A:A,0),2)","v":"Planejamento físico-financeiro"},null,{"$f":"TRIM(INDEX(Orçamentária!D:D,MATCH(Composições!A14,Orçamentária!A:A,0),1))","v":"un"},null,"","",null,1]
[null,null,null,null,null,"","",null,1]
[null,null,"Engenheiro Civil de Obra Pleno com encargos complementares","h",16,94.809999999999988,1516.9599999999998,{"$f":"SUM(G16:G16)","v":1516.9599999999998},1]
[null,null,null,null,null,"","",null,1]
["SF-00004",{"$f":"INDEX(Orçamentária!A:B,MATCH(Composições!A18,Orçamentária!A:A,0),2)","v":"Projetos de segurança do trabalho"},null,{"$f":"TRIM(INDEX(Orçamentária!D:D,MATCH(Composições!A18,Orçamentária!A:A,0),1))","v":"un"},null,"","",null,1]
[null,null,null,null,null,"","",null,1]
[null,null,"Engenheiro Civil Pleno com encargos complementares","h",20,95.123499999999993,1902.4699999999998,{"$f":"SUM(G20:G21)","v":2136.41},1]
[null,null,"Anotação de Responsabilidade Técnica","un",1,233.94,233.94,null,1]
[null,null,null,null,null,"","",null,1]
["SF-00005",{"$f":"INDEX(Orçamentária!A:B,MATCH(Composições!A23,Orçamentária!A:A,0),2)","v":"Demolição de alvenarias"},null,{"$f":"TRIM(INDEX(Orçamentária!D:D,MATCH(Composições!A23,Orçamentária!A:A,0),1))","v":"m3"},null,"","",null,0]
[null,null,null,null,null,"","",null,0]
[null,null,"Pedreiro com Encargos Complementares","h",0.22500000000000001,22.087499999999999,4.9696875,{"$f":"SUM(G25:G26)","v":42.890662700000007},0]
[null,null,"Servente com Encargos Complementares","h",2.3248000000000002,16.311500000000002,37.920975200000008,null,0]
[null,null,null,null,null,"","",null,0]
["SF-00006",{"$f":"INDEX(Orçamentária!A:B,MATCH(Composições!A28,Orçamentária!A:A,0),2)","v":"Demolição de concreto simples"},null,{"$f":"TRIM(INDEX(Orçamentária!D:D,MATCH(Composições!A28,Orçamentária!A:A,0),1))","v":"m3"},null,"","",null,0]
[null,null,null,null,null,"","",null,0]
[null,null,"Pedreiro com Encargos Complementares","h",1.3,22.087499999999999,28.713749999999997,{"$f":"SUM(G30:G31)","v":240.76325000000003},0]
[null,null,"Servente com Encargos Complementares","h",13,16.311500000000002,212.04950000000002,null,0]
[null,null,null,null,null,"","",null,0]
["SF-00007",{"$f":"INDEX(Orçamentária!A:B,MATCH(Composições!A33,Orçamentária!A:A,0),2)","v":"Demolição de contrapiso"},null,{"$f":"TRIM(INDEX(Orçamentária!D:D,MATCH(Composições!A33,Orçamentária!A:A,0),1))","v":"m2"},null,"","",null,0]
[null,null,null,null,null,"","",null,0]
[null,null,"Servente com Encargos Complementares","h",0.7,16.311500000000002,11.418050000000001,{"$f":"SUM(G35:G35)","v":11.418050000000001},0]
[null,null,null,null,null,"","",null,0]
["SF-00008",{"$f":"INDEX(Orçamentária!A:B,MATCH(Composições!A37,Orçamentária!A:A,0),2)","v":"Demolição de fechamento ou parede em gesso acartonado"},null,{"$f":"TRIM(INDEX(Orçamentária!D:D,MATCH(Composições!A37,Orçamentária!A:A,0),1))","v":"m2"},null,"","",null,0]
[null,null,null,null,null,"","",null,0]
[null,null,"Montador de estrutura metálica com encargos complementares","h",0.1186,16.852999999999998,1.9987657999999997,{"$f":"SUM(G39:G40)","v":5.79771415},0]
[null,null,"Servente com Encargos Complementares","h",0.2329,16.311500000000002,3.7989483500000003,null,0]
[null,null,null,null,null,"","",null,0]
["SF-00009",{"$f":"INDEX(Orçamentária!A:B,MATCH(Composições!A42,Orçamentária!A:A,0),2)","v":"Demolição de forro de gesso"},null,{"$f":"TRIM(INDEX(Orçamentária!D:D,MATCH(Composições!A42,Orçamentária!A:A,0),1))","v":"m2"},null,"","",null,0]
[null,null,null,null,null,"","",null,0]
[null,null,"Montador de estrutura metálica com encargos complementares","h",2.58E-2,16.852999999999998,0.43480739999999996,{"$f":"SUM(G44:G45)","v":1.26180045},0]
[null,null,"Servente com Encargos Complementares","h",5.0700000000000002E-2,16.311500000000002,0.82699305000000012,null,0]
[null,null,null,null,null,"","",null,0]
["SF-00010",{"$f":"INDEX(Orçamentária!A:B,MATCH(Composições!A47,Orçamentária!A:A,0),2)","v":"Demolição de infraestrutura elétrica (eletrodutos, eletrocalhas, cabos)"},null,{"$f":"TRIM(INDEX(Orçamentária!D:D,MATCH(Composições!A47,Orçamentária!A:A,0),1))","v":"m"},null,"","",null,0]
[null,null,null,null,null,"","",null,0]
[null,null,"Eletricista com encargos complementares","h",{"$f":"ROUND(0.0096*5,4)","v":4.8000000000000001E-2},22.268000000000001,1.068864,{"$f":"SUM(G49:G50)","v":2.6021450000000002},0]
[null,null,"Servente com Encargos Complementares","h",{"$f":"ROUND(0.0188*5,4)","v":9.4E-2},16.311500000000002,1.5332810000000001,null,0]
[null,null,null,null,null,"","",null,0]
["SF-00011",{"$f":"INDEX(Orçamentária!A:B,MATCH(Composições!A52,Orçamentária!A:A,0),2)","v":"Demolição de revestimento cerâmico, granito, mármore ou granitina"},null,{"$f":"TRIM(INDEX(Orçamentária!D:D,MATCH(Composições!A52,Orçamentária!A:A,0),1))","v":"m2"},null,"","",null,0]
[null,null,null,null,null,"","",null,0]
[null,null,"Martelete ou rompedor pneumático manual, 28 kg, com silenciador - CHP diurno. AF_07/2016","chp",6.9900000000000004E-2,20.035499999999999,1.40048145,{"$f":"SUM(G54:G57)","v":9.4729934},0]
[null,null,"Martelete ou rompedor pneumático manual, 28 kg, com silenciador - CHI diurno. AF_07/2016","chi",4.82E-2,18.724499999999999,0.90252089999999996,null,0]
[null,null,"Azulejista ou ladrilhista com encargos complementares","h",0.1055,22.011500000000002,2.3222132499999999,null,0]
[null,null,"Servente com Encargos Complementares","h",0.29720000000000002,16.311500000000002,4.8477778000000011,null,0]
[null,null,null,null,null,"","",null,0]
["SF-00012",{"$f":"INDEX(Orçamentária!A:B,MATCH(Composições!A59,Orçamentária!A:A,0),2)","v":"Demolição de revestimento em argamassa"},null,{"$f":"TRIM(INDEX(Orçamentária!D:D,MATCH(Composições!A59,Orçamentária!A:A,0),1))","v":"m2"},null,"","",null,0]
[null,null,null,null,null,"","",null,0]
[null,null,"Pedreiro com Encargos Complementares","h",3.7400000000000003E-2,22.087499999999999,0.82607249999999999,{"$f":"SUM(G61:G62)","v":2.54367345},0]
[null,null,"Servente com Encargos Complementares","h",0.1053,16.311500000000002,1.7176009500000002,null,0]
[null,null,null,null,null,"","",null,0]
["SF-00013",{"$f":"INDEX(Orçamentária!A:B,MATCH(Composições!A64,Orçamentária!A:A,0),2)","v":"Demolição de tubulação hidrossanitária embutida com conexões e acessórios"},null,{"$f":"TRIM(INDEX(Orçamentária!D:D,MATCH(Composições!A64,Orçamentária!A:A,0),1))","v":"m"},null,"","",null,0]
[null,null,null,null,null,"","",null,0]
[null,null,"Encanador ou Bombeiro Hidráulico com Encargos Complementares","h",7.1000000000000004E-3,21.622,0.15351620000000002,{"$f":"SUM(G66:G67)","v":0.38187720000000003},0]
[null,null,"Servente com Encargos Complementares","h",1.4E-2,16.311500000000002,0.22836100000000004,null,0]
[null,null,null,null,null,"","",null,0]
["SF-00014",{"$f":"INDEX(Orçamentária!A:B,MATCH(Composições!A69,Orçamentária!A:A,0),2)","v":"Demolição em concreto armado"},null,{"$f":"TRIM(INDEX(Orçamentária!D:D,MATCH(Composições!A69,Orçamentária!A:A,0),1))","v":"m3"},null,"","",null,10]
[null,null,null,null,null,"",{"$f":"IF(ISNUMBER(F70),E70*F70,\"\")","v":""},null,10]
[null,null,"Martelete ou rompedor pneumático manual, 28 kg, com silenciador - CHP diurno. AF_07/2016","chp",3.2467999999999999,20.035499999999999,65.051261400000001,{"$f":"SUM(G71:G75)","v":216.3409388},10]
[null,null,"Martelete ou rompedor pneumático manual, 28 kg, com silenciador - CHI diurno. AF_07/2016","chi",0.92020000000000002,18.724499999999999,17.230284900000001,null,10]
[null,null,"CABO DE ACO GALVANIZADO, DIAMETRO 9,53 MM (3/8\"), COM ALMA DE FIBRA 6 X 25 F","kg",0.28349999999999997,44.773499999999999,12.693287249999999,null,10]
[null,null,"Pedreiro com Encargos Complementares","h",0.63660000000000005,22.087499999999999,14.060902500000001,null,10]
[null,null,"Servente com Encargos Complementares","h",6.5785,16.311500000000002,107.30520275000002,null,10]
[null,null,null,null,null,"","",null,10]
["SF-00016",{"$f":"INDEX(Orçamentária!A:B,MATCH(Composições!A77,Orçamentária!A:A,0),2)","v":"Remoção de armários"},null,{"$f":"TRIM(INDEX(Orçamentária!D:D,MATCH(Composições!A77,Orçamentária!A:A,0),1))","v":"m2"},null,"","",null,0]
[null,null,null,null,null,"","",null,0]
[null,null,"Carpinteiro de esquadria com encargos complementares","h",0.35,21.916499999999999,7.670774999999999,{"$f":"SUM(G79:G80)","v":13.379799999999999},0]
[null,null,"Servente com Encargos Complementares","h",0.35,16.311500000000002,5.7090250000000005,null,0]
[null,null,null,null,null,"","",null,0]
["SF-00017",{"$f":"INDEX(Orçamentária!A:B,MATCH(Composições!A82,Orçamentária!A:A,0),2)","v":"Remoção de bancadas"},null,{"$f":"TRIM(INDEX(Orçamentária!D:D,MATCH(Composições!A82,Orçamentária!A:A,0),1))","v":"m2"},null,"","",null,0]
[null,null,null,null,null,"","",null,0]
[null,null,"Pedreiro com Encargos Complementares","h",0.15,22.087499999999999,3.3131249999999999,{"$f":"SUM(G84:G85)","v":19.624625000000002},0]
[null,null,"Servente com Encargos Complementares","h",1,16.311500000000002,16.311500000000002,null,0]
[null,null,null,null,null,"","",null,0]
["SF-00018",{"$f":"INDEX(Orçamentária!A:B,MATCH(Composições!A87,Orçamentária!A:A,0),2)","v":"Remoção de batentes de madeira"},null,{"$f":"TRIM(INDEX(Orçamentária!D:D,MATCH(Composições!A87,Orçamentária!A:A,0),1))","v":"un"},null,"","",null,0]
[null,null,null,null,null,"","",null,0]
[null,null,"Pedreiro com Encargos Complementares","h",{"$f":"0.08/2","v":0.04},22.087499999999999,0.88349999999999995,{"$f":"SUM(G89:G90)","v":7.408100000000001},0]
[null,null,"Servente com Encargos Complementares","h",{"$f":"0.8/2","v":0.4},16.311500000000002,6.5246000000000013,null,0]
[null,null,null,null,null,"","",null,0]
["SF-00019",{"$f":"INDEX(Orçamentária!A:B,MATCH(Composições!A92,Orçamentária!A:A,0),2)","v":"Remoção de canaleta em alumínio"},null,{"$f":"TRIM(INDEX(Orçamentária!D:D,MATCH(Composições!A92,Orçamentária!A:A,0),1))","v":"m"},null,"","",null,0]
[null,null,null,null,null,"","",null,0]
[null,null,"Eletricista com encargos complementares","h",{"$f":"0.75*0.1","v":7.5000000000000011E-2},22.268000000000001,1.6701000000000004,{"$f":"SUM(G94:G95)","v":4.1168250000000013},0]
[null,null,"Servente com Encargos Complementares","h",{"$f":"0.75*0.2","v":0.15000000000000002},16.311500000000002,2.4467250000000007,null,0]
[null,null,null,null,null,"","",null,0]
["SF-00020",{"$f":"INDEX(Orçamentária!A:B,MATCH(Composições!A97,Orçamentária!A:A,0),2)","v":"Remoção de carpete"},null,{"$f":"TRIM(INDEX(Orçamentária!D:D,MATCH(Composições!A97,Orçamentária!A:A,0),1))","v":"m2"},null,"","",null,0]
[null,null,null,null,null,"","",null,0]
[null,null,"Pedreiro com Encargos Complementares","h",0.01,22.087499999999999,0.22087499999999999,{"$f":"SUM(G99:G100)","v":1.8520250000000003},0]
[null,null,"Servente com Encargos Complementares","h",0.1,16.311500000000002,1.6311500000000003,null,0]
[null,null,null,null,null,"","",null,0]
["SF-00021",{"$f":"INDEX(Orçamentária!A:B,MATCH(Composições!A102,Orçamentária!A:A,0),2)","v":"Remoção de cortinas"},null,{"$f":"TRIM(INDEX(Orçamentária!D:D,MATCH(Composições!A102,Orçamentária!A:A,0),1))","v":"m"},null,"","",null,0]
[null,null,null,null,null,"","",null,0]
[null,null,"Ajudante especializado com encargos complementares","h",{"$f":"ROUND(1/6,4)","v":0.16669999999999999},19.3705,3.2290623499999995,{"$f":"SUM(G104:G104)","v":3.2290623499999995},0]
[null,null,null,null,null,"","",null,0]
["SF-00022",{"$f":"INDEX(Orçamentária!A:B,MATCH(Composições!A106,Orçamentária!A:A,0),2)","v":"Remoção de difusores, grelhas e acessórios de climatização"},null,{"$f":"TRIM(INDEX(Orçamentária!D:D,MATCH(Composições!A106,Orçamentária!A:A,0),1))","v":"un"},null,"","",null,0]
[null,null,null,null,null,"","",null,0]
[null,null,"Ajudante de operação em geral com encargos complementares","h",0.6,17.470500000000001,10.4823,{"$f":"SUM(G108:G109)","v":20.269200000000001},0]
[null,null,"Servente com Encargos Complementares","h",0.6,16.311500000000002,9.786900000000001,null,0]
[null,null,null,null,null,"","",null,0]
["SF-00023",{"$f":"INDEX(Orçamentária!A:B,MATCH(Composições!A111,Orçamentária!A:A,0),2)","v":"Remoção de divisória de mármore ou granito"},null,{"$f":"TRIM(INDEX(Orçamentária!D:D,MATCH(Composições!A111,Orçamentária!A:A,0),1))","v":"m2"},null,"","",null,0]
[null,null,null,null,null,"","",null,0]
[null,null,"Marmorista/graniteiro com encargos complementares","h",0.6,18.420500000000001,11.052300000000001,{"$f":"SUM(G113:G114)","v":30.626100000000001},0]
[null,null,"Servente com Encargos Complementares","h",1.2,16.311500000000002,19.573800000000002,null,0]
[null,null,null,null,null,"","",null,0]
["SF-00024",{"$f":"INDEX(Orçamentária!A:B,MATCH(Composições!A116,Orçamentária!A:A,0),2)","v":"Remoção de divisórias de MDF e gesso acartonado"},null,{"$f":"TRIM(INDEX(Orçamentária!D:D,MATCH(Composições!A116,Orçamentária!A:A,0),1))","v":"m2"},null,"","",null,0]
[null,null,null,null,null,"","",null,0]
[null,null,"Carpinteiro de esquadria com encargos complementares","h",1.2,21.916499999999999,26.299799999999998,{"$f":"SUM(G118:G118)","v":26.299799999999998},0]
[null,null,null,null,null,"","",null,0]
["SF-00025",{"$f":"INDEX(Orçamentária!A:B,MATCH(Composições!A120,Orçamentária!A:A,0),2)","v":"Remoção de dutos/tubulações"},null,{"$f":"TRIM(INDEX(Orçamentária!D:D,MATCH(Composições!A120,Orçamentária!A:A,0),1))","v":"m"},null,"","",null,0]
[null,null,null,null,null,"","",null,0]
[null,null,"Encanador ou Bombeiro Hidráulico com Encargos Complementares","h",0.17499999999999999,21.622,3.7838499999999997,{"$f":"SUM(G122:G123)","v":8.6773000000000007},0]
[null,null,"Servente com Encargos Complementares","h",0.3,16.311500000000002,4.8934500000000005,null,0]
[null,null,null,null,null,"","",null,0]
["SF-00026",{"$f":"INDEX(Orçamentária!A:B,MATCH(Composições!A125,Orçamentária!A:A,0),2)","v":"Remoção de esquadrias metálicas"},null,{"$f":"TRIM(INDEX(Orçamentária!D:D,MATCH(Composições!A125,Orçamentária!A:A,0),1))","v":"m2"},null,"","",null,0]
[null,null,null,null,null,"","",null,0]
[null,null,"Pedreiro com Encargos Complementares","h",0.05,22.087499999999999,1.1043749999999999,{"$f":"SUM(G127:G128)","v":9.2601250000000004},0]
[null,null,"Servente com Encargos Complementares","h",0.5,16.311500000000002,8.1557500000000012,null,0]
[null,null,null,null,null,"","",null,0]
["SF-00027",{"$f":"INDEX(Orçamentária!A:B,MATCH(Composições!A130,Orçamentária!A:A,0),2)","v":"Remoção de exaustor"},null,{"$f":"TRIM(INDEX(Orçamentária!D:D,MATCH(Composições!A130,Orçamentária!A:A,0),1))","v":"un"},null,"","",null,0]
[null,null,null,null,null,"","",null,0]
[null,null,"Eletricista com encargos complementares","h",0.3,22.268000000000001,6.6803999999999997,{"$f":"SUM(G132:G132)","v":6.6803999999999997},0]
[null,null,null,null,null,"","",null,0]
["SF-00028",{"$f":"INDEX(Orçamentária!A:B,MATCH(Composições!A134,Orçamentária!A:A,0),2)","v":"Remoção de fechadura/puxador de porta"},null,{"$f":"TRIM(INDEX(Orçamentária!D:D,MATCH(Composições!A134,Orçamentária!A:A,0),1))","v":"un"},null,"",{"$f":"IF(ISNUMBER(F134),E134*F134,\"\")","v":""},null,0]
[null,null,null,null,null,"","",null,0]
[null,null,"Carpinteiro de esquadria com encargos complementares","h",{"$f":"0.25","v":0.25},21.916499999999999,5.4791249999999998,{"$f":"SUM(G136:G136)","v":5.4791249999999998},0]
[null,null,null,null,null,"","",null,0]
["SF-00029",{"$f":"INDEX(Orçamentária!A:B,MATCH(Composições!A138,Orçamentária!A:A,0),2)","v":"Remoção de folha de porta e dobradiças"},null,{"$f":"TRIM(INDEX(Orçamentária!D:D,MATCH(Composições!A138,Orçamentária!A:A,0),1))","v":"un"},null,"","",null,0]
[null,null,null,null,null,"","",null,0]
[null,null,"Pedreiro com Encargos Complementares","h",0.13150000000000001,22.087499999999999,2.9045062499999998,{"$f":"SUM(G140:G141)","v":7.1161355500000001},0]
[null,null,"Servente com Encargos Complementares","h",0.25819999999999999,16.311500000000002,4.2116293000000002,null,0]
[null,null,null,null,null,"","",null,0]
["SF-00030",{"$f":"INDEX(Orçamentária!A:B,MATCH(Composições!A143,Orçamentária!A:A,0),2)","v":"Remoção de laminado melamínico (LDAP), em PVC ou vinílico"},null,{"$f":"TRIM(INDEX(Orçamentária!D:D,MATCH(Composições!A143,Orçamentária!A:A,0),1))","v":"m2"},null,"","",null,0]
[null,null,null,null,null,"","",null,0]
[null,null,"Pedreiro com Encargos Complementares","h",0.09,22.087499999999999,1.9878749999999998,{"$f":"SUM(G145:G146)","v":16.668225000000003},0]
[null,null,"Servente com Encargos Complementares","h",0.9,16.311500000000002,14.680350000000002,null,0]
[null,null,null,null,null,"","",null,0]
["SF-00031",{"$f":"INDEX(Orçamentária!A:B,MATCH(Composições!A148,Orçamentária!A:A,0),2)","v":"Remoção de louças"},null,{"$f":"TRIM(INDEX(Orçamentária!D:D,MATCH(Composições!A148,Orçamentária!A:A,0),1))","v":"un"},null,"","",null,0]
[null,null,null,null,null,"","",null,0]
[null,null,"Encanador ou Bombeiro Hidráulico com Encargos Complementares","h",0.17549999999999999,21.622,3.7946609999999996,{"$f":"SUM(G150:G151)","v":9.4188662000000001},0]
[null,null,"Servente com Encargos Complementares","h",0.3448,16.311500000000002,5.6242052000000005,null,0]
[null,null,null,null,null,"","",null,0]
["SF-00032",{"$f":"INDEX(Orçamentária!A:B,MATCH(Composições!A153,Orçamentária!A:A,0),2)","v":"Remoção de luminária"},null,{"$f":"TRIM(INDEX(Orçamentária!D:D,MATCH(Composições!A153,Orçamentária!A:A,0),1))","v":"un"},null,"","",null,0]
[null,null,null,null,null,"","",null,0]
[null,null,"Eletricista com encargos complementares","h",{"$f":"0.0183*5","v":9.1499999999999998E-2},22.268000000000001,2.0375220000000001,{"$f":"SUM(G155:G156)","v":4.9654362499999998},0]
[null,null,"Servente com Encargos Complementares","h",{"$f":"0.0359*5","v":0.17949999999999999},16.311500000000002,2.9279142500000002,null,0]
[null,null,null,null,null,"","",null,0]
[null,null,"Obs.: Remoção com reaproveitamento",null,null,"","",null,0]
[null,null,null,null,null,"","",null,0]
["SF-00033",{"$f":"INDEX(Orçamentária!A:B,MATCH(Composições!A160,Orçamentária!A:A,0),2)","v":"Remoção de metais e acessórios"},null,{"$f":"TRIM(INDEX(Orçamentária!D:D,MATCH(Composições!A160,Orçamentária!A:A,0),1))","v":"un"},null,"","",null,0]
[null,null,null,null,null,"","",null,0]
[null,null,"Encanador ou Bombeiro Hidráulico com Encargos Complementares","h",0.128,21.622,2.7676159999999999,{"$f":"SUM(G162:G163)","v":6.8683271000000001},0]
[null,null,"Servente com Encargos Complementares","h",0.25140000000000001,16.311500000000002,4.1007111000000007,null,0]
[null,null,null,null,null,"","",null,0]
["SF-00034",{"$f":"INDEX(Orçamentária!A:B,MATCH(Composições!A165,Orçamentária!A:A,0),2)","v":"Remoção de painéis de vidro temperado"},null,{"$f":"TRIM(INDEX(Orçamentária!D:D,MATCH(Composições!A165,Orçamentária!A:A,0),1))","v":"m2"},null,"","",null,0]
[null,null,null,null,null,"","",null,0]
[null,null,"Servente com Encargos Complementares","h",0.35,16.311500000000002,5.7090250000000005,{"$f":"SUM(G167:G168)","v":13.43965},0]
[null,null,"Pedreiro com Encargos Complementares","h",0.35,22.087499999999999,7.730624999999999,null,0]
[null,null,null,null,null,"","",null,0]
["SF-00035",{"$f":"INDEX(Orçamentária!A:B,MATCH(Composições!A170,Orçamentária!A:A,0),2)","v":"Remoção de película"},null,{"$f":"TRIM(INDEX(Orçamentária!D:D,MATCH(Composições!A170,Orçamentária!A:A,0),1))","v":"m2"},null,"","",null,0]
[null,null,null,null,null,"","",null,0]
[null,null,"Vidraceiro com encargos complementares","h",0.4,20.539000000000001,8.2156000000000002,{"$f":"SUM(G172:G172)","v":8.2156000000000002},0]
[null,null,null,null,null,"","",null,0]
["SF-00036",{"$f":"INDEX(Orçamentária!A:B,MATCH(Composições!A174,Orçamentária!A:A,0),2)","v":"Remoção de persianas"},null,{"$f":"TRIM(INDEX(Orçamentária!D:D,MATCH(Composições!A174,Orçamentária!A:A,0),1))","v":"m"},null,"","",null,0]
[null,null,null,null,null,"","",null,0]
[null,null,"Ajudante especializado com encargos complementares","h",{"$f":"ROUND(1/6,4)","v":0.16669999999999999},19.3705,3.2290623499999995,{"$f":"SUM(G176:G176)","v":3.2290623499999995},0]
[null,null,null,null,null,"","",null,0]
["SF-00037",{"$f":"INDEX(Orçamentária!A:B,MATCH(Composições!A178,Orçamentária!A:A,0),2)","v":"Remoção de pintura ou textura"},null,{"$f":"TRIM(INDEX(Orçamentária!D:D,MATCH(Composições!A178,Orçamentária!A:A,0),1))","v":"m2"},null,"","",null,0]
[null,null,null,null,null,"","",null,0]
[null,null,"Servente com Encargos Complementares","h",0.4,16.311500000000002,6.5246000000000013,{"$f":"SUM(G180:G180)","v":6.5246000000000013},0]
[null,null,null,null,null,"","",null,0]
["SF-00038",{"$f":"INDEX(Orçamentária!A:B,MATCH(Composições!A182,Orçamentária!A:A,0),2)","v":"Remoção de placas de forro"},null,{"$f":"TRIM(INDEX(Orçamentária!D:D,MATCH(Composições!A182,Orçamentária!A:A,0),1))","v":"m2"},null,"","",null,0]
[null,null,null,null,null,"","",null,0]
[null,null,"Montador de estrutura metálica com encargos complementares","h",{"$f":"0.0258*3","v":7.7399999999999997E-2},16.852999999999998,1.3044221999999999,{"$f":"SUM(G184:G185)","v":3.7854013500000003},0]
[null,null,"Servente com Encargos Complementares","h",{"$f":"0.0507*3","v":0.15210000000000001},16.311500000000002,2.4809791500000005,null,0]
[null,null,null,null,null,"","",null,0]
[null,null,"Obs.: remoção com reaproveitamento",null,null,"","",null,0]
[null,null,null,null,null,"","",null,0]
["SF-00039",{"$f":"INDEX(Orçamentária!A:B,MATCH(Composições!A189,Orçamentária!A:A,0),2)","v":"Remoção de quadros de elétricos ou de telecomunicações"},null,{"$f":"TRIM(INDEX(Orçamentária!D:D,MATCH(Composições!A189,Orçamentária!A:A,0),1))","v":"un"},null,"","",null,0]
[null,null,null,null,null,"","",null,0]
[null,null,"Auxiliar de eletricista com encargos complementares","h",0.5,17.366,8.6829999999999998,{"$f":"SUM(G191:G194)","v":58.216000000000001},0]
[null,null,"Eletricista com encargos complementares","h",0.5,22.268000000000001,11.134,null,0]
[null,null,"Pedreiro com Encargos Complementares","h",1,22.087499999999999,22.087499999999999,null,0]
[null,null,"Servente com Encargos Complementares","h",1,16.311500000000002,16.311500000000002,null,0]
[null,null,null,null,null,"","",null,0]
["SF-00040",{"$f":"INDEX(Orçamentária!A:B,MATCH(Composições!A196,Orçamentária!A:A,0),2)","v":"Remoção de revestimento acústico"},null,{"$f":"TRIM(INDEX(Orçamentária!D:D,MATCH(Composições!A196,Orçamentária!A:A,0),1))","v":"m2"},null,"","",null,0]
[null,null,null,null,null,"","",null,0]
[null,null,"Servente com Encargos Complementares","h",0.2,16.311500000000002,{"$f":"IF(ISNUMBER(F198),E198*F198,\"\")","v":3.2623000000000006},{"$f":"SUM(G198:G198)","v":3.2623000000000006},0]
[null,null,null,null,null,"","",null,0]
["SF-00041",{"$f":"INDEX(Orçamentária!A:B,MATCH(Composições!A200,Orçamentária!A:A,0),2)","v":"Remoção de rodapé/rodabanca de mármore ou granito"},null,{"$f":"TRIM(INDEX(Orçamentária!D:D,MATCH(Composições!A200,Orçamentária!A:A,0),1))","v":"m"},null,"","",null,0]
[null,null,null,null,null,"","",null,0]
[null,null,"Servente com Encargos Complementares","h",{"$f":"0.437*0.2","v":8.7400000000000005E-2},16.311500000000002,1.4256251000000002,{"$f":"SUM(G202:G202)","v":1.4256251000000002},0]
[null,null,null,null,null,"","",null,0]
["SF-00042",{"$f":"INDEX(Orçamentária!A:B,MATCH(Composições!A204,Orçamentária!A:A,0),2)","v":"Remoção de rodapés de madeira"},null,{"$f":"TRIM(INDEX(Orçamentária!D:D,MATCH(Composições!A204,Orçamentária!A:A,0),1))","v":"m2"},null,"","",null,0]
[null,null,null,null,null,"","",null,0]
[null,null,"Carpinteiro de formas com encargos complementares","h",0.25,21.878499999999999,5.4696249999999997,{"$f":"SUM(G206:G207)","v":5.8774125000000002},0]
[null,null,"Servente com Encargos Complementares","h",2.5000000000000001E-2,16.311500000000002,0.40778750000000008,null,0]
[null,null,null,null,null,"","",null,0]
["SF-00043",{"$f":"INDEX(Orçamentária!A:B,MATCH(Composições!A209,Orçamentária!A:A,0),2)","v":"Remoção de soleira de mármore ou granito"},null,{"$f":"TRIM(INDEX(Orçamentária!D:D,MATCH(Composições!A209,Orçamentária!A:A,0),1))","v":"m"},null,"","",null,0]
[null,null,null,null,null,"","",null,0]
[null,null,"Servente com Encargos Complementares","h",0.55000000000000004,16.311500000000002,8.971325000000002,{"$f":"SUM(G211:G211)","v":8.971325000000002},0]
[null,null,null,null,null,"","",null,0]
["SF-00044",{"$f":"INDEX(Orçamentária!A:B,MATCH(Composições!A213,Orçamentária!A:A,0),2)","v":"Remoção de split/fancolete/ACJ (equipamento unitário)"},null,{"$f":"TRIM(INDEX(Orçamentária!D:D,MATCH(Composições!A213,Orçamentária!A:A,0),1))","v":"un"},null,"","",null,0]
[null,null,null,null,null,"","",null,0]
[null,null,"Montador eletromecãnico com encargos complementares","h",1,23.065999999999999,23.065999999999999,{"$f":"SUM(G215:G216)","v":40.536500000000004},0]
[null,null,"Ajudante de operação em geral com encargos complementares","h",1,17.470500000000001,17.470500000000001,null,0]
[null,null,null,null,null,"","",null,0]
["SF-00045",{"$f":"INDEX(Orçamentária!A:B,MATCH(Composições!A218,Orçamentária!A:A,0),2)","v":"Remoção de vidro comum / espelho"},null,{"$f":"TRIM(INDEX(Orçamentária!D:D,MATCH(Composições!A218,Orçamentária!A:A,0),1))","v":"m2"},null,"","",null,0]
[null,null,null,null,null,"","",null,0]
[null,null,"Servente com Encargos Complementares","h",0.2,16.311500000000002,3.2623000000000006,{"$f":"SUM(G220:G221)","v":13.5318},0]
[null,null,"Vidraceiro com encargos complementares","h",0.5,20.539000000000001,10.269500000000001,null,0]
[null,null,null,null,null,"","",null,0]
["SF-00046",{"$f":"INDEX(Orçamentária!A:B,MATCH(Composições!A223,Orçamentária!A:A,0),2)","v":"Retirada de entulhos"},null,{"$f":"TRIM(INDEX(Orçamentária!D:D,MATCH(Composições!A223,Orçamentária!A:A,0),1))","v":"m3"},null,"","",null,0]
[null,null,null,null,null,"","",null,0]
[null,null,"Servente com Encargos Complementares","h",1,16.311500000000002,16.311500000000002,{"$f":"SUM(G225:G225)","v":16.311500000000002},0]
[null,null,null,null,null,"","",null,0]
["SF-00048",{"$f":"INDEX(Orçamentária!A:B,MATCH(Composições!A227,Orçamentária!A:A,0),2)","v":"Andaime fachadeiro"},null,{"$f":"TRIM(INDEX(Orçamentária!D:D,MATCH(Composições!A227,Orçamentária!A:A,0),1))","v":"m2 x mês"},null,"","",null,0]
[null,null,null,null,null,"","",null,0]
[null,null,"LOCACAO DE ANDAIME METALICO TIPO FACHADEIRO, LARGURA DE 1,20 M, ALTURA POR PECA DE 2,0 M, INCLUINDO SAPATAS E ITENS NECESSARIOS A INSTALACAO","M2XMES",1,3.7905000000000002,3.7905000000000002,{"$f":"SUM(G229:G229)","v":3.7905000000000002},0]
[null,null,null,null,null,"","",null,0]
["SF-00049",{"$f":"INDEX(Orçamentária!A:B,MATCH(Composições!A231,Orçamentária!A:A,0),2)","v":"Andaime tubular (aluguel/mês)"},null,{"$f":"TRIM(INDEX(Orçamentária!D:D,MATCH(Composições!A231,Orçamentária!A:A,0),1))","v":"m x mês"},null,"","",null,0]
[null,null,null,null,null,"","",null,0]
[null,null,"LOCACAO DE ANDAIME METALICO TUBULAR DE ENCAIXE, TIPO DE TORRE, COM LARGURA DE 1 ATE 1,5 M E ALTURA DE *1,00* M","MXMES",1,11.399999999999999,11.399999999999999,{"$f":"SUM(G233:G233)","v":11.399999999999999},0]
[null,null,null,null,null,"","",null,0]
["SF-00051",{"$f":"INDEX(Orçamentária!A:B,MATCH(Composições!A235,Orçamentária!A:A,0),2)","v":"Corda de poliamida 12 mm tipo bombeiro, para trabalho em altura"},null,{"$f":"TRIM(INDEX(Orçamentária!D:D,MATCH(Composições!A235,Orçamentária!A:A,0),1))","v":"m"},null,"","",null,0]
[null,null,null,null,null,"","",null,0]
[null,null,"CORDA DE POLIAMIDA 12 MM TIPO BOMBEIRO, PARA TRABALHO EM ALTURA","100m",0.01,466.3075,4.6630750000000001,{"$f":"SUM(G237:G237)","v":4.6630750000000001},0]
[null,null,null,null,null,"","",null,0]
["SF-00057",{"$f":"INDEX(Orçamentária!A:B,MATCH(Composições!A239,Orçamentária!A:A,0),2)","v":"Isolamento de obra com tela plástica com malha de 5mm e estrutura de madeira pontaleteada"},null,{"$f":"TRIM(INDEX(Orçamentária!D:D,MATCH(Composições!A239,Orçamentária!A:A,0),1))","v":"m2"},null,"","",null,0]
[null,null,null,null,null,"","",null,0]
[null,null,"Servente com Encargos Complementares","h",0.15,16.311500000000002,2.4467250000000003,{"$f":"SUM(G241:G245)","v":19.443649999999998},0]
[null,null,"Carpinteiro de formas com encargos complementares","h",0.3,21.878499999999999,6.5635499999999993,null,0]
[null,null,"PONTALETE DE MADEIRA NAO APARELHADA *7,5 X 7,5* CM (3 X 3 \") PINUS, MISTA OU EQUIVALENTE DA REGIAO","m",1.5,4.9209999999999994,7.3814999999999991,null,0]
[null,null,"Prego de aco polido com cabeca 18 x 27 (2 1/2 x 10)","kg",0.1,11.399999999999999,1.1399999999999999,null,0]
[null,null,"TELA PLASTICA LARANJA, TIPO TAPUME PARA SINALIZACAO, MALHA RETANGULAR, ROLO 1.20 X 50 M (L X C)","m",1.1499999999999999,1.6624999999999999,1.9118749999999998,null,0]
[null,null,null,null,null,"","",null,0]
["SF-00070",{"$f":"INDEX(Orçamentária!A:B,MATCH(Composições!A247,Orçamentária!A:A,0),2)","v":"Tapume"},null,{"$f":"TRIM(INDEX(Orçamentária!D:D,MATCH(Composições!A247,Orçamentária!A:A,0),1))","v":"m2"},null,"","",null,0]
[null,null,null,null,null,"","",null,0]
[null,null,"Carpinteiro de formas com encargos complementares","h",0.4,21.878499999999999,8.7514000000000003,{"$f":"SUM(G249:G260)","v":55.573916999999994},0]
[null,null,"Servente com Encargos Complementares","h",0.4,16.311500000000002,6.5246000000000013,null,0]
[null,null,"Chapa de madeira compensada resinada 1,10 x 2,20 m # 6 mm","m2",1.1000000000000001,0,0,null,0]
[null,null,"PONTALETE DE MADEIRA NAO APARELHADA *7,5 X 7,5* CM (3 X 3 \") PINUS, MISTA OU EQUIVALENTE DA REGIAO","m",1.6,4.9209999999999994,7.8735999999999997,null,0]
[null,null,"SARRAFO DE MADEIRA NAO APARELHADA *2,5 X 10 CM, MACARANDUBA, ANGELIM OU EQUIVALENTE DA REGIAO","m",1.65,8.2649999999999988,13.637249999999998,null,0]
[null,null,"TABUA DE MADEIRA NAO APARELHADA *2,5 X 30* CM, CEDRINHO OU EQUIVALENTE DA REGIAO","m",0.5,13.746499999999999,6.8732499999999996,null,0]
[null,null,"PREGO DE ACO POLIDO COM CABECA 18 X 30 (2 3/4 X 10)","kg",0.1,11.589999999999998,1.1589999999999998,null,0]
[null,null,"Ajudante de pintor com encargos complementares","h",1.5E-3,18.515499999999999,2.7773249999999999E-2,null,0]
[null,null,"Pintor com encargos complementares","h",0.4,23.027999999999999,9.2111999999999998,null,0]
[null,null,"Oleo de linhaca","L",2.2499999999999999E-2,16.368500000000001,0.36829125000000001,null,0]
[null,null,"Cal hidratada para pintura","kg",0.6,1.2635000000000001,0.7581,null,0]
[null,null,"Pigmento em po para argamassas, cimentos e outros","kg",1.4999999999999999E-2,25.963499999999996,0.38945249999999992,null,0]
[null,null,null,null,null,"","",null,0]
["SF-00073",{"$f":"INDEX(Orçamentária!A:B,MATCH(Composições!A262,Orçamentária!A:A,0),2)","v":"Limpeza final de obra"},null,{"$f":"TRIM(INDEX(Orçamentária!D:D,MATCH(Composições!A262,Orçamentária!A:A,0),1))","v":"m2"},null,"",{"$f":"IF(ISNUMBER(F262),E262*F262,\"\")","v":""},null,0]
[null,null,null,null,null,"","",null,0]
[null,null,"Servente com Encargos Complementares","h",2.5000000000000001E-2,16.311500000000002,0.40778750000000008,{"$f":"SUM(G264:G265)","v":1.9900030000000002},0]
[null,null,"Servente com Encargos Complementares","h",9.7000000000000003E-2,16.311500000000002,1.5822155000000002,null,0]
[null,null,null,null,null,"","",null,0]
["SF-00074",{"$f":"INDEX(Orçamentária!A:B,MATCH(Composições!A267,Orçamentária!A:A,0),2)","v":"Abertura/fechamento rasgo em alvenaria"},null,{"$f":"TRIM(INDEX(Orçamentária!D:D,MATCH(Composições!A267,Orçamentária!A:A,0),1))","v":"m"},null,"","",null,0]
[null,null,null,null,null,"","",null,0]
[null,null,"Auxiliar de eletricista com encargos complementares","h",3.4000000000000002E-2,17.366,0.59044400000000008,{"$f":"SUM(G269:G273)","v":16.268622807758501},0]
[null,null,"Eletricista com encargos complementares","h",0.216,22.268000000000001,4.8098879999999999,null,0]
[null,null,"Auxiliar de encanador ou bombeiro hidráulico com encargos complementares","h",5.5E-2,16.891000000000002,0.92900500000000008,null,0]
[null,null,"Encanador ou Bombeiro Hidráulico com Encargos Complementares","h",0.39100000000000001,21.622,8.4542020000000004,null,0]
[null,null,"ARGAMASSA TRAÇO 1:3 (EM VOLUME DE CIMENTO E AREIA MÉDIA ÚMIDA), PREPARO MANUAL. AF_08/2019","m3",3.0000000000000001E-3,495.02793591949995,1.4850838077584998,null,0]
[null,null,null,null,null,"","",null,0]
["SF-00075",{"$f":"INDEX(Orçamentária!A:B,MATCH(Composições!A275,Orçamentária!A:A,0),2)","v":"Furo em concreto de até 75mm de diâmetro"},null,{"$f":"TRIM(INDEX(Orçamentária!D:D,MATCH(Composições!A275,Orçamentária!A:A,0),1))","v":"un"},null,"","",null,0]
[null,null,null,null,null,"","",null,0]
[null,null,"Martelete ou rompedor pneumático manual, 28 kg, com silenciador - CHP diurno. AF_07/2016","chp",0.58699999999999997,20.035499999999999,11.760838499999998,{"$f":"SUM(G277:G280)","v":81.449000499999997},0]
[null,null,"Martelete ou rompedor pneumático manual, 28 kg, com silenciador - CHI diurno. AF_07/2016","chi",1.29,18.724499999999999,24.154605,null,0]
[null,null,"Auxiliar de encanador ou bombeiro hidráulico com encargos complementares","h",0.29299999999999998,16.891000000000002,4.9490630000000007,null,0]
[null,null,"Encanador ou Bombeiro Hidráulico com Encargos Complementares","h",1.877,21.622,40.584493999999999,null,0]
[null,null,null,null,null,"","",null,0]
["SF-00076",{"$f":"INDEX(Orçamentária!A:B,MATCH(Composições!A282,Orçamentária!A:A,0),2)","v":"Furo em concreto para diâmetros maiores que 75mm"},null,{"$f":"TRIM(INDEX(Orçamentária!D:D,MATCH(Composições!A282,Orçamentária!A:A,0),1))","v":"un"},null,"","",null,0]
[null,null,null,null,null,"","",null,0]
[null,null,"Martelete ou rompedor pneumático manual, 28 kg, com silenciador - CHP diurno. AF_07/2016","chp",0.75,20.035499999999999,15.026624999999999,{"$f":"SUM(G284:G287)","v":104.02793549999998},0]
[null,null,"Martelete ou rompedor pneumático manual, 28 kg, com silenciador - CHI diurno. AF_07/2016","chi",1.647,18.724499999999999,30.8392515,null,0]
[null,null,"Auxiliar de encanador ou bombeiro hidráulico com encargos complementares","h",0.375,16.891000000000002,6.3341250000000002,null,0]
[null,null,"Encanador ou Bombeiro Hidráulico com Encargos Complementares","h",2.3969999999999998,21.622,51.827933999999992,null,0]
[null,null,null,null,null,"","",null,0]
["SF-00077",{"$f":"INDEX(Orçamentária!A:B,MATCH(Composições!A289,Orçamentária!A:A,0),2)","v":"Concreto virado em betoneira, fck = 15 MPa"},null,{"$f":"TRIM(INDEX(Orçamentária!D:D,MATCH(Composições!A289,Orçamentária!A:A,0),1))","v":"m3"},null,"","",null,0]
[null,null,null,null,null,"","",null,0]
[null,null,"LANÇAMENTO COM USO DE BALDES, ADENSAMENTO E ACABAMENTO DE CONCRETO EM ESTRUTURAS. AF_12/2015","m3",1,172.79274500000002,172.79274500000002,{"$f":"SUM(G291:G300)","v":544.11849042640006},0]
[null,null,"Areia media - posto jazida/fornecedor (retirado na jazida, sem transporte)","m3",0.80500000000000005,93.8125,75.519062500000004,null,0]
[null,null,"Cimento Portland composto CP II-32","kg",273.06,0.44649999999999995,121.92128999999998,null,0]
[null,null,"Pedra britada n. 1 (9,5 a 19 mm) posto pedreira/fornecedor, sem frete","m3",0.57899999999999996,103.48350000000001,59.916946500000002,null,0]
[null,null,"Operador de betoneira estacionária/misturador com encargos complementares","h",1.47,16.5015,24.257204999999999,null,0]
[null,null,"Servente com Encargos Complementares","h",2.33,16.311500000000002,38.005795000000006,null,0]
[null,null,"BETONEIRA CAPACIDADE NOMINAL DE 400 L, CAPACIDADE DE MISTURA 280 L, MOTOR ELÉTRICO TRIFÁSICO POTÊNCIA DE 2 CV, SEM CARREGADOR - CHP DIURNO. AF_10/2014","chp",0.76,1.0924999999999998,0.83029999999999982,null,0]
[null,null,"BETONEIRA CAPACIDADE NOMINAL DE 400 L, CAPACIDADE DE MISTURA 280 L, MOTOR ELÉTRICO TRIFÁSICO POTÊNCIA DE 2 CV, SEM CARREGADOR - CHI DIURNO. AF_10/2014","chi",0.71,0.2185,0.155135,null,0]
[null,null,"CARGA, MANOBRA E DESCARGA DE SOLOS E MATERIAIS GRANULARES EM CAMINHÃO BASCULANTE 6 M³ - CARGA COM PÁ CARREGADEIRA (CAÇAMBA DE 1,7 A 2,8 M³ / 128 HP) E DESCARGA LIVRE (UNIDADE: M3). AF_07/2020","M3",{"$f":"1*(E292+E294)","v":1.3839999999999999},4.9035180999999994,6.7864690503999991,null,0]
[null,null,"TRANSPORTE COM CAMINHÃO BASCULANTE DE 6 M3, EM VIA URBANA PAVIMENTADA, DMT ATÉ 30 KM (UNIDADE: M3xKM). AF_01/2018","M3xKM",{"$f":"(E292+E294)*20","v":27.68},1.5871944499999999,43.933542375999998,null,0]
[null,null,null,null,null,"","",null,0]
[null,null,"Obs.: Considerando fornecedor de areia e brita a 20 km do Senado Federal.",null,null,"","",null,0]
[null,null,null,null,null,"","",null,0]
["SF-00078",{"$f":"INDEX(Orçamentária!A:B,MATCH(Composições!A304,Orçamentária!A:A,0),2)","v":"Concreto virado em betoneira, fck = 25MPa"},null,{"$f":"TRIM(INDEX(Orçamentária!D:D,MATCH(Composições!A304,Orçamentária!A:A,0),1))","v":"m3"},null,"","",null,0]
[null,null,null,null,null,"","",null,0]
[null,null,"LANÇAMENTO COM USO DE BALDES, ADENSAMENTO E ACABAMENTO DE CONCRETO EM ESTRUTURAS. AF_12/2015","m3",1,172.79274500000002,172.79274500000002,{"$f":"SUM(G306:G315)","v":574.88684074360003},0]
[null,null,"Areia media - posto jazida/fornecedor (retirado na jazida, sem transporte)","m3",0.72299999999999998,93.8125,67.826437499999997,null,0]
[null,null,"Cimento Portland composto CP II-32","kg",362.66,0.44649999999999995,161.92768999999998,null,0]
[null,null,"Pedra britada n. 1 (9,5 a 19 mm) posto pedreira/fornecedor, sem frete","m3",0.59299999999999997,103.48350000000001,61.3657155,null,0]
[null,null,"Servente com Encargos Complementares","h",{"$f":"2.31","v":2.31},16.311500000000002,37.679565000000004,null,0]
[null,null,"Operador de betoneira estacionária/misturador com encargos complementares","h",1.46,16.5015,24.092189999999999,null,0]
[null,null,"BETONEIRA CAPACIDADE NOMINAL DE 400 L, CAPACIDADE DE MISTURA 280 L, MOTOR ELÉTRICO TRIFÁSICO POTÊNCIA DE 2 CV, SEM CARREGADOR - CHP DIURNO. AF_10/2014","chp",0.75,1.0924999999999998,0.81937499999999985,null,0]
[null,null,"BETONEIRA CAPACIDADE NOMINAL DE 400 L, CAPACIDADE DE MISTURA 280 L, MOTOR ELÉTRICO TRIFÁSICO POTÊNCIA DE 2 CV, SEM CARREGADOR - CHI DIURNO. AF_10/2014","chi",0.71,0.2185,0.155135,null,0]
[null,null,"CARGA, MANOBRA E DESCARGA DE SOLOS E MATERIAIS GRANULARES EM CAMINHÃO BASCULANTE 6 M³ - CARGA COM PÁ CARREGADEIRA (CAÇAMBA DE 1,7 A 2,8 M³ / 128 HP) E DESCARGA LIVRE (UNIDADE: M3). AF_07/2020","M3",{"$f":"1*(E307+E309)","v":1.3159999999999998},4.9035180999999994,6.4530298195999984,null,0]
[null,null,"TRANSPORTE COM CAMINHÃO BASCULANTE DE 6 M3, EM VIA URBANA PAVIMENTADA, DMT ATÉ 30 KM (UNIDADE: M3xKM). AF_01/2018","M3xKM",{"$f":"(E307+E309)*20","v":26.319999999999997},1.5871944499999999,41.774957923999992,null,0]
[null,null,null,null,null,"","",null,0]
[null,null,"Obs.: Considerando fornecedor de areia e brita a 20 km do Senado Federal.",null,null,"","",null,0]
[null,null,null,null,null,"","",null,0]
["SF-00079",{"$f":"INDEX(Orçamentária!A:B,MATCH(Composições!A319,Orçamentária!A:A,0),2)","v":"Escoramento metálico"},null,{"$f":"TRIM(INDEX(Orçamentária!D:D,MATCH(Composições!A319,Orçamentária!A:A,0),1))","v":"m2 x mês"},null,"","",null,0]
[null,null,null,null,null,"","",null,0]
[null,null,"LOCACAO DE ESCORA METALICA TELESCOPICA, COM ALTURA REGULAVEL DE *1,80* A *3,20*M, COM CAPACIDADE DE CARGA DE NO MINIMO 1000 KGF (10 KN), INCLUSO TRIPE E FORCADO","MES",0.85,5.2154999999999996,4.4331749999999994,{"$f":"SUM(G321:G323)","v":13.539874999999999},0]
[null,null,"Ajudante de carpinteiro com encargos complementares","h",0.2,18.468,3.6936,null,0]
[null,null,"PONTALETE DE MADEIRA NAO APARELHADA *7,5 X 7,5* CM (3 X 3 \") PINUS, MISTA OU EQUIVALENTE DA REGIAO","m",1.1000000000000001,4.9209999999999994,5.4131,null,0]
[null,null,null,null,null,"","",null,0]
["SF-00080",{"$f":"INDEX(Orçamentária!A:B,MATCH(Composições!A325,Orçamentária!A:A,0),2)","v":"Estrutura metálica em aço"},null,{"$f":"TRIM(INDEX(Orçamentária!D:D,MATCH(Composições!A325,Orçamentária!A:A,0),1))","v":"kg"},null,"","",null,0]
[null,null,null,null,null,"",{"$f":"IF(ISNUMBER(F326),E326*F326,\"\")","v":""},null,0]
[null,null,"ACETILENO (RECARGA PARA CILINDRO DE CONJUNTO OXICORTE GRANDE)","kg",0.01,52.762999999999998,0.52763000000000004,{"$f":"SUM(G327:G338)","v":11.210854999999999},0]
[null,null,"CANTONEIRA ACO ABAS IGUAIS (QUALQUER BITOLA), ESPESSURA ENTRE 1/8\" E 1/4\"","kg",0.27,4.8449999999999998,1.3081499999999999,null,0]
[null,null,"Chapa de aco USI-SAC 350, de (2,44x6)m, com espessura de 1/2\"","kg",0.33,0,0,null,0]
[null,null,"ELETRODO REVESTIDO AWS - E7018, DIAMETRO IGUAL A 4,00 MM","kg",2.5000000000000001E-2,16.985999999999997,0.42464999999999997,null,0]
[null,null,"OXIGENIO, RECARGA PARA CILINDRO DE CONJUNTO OXICORTE GRANDE","m3",0.05,11.561499999999999,0.57807500000000001,null,0]
[null,null,"Perfil \"H\" de aco carbono, padrao americano, de (6\"x6\")","kg",0.4,0,0,null,0]
[null,null,"Montador de estrutura metálica com encargos complementares","h",{"$f":"0.2+0.2","v":0.4},16.852999999999998,6.7411999999999992,null,0]
[null,null,"Servente com Encargos Complementares","h",0.1,16.311500000000002,1.6311500000000003,null,0]
[null,null,"Perda em perfil de aco carbono tipo \"H\", de 6\"x6\" - 5% - equivalente ao elementar MAT095450","kg",0.05,0,0,null,0]
[null,null,"Repintura interna ou externa sobre ferro, inclusive lixamento, limpeza, demao de tinta anti oxido Ferroloide ou equivalente e outra de tinta alquidica esmaltada Condor ou equivalente.","m2",0.05,0,0,null,0]
[null,null,"Retificador de solda, eletrico, de 430A. Custo horario corrido.","h",2.5000000000000001E-2,0,0,null,0]
[null,null,"Talha Guincho manual de 10Kg, sem operador, com as seguintes especificacoes minimas: capacidade de icamento de 1500Kg e de tracao de 1800Kg, cabo de aco com curso ilimitado, alavanca, gancho e carretel. Custo horario corrido.","h",0.5,0,0,null,0]
[null,null,null,null,null,"","",null,0]
["SF-00081",{"$f":"INDEX(Orçamentária!A:B,MATCH(Composições!A340,Orçamentária!A:A,0),2)","v":"Forma para estruturas de concreto"},null,{"$f":"TRIM(INDEX(Orçamentária!D:D,MATCH(Composições!A340,Orçamentária!A:A,0),1))","v":"m2"},null,"","",null,0]
[null,null,null,null,null,"","",null,0]
[null,null,"DESMOLDANTE PROTETOR PARA FORMAS DE MADEIRA, DE BASE OLEOSA EMULSIONADA EM AGUA","L",0.01,4.9685000000000006,4.9685000000000007E-2,{"$f":"SUM(G342:G348)","v":119.87395810999999},0]
[null,null,"TABUA DE MADEIRA NAO APARELHADA *2,5 X 20* CM, CEDRINHO OU EQUIVALENTE DA REGIAO","M",0.47399999999999998,9.4049999999999994,4.4579699999999995,null,0]
[null,null,"PREGO DE ACO POLIDO COM CABECA DUPLA 17 X 27 (2 1/2 X 11)","KG",4.9000000000000002E-2,14.307,0.70104300000000008,null,0]
[null,null,"AJUDANTE DE CARPINTEIRO COM ENCARGOS COMPLEMENTARES","H",0.20499999999999999,18.468,3.7859399999999996,null,0]
[null,null,"CARPINTEIRO DE FORMAS COM ENCARGOS COMPLEMENTARES","H",1.1200000000000001,21.878499999999999,24.503920000000001,null,0]
[null,null,"FABRICAÇÃO DE FÔRMA PARA VIGAS, EM CHAPA DE MADEIRA COMPENSADA RESINADA, E = 17 MM. AF_09/2020","M2",0.621,76.607049999999973,47.572978049999982,null,0]
[null,null,"FABRICAÇÃO DE ESCORAS DE VIGA DO TIPO GARFO, EM MADEIRA. AF_09/2020","M",1.8160000000000001,21.366972500000003,38.802422060000005,null,0]
[null,null,null,null,null,"","",null,0]
["SF-00082",{"$f":"INDEX(Orçamentária!A:B,MATCH(Composições!A350,Orçamentária!A:A,0),2)","v":"Verga/contraverga/cinta em bloco de concreto canaleta 11,5 x 19 x 39 cm"},null,{"$f":"TRIM(INDEX(Orçamentária!D:D,MATCH(Composições!A350,Orçamentária!A:A,0),1))","v":"m"},null,"","",null,0]
[null,null,null,null,null,"","",null,0]
[null,null,"Servente com Encargos Complementares","h",0.4,16.311500000000002,6.5246000000000013,{"$f":"SUM(G352:G360)","v":19.523378142000002},0]
[null,null,"Pedreiro Com Encargos Complementares","h",0.3,22.087499999999999,6.6262499999999998,null,0]
[null,null,"Areia media - posto jazida/fornecedor (retirado na jazida, sem transporte)","m3",0.01,93.8125,0.93812499999999999,null,0]
[null,null,"Pedra britada n. 2 (19 a 38 mm) posto pedreira/fornecedor, sem frete","m3",0.01,103.474,1.03474,null,0]
[null,null,"Cimento Portland composto CP II-32","kg",2.0099999999999998,0.44649999999999995,0.89746499999999985,null,0]
[null,null,"Bloco de concreto tipo canaleta 11,5 x 19 x 39 cm","un ",2.5,0,0,null,0]
[null,null,"Aco CA-50, 10,0 mm, vergalhao","kg",0.5,5.5385,2.76925,null,0]
[null,null,"CARGA, MANOBRA E DESCARGA DE SOLOS E MATERIAIS GRANULARES EM CAMINHÃO BASCULANTE 6 M³ - CARGA COM PÁ CARREGADEIRA (CAÇAMBA DE 1,7 A 2,8 M³ / 128 HP) E DESCARGA LIVRE (UNIDADE: M3). AF_07/2020","M3",{"$f":"1*(E354+E355)","v":0.02},4.9035180999999994,9.8070361999999994E-2,null,0]
[null,null,"TRANSPORTE COM CAMINHÃO BASCULANTE DE 6 M3, EM VIA URBANA PAVIMENTADA, DMT ATÉ 30 KM (UNIDADE: M3xKM). AF_01/2018","M3xKM",{"$f":"(E354+E355)*20","v":0.4},1.5871944499999999,0.63487778000000006,null,0]
[null,null,null,null,null,"","",null,0]
[null,null,"Obs.: Considerando fornecedor de areia e brita a 20 km do Senado Federal.",null,null,"","",null,0]
[null,null,null,null,null,"","",null,0]
["SF-00083",{"$f":"INDEX(Orçamentária!A:B,MATCH(Composições!A364,Orçamentária!A:A,0),2)","v":"Impermeabilização de superfície com revestimento bicomponente semi flexível"},null,{"$f":"TRIM(INDEX(Orçamentária!D:D,MATCH(Composições!A364,Orçamentária!A:A,0),1))","v":"m2"},null,"","",null,0]
[null,null,null,null,null,"","",null,0]
[null,null,"Argamassa polimerica impermeabilizante semiflexivel, bicomponente (membrana impermeabilizante acrilica)","kg",3.2,2.375,7.6000000000000005,{"$f":"SUM(G366:G368)","v":21.442564000000001},0]
[null,null,"Ajudante especializado com encargos complementares","h",0.108,19.3705,2.0920139999999998,null,0]
[null,null,"Impermeabilizador com encargos complementares","h",0.53200000000000003,22.087499999999999,11.75055,null,0]
[null,null,null,null,null,"","",null,0]
["SF-00084",{"$f":"INDEX(Orçamentária!A:B,MATCH(Composições!A370,Orçamentária!A:A,0),2)","v":"Alvenaria de vedação"},null,{"$f":"TRIM(INDEX(Orçamentária!D:D,MATCH(Composições!A370,Orçamentária!A:A,0),1))","v":"m2"},null,"","",null,0]
[null,null,null,null,null,"","",null,0]
[null,null,"BLOCO CERAMICO VAZADO PARA ALVENARIA DE VEDACAO, DE 9 X 19 X 19 CM (L X A X C)","mil",2.7900000000000001E-2,783.71199999999999,21.865564800000001,{"$f":"SUM(G372:G377)","v":68.554339186086807},0]
[null,null,"Tela de aco soldada galvanizada/zincada para alvenaria, fio D = *1,20 a 1,70* mm, malha 15 x 15 mm, (C x L) *50 x 7,5* cm","m",0.42,1.6909999999999998,0.71021999999999985,null,0]
[null,null,"Pino de aco com furo, haste = 27 mm (acao direta)","cento",5.0000000000000001E-3,32.423500000000004,0.16211750000000003,null,0]
[null,null,"ARGAMASSA TRAÇO 1:2:8 (EM VOLUME DE CIMENTO, CAL E AREIA MÉDIA ÚMIDA) PARA EMBOÇO/MASSA ÚNICA/ASSENTAMENTO DE ALVENARIA DE VEDAÇÃO, PREPARO MECÂNICO COM BETONEIRA 400 L. AF_08/2019","m3",9.7999999999999997E-3,447.26371286599993,4.3831843860867989,null,0]
[null,null,"Pedreiro com Encargos Complementares","h",1.37,22.087499999999999,30.259875000000001,null,0]
[null,null,"Servente com Encargos Complementares","h",0.68500000000000005,16.311500000000002,11.173377500000003,null,0]
[null,null,null,null,null,"","",null,0]
["SF-00085",{"$f":"INDEX(Orçamentária!A:B,MATCH(Composições!A379,Orçamentária!A:A,0),2)","v":"Fechamento ou shaft em gesso acartonado tipo drywall"},null,{"$f":"TRIM(INDEX(Orçamentária!D:D,MATCH(Composições!A379,Orçamentária!A:A,0),1))","v":"m2"},null,"","",null,0]
[null,null,null,null,null,"","",null,0]
[null,null,"Pino de aco com arruela conica, diametro arruela = *23* mm e Comp haste = *27* mm (acao indireta)","cento",2.4299999999999999E-2,37.715000000000003,0.91647450000000008,{"$f":"SUM(G381:G391)","v":38.498479249999995},0]
[null,null,"Chapa de gesso acartonado, Standard (ST), cor branca, E = 12,5 mm, 1200 x 2400 mm (L x C)","m2",1.0529999999999999,12.188499999999999,12.834490499999999,null,0]
[null,null,"Perfil guia, formato U, em aco zincado, para estrutura parede drywall, E = 0,5 mm, 70 x 3000 mm (L x C)","m",0.76039999999999996,4.4649999999999999,3.3951859999999998,null,0]
[null,null,"Perfil montante, formato C, em aco zincado, para estrutura parede drywall, E = 0,5 mm, 70 x 3000 mm (L x C)","m",1.9910000000000001,5.0634999999999994,10.081428499999999,null,0]
[null,null,"Fita de papel microperfurado, 50 x 150 mm, para tratamento de juntas de chapa de gesso para drywall","m",1.2513000000000001,0.13300000000000001,0.16642290000000001,null,0]
[null,null,"Fita de papel reforcada com lamina de metal para reforco de cantos de chapa de gesso para drywall","m",0.74070000000000003,1.8049999999999999,1.3369635,null,0]
[null,null,"Massa de rejunte em po para drywall, a base de gesso, secagem rapida, para tratamento de juntas de chapa de gesso (com adicao de agua)","kg",0.51639999999999997,2.4224999999999999,1.2509789999999998,null,0]
[null,null,"Parafuso dry wall, em aco fosfatizado, cabeca trombeta e ponta agulha (TA), comprimento 25 mm","un",10.0039,7.5999999999999998E-2,0.76029639999999998,null,0]
[null,null,"Parafuso dry wall, em aco zincado, cabeca lentilha e ponta broca (LB), largura 4,2 mm, comprimento 13 mm","un",0.80759999999999998,0.18049999999999999,0.14577179999999998,null,0]
[null,null,"Montador de estrutura metálica com encargos complementares","h",0.36359999999999998,16.852999999999998,{"$f":"IF(ISNUMBER(F390),E390*F390,\"\")","v":6.1277507999999985},null,0]
[null,null,"Servente com Encargos Complementares","h",9.0899999999999995E-2,16.311500000000002,1.4827153500000001,null,0]
[null,null,null,null,null,"","",null,0]
["SF-00086",{"$f":"INDEX(Orçamentária!A:B,MATCH(Composições!A393,Orçamentária!A:A,0),2)","v":"Fixação (encunhamento) de Alvenaria de Vedação"},null,{"$f":"TRIM(INDEX(Orçamentária!D:D,MATCH(Composições!A393,Orçamentária!A:A,0),1))","v":"m"},null,"","",null,0]
[null,null,null,null,null,"","",null,0]
[null,null,"TIJOLO CERAMICO MACICO COMUM *5 X 10 X 20* CM (L X A X C)","un",11.2,0.67449999999999999,7.5543999999999993,{"$f":"SUM(G395:G398)","v":23.2085424882636},0]
[null,null,"ARGAMASSA TRAÇO 1:2:9 (EM VOLUME DE CIMENTO, CAL E AREIA MÉDIA ÚMIDA) PARA EMBOÇO/MASSA ÚNICA/ASSENTAMENTO DE ALVENARIA DE VEDAÇÃO, PREPARO MECÂNICO COM BETONEIRA 600 L. AF_08/2019","m3",5.1999999999999998E-3,430.929997743,2.2408359882636,null,0]
[null,null,"Pedreiro com Encargos Complementares","h",0.52900000000000003,22.087499999999999,11.6842875,null,0]
[null,null,"Servente com Encargos Complementares","h",0.106,16.311500000000002,1.7290190000000003,null,0]
[null,null,null,null,null,"","",null,0]
["SF-00087",{"$f":"INDEX(Orçamentária!A:B,MATCH(Composições!A400,Orçamentária!A:A,0),2)","v":"Parede em gesso acartonado (drywall)"},null,{"$f":"TRIM(INDEX(Orçamentária!D:D,MATCH(Composições!A400,Orçamentária!A:A,0),1))","v":"m2"},null,"","",null,0]
[null,null,null,null,null,"","",null,0]
[null,null,"Pino De Aco Com Arruela Conica, Diametro Arruela = *23* Mm E Comp Haste = *27* Mm (Acao Indireta)","cento",2.4299999999999999E-2,37.715000000000003,0.91647450000000008,{"$f":"SUM(G402:G412)","v":57.304791350000002},0]
[null,null,"Chapa De Gesso Acartonado, Standard (St), Cor Branca, E = 12,5 Mm, 1200 X 2400 Mm (L X C)","m2",2.1059999999999999,12.188499999999999,25.668980999999999,null,0]
[null,null,"Perfil Guia, Formato U, Em Aco Zincado, Para Estrutura Parede Drywall, E = 0,5 Mm, 70 X 3000 Mm (L X C)","m",0.76039999999999996,4.4649999999999999,3.3951859999999998,null,0]
[null,null,"Perfil Montante, Formato C, Em Aco Zincado, Para Estrutura Parede Drywall, E = 0,5 Mm, 70 X 3000 Mm (L X C)","m",1.9910000000000001,5.0634999999999994,10.081428499999999,null,0]
[null,null,"Fita De Papel Microperfurado, 50 X 150 Mm, Para Tratamento De Juntas De Chapa De Gesso Para Drywall","m",2.5026999999999999,0.13300000000000001,0.33285910000000002,null,0]
[null,null,"Fita De Papel Reforcada Com Lamina De Metal Para Reforco De Cantos De Chapa De Gesso Para Drywall","m",0.74070000000000003,1.8049999999999999,1.3369635,null,0]
[null,null,"Massa De Rejunte Em Po Para Drywall, A Base De Gesso, Secagem Rapida, Para Tratamento De Juntas De Chapa De Gesso (Com Adicao De Agua)","kg",1.0327,2.4224999999999999,2.5017157499999998,null,0]
[null,null,"Parafuso Dry Wall, Em Aco Fosfatizado, Cabeca Trombeta E Ponta Agulha (Ta), Comprimento 25 Mm","un",20.0077,7.5999999999999998E-2,1.5205852,null,0]
[null,null,"Parafuso Dry Wall, Em Aco Zincado, Cabeca Lentilha E Ponta Broca (Lb), Largura 4,2 Mm, Comprimento 13 Mm","un",0.80759999999999998,0.18049999999999999,0.14577179999999998,null,0]
[null,null,"Montador de estrutura metálica com encargos complementares","h",0.54490000000000005,16.852999999999998,9.1831996999999994,null,0]
[null,null,"Servente com Encargos Complementares","h",0.13619999999999999,16.311500000000002,2.2216263000000001,null,0]
[null,null,null,null,null,"","",null,0]
["SF-00088",{"$f":"INDEX(Orçamentária!A:B,MATCH(Composições!A414,Orçamentária!A:A,0),2)","v":"Reparos superficiais em painéis de gesso acartonado"},null,{"$f":"TRIM(INDEX(Orçamentária!D:D,MATCH(Composições!A414,Orçamentária!A:A,0),1))","v":"m2"},null,"","",null,0]
[null,null,null,null,null,"","",null,0]
[null,null,"Fita De Papel Microperfurado, 50 X 150 Mm, Para Tratamento De Juntas De Chapa De Gesso Para Drywall","m",1.2513000000000001,0.13300000000000001,0.16642290000000001,{"$f":"SUM(G416:G419)","v":4.4973969},0]
[null,null,"Massa De Rejunte Em Po Para Drywall, A Base De Gesso, Secagem Rapida, Para Tratamento De Juntas De Chapa De Gesso (Com Adicao De Agua)","kg",0.51639999999999997,2.4224999999999999,1.2509789999999998,null,0]
[null,null,"Montador de estrutura metálica com encargos complementares","h",{"$f":"0.3636/3","v":0.12119999999999999},16.852999999999998,2.0425835999999995,null,0]
[null,null,"Servente com Encargos Complementares","h",{"$f":"ROUND(0.0909*0.7,4)","v":6.3600000000000004E-2},16.311500000000002,1.0374114000000003,null,0]
[null,null,null,null,null,"","",null,0]
["SF-00089",{"$f":"INDEX(Orçamentária!A:B,MATCH(Composições!A421,Orçamentária!A:A,0),2)","v":"Sóculo h=10 cm"},null,{"$f":"TRIM(INDEX(Orçamentária!D:D,MATCH(Composições!A421,Orçamentária!A:A,0),1))","v":"m2"},null,"","",null,0]
[null,null,null,null,null,"","",null,0]
[null,null,"Tela de aco soldada galvanizada/zincada para alvenaria, fio D = *1,20 a 1,70* mm, malha 15 x 15 mm, (C x L) *50 x 7,5* cm","m",0.78500000000000003,1.6909999999999998,1.3274349999999999,{"$f":"SUM(G423:G431)","v":73.678813597852184},0]
[null,null,"Pino de aco com furo, haste = 27 mm (acao direta)","cento",9.4000000000000004E-3,32.423500000000004,0.30478090000000008,null,0]
[null,null,"Bloco ceramico de vedacao com furos na vertical, 9 x 19 x 39 cm - 4,5 MPa (NBR 15270)","un",13.35,2.0329999999999999,27.140549999999998,null,0]
[null,null,"ARGAMASSA TRAÇO 1:2:8 (EM VOLUME DE CIMENTO, CAL E AREIA MÉDIA ÚMIDA) PARA EMBOÇO/MASSA ÚNICA/ASSENTAMENTO DE ALVENARIA DE VEDAÇÃO, PREPARO MECÂNICO COM BETONEIRA 400 L. AF_08/2019","m3",1.04E-2,447.26371286599993,4.6515426138063996,null,0]
[null,null,"Pedreiro com Encargos Complementares","h",0.59,22.087499999999999,13.031624999999998,null,0]
[null,null,"Servente com Encargos Complementares","h",0.29499999999999998,16.311500000000002,4.8118925000000008,null,0]
[null,null,"ARGAMASSA TRAÇO 1:2:8 (EM VOLUME DE CIMENTO, CAL E AREIA MÉDIA ÚMIDA) PARA EMBOÇO/MASSA ÚNICA/ASSENTAMENTO DE ALVENARIA DE VEDAÇÃO, PREPARO MECÂNICO COM BETONEIRA 400 L. AF_08/2019","m3",2.1299999999999999E-2,447.26371286599993,9.5267170840457975,null,0]
[null,null,"Pedreiro com Encargos Complementares","h",0.46,22.087499999999999,10.16025,null,0]
[null,null,"Servente com Encargos Complementares","h",0.16700000000000001,16.311500000000002,2.7240205000000004,null,0]
[null,null,null,null,null,"","",null,0]
["SF-00090",{"$f":"INDEX(Orçamentária!A:B,MATCH(Composições!A433,Orçamentária!A:A,0),2)","v":"Chapisco colante industrializado em vigas e pilares"},null,{"$f":"TRIM(INDEX(Orçamentária!D:D,MATCH(Composições!A433,Orçamentária!A:A,0),1))","v":"m2"},null,"","",null,0]
[null,null,null,null,null,"","",null,0]
[null,null,"ARGAMASSA INDUSTRIALIZADA PARA CHAPISCO COLANTE, PREPARO COM MISTURADOR DE EIXO HORIZONTAL DE 300 KG. AF_08/2019","m3",3.2000000000000002E-3,1814.8611900000001,5.8075558080000009,{"$f":"SUM(G435:G437)","v":9.1518854580000006},0]
[null,null,"Pedreiro com Encargos Complementares","h",0.14099999999999999,22.087499999999999,3.1143374999999995,null,0]
[null,null,"Servente com Encargos Complementares","h",1.41E-2,16.311500000000002,0.22999215000000003,null,0]
[null,null,null,null,null,"","",null,0]
["SF-00091",{"$f":"INDEX(Orçamentária!A:B,MATCH(Composições!A439,Orçamentária!A:A,0),2)","v":"Chapisco com argamassa traço 1:3"},null,{"$f":"TRIM(INDEX(Orçamentária!D:D,MATCH(Composições!A439,Orçamentária!A:A,0),1))","v":"m2"},null,"","",null,0]
[null,null,null,null,null,"","",null,0]
[null,null,"ARGAMASSA TRAÇO 1:3 (EM VOLUME DE CIMENTO E AREIA GROSSA ÚMIDA) PARA CHAPISCO CONVENCIONAL, PREPARO MANUAL. AF_08/2019","m3",4.1999999999999997E-3,509.75711421900002,2.1409798797197999,{"$f":"SUM(G441:G443)","v":3.8012853797197996},0]
[null,null,"Pedreiro com Encargos Complementares","h",7.0000000000000007E-2,22.087499999999999,1.546125,null,0]
[null,null,"Servente com Encargos Complementares","h",7.0000000000000001E-3,16.311500000000002,0.11418050000000002,null,0]
[null,null,null,null,null,"","",null,0]
["SF-00092",{"$f":"INDEX(Orçamentária!A:B,MATCH(Composições!A445,Orçamentária!A:A,0),2)","v":"Gesso cola"},null,{"$f":"TRIM(INDEX(Orçamentária!D:D,MATCH(Composições!A445,Orçamentária!A:A,0),1))","v":"m2"},null,"","",null,0]
[null,null,null,null,null,"","",null,0]
[null,null,"Gesseiro com encargos complementares","h",0.4,21.973499999999998,8.7893999999999988,{"$f":"SUM(G447:G449)","v":10.09432},0]
[null,null,"Servente com Encargos Complementares","h",0.08,16.311500000000002,1.3049200000000003,null,0]
[null,null,"Gesso cola","kg",0.75,"","",null,0]
[null,null,null,null,null,"","",null,0]
[null,null,"Obs.: Fonte para o coeficiente do gesso (0,75 kg/m2) : http://www.gessotrevo.com.br/gesso_cola.php - acesso em 16/08/18",null,null,"","",null,0]
[null,null,null,null,null,"","",null,0]
["SF-00093",{"$f":"INDEX(Orçamentária!A:B,MATCH(Composições!A453,Orçamentária!A:A,0),2)","v":"Reboco com argamassa industrializada e=2,0 cm"},null,{"$f":"TRIM(INDEX(Orçamentária!D:D,MATCH(Composições!A453,Orçamentária!A:A,0),1))","v":"m2"},null,"","",null,0]
[null,null,null,null,null,"",{"$f":"IF(ISNUMBER(F454),E454*F454,\"\")","v":""},null,0]
[null,null,"Argamassa industrializada multiuso, para revestimento interno e externo e assentamento de blocos diversos","kg",{"$f":"1890*0.02","v":37.800000000000004},0.46549999999999997,17.5959,{"$f":"SUM(G455:G458)","v":33.777977700000001},0]
[null,null,"Servente com Encargos Complementares","h",{"$f":"12.59*0.02","v":0.25180000000000002},16.311500000000002,4.1072357000000013,null,0]
[null,null,"Pedreiro com Encargos Complementares","h",0.43,22.087499999999999,9.4976249999999993,null,0]
[null,null,"Servente com Encargos Complementares","h",{"$f":"0.158","v":0.158},16.311500000000002,2.5772170000000005,null,0]
[null,null,null,null,null,"","",null,0]
[null,null,"Obs.: Rendimento de argamassa obtido como referência no SINAPI e no link abaixo. Extrato: \"Revestimento: Em média 17,0 a 19,5 Kg/m2  para cada 1,0 cm de espessura, variando em função da aplicação\".",null,null,"","",null,0]
[null,null,"https://s3.amazonaws.com/mapa-da-obra-producao/wp-content/uploads/2015/12/2101-matrix-revestimento-interno.pdf",null,null,"","",null,0]
[null,null,null,null,null,"","",null,0]
["SF-00094",{"$f":"INDEX(Orçamentária!A:B,MATCH(Composições!A463,Orçamentária!A:A,0),2)","v":"Regularização com argamassa industrializada e=0,5 cm"},null,{"$f":"TRIM(INDEX(Orçamentária!D:D,MATCH(Composições!A463,Orçamentária!A:A,0),1))","v":"m2"},null,"","",null,0]
[null,null,null,null,null,"","",null,0]
[null,null,"Argamassa industrializada multiuso, para revestimento interno e externo e assentamento de blocos diversos","kg",{"$f":"1890*0.005","v":9.4500000000000011},0.46549999999999997,4.3989750000000001,{"$f":"SUM(G465:G468)","v":11.680281825},0]
[null,null,"Servente com Encargos Complementares","h",{"$f":"12.59*0.005","v":6.2950000000000006E-2},16.311500000000002,1.0268089250000003,null,0]
[null,null,"Pedreiro com Encargos Complementares","h",{"$f":"0.31*0.7","v":0.217},22.087499999999999,4.7929874999999997,null,0]
[null,null,"Servente com Encargos Complementares","h",{"$f":"0.128*0.7","v":8.9599999999999999E-2},16.311500000000002,1.4615104000000001,null,0]
[null,null,null,null,null,"","",null,0]
["SF-00095",{"$f":"INDEX(Orçamentária!A:B,MATCH(Composições!A470,Orçamentária!A:A,0),2)","v":"Tratamento de trincas superficiais"},null,{"$f":"TRIM(INDEX(Orçamentária!D:D,MATCH(Composições!A470,Orçamentária!A:A,0),1))","v":"m"},null,"","",null,0]
[null,null,null,null,null,"","",null,0]
[null,null,"Servente com Encargos Complementares","h",0.6,16.311500000000002,9.786900000000001,{"$f":"SUM(G472:G476)","v":19.4923869},0]
[null,null,"Pedreiro com Encargos Complementares","h",0.155,22.087499999999999,3.4235624999999996,null,0]
[null,null,"Tela de poliéster adesiva largura 150mm e reforço central de 50mm","m",1.05,0.95,0.99749999999999994,null,0]
[null,null,"RESINA ACRILICA BASE AGUA - COR BRANCA","L",{"$f":"ROUND(1*0.15/(165/18),4)","v":1.6400000000000001E-2},22.971,0.37672440000000001,null,0]
[null,null,"SELANTE A BASE DE RESINAS ACRILICAS PARA TRINCAS","kg",{"$f":"1/5","v":0.2},24.538499999999996,4.9076999999999993,null,0]
[null,null,null,null,null,"","",null,0]
[null,null,"Obs.: Rendimento da resina e do selante de acordo com recomendações do fabricante (Bautech). Consumo médio. Selante: 5 m por kg. Resina: 165 m2 por embalagem de 18 L.",null,null,"","",null,0]
[null,null,"http://www.bautechbrasil.com.br/produtos/selantes-especiais/bautech-selante-acr%C3%ADlico",null,null,"","",null,0]
[null,null,"http://www.bautechbrasil.com.br/produtos/pinturas-especiais-e-complementos/bautech-resina-acr%C3%ADlica-multiuso",null,null,"","",null,0]
[null,null,null,null,null,"","",null,0]
["SF-00096",{"$f":"INDEX(Orçamentária!A:B,MATCH(Composições!A482,Orçamentária!A:A,0),2)","v":"Aplicação de fundo selador base água"},null,{"$f":"TRIM(INDEX(Orçamentária!D:D,MATCH(Composições!A482,Orçamentária!A:A,0),1))","v":"m2"},null,"","",null,0]
[null,null,null,null,null,"","",null,0]
[null,null,"Pintor com encargos complementares","h",0.106,23.027999999999999,2.4409679999999998,{"$f":"SUM(G484:G486)","v":2.8813784999999998},0]
[null,null,"Servente com Encargos Complementares","h",2.7E-2,16.311500000000002,0.44041050000000004,null,0]
[null,null,"Fundo selador a base d'água","L",0.16,"","",null,0]
[null,null,null,null,null,"","",null,0]
["SF-00097",{"$f":"INDEX(Orçamentária!A:B,MATCH(Composições!A488,Orçamentária!A:A,0),2)","v":"Fundo anticorrosivo e de aderência (base água)"},null,{"$f":"TRIM(INDEX(Orçamentária!D:D,MATCH(Composições!A488,Orçamentária!A:A,0),1))","v":"m2"},null,"","",null,0]
[null,null,null,null,null,"","",null,0]
[null,null,"Pintor com encargos complementares","h",{"$f":"2*0.2149","v":0.42980000000000002},23.027999999999999,9.8974343999999999,{"$f":"SUM(G490:G491)","v":9.8974343999999999},0]
[null,null,"Fundo anticorrosivo e de aderência a base de água","L",{"$f":"2*(3.6/45)","v":0.16},"","",null,0]
[null,null,null,null,null,"","",null,0]
[null,null,"Obs.: Rendimento do fundo obtido de acordo com recomendação do fabricante. Consumo médio. ",null,null,"","",null,0]
[null,null,"https://www.sherwin-williams.com.br/produto-detalhe/metalatex-eco-complementos",null,null,"","",null,0]
[null,null,"https://www.suvinil.com.br/upload/78d22676-91b1-4086-99ad-4258fadd7b08-suvinil-fundo-seca-rapidomaio2018.pdf",null,null,"","",null,0]
["SF-00098",{"$f":"INDEX(Orçamentária!A:B,MATCH(Composições!A496,Orçamentária!A:A,0),2)","v":"Massa acrílica"},null,{"$f":"TRIM(INDEX(Orçamentária!D:D,MATCH(Composições!A496,Orçamentária!A:A,0),1))","v":"m2"},null,"","",null,0]
[null,null,null,null,null,"","",null,0]
[null,null,"Lixa em folha para parede ou madeira, numero 120 (cor vermelha)","un",0.1,0.68399999999999994,6.8400000000000002E-2,{"$f":"SUM(G498:G501)","v":16.765324499999998},0]
[null,null,"Massa acrilica para paredes interior/exterior","gl",0.24399999999999999,31.359499999999997,7.6517179999999989,null,0]
[null,null,"Pintor com encargos complementares","h",0.33400000000000002,23.027999999999999,7.6913520000000002,null,0]
[null,null,"Servente com Encargos Complementares","h",8.3000000000000004E-2,16.311500000000002,1.3538545000000002,null,0]
[null,null,null,null,null,"","",null,0]
["SF-00099",{"$f":"INDEX(Orçamentária!A:B,MATCH(Composições!A503,Orçamentária!A:A,0),2)","v":"Massa corrida"},null,{"$f":"TRIM(INDEX(Orçamentária!D:D,MATCH(Composições!A503,Orçamentária!A:A,0),1))","v":"m2"},null,"","",null,0]
[null,null,null,null,null,"","",null,0]
[null,null,"Lixa em folha para parede ou madeira, numero 120 (cor vermelha)","un",0.1,0.68399999999999994,6.8400000000000002E-2,{"$f":"SUM(G505:G508)","v":12.940539000000001},0]
[null,null,"Massa corrida PVA para paredes internas","18L",4.8899999999999999E-2,78.28,3.8278919999999999,null,0]
[null,null,"Pintor com encargos complementares","h",0.312,23.027999999999999,7.184736,null,0]
[null,null,"Servente com Encargos Complementares","h",0.114,16.311500000000002,1.8595110000000004,null,0]
[null,null,null,null,null,"","",null,0]
["SF-00100",{"$f":"INDEX(Orçamentária!A:B,MATCH(Composições!A510,Orçamentária!A:A,0),2)","v":"Pintura com tinta látex acrílica Premium (paredes)"},null,{"$f":"TRIM(INDEX(Orçamentária!D:D,MATCH(Composições!A510,Orçamentária!A:A,0),1))","v":"m2"},null,"","",null,0]
[null,null,null,null,null,"","",null,0]
[null,null,"Pintor com encargos complementares","h",0.187,23.027999999999999,4.3062360000000002,{"$f":"SUM(G512:G514)","v":11.9776095},0]
[null,null,"Servente com Encargos Complementares","h",6.9000000000000006E-2,16.311500000000002,1.1254935000000001,null,0]
[null,null,"Tinta acrilica premium, cor branco fosco","L",0.33,19.835999999999999,6.5458799999999995,null,0]
[null,null,null,null,null,"","",null,0]
["SF-00101",{"$f":"INDEX(Orçamentária!A:B,MATCH(Composições!A516,Orçamentária!A:A,0),2)","v":"Pintura em verniz sintético"},null,{"$f":"TRIM(INDEX(Orçamentária!D:D,MATCH(Composições!A516,Orçamentária!A:A,0),1))","v":"m2"},null,"","",null,0]
[null,null,null,null,null,"","",null,0]
[null,null,"Lixa em folha para parede ou madeira, numero 120 (cor vermelha)","un",1,0.68399999999999994,{"$f":"IF(ISNUMBER(F518),E518*F518,\"\")","v":0.68399999999999994},{"$f":"SUM(G518:G521)","v":14.788650000000001},0]
[null,null,"Verniz a base de água para madeira","L",{"$f":"ROUND(3*3.6/100,4)","v":0.108},"","",null,0]
[null,null,"Pintor com encargos complementares","h",0.4,23.027999999999999,9.2111999999999998,null,0]
[null,null,"Servente com Encargos Complementares","h",0.3,16.311500000000002,4.8934500000000005,null,0]
[null,null,null,null,null,null,null,null,0]
[null,null,"Obs: considerando rendimento informado na especificação técnica de produto equivalente da Suvinil (Lata de 3,6L rende até 100 m²/demão).",null,null,null,null,null,0]
[null,null,null,null,null,"",{"$f":"IF(ISNUMBER(F524),E524*F524,\"\")","v":""},null,0]
["SF-00102",{"$f":"INDEX(Orçamentária!A:B,MATCH(Composições!A525,Orçamentária!A:A,0),2)","v":"Pintura esmalte acetinado (metais e madeiras)"},null,{"$f":"TRIM(INDEX(Orçamentária!D:D,MATCH(Composições!A525,Orçamentária!A:A,0),1))","v":"m2"},null,"","",null,0]
[null,null,null,null,null,"","",null,0]
[null,null,"Pintor com encargos complementares","h",0.4,23.027999999999999,9.2111999999999998,{"$f":"SUM(G527:G530)","v":12.747100000000001},0]
[null,null,"Servente com Encargos Complementares","h",0.2,16.311500000000002,3.2623000000000006,null,0]
[null,null,"Lixa em folha para parede ou madeira, numero 120 (cor vermelha)","un",0.4,0.68399999999999994,0.27360000000000001,null,0]
[null,null,"Tinta esmalte sintetico a base de água","L",{"$f":"ROUND(3*3.6/75,4)","v":0.14399999999999999},"","",null,0]
[null,null,null,null,null,null,null,null,0]
[null,null,"Obs: considerando rendimento informado na especificação técnica de um dos produtos indicados como referência comercial (Lata de 3,6L rende até 75 m²/demão).",null,null,null,null,null,0]
[null,null,null,null,null,"",{"$f":"IF(ISNUMBER(F533),E533*F533,\"\")","v":""},null,0]
["SF-00103",{"$f":"INDEX(Orçamentária!A:B,MATCH(Composições!A534,Orçamentária!A:A,0),2)","v":"Pintura tinta látex acrílica standard (tetos)"},null,{"$f":"TRIM(INDEX(Orçamentária!D:D,MATCH(Composições!A534,Orçamentária!A:A,0),1))","v":"m2"},null,"","",null,0]
[null,null,null,null,null,"","",null,0]
[null,null,"Pintor com encargos complementares","h",0.24399999999999999,23.027999999999999,5.6188319999999994,{"$f":"SUM(G536:G538)","v":13.616435499999998},0]
[null,null,"Servente com Encargos Complementares","h",8.8999999999999996E-2,16.311500000000002,1.4517235000000002,null,0]
[null,null,"Tinta acrilica premium, cor branco fosco","L",0.33,19.835999999999999,6.5458799999999995,null,0]
[null,null,null,null,null,"","",null,0]
["SF-00104",{"$f":"INDEX(Orçamentária!A:B,MATCH(Composições!A540,Orçamentária!A:A,0),2)","v":"Cerâmica para revestimento de superfícies internas ou externas – Linha Administrativa"},null,{"$f":"TRIM(INDEX(Orçamentária!D:D,MATCH(Composições!A540,Orçamentária!A:A,0),1))","v":"m2"},null,"","",null,0]
[null,null,null,null,null,"","",null,0]
[null,null,"REVESTIMENTO EM CERAMICA ESMALTADA EXTRA, PEI MAIOR OU IGUAL 4, FORMATO MAIOR A 2025 CM2","m2",1.08,35.9955,38.875140000000002,{"$f":"SUM(G542:G546)","v":64.668019999999999},0]
[null,null,"Argamassa colante AC II","kg",6.14,0.78849999999999998,4.8413899999999996,null,0]
[null,null,"Rejunte cimenticio, qualquer cor","kg",0.22,2.508,0.55176000000000003,null,0]
[null,null,"Azulejista ou ladrilhista com encargos complementares","h",0.66,22.011500000000002,14.527590000000002,null,0]
[null,null,"Servente com Encargos Complementares","h",0.36,16.311500000000002,5.8721400000000008,null,0]
[null,null,null,null,null,"","",null,0]
["SF-00105",{"$f":"INDEX(Orçamentária!A:B,MATCH(Composições!A548,Orçamentária!A:A,0),2)","v":"Contrapiso em argamassa"},null,{"$f":"TRIM(INDEX(Orçamentária!D:D,MATCH(Composições!A548,Orçamentária!A:A,0),1))","v":"m2"},null,"","",null,0]
[null,null,null,null,null,"","",null,0]
[null,null,"ARGAMASSA TRAÇO 1:4 (EM VOLUME DE CIMENTO E AREIA MÉDIA ÚMIDA) PARA CONTRAPISO, PREPARO MANUAL. AF_08/2019","m3",5.2999999999999999E-2,558.84942919749994,29.619019747467497,{"$f":"SUM(G550:G554)","v":45.676442247467499},0]
[null,null,"Pedreiro com Encargos Complementares","h",0.36,22.087499999999999,7.9514999999999993,null,0]
[null,null,"Servente com Encargos Complementares","h",0.18,16.311500000000002,2.9360700000000004,null,0]
[null,null,"Cimento Portland composto CP II-32","kg",0.5,0.44649999999999995,0.22324999999999998,null,0]
[null,null,"Aditivo adesivo liquido para argamassas de revestimentos cimenticios","L",0.435,11.371499999999999,4.9466025,null,0]
[null,null,null,null,null,"","",null,0]
["SF-00106",{"$f":"INDEX(Orçamentária!A:B,MATCH(Composições!A556,Orçamentária!A:A,0),2)","v":"Contrapiso em argamassa (e=2cm) ou Regularização de contrapiso existente"},null,{"$f":"TRIM(INDEX(Orçamentária!D:D,MATCH(Composições!A556,Orçamentária!A:A,0),1))","v":"m2"},null,"","",null,0]
[null,null,null,null,null,"","",null,0]
[null,null,"Cimento Portland composto CP II-32","kg",0.5,0.44649999999999995,0.22324999999999998,{"$f":"SUM(G558:G562)","v":31.264727305122499},0]
[null,null,"Aditivo adesivo liquido para argamassas de revestimentos cimenticios","L",0.435,11.371499999999999,4.9466025,null,0]
[null,null,"ARGAMASSA TRAÇO 1:4 (EM VOLUME DE CIMENTO E AREIA MÉDIA ÚMIDA) PARA CONTRAPISO, PREPARO MANUAL. AF_08/2019","m3",3.1E-2,558.84942919749994,17.3243323051225,null,0]
[null,null,"Pedreiro com Encargos Complementares","h",0.28999999999999998,22.087499999999999,6.4053749999999994,null,0]
[null,null,"Servente com Encargos Complementares","h",0.14499999999999999,16.311500000000002,2.3651675000000001,null,0]
[null,null,null,null,null,"","",null,0]
["SF-00107",{"$f":"INDEX(Orçamentária!A:B,MATCH(Composições!A564,Orçamentária!A:A,0),2)","v":"Granito cinza andorinha para piso"},null,{"$f":"TRIM(INDEX(Orçamentária!D:D,MATCH(Composições!A564,Orçamentária!A:A,0),1))","v":"m2"},null,"","",null,0]
[null,null,null,null,null,"","",null,0]
[null,null,"Argamassa colante tipo AC III","kg",8.6199999999999992,1.3109999999999999,11.300819999999998,{"$f":"SUM(G566:G570)","v":43.224525},0]
[null,null,"Marmorista/graniteiro com encargos complementares","h",1.1879999999999999,18.420500000000001,21.883554,null,0]
[null,null,"Servente com Encargos Complementares","h",0.59399999999999997,16.311500000000002,9.6890310000000017,null,0]
[null,null,"Rejunte cimenticio, qualquer cor","kg",0.14000000000000001,2.508,0.35112000000000004,null,0]
[null,null,"Granito Cinza Andorinha, com 20 mm de espessura, para piso","m2",1.1599999999999999,"","",null,0]
[null,null,null,null,null,"","",null,0]
["SF-00108",{"$f":"INDEX(Orçamentária!A:B,MATCH(Composições!A572,Orçamentária!A:A,0),2)","v":"Granito Cinza Andorinha para rodapé"},null,{"$f":"TRIM(INDEX(Orçamentária!D:D,MATCH(Composições!A572,Orçamentária!A:A,0),1))","v":"m2"},null,"","",null,0]
[null,null,null,null,null,"","",null,0]
[null,null,"Granito Cinza Andorinha, com 20 mm de espessura e 70 mm de altura, para rodapé","m",{"$f":"ROUND(1.04/0.07,4)","v":14.857100000000001},"","",{"$f":"SUM(G574:G578)","v":93.847099000000014},0]
[null,null,"Argamassa colante tipo AC III","kg",{"$f":"ROUND(0.8614/0.1,4)","v":8.6140000000000008},1.3109999999999999,11.292954,null,0]
[null,null,"Marmorista/graniteiro com encargos complementares","h",{"$f":"0.299/0.1","v":2.9899999999999998},18.420500000000001,55.077294999999999,null,0]
[null,null,"Servente com Encargos Complementares","h",{"$f":"0.15/0.1","v":1.4999999999999998},16.311500000000002,24.46725,null,0]
[null,null,"Rejunte cimenticio, qualquer cor","kg",{"$f":"0.12/0.1","v":1.2},2.508,3.0095999999999998,null,0]
[null,null,null,null,null,"","",null,0]
[null,null,"Obs: na pesquisa de preços do insumo, considerou-se 1 m de polimento a cada metro de rodapé.",null,null,"","",null,0]
[null,null,null,null,null,"","",null,0]
["SF-00109",{"$f":"INDEX(Orçamentária!A:B,MATCH(Composições!A582,Orçamentária!A:A,0),2)","v":"Granito Cinza Andorinha para soleira e peitoril"},null,{"$f":"TRIM(INDEX(Orçamentária!D:D,MATCH(Composições!A582,Orçamentária!A:A,0),1))","v":"m2"},null,"","",null,0]
[null,null,null,null,null,"","",null,0]
[null,null,"Granito Cinza Andorinha, com 20 mm de espessura e 150 mm de altura, para soleira e peitoril","m",{"$f":"ROUND(1/0.15,4)","v":6.6666999999999996},"","",{"$f":"SUM(G584:G587)","v":108.13556735000002},0]
[null,null,"Argamassa colante tipo AC III","kg",{"$f":"1.29/0.15","v":8.6000000000000014},1.3109999999999999,11.274600000000001,null,0]
[null,null,"Marmorista/graniteiro com encargos complementares","h",{"$f":"ROUND(0.547/0.15,4)","v":3.6467000000000001},18.420500000000001,67.174037350000006,null,0]
[null,null,"Servente com Encargos Complementares","h",{"$f":"ROUND(0.273/0.15,4)","v":1.82},16.311500000000002,29.686930000000004,null,0]
[null,null,null,null,null,"","",null,0]
[null,null,"Obs: na pesquisa de preços do insumo, considerou-se 1 m de polimento a cada metro de soleira.",null,null,"","",null,0]
[null,null,null,null,null,"","",null,0]
["SF-00110",{"$f":"INDEX(Orçamentária!A:B,MATCH(Composições!A591,Orçamentária!A:A,0),2)","v":"Granito Preto São Gabriel para piso"},null,{"$f":"TRIM(INDEX(Orçamentária!D:D,MATCH(Composições!A591,Orçamentária!A:A,0),1))","v":"m2"},null,"","",null,0]
[null,null,null,null,null,"","",null,0]
[null,null,"Argamassa colante tipo AC III","kg",8.6199999999999992,1.3109999999999999,11.300819999999998,{"$f":"SUM(G593:G597)","v":43.224525},0]
[null,null,"Marmorista/graniteiro com encargos complementares","h",1.1879999999999999,18.420500000000001,21.883554,null,0]
[null,null,"Servente com Encargos Complementares","h",0.59399999999999997,16.311500000000002,9.6890310000000017,null,0]
[null,null,"Rejunte cimenticio, qualquer cor","kg",0.14000000000000001,2.508,0.35112000000000004,null,0]
[null,null,"Granito Preto São Gabriel, com 20 mm de espessura, para piso","m2",1.1599999999999999,"",{"$f":"IF(ISNUMBER(F597),E597*F597,\"\")","v":""},null,0]
[null,null,null,null,null,"","",null,0]
["SF-00111",{"$f":"INDEX(Orçamentária!A:B,MATCH(Composições!A599,Orçamentária!A:A,0),2)","v":"Granito Preto São Gabriel para rodapé"},null,{"$f":"TRIM(INDEX(Orçamentária!D:D,MATCH(Composições!A599,Orçamentária!A:A,0),1))","v":"m2"},null,"","",null,0]
[null,null,null,null,null,"","",null,0]
[null,null,"Granito Preto São Gabriel, com 20 mm de espessura e 70 mm de altura, para rodapé","m",{"$f":"ROUND(1.04/0.07,2)","v":14.86},"","",{"$f":"SUM(G601:G605)","v":93.847099000000014},0]
[null,null,"Argamassa colante tipo AC III","kg",{"$f":"ROUND(0.8614/0.1,4)","v":8.6140000000000008},1.3109999999999999,11.292954,null,0]
[null,null,"Marmorista/graniteiro com encargos complementares","h",{"$f":"0.299/0.1","v":2.9899999999999998},18.420500000000001,55.077294999999999,null,0]
[null,null,"Servente com Encargos Complementares","h",{"$f":"0.15/0.1","v":1.4999999999999998},16.311500000000002,24.46725,null,0]
[null,null,"Rejunte cimenticio, qualquer cor","kg",{"$f":"0.12/0.1","v":1.2},2.508,3.0095999999999998,null,0]
[null,null,null,null,null,"","",null,0]
[null,null,"Obs: na pesquisa de preços do insumo, considerou-se 1 m de polimento a cada metro de rodapé.",null,null,"","",null,0]
[null,null,null,null,null,"","",null,0]
["SF-00112",{"$f":"INDEX(Orçamentária!A:B,MATCH(Composições!A609,Orçamentária!A:A,0),2)","v":"Granito Preto São Gabriel para soleira e peitoril"},null,{"$f":"TRIM(INDEX(Orçamentária!D:D,MATCH(Composições!A609,Orçamentária!A:A,0),1))","v":"m2"},null,"","",null,0]
[null,null,null,null,null,"","",null,0]
[null,null,"Granito Preto São Gabriel, com 20 mm de espessura e 150 mm de altura, para soleira e peitoril","m",{"$f":"ROUND(1/0.15,4)","v":6.6666999999999996},"","",{"$f":"SUM(G611:G614)","v":108.13556735000002},0]
[null,null,"Argamassa colante tipo AC III","kg",{"$f":"ROUND(1.29/0.15,4)","v":8.6},1.3109999999999999,11.2746,null,0]
[null,null,"Marmorista/graniteiro com encargos complementares","h",{"$f":"ROUND(0.547/0.15,4)","v":3.6467000000000001},18.420500000000001,67.174037350000006,null,0]
[null,null,"Servente com Encargos Complementares","h",{"$f":"ROUND(0.273/0.15,4)","v":1.82},16.311500000000002,29.686930000000004,null,0]
[null,null,null,null,null,"","",null,0]
[null,null,"Obs: na pesquisa de preços do insumo, considerou-se 1 m de polimento a cada metro de soleira.",null,null,"","",null,0]
[null,null,null,null,null,"","",null,0]
["SF-00113",{"$f":"INDEX(Orçamentária!A:B,MATCH(Composições!A618,Orçamentária!A:A,0),2)","v":"Instalação de rodapé de madeira reaproveitado"},null,{"$f":"TRIM(INDEX(Orçamentária!D:D,MATCH(Composições!A618,Orçamentária!A:A,0),1))","v":"m"},null,"","",null,0]
[null,null,null,null,null,"","",null,0]
[null,null,"COLA BRANCA BASE PVA","L",4.0300000000000002E-2,16.891000000000002,0.68070730000000013,{"$f":"SUM(G620:G622)","v":12.432604399999999},0]
[null,null,"SERVENTE COM ENCARGOS COMPLEMENTARES","H",0.15140000000000001,16.311500000000002,2.4695611000000004,null,0]
[null,null,"TAQUEADOR OU TAQUEIRO COM ENCARGOS COMPLEMENTARES","H",0.36349999999999999,25.535999999999998,9.282335999999999,null,0]
[null,null,null,null,null,"","",null,0]
["SF-00114",{"$f":"INDEX(Orçamentária!A:B,MATCH(Composições!A624,Orçamentária!A:A,0),2)","v":"Mármore Bege Bahia para piso e parede"},null,{"$f":"TRIM(INDEX(Orçamentária!D:D,MATCH(Composições!A624,Orçamentária!A:A,0),1))","v":"m2"},null,"","",null,0]
[null,null,null,null,null,"","",null,0]
[null,null,"Argamassa colante tipo AC III","kg",8.6199999999999992,1.3109999999999999,11.300819999999998,{"$f":"SUM(G626:G630)","v":43.224525},0]
[null,null,"Marmorista/graniteiro com encargos complementares","h",1.1879999999999999,18.420500000000001,21.883554,null,0]
[null,null,"Servente com Encargos Complementares","h",0.59399999999999997,16.311500000000002,9.6890310000000017,null,0]
[null,null,"Rejunte cimenticio, qualquer cor","kg",0.14000000000000001,2.508,0.35112000000000004,null,0]
[null,null,"Mármore Bege Bahia, com 20 mm de espessura, para piso e parede","m2",1.1599999999999999,"","",null,0]
[null,null,null,null,null,"","",null,0]
["SF-00115",{"$f":"INDEX(Orçamentária!A:B,MATCH(Composições!A632,Orçamentária!A:A,0),2)","v":"Mármore Branco Especial para piso e parede"},null,{"$f":"TRIM(INDEX(Orçamentária!D:D,MATCH(Composições!A632,Orçamentária!A:A,0),1))","v":"m2"},null,"","",null,0]
[null,null,null,null,null,"","",null,0]
[null,null,"Argamassa colante tipo AC III","kg",8.6199999999999992,1.3109999999999999,11.300819999999998,{"$f":"SUM(G634:G638)","v":43.224525},0]
[null,null,"Marmorista/graniteiro com encargos complementares","h",1.1879999999999999,18.420500000000001,21.883554,null,0]
[null,null,"Servente com Encargos Complementares","h",0.59399999999999997,16.311500000000002,9.6890310000000017,null,0]
[null,null,"Rejunte cimenticio, qualquer cor","kg",0.14000000000000001,2.508,0.35112000000000004,null,0]
[null,null,"Mármore Branco Especial, com 20 mm de espessura, para piso e parede","m2",1.1599999999999999,"","",null,0]
[null,null,null,null,null,"","",null,0]
["SF-00116",{"$f":"INDEX(Orçamentária!A:B,MATCH(Composições!A640,Orçamentária!A:A,0),2)","v":"Rodapé de madeira"},null,{"$f":"TRIM(INDEX(Orçamentária!D:D,MATCH(Composições!A640,Orçamentária!A:A,0),1))","v":"m"},null,"","",null,0]
[null,null,null,null,null,"","",null,0]
[null,null,"RODAPE DE MADEIRA MACICA CUMARU/IPE CHAMPANHE OU EQUIVALENTE DA REGIAO, *1,5 X 7 CM","M",1.0349999999999999,9.6234999999999999,9.9603224999999984,{"$f":"SUM(G642:G645)","v":22.392926899999999},0]
[null,null,"COLA BRANCA BASE PVA","L",4.0300000000000002E-2,16.891000000000002,0.68070730000000013,null,0]
[null,null,"SERVENTE COM ENCARGOS COMPLEMENTARES","H",0.15140000000000001,16.311500000000002,2.4695611000000004,null,0]
[null,null,"TAQUEADOR OU TAQUEIRO COM ENCARGOS COMPLEMENTARES","H",0.36349999999999999,25.535999999999998,9.282335999999999,null,0]
[null,null,null,null,null,"","",null,0]
["SF-00117",{"$f":"INDEX(Orçamentária!A:B,MATCH(Composições!A647,Orçamentária!A:A,0),2)","v":"Acabamento abaulado em placas de granito ou mármore reaproveitadas"},null,{"$f":"TRIM(INDEX(Orçamentária!D:D,MATCH(Composições!A647,Orçamentária!A:A,0),1))","v":"m"},null,"","",null,0]
[null,null,null,null,null,"","",null,0]
[null,null,"Marmorista/graniteiro com encargos complementares","h",2,18.420500000000001,36.841000000000001,{"$f":"SUM(G649:G649)","v":36.841000000000001},0]
[null,null,null,null,null,"","",null,0]
["SF-00118",{"$f":"INDEX(Orçamentária!A:B,MATCH(Composições!A651,Orçamentária!A:A,0),2)","v":"Acabamento em meia esquadria em placas de granito ou mármore reaproveitadas"},null,{"$f":"TRIM(INDEX(Orçamentária!D:D,MATCH(Composições!A651,Orçamentária!A:A,0),1))","v":"m"},null,"","",null,0]
[null,null,null,null,null,"","",null,0]
[null,null,"Marmorista/graniteiro com encargos complementares","h",1.75,18.420500000000001,32.235875,{"$f":"SUM(G653:G653)","v":32.235875},0]
[null,null,null,null,null,"","",null,0]
["SF-00119",{"$f":"INDEX(Orçamentária!A:B,MATCH(Composições!A655,Orçamentária!A:A,0),2)","v":"Acabamento reto em placas de granito ou mármore reaproveitadas"},null,{"$f":"TRIM(INDEX(Orçamentária!D:D,MATCH(Composições!A655,Orçamentária!A:A,0),1))","v":"m"},null,"","",null,0]
[null,null,null,null,null,"","",null,0]
[null,null,"Marmorista/graniteiro com encargos complementares","h",1,18.420500000000001,18.420500000000001,{"$f":"SUM(G657:G657)","v":18.420500000000001},0]
[null,null,null,null,null,"","",null,0]
["SF-00120",{"$f":"INDEX(Orçamentária!A:B,MATCH(Composições!A659,Orçamentária!A:A,0),2)","v":"Corte de peça de granito ou mármore reaproveitada"},null,{"$f":"TRIM(INDEX(Orçamentária!D:D,MATCH(Composições!A659,Orçamentária!A:A,0),1))","v":"m"},null,"","",null,0]
[null,null,null,null,null,"","",null,0]
[null,null,"Marmorista/graniteiro com encargos complementares","h",1.25,18.420500000000001,{"$f":"IF(ISNUMBER(F661),E661*F661,\"\")","v":23.025625000000002},{"$f":"SUM(G661:G661)","v":23.025625000000002},0]
[null,null,null,null,null,"","",null,0]
["SF-00121",{"$f":"INDEX(Orçamentária!A:B,MATCH(Composições!A663,Orçamentária!A:A,0),2)","v":"Corte em placas de granito ou mármore reaproveitadas, para instalação de cubas"},null,{"$f":"TRIM(INDEX(Orçamentária!D:D,MATCH(Composições!A663,Orçamentária!A:A,0),1))","v":"un"},null,"","",null,0]
[null,null,null,null,null,"","",null,0]
[null,null,"ABERTURA PARA ENCAIXE DE CUBA OU LAVATORIO EM BANCADA DE MARMORE/ GRANITO OU OUTRO TIPO DE PEDRA NATURAL","un",1,76.80749999999999,76.80749999999999,{"$f":"SUM(G665:G665)","v":76.80749999999999},0]
[null,null,null,null,null,"","",null,0]
["SF-00122",{"$f":"INDEX(Orçamentária!A:B,MATCH(Composições!A667,Orçamentária!A:A,0),2)","v":"Furo em placas de granito ou mármore reaproveitadas, para instalação de torneira ou misturador"},null,{"$f":"TRIM(INDEX(Orçamentária!D:D,MATCH(Composições!A667,Orçamentária!A:A,0),1))","v":"un"},null,"","",null,0]
[null,null,null,null,null,"","",null,0]
[null,null,"FURO PARA TORNEIRA OU OUTROS ACESSORIOS  EM BANCADA DE MARMORE/ GRANITO OU OUTRO TIPO DE PEDRA NATURAL","un",1,11.513999999999999,11.513999999999999,{"$f":"SUM(G669:G669)","v":11.513999999999999},0]
[null,null,null,null,null,"","",null,0]
["SF-00123",{"$f":"INDEX(Orçamentária!A:B,MATCH(Composições!A671,Orçamentária!A:A,0),2)","v":"Granito Cinza Andorinha 20mm para rodabancada"},null,{"$f":"TRIM(INDEX(Orçamentária!D:D,MATCH(Composições!A671,Orçamentária!A:A,0),1))","v":"m2"},null,"","",null,0]
[null,null,null,null,null,"","",null,0]
[null,null,"Granito Cinza Andorinha ou equivalente, com 20 mm de espessura e 150 mm de altura, polido, para rodabancada","m",{"$f":"ROUND(1.04/0.15,4)","v":6.9333},"","",{"$f":"SUM(G673:G677)","v":62.564162350000004},0]
[null,null,"Argamassa colante tipo AC III","kg",{"$f":"ROUND(0.8614/0.15,4)","v":5.7427000000000001},1.3109999999999999,7.5286796999999996,null,0]
[null,null,"Marmorista/graniteiro com encargos complementares","h",{"$f":"ROUND(0.299/0.15,4)","v":1.9933000000000001},18.420500000000001,36.717582650000004,null,0]
[null,null,"Servente com Encargos Complementares","h",{"$f":"0.15/0.15","v":1},16.311500000000002,16.311500000000002,null,0]
[null,null,"Rejunte cimenticio, qualquer cor","kg",{"$f":"0.12/0.15","v":0.8},2.508,2.0064000000000002,null,0]
[null,null,null,null,null,"","",null,0]
["SF-00124",{"$f":"INDEX(Orçamentária!A:B,MATCH(Composições!A679,Orçamentária!A:A,0),2)","v":"Granito Cinza Andorinha 20mm para bancadas"},null,{"$f":"TRIM(INDEX(Orçamentária!D:D,MATCH(Composições!A679,Orçamentária!A:A,0),1))","v":"m2"},null,"","",null,0]
[null,null,null,null,null,"","",null,0]
[null,null,"MASSA PLASTICA PARA MARMORE/GRANITO","KG",{"$f":"ROUND(0.5228/(1.5*0.6),4)","v":0.58089999999999997},27.293499999999998,15.854794149999998,{"$f":"SUM(G681:G687)","v":98.539513799999995},0]
[null,null,"BUCHA DE NYLON SEM ABA S10, COM PARAFUSO DE 6,10 X 65 MM EM ACO ZINCADO COM ROSCA SOBERBA, CABECA CHATA E FENDA PHILLIPS","UN",{"$f":"ROUND(6/(1.5*0.6),4)","v":6.6666999999999996},0.874,5.8266957999999995,null,0]
[null,null,"Granito Cinza Andorinha, com 20 mm de espessura, polido, para bancadas, com testeira com acabamento em meia esquadria","M2",{"$f":"ROUND(1.005/(1.5*0.6),4)","v":1.1167},"","",null,0]
[null,null,"REJUNTE EPOXI, QUALQUER COR","KG",{"$f":"ROUND(0.0211/(1.5*0.6),4)","v":2.3400000000000001E-2},52.8675,1.2370995,null,0]
[null,null,"SUPORTE MAO-FRANCESA EM ACO, ABAS IGUAIS 40 CM, CAPACIDADE MINIMA 70 KG, BRANCO","UN",{"$f":"ROUND(2/(1.5*0.6),4)","v":2.2222},12.2455,27.211950099999999,null,0]
[null,null,"MARMORISTA/GRANITEIRO COM ENCARGOS COMPLEMENTARES","H",{"$f":"ROUND(1.4944/(1.5*0.6),4)","v":1.6604000000000001},18.420500000000001,30.585398200000004,null,0]
[null,null,"SERVENTE COM ENCARGOS COMPLEMENTARES","H",{"$f":"ROUND(0.9834/(1.5*0.6),4)","v":1.0927},16.311500000000002,17.823576050000003,null,0]
[null,null,null,null,null,"","",null,0]
["SF-00125",{"$f":"INDEX(Orçamentária!A:B,MATCH(Composições!A689,Orçamentária!A:A,0),2)","v":"Granito Cinza Andorinha 20mm para divisória"},null,{"$f":"TRIM(INDEX(Orçamentária!D:D,MATCH(Composições!A689,Orçamentária!A:A,0),1))","v":"m2"},null,"","",null,0]
[null,null,null,null,null,"","",null,0]
[null,null,"Cimento branco","kg",0.7,2.6599999999999997,1.8619999999999997,{"$f":"SUM(G691:G695)","v":129.31216322391074},0]
[null,null,"Granito Cinza Andorinha ou equivalente, com 20 mm de espessura, polido em todas as faces aparentes, para divisórias","m2",1,"","",null,0]
[null,null,"Marmorista/graniteiro com encargos complementares","h",4.8,18.420500000000001,88.418400000000005,null,0]
[null,null,"Servente com Encargos Complementares","h",2.2999999999999998,16.311500000000002,37.516449999999999,null,0]
[null,null,"ARGAMASSA TRAÇO 1:4 (EM VOLUME DE CIMENTO E AREIA MÉDIA ÚMIDA), PREPARO MANUAL. AF_08/2019","m3",3.3E-3,459.18582542749994,1.5153132239107499,null,0]
[null,null,null,null,null,"","",null,0]
["SF-00126",{"$f":"INDEX(Orçamentária!A:B,MATCH(Composições!A697,Orçamentária!A:A,0),2)","v":"Granito Preto São Gabriel 20mm para rodabancada"},null,{"$f":"TRIM(INDEX(Orçamentária!D:D,MATCH(Composições!A697,Orçamentária!A:A,0),1))","v":"m2"},null,"","",null,0]
[null,null,null,null,null,"","",null,0]
[null,null,"Granito Preto São Gabriel ou equivalente, com 20 mm de espessura e 150 mm de altura, polido, para rodabancada","m",{"$f":"ROUND(1.04/0.15,4)","v":6.9333},"","",{"$f":"SUM(G699:G703)","v":62.564162350000004},0]
[null,null,"Argamassa colante tipo AC III","kg",{"$f":"ROUND(0.8614/0.15,4)","v":5.7427000000000001},1.3109999999999999,7.5286796999999996,null,0]
[null,null,"Marmorista/graniteiro com encargos complementares","h",{"$f":"ROUND(0.299/0.15,4)","v":1.9933000000000001},18.420500000000001,36.717582650000004,null,0]
[null,null,"Servente com Encargos Complementares","h",{"$f":"0.15/0.15","v":1},16.311500000000002,16.311500000000002,null,0]
[null,null,"Rejunte cimenticio, qualquer cor","kg",{"$f":"0.12/0.15","v":0.8},2.508,2.0064000000000002,null,0]
[null,null,null,null,null,"","",null,0]
["SF-00127",{"$f":"INDEX(Orçamentária!A:B,MATCH(Composições!A705,Orçamentária!A:A,0),2)","v":"Granito Preto São Gabriel 20mm para bancadas"},null,{"$f":"TRIM(INDEX(Orçamentária!D:D,MATCH(Composições!A705,Orçamentária!A:A,0),1))","v":"m2"},null,"","",null,0]
[null,null,null,null,null,"","",null,0]
[null,null,"MASSA PLASTICA PARA MARMORE/GRANITO","KG",{"$f":"ROUND(0.5228/(1.5*0.6),4)","v":0.58089999999999997},27.293499999999998,15.854794149999998,{"$f":"SUM(G707:G713)","v":98.539513799999995},0]
[null,null,"BUCHA DE NYLON SEM ABA S10, COM PARAFUSO DE 6,10 X 65 MM EM ACO ZINCADO COM ROSCA SOBERBA, CABECA CHATA E FENDA PHILLIPS","UN",{"$f":"ROUND(6/(1.5*0.6),4)","v":6.6666999999999996},0.874,5.8266957999999995,null,0]
[null,null,"Granito Preto São Gabriel ou equivalente, com 20 mm de espessura, polido, com testeira para acabamento em meia esquadria, para bancadas","M2",{"$f":"ROUND(1.005/(1.5*0.6),4)","v":1.1167},"","",null,0]
[null,null,"REJUNTE EPOXI, QUALQUER COR","KG",{"$f":"ROUND(0.0211/(1.5*0.6),4)","v":2.3400000000000001E-2},52.8675,1.2370995,null,0]
[null,null,"SUPORTE MAO-FRANCESA EM ACO, ABAS IGUAIS 40 CM, CAPACIDADE MINIMA 70 KG, BRANCO","UN",{"$f":"ROUND(2/(1.5*0.6),4)","v":2.2222},12.2455,27.211950099999999,null,0]
[null,null,"MARMORISTA/GRANITEIRO COM ENCARGOS COMPLEMENTARES","H",{"$f":"ROUND(1.4944/(1.5*0.6),4)","v":1.6604000000000001},18.420500000000001,30.585398200000004,null,0]
[null,null,"SERVENTE COM ENCARGOS COMPLEMENTARES","H",{"$f":"ROUND(0.9834/(1.5*0.6),4)","v":1.0927},16.311500000000002,17.823576050000003,null,0]
[null,null,null,null,null,"","",null,0]
["SF-00128",{"$f":"INDEX(Orçamentária!A:B,MATCH(Composições!A715,Orçamentária!A:A,0),2)","v":"Instalação de bancada de granito ou mármore reaproveitada"},null,{"$f":"TRIM(INDEX(Orçamentária!D:D,MATCH(Composições!A715,Orçamentária!A:A,0),1))","v":"m2"},null,"","",null,0]
[null,null,null,null,null,"","",null,0]
[null,null,"MASSA PLASTICA PARA MARMORE/GRANITO","KG",{"$f":"ROUND(0.5228/(1.5*0.6),4)","v":0.58089999999999997},27.293499999999998,15.854794149999998,{"$f":"SUM(G717:G722)","v":98.539513799999995},0]
[null,null,"BUCHA DE NYLON SEM ABA S10, COM PARAFUSO DE 6,10 X 65 MM EM ACO ZINCADO COM ROSCA SOBERBA, CABECA CHATA E FENDA PHILLIPS","UN",{"$f":"ROUND(6/(1.5*0.6),4)","v":6.6666999999999996},0.874,5.8266957999999995,null,0]
[null,null,"REJUNTE EPOXI, QUALQUER COR","KG",{"$f":"ROUND(0.0211/(1.5*0.6),4)","v":2.3400000000000001E-2},52.8675,1.2370995,null,0]
[null,null,"SUPORTE MAO-FRANCESA EM ACO, ABAS IGUAIS 40 CM, CAPACIDADE MINIMA 70 KG, BRANCO","UN",{"$f":"ROUND(2/(1.5*0.6),4)","v":2.2222},12.2455,27.211950099999999,null,0]
[null,null,"MARMORISTA/GRANITEIRO COM ENCARGOS COMPLEMENTARES","H",{"$f":"ROUND(1.4944/(1.5*0.6),4)","v":1.6604000000000001},18.420500000000001,30.585398200000004,null,0]
[null,null,"SERVENTE COM ENCARGOS COMPLEMENTARES","H",{"$f":"ROUND(0.9834/(1.5*0.6),4)","v":1.0927},16.311500000000002,17.823576050000003,null,0]
[null,null,null,null,null,"","",null,0]
["SF-00129",{"$f":"INDEX(Orçamentária!A:B,MATCH(Composições!A724,Orçamentária!A:A,0),2)","v":"Instalação de rodapé reaproveitado, de mármore ou granito"},null,{"$f":"TRIM(INDEX(Orçamentária!D:D,MATCH(Composições!A724,Orçamentária!A:A,0),1))","v":"m2"},null,"","",null,0]
[null,null,null,null,null,"",{"$f":"IF(ISNUMBER(F725),E725*F725,\"\")","v":""},null,0]
[null,null,"Argamassa colante tipo AC III","kg",{"$f":"0.8614","v":0.86140000000000005},1.3109999999999999,1.1292953999999999,{"$f":"SUM(G726:G729)","v":9.3847099000000007},0]
[null,null,"Marmorista/graniteiro com encargos complementares","h",{"$f":"0.299","v":0.29899999999999999},18.420500000000001,5.5077294999999999,null,0]
[null,null,"Servente com Encargos Complementares","h",{"$f":"0.15","v":0.15},16.311500000000002,2.4467250000000003,null,0]
[null,null,"Rejunte cimenticio, qualquer cor","kg",{"$f":"0.12","v":0.12},2.508,0.30096000000000001,null,0]
[null,null,null,null,null,"","",null,0]
["SF-00130",{"$f":"INDEX(Orçamentária!A:B,MATCH(Composições!A731,Orçamentária!A:A,0),2)","v":"Instalação de soleira ou peitoril, de mármore ou granito, reaproveitados"},null,{"$f":"TRIM(INDEX(Orçamentária!D:D,MATCH(Composições!A731,Orçamentária!A:A,0),1))","v":"m2"},null,"","",null,0]
[null,null,null,null,null,"","",null,0]
[null,null,"Marmorista/graniteiro com encargos complementares","h",1.1879999999999999,18.420500000000001,21.883554,{"$f":"SUM(G733:G735)","v":42.873405000000005},0]
[null,null,"Servente com Encargos Complementares","h",0.59399999999999997,16.311500000000002,9.6890310000000017,null,0]
[null,null,"Argamassa colante tipo AC III","kg",8.6199999999999992,1.3109999999999999,11.300819999999998,null,0]
[null,null,null,null,null,"","",null,0]
["SF-00131",{"$f":"INDEX(Orçamentária!A:B,MATCH(Composições!A737,Orçamentária!A:A,0),2)","v":"Mármore Branco Especial 20mm para rodabancada"},null,{"$f":"TRIM(INDEX(Orçamentária!D:D,MATCH(Composições!A737,Orçamentária!A:A,0),1))","v":"m2"},null,"","",null,0]
[null,null,null,null,null,"","",null,0]
[null,null,"Mármore Branco Especial, com 20 mm de espessura e 150 mm de altura, polido, para rodabancada","m",{"$f":"ROUND(1.04/0.15,4)","v":6.9333},"","",{"$f":"SUM(G739:G743)","v":43.224525},0]
[null,null,"Argamassa colante tipo AC III","kg",8.6199999999999992,1.3109999999999999,11.300819999999998,null,0]
[null,null,"Marmorista/graniteiro com encargos complementares","h",1.1879999999999999,18.420500000000001,21.883554,null,0]
[null,null,"Servente com Encargos Complementares","h",0.59399999999999997,16.311500000000002,9.6890310000000017,null,0]
[null,null,"Rejunte cimenticio, qualquer cor","kg",0.14000000000000001,2.508,0.35112000000000004,null,0]
[null,null,null,null,null,"","",null,0]
["SF-00138",{"$f":"INDEX(Orçamentária!A:B,MATCH(Composições!A745,Orçamentária!A:A,0),2)","v":"Instalação de divisória e porta de divisória com dobradiça reaproveitadas"},null,{"$f":"TRIM(INDEX(Orçamentária!D:D,MATCH(Composições!A745,Orçamentária!A:A,0),1))","v":"m2"},null,"","",null,0]
[null,null,null,null,null,"","",null,0]
[null,null,"Instalação de divisórias # 35 mm estruturadas em perfis de alumínio, mão de obra para execução","m2",1,0.95,0.95,{"$f":"SUM(G747:G747)","v":0.95},0]
[null,null,null,null,null,"","",null,0]
["SF-00139",{"$f":"INDEX(Orçamentária!A:B,MATCH(Composições!A749,Orçamentária!A:A,0),2)","v":"Alçapão em forro de gesso acartonado"},null,{"$f":"TRIM(INDEX(Orçamentária!D:D,MATCH(Composições!A749,Orçamentária!A:A,0),1))","v":"m2"},null,"","",null,0]
[null,null,null,null,null,"","",null,0]
[null,null,"Perfil tipo cantoneira em L, em aco galvanizado, branco, para forro removivel, *23* x 3000 mm (L x C)","m",{"$f":"2*(1.5+0.67)","v":4.34},2.7549999999999999,11.9567,{"$f":"SUM(G751:G754)","v":50.241700000000002},0]
[null,null,"Placa de PVC com espessura mínima de 5 mm na cor branca","m2",{"$f":"0.36/0.6/0.6","v":1},"","",null,0]
[null,null,"Gesseiro com encargos complementares","h",1,21.973499999999998,21.973499999999998,null,0]
[null,null,"Servente com Encargos Complementares","h",1,16.311500000000002,16.311500000000002,null,0]
[null,null,null,null,null,"","",null,0]
["SF-00140",{"$f":"INDEX(Orçamentária!A:B,MATCH(Composições!A756,Orçamentária!A:A,0),2)","v":"Forro de PVC em réguas de 100 x 6000mm"},null,{"$f":"TRIM(INDEX(Orçamentária!D:D,MATCH(Composições!A756,Orçamentária!A:A,0),1))","v":"m2"},null,"","",null,0]
[null,null,null,null,null,"","",null,0]
[null,null,"ARAME GALVANIZADO 6 BWG, D = 5,16 MM (0,157 KG/M), OU 8 BWG, D = 4,19 MM (0,101 KG/M), OU 10 BWG, D = 3,40 MM (0,0713 KG/M)","kg",4.2599999999999999E-2,16.444499999999998,0.70053569999999987,{"$f":"SUM(G758:G765)","v":42.9376763},0]
[null,null,"Forro de PVC, frisado, branco, regua de 10 cm, espessura de 8 mm a 10 mm e comprimento 6 m (sem colocacao)","m2",1.0955999999999999,16.149999999999999,17.693939999999998,null,0]
[null,null,"Perfil canaleta, formato C, em aco zincado, para estrutura forro drywall, E = 0,5 mm, *46 x 18* (L x H), comprimento 3 m","m",3.8498999999999999,3.2774999999999999,12.618047249999998,null,0]
[null,null,"Pendural ou presilha reguladora, em aco galvanizado, com corpo, mola e rebite, para perfil tipo canaleta de estrutura em forros drywall","un",1.3265,1.2349999999999999,1.6382274999999999,null,0]
[null,null,"Parafuso dry wall, em aco zincado, cabeca lentilha e ponta broca (LB), largura 4,2 mm, comprimento 13 mm","un",2.1911999999999998,0.18049999999999999,0.39551159999999996,null,0]
[null,null,"PARAFUSO ZINCADO, AUTOBROCANTE, FLANGEADO, 4,2 MM X 19 MM","cento",1.32E-2,20.985499999999998,0.27700859999999999,null,0]
[null,null,"PARAFUSO, AUTO ATARRACHANTE, CABECA CHATA, FENDA SIMPLES, 1/4\u0094 (6,35 MM) X 25 MM","cento",3.3300000000000003E-2,35.976499999999994,1.1980174499999998,null,0]
[null,null,"Montador de estrutura metálica com encargos complementares","h",0.49940000000000001,16.852999999999998,8.4163881999999983,null,0]
[null,null,null,null,null,"","",null,0]
["SF-00141",{"$f":"INDEX(Orçamentária!A:B,MATCH(Composições!A767,Orçamentária!A:A,0),2)","v":"Forro de PVC em réguas de 100 x 6000mm, sem estrutura"},null,{"$f":"TRIM(INDEX(Orçamentária!D:D,MATCH(Composições!A767,Orçamentária!A:A,0),1))","v":"m2"},null,"","",null,0]
[null,null,null,null,null,"","",null,0]
[null,null,"Forro de PVC, frisado, branco, regua de 10 cm, espessura de 8 mm a 10 mm e comprimento 6 m (sem colocacao)","m2",1.0955999999999999,16.149999999999999,17.693939999999998,{"$f":"SUM(G769:G771)","v":20.614030999999997},0]
[null,null,"Parafuso dry wall, em aco zincado, cabeca lentilha e ponta broca (LB), largura 4,2 mm, comprimento 13 mm","un",2.1911999999999998,0.18049999999999999,0.39551159999999996,null,0]
[null,null,"Montador de estrutura metálica com encargos complementares","h",{"$f":"ROUND(0.4994*0.3,4)","v":0.14979999999999999},16.852999999999998,2.5245793999999995,null,0]
[null,null,null,null,null,"","",null,0]
["SF-00142",{"$f":"INDEX(Orçamentária!A:B,MATCH(Composições!A773,Orçamentária!A:A,0),2)","v":"Forro de PVC modular em placas"},null,{"$f":"TRIM(INDEX(Orçamentária!D:D,MATCH(Composições!A773,Orçamentária!A:A,0),1))","v":"m2"},null,"","",null,0]
[null,null,null,null,null,"","",null,0]
[null,null,"ARAME GALVANIZADO 6 BWG, D = 5,16 MM (0,157 KG/M), OU 8 BWG, D = 4,19 MM (0,101 KG/M), OU 10 BWG, D = 3,40 MM (0,0713 KG/M)","kg",4.2599999999999999E-2,16.444499999999998,0.70053569999999987,{"$f":"SUM(G775:G782)","v":25.243736299999995},0]
[null,null,"Forro de PVC modular em placas de 625 mm x 1250 mm","m2",1.0955999999999999,"","",null,0]
[null,null,"Perfil canaleta, formato C, em aco zincado, para estrutura forro drywall, E = 0,5 mm, *46 x 18* (L x H), comprimento 3 m","m",3.8498999999999999,3.2774999999999999,12.618047249999998,null,0]
[null,null,"Pendural ou presilha reguladora, em aco galvanizado, com corpo, mola e rebite, para perfil tipo canaleta de estrutura em forros drywall","un",1.3265,1.2349999999999999,1.6382274999999999,null,0]
[null,null,"Parafuso dry wall, em aco zincado, cabeca lentilha e ponta broca (LB), largura 4,2 mm, comprimento 13 mm","un",2.1911999999999998,0.18049999999999999,0.39551159999999996,null,0]
[null,null,"PARAFUSO ZINCADO, AUTOBROCANTE, FLANGEADO, 4,2 MM X 19 MM","cento",1.32E-2,20.985499999999998,0.27700859999999999,null,0]
[null,null,"PARAFUSO, AUTO ATARRACHANTE, CABECA CHATA, FENDA SIMPLES, 1/4\u0094 (6,35 MM) X 25 MM","cento",3.3300000000000003E-2,35.976499999999994,1.1980174499999998,null,0]
[null,null,"Montador de estrutura metálica com encargos complementares","h",0.49940000000000001,16.852999999999998,8.4163881999999983,null,0]
[null,null,null,null,null,"","",null,0]
["SF-00143",{"$f":"INDEX(Orçamentária!A:B,MATCH(Composições!A784,Orçamentária!A:A,0),2)","v":"Forro em chapas metálicas"},null,{"$f":"TRIM(INDEX(Orçamentária!D:D,MATCH(Composições!A784,Orçamentária!A:A,0),1))","v":"m2"},null,"","",null,0]
[null,null,null,null,null,"","",null,0]
[null,null,"Ajudante de operação em geral com encargos complementares","h",0.5,17.470500000000001,8.7352500000000006,{"$f":"SUM(G786:G789)","v":17.161749999999998},0]
[null,null,"Montador de estrutura metálica com encargos complementares","h",0.5,16.852999999999998,8.426499999999999,null,0]
[null,null,"Forro em chapa galvanizada","m2",1,"","",null,0]
[null,null,"Pintura eletrostática","m2",1,"",{"$f":"IF(ISNUMBER(F789),E789*F789,\"\")","v":""},null,0]
[null,null,null,null,null,"","",null,0]
["SF-00144",{"$f":"INDEX(Orçamentária!A:B,MATCH(Composições!A791,Orçamentária!A:A,0),2)","v":"Forro em gesso acartonado monolítico"},null,{"$f":"TRIM(INDEX(Orçamentária!D:D,MATCH(Composições!A791,Orçamentária!A:A,0),1))","v":"m2"},null,"","",null,0]
[null,null,null,null,null,"","",null,0]
[null,null,"ARAME GALVANIZADO 6 BWG, D = 5,16 MM (0,157 KG/M), OU 8 BWG, D = 4,19 MM (0,101 KG/M), OU 10 BWG, D = 3,40 MM (0,0713 KG/M)","kg",4.2599999999999999E-2,16.444499999999998,0.70053569999999987,{"$f":"SUM(G793:G803)","v":45.495431599999996},0]
[null,null,"Chapa de gesso acartonado, Standard (ST), cor branca, E = 12,5 mm, 1200 x 2400 mm (L x C)","m2",1.0966,12.188499999999999,13.3659091,null,0]
[null,null,"Perfil canaleta, formato C, em aco zincado, para estrutura forro drywall, E = 0,5 mm, *46 x 18* (L x H), comprimento 3 m","m",3.851,3.2774999999999999,12.6216525,null,0]
[null,null,"Pendural ou presilha reguladora, em aco galvanizado, com corpo, mola e rebite, para perfil tipo canaleta de estrutura em forros drywall","un",1.3265,1.2349999999999999,1.6382274999999999,null,0]
[null,null,"Fita de papel reforcada com lamina de metal para reforco de cantos de chapa de gesso para drywall","m",1.4395,1.8049999999999999,2.5982974999999997,null,0]
[null,null,"Massa de rejunte em po para drywall, a base de gesso, secagem rapida, para tratamento de juntas de chapa de gesso (com adicao de agua)","kg",0.5202,2.4224999999999999,1.2601844999999998,null,0]
[null,null,"Parafuso dry wall, em aco fosfatizado, cabeca trombeta e ponta agulha (TA), comprimento 25 mm","un",7.9740000000000002,7.5999999999999998E-2,0.60602400000000001,null,0]
[null,null,"Parafuso dry wall, em aco zincado, cabeca lentilha e ponta broca (LB), largura 4,2 mm, comprimento 13 mm","un",2.1911999999999998,0.18049999999999999,0.39551159999999996,null,0]
[null,null,"PARAFUSO ZINCADO, AUTOBROCANTE, FLANGEADO, 4,2 MM X 19 MM","cento",1.32E-2,20.985499999999998,0.27700859999999999,null,0]
[null,null,"Montador de estrutura metálica com encargos complementares","h",0.36280000000000001,16.852999999999998,6.1142683999999994,null,0]
[null,null,"Servente com Encargos Complementares","h",0.36280000000000001,16.311500000000002,5.9178122000000011,null,0]
[null,null,null,null,null,"","",null,0]
["SF-00145",{"$f":"INDEX(Orçamentária!A:B,MATCH(Composições!A805,Orçamentária!A:A,0),2)","v":"Forro em gesso acartonado monolítico, sem estrutura"},null,{"$f":"TRIM(INDEX(Orçamentária!D:D,MATCH(Composições!A805,Orçamentária!A:A,0),1))","v":"m2"},null,"","",null,0]
[null,null,null,null,null,"","",null,0]
[null,null,"Chapa de gesso acartonado, Standard (ST), cor branca, E = 12,5 mm, 1200 x 2400 mm (L x C)","m2",1.0966,12.188499999999999,13.3659091,{"$f":"SUM(G807:G813)","v":30.258007299999999},0]
[null,null,"Fita de papel reforcada com lamina de metal para reforco de cantos de chapa de gesso para drywall","m",1.4395,1.8049999999999999,2.5982974999999997,null,0]
[null,null,"Massa de rejunte em po para drywall, a base de gesso, secagem rapida, para tratamento de juntas de chapa de gesso (com adicao de agua)","kg",0.5202,2.4224999999999999,1.2601844999999998,null,0]
[null,null,"Parafuso dry wall, em aco fosfatizado, cabeca trombeta e ponta agulha (TA), comprimento 25 mm","un",7.9740000000000002,7.5999999999999998E-2,0.60602400000000001,null,0]
[null,null,"Parafuso dry wall, em aco zincado, cabeca lentilha e ponta broca (LB), largura 4,2 mm, comprimento 13 mm","un",2.1911999999999998,0.18049999999999999,0.39551159999999996,null,0]
[null,null,"Montador de estrutura metálica com encargos complementares","h",0.36280000000000001,16.852999999999998,6.1142683999999994,null,0]
[null,null,"Servente com Encargos Complementares","h",0.36280000000000001,16.311500000000002,5.9178122000000011,null,0]
[null,null,null,null,null,"","",null,0]
["SF-00146",{"$f":"INDEX(Orçamentária!A:B,MATCH(Composições!A815,Orçamentária!A:A,0),2)","v":"Forro mineral modulado"},null,{"$f":"TRIM(INDEX(Orçamentária!D:D,MATCH(Composições!A815,Orçamentária!A:A,0),1))","v":"m2"},null,"","",null,0]
[null,null,null,null,null,"","",null,0]
[null,null,"FORRO DE FIBRA MINERAL EM PLACAS DE 625 X 625 MM, E = 15 MM, BORDA RETA, COM PINTURA ANTIMOFO, APOIADO EM PERFIL DE ACO GALVANIZADO COM 24 MM DE BASE - INSTALADO","m2",1,98.381999999999991,98.381999999999991,{"$f":"SUM(G817:G817)","v":98.381999999999991},0]
[null,null,null,null,null,"","",null,0]
["SF-00147",{"$f":"INDEX(Orçamentária!A:B,MATCH(Composições!A819,Orçamentária!A:A,0),2)","v":"Forro mineral modulado, sem estrutura"},null,{"$f":"TRIM(INDEX(Orçamentária!D:D,MATCH(Composições!A819,Orçamentária!A:A,0),1))","v":"m2"},null,"","",null,0]
[null,null,null,null,null,"","",null,0]
[null,null,"Ajudante especializado com encargos complementares","h",{"$f":"1.2/4","v":0.3},19.3705,5.8111499999999996,{"$f":"SUM(G821:G822)","v":27.727649999999997},0]
[null,null,"Placa de fibra mineral para forro, de 625 x 625 mm, E = 15 mm, borda reta, com pintura antimofo (nao inclui perfis)","UN",1,21.916499999999999,21.916499999999999,null,0]
[null,null,null,null,null,"","",null,0]
["SF-00148",{"$f":"INDEX(Orçamentária!A:B,MATCH(Composições!A824,Orçamentária!A:A,0),2)","v":"Instalação de forro de PVC reaproveitado"},null,{"$f":"TRIM(INDEX(Orçamentária!D:D,MATCH(Composições!A824,Orçamentária!A:A,0),1))","v":"m2"},null,"","",null,0]
[null,null,null,null,null,"","",null,0]
[null,null,"Montador de estrutura metálica com encargos complementares","h",{"$f":"ROUND(0.4994*0.3,4)","v":0.14979999999999999},16.852999999999998,2.5245793999999995,{"$f":"SUM(G826:G826)","v":2.5245793999999995},0]
[null,null,null,null,null,"","",null,0]
["SF-00149",{"$f":"INDEX(Orçamentária!A:B,MATCH(Composições!A828,Orçamentária!A:A,0),2)","v":"Instalação de forro mineral reaproveitado"},null,{"$f":"TRIM(INDEX(Orçamentária!D:D,MATCH(Composições!A828,Orçamentária!A:A,0),1))","v":"m2"},null,"","",null,0]
[null,null,null,null,null,"","",null,0]
[null,null,"Ajudante especializado com encargos complementares","h",1.2,19.3705,23.244599999999998,{"$f":"SUM(G830:G831)","v":43.468199999999996},0]
[null,null,"Montador de estrutura metálica com encargos complementares","h",1.2,16.852999999999998,20.223599999999998,null,0]
[null,null,null,null,null,"","",null,0]
["SF-00150",{"$f":"INDEX(Orçamentária!A:B,MATCH(Composições!A833,Orçamentária!A:A,0),2)","v":"Tabica metálica em forro de gesso acartonado"},null,{"$f":"TRIM(INDEX(Orçamentária!D:D,MATCH(Composições!A833,Orçamentária!A:A,0),1))","v":"m"},null,"","",null,0]
[null,null,null,null,null,"","",null,0]
[null,null,"Perfil tabica fechada, lisa, formato Z, em aco galvanizado natural, largura total na horizontal *40* mm, para estrutura forro drywall","m",1.1512,3.1825000000000001,3.663694,{"$f":"SUM(G835:G838)","v":8.9376398999999989},0]
[null,null,"Parafuso dry wall, em aco zincado, cabeca lentilha e ponta broca (LB), largura 4,2 mm, comprimento 13 mm","un",0.58330000000000004,0.18049999999999999,0.10528565000000001,null,0]
[null,null,"PARAFUSO, AUTO ATARRACHANTE, CABECA CHATA, FENDA SIMPLES, 1/4\u0094 (6,35 MM) X 25 MM","cento",7.4899999999999994E-2,35.976499999999994,2.6946398499999993,null,0]
[null,null,"Montador de estrutura metálica com encargos complementares","h",0.14680000000000001,16.852999999999998,2.4740204000000001,null,0]
[null,null,null,null,null,"","",null,0]
["SF-00151",{"$f":"INDEX(Orçamentária!A:B,MATCH(Composições!A840,Orçamentária!A:A,0),2)","v":"Instalação de revestimento de piso têxtil (carpete) reaproveitado"},null,{"$f":"TRIM(INDEX(Orçamentária!D:D,MATCH(Composições!A840,Orçamentária!A:A,0),1))","v":"m2"},null,"","",null,0]
[null,null,null,null,null,"","",null,0]
[null,null,"Servente com Encargos Complementares","h",0.1,16.311500000000002,1.6311500000000003,{"$f":"SUM(G842:G844)","v":6.2994500000000002},0]
[null,null,"Pedreiro com Encargos Complementares","h",0.1,22.087499999999999,2.2087499999999998,null,0]
[null,null,"ADESIVO ACRILICO/COLA DE CONTATO","kg",0.1,24.595499999999998,2.4595500000000001,null,0]
[null,null,null,null,null,"","",null,0]
["SF-00152",{"$f":"INDEX(Orçamentária!A:B,MATCH(Composições!A846,Orçamentária!A:A,0),2)","v":"Baguetes metálicos"},null,{"$f":"TRIM(INDEX(Orçamentária!D:D,MATCH(Composições!A846,Orçamentária!A:A,0),1))","v":"m"},null,"","",null,0]
[null,null,null,null,null,"","",null,0]
[null,null,"Vidraceiro com encargos complementares","h",0.25,20.539000000000001,5.1347500000000004,{"$f":"SUM(G848:G849)","v":5.1347500000000004},0]
[null,null,"Baguetes metálicos","m",1.05,"","",null,0]
[null,null,null,null,null,"","",null,0]
["SF-00153",{"$f":"INDEX(Orçamentária!A:B,MATCH(Composições!A851,Orçamentária!A:A,0),2)","v":"Cordão de massa de vidraceiro"},null,{"$f":"TRIM(INDEX(Orçamentária!D:D,MATCH(Composições!A851,Orçamentária!A:A,0),1))","v":"m"},null,"","",null,0]
[null,null,null,null,null,"","",null,0]
[null,null,"Vidraceiro com encargos complementares","h",0.5,20.539000000000001,{"$f":"IF(ISNUMBER(F853),E853*F853,\"\")","v":10.269500000000001},{"$f":"SUM(G853:G855)","v":18.707875000000001},0]
[null,null,"Servente com Encargos Complementares","h",{"$f":"E853/2","v":0.25},16.311500000000002,4.0778750000000006,null,0]
[null,null,"Massa para vidro","kg",0.6,7.2675000000000001,4.3605,null,0]
[null,null,null,null,null,"","",null,0]
["SF-00154",{"$f":"INDEX(Orçamentária!A:B,MATCH(Composições!A857,Orçamentária!A:A,0),2)","v":"Espelho cristal, e=5 mm"},null,{"$f":"TRIM(INDEX(Orçamentária!D:D,MATCH(Composições!A857,Orçamentária!A:A,0),1))","v":"m2"},null,"","",null,0]
[null,null,null,null,null,"","",null,0]
[null,null,"Parafuso frances M16 em aco galvanizado, comprimento = 45 mm, diametro = 16 mm, cabeca abaulada","un",4,3.5054999999999996,14.021999999999998,{"$f":"SUM(G859:G862)","v":61.624600000000001},0]
[null,null,"Espelho cristal comum #5mm","m2",1,0,0,null,0]
[null,null,"Servente com Encargos Complementares","h",0.4,16.311500000000002,6.5246000000000013,null,0]
[null,null,"Vidraceiro com encargos complementares","h",2,20.539000000000001,41.078000000000003,null,0]
[null,null,null,null,null,"","",null,0]
["SF-00155",{"$f":"INDEX(Orçamentária!A:B,MATCH(Composições!A864,Orçamentária!A:A,0),2)","v":"Instalação de vidro reaproveitado"},null,{"$f":"TRIM(INDEX(Orçamentária!D:D,MATCH(Composições!A864,Orçamentária!A:A,0),1))","v":"m2"},null,"","",null,0]
[null,null,null,null,null,"","",null,0]
[null,null,"Servente com Encargos Complementares","h",0.45,16.311500000000002,7.3401750000000012,{"$f":"SUM(G866:G868)","v":28.210725000000004},0]
[null,null,"Vidraceiro com encargos complementares","h",0.45,20.539000000000001,9.2425500000000014,null,0]
[null,null,"Massa para vidro","kg",1.6,7.2675000000000001,11.628,null,0]
[null,null,null,null,null,"","",null,0]
["SF-00156",{"$f":"INDEX(Orçamentária!A:B,MATCH(Composições!A870,Orçamentária!A:A,0),2)","v":"Substituição da calafetação com selante"},null,{"$f":"TRIM(INDEX(Orçamentária!D:D,MATCH(Composições!A870,Orçamentária!A:A,0),1))","v":"m"},null,"","",null,0]
[null,null,null,null,null,"","",null,0]
[null,null,"Vidraceiro com encargos complementares","h",0.5,20.539000000000001,10.269500000000001,{"$f":"SUM(G872:G874)","v":19.81566145},0]
[null,null,"Servente com Encargos Complementares","h",{"$f":"E872/2","v":0.25},16.311500000000002,4.0778750000000006,null,0]
[null,null,"Silicone acetico uso geral incolor 280 g","un",{"$f":"ROUND(1/3,4)","v":0.33329999999999999},16.406499999999998,5.468286449999999,null,0]
[null,null,null,null,null,"","",null,0]
[null,null,"Obs.: considerando que cada bisnaga rende, no mínimo, 3 m de aplicação.",null,null,"","",null,0]
[null,null,null,null,null,"","",null,0]
["SF-00157",{"$f":"INDEX(Orçamentária!A:B,MATCH(Composições!A878,Orçamentária!A:A,0),2)","v":"Vidro liso comum transparente 4mm"},null,{"$f":"TRIM(INDEX(Orçamentária!D:D,MATCH(Composições!A878,Orçamentária!A:A,0),1))","v":"m2"},null,"","",null,0]
[null,null,null,null,null,"","",null,0]
[null,null,"Servente com Encargos Complementares","h",0.45,16.311500000000002,7.3401750000000012,{"$f":"SUM(G880:G883)","v":142.60972500000003},0]
[null,null,"Vidraceiro com encargos complementares","h",0.45,20.539000000000001,9.2425500000000014,null,0]
[null,null,"Vidro liso incolor 4mm - sem colocacao","m2",1,114.399,114.399,null,0]
[null,null,"Massa para vidro","kg",1.6,7.2675000000000001,11.628,null,0]
[null,null,null,null,null,"","",null,0]
["SF-00158",{"$f":"INDEX(Orçamentária!A:B,MATCH(Composições!A885,Orçamentária!A:A,0),2)","v":"Vidro liso comum transparente 6mm"},null,{"$f":"TRIM(INDEX(Orçamentária!D:D,MATCH(Composições!A885,Orçamentária!A:A,0),1))","v":"m2"},null,"","",null,0]
[null,null,null,null,null,"","",null,0]
[null,null,"Servente com Encargos Complementares","h",0.2,16.311500000000002,3.2623000000000006,{"$f":"SUM(G887:G890)","v":200.40629999999999},0]
[null,null,"Vidraceiro com encargos complementares","h",1,20.539000000000001,20.539000000000001,null,0]
[null,null,"VIDRO LISO INCOLOR 6 MM - SEM COLOCACAO","m2",1,162.07,162.07,null,0]
[null,null,"Massa para vidro","kg",2,7.2675000000000001,14.535,null,0]
[null,null,null,null,null,"","",null,0]
["SF-00159",{"$f":"INDEX(Orçamentária!A:B,MATCH(Composições!A892,Orçamentária!A:A,0),2)","v":"Instalação de painéis de vidro temperado reaproveitados"},null,{"$f":"TRIM(INDEX(Orçamentária!D:D,MATCH(Composições!A892,Orçamentária!A:A,0),1))","v":"m2"},null,"","",null,0]
[null,null,null,null,null,"","",null,0]
[null,null,"Vidraceiro com encargos complementares","h",{"$f":"2.2/2","v":1.1000000000000001},20.539000000000001,22.592900000000004,{"$f":"SUM(G894:G895)","v":40.535550000000008},0]
[null,null,"Servente com Encargos Complementares","h",{"$f":"2.2/2","v":1.1000000000000001},16.311500000000002,17.942650000000004,null,0]
[null,null,null,null,null,"","",null,0]
["SF-00160",{"$f":"INDEX(Orçamentária!A:B,MATCH(Composições!A897,Orçamentária!A:A,0),2)","v":"Mola hidráulica de piso"},null,{"$f":"TRIM(INDEX(Orçamentária!D:D,MATCH(Composições!A897,Orçamentária!A:A,0),1))","v":"un"},null,"","",null,0]
[null,null,null,null,null,"","",null,0]
[null,null,"Vidraceiro com encargos complementares","h",0.75,20.539000000000001,15.404250000000001,{"$f":"SUM(G899:G902)","v":20.297700000000003},0]
[null,null,"Servente com Encargos Complementares","h",0.3,16.311500000000002,4.8934500000000005,null,0]
[null,null,"Mola Hidráulica de piso universal para portas de batente e portas vai-e-vem em aço inoxidável. Ref.: DORMA, modelo BTS 75V, com eixo intercambiável tipo \"B\"","un",1,"","",null,0]
[null,null,"Impermeabilizante Dorma SealProtect","un",1,"","",null,0]
[null,null,null,null,null,"","",null,0]
["SF-00161",{"$f":"INDEX(Orçamentária!A:B,MATCH(Composições!A904,Orçamentária!A:A,0),2)","v":"Instalação de persianas reaproveitadas"},null,{"$f":"TRIM(INDEX(Orçamentária!D:D,MATCH(Composições!A904,Orçamentária!A:A,0),1))","v":"m"},null,"","",null,0]
[null,null,null,null,null,"","",null,0]
[null,null,"Ajudante especializado com encargos complementares","h",{"$f":"ROUND(1/3,4)","v":0.33329999999999999},19.3705,6.4561876499999995,{"$f":"SUM(G906:G906)","v":6.4561876499999995},0]
[null,null,null,null,null,"","",null,0]
["SF-00166",{"$f":"INDEX(Orçamentária!A:B,MATCH(Composições!A908,Orçamentária!A:A,0),2)","v":"Tubo de ligação para bacia sanitária"},null,{"$f":"TRIM(INDEX(Orçamentária!D:D,MATCH(Composições!A908,Orçamentária!A:A,0),1))","v":"un"},null,"","",null,0]
[null,null,null,null,null,"","",null,0]
[null,null,"Encanador ou Bombeiro Hidráulico com Encargos Complementares","h",0.2,21.622,4.3243999999999998,{"$f":"SUM(G910:G912)","v":6.2528999999999995},0]
[null,null,"Vedacao PVC, 100 mm, para saida vaso sanitario","un",1,1.9284999999999997,1.9284999999999997,null,0]
[null,null,"Tubo de ligação para bacia sanitária em PVC, com acabamento cromado, ajustável ou não. Ref.: DECA 1968C ou equivalente","un",1,"","",null,0]
[null,null,null,null,null,"","",null,0]
["SF-00167",{"$f":"INDEX(Orçamentária!A:B,MATCH(Composições!A914,Orçamentária!A:A,0),2)","v":"Tubo PVC esgoto ou aguas pluviais predial DN 100mm"},null,{"$f":"TRIM(INDEX(Orçamentária!D:D,MATCH(Composições!A914,Orçamentária!A:A,0),1))","v":"m"},null,"","",null,0]
[null,null,null,null,null,"","",null,0]
[null,null,"Adesivo plastico para PVC, frasco com 850 gr","un",4.2900000000000001E-2,69.254999999999995,2.9710394999999998,{"$f":"SUM(G916:G921)","v":53.888446000000002},0]
[null,null,"Tubo PVC, serie R, DN 100 mm, para esgoto ou aguas pluviais predial (NBR 5688)","m",1.04,28.177,{"$f":"IF(ISNUMBER(F917),E917*F917,\"\")","v":29.304079999999999},null,0]
[null,null,"Solucao limpadora para PVC, frasco com 1000 cm3","un",7.0099999999999996E-2,60.134999999999998,4.2154634999999994,null,0]
[null,null,"Lixa d'agua em folha, grao 100","un",0.14849999999999999,1.748,0.25957799999999998,null,0]
[null,null,"Auxiliar de encanador ou bombeiro hidráulico com encargos complementares","h",0.44500000000000001,16.891000000000002,7.5164950000000008,null,0]
[null,null,"Encanador ou Bombeiro Hidráulico com Encargos Complementares","h",0.44500000000000001,21.622,9.6217900000000007,null,0]
[null,null,null,null,null,"","",null,0]
["SF-00168",{"$f":"INDEX(Orçamentária!A:B,MATCH(Composições!A923,Orçamentária!A:A,0),2)","v":"Tubo PVC esgoto ou aguas pluviais predial DN 40mm"},null,{"$f":"TRIM(INDEX(Orçamentária!D:D,MATCH(Composições!A923,Orçamentária!A:A,0),1))","v":"m"},null,"","",null,0]
[null,null,null,null,null,"","",null,0]
[null,null,"Tubo PVC, serie R, DN 40 mm, para esgoto ou aguas pluviais predial (NBR 5688)","m",1.04,9.8419999999999987,10.235679999999999,{"$f":"SUM(G925:G928)","v":16.655000999999999},0]
[null,null,"Lixa d'agua em folha, grao 100","un",3.6999999999999998E-2,1.748,6.4675999999999997E-2,null,0]
[null,null,"Auxiliar de encanador ou bombeiro hidráulico com encargos complementares","h",0.16500000000000001,16.891000000000002,2.7870150000000002,null,0]
[null,null,"Encanador ou Bombeiro Hidráulico com Encargos Complementares","h",0.16500000000000001,21.622,3.5676300000000003,null,0]
[null,null,null,null,null,"","",null,0]
["SF-00169",{"$f":"INDEX(Orçamentária!A:B,MATCH(Composições!A930,Orçamentária!A:A,0),2)","v":"Tubo PVC esgoto ou aguas pluviais predial DN 50mm"},null,{"$f":"TRIM(INDEX(Orçamentária!D:D,MATCH(Composições!A930,Orçamentária!A:A,0),1))","v":"m"},null,"","",null,0]
[null,null,null,null,null,"","",null,0]
[null,null,"Adesivo plastico para PVC, frasco com 850 gr","un",1.2800000000000001E-2,69.254999999999995,0.88646400000000003,{"$f":"SUM(G932:G937)","v":22.964435500000004},0]
[null,null,"Tubo PVC, serie R, DN 50 mm, para esgoto ou aguas pluviais predial (NBR 5688)","m",1.04,12.273999999999999,12.76496,null,0]
[null,null,"Solucao limpadora para PVC, frasco com 1000 cm3","un",1.9300000000000001E-2,60.134999999999998,1.1606055,null,0]
[null,null,"Lixa d'agua em folha, grao 100","un",3.6999999999999998E-2,1.748,6.4675999999999997E-2,null,0]
[null,null,"Auxiliar de encanador ou bombeiro hidráulico com encargos complementares","h",0.21,16.891000000000002,3.5471100000000004,null,0]
[null,null,"Encanador ou Bombeiro Hidráulico com Encargos Complementares","h",0.21,21.622,4.5406199999999997,null,0]
[null,null,null,null,null,"","",null,0]
["SF-00170",{"$f":"INDEX(Orçamentária!A:B,MATCH(Composições!A939,Orçamentária!A:A,0),2)","v":"Tubo PVC esgoto ou aguas pluviais predial DN 75mm"},null,{"$f":"TRIM(INDEX(Orçamentária!D:D,MATCH(Composições!A939,Orçamentária!A:A,0),1))","v":"m"},null,"","",null,0]
[null,null,null,null,null,"","",null,0]
[null,null,"Adesivo plastico para PVC, frasco com 850 gr","un",2.93E-2,69.254999999999995,2.0291714999999999,{"$f":"SUM(G941:G946)","v":34.198537000000002},0]
[null,null,"Tubo PVC, serie R, DN 75 mm, para esgoto ou aguas pluviais predial (NBR 5688)","m",1.04,16.083499999999997,16.726839999999999,null,0]
[null,null,"Solucao limpadora para PVC, frasco com 1000 cm3","un",4.5499999999999999E-2,60.134999999999998,2.7361424999999997,null,0]
[null,null,"Lixa d'agua em folha, grao 100","un",0.1085,1.748,0.18965799999999999,null,0]
[null,null,"Auxiliar de encanador ou bombeiro hidráulico com encargos complementares","h",0.32500000000000001,16.891000000000002,5.4895750000000012,null,0]
[null,null,"Encanador ou Bombeiro Hidráulico com Encargos Complementares","h",0.32500000000000001,21.622,7.0271499999999998,null,0]
[null,null,null,null,null,"","",null,0]
["SF-00171",{"$f":"INDEX(Orçamentária!A:B,MATCH(Composições!A948,Orçamentária!A:A,0),2)","v":"Tubo PVC soldável agua fria DN 25mm"},null,{"$f":"TRIM(INDEX(Orçamentária!D:D,MATCH(Composições!A948,Orçamentária!A:A,0),1))","v":"m"},null,"","",null,0]
[null,null,null,null,null,"","",null,0]
[null,null,"Tubo PVC, soldavel, DN 25 mm, agua fria (NBR-5648)","m",1.0609999999999999,3.0874999999999999,3.2758374999999997,{"$f":"SUM(G950:G952)","v":3.8920454999999996},0]
[null,null,"Auxiliar de encanador ou bombeiro hidráulico com encargos complementares","h",1.6E-2,16.891000000000002,0.27025600000000005,null,0]
[null,null,"Encanador ou Bombeiro Hidráulico com Encargos Complementares","h",1.6E-2,21.622,0.34595199999999998,null,0]
[null,null,null,null,null,"","",null,0]
["SF-00172",{"$f":"INDEX(Orçamentária!A:B,MATCH(Composições!A954,Orçamentária!A:A,0),2)","v":"Tubo PVC soldável agua fria DN 32mm"},null,{"$f":"TRIM(INDEX(Orçamentária!D:D,MATCH(Composições!A954,Orçamentária!A:A,0),1))","v":"m"},null,"","",null,0]
[null,null,null,null,null,"","",null,0]
[null,null,"Tubo PVC, soldavel, DN 32 mm, agua fria (NBR-5648)","m",1.0609999999999999,6.9349999999999996,7.3580349999999992,{"$f":"SUM(G956:G958)","v":8.1282949999999996},0]
[null,null,"Auxiliar de encanador ou bombeiro hidráulico com encargos complementares","h",0.02,16.891000000000002,0.33782000000000006,null,0]
[null,null,"Encanador ou Bombeiro Hidráulico com Encargos Complementares","h",0.02,21.622,0.43243999999999999,null,0]
[null,null,null,null,null,"","",null,0]
["SF-00173",{"$f":"INDEX(Orçamentária!A:B,MATCH(Composições!A960,Orçamentária!A:A,0),2)","v":"Tubo PVC soldável agua fria DN 40mm"},null,{"$f":"TRIM(INDEX(Orçamentária!D:D,MATCH(Composições!A960,Orçamentária!A:A,0),1))","v":"m"},null,"","",null,0]
[null,null,null,null,null,"","",null,0]
[null,null,"Tubo PVC, soldavel, DN 40 mm, agua fria (NBR-5648)","m",1.0609999999999999,10.088999999999999,10.704428999999998,{"$f":"SUM(G962:G965)","v":11.642724999999999},0]
[null,null,"Lixa d'agua em folha, grao 100","un",8.0000000000000002E-3,1.748,1.3984E-2,null,0]
[null,null,"Auxiliar de encanador ou bombeiro hidráulico com encargos complementares","h",2.4E-2,16.891000000000002,0.40538400000000008,null,0]
[null,null,"Encanador ou Bombeiro Hidráulico com Encargos Complementares","h",2.4E-2,21.622,0.51892800000000006,null,0]
[null,null,null,null,null,"","",null,0]
["SF-00174",{"$f":"INDEX(Orçamentária!A:B,MATCH(Composições!A967,Orçamentária!A:A,0),2)","v":"Tubo PVC soldável agua fria DN 50mm"},null,{"$f":"TRIM(INDEX(Orçamentária!D:D,MATCH(Composições!A967,Orçamentária!A:A,0),1))","v":"m"},null,"","",null,0]
[null,null,null,null,null,"","",null,0]
[null,null,"TUBO PVC, SOLDAVEL, DN 50 MM, PARA AGUA FRIA (NBR-5648)","m",1.0609999999999999,11.561499999999999,12.266751499999998,{"$f":"SUM(G969:G972)","v":13.401108499999999},0]
[null,null,"Lixa d'agua em folha, grao 100","un",0.01,1.748,1.7479999999999999E-2,null,0]
[null,null,"Auxiliar de encanador ou bombeiro hidráulico com encargos complementares","h",2.9000000000000001E-2,16.891000000000002,0.48983900000000008,null,0]
[null,null,"Encanador ou Bombeiro Hidráulico com Encargos Complementares","h",2.9000000000000001E-2,21.622,0.62703799999999998,null,0]
[null,null,null,null,null,"","",null,0]
["SF-00175",{"$f":"INDEX(Orçamentária!A:B,MATCH(Composições!A974,Orçamentária!A:A,0),2)","v":"Base registro gaveta 3/4\""},null,{"$f":"TRIM(INDEX(Orçamentária!D:D,MATCH(Composições!A974,Orçamentária!A:A,0),1))","v":"un"},null,"","",null,0]
[null,null,null,null,null,"","",null,0]
[null,null,"Base registro gaveta 3/4\" em liga de cobre, mod 4509.202 ref: DECA ou equivalente","un ",1,"","",{"$f":"SUM(G976:G979)","v":10.529980500000001},0]
[null,null,"FITA VEDA ROSCA EM ROLOS DE 18 MM X 50 M (L X C)","UN",1.2999999999999999E-2,12.188499999999999,0.15845049999999999,null,0]
[null,null,"Encanador ou Bombeiro Hidráulico com Encargos Complementares","h",0.3,21.622,6.4866000000000001,null,0]
[null,null,"Auxiliar de encanador ou bombeiro hidráulico com encargos complementares","h",0.23,16.891000000000002,3.8849300000000007,null,0]
[null,null,null,null,null,"","",null,0]
["SF-00176",{"$f":"INDEX(Orçamentária!A:B,MATCH(Composições!A981,Orçamentária!A:A,0),2)","v":"Caixa sifonada de PVC DN 150mm"},null,{"$f":"TRIM(INDEX(Orçamentária!D:D,MATCH(Composições!A981,Orçamentária!A:A,0),1))","v":"un"},null,"",{"$f":"IF(ISNUMBER(F981),E981*F981,\"\")","v":""},null,0]
[null,null,null,null,null,"","",null,0]
[null,null,"Auxiliar de encanador ou bombeiro hidráulico com encargos complementares","h",0.38,16.891000000000002,6.4185800000000004,{"$f":"SUM(G983:G990)","v":58.257752500000002},0]
[null,null,"Encanador ou Bombeiro Hidráulico com Encargos Complementares","h",0.38,21.622,8.2163599999999999,null,0]
[null,null,"Adesivo plastico para PVC, frasco com 850 gr","un",1.4800000000000001E-2,69.254999999999995,1.0249740000000001,null,0]
[null,null,"Anel borracha para tubo esgoto predial DN 75 mm (NBR 5688)","un",1,1.9854999999999998,1.9854999999999998,null,0]
[null,null,"Lixa d'agua em folha, grao 100","un",5.7000000000000002E-2,1.748,9.9636000000000002E-2,null,0]
[null,null,"Caixa sifonada PVC, 150 x 185 x 75 mm, com grelha quadrada branca","un",1,38.399000000000001,38.399000000000001,null,0]
[null,null,"Pasta lubrificante para tubos e conexoes com junta elastica (uso em PVC, aco, polietileno e outros) ( de *400* g)","un",0.03,25.355499999999999,0.76066499999999992,null,0]
[null,null,"Solucao limpadora para PVC, frasco com 1000 cm3","un",2.2499999999999999E-2,60.134999999999998,1.3530374999999999,null,0]
[null,null,null,null,null,"","",null,0]
["SF-00177",{"$f":"INDEX(Orçamentária!A:B,MATCH(Composições!A992,Orçamentária!A:A,0),2)","v":"Caixa sifonada de PVC DN 250mm"},null,{"$f":"TRIM(INDEX(Orçamentária!D:D,MATCH(Composições!A992,Orçamentária!A:A,0),1))","v":"un"},null,"","",null,0]
[null,null,null,null,null,"","",null,0]
[null,null,"Auxiliar de encanador ou bombeiro hidráulico com encargos complementares","h",0.38,16.891000000000002,6.4185800000000004,{"$f":"SUM(G994:G1001)","v":99.278752499999982},0]
[null,null,"Encanador ou Bombeiro Hidráulico com Encargos Complementares","h",0.38,21.622,8.2163599999999999,null,0]
[null,null,"Adesivo plastico para PVC, frasco com 850 gr","un",1.4800000000000001E-2,69.254999999999995,1.0249740000000001,null,0]
[null,null,"Anel borracha para tubo esgoto predial DN 75 mm (NBR 5688)","un",1,1.9854999999999998,1.9854999999999998,null,0]
[null,null,"Lixa d'agua em folha, grao 100","un",5.7000000000000002E-2,1.748,9.9636000000000002E-2,null,0]
[null,null,"CAIXA SIFONADA PVC, 250 X 230 X 75 MM, COM TAMPA E PORTA TAMPA QUADRADA BRANCA","un",1,79.419999999999987,79.419999999999987,null,0]
[null,null,"Pasta lubrificante para tubos e conexoes com junta elastica (uso em PVC, aco, polietileno e outros) ( de *400* g)","un",0.03,25.355499999999999,0.76066499999999992,null,0]
[null,null,"Solucao limpadora para PVC, frasco com 1000 cm3","un",2.2499999999999999E-2,60.134999999999998,1.3530374999999999,null,0]
[null,null,null,null,null,"","",null,0]
["SF-00178",{"$f":"INDEX(Orçamentária!A:B,MATCH(Composições!A1003,Orçamentária!A:A,0),2)","v":"Grelha quadrada para ralo 10x10cm"},null,{"$f":"TRIM(INDEX(Orçamentária!D:D,MATCH(Composições!A1003,Orçamentária!A:A,0),1))","v":"un"},null,"","",null,0]
[null,null,null,null,null,"","",null,0]
[null,null,"Grelha quadrada para ralo, com caixilho, dimensões 10x10cm, em Aço polido, ref.: Moldenox ou equivalente","un ",1,"","",{"$f":"SUM(G1005:G1006)","v":2.4467250000000003},0]
[null,null,"Servente com Encargos Complementares","h",0.15,16.311500000000002,2.4467250000000003,null,0]
[null,null,null,null,null,"","",null,0]
["SF-00179",{"$f":"INDEX(Orçamentária!A:B,MATCH(Composições!A1008,Orçamentária!A:A,0),2)","v":"Grelha quadrada para ralo 15x15cm"},null,{"$f":"TRIM(INDEX(Orçamentária!D:D,MATCH(Composições!A1008,Orçamentária!A:A,0),1))","v":"un"},null,"","",null,0]
[null,null,null,null,null,"","",null,0]
[null,null,"Grelha quadrada para ralo, com caixilho, dimensões 15x15cm, em Aço polido, ref.: Moldenox ou equivalente","un ",1,"","",{"$f":"SUM(G1010:G1011)","v":2.4467250000000003},0]
[null,null,"Servente com Encargos Complementares","h",0.15,16.311500000000002,2.4467250000000003,null,0]
[null,null,null,null,null,"","",null,0]
["SF-00180",{"$f":"INDEX(Orçamentária!A:B,MATCH(Composições!A1013,Orçamentária!A:A,0),2)","v":"Ralo seco PVC DN 100x40mm"},null,{"$f":"TRIM(INDEX(Orçamentária!D:D,MATCH(Composições!A1013,Orçamentária!A:A,0),1))","v":"un"},null,"","",null,0]
[null,null,null,null,null,"","",null,0]
[null,null,"Auxiliar de encanador ou bombeiro hidráulico com encargos complementares","h",7.0000000000000007E-2,16.891000000000002,1.1823700000000001,{"$f":"SUM(G1015:G1020)","v":9.6149879999999985},0]
[null,null,"Encanador ou Bombeiro Hidráulico com Encargos Complementares","h",7.0000000000000007E-2,21.622,1.5135400000000001,null,0]
[null,null,"Adesivo plastico para PVC, frasco com 850 gr","un",4.8999999999999998E-3,69.254999999999995,0.33934949999999997,null,0]
[null,null,"Lixa d'agua em folha, grao 100","un",1.7000000000000001E-2,1.748,2.9716000000000003E-2,null,0]
[null,null,"Ralo seco PVC conico, 100 x 40 mm,  com grelha redonda branca","un",1,6.0989999999999993,6.0989999999999993,null,0]
[null,null,"Solucao limpadora para PVC, frasco com 1000 cm3","un",7.4999999999999997E-3,60.134999999999998,0.45101249999999998,null,0]
[null,null,null,null,null,"","",null,0]
["SF-00181",{"$f":"INDEX(Orçamentária!A:B,MATCH(Composições!A1022,Orçamentária!A:A,0),2)","v":"Assento para bacia convencional – Linha Administrativa"},null,{"$f":"TRIM(INDEX(Orçamentária!D:D,MATCH(Composições!A1022,Orçamentária!A:A,0),1))","v":"un"},null,"","",null,0]
[null,null,null,null,null,"","",null,0]
[null,null,"Assento poliéster com fixação cromada na cor branco gelo, ref: AP.75.17 – Linha Fast/Aspen – Deca ou equivalente","un ",1,"","",{"$f":"SUM(G1024:G1025)","v":1.6311500000000003},0]
[null,null,"Servente com Encargos Complementares","h",0.1,16.311500000000002,1.6311500000000003,null,0]
[null,null,null,null,null,"","",null,0]
["SF-00182",{"$f":"INDEX(Orçamentária!A:B,MATCH(Composições!A1027,Orçamentária!A:A,0),2)","v":"Bacia convencional – Linha Administrativa"},null,{"$f":"TRIM(INDEX(Orçamentária!D:D,MATCH(Composições!A1027,Orçamentária!A:A,0),1))","v":"un"},null,"","",null,0]
[null,null,null,null,null,"","",null,0]
[null,null,"Bacia sanitaria (vaso) convencional de louca branca","UN",1,117.41999999999999,117.41999999999999,{"$f":"SUM(G1029:G1035)","v":175.02972519999997},0]
[null,null,"Tubo de ligação para bacia sanitária em PVC, com acabamento cromado, ajustável ou não. Ref.: DECA 1968C ou equivalente","un",1,"","",null,0]
[null,null,"Parafuso niquelado com acabamento cromado para fixar peca sanitaria, inclui porca cega, arruela e bucha de nylon tamanho S-10","UN",2,17.270999999999997,34.541999999999994,null,0]
[null,null,"Vedacao PVC, 100 mm, para saida vaso sanitario","un",1,1.9284999999999997,1.9284999999999997,null,0]
[null,null,"Rejunte epoxi, qualquer cor","kg",8.8099999999999998E-2,52.8675,4.6576267499999995,null,0]
[null,null,"Encanador ou Bombeiro Hidráulico com Encargos Complementares","h",0.49859999999999999,21.622,10.7807292,null,0]
[null,null,"Servente com Encargos Complementares","h",0.34949999999999998,16.311500000000002,5.7008692500000002,null,0]
[null,null,null,null,null,"","",null,0]
["SF-00183",{"$f":"INDEX(Orçamentária!A:B,MATCH(Composições!A1037,Orçamentária!A:A,0),2)","v":"Bacia convencional com saída horizontal"},null,{"$f":"TRIM(INDEX(Orçamentária!D:D,MATCH(Composições!A1037,Orçamentária!A:A,0),1))","v":"un"},null,"","",null,0]
[null,null,null,null,null,"","",null,0]
[null,null,"Bacia convencional com saída horizontal (Modelo P.90.17 – Linha Ravena – Deca)","un ",1,"","",{"$f":"SUM(G1039:G1044)","v":57.609725199999986},0]
[null,null,"Parafuso niquelado com acabamento cromado para fixar peca sanitaria, inclui porca cega, arruela e bucha de nylon tamanho S-10","UN",2,17.270999999999997,34.541999999999994,null,0]
[null,null,"Vedacao PVC, 100 mm, para saida vaso sanitario","un",1,1.9284999999999997,1.9284999999999997,null,0]
[null,null,"Rejunte epoxi, qualquer cor","kg",8.8099999999999998E-2,52.8675,4.6576267499999995,null,0]
[null,null,"Encanador ou Bombeiro Hidráulico com Encargos Complementares","h",0.49859999999999999,21.622,10.7807292,null,0]
[null,null,"Servente com Encargos Complementares","h",0.34949999999999998,16.311500000000002,5.7008692500000002,null,0]
[null,null,null,null,null,"",{"$f":"IF(ISNUMBER(F1045),E1045*F1045,\"\")","v":""},null,0]
["SF-00184",{"$f":"INDEX(Orçamentária!A:B,MATCH(Composições!A1046,Orçamentária!A:A,0),2)","v":"Cuba oval de embutir"},null,{"$f":"TRIM(INDEX(Orçamentária!D:D,MATCH(Composições!A1046,Orçamentária!A:A,0),1))","v":"un"},null,"","",null,0]
[null,null,null,null,null,"","",null,0]
[null,null,"Cuba oval de embutir, mod.: L37, cor branca ref: DECA ou equivalente","un ",1,"","",{"$f":"SUM(G1048:G1051)","v":34.313477500000005},0]
[null,null,"Massa plastica para marmore/granito","kg",0.52710000000000001,27.293499999999998,14.386403849999999,null,0]
[null,null,"Servente com Encargos Complementares","h",0.26650000000000001,16.311500000000002,4.3470147500000005,null,0]
[null,null,"Marmorista/graniteiro com encargos complementares","h",0.8458,18.420500000000001,15.580058900000001,null,0]
[null,null,null,null,null,"","",null,0]
["SF-00185",{"$f":"INDEX(Orçamentária!A:B,MATCH(Composições!A1053,Orçamentária!A:A,0),2)","v":"Cuba retangular em aço inox – Linha Administrativa"},null,{"$f":"TRIM(INDEX(Orçamentária!D:D,MATCH(Composições!A1053,Orçamentária!A:A,0),1))","v":"un"},null,"","",null,0]
[null,null,null,null,null,"","",null,0]
[null,null,"Cuba retangular com as dimensões 0,34x0,40x0,18m, em aço Inox AISI 304 com acabamento em alto brilho, com válvula de escoamento, ref: Franke 12646 ou equivalente","un ",1,"","",{"$f":"SUM(G1055:G1058)","v":19.364283199999996},0]
[null,null,"Massa plastica para marmore/granito","kg",0.2974,27.293499999999998,8.1170868999999986,null,0]
[null,null,"Marmorista/graniteiro com encargos complementares","h",0.47739999999999999,18.420500000000001,8.7939466999999993,null,0]
[null,null,"Servente com Encargos Complementares","h",0.15040000000000001,16.311500000000002,2.4532496000000004,null,0]
[null,null,null,null,null,"","",null,0]
["SF-00186",{"$f":"INDEX(Orçamentária!A:B,MATCH(Composições!A1060,Orçamentária!A:A,0),2)","v":"Cuba semiencaixe quadrada com mesa"},null,{"$f":"TRIM(INDEX(Orçamentária!D:D,MATCH(Composições!A1060,Orçamentária!A:A,0),1))","v":"un"},null,"","",null,0]
[null,null,null,null,null,"","",null,0]
[null,null,"Cuba semi-encaixe com mesa, mod.: L830 ref: DECA ou equivalente","un ",1,"","",{"$f":"SUM(G1062:G1065)","v":34.313477500000005},0]
[null,null,"Massa plastica para marmore/granito","kg",0.52710000000000001,27.293499999999998,14.386403849999999,null,0]
[null,null,"Servente com Encargos Complementares","h",0.26650000000000001,16.311500000000002,4.3470147500000005,null,0]
[null,null,"Marmorista/graniteiro com encargos complementares","h",0.8458,18.420500000000001,15.580058900000001,null,0]
[null,null,null,null,null,"","",null,0]
["SF-00187",{"$f":"INDEX(Orçamentária!A:B,MATCH(Composições!A1067,Orçamentária!A:A,0),2)","v":"Instalação de lavatório reaproveitado"},null,{"$f":"TRIM(INDEX(Orçamentária!D:D,MATCH(Composições!A1067,Orçamentária!A:A,0),1))","v":"un"},null,"","",null,0]
[null,null,null,null,null,"","",null,0]
[null,null,"Parafuso niquelado 3 1/2\" com acabamento cromado para fixar peca sanitaria, inclui porca cega, arruela e bucha de nylon tamanho S-8","UN",2,12.805999999999999,25.611999999999998,{"$f":"SUM(G1069:G1072)","v":38.663234899999992},0]
[null,null,"Rejunte epoxi, qualquer cor","kg",3.04E-2,52.8675,1.607172,null,0]
[null,null,"Encanador ou Bombeiro Hidráulico com Encargos Complementares","h",0.38700000000000001,21.622,8.3677139999999994,null,0]
[null,null,"Servente com Encargos Complementares","h",0.18859999999999999,16.311500000000002,3.0763489000000002,null,0]
[null,null,null,null,null,"","",null,0]
["SF-00188",{"$f":"INDEX(Orçamentária!A:B,MATCH(Composições!A1074,Orçamentária!A:A,0),2)","v":"Instalação de mictório reaproveitado"},null,{"$f":"TRIM(INDEX(Orçamentária!D:D,MATCH(Composições!A1074,Orçamentária!A:A,0),1))","v":"un"},null,"","",null,0]
[null,null,null,null,null,"","",null,0]
[null,null,"Parafuso niquelado 3 1/2\" com acabamento cromado para fixar peca sanitaria, inclui porca cega, arruela e bucha de nylon tamanho S-8","UN",2,12.805999999999999,25.611999999999998,{"$f":"SUM(G1076:G1079)","v":39.234496499999999},0]
[null,null,"Fita veda rosca em rolos de 18 mm x 10 m (L x C)","UN",3.6499999999999998E-2,3.306,0.120669,null,0]
[null,null,"Servente com Encargos Complementares","h",{"$f":"ROUND(0.3179/2,4)","v":0.159},16.311500000000002,2.5935285000000006,null,0]
[null,null,"Encanador ou Bombeiro Hidráulico com Encargos Complementares","h",{"$f":"1.009/2","v":0.50449999999999995},21.622,10.908299,null,0]
[null,null,null,null,null,"","",null,0]
[null,null,"Obs.: Redução do coeficiente de MO, considerando que esse serviço não inclui engate flexível e válvula de descarga.",null,null,"","",null,0]
[null,null,null,null,null,"","",null,0]
["SF-00189",{"$f":"INDEX(Orçamentária!A:B,MATCH(Composições!A1083,Orçamentária!A:A,0),2)","v":"Instalação de vaso sanitário reaproveitado"},null,{"$f":"TRIM(INDEX(Orçamentária!D:D,MATCH(Composições!A1083,Orçamentária!A:A,0),1))","v":"un"},null,"","",null,0]
[null,null,null,null,null,"","",null,0]
[null,null,"Parafuso niquelado com acabamento cromado para fixar peca sanitaria, inclui porca cega, arruela e bucha de nylon tamanho S-10","UN",2,17.270999999999997,34.541999999999994,{"$f":"SUM(G1085:G1089)","v":57.570805599999986},0]
[null,null,"Vedacao PVC, 100 mm, para saida vaso sanitario","un",1,1.9284999999999997,1.9284999999999997,null,0]
[null,null,"Rejunte epoxi, qualquer cor","kg",8.8099999999999998E-2,52.8675,4.6576267499999995,null,0]
[null,null,"Encanador ou Bombeiro Hidráulico com Encargos Complementares","h",0.49680000000000002,21.622,10.7418096,null,0]
[null,null,"Servente com Encargos Complementares","h",0.34949999999999998,16.311500000000002,5.7008692500000002,null,0]
[null,null,null,null,null,"","",null,0]
["SF-00190",{"$f":"INDEX(Orçamentária!A:B,MATCH(Composições!A1091,Orçamentária!A:A,0),2)","v":"Lavatório suspenso"},null,{"$f":"TRIM(INDEX(Orçamentária!D:D,MATCH(Composições!A1091,Orçamentária!A:A,0),1))","v":"un"},null,"","",null,0]
[null,null,null,null,null,"","",null,0]
[null,null,"Lavatorio louca branca suspenso *40 x 30* cm","UN",1,76.626999999999995,76.626999999999995,{"$f":"SUM(G1093:G1097)","v":115.2902349},0]
[null,null,"Parafuso niquelado 3 1/2\" com acabamento cromado para fixar peca sanitaria, inclui porca cega, arruela e bucha de nylon tamanho S-8","UN",2,12.805999999999999,25.611999999999998,null,0]
[null,null,"Rejunte epoxi, qualquer cor","kg",3.04E-2,52.8675,1.607172,null,0]
[null,null,"Encanador ou Bombeiro Hidráulico com Encargos Complementares","h",0.38700000000000001,21.622,8.3677139999999994,null,0]
[null,null,"Servente com Encargos Complementares","h",0.18859999999999999,16.311500000000002,3.0763489000000002,null,0]
[null,null,null,null,null,"","",null,0]
["SF-00191",{"$f":"INDEX(Orçamentária!A:B,MATCH(Composições!A1099,Orçamentária!A:A,0),2)","v":"Mictório – Linha Administrativa"},null,{"$f":"TRIM(INDEX(Orçamentária!D:D,MATCH(Composições!A1099,Orçamentária!A:A,0),1))","v":"un"},null,"","",null,0]
[null,null,null,null,null,"","",null,0]
[null,null,"Mictorio sifonado louca branca sem complementos","UN",1,266.94049999999999,266.94049999999999,{"$f":"SUM(G1101:G1105)","v":306.20475049999999},0]
[null,null,"Parafuso niquelado 3 1/2\" com acabamento cromado para fixar peca sanitaria, inclui porca cega, arruela e bucha de nylon tamanho S-8","UN",2,12.805999999999999,25.611999999999998,null,0]
[null,null,"Fita veda rosca em rolos de 18 mm x 10 m (L x C)","UN",{"$f":"0.076-0.0175-0.013","v":4.5499999999999999E-2},3.306,0.150423,null,0]
[null,null,"Servente com Encargos Complementares","h",{"$f":"ROUND(0.3179/2,4)","v":0.159},16.311500000000002,2.5935285000000006,null,0]
[null,null,"Encanador ou Bombeiro Hidráulico com Encargos Complementares","h",{"$f":"1.009/2","v":0.50449999999999995},21.622,10.908299,null,0]
[null,null,null,null,null,"","",null,0]
[null,null,"Obs.: Redução do coeficiente de MO, considerando que esse serviço não inclui engate flexível e válvula de descarga.",null,null,"","",null,0]
[null,null,null,null,null,"","",null,0]
["SF-00192",{"$f":"INDEX(Orçamentária!A:B,MATCH(Composições!A1109,Orçamentária!A:A,0),2)","v":"Tanque 38 litros – Linha Administrativa"},null,{"$f":"TRIM(INDEX(Orçamentária!D:D,MATCH(Composições!A1109,Orçamentária!A:A,0),1))","v":"un"},null,"",{"$f":"IF(ISNUMBER(F1109),E1109*F1109,\"\")","v":""},null,0]
[null,null,null,null,null,"","",null,0]
[null,null,"Tanque de louça com capacidade de 38 litros na cor branca, suspenso, sem coluna","un ",1,"","",{"$f":"SUM(G1111:G1115)","v":76.693032599999995},0]
[null,null,"Parafuso niquelado 3 1/2\" com acabamento cromado para fixar peca sanitaria, inclui porca cega, arruela e bucha de nylon tamanho S-8","UN",4,12.805999999999999,51.223999999999997,null,0]
[null,null,"Rejunte epoxi, qualquer cor","kg",3.9E-2,52.8675,2.0618325,null,0]
[null,null,"Encanador ou Bombeiro Hidráulico com Encargos Complementares","h",0.8226,21.622,17.786257200000001,null,0]
[null,null,"Servente com Encargos Complementares","h",0.34460000000000002,16.311500000000002,5.6209429000000011,null,0]
[null,null,null,null,null,"","",null,0]
["SF-00193",{"$f":"INDEX(Orçamentária!A:B,MATCH(Composições!A1117,Orçamentária!A:A,0),2)","v":"Acabamento para registro GD – Linha Administrativa"},null,{"$f":"TRIM(INDEX(Orçamentária!D:D,MATCH(Composições!A1117,Orçamentária!A:A,0),1))","v":"un"},null,"","",null,0]
[null,null,null,null,null,"","",null,0]
[null,null,"Acabamento para registro de gaveta de 1 ¼” a 1 ½” (GD), cromado. Ref.: Modelo 4900.C35.GD – Linha Aspen – Deca","un ",1,"","",{"$f":"SUM(G1119:G1120)","v":1.72976},0]
[null,null,"Encanador ou Bombeiro Hidráulico com Encargos Complementares","h",0.08,21.622,1.72976,null,0]
[null,null,null,null,null,"","",null,0]
["SF-00194",{"$f":"INDEX(Orçamentária!A:B,MATCH(Composições!A1122,Orçamentária!A:A,0),2)","v":"Acabamento para registro PQ – Linha Administrativa"},null,{"$f":"TRIM(INDEX(Orçamentária!D:D,MATCH(Composições!A1122,Orçamentária!A:A,0),1))","v":"un"},null,"","",null,0]
[null,null,null,null,null,"","",null,0]
[null,null,"Acabamento para registro de gaveta e pressão até 1” (PQ), cromado. Ref.: Modelo, 4900.C35.PQ – Linha Aspen – Deca","un ",1,"","",{"$f":"SUM(G1124:G1125)","v":1.72976},0]
[null,null,"Encanador ou Bombeiro Hidráulico com Encargos Complementares","h",0.08,21.622,1.72976,null,0]
[null,null,null,null,null,"","",null,0]
["SF-00195",{"$f":"INDEX(Orçamentária!A:B,MATCH(Composições!A1127,Orçamentária!A:A,0),2)","v":"Ducha higiênica – Linha Administrativa"},null,{"$f":"TRIM(INDEX(Orçamentária!D:D,MATCH(Composições!A1127,Orçamentária!A:A,0),1))","v":"un"},null,"","",null,0]
[null,null,null,null,null,"","",null,0]
[null,null,"Ducha higiênica com registro e derivação, com gatilho branco e flexível de 1,2m. Ref.: Modelo 1984.C35.ACT – Linha Aspen – Deca","un ",1,"","",{"$f":"SUM(G1129:G1131)","v":19.256500000000003},0]
[null,null,"Encanador ou Bombeiro Hidráulico com Encargos Complementares","h",0.5,21.622,10.811,null,0]
[null,null,"Auxiliar de encanador ou bombeiro hidráulico com encargos complementares","h",0.5,16.891000000000002,8.4455000000000009,null,0]
[null,null,null,null,null,"","",null,0]
["SF-00196",{"$f":"INDEX(Orçamentária!A:B,MATCH(Composições!A1133,Orçamentária!A:A,0),2)","v":"Instalação de metais e acessórios reaproveitados"},null,{"$f":"TRIM(INDEX(Orçamentária!D:D,MATCH(Composições!A1133,Orçamentária!A:A,0),1))","v":"un"},null,"","",null,0]
[null,null,null,null,null,"","",null,0]
[null,null,"Encanador ou Bombeiro Hidráulico com Encargos Complementares","h",0.16209999999999999,21.622,3.5049261999999999,{"$f":"SUM(G1135:G1136)","v":3.8883519},0]
[null,null,"Auxiliar de encanador ou bombeiro hidráulico com encargos complementares","h",2.2700000000000001E-2,16.891000000000002,0.38342570000000009,null,0]
[null,null,null,null,null,"","",null,0]
["SF-00197",{"$f":"INDEX(Orçamentária!A:B,MATCH(Composições!A1138,Orçamentária!A:A,0),2)","v":"Ligação flexível 1/2” x 40 cm – Linha Administrativa"},null,{"$f":"TRIM(INDEX(Orçamentária!D:D,MATCH(Composições!A1138,Orçamentária!A:A,0),1))","v":"un"},null,"","",null,0]
[null,null,null,null,null,"","",null,0]
[null,null,"Engate / rabicho flexivel inox 1/2 \" x 40 cm","UN",1,27.331499999999998,27.331499999999998,{"$f":"SUM(G1140:G1143)","v":31.448229999999999},0]
[null,null,"Fita veda rosca em rolos de 18 mm x 10 m (L x C)","UN",1.7500000000000002E-2,3.306,5.7855000000000004E-2,null,0]
[null,null,"Encanador ou Bombeiro Hidráulico com Encargos Complementares","h",0.15,21.622,3.2433000000000001,null,0]
[null,null,"Servente com Encargos Complementares","h",0.05,16.311500000000002,0.81557500000000016,null,0]
[null,null,null,null,null,"","",null,0]
["SF-00198",{"$f":"INDEX(Orçamentária!A:B,MATCH(Composições!A1145,Orçamentária!A:A,0),2)","v":"Sifão articulado para cozinha – Linha Administrativa"},null,{"$f":"TRIM(INDEX(Orçamentária!D:D,MATCH(Composições!A1145,Orçamentária!A:A,0),1))","v":"un"},null,"","",null,0]
[null,null,null,null,null,"","",null,0]
[null,null,"Sifão regulável com tubo de saída corrugado para cozinha, cromado.  Ref.: Modelo VSM182 – Esteves","un ",1,"","",{"$f":"SUM(G1147:G1150)","v":7.4272653000000002},0]
[null,null,"Fita veda rosca em rolos de 18 mm x 10 m (L x C)","UN",3.32E-2,3.306,0.1097592,null,0]
[null,null,"Servente com Encargos Complementares","h",8.6199999999999999E-2,16.311500000000002,1.4060513000000001,null,0]
[null,null,"Encanador ou Bombeiro Hidráulico com Encargos Complementares","h",0.27339999999999998,21.622,5.9114547999999996,null,0]
[null,null,null,null,null,"","",null,0]
["SF-00199",{"$f":"INDEX(Orçamentária!A:B,MATCH(Composições!A1152,Orçamentária!A:A,0),2)","v":"Sifão para lavatório 1 1/2\""},null,{"$f":"TRIM(INDEX(Orçamentária!D:D,MATCH(Composições!A1152,Orçamentária!A:A,0),1))","v":"un"},null,"","",null,0]
[null,null,null,null,null,"","",null,0]
[null,null,"Sifao em metal cromado para pia ou lavatorio, 1 x 1.1/2 \"","UN",1,108.908,108.908,{"$f":"SUM(G1154:G1157)","v":116.37927500000001},0]
[null,null,"Fita veda rosca em rolos de 18 mm x 10 m (L x C)","UN",0.05,3.306,0.1653,null,0]
[null,null,"Encanador ou Bombeiro Hidráulico com Encargos Complementares","h",0.27,21.622,5.8379400000000006,null,0]
[null,null,"Servente com Encargos Complementares","h",0.09,16.311500000000002,1.4680350000000002,null,0]
[null,null,null,null,null,"","",null,0]
["SF-00200",{"$f":"INDEX(Orçamentária!A:B,MATCH(Composições!A1159,Orçamentária!A:A,0),2)","v":"Sifão para tanque – Linha Administrativa"},null,{"$f":"TRIM(INDEX(Orçamentária!D:D,MATCH(Composições!A1159,Orçamentária!A:A,0),1))","v":"un"},null,"","",null,0]
[null,null,null,null,null,"","",null,0]
[null,null,"Fita veda rosca em rolos de 18 mm x 10 m (L x C)","UN",3.32E-2,3.306,0.1097592,{"$f":"SUM(G1161:G1164)","v":122.76676529999999},0]
[null,null,"Servente com Encargos Complementares","h",8.6199999999999999E-2,16.311500000000002,1.4060513000000001,null,0]
[null,null,"Encanador ou Bombeiro Hidráulico com Encargos Complementares","h",0.27339999999999998,21.622,5.9114547999999996,null,0]
[null,null,"Sifao em metal cromado para tanque, 1.1/4 x 1.1/2 \"","un",1,115.33949999999999,115.33949999999999,null,0]
[null,null,null,null,null,"","",null,0]
["SF-00201",{"$f":"INDEX(Orçamentária!A:B,MATCH(Composições!A1166,Orçamentária!A:A,0),2)","v":"Torneira de mesa para cozinha bica móvel – Linha Administrativa"},null,{"$f":"TRIM(INDEX(Orçamentária!D:D,MATCH(Composições!A1166,Orçamentária!A:A,0),1))","v":"un"},null,"","",null,0]
[null,null,null,null,null,"","",null,0]
[null,null,"Torneira de mesa para cozinha, cromada. Ref.: Deca Targa 1167.C40.CR","un ",1,"","",{"$f":"SUM(G1168:G1171)","v":4.5301671499999996},0]
[null,null,"Fita veda rosca em rolos de 18 mm x 10 m (L x C)","UN",2.1000000000000001E-2,3.306,6.9426000000000002E-2,null,0]
[null,null,"Encanador ou Bombeiro Hidráulico com Encargos Complementares","h",0.16669999999999999,21.622,3.6043873999999998,null,0]
[null,null,"Servente com Encargos Complementares","h",5.2499999999999998E-2,16.311500000000002,0.85635375000000014,null,0]
[null,null,null,null,null,"","",null,0]
["SF-00202",{"$f":"INDEX(Orçamentária!A:B,MATCH(Composições!A1173,Orçamentária!A:A,0),2)","v":"Torneira de mesa para cozinha bica móvel com arejador – Linha Administrativa"},null,{"$f":"TRIM(INDEX(Orçamentária!D:D,MATCH(Composições!A1173,Orçamentária!A:A,0),1))","v":"un"},null,"",{"$f":"IF(ISNUMBER(F1173),E1173*F1173,\"\")","v":""},null,0]
[null,null,null,null,null,"","",null,0]
[null,null,"Torneira de mesa bica móvel com arejador articulado para cozinha, cromada. Ref.: Código B5814C2CRB – Linha City – Celite","un ",1,"","",{"$f":"SUM(G1175:G1178)","v":4.5301671499999996},0]
[null,null,"Fita veda rosca em rolos de 18 mm x 10 m (L x C)","UN",2.1000000000000001E-2,3.306,6.9426000000000002E-2,null,0]
[null,null,"Encanador ou Bombeiro Hidráulico com Encargos Complementares","h",0.16669999999999999,21.622,3.6043873999999998,null,0]
[null,null,"Servente com Encargos Complementares","h",5.2499999999999998E-2,16.311500000000002,0.85635375000000014,null,0]
[null,null,null,null,null,"","",null,0]
["SF-00203",{"$f":"INDEX(Orçamentária!A:B,MATCH(Composições!A1180,Orçamentária!A:A,0),2)","v":"Torneira de mesa para lavatório – Linha Acessibilidade"},null,{"$f":"TRIM(INDEX(Orçamentária!D:D,MATCH(Composições!A1180,Orçamentária!A:A,0),1))","v":"un"},null,"","",null,0]
[null,null,null,null,null,"","",null,0]
[null,null,"Torneira de mesa para lavatório, para uso clínico e apoio à pessoa. Ref.: Deca Link 1196.CLNK","un ",1,"","",{"$f":"SUM(G1182:G1185)","v":2.6393764500000003},0]
[null,null,"Fita veda rosca em rolos de 18 mm x 10 m (L x C)","UN",2.1000000000000001E-2,3.306,6.9426000000000002E-2,null,0]
[null,null,"Encanador ou Bombeiro Hidráulico com Encargos Complementares","h",9.6000000000000002E-2,21.622,2.0757120000000002,null,0]
[null,null,"Servente com Encargos Complementares","h",3.0300000000000001E-2,16.311500000000002,0.49423845000000011,null,0]
[null,null,null,null,null,"","",null,0]
["SF-00204",{"$f":"INDEX(Orçamentária!A:B,MATCH(Composições!A1187,Orçamentária!A:A,0),2)","v":"Torneira de mesa para lavatório bica alta – Linha Administrativa"},null,{"$f":"TRIM(INDEX(Orçamentária!D:D,MATCH(Composições!A1187,Orçamentária!A:A,0),1))","v":"un"},null,"","",null,0]
[null,null,null,null,null,"","",null,0]
[null,null,"Torneira de mesa para lavatorio, bica alta, com arejador, cromado. Ref.: Código B5810C2CRB – Linha City – Celite","un ",1,"","",{"$f":"SUM(G1189:G1192)","v":2.6393764500000003},0]
[null,null,"Fita veda rosca em rolos de 18 mm x 10 m (L x C)","UN",2.1000000000000001E-2,3.306,6.9426000000000002E-2,null,0]
[null,null,"Encanador ou Bombeiro Hidráulico com Encargos Complementares","h",9.6000000000000002E-2,21.622,2.0757120000000002,null,0]
[null,null,"Servente com Encargos Complementares","h",3.0300000000000001E-2,16.311500000000002,0.49423845000000011,null,0]
[null,null,null,null,null,"","",null,0]
["SF-00205",{"$f":"INDEX(Orçamentária!A:B,MATCH(Composições!A1194,Orçamentária!A:A,0),2)","v":"Torneira de mesa para lavatório bica baixa – Linha Administrativa"},null,{"$f":"TRIM(INDEX(Orçamentária!D:D,MATCH(Composições!A1194,Orçamentária!A:A,0),1))","v":"un"},null,"","",null,0]
[null,null,null,null,null,"","",null,0]
[null,null,"Torneira de mesa para lavatorio bica baixa. Ref.: Código B5811C2CRB – Linha City – Celite","un ",1,"","",{"$f":"SUM(G1196:G1199)","v":2.6393764500000003},0]
[null,null,"Fita veda rosca em rolos de 18 mm x 10 m (L x C)","UN",2.1000000000000001E-2,3.306,6.9426000000000002E-2,null,0]
[null,null,"Encanador ou Bombeiro Hidráulico com Encargos Complementares","h",9.6000000000000002E-2,21.622,2.0757120000000002,null,0]
[null,null,"Servente com Encargos Complementares","h",3.0300000000000001E-2,16.311500000000002,0.49423845000000011,null,0]
[null,null,null,null,null,"","",null,0]
["SF-00206",{"$f":"INDEX(Orçamentária!A:B,MATCH(Composições!A1201,Orçamentária!A:A,0),2)","v":"Torneira de mesa para lavatório com fechamento automático – Linha Administrativa"},null,{"$f":"TRIM(INDEX(Orçamentária!D:D,MATCH(Composições!A1201,Orçamentária!A:A,0),1))","v":"un"},null,"","",null,0]
[null,null,null,null,null,"","",null,0]
[null,null,"TORNEIRA CROMADA DE MESA PARA LAVATORIO TEMPORIZADA PRESSAO BICA BAIXA","UN",1,146.00549999999998,146.00549999999998,{"$f":"SUM(G1203:G1206)","v":148.64487645},0]
[null,null,"Fita veda rosca em rolos de 18 mm x 10 m (L x C)","UN",2.1000000000000001E-2,3.306,6.9426000000000002E-2,null,0]
[null,null,"Encanador ou Bombeiro Hidráulico com Encargos Complementares","h",9.6000000000000002E-2,21.622,2.0757120000000002,null,0]
[null,null,"Servente com Encargos Complementares","h",3.0300000000000001E-2,16.311500000000002,0.49423845000000011,null,0]
[null,null,null,null,null,"","",null,0]
["SF-00207",{"$f":"INDEX(Orçamentária!A:B,MATCH(Composições!A1208,Orçamentária!A:A,0),2)","v":"Torneira de parede para cozinha bica móvel – Linha Administrativa"},null,{"$f":"TRIM(INDEX(Orçamentária!D:D,MATCH(Composições!A1208,Orçamentária!A:A,0),1))","v":"un"},null,"","",null,0]
[null,null,null,null,null,"","",null,0]
[null,null,"Torneira de parede para cozinha bica móvel com arejador articulado, cromada. Ref.: Código B5815C2CRB – Linha City – Celite","un ",1,"","",{"$f":"SUM(G1210:G1213)","v":3.1848588500000004},0]
[null,null,"Fita veda rosca em rolos de 18 mm x 10 m (L x C)","UN",2.1000000000000001E-2,3.306,6.9426000000000002E-2,null,0]
[null,null,"Encanador ou Bombeiro Hidráulico com Encargos Complementares","h",0.1164,21.622,2.5168007999999999,null,0]
[null,null,"Servente com Encargos Complementares","h",3.6700000000000003E-2,16.311500000000002,0.59863205000000019,null,0]
[null,null,null,null,null,"","",null,0]
["SF-00208",{"$f":"INDEX(Orçamentária!A:B,MATCH(Composições!A1215,Orçamentária!A:A,0),2)","v":"Torneira de parede para tanque – Linha Administrativa"},null,{"$f":"TRIM(INDEX(Orçamentária!D:D,MATCH(Composições!A1215,Orçamentária!A:A,0),1))","v":"un"},null,"","",null,0]
[null,null,null,null,null,"","",null,0]
[null,null,"Fita veda rosca em rolos de 18 mm x 10 m (L x C)","UN",2.1000000000000001E-2,3.306,6.9426000000000002E-2,{"$f":"SUM(G1217:G1220)","v":56.106864149999993},0]
[null,null,"Encanador ou Bombeiro Hidráulico com Encargos Complementares","h",0.1525,21.622,3.297355,null,0]
[null,null,"Servente com Encargos Complementares","h",4.8099999999999997E-2,16.311500000000002,0.78458315000000001,null,0]
[null,null,"Torneira cromada com bico para jardim/tanque 1/2 \" ou 3/4 \" (ref 1153)","un",1,51.955499999999994,51.955499999999994,null,0]
[null,null,null,null,null,"","",null,0]
["SF-00209",{"$f":"INDEX(Orçamentária!A:B,MATCH(Composições!A1222,Orçamentária!A:A,0),2)","v":"Válvula de descarga 1 1/2\" – Linha Acessibilidade"},null,{"$f":"TRIM(INDEX(Orçamentária!D:D,MATCH(Composições!A1222,Orçamentária!A:A,0),1))","v":"un"},null,"","",null,0]
[null,null,null,null,null,"","",null,0]
[null,null,"Válvula de descarga 1 1/2\" cromada. ref.: modelo 2565.C.112.CONF – linha Hydra Eco Conforto – Deca ","un ",1,"","",{"$f":"SUM(G1224:G1227)","v":30.618338500000007},0]
[null,null,"Fita veda rosca em rolos de 18 mm x 50 m (L x C)","UN",1.9E-2,12.188499999999999,0.2315815,null,0]
[null,null,"Auxiliar de encanador ou bombeiro hidráulico com encargos complementares","h",0.78900000000000003,16.891000000000002,13.326999000000002,null,0]
[null,null,"Encanador ou Bombeiro Hidráulico com Encargos Complementares","h",0.78900000000000003,21.622,17.059758000000002,null,0]
[null,null,null,null,null,"","",null,0]
["SF-00210",{"$f":"INDEX(Orçamentária!A:B,MATCH(Composições!A1229,Orçamentária!A:A,0),2)","v":"Válvula de descarga 1 1/2\" – Linha Administrativa"},null,{"$f":"TRIM(INDEX(Orçamentária!D:D,MATCH(Composições!A1229,Orçamentária!A:A,0),1))","v":"un"},null,"","",null,0]
[null,null,null,null,null,"","",null,0]
[null,null,"Valvula de descarga metalica, base 1 1/2 \" e acabamento metalico cromado","UN",1,172.32999999999998,172.32999999999998,{"$f":"SUM(G1231:G1234)","v":202.94833849999998},0]
[null,null,"Fita veda rosca em rolos de 18 mm x 50 m (L x C)","UN",1.9E-2,12.188499999999999,0.2315815,null,0]
[null,null,"Auxiliar de encanador ou bombeiro hidráulico com encargos complementares","h",0.78900000000000003,16.891000000000002,13.326999000000002,null,0]
[null,null,"Encanador ou Bombeiro Hidráulico com Encargos Complementares","h",0.78900000000000003,21.622,17.059758000000002,null,0]
[null,null,null,null,null,"","",null,0]
["SF-00211",{"$f":"INDEX(Orçamentária!A:B,MATCH(Composições!A1236,Orçamentária!A:A,0),2)","v":"Válvula de descarga 1 1/4\" – Linha Acessibilidade"},null,{"$f":"TRIM(INDEX(Orçamentária!D:D,MATCH(Composições!A1236,Orçamentária!A:A,0),1))","v":"un"},null,"","",null,0]
[null,null,null,null,null,"",{"$f":"IF(ISNUMBER(F1237),E1237*F1237,\"\")","v":""},null,0]
[null,null,"Válvula de descarga 1 1/4\" . Ref.: Modelo 2565.C.114.CONF – Linha Hydra Eco Conforto – Deca","un ",1,"","",{"$f":"SUM(G1238:G1241)","v":30.618338500000007},0]
[null,null,"Fita veda rosca em rolos de 18 mm x 50 m (L x C)","UN",1.9E-2,12.188499999999999,0.2315815,null,0]
[null,null,"Auxiliar de encanador ou bombeiro hidráulico com encargos complementares","h",0.78900000000000003,16.891000000000002,13.326999000000002,null,0]
[null,null,"Encanador ou Bombeiro Hidráulico com Encargos Complementares","h",0.78900000000000003,21.622,17.059758000000002,null,0]
[null,null,null,null,null,"","",null,0]
["SF-00212",{"$f":"INDEX(Orçamentária!A:B,MATCH(Composições!A1243,Orçamentária!A:A,0),2)","v":"Válvula de descarga 1 1/4\" – Linha Administrativa"},null,{"$f":"TRIM(INDEX(Orçamentária!D:D,MATCH(Composições!A1243,Orçamentária!A:A,0),1))","v":"un"},null,"","",null,0]
[null,null,null,null,null,"","",null,0]
[null,null,"Valvula de descarga metalica, base 1 1/4 \" e acabamento metalico cromado","UN",1,139.60249999999999,139.60249999999999,{"$f":"SUM(G1245:G1248)","v":170.22083850000001},0]
[null,null,"Fita veda rosca em rolos de 18 mm x 50 m (L x C)","UN",1.9E-2,12.188499999999999,0.2315815,null,0]
[null,null,"Auxiliar de encanador ou bombeiro hidráulico com encargos complementares","h",0.78900000000000003,16.891000000000002,13.326999000000002,null,0]
[null,null,"Encanador ou Bombeiro Hidráulico com Encargos Complementares","h",0.78900000000000003,21.622,17.059758000000002,null,0]
[null,null,null,null,null,"","",null,0]
["SF-00213",{"$f":"INDEX(Orçamentária!A:B,MATCH(Composições!A1250,Orçamentária!A:A,0),2)","v":"Válvula de escoamento para lavatório – Linha Administrativa"},null,{"$f":"TRIM(INDEX(Orçamentária!D:D,MATCH(Composições!A1250,Orçamentária!A:A,0),1))","v":"un"},null,"","",null,0]
[null,null,null,null,null,"","",null,0]
[null,null,"Valvula em metal cromado para lavatorio, 1 \" sem ladrao","UN",1,27.227,27.227,{"$f":"SUM(G1252:G1255)","v":32.041786200000004},0]
[null,null,"Fita veda rosca em rolos de 18 mm x 10 m (L x C)","UN",4.8000000000000001E-2,3.306,0.158688,null,0]
[null,null,"Encanador ou Bombeiro Hidráulico com Encargos Complementares","h",0.17399999999999999,21.622,3.7622279999999999,null,0]
[null,null,"Servente com Encargos Complementares","h",5.4800000000000001E-2,16.311500000000002,0.89387020000000017,null,0]
[null,null,null,null,null,"","",null,0]
["SF-00214",{"$f":"INDEX(Orçamentária!A:B,MATCH(Composições!A1257,Orçamentária!A:A,0),2)","v":"Válvula de escoamento para tanque – Linha Administrativa"},null,{"$f":"TRIM(INDEX(Orçamentária!D:D,MATCH(Composições!A1257,Orçamentária!A:A,0),1))","v":"un"},null,"","",null,0]
[null,null,null,null,null,"","",null,0]
[null,null,"Fita veda rosca em rolos de 18 mm x 10 m (L x C)","UN",3.32E-2,3.306,0.1097592,{"$f":"SUM(G1259:G1262)","v":23.166475800000001},0]
[null,null,"Valvula em metal cromado para tanque, 1.1/2 \" sem ladrao","un",1,19.759999999999998,19.759999999999998,null,0]
[null,null,"Encanador ou Bombeiro Hidráulico com Encargos Complementares","h",0.1232,21.622,2.6638304000000002,null,0]
[null,null,"Servente com Encargos Complementares","h",3.8800000000000001E-2,16.311500000000002,0.63288620000000007,null,0]
[null,null,null,null,null,"","",null,0]
["SF-00215",{"$f":"INDEX(Orçamentária!A:B,MATCH(Composições!A1264,Orçamentária!A:A,0),2)","v":"Válvula descarga para mictório – Linha Administrativa"},null,{"$f":"TRIM(INDEX(Orçamentária!D:D,MATCH(Composições!A1264,Orçamentária!A:A,0),1))","v":"un"},null,"","",null,0]
[null,null,null,null,null,"","",null,0]
[null,null,"Valvula de descarga em metal cromado para mictorio com acionamento por pressao e fechamento automatico","UN",1,148.3425,148.3425,{"$f":"SUM(G1266:G1269)","v":178.96083850000002},0]
[null,null,"Fita veda rosca em rolos de 18 mm x 50 m (L x C)","UN",1.9E-2,12.188499999999999,0.2315815,null,0]
[null,null,"Auxiliar de encanador ou bombeiro hidráulico com encargos complementares","h",0.78900000000000003,16.891000000000002,13.326999000000002,null,0]
[null,null,"Encanador ou Bombeiro Hidráulico com Encargos Complementares","h",0.78900000000000003,21.622,17.059758000000002,null,0]
[null,null,null,null,null,"","",null,0]
["SF-00216",{"$f":"INDEX(Orçamentária!A:B,MATCH(Composições!A1271,Orçamentária!A:A,0),2)","v":"Alarme de emergência para sanitários PNE"},null,{"$f":"TRIM(INDEX(Orçamentária!D:D,MATCH(Composições!A1271,Orçamentária!A:A,0),1))","v":"un"},null,"","",null,0]
[null,null,null,null,null,"","",null,0]
[null,null,"Eletricista com encargos complementares","h",0.28999999999999998,22.268000000000001,6.4577200000000001,{"$f":"SUM(G1273:G1275)","v":11.49386},0]
[null,null,"Auxiliar de eletricista com encargos complementares","h",0.28999999999999998,17.366,5.0361399999999996,null,0]
[null,null,"Alarme de emergência audiovisual intermitente com fio. Ref. Planeta Acessível Alarme PCD ou AbaFire AFSAVPNE + AbaFire AFAMPNE ","un ",1,"","",null,0]
[null,null,null,null,null,"","",null,0]
["SF-00217",{"$f":"INDEX(Orçamentária!A:B,MATCH(Composições!A1277,Orçamentária!A:A,0),2)","v":"Barra de apoio 40cm – Linha Acessibilidade"},null,{"$f":"TRIM(INDEX(Orçamentária!D:D,MATCH(Composições!A1277,Orçamentária!A:A,0),1))","v":"un"},null,"","",null,0]
[null,null,null,null,null,"","",null,0]
[null,null,"Barra de apoio com comprimento de 405mm e espaçamento de 66mm da parede, barra com bitola de 32m, em aço escovado","un ",1,"","",{"$f":"SUM(G1279:G1282)","v":41.305999999999997},0]
[null,null,"Bucha de nylon, diametro do furo 8 mm, comprimento 40 mm, com parafuso de rosca soberba, cabeca chata, fenda simples, 4,8 x 50 mm","UN",6,0.48449999999999999,2.907,null,0]
[null,null,"Pedreiro com Encargos Complementares","h",1,22.087499999999999,22.087499999999999,null,0]
[null,null,"Servente com Encargos Complementares","h",1,16.311500000000002,16.311500000000002,null,0]
[null,null,null,null,null,"","",null,0]
["SF-00218",{"$f":"INDEX(Orçamentária!A:B,MATCH(Composições!A1284,Orçamentária!A:A,0),2)","v":"Barra de apoio 70cm – Linha Acessibilidade"},null,{"$f":"TRIM(INDEX(Orçamentária!D:D,MATCH(Composições!A1284,Orçamentária!A:A,0),1))","v":"un"},null,"","",null,0]
[null,null,null,null,null,"","",null,0]
[null,null,"Barra de apoio com comprimento de 705mm e espaçamento de 66mm da parede, barra com bitola de 32mm em aço escovado","un ",1,"","",{"$f":"SUM(G1286:G1289)","v":41.305999999999997},0]
[null,null,"Bucha de nylon, diametro do furo 8 mm, comprimento 40 mm, com parafuso de rosca soberba, cabeca chata, fenda simples, 4,8 x 50 mm","UN",6,0.48449999999999999,2.907,null,0]
[null,null,"Pedreiro com Encargos Complementares","h",1,22.087499999999999,22.087499999999999,null,0]
[null,null,"Servente com Encargos Complementares","h",1,16.311500000000002,16.311500000000002,null,0]
[null,null,null,null,null,"","",null,0]
["SF-00219",{"$f":"INDEX(Orçamentária!A:B,MATCH(Composições!A1291,Orçamentária!A:A,0),2)","v":"Barra de apoio 80cm – Linha Acessibilidade"},null,{"$f":"TRIM(INDEX(Orçamentária!D:D,MATCH(Composições!A1291,Orçamentária!A:A,0),1))","v":"un"},null,"","",null,0]
[null,null,null,null,null,"","",null,0]
[null,null,"Barra de apoio linha conforto com comprimento de 805mm e espaçamento de 66mm da parede, barra com bitola de 32mm em aço escovado","un ",1,"","",{"$f":"SUM(G1293:G1296)","v":41.305999999999997},0]
[null,null,"Bucha de nylon, diametro do furo 8 mm, comprimento 40 mm, com parafuso de rosca soberba, cabeca chata, fenda simples, 4,8 x 50 mm","UN",6,0.48449999999999999,2.907,null,0]
[null,null,"Pedreiro com Encargos Complementares","h",1,22.087499999999999,22.087499999999999,null,0]
[null,null,"Servente com Encargos Complementares","h",1,16.311500000000002,16.311500000000002,null,0]
[null,null,null,null,null,"","",null,0]
["SF-00220",{"$f":"INDEX(Orçamentária!A:B,MATCH(Composições!A1298,Orçamentária!A:A,0),2)","v":"Barra de apoio lateral fixa 30cm – Linha Acessibilidade"},null,{"$f":"TRIM(INDEX(Orçamentária!D:D,MATCH(Composições!A1298,Orçamentária!A:A,0),1))","v":"un"},null,"","",null,0]
[null,null,null,null,null,"","",null,0]
[null,null,"Pedreiro com Encargos Complementares","h",1,22.087499999999999,22.087499999999999,{"$f":"SUM(G1300:G1303)","v":41.305999999999997},0]
[null,null,"Servente com Encargos Complementares","h",1,16.311500000000002,{"$f":"IF(ISNUMBER(F1301),E1301*F1301,\"\")","v":16.311500000000002},null,0]
[null,null,"Barra de apoio lateral fixa, com 303mm de comprimento, com a bitola de 32mm e em aço escovado","un",1,"","",null,0]
[null,null,"Bucha de nylon, diametro do furo 8 mm, comprimento 40 mm, com parafuso de rosca soberba, cabeca chata, fenda simples, 4,8 x 50 mm","UN",6,0.48449999999999999,2.907,null,0]
[null,null,null,null,null,"","",null,0]
["SF-00221",{"$f":"INDEX(Orçamentária!A:B,MATCH(Composições!A1305,Orçamentária!A:A,0),2)","v":"Lavatório suspenso – Linha Acessibilidade"},null,{"$f":"TRIM(INDEX(Orçamentária!D:D,MATCH(Composições!A1305,Orçamentária!A:A,0),1))","v":"un"},null,"","",null,0]
[null,null,null,null,null,"","",null,0]
[null,null,"Lavatório para instalação com coluna suspensa, para apoio à pessoa com deficiência. Ref.: Modelo L.39.17 – Linha Spot – Deca","un ",1,"","",{"$f":"SUM(G1307:G1311)","v":38.663234899999992},0]
[null,null,"Parafuso niquelado 3 1/2\" com acabamento cromado para fixar peca sanitaria, inclui porca cega, arruela e bucha de nylon tamanho S-8","UN",2,12.805999999999999,25.611999999999998,null,0]
[null,null,"Rejunte epoxi, qualquer cor","kg",3.04E-2,52.8675,1.607172,null,0]
[null,null,"Encanador ou Bombeiro Hidráulico com Encargos Complementares","h",0.38700000000000001,21.622,8.3677139999999994,null,0]
[null,null,"Servente com Encargos Complementares","h",0.18859999999999999,16.311500000000002,3.0763489000000002,null,0]
[null,null,null,null,null,"","",null,0]
["SF-00222",{"$f":"INDEX(Orçamentária!A:B,MATCH(Composições!A1313,Orçamentária!A:A,0),2)","v":"Lavatório suspenso com Coluna – Linha Acessibilidade"},null,{"$f":"TRIM(INDEX(Orçamentária!D:D,MATCH(Composições!A1313,Orçamentária!A:A,0),1))","v":"un"},null,"","",null,0]
[null,null,null,null,null,"","",null,0]
[null,null,"Encanador ou Bombeiro Hidráulico com Encargos Complementares","h",1.4666999999999999,21.622,31.712987399999996,{"$f":"SUM(G1315:G1320)","v":123.75751744999999},0]
[null,null,"Servente com Encargos Complementares","h",0.65169999999999995,16.311500000000002,10.63020455,null,0]
[null,null,"Lavatório para instalação com coluna suspensa, para apoio à pessoa com deficiência. Ref.: Modelo L.39.17 – Linha Spot – Deca","un ",1,"","",null,0]
[null,null,"Parafuso niquelado 3 1/2\" com acabamento cromado para fixar peca sanitaria, inclui porca cega, arruela e bucha de nylon tamanho S-8","UN",6,12.805999999999999,76.835999999999999,null,0]
[null,null,"Rejunte epoxi, qualquer cor","kg",8.6599999999999996E-2,52.8675,4.5783255,null,0]
[null,null,"Coluna suspensa para lavatório para apoio à pessoa com deficiência. Ref..: Deca Spot CS.39.17","un",1,"","",null,0]
[null,null,null,null,null,"","",null,0]
["SF-00223",{"$f":"INDEX(Orçamentária!A:B,MATCH(Composições!A1322,Orçamentária!A:A,0),2)","v":"Cabide – Linha Administrativa"},null,{"$f":"TRIM(INDEX(Orçamentária!D:D,MATCH(Composições!A1322,Orçamentária!A:A,0),1))","v":"un"},null,"","",null,0]
[null,null,null,null,null,"","",null,0]
[null,null,"Cabide, cromado. Ref.: Modelo 2060.C.FLX – Linha Flex – Deca","un ",1,"","",{"$f":"SUM(G1324:G1325)","v":3.8883519},0]
[null,null,"Fixação utilizando parafuso e bucha de nylon, somente mão de obra. af_10/2016","UN",1,3.8883519,3.8883519,null,0]
[null,null,null,null,null,"","",null,0]
["SF-00224",{"$f":"INDEX(Orçamentária!A:B,MATCH(Composições!A1327,Orçamentária!A:A,0),2)","v":"Papeleira – Linha Administrativa"},null,{"$f":"TRIM(INDEX(Orçamentária!D:D,MATCH(Composições!A1327,Orçamentária!A:A,0),1))","v":"un"},null,"","",null,0]
[null,null,null,null,null,"","",null,0]
[null,null,"Papeleira, cromada. Ref.: Modelo 2020.C.FLX – Linha Flex – Deca","un ",1,"","",{"$f":"SUM(G1329:G1331)","v":8.4615018000000006},0]
[null,null,"Encanador ou Bombeiro Hidráulico com Encargos Complementares","h",0.31619999999999998,21.622,6.8368763999999995,null,0]
[null,null,"Servente com Encargos Complementares","h",9.9599999999999994E-2,16.311500000000002,1.6246254000000002,null,0]
[null,null,null,null,null,"","",null,0]
["SF-00225",{"$f":"INDEX(Orçamentária!A:B,MATCH(Composições!A1333,Orçamentária!A:A,0),2)","v":"Porta toalha argola – Linha Administrativa"},null,{"$f":"TRIM(INDEX(Orçamentária!D:D,MATCH(Composições!A1333,Orçamentária!A:A,0),1))","v":"un"},null,"","",null,0]
[null,null,null,null,null,"","",null,0]
[null,null,"Porta-toalha em argola, cromado. Ref.: Modelo 2050.C.FLX – Linha Flex – Deca","un ",1,"","",{"$f":"SUM(G1335:G1337)","v":8.4615018000000006},0]
[null,null,"Encanador ou Bombeiro Hidráulico com Encargos Complementares","h",0.31619999999999998,21.622,6.8368763999999995,null,0]
[null,null,"Servente com Encargos Complementares","h",9.9599999999999994E-2,16.311500000000002,1.6246254000000002,null,0]
[null,null,null,null,null,"","",null,0]
["SF-00226",{"$f":"INDEX(Orçamentária!A:B,MATCH(Composições!A1339,Orçamentária!A:A,0),2)","v":"Porta toalha barra – Linha Administrativa"},null,{"$f":"TRIM(INDEX(Orçamentária!D:D,MATCH(Composições!A1339,Orçamentária!A:A,0),1))","v":"un"},null,"","",null,0]
[null,null,null,null,null,"","",null,0]
[null,null,"Porta-toalha em barra, cromado. Ref.: Modelo 2040.C.FLX – Linha Flex – Deca","un ",1,"","",{"$f":"SUM(G1341:G1343)","v":16.9208414},0]
[null,null,"Encanador ou Bombeiro Hidráulico com Encargos Complementares","h",0.63229999999999997,21.622,13.6715906,null,0]
[null,null,"Servente com Encargos Complementares","h",0.19919999999999999,16.311500000000002,3.2492508000000004,null,0]
[null,null,null,null,null,"","",null,0]
["SF-00227",{"$f":"INDEX(Orçamentária!A:B,MATCH(Composições!A1345,Orçamentária!A:A,0),2)","v":"Caixa 4x2 de embutir para alvenaria"},null,{"$f":"TRIM(INDEX(Orçamentária!D:D,MATCH(Composições!A1345,Orçamentária!A:A,0),1))","v":"un"},null,"","",null,0]
[null,null,null,null,null,"","",null,0]
[null,null,"Auxiliar de eletricista com encargos complementares","h",0.14499999999999999,17.366,2.5180699999999998,{"$f":"SUM(G1347:G1350)","v":7.8549551423275492},0]
[null,null,"Eletricista com encargos complementares","h",0.14499999999999999,22.268000000000001,3.2288600000000001,null,0]
[null,null,"ARGAMASSA TRAÇO 1:3 (EM VOLUME DE CIMENTO E AREIA MÉDIA ÚMIDA), PREPARO MANUAL. AF_08/2019","m3",8.9999999999999998E-4,495.02793591949995,0.44552514232754997,null,0]
[null,null,"Caixa de passagem, em PVC, de 4\" x 2\", para eletroduto flexivel corrugado","un",1,1.6624999999999999,1.6624999999999999,null,0]
[null,null,null,null,null,"","",null,0]
["SF-00228",{"$f":"INDEX(Orçamentária!A:B,MATCH(Composições!A1352,Orçamentária!A:A,0),2)","v":"Caixa 4x2 para drywall"},null,{"$f":"TRIM(INDEX(Orçamentária!D:D,MATCH(Composições!A1352,Orçamentária!A:A,0),1))","v":"un"},null,"","",null,0]
[null,null,null,null,null,"","",null,0]
[null,null,"Auxiliar de eletricista com encargos complementares","h",0.14499999999999999,17.366,2.5180699999999998,{"$f":"SUM(G1354:G1356)","v":5.7469299999999999},0]
[null,null,"Eletricista com encargos complementares","h",0.14499999999999999,22.268000000000001,3.2288600000000001,null,0]
[null,null,"Caixa 4x2 para drywall","un",1,"","",null,0]
[null,null,null,null,null,"","",null,0]
["SF-00229",{"$f":"INDEX(Orçamentária!A:B,MATCH(Composições!A1358,Orçamentária!A:A,0),2)","v":"Caixa 4x4 de embutir para alvenaria"},null,{"$f":"TRIM(INDEX(Orçamentária!D:D,MATCH(Composições!A1358,Orçamentária!A:A,0),1))","v":"un"},null,"","",null,0]
[null,null,null,null,null,"","",null,0]
[null,null,"Auxiliar de eletricista com encargos complementares","h",0.16600000000000001,17.366,2.8827560000000001,{"$f":"SUM(G1360:G1363)","v":10.469777523103401},0]
[null,null,"Eletricista com encargos complementares","h",0.16600000000000001,22.268000000000001,3.6964880000000004,null,0]
[null,null,"ARGAMASSA TRAÇO 1:3 (EM VOLUME DE CIMENTO E AREIA MÉDIA ÚMIDA), PREPARO MANUAL. AF_08/2019","m3",1.1999999999999999E-3,495.02793591949995,0.59403352310339985,null,0]
[null,null,"Caixa de passagem, em PVC, de 4\" x 4\", para eletroduto flexivel corrugado","un",1,3.2965,3.2965,null,0]
[null,null,null,null,null,"","",null,0]
["SF-00230",{"$f":"INDEX(Orçamentária!A:B,MATCH(Composições!A1365,Orçamentária!A:A,0),2)","v":"Caixa 4x4 para drywall"},null,{"$f":"TRIM(INDEX(Orçamentária!D:D,MATCH(Composições!A1365,Orçamentária!A:A,0),1))","v":"un"},null,"",{"$f":"IF(ISNUMBER(F1365),E1365*F1365,\"\")","v":""},null,0]
[null,null,null,null,null,"","",null,0]
[null,null,"Auxiliar de eletricista com encargos complementares","h",0.16600000000000001,17.366,2.8827560000000001,{"$f":"SUM(G1367:G1369)","v":6.579244000000001},0]
[null,null,"Eletricista com encargos complementares","h",0.16600000000000001,22.268000000000001,3.6964880000000004,null,0]
[null,null,"Caixa 4x4 para drywall","un",1,"","",null,0]
[null,null,null,null,null,"","",null,0]
["SF-00231",{"$f":"INDEX(Orçamentária!A:B,MATCH(Composições!A1371,Orçamentária!A:A,0),2)","v":"Caixa de passagem em alumínio 100x100x50mm"},null,{"$f":"TRIM(INDEX(Orçamentária!D:D,MATCH(Composições!A1371,Orçamentária!A:A,0),1))","v":"un"},null,"","",null,0]
[null,null,null,null,null,"","",null,0]
[null,null,"Auxiliar de eletricista com encargos complementares","h",0.34599999999999997,17.366,6.0086359999999992,{"$f":"SUM(G1373:G1375)","v":13.713363999999999},0]
[null,null,"Eletricista com encargos complementares","h",0.34599999999999997,22.268000000000001,7.7047279999999994,null,0]
[null,null,"Caixa de passagem em alumínio c/ tampa, 100x100x50mm","m",1,"","",null,0]
[null,null,null,null,null,"","",null,0]
["SF-00232",{"$f":"INDEX(Orçamentária!A:B,MATCH(Composições!A1377,Orçamentária!A:A,0),2)","v":"Caixa de passagem em alumínio 200x200x100mm"},null,{"$f":"TRIM(INDEX(Orçamentária!D:D,MATCH(Composições!A1377,Orçamentária!A:A,0),1))","v":"un"},null,"","",null,0]
[null,null,null,null,null,"","",null,0]
[null,null,"Auxiliar de eletricista com encargos complementares","h",0.34599999999999997,17.366,6.0086359999999992,{"$f":"SUM(G1379:G1381)","v":13.713363999999999},0]
[null,null,"Eletricista com encargos complementares","h",0.34599999999999997,22.268000000000001,7.7047279999999994,null,0]
[null,null,"Caixa de passagem em alumínio c/ tampa, 200x200x100mm","m",1,"","",null,0]
[null,null,null,null,null,"","",null,0]
["SF-00233",{"$f":"INDEX(Orçamentária!A:B,MATCH(Composições!A1383,Orçamentária!A:A,0),2)","v":"Caixa de passagem em PVC 150x150x75mm"},null,{"$f":"TRIM(INDEX(Orçamentária!D:D,MATCH(Composições!A1383,Orçamentária!A:A,0),1))","v":"un"},null,"","",null,0]
[null,null,null,null,null,"","",null,0]
[null,null,"Eletricista com encargos complementares","h",0.34599999999999997,22.268000000000001,7.7047279999999994,{"$f":"SUM(G1385:G1387)","v":45.278006999999995},0]
[null,null,"Servente com Encargos Complementares","h",0.34599999999999997,16.311500000000002,5.6437790000000003,null,0]
[null,null,"CAIXA DE PASSAGEM ELETRICA DE PAREDE, DE EMBUTIR, EM PVC, COM TAMPA APARAFUSADA, DIMENSOES 150 X 150 X *75* MM","un",1,31.929499999999997,31.929499999999997,null,0]
[null,null,null,null,null,"","",null,0]
["SF-00234",{"$f":"INDEX(Orçamentária!A:B,MATCH(Composições!A1389,Orçamentária!A:A,0),2)","v":"Caixa para piso elevado"},null,{"$f":"TRIM(INDEX(Orçamentária!D:D,MATCH(Composições!A1389,Orçamentária!A:A,0),1))","v":"un"},null,"","",null,0]
[null,null,null,null,null,"","",null,0]
[null,null,"Eletricista com encargos complementares","h",0.34599999999999997,22.268000000000001,7.7047279999999994,{"$f":"SUM(G1391:G1393)","v":13.713363999999999},0]
[null,null,"Auxiliar de eletricista com encargos complementares","h",0.34599999999999997,17.366,6.0086359999999992,null,0]
[null,null,"Caixa para piso elevado, 170 mm x 170 mm x 70 mm (dimensões aproximadas), incluindo módulos de tomadas 2P+T (fêmea).","un",1,"","",null,0]
[null,null,null,null,null,"","",null,0]
["SF-00235",{"$f":"INDEX(Orçamentária!A:B,MATCH(Composições!A1395,Orçamentária!A:A,0),2)","v":"Canaleta em alumínio aparente 73mmx25mm"},null,{"$f":"TRIM(INDEX(Orçamentária!D:D,MATCH(Composições!A1395,Orçamentária!A:A,0),1))","v":"m"},null,"","",null,0]
[null,null,null,null,null,"","",null,0]
[null,null,"Canaleta em alumínio com tampa, divisória interna, 73x25mm, incluindo curvas, conexões e acessórios de fixação","m",1.1499999999999999,"","",{"$f":"SUM(G1397:G1399)","v":7.1341199999999994},0]
[null,null,"Auxiliar de eletricista com encargos complementares","h",0.18,17.366,3.12588,null,0]
[null,null,"Eletricista com encargos complementares","h",0.18,22.268000000000001,4.0082399999999998,null,0]
[null,null,null,null,null,"","",null,0]
["SF-00236",{"$f":"INDEX(Orçamentária!A:B,MATCH(Composições!A1401,Orçamentária!A:A,0),2)","v":"Condulete de alumínio de 1’’"},null,{"$f":"TRIM(INDEX(Orçamentária!D:D,MATCH(Composições!A1401,Orçamentária!A:A,0),1))","v":"un"},null,"","",null,0]
[null,null,null,null,null,"","",null,0]
[null,null,"Auxiliar de eletricista com encargos complementares","h",0.53849999999999998,17.366,9.3515909999999991,{"$f":"SUM(G1403:G1406)","v":33.094408999999999},0]
[null,null,"Eletricista com encargos complementares","h",0.53849999999999998,22.268000000000001,11.991318,null,0]
[null,null,"Bucha de nylon sem aba S6, com parafuso de 4,20 x 40 mm em aco zincado com rosca soberba, cabeca chata e fenda Phillips","un",2,0.29449999999999998,0.58899999999999997,null,0]
[null,null,"Condulete de aluminio tipo X, para eletroduto roscavel de 1\", com tampa cega","un",1,11.1625,11.1625,null,0]
[null,null,null,null,null,"","",null,0]
["SF-00237",{"$f":"INDEX(Orçamentária!A:B,MATCH(Composições!A1408,Orçamentária!A:A,0),2)","v":"Eletrocalha 100x50 mm"},null,{"$f":"TRIM(INDEX(Orçamentária!D:D,MATCH(Composições!A1408,Orçamentária!A:A,0),1))","v":"m"},null,"","",null,0]
[null,null,null,null,null,"","",null,0]
[null,null,"Eletricista com encargos complementares","h",0.45,22.268000000000001,10.0206,{"$f":"SUM(G1410:G1421)","v":18.748052399999999},0]
[null,null,"Auxiliar de eletricista com encargos complementares","h",0.45,17.366,7.8147000000000002,null,0]
[null,null,"Tiro com pistola para fixação de pino Ø 1/4\" em concreto, inclusive cartucho e pino","un ",0.67,0,0,null,0]
[null,null,"Eletrocalha perfurada (cabos elétricos) ou lisa (dados), tipo \"U\", de aço galvanizado eletrolítico 100 x 50 mm, fabricado em chapa #20 (0,95 mm)","m",1.05,"","",null,0]
[null,null,"Barra roscada em aço Ø 1/4\", comprimento 1 m, bicromatizada ou zincada","m",0.8,0,0,null,0]
[null,null,"PORCA ZINCADA, SEXTAVADA, DIAMETRO 1/4\"","UN",4.0033000000000003,0.22799999999999998,0.91275240000000002,null,0]
[null,null,"Arruela em aço galvanizado Ø 1/4\"","un ",4.0033000000000003,0,0,null,0]
[null,null,"Suporte suspensão vertical para eletrocalha 100 x 50 mm largura x aba","un ",0.67,0,0,null,0]
[null,null,"Prolongador para tirante rosqueado de 1/4\" x 50 mm","un ",1.05,0,0,null,0]
[null,null,"Parafuso lentilha 1/4 x 1/2\"","un",2.67,0,0,null,0]
[null,null,"Tala auto portante para emenda 50 mm","un ",0.66669999999999996,0,0,null,0]
[null,null,"Tampa de encaixe para eletrocalha aço galvanizado perfurada ou lisa, 100 mm","m",1.05,"","",null,0]
[null,null,null,null,null,"","",null,0]
["SF-00238",{"$f":"INDEX(Orçamentária!A:B,MATCH(Composições!A1423,Orçamentária!A:A,0),2)","v":"Eletrocalha 200x100 mm"},null,{"$f":"TRIM(INDEX(Orçamentária!D:D,MATCH(Composições!A1423,Orçamentária!A:A,0),1))","v":"m"},null,"","",null,0]
[null,null,null,null,null,"","",null,0]
[null,null,"Eletricista com encargos complementares","h",0.6,22.268000000000001,13.360799999999999,{"$f":"SUM(G1425:G1436)","v":24.997167600000001},0]
[null,null,"Auxiliar de eletricista com encargos complementares","h",0.6,17.366,10.419599999999999,null,0]
[null,null,"Tiro com pistola para fixação de pino Ø 1/4\" em concreto, inclusive cartucho e pino","un ",1.3332999999999999,0,0,null,0]
[null,null,"Eletrocalha perfurada (cabos elétricos) ou lisa (dados), tipo \"U\", de aço galvanizado eletrolítico 200 x 100 mm, fabricado em chapa #18 (1,25 mm)","m",1.05,"","",null,0]
[null,null,"Barra roscada em aço Ø 1/4\", comprimento 1 m, bicromatizada ou zincada","m",1.6,0,{"$f":"IF(ISNUMBER(F1429),E1429*F1429,\"\")","v":0},null,0]
[null,null,"PORCA ZINCADA, SEXTAVADA, DIAMETRO 1/4\"","UN",5.3367000000000004,0.22799999999999998,1.2167676000000001,null,0]
[null,null,"Arruela em aço galvanizado Ø 1/4\"","un ",5.34,0,0,null,0]
[null,null,"Suporte suspensão omega para eletrocalha 200 x 100mm largura x aba","un ",0.67,0,0,null,0]
[null,null,"Prolongador para tirante rosqueado de 1/4\" x 50 mm","un ",1.3332999999999999,0,0,null,0]
[null,null,"Parafuso lentilha 1/4 x 1/2\"","un",2.67,0,0,null,0]
[null,null,"Tala auto portante para emenda 100 mm","un ",0.67,0,0,null,0]
[null,null,"Tampa de encaixe para eletrocalha aço galvanizado perfurada ou lisa, 200 mm","m",1.05,"","",null,0]
[null,null,null,null,null,"","",null,0]
["SF-00239",{"$f":"INDEX(Orçamentária!A:B,MATCH(Composições!A1438,Orçamentária!A:A,0),2)","v":"Eletrocalha 200x50 mm"},null,{"$f":"TRIM(INDEX(Orçamentária!D:D,MATCH(Composições!A1438,Orçamentária!A:A,0),1))","v":"m"},null,"","",null,0]
[null,null,null,null,null,"","",null,0]
[null,null,"Eletricista com encargos complementares","h",0.5,22.268000000000001,11.134,{"$f":"SUM(G1440:G1451)","v":21.033767600000001},0]
[null,null,"Auxiliar de eletricista com encargos complementares","h",0.5,17.366,8.6829999999999998,null,0]
[null,null,"Tiro com pistola para fixação de pino Ø 1/4\" em concreto, inclusive cartucho e pino","un ",1.3332999999999999,0,0,null,0]
[null,null,"Eletrocalha perfurada (cabos elétricos) ou lisa (dados), tipo \"U\", de aço galvanizado eletrolítico 200 x 50 mm, fabricado em chapa #18 (1,25 mm)","m",1.05,"","",null,0]
[null,null,"Barra roscada em aço Ø 1/4\", comprimento 1 m, bicromatizada ou zincada","m",1.6,0,0,null,0]
[null,null,"PORCA ZINCADA, SEXTAVADA, DIAMETRO 1/4\"","UN",5.3367000000000004,0.22799999999999998,1.2167676000000001,null,0]
[null,null,"Arruela em aço galvanizado Ø 1/4\"","un ",5.34,0,0,null,0]
[null,null,"Suporte suspensão omega para eletrocalha 200 x 50 mm largura x aba","un ",0.67,0,0,null,0]
[null,null,"Prolongador para tirante rosqueado de 1/4\" x 50 mm","un ",1.3332999999999999,0,0,null,0]
[null,null,"Parafuso lentilha 1/4 x 1/2\"","un",2.67,0,0,null,0]
[null,null,"Tala auto portante para emenda 50 mm","un ",0.67,0,0,null,0]
[null,null,"Tampa de encaixe para eletrocalha aço galvanizado perfurada ou lisa, 200 mm","m",1.05,"","",null,0]
[null,null,null,null,null,"","",null,0]
["SF-00240",{"$f":"INDEX(Orçamentária!A:B,MATCH(Composições!A1453,Orçamentária!A:A,0),2)","v":"Eletrocalha 300x100 mm"},null,{"$f":"TRIM(INDEX(Orçamentária!D:D,MATCH(Composições!A1453,Orçamentária!A:A,0),1))","v":"m"},null,"","",null,0]
[null,null,null,null,null,"","",null,0]
[null,null,"Eletricista com encargos complementares","h",0.65,22.268000000000001,14.474200000000002,{"$f":"SUM(G1455:G1466)","v":26.978867600000005},0]
[null,null,"Auxiliar de eletricista com encargos complementares","h",0.65,17.366,11.2879,null,0]
[null,null,"Tiro com pistola para fixação de pino Ø 1/4\" em concreto, inclusive cartucho e pino","un ",1.3332999999999999,0,0,null,0]
[null,null,"Eletrocalha perfurada (cabos elétricos) ou lisa (dados), tipo \"U\", de aço galvanizado eletrolítico 300 x 100 mm, fabricado em chapa #18 (1,25 mm)","m",1.05,"","",null,0]
[null,null,"Barra roscada em aço Ø 1/4\", comprimento 1 m, bicromatizada ou zincada","m",1.6,0,0,null,0]
[null,null,"PORCA ZINCADA, SEXTAVADA, DIAMETRO 1/4\"","UN",5.3367000000000004,0.22799999999999998,1.2167676000000001,null,0]
[null,null,"Arruela em aço galvanizado Ø 1/4\"","un ",5.34,0,0,null,0]
[null,null,"Suporte suspensão omega para eletrocalha 300 x 100 mm largura x aba","un ",0.67,0,0,null,0]
[null,null,"Prolongador para tirante rosqueado de 1/4\" x 50 mm","un ",1.3332999999999999,0,0,null,0]
[null,null,"Parafuso lentilha 1/4 x 1/2\"","un",2.67,0,0,null,0]
[null,null,"Tala auto portante para emenda 100 mm","un ",0.67,0,0,null,0]
[null,null,"Tampa de encaixe para eletrocalha aço galvanizado perfurada ou lisa, 300 mm","m",1.05,"","",null,0]
[null,null,null,null,null,"","",null,0]
["SF-00241",{"$f":"INDEX(Orçamentária!A:B,MATCH(Composições!A1468,Orçamentária!A:A,0),2)","v":"Eletrocalha 300x50 mm"},null,{"$f":"TRIM(INDEX(Orçamentária!D:D,MATCH(Composições!A1468,Orçamentária!A:A,0),1))","v":"m"},null,"","",null,0]
[null,null,null,null,null,"","",null,0]
[null,null,"Eletricista com encargos complementares","h",0.55000000000000004,22.268000000000001,12.247400000000001,{"$f":"SUM(G1470:G1481)","v":23.015467600000004},0]
[null,null,"Auxiliar de eletricista com encargos complementares","h",0.55000000000000004,17.366,9.5513000000000012,null,0]
[null,null,"Tiro com pistola para fixação de pino Ø 1/4\" em concreto, inclusive cartucho e pino","un ",1.3332999999999999,0,0,null,0]
[null,null,"Eletrocalha perfurada (cabos elétricos) ou lisa (dados), tipo \"U\", de aço galvanizado eletrolítico 300 x 050 mm, fabricado em chapa #18 (1,25 mm)","m",1.05,"","",null,0]
[null,null,"Barra roscada em aço Ø 1/4\", comprimento 1 m, bicromatizada ou zincada","m",1.6,0,0,null,0]
[null,null,"PORCA ZINCADA, SEXTAVADA, DIAMETRO 1/4\"","UN",5.3367000000000004,0.22799999999999998,1.2167676000000001,null,0]
[null,null,"Arruela em aço galvanizado Ø 1/4\"","un ",5.34,0,0,null,0]
[null,null,"Suporte suspensão omega para eletrocalha 300 x 50 mm largura x aba","un ",0.67,0,0,null,0]
[null,null,"Prolongador para tirante rosqueado de 1/4\" x 50 mm","un ",1.3332999999999999,0,0,null,0]
[null,null,"Parafuso lentilha 1/4 x 1/2\"","un",2.67,0,0,null,0]
[null,null,"Tala auto portante para emenda 50 mm","un ",0.67,0,0,null,0]
[null,null,"Tampa de encaixe para eletrocalha aço galvanizado perfurada ou lisa, 300 mm","m",1.05,"","",null,0]
[null,null,null,null,null,"","",null,0]
["SF-00242",{"$f":"INDEX(Orçamentária!A:B,MATCH(Composições!A1483,Orçamentária!A:A,0),2)","v":"Eletrocalha 400x50 mm"},null,{"$f":"TRIM(INDEX(Orçamentária!D:D,MATCH(Composições!A1483,Orçamentária!A:A,0),1))","v":"m"},null,"","",null,0]
[null,null,null,null,null,"","",null,0]
[null,null,"Eletricista com encargos complementares","h",0.55000000000000004,22.268000000000001,12.247400000000001,{"$f":"SUM(G1485:G1496)","v":23.015467600000004},0]
[null,null,"Auxiliar de eletricista com encargos complementares","h",0.55000000000000004,17.366,9.5513000000000012,null,0]
[null,null,"Tiro com pistola para fixação de pino Ø 1/4\" em concreto, inclusive cartucho e pino","un ",1.3332999999999999,0,0,null,0]
[null,null,"Eletrocalha perfurada (cabos elétricos) ou lisa (dados), tipo \"U\", de aço galvanizado eletrolítico 400 x 050 mm, fabricado em chapa #16 (1,55 mm)","m",1.05,"","",null,0]
[null,null,"Barra roscada em aço Ø 1/4\", comprimento 1 m, bicromatizada ou zincada","m",1.6,0,0,null,0]
[null,null,"PORCA ZINCADA, SEXTAVADA, DIAMETRO 1/4\"","UN",5.3367000000000004,0.22799999999999998,1.2167676000000001,null,0]
[null,null,"Arruela em aço galvanizado Ø 1/4\"","un ",5.34,0,0,null,0]
[null,null,"Suporte suspensão omega para eletrocalha 400 x 50 mm largura x aba","un ",0.67,0,0,null,0]
[null,null,"Prolongador para tirante rosqueado de 1/4\" x 50 mm","un ",1.3332999999999999,0,{"$f":"IF(ISNUMBER(F1493),E1493*F1493,\"\")","v":0},null,0]
[null,null,"Parafuso lentilha 1/4 x 1/2\"","un",2.67,0,0,null,0]
[null,null,"Tala auto portante para emenda 50 mm","un ",0.67,0,0,null,0]
[null,null,"Tampa de encaixe para eletrocalha aço galvanizado perfurada ou lisa, 400 mm","m",1.05,"","",null,0]
[null,null,null,null,null,"","",null,0]
["SF-00243",{"$f":"INDEX(Orçamentária!A:B,MATCH(Composições!A1498,Orçamentária!A:A,0),2)","v":"Eletrocalha 50x50 mm"},null,{"$f":"TRIM(INDEX(Orçamentária!D:D,MATCH(Composições!A1498,Orçamentária!A:A,0),1))","v":"m"},null,"","",null,0]
[null,null,null,null,null,"","",null,0]
[null,null,"Eletricista com encargos complementares","h",0.45,22.268000000000001,10.0206,{"$f":"SUM(G1500:G1511)","v":18.748052399999999},0]
[null,null,"Auxiliar de eletricista com encargos complementares","h",0.45,17.366,7.8147000000000002,null,0]
[null,null,"Tiro com pistola para fixação de pino Ø 1/4\" em concreto, inclusive cartucho e pino","un ",0.67,0,0,null,0]
[null,null,"Eletrocalha perfurada (cabos elétricos) ou lisa (dados), tipo \"U\", de aço galvanizado eletrolítico 50 x 50 mm, fabricado em chapa #22 (0,8 mm)","m",1.05,"","",null,0]
[null,null,"Barra roscada em aço Ø 1/4\", comprimento 1 m, bicromatizada ou zincada","m",0.8,0,0,null,0]
[null,null,"PORCA ZINCADA, SEXTAVADA, DIAMETRO 1/4\"","UN",4.0033000000000003,0.22799999999999998,0.91275240000000002,null,0]
[null,null,"Arruela em aço galvanizado Ø 1/4\"","un ",4.0033000000000003,0,0,null,0]
[null,null,"Suporte suspensão vertical para eletrocalha 50 x 50 mm largura x aba","un ",0.67,0,0,null,0]
[null,null,"Prolongador para tirante rosqueado de 1/4\" x 50 mm","un ",1.05,0,0,null,0]
[null,null,"Parafuso lentilha 1/4 x 1/2\"","un",2.67,0,0,null,0]
[null,null,"Tala auto portante para emenda 50 mm","un ",0.66669999999999996,0,0,null,0]
[null,null,"Tampa de encaixe para eletrocalha aço galvanizado perfurada ou lisa, 50 mm","m",1.05,"","",null,0]
[null,null,null,null,null,"","",null,0]
["SF-00244",{"$f":"INDEX(Orçamentária!A:B,MATCH(Composições!A1513,Orçamentária!A:A,0),2)","v":"Eletroduto de aço galvanizado de 1 1/2\""},null,{"$f":"TRIM(INDEX(Orçamentária!D:D,MATCH(Composições!A1513,Orçamentária!A:A,0),1))","v":"m"},null,"","",null,0]
[null,null,null,null,null,"","",null,0]
[null,null,"Eletroduto de aço com costura galvanização eletrolítica Ø 1 1/2\"","m",1.05,0,0,{"$f":"SUM(G1515:G1519)","v":18.406850084220004},0]
[null,null,"Eletricista com encargos complementares","h",0.28210000000000002,22.268000000000001,6.2818028000000004,null,0]
[null,null,"Auxiliar de eletricista com encargos complementares","h",0.28210000000000002,17.366,4.8989485999999998,null,0]
[null,null,"Fixação de tubos verticais de PPR diâmetros menores ou iguais a 40 mm com abraçadeira metálica rígida tipo D 1/2\", fixada em perfilado em alvenaria. af_05/2015","m",2,1.1860465000000002,2.3720930000000005,null,0]
[null,null,"Luva de emenda para eletroduto, aço galvanizado, DN 40 mm (1 1/2''), aparente, instalada em parede - fornecimento e instalação. af_11/2016_p","UN",0.33329999999999999,14.563473400000001,4.8540056842200006,null,0]
[null,null,null,null,null,"","",null,0]
["SF-00245",{"$f":"INDEX(Orçamentária!A:B,MATCH(Composições!A1521,Orçamentária!A:A,0),2)","v":"Eletroduto de aço galvanizado de 1 1/4\""},null,{"$f":"TRIM(INDEX(Orçamentária!D:D,MATCH(Composições!A1521,Orçamentária!A:A,0),1))","v":"m"},null,"","",null,0]
[null,null,null,null,null,"","",null,0]
[null,null,"Eletroduto de aço com costura galvanização eletrolítica Ø 1 1/4\"","m",1.05,0,0,{"$f":"SUM(G1523:G1527)","v":16.163129082840001},0]
[null,null,"Eletricista com encargos complementares","h",0.247,22.268000000000001,5.5001959999999999,null,0]
[null,null,"Auxiliar de eletricista com encargos complementares","h",0.247,17.366,4.2894019999999999,null,0]
[null,null,"Fixação de tubos verticais de PPR diâmetros menores ou iguais a 40 mm com abraçadeira metálica rígida tipo D 1/2\", fixada em perfilado em alvenaria. af_05/2015","m",2,1.1860465000000002,2.3720930000000005,null,0]
[null,null,"Luva de emenda para eletroduto, aço galvanizado, DN 32 mm (1 1/4''), aparente, instalada em parede - fornecimento e instalação. af_11/2016_p","UN",0.33329999999999999,12.0055148,4.00143808284,null,0]
[null,null,null,null,null,"","",null,0]
["SF-00246",{"$f":"INDEX(Orçamentária!A:B,MATCH(Composições!A1529,Orçamentária!A:A,0),2)","v":"Eletroduto de aço galvanizado de 1\""},null,{"$f":"TRIM(INDEX(Orçamentária!D:D,MATCH(Composições!A1529,Orçamentária!A:A,0),1))","v":"m"},null,"","",null,0]
[null,null,null,null,null,"","",null,0]
[null,null,"Eletroduto de aço com costura galvanização eletrolítica Ø 1\"","m",1.05,0,0,{"$f":"SUM(G1531:G1535)","v":14.156136780260002},0]
[null,null,"Eletricista com encargos complementares","h",0.21629999999999999,22.268000000000001,4.8165684000000004,null,0]
[null,null,"Auxiliar de eletricista com encargos complementares","h",0.21629999999999999,17.366,3.7562658,null,0]
[null,null,"Fixação de tubos verticais de PPR diâmetros menores ou iguais a 40 mm com abraçadeira metálica rígida tipo D 1/2\", fixada em perfilado em alvenaria. af_05/2015","m",2,1.1860465000000002,2.3720930000000005,null,0]
[null,null,"Luva de emenda para eletroduto, aço galvanizado, DN 25 mm (1''), aparente, instalada em parede - fornecimento e instalação. af_11/2016_p","UN",0.33329999999999999,9.6345922000000002,3.2112095802599998,null,0]
[null,null,null,null,null,"","",null,0]
["SF-00247",{"$f":"INDEX(Orçamentária!A:B,MATCH(Composições!A1537,Orçamentária!A:A,0),2)","v":"Eletroduto de aço galvanizado de 2\""},null,{"$f":"TRIM(INDEX(Orçamentária!D:D,MATCH(Composições!A1537,Orçamentária!A:A,0),1))","v":"m"},null,"","",null,432]
[null,null,null,null,null,"","",null,432]
[null,null,"Eletroduto de aço com costura galvanização eletrolítica Ø 2\"","m",1.05,25.583499999999997,26.862674999999999,{"$f":"SUM(G1539:G1543)","v":48.203027234219995},432]
[null,null,"Eletricista com encargos complementares","h",0.28210000000000002,22.268000000000001,6.2818028000000004,null,432]
[null,null,"Auxiliar de eletricista com encargos complementares","h",0.28210000000000002,17.366,4.8989485999999998,null,432]
[null,null,"FIXAÇÃO DE TUBOS VERTICAIS DE PPR DIÂMETROS MAIORES QUE 40 MM E MENORES OU IGUAIS A 75 MM COM ABRAÇADEIRA METÁLICA RÍGIDA TIPO D 2\", FIXADA EM PERFILADO EM ALVENARIA. AF_05/2015","M",2,2.3852410000000002,4.7704820000000003,null,432]
[null,null,"Luva de emenda para eletroduto, aço galvanizado, DN 50 mm (2''), aparente, instalada em parede - fornecimento e instalação. af_11/2016_p","UN",0.33329999999999999,16.168973400000002,5.3891188342200005,null,432]
[null,null,null,null,null,"","",null,432]
["SF-00248",{"$f":"INDEX(Orçamentária!A:B,MATCH(Composições!A1545,Orçamentária!A:A,0),2)","v":"Eletroduto de aço galvanizado de 3/4\""},null,{"$f":"TRIM(INDEX(Orçamentária!D:D,MATCH(Composições!A1545,Orçamentária!A:A,0),1))","v":"m"},null,"","",null,0]
[null,null,null,null,null,"","",null,0]
[null,null,"Eletroduto de aço com costura galvanização eletrolítica Ø 3/4\"","m",1.05,0,0,{"$f":"SUM(G1547:G1551)","v":12.943199878939998},0]
[null,null,"Eletricista com encargos complementares","h",0.19439999999999999,22.268000000000001,4.3288991999999995,null,0]
[null,null,"Auxiliar de eletricista com encargos complementares","h",0.19439999999999999,17.366,3.3759503999999998,null,0]
[null,null,"Fixação de tubos verticais de PPR diâmetros menores ou iguais a 40 mm com abraçadeira metálica rígida tipo D 1/2\", fixada em perfilado em alvenaria. af_05/2015","m",2,1.1860465000000002,2.3720930000000005,null,0]
[null,null,"Luva de emenda para eletroduto, aço galvanizado, DN 20 mm (3/4''), aparente, instalada em parede - fornecimento e instalação. af_11/2016_p","UN",0.33329999999999999,8.5996317999999992,2.8662572789399996,null,0]
[null,null,null,null,null,"","",null,0]
["SF-00249",{"$f":"INDEX(Orçamentária!A:B,MATCH(Composições!A1553,Orçamentária!A:A,0),2)","v":"Eletroduto de PVC Corrugado Reforçado 1'' (DE 32mm)"},null,{"$f":"TRIM(INDEX(Orçamentária!D:D,MATCH(Composições!A1553,Orçamentária!A:A,0),1))","v":"m"},null,"","",null,0]
[null,null,null,null,null,"","",null,0]
[null,null,"Eletroduto PVC flexivel corrugado, reforcado, cor laranja, de 32 mm, para lajes e pisos","m",1.1000000000000001,4.7974999999999994,5.2772499999999996,{"$f":"SUM(G1555:G1558)","v":11.178213},0]
[null,null,"Eletricista com encargos complementares","h",0.09,22.268000000000001,2.0041199999999999,null,0]
[null,null,"Auxiliar de eletricista com encargos complementares","h",0.09,17.366,{"$f":"IF(ISNUMBER(F1557),E1557*F1557,\"\")","v":1.56294},null,0]
[null,null,"Fixação de tubos horizontais de PVC, CPVC ou cobre diâmetros menores ou iguais a 40 mm ou eletrocalhas até 150mm de largura, com abraçadeira metálica rígida tipo d 1/2\u0094, fixada em perfilado em laje. af_05/2015","m",1,2.3339030000000003,2.3339030000000003,null,0]
[null,null,null,null,null,"","",null,0]
["SF-00250",{"$f":"INDEX(Orçamentária!A:B,MATCH(Composições!A1560,Orçamentária!A:A,0),2)","v":"Eletroduto de PVC Corrugado Reforçado 3/4'' (DE 25mm)"},null,{"$f":"TRIM(INDEX(Orçamentária!D:D,MATCH(Composições!A1560,Orçamentária!A:A,0),1))","v":"m"},null,"","",null,0]
[null,null,null,null,null,"","",null,0]
[null,null,"Eletricista com encargos complementares","h",7.0000000000000007E-2,22.268000000000001,1.5587600000000001,{"$f":"SUM(G1562:G1565)","v":7.8461830000000008},0]
[null,null,"Auxiliar de eletricista com encargos complementares","h",7.0000000000000007E-2,17.366,1.2156200000000001,null,0]
[null,null,"Eletroduto PVC flexivel corrugado, reforcado, cor laranja, de 25 mm, para lajes e pisos","m",1.1000000000000001,2.4889999999999999,2.7379000000000002,null,0]
[null,null,"Fixação de tubos horizontais de PVC, CPVC ou cobre diâmetros menores ou iguais a 40 mm ou eletrocalhas até 150mm de largura, com abraçadeira metálica rígida tipo d 1/2\u0094, fixada em perfilado em laje. af_05/2015","m",1,2.3339030000000003,2.3339030000000003,null,0]
[null,null,null,null,null,"","",null,0]
["SF-00251",{"$f":"INDEX(Orçamentária!A:B,MATCH(Composições!A1567,Orçamentária!A:A,0),2)","v":"Eletroduto flexível metálico com capa de PVC 1’’"},null,{"$f":"TRIM(INDEX(Orçamentária!D:D,MATCH(Composições!A1567,Orçamentária!A:A,0),1))","v":"m"},null,"","",null,0]
[null,null,null,null,null,"","",null,0]
[null,null,"Eletroduto flexivel, em aco galvanizado, revestido externamente com PVC preto, diametro externo de 32 mm (1\"), tipo sealtubo","m",1.1000000000000001,10.754,11.8294,{"$f":"SUM(G1569:G1572)","v":16.098548000000001},0]
[null,null,"ARAME RECOZIDO 16 BWG, D = 1,65 MM (0,016 KG/M) OU 18 BWG, D = 1,25 MM (0,01 KG/M)","kg",2E-3,14.154999999999999,2.8309999999999998E-2,null,0]
[null,null,"Auxiliar de eletricista com encargos complementares","h",0.107,17.366,1.8581619999999999,null,0]
[null,null,"Eletricista com encargos complementares","h",0.107,22.268000000000001,2.382676,null,0]
[null,null,null,null,null,"","",null,0]
["SF-00252",{"$f":"INDEX(Orçamentária!A:B,MATCH(Composições!A1574,Orçamentária!A:A,0),2)","v":"Eletroduto flexível metálico com capa de PVC 3/4\""},null,{"$f":"TRIM(INDEX(Orçamentária!D:D,MATCH(Composições!A1574,Orçamentária!A:A,0),1))","v":"m"},null,"","",null,0]
[null,null,null,null,null,"","",null,0]
[null,null,"Eletroduto flexivel, em aco galvanizado, revestido externamente com PVC preto, diametro externo de 25 mm (3/4\"), tipo sealtubo","m",1.1000000000000001,8.198500000000001,9.0183500000000016,{"$f":"SUM(G1576:G1579)","v":12.491987000000002},0]
[null,null,"ARAME RECOZIDO 16 BWG, D = 1,65 MM (0,016 KG/M) OU 18 BWG, D = 1,25 MM (0,01 KG/M)","kg",1.8E-3,14.154999999999999,2.5478999999999998E-2,null,0]
[null,null,"Auxiliar de eletricista com encargos complementares","h",8.6999999999999994E-2,17.366,1.5108419999999998,null,0]
[null,null,"Eletricista com encargos complementares","h",8.6999999999999994E-2,22.268000000000001,1.9373159999999998,null,0]
[null,null,null,null,null,"","",null,0]
["SF-00253",{"$f":"INDEX(Orçamentária!A:B,MATCH(Composições!A1581,Orçamentária!A:A,0),2)","v":"Perfilado 38x38mm"},null,{"$f":"TRIM(INDEX(Orçamentária!D:D,MATCH(Composições!A1581,Orçamentária!A:A,0),1))","v":"m"},null,"","",null,0]
[null,null,null,null,null,"","",null,0]
[null,null,"Perfilado perfurado em aço galvanizado # 18, 38 x 38 mm","m",1.05,"","",{"$f":"SUM(G1583:G1594)","v":18.442532400000001},0]
[null,null,"Auxiliar de eletricista com encargos complementares","h",0.45,17.366,7.8147000000000002,null,0]
[null,null,"Eletricista com encargos complementares","h",0.45,22.268000000000001,10.0206,null,0]
[null,null,"Tiro com pistola para fixação de pino Ø 1/4\" em concreto, inclusive cartucho e pino","un ",0.67,0,0,null,0]
[null,null,"Suporte curto para perfilado em aço galvanizado # 22, 38 mm x 100 mm","un ",0.67,0,0,null,0]
[null,null,"Barra roscada em aço Ø 1/4\", comprimento 1 m, bicromatizada ou zincada","m",0.8,0,0,null,0]
[null,null,"PORCA ZINCADA, SEXTAVADA, DIAMETRO 1/4\"","UN",2.6633,0.22799999999999998,0.60723239999999989,null,0]
[null,null,"Arruela em aço galvanizado Ø 1/4\"","un ",2.6633,0,0,null,0]
[null,null,"Prolongador para tirante rosqueado de 1/4\" x 50 mm","un ",0.67,0,0,null,0]
[null,null,"Parafuso lentilha 1/4 x 1/2\"","un",1.33,0,0,null,0]
[null,null,"Tala 4 furos para emenda 38 mm","un ",0.33329999999999999,0,0,null,0]
[null,null,"Tampa de encaixe para perfilado em aço galvanizado 38 mm","m",1.05,0,0,null,0]
[null,null,null,null,null,"","",null,0]
["SF-00254",{"$f":"INDEX(Orçamentária!A:B,MATCH(Composições!A1596,Orçamentária!A:A,0),2)","v":"Espelho 4x2"},null,{"$f":"TRIM(INDEX(Orçamentária!D:D,MATCH(Composições!A1596,Orçamentária!A:A,0),1))","v":"un"},null,"","",null,0]
[null,null,null,null,null,"","",null,0]
[null,null,"Espelho / placa de 3 postos 4\" x 2\", para instalacao de tomadas e interruptores","un",1,2.6219999999999999,2.6219999999999999,{"$f":"SUM(G1598:G1600)","v":5.9400839999999997},0]
[null,null,"Suporte de fixacao para espelho / placa 4\" x 2\", para 3 modulos, para instalacao de tomadas e interruptores (somente suporte)","un",1,1.3584999999999998,1.3584999999999998,null,0]
[null,null,"Eletricista com encargos complementares","h",8.7999999999999995E-2,22.268000000000001,1.959584,null,0]
[null,null,null,null,null,"","",null,0]
["SF-00255",{"$f":"INDEX(Orçamentária!A:B,MATCH(Composições!A1602,Orçamentária!A:A,0),2)","v":"Espelho 4x4"},null,{"$f":"TRIM(INDEX(Orçamentária!D:D,MATCH(Composições!A1602,Orçamentária!A:A,0),1))","v":"un"},null,"","",null,0]
[null,null,null,null,null,"","",null,0]
[null,null,"Espelho / placa de 6 postos 4\" x 4\", para instalacao de tomadas e interruptores","un",1,5.3389999999999995,5.3389999999999995,{"$f":"SUM(G1604:G1606)","v":9.8873719999999992},0]
[null,null,"Suporte de fixacao para espelho / placa 4\" x 4\", para 6 modulos, para instalacao de tomadas e interruptores (somente suporte)","un",1,2.2324999999999999,2.2324999999999999,null,0]
[null,null,"Eletricista com encargos complementares","h",0.104,22.268000000000001,2.3158720000000002,null,0]
[null,null,null,null,null,"","",null,0]
["SF-00256",{"$f":"INDEX(Orçamentária!A:B,MATCH(Composições!A1608,Orçamentária!A:A,0),2)","v":"Espelho cego redondo"},null,{"$f":"TRIM(INDEX(Orçamentária!D:D,MATCH(Composições!A1608,Orçamentária!A:A,0),1))","v":"un"},null,"","",null,0]
[null,null,null,null,null,"","",null,0]
[null,null,"Espelho cego redondo","un",1,"","",{"$f":"SUM(G1610:G1612)","v":4.5483720000000005},0]
[null,null,"Suporte de fixacao para espelho / placa 4\" x 4\", para 6 modulos, para instalacao de tomadas e interruptores (somente suporte)","un",1,2.2324999999999999,2.2324999999999999,null,0]
[null,null,"Eletricista com encargos complementares","h",0.104,22.268000000000001,2.3158720000000002,null,0]
[null,null,null,null,null,"","",null,0]
["SF-00257",{"$f":"INDEX(Orçamentária!A:B,MATCH(Composições!A1614,Orçamentária!A:A,0),2)","v":"Interruptor para condulete"},null,{"$f":"TRIM(INDEX(Orçamentária!D:D,MATCH(Composições!A1614,Orçamentária!A:A,0),1))","v":"un"},null,"","",null,0]
[null,null,null,null,null,"","",null,0]
[null,null,"Eletricista com encargos complementares","h",{"$f":"0.3/2","v":0.15},22.268000000000001,3.3401999999999998,{"$f":"SUM(G1616:G1619)","v":5.9451000000000001},0]
[null,null,"Auxiliar de eletricista com encargos complementares","h",{"$f":"0.3/2","v":0.15},17.366,2.6048999999999998,null,0]
[null,null,"Tampa para condulete alumínio para eletrodutos de 1\", de sobrepor , com conexões e acessórios. ","un",1,"","",null,0]
[null,null,"Interruptor para condulete alumínio para eletrodutos de 1’’, de sobrepor, com conexões e acessórios.","un",1,"","",null,0]
[null,null,null,null,null,"","",null,0]
["SF-00258",{"$f":"INDEX(Orçamentária!A:B,MATCH(Composições!A1621,Orçamentária!A:A,0),2)","v":"Módulo cego"},null,{"$f":"TRIM(INDEX(Orçamentária!D:D,MATCH(Composições!A1621,Orçamentária!A:A,0),1))","v":"un"},null,"",{"$f":"IF(ISNUMBER(F1621),E1621*F1621,\"\")","v":""},null,0]
[null,null,null,null,null,"","",null,0]
[null,null,"Eletricista com encargos complementares","h",0.1,22.268000000000001,2.2268000000000003,{"$f":"SUM(G1623:G1624)","v":2.2268000000000003},0]
[null,null,"Módulo cego","un",1,"","",null,0]
[null,null,null,null,null,"","",null,0]
["SF-00259",{"$f":"INDEX(Orçamentária!A:B,MATCH(Composições!A1626,Orçamentária!A:A,0),2)","v":"Módulo interruptor paralelo"},null,{"$f":"TRIM(INDEX(Orçamentária!D:D,MATCH(Composições!A1626,Orçamentária!A:A,0),1))","v":"un"},null,"","",null,0]
[null,null,null,null,null,"","",null,0]
[null,null,"Interruptor paralelo 10A, 250V (apenas modulo)","un",1,8.0749999999999993,8.0749999999999993,{"$f":"SUM(G1628:G1630)","v":20.282271999999999},0]
[null,null,"Auxiliar de eletricista com encargos complementares","h",0.308,17.366,5.3487279999999995,null,0]
[null,null,"Eletricista com encargos complementares","h",0.308,22.268000000000001,6.8585440000000002,null,0]
[null,null,null,null,null,"","",null,0]
["SF-00260",{"$f":"INDEX(Orçamentária!A:B,MATCH(Composições!A1632,Orçamentária!A:A,0),2)","v":"Módulo interruptor simples"},null,{"$f":"TRIM(INDEX(Orçamentária!D:D,MATCH(Composições!A1632,Orçamentária!A:A,0),1))","v":"un"},null,"","",null,0]
[null,null,null,null,null,"","",null,0]
[null,null,"Interruptor simples 10A, 250V (apenas modulo)","un",1,6.2035,6.2035,{"$f":"SUM(G1634:G1636)","v":15.12115},0]
[null,null,"Auxiliar de eletricista com encargos complementares","h",0.22500000000000001,17.366,3.9073500000000001,null,0]
[null,null,"Eletricista com encargos complementares","h",0.22500000000000001,22.268000000000001,5.0103,null,0]
[null,null,null,null,null,"","",null,0]
["SF-00261",{"$f":"INDEX(Orçamentária!A:B,MATCH(Composições!A1638,Orçamentária!A:A,0),2)","v":"Módulo para saída de fio"},null,{"$f":"TRIM(INDEX(Orçamentária!D:D,MATCH(Composições!A1638,Orçamentária!A:A,0),1))","v":"un"},null,"","",null,0]
[null,null,null,null,null,"","",null,0]
[null,null,"Eletricista com encargos complementares","h",0.1,22.268000000000001,2.2268000000000003,{"$f":"SUM(G1640:G1641)","v":2.2268000000000003},0]
[null,null,"Módulo para saída de fio","un",1,"","",null,0]
[null,null,null,null,null,"","",null,0]
["SF-00262",{"$f":"INDEX(Orçamentária!A:B,MATCH(Composições!A1643,Orçamentária!A:A,0),2)","v":"Módulo sensor de presença"},null,{"$f":"TRIM(INDEX(Orçamentária!D:D,MATCH(Composições!A1643,Orçamentária!A:A,0),1))","v":"un"},null,"","",null,0]
[null,null,null,null,null,"","",null,0]
[null,null,"Eletricista com encargos complementares","h",0.308,22.268000000000001,6.8585440000000002,{"$f":"SUM(G1645:G1647)","v":12.207272},0]
[null,null,"Auxiliar de eletricista com encargos complementares","h",0.308,17.366,5.3487279999999995,null,0]
[null,null,"Módulo sensor de presença","un",1,"","",null,0]
[null,null,null,null,null,"","",null,0]
["SF-00263",{"$f":"INDEX(Orçamentária!A:B,MATCH(Composições!A1649,Orçamentária!A:A,0),2)","v":"Módulo tomada 10 A"},null,{"$f":"TRIM(INDEX(Orçamentária!D:D,MATCH(Composições!A1649,Orçamentária!A:A,0),1))","v":"un"},null,"","",null,0]
[null,null,null,null,null,"","",null,0]
[null,null,"TOMADA 2P+T 10A, 250V  (APENAS MODULO)","un",1,7.0584999999999996,7.0584999999999996,{"$f":"SUM(G1651:G1653)","v":16.372489999999999},0]
[null,null,"Auxiliar de eletricista com encargos complementares","h",0.23499999999999999,17.366,4.08101,null,0]
[null,null,"Eletricista com encargos complementares","h",0.23499999999999999,22.268000000000001,5.2329799999999995,null,0]
[null,null,null,null,null,"","",null,0]
["SF-00264",{"$f":"INDEX(Orçamentária!A:B,MATCH(Composições!A1655,Orçamentária!A:A,0),2)","v":"Módulo tomada 20 A"},null,{"$f":"TRIM(INDEX(Orçamentária!D:D,MATCH(Composições!A1655,Orçamentária!A:A,0),1))","v":"un"},null,"","",null,0]
[null,null,null,null,null,"","",null,0]
[null,null,"TOMADA 2P+T 20A, 250V  (APENAS MODULO)","un",1,9.0250000000000004,9.0250000000000004,{"$f":"SUM(G1657:G1659)","v":18.338990000000003},0]
[null,null,"Auxiliar de eletricista com encargos complementares","h",0.23499999999999999,17.366,4.08101,null,0]
[null,null,"Eletricista com encargos complementares","h",0.23499999999999999,22.268000000000001,5.2329799999999995,null,0]
[null,null,null,null,null,"","",null,0]
["SF-00265",{"$f":"INDEX(Orçamentária!A:B,MATCH(Composições!A1661,Orçamentária!A:A,0),2)","v":"Porta equipamentos para canaleta de alumínio aparente"},null,{"$f":"TRIM(INDEX(Orçamentária!D:D,MATCH(Composições!A1661,Orçamentária!A:A,0),1))","v":"un"},null,"","",null,0]
[null,null,null,null,null,"","",null,0]
[null,null,"Auxiliar de eletricista com encargos complementares","h",{"$f":"0.35/2","v":0.17499999999999999},17.366,3.0390499999999996,{"$f":"SUM(G1663:G1665)","v":6.9359500000000001},0]
[null,null,"Eletricista com encargos complementares","h",{"$f":"0.35/2","v":0.17499999999999999},22.268000000000001,3.8969,"",0]
[null,null,"Porta equipamentos para canaleta de alumínio aparente","un",1,"","",null,0]
[null,null,null,null,null,"","",null,0]
["SF-00266",{"$f":"INDEX(Orçamentária!A:B,MATCH(Composições!A1667,Orçamentária!A:A,0),2)","v":"Tampa cega metálica para caixas de piso 4x2"},null,{"$f":"TRIM(INDEX(Orçamentária!D:D,MATCH(Composições!A1667,Orçamentária!A:A,0),1))","v":"un"},null,"","",null,0]
[null,null,null,null,null,"","",null,0]
[null,null,"Auxiliar de eletricista com encargos complementares","h",0.1,17.366,1.7366000000000001,{"$f":"SUM(G1669:G1670)","v":1.7366000000000001},0]
[null,null,"Tampa cega para caixa de piso 4x2 cromada. ","un",1,"","",null,0]
[null,null,null,null,null,"","",null,0]
["SF-00267",{"$f":"INDEX(Orçamentária!A:B,MATCH(Composições!A1672,Orçamentária!A:A,0),2)","v":"Tampa cega metálica para caixas de piso 4x4"},null,{"$f":"TRIM(INDEX(Orçamentária!D:D,MATCH(Composições!A1672,Orçamentária!A:A,0),1))","v":"un"},null,"","",null,0]
[null,null,null,null,null,"","",null,0]
[null,null,"Auxiliar de eletricista com encargos complementares","h",0.1,17.366,1.7366000000000001,{"$f":"SUM(G1674:G1675)","v":1.7366000000000001},0]
[null,null,"Tampa cega para caixa de piso 4x4 cromada. ","un",1,"","",null,0]
[null,null,null,null,null,"","",null,0]
["SF-00268",{"$f":"INDEX(Orçamentária!A:B,MATCH(Composições!A1677,Orçamentária!A:A,0),2)","v":"Tampa cega para condulete"},null,{"$f":"TRIM(INDEX(Orçamentária!D:D,MATCH(Composições!A1677,Orçamentária!A:A,0),1))","v":"un"},null,"","",null,0]
[null,null,null,null,null,"","",null,0]
[null,null,"Auxiliar de eletricista com encargos complementares","h",0.15,17.366,2.6048999999999998,{"$f":"SUM(G1679:G1680)","v":2.6048999999999998},0]
[null,null,"Tampa cega para condulete alumínio para eletrodutos de 1’’, de sobrepor, com conexões e acessórios.","un",1,"","",null,0]
[null,null,null,null,null,"","",null,0]
["SF-00269",{"$f":"INDEX(Orçamentária!A:B,MATCH(Composições!A1682,Orçamentária!A:A,0),2)","v":"Tampa RJ45 dupla para condulete"},null,{"$f":"TRIM(INDEX(Orçamentária!D:D,MATCH(Composições!A1682,Orçamentária!A:A,0),1))","v":"un"},null,"","",null,0]
[null,null,null,null,null,"","",null,0]
[null,null,"Auxiliar de eletricista com encargos complementares","h",0.15,17.366,2.6048999999999998,{"$f":"SUM(G1684:G1686)","v":5.9451000000000001},0]
[null,null,"Eletricista com encargos complementares","h",0.15,22.268000000000001,{"$f":"IF(ISNUMBER(F1685),E1685*F1685,\"\")","v":3.3401999999999998},null,0]
[null,null,"Espelho para dois módulos RJ45 para condulete alumínio para eletrodutos de 1’’, de sobrepor, com conexões e acessórios.","un",1,"","",null,0]
[null,null,null,null,null,"","",null,0]
["SF-00270",{"$f":"INDEX(Orçamentária!A:B,MATCH(Composições!A1688,Orçamentária!A:A,0),2)","v":"Tomada para condulete"},null,{"$f":"TRIM(INDEX(Orçamentária!D:D,MATCH(Composições!A1688,Orçamentária!A:A,0),1))","v":"un"},null,"","",null,0]
[null,null,null,null,null,"","",null,0]
[null,null,"Eletricista com encargos complementares","h",0.308,22.268000000000001,6.8585440000000002,{"$f":"SUM(G1690:G1693)","v":12.207272},0]
[null,null,"Auxiliar de eletricista com encargos complementares","h",0.308,17.366,5.3487279999999995,null,0]
[null,null,"Tampa para condulete alumínio para eletrodutos de 1\", de sobrepor , com conexões e acessórios. ","un",1,"","",null,0]
[null,null,"Tomada para condulete alumínio para eletrodutos de 1’’, de sobrepor, com conexões e acessórios. ","un",1,"","",null,0]
[null,null,null,null,null,"","",null,0]
["SF-00271",{"$f":"INDEX(Orçamentária!A:B,MATCH(Composições!A1695,Orçamentária!A:A,0),2)","v":"Tomada para perfilado e eletrocalha"},null,{"$f":"TRIM(INDEX(Orçamentária!D:D,MATCH(Composições!A1695,Orçamentária!A:A,0),1))","v":"un"},null,"","",null,0]
[null,null,null,null,null,"","",null,0]
[null,null,"Auxiliar de eletricista com encargos complementares","h",0.65,17.366,11.2879,{"$f":"SUM(G1697:G1700)","v":25.762100000000004},0]
[null,null,"Eletricista com encargos complementares","h",0.65,22.268000000000001,14.474200000000002,null,0]
[null,null,"Caixa com tampa fixa em perfil para tomada em perfilado","un",1,0,0,null,0]
[null,null,"Tomada de embutir 2 polos + terra sem placa 250 V 10 A","un",1,0,0,null,0]
[null,null,null,null,null,"","",null,0]
["SF-00272",{"$f":"INDEX(Orçamentária!A:B,MATCH(Composições!A1702,Orçamentária!A:A,0),2)","v":"Bloco autônomo de emergência"},null,{"$f":"TRIM(INDEX(Orçamentária!D:D,MATCH(Composições!A1702,Orçamentária!A:A,0),1))","v":"un"},null,"","",null,0]
[null,null,null,null,null,"","",null,0]
[null,null,"Bloco autônomo (luminária de emergência). Ref.: Aureon BLOKITO BLK 500 (9901.0000.1079.05 – Aclaramento e 9901.0000.1128.05 – balizamento)","un ",1,"","",{"$f":"SUM(G1704:G1706)","v":5.2960828000000006},0]
[null,null,"Auxiliar de eletricista com encargos complementares","h",7.4800000000000005E-2,17.366,1.2989768000000002,null,0]
[null,null,"Eletricista com encargos complementares","h",0.17949999999999999,22.268000000000001,3.997106,null,0]
[null,null,null,null,null,"","",null,0]
["SF-00273",{"$f":"INDEX(Orçamentária!A:B,MATCH(Composições!A1708,Orçamentária!A:A,0),2)","v":"Instalação de luminária reaproveitada"},null,{"$f":"TRIM(INDEX(Orçamentária!D:D,MATCH(Composições!A1708,Orçamentária!A:A,0),1))","v":"un"},null,"","",null,0]
[null,null,null,null,null,"","",null,0]
[null,null,"Auxiliar de eletricista com encargos complementares","h",0.14799999999999999,17.366,2.5701679999999998,{"$f":"SUM(G1710:G1714)","v":10.477534800000001},0]
[null,null,"Eletricista com encargos complementares","h",0.35510000000000003,22.268000000000001,7.907366800000001,null,0]
[null,null,"Cabo PP 3x2,5mm2 300/500 V, extraflexível (classe 5), com condutor de proteção, com isolação, enchimento e cobertura de PVC","m",1.5,"","",null,0]
[null,null,"Plugue (macho) com 3 polos (2P+T), para 10A","un ",1,"","",null,0]
[null,null,"Plugue (fêmea) com 3 polos (2P+T), para 10A","un ",1,"","",null,0]
[null,null,null,null,null,"","",null,0]
["SF-00274",{"$f":"INDEX(Orçamentária!A:B,MATCH(Composições!A1716,Orçamentária!A:A,0),2)","v":"Luminária 2x14 W de embutir"},null,{"$f":"TRIM(INDEX(Orçamentária!D:D,MATCH(Composições!A1716,Orçamentária!A:A,0),1))","v":"un"},null,"","",null,0]
[null,null,null,null,null,"","",null,0]
[null,null,"Luminária de embutir T5 2 x 14W, ref: Intral DE-500 (cod. 08017); Lumicenter FAA20-E214","un ",1,"","",{"$f":"SUM(G1718:G1725)","v":10.477534800000001},0]
[null,null,"Reator eletrônico 2x14W, ref: Philips EB214A26; Philips EL214-28A26; Lumicenter LEB. 214; MarGirus PB 2X14 AF2","un ",1,"","",null,0]
[null,null,"Lâmpada fluorescente T5 de 14W, ref: Osram HE 14W/840 SMARTLUX; Philips TL5-14W-HE/840; GE F14W/T5/840","un ",2,"","",null,0]
[null,null,"Cabo PP 3x2,5mm2 300/500 V, extraflexível (classe 5), com condutor de proteção, com isolação, enchimento e cobertura de PVC","m",1.5,"","",null,0]
[null,null,"Plugue (macho) com 3 polos (2P+T), para 10A","un ",1,"","",null,0]
[null,null,"Plugue (fêmea) com 3 polos (2P+T), para 10A","un ",1,"","",null,0]
[null,null,"Auxiliar de eletricista com encargos complementares","h",0.14799999999999999,17.366,2.5701679999999998,null,0]
[null,null,"Eletricista com encargos complementares","h",0.35510000000000003,22.268000000000001,7.907366800000001,null,0]
[null,null,null,null,null,"","",null,0]
["SF-00275",{"$f":"INDEX(Orçamentária!A:B,MATCH(Composições!A1727,Orçamentária!A:A,0),2)","v":"Luminária 2x14 W de sobrepor"},null,{"$f":"TRIM(INDEX(Orçamentária!D:D,MATCH(Composições!A1727,Orçamentária!A:A,0),1))","v":"un"},null,"","",null,0]
[null,null,null,null,null,"","",null,0]
[null,null,"Luminária de sobrepor T5 2 x 14W, ref: Intral DS-500 (cod. 08021); Lumicenter FAA20-S214","un ",1,"","",{"$f":"SUM(G1729:G1736)","v":12.226967399999999},0]
[null,null,"Reator eletrônico 2x14W, ref: Philips EB214A26; Philips EL214-28A26; Lumicenter LEB. 214; MarGirus PB 2X14 AF2","un ",1,"","",null,0]
[null,null,"Lâmpada fluorescente T5 de 14W, ref: Osram HE 14W/840 SMARTLUX; Philips TL5-14W-HE/840; GE F14W/T5/840","un ",2,"","",null,0]
[null,null,"Cabo PP 3x2,5mm2 300/500 V, extraflexível (classe 5), com condutor de proteção, com isolação, enchimento e cobertura de PVC","m",1.5,"","",null,0]
[null,null,"Plugue (macho) com 3 polos (2P+T), para 10A","un ",1,"","",null,0]
[null,null,"Plugue (fêmea) com 3 polos (2P+T), para 10A","un ",1,"","",null,0]
[null,null,"Auxiliar de eletricista com encargos complementares","h",0.17269999999999999,17.366,2.9991081999999998,null,0]
[null,null,"Eletricista com encargos complementares","h",0.41439999999999999,22.268000000000001,9.2278591999999993,null,0]
[null,null,null,null,null,"","",null,0]
["SF-00276",{"$f":"INDEX(Orçamentária!A:B,MATCH(Composições!A1738,Orçamentária!A:A,0),2)","v":"Luminária 2x28 W de embutir"},null,{"$f":"TRIM(INDEX(Orçamentária!D:D,MATCH(Composições!A1738,Orçamentária!A:A,0),1))","v":"un"},null,"","",null,0]
[null,null,null,null,null,"","",null,0]
[null,null,"Luminária de embutir T5 2 x 28W, ref: Intral DE-500 (cod. 08025); Lumicenter FAA20-E228","un ",1,"","",{"$f":"SUM(G1740:G1747)","v":10.477534800000001},0]
[null,null,"Reator eletrônico 2x28W, ref: Philips EB228A26; Philips EL214-28A26; Intral REH-T5 2x28/127-220/50-60 (cod. 02475); MarGirus PB 2X28 AF2.","un ",1,"","",null,0]
[null,null,"Lâmpada fluorescente T5 de 28W, ref: Osram HE 28W/840 SMARTLUX; Philips TL5-28W-HE/840; GE F28W/T5/840","un ",2,"","",null,0]
[null,null,"Cabo PP 3x2,5mm2 300/500 V, extraflexível (classe 5), com condutor de proteção, com isolação, enchimento e cobertura de PVC","m",1.5,"","",null,0]
[null,null,"Plugue (macho) com 3 polos (2P+T), para 10A","un ",1,"","",null,0]
[null,null,"Plugue (fêmea) com 3 polos (2P+T), para 10A","un ",1,"","",null,0]
[null,null,"Auxiliar de eletricista com encargos complementares","h",0.14799999999999999,17.366,2.5701679999999998,null,0]
[null,null,"Eletricista com encargos complementares","h",0.35510000000000003,22.268000000000001,7.907366800000001,null,0]
[null,null,null,null,null,"","",null,0]
["SF-00277",{"$f":"INDEX(Orçamentária!A:B,MATCH(Composições!A1749,Orçamentária!A:A,0),2)","v":"Luminária 2x28 W de sobrepor"},null,{"$f":"TRIM(INDEX(Orçamentária!D:D,MATCH(Composições!A1749,Orçamentária!A:A,0),1))","v":"un"},null,"",{"$f":"IF(ISNUMBER(F1749),E1749*F1749,\"\")","v":""},null,0]
[null,null,null,null,null,"","",null,0]
[null,null,"Luminária de sobrepor T5 2 x 28W, ref: Intral DS-500 (cod. 08029); Lumicenter FAA20-S228","un ",1,"","",{"$f":"SUM(G1751:G1758)","v":12.226967399999999},0]
[null,null,"Reator eletrônico 2x28W, ref: Philips EB228A26; Philips EL214-28A26; Intral REH-T5 2x28/127-220/50-60 (cod. 02475); MarGirus PB 2X28 AF2.","un ",1,"","",null,0]
[null,null,"Lâmpada fluorescente T5 de 28W, ref: Osram HE 28W/840 SMARTLUX; Philips TL5-28W-HE/840; GE F28W/T5/840","un ",2,"","",null,0]
[null,null,"Cabo PP 3x2,5mm2 300/500 V, extraflexível (classe 5), com condutor de proteção, com isolação, enchimento e cobertura de PVC","m",1.5,"","",null,0]
[null,null,"Plugue (macho) com 3 polos (2P+T), para 10A","un ",1,"","",null,0]
[null,null,"Plugue (fêmea) com 3 polos (2P+T), para 10A","un ",1,"","",null,0]
[null,null,"Auxiliar de eletricista com encargos complementares","h",0.17269999999999999,17.366,2.9991081999999998,null,0]
[null,null,"Eletricista com encargos complementares","h",0.41439999999999999,22.268000000000001,9.2278591999999993,null,0]
[null,null,null,null,null,"","",null,0]
["SF-00278",{"$f":"INDEX(Orçamentária!A:B,MATCH(Composições!A1760,Orçamentária!A:A,0),2)","v":"Condutor 10mm²"},null,{"$f":"TRIM(INDEX(Orçamentária!D:D,MATCH(Composições!A1760,Orçamentária!A:A,0),1))","v":"m"},null,"","",null,0]
[null,null,null,null,null,"","",null,0]
[null,null,"Auxiliar de eletricista com encargos complementares","h",8.9999999999999993E-3,17.366,0.15629399999999999,{"$f":"SUM(G1762:G1765)","v":0.39280599999999999},0]
[null,null,"Eletricista com encargos complementares","h",8.9999999999999993E-3,22.268000000000001,0.20041199999999998,null,0]
[null,null,"Cabo flexível isolado em EPR não halogenado 10 mm² 0,6 a 1 kV","m",1.0269999999999999,0,0,null,0]
[null,null,"Fita isolante adesiva antichama, uso ate 750 V, em rolo de 19 mm x 5 m","un",0.01,3.61,3.61E-2,null,0]
[null,null,null,null,null,"","",null,0]
["SF-00279",{"$f":"INDEX(Orçamentária!A:B,MATCH(Composições!A1767,Orçamentária!A:A,0),2)","v":"Condutor 16mm²"},null,{"$f":"TRIM(INDEX(Orçamentária!D:D,MATCH(Composições!A1767,Orçamentária!A:A,0),1))","v":"m"},null,"","",null,0]
[null,null,null,null,null,"","",null,0]
[null,null,"Auxiliar de eletricista com encargos complementares","h",1.2999999999999999E-2,17.366,0.22575799999999999,{"$f":"SUM(G1769:G1772)","v":0.551342},0]
[null,null,"Eletricista com encargos complementares","h",1.2999999999999999E-2,22.268000000000001,0.28948400000000002,null,0]
[null,null,"Cabo flexível isolado em EPR não halogenado 16 mm² 0,6 a 1 kV","m",1.0269999999999999,0,0,null,0]
[null,null,"Fita isolante adesiva antichama, uso ate 750 V, em rolo de 19 mm x 5 m","un",0.01,3.61,3.61E-2,null,0]
[null,null,null,null,null,"","",null,0]
["SF-00280",{"$f":"INDEX(Orçamentária!A:B,MATCH(Composições!A1774,Orçamentária!A:A,0),2)","v":"Condutor 2,5 mm²"},null,{"$f":"TRIM(INDEX(Orçamentária!D:D,MATCH(Composições!A1774,Orçamentária!A:A,0),1))","v":"m"},null,"","",null,0]
[null,null,null,null,null,"","",null,0]
[null,null,"Auxiliar de eletricista com encargos complementares","h",0.03,17.366,0.52098,{"$f":"SUM(G1776:G1779)","v":1.2215099999999999},0]
[null,null,"Eletricista com encargos complementares","h",0.03,22.268000000000001,0.66803999999999997,null,0]
[null,null,"Cabo de cobre isolado PVC 450/750V 2,5mm² resistente a chamas, livre de halogênios","m",1.19,"","",null,0]
[null,null,"Fita isolante adesiva antichama, uso ate 750 V, em rolo de 19 mm x 5 m","un",8.9999999999999993E-3,3.61,3.2489999999999998E-2,null,0]
[null,null,null,null,null,"","",null,0]
["SF-00281",{"$f":"INDEX(Orçamentária!A:B,MATCH(Composições!A1781,Orçamentária!A:A,0),2)","v":"Condutor 3x2,5 mm²"},null,{"$f":"TRIM(INDEX(Orçamentária!D:D,MATCH(Composições!A1781,Orçamentária!A:A,0),1))","v":"m"},null,"","",null,0]
[null,null,null,null,null,"","",null,0]
[null,null,"Auxiliar de eletricista com encargos complementares","h",5.1999999999999998E-2,17.366,0.90303199999999995,{"$f":"SUM(G1783:G1786)","v":2.093458},0]
[null,null,"Eletricista com encargos complementares","h",5.1999999999999998E-2,22.268000000000001,1.1579360000000001,null,0]
[null,null,"Cabo de cobre multipolar, classe 5, isolação em EPR, 0,6/1 kV, 3x2,5mm² resistente a chama, livre de halogênios","m",1.19,"","",null,0]
[null,null,"Fita isolante adesiva antichama, uso ate 750 V, em rolo de 19 mm x 5 m","un",8.9999999999999993E-3,3.61,3.2489999999999998E-2,null,0]
[null,null,null,null,null,"","",null,0]
["SF-00282",{"$f":"INDEX(Orçamentária!A:B,MATCH(Composições!A1788,Orçamentária!A:A,0),2)","v":"Condutor 4 mm²"},null,{"$f":"TRIM(INDEX(Orçamentária!D:D,MATCH(Composições!A1788,Orçamentária!A:A,0),1))","v":"m"},null,"","",null,0]
[null,null,null,null,null,"","",null,0]
[null,null,"Auxiliar de eletricista com encargos complementares","h",0.04,17.366,0.69464000000000004,{"$f":"SUM(G1790:G1793)","v":1.61785},0]
[null,null,"Eletricista com encargos complementares","h",0.04,22.268000000000001,0.89072000000000007,null,0]
[null,null,"Cabo de cobre isolado PVC 450/750V 4mm² resistente a chamas, livre de halogênios","m",1.19,"","",null,0]
[null,null,"Fita isolante adesiva antichama, uso ate 750 V, em rolo de 19 mm x 5 m","un",8.9999999999999993E-3,3.61,3.2489999999999998E-2,null,0]
[null,null,null,null,null,"","",null,0]
["SF-00283",{"$f":"INDEX(Orçamentária!A:B,MATCH(Composições!A1795,Orçamentária!A:A,0),2)","v":"Condutor 4x2,5 mm²"},null,{"$f":"TRIM(INDEX(Orçamentária!D:D,MATCH(Composições!A1795,Orçamentária!A:A,0),1))","v":"m"},null,"","",null,0]
[null,null,null,null,null,"","",null,0]
[null,null,"Auxiliar de eletricista com encargos complementares","h",8.9999999999999993E-3,17.366,0.15629399999999999,{"$f":"SUM(G1797:G1800)","v":0.39280599999999999},0]
[null,null,"Eletricista com encargos complementares","h",8.9999999999999993E-3,22.268000000000001,0.20041199999999998,null,0]
[null,null,"Cabo de cobre multipolar, classe 5, isolação em EPR, 0,6/1 kV, 4x2,5mm² resistente a chama, livre de halogênios","m",1.0269999999999999,"","",null,0]
[null,null,"Fita isolante adesiva antichama, uso ate 750 V, em rolo de 19 mm x 5 m","un",0.01,3.61,3.61E-2,null,0]
[null,null,null,null,null,"","",null,0]
["SF-00284",{"$f":"INDEX(Orçamentária!A:B,MATCH(Composições!A1802,Orçamentária!A:A,0),2)","v":"Condutor 6 mm²"},null,{"$f":"TRIM(INDEX(Orçamentária!D:D,MATCH(Composições!A1802,Orçamentária!A:A,0),1))","v":"m"},null,"","",null,0]
[null,null,null,null,null,"","",null,0]
[null,null,"Auxiliar de eletricista com encargos complementares","h",5.1999999999999998E-2,17.366,0.90303199999999995,{"$f":"SUM(G1804:G1807)","v":2.093458},0]
[null,null,"Eletricista com encargos complementares","h",5.1999999999999998E-2,22.268000000000001,1.1579360000000001,null,0]
[null,null,"Cabo de cobre isolado PVC 450/750V 6mm² resistente a chamas, livre de halogênios","m",1.19,"","",null,0]
[null,null,"Fita isolante adesiva antichama, uso ate 750 V, em rolo de 19 mm x 5 m","un",8.9999999999999993E-3,3.61,3.2489999999999998E-2,null,0]
[null,null,null,null,null,"","",null,0]
["SF-00285",{"$f":"INDEX(Orçamentária!A:B,MATCH(Composições!A1809,Orçamentária!A:A,0),2)","v":"Quadro elétrico TTA"},null,{"$f":"TRIM(INDEX(Orçamentária!D:D,MATCH(Composições!A1809,Orçamentária!A:A,0),1))","v":"un"},null,"","",null,0]
[null,null,null,null,null,"","",null,0]
[null,null,"Quadro elétrico tipo TTA completo com 30 disjuntores terminais, contemplando disjuntores, dispositovos de proteção contra surto (DPS), módulo diferencial residual (DR), borneiras, barramentos e outros itens necessários, conforme especificação","un",1,"","",{"$f":"SUM(G1811:G1813)","v":138.71899999999999},0]
[null,null,"Auxiliar de eletricista com encargos complementares","h",3.5,17.366,60.780999999999999,null,0]
[null,null,"Eletricista com encargos complementares","h",3.5,22.268000000000001,{"$f":"IF(ISNUMBER(F1813),E1813*F1813,\"\")","v":77.938000000000002},null,0]
[null,null,null,null,null,"","",null,0]
["SF-00293",{"$f":"INDEX(Orçamentária!A:B,MATCH(Composições!A1815,Orçamentária!A:A,0),2)","v":"Instalação de fancolete reaproveitado"},null,{"$f":"TRIM(INDEX(Orçamentária!D:D,MATCH(Composições!A1815,Orçamentária!A:A,0),1))","v":"un"},null,"","",null,0]
[null,null,null,null,null,"","",null,0]
[null,null,"Ajudante de operação em geral com encargos complementares","h",2,17.470500000000001,34.941000000000003,{"$f":"SUM(G1817:G1818)","v":81.073000000000008},0]
[null,null,"MONTADOR ELETROMECÃNICO COM ENCARGOS COMPLEMENTARES","h",2,23.065999999999999,46.131999999999998,null,0]
[null,null,null,null,null,"","",null,0]
["SF-00294",{"$f":"INDEX(Orçamentária!A:B,MATCH(Composições!A1820,Orçamentária!A:A,0),2)","v":"Instalação de split reaproveitado"},null,{"$f":"TRIM(INDEX(Orçamentária!D:D,MATCH(Composições!A1820,Orçamentária!A:A,0),1))","v":"un"},null,"","",null,0]
[null,null,null,null,null,"","",null,0]
[null,null,"Ajudante de operação em geral com encargos complementares","h",3,17.470500000000001,52.411500000000004,{"$f":"SUM(G1822:G1823)","v":121.6095},0]
[null,null,"MONTADOR ELETROMECÃNICO COM ENCARGOS COMPLEMENTARES","h",3,23.065999999999999,69.197999999999993,null,0]
[null,null,null,null,null,"","",null,0]
["SF-00295",{"$f":"INDEX(Orçamentária!A:B,MATCH(Composições!A1825,Orçamentária!A:A,0),2)","v":"Exaustor axial 340 m3/h"},null,{"$f":"TRIM(INDEX(Orçamentária!D:D,MATCH(Composições!A1825,Orçamentária!A:A,0),1))","v":"un"},null,"","",null,0]
[null,null,null,null,null,"","",null,0]
[null,null,"Eletricista com encargos complementares","h",1,22.268000000000001,22.268000000000001,{"$f":"SUM(G1827:G1829)","v":39.634},0]
[null,null,"Auxiliar de eletricista com encargos complementares","h",1,17.366,17.366,null,0]
[null,null,"Exaustor axial, 1F/220V/60Hz,  vazão máxima 340 m3/h, pressão estática máxima 104 Pa. Referência Comercial: Multivac Muro150B 220V","un ",1,"","",null,0]
[null,null,null,null,null,"","",null,0]
["SF-00296",{"$f":"INDEX(Orçamentária!A:B,MATCH(Composições!A1831,Orçamentária!A:A,0),2)","v":"Exaustor axial 865 m3/h"},null,{"$f":"TRIM(INDEX(Orçamentária!D:D,MATCH(Composições!A1831,Orçamentária!A:A,0),1))","v":"un"},null,"","",null,0]
[null,null,null,null,null,"","",null,0]
[null,null,"Eletricista com encargos complementares","h",1,22.268000000000001,22.268000000000001,{"$f":"SUM(G1833:G1835)","v":39.634},0]
[null,null,"Auxiliar de eletricista com encargos complementares","h",1,17.366,17.366,null,0]
[null,null,"Exaustor axial, 1F/220V/60Hz,  vazão máxima 865 m3/h, pressão estática máxima 582 Pa . Referência Comercial: Multivac AXC 200B","un ",1,"","",null,0]
[null,null,null,null,null,"","",null,0]
["SF-00297",{"$f":"INDEX(Orçamentária!A:B,MATCH(Composições!A1837,Orçamentária!A:A,0),2)","v":"Duto chapa galvanizada # 22"},null,{"$f":"TRIM(INDEX(Orçamentária!D:D,MATCH(Composições!A1837,Orçamentária!A:A,0),1))","v":"m2"},null,"","",null,0]
[null,null,null,null,null,"","",null,0]
[null,null,"Chapa de aco galvanizada bitola GSG 22, E = 0,80 mm (6,40 kg/m2)","kg",6.6559999999999997,7.6665000000000001,51.028224000000002,{"$f":"SUM(G1839:G1842)","v":202.23782399999999},0]
[null,null,"Suportes e acessórios de fixação de dutos em chapa de aço #22","cj",1,0,0,null,0]
[null,null,"Servente com Encargos Complementares","h",3.84,16.311500000000002,62.636160000000004,null,0]
[null,null,"MONTADOR ELETROMECÃNICO COM ENCARGOS COMPLEMENTARES","h",3.84,23.065999999999999,88.573439999999991,null,0]
[null,null,null,null,null,"","",null,0]
["SF-00298",{"$f":"INDEX(Orçamentária!A:B,MATCH(Composições!A1844,Orçamentária!A:A,0),2)","v":"Duto flexível 6”"},null,{"$f":"TRIM(INDEX(Orçamentária!D:D,MATCH(Composições!A1844,Orçamentária!A:A,0),1))","v":"m"},null,"","",null,0]
[null,null,null,null,null,"","",null,0]
[null,null,"Servente com Encargos Complementares","h",0.4,16.311500000000002,6.5246000000000013,{"$f":"SUM(G1846:G1848)","v":15.751000000000001},0]
[null,null,"MONTADOR ELETROMECÃNICO COM ENCARGOS COMPLEMENTARES","h",0.4,23.065999999999999,9.2263999999999999,null,0]
[null,null,"Duto flexível com isolamento térmico e barreira de vapor, diâmetro 6”, 6 m de comprimento. Referência Comercial: Multivac Isodec RT 0.6","m",1.05,"","",null,0]
[null,null,null,null,null,"","",null,0]
["SF-00299",{"$f":"INDEX(Orçamentária!A:B,MATCH(Composições!A1850,Orçamentária!A:A,0),2)","v":"Duto flexível 8”"},null,{"$f":"TRIM(INDEX(Orçamentária!D:D,MATCH(Composições!A1850,Orçamentária!A:A,0),1))","v":"m"},null,"","",null,0]
[null,null,null,null,null,"","",null,0]
[null,null,"Servente com Encargos Complementares","h",0.4,16.311500000000002,6.5246000000000013,{"$f":"SUM(G1852:G1854)","v":15.751000000000001},0]
[null,null,"MONTADOR ELETROMECÃNICO COM ENCARGOS COMPLEMENTARES","h",0.4,23.065999999999999,9.2263999999999999,null,0]
[null,null,"Duto flexível com isolamento térmico e barreira de vapor, diâmetro 8”, 6 m de comprimento. Referência: Multivac Isodec RT 0.6","m",1.05,"","",null,0]
[null,null,null,null,null,"","",null,0]
["SF-00300",{"$f":"INDEX(Orçamentária!A:B,MATCH(Composições!A1856,Orçamentária!A:A,0),2)","v":"Difusor de ar quadrado 360x360 mm"},null,{"$f":"TRIM(INDEX(Orçamentária!D:D,MATCH(Composições!A1856,Orçamentária!A:A,0),1))","v":"un"},null,"","",null,0]
[null,null,null,null,null,"","",null,0]
[null,null,"Ajudante de operação em geral com encargos complementares","h",2.5,17.470500000000001,43.676250000000003,{"$f":"SUM(G1858:G1860)","v":101.34125},0]
[null,null,"MONTADOR ELETROMECÃNICO COM ENCARGOS COMPLEMENTARES","h",2.5,23.065999999999999,57.664999999999999,null,0]
[null,null,"Difusor de ar quadrado, 360x360 mm, Referência Comercial: Trox ADLQ-AG Nº4","un ",1,"","",null,0]
[null,null,null,null,null,"","",null,0]
["SF-00301",{"$f":"INDEX(Orçamentária!A:B,MATCH(Composições!A1862,Orçamentária!A:A,0),2)","v":"Difusor de ar quadrado com caixa plenum AK6 360x360 mm"},null,{"$f":"TRIM(INDEX(Orçamentária!D:D,MATCH(Composições!A1862,Orçamentária!A:A,0),1))","v":"un"},null,"","",null,0]
[null,null,null,null,null,"","",null,0]
[null,null,"Ajudante de operação em geral com encargos complementares","h",2.5,17.470500000000001,43.676250000000003,{"$f":"SUM(G1864:G1866)","v":101.34125},0]
[null,null,"MONTADOR ELETROMECÃNICO COM ENCARGOS COMPLEMENTARES","h",2.5,23.065999999999999,57.664999999999999,null,0]
[null,null,"Difusor de ar quadrado com caixa pleno AK6 360x360 mm. Ref.: Trox ADLK-AG Nº4","un ",1,"","",null,0]
[null,null,null,null,null,"","",null,0]
["SF-00302",{"$f":"INDEX(Orçamentária!A:B,MATCH(Composições!A1868,Orçamentária!A:A,0),2)","v":"Difusor de ar quadrado para insuflamento em duas direções perpendiculares 376x376 mm"},null,{"$f":"TRIM(INDEX(Orçamentária!D:D,MATCH(Composições!A1868,Orçamentária!A:A,0),1))","v":"un"},null,"","",null,0]
[null,null,null,null,null,"","",null,0]
[null,null,"Ajudante de operação em geral com encargos complementares","h",2.5,17.470500000000001,43.676250000000003,{"$f":"SUM(G1870:G1872)","v":101.34125},0]
[null,null,"MONTADOR ELETROMECÃNICO COM ENCARGOS COMPLEMENTARES","h",2.5,23.065999999999999,57.664999999999999,null,0]
[null,null,"Difusor de ar quadrado para insuflamento em duas direções perpendiculares 376x376 mm, Referência Comercial: Trox  ADQ-2C-AG","un ",1,"","",null,0]
[null,null,null,null,null,"","",null,0]
["SF-00303",{"$f":"INDEX(Orçamentária!A:B,MATCH(Composições!A1874,Orçamentária!A:A,0),2)","v":"Difusor de ar retangular para insuflamento em duas direções 371x208 mm"},null,{"$f":"TRIM(INDEX(Orçamentária!D:D,MATCH(Composições!A1874,Orçamentária!A:A,0),1))","v":"un"},null,"","",null,0]
[null,null,null,null,null,"","",null,0]
[null,null,"Ajudante de operação em geral com encargos complementares","h",2.5,17.470500000000001,43.676250000000003,{"$f":"SUM(G1876:G1878)","v":101.34125},0]
[null,null,"MONTADOR ELETROMECÃNICO COM ENCARGOS COMPLEMENTARES","h",2.5,23.065999999999999,{"$f":"IF(ISNUMBER(F1877),E1877*F1877,\"\")","v":57.664999999999999},null,0]
[null,null,"Difusor de ar retangular para insuflamento em duas direções (fluxo na direção perpendicular às maiores arestas do retângulo), 371x208 mm. Ref.: Trox ADQ-2","un ",1,"","",null,0]
[null,null,null,null,null,"","",null,0]
["SF-00304",{"$f":"INDEX(Orçamentária!A:B,MATCH(Composições!A1880,Orçamentária!A:A,0),2)","v":"Difusor de ar retangular para insuflamento em três direções 264x432 mm"},null,{"$f":"TRIM(INDEX(Orçamentária!D:D,MATCH(Composições!A1880,Orçamentária!A:A,0),1))","v":"un"},null,"","",null,0]
[null,null,null,null,null,"","",null,0]
[null,null,"Ajudante de operação em geral com encargos complementares","h",2.5,17.470500000000001,43.676250000000003,{"$f":"SUM(G1882:G1884)","v":101.34125},0]
[null,null,"MONTADOR ELETROMECÃNICO COM ENCARGOS COMPLEMENTARES","h",2.5,23.065999999999999,57.664999999999999,null,0]
[null,null,"Difusor de ar retangular para insuflamento em três direções (um fluxo na direção perpendicular às maiores arestas do retângulo e dois fluxos na direção perpendicular às menores arestas), 264x432 mm, Referência Comercial: Trox  ADQ-32-AG","un ",1,"","",null,0]
[null,null,null,null,null,"","",null,0]
["SF-00305",{"$f":"INDEX(Orçamentária!A:B,MATCH(Composições!A1886,Orçamentária!A:A,0),2)","v":"Difusor de ar retangular para insuflamento em três direções 320x562 mm"},null,{"$f":"TRIM(INDEX(Orçamentária!D:D,MATCH(Composições!A1886,Orçamentária!A:A,0),1))","v":"un"},null,"","",null,0]
[null,null,null,null,null,"","",null,0]
[null,null,"Ajudante de operação em geral com encargos complementares","h",2.5,17.470500000000001,43.676250000000003,{"$f":"SUM(G1888:G1890)","v":101.34125},0]
[null,null,"MONTADOR ELETROMECÃNICO COM ENCARGOS COMPLEMENTARES","h",2.5,23.065999999999999,57.664999999999999,null,0]
[null,null,"Difusor de ar retangular para insuflamento em três direções 320x562 mm. Ref.: Trox ADQ-32-AG","un ",1,"","",null,0]
[null,null,null,null,null,"","",null,0]
["SF-00306",{"$f":"INDEX(Orçamentária!A:B,MATCH(Composições!A1892,Orçamentária!A:A,0),2)","v":"Difusor de ar retangular para insuflamento em três direções 371x208 mm"},null,{"$f":"TRIM(INDEX(Orçamentária!D:D,MATCH(Composições!A1892,Orçamentária!A:A,0),1))","v":"un"},null,"","",null,0]
[null,null,null,null,null,"","",null,0]
[null,null,"Ajudante de operação em geral com encargos complementares","h",2.5,17.470500000000001,43.676250000000003,{"$f":"SUM(G1894:G1896)","v":101.34125},0]
[null,null,"MONTADOR ELETROMECÃNICO COM ENCARGOS COMPLEMENTARES","h",2.5,23.065999999999999,57.664999999999999,null,0]
[null,null,"Difusor de ar retangular para insuflamento em três direções (dois fluxos na direção perpendicular às maiores arestas do retângulo e um fluxo na direção perpendicular às menores arestas), 371x208 mm. Ref.: Trox ADQ-3","un ",1,"","",null,0]
[null,null,null,null,null,"","",null,0]
["SF-00307",{"$f":"INDEX(Orçamentária!A:B,MATCH(Composições!A1898,Orçamentária!A:A,0),2)","v":"Difusor de ar retangular para insuflamento em uma direção 371x208 mm"},null,{"$f":"TRIM(INDEX(Orçamentária!D:D,MATCH(Composições!A1898,Orçamentária!A:A,0),1))","v":"un"},null,"","",null,0]
[null,null,null,null,null,"","",null,0]
[null,null,"Ajudante de operação em geral com encargos complementares","h",2.5,17.470500000000001,43.676250000000003,{"$f":"SUM(G1900:G1902)","v":101.34125},0]
[null,null,"MONTADOR ELETROMECÃNICO COM ENCARGOS COMPLEMENTARES","h",2.5,23.065999999999999,57.664999999999999,null,0]
[null,null,"Difusor de ar retangular para insuflamento em uma direção (fluxo na direção perpendicular às maiores arestas do retângulo), 371x208 mm. Ref.: Trox ADQ-1","un ",1,"","",null,0]
[null,null,null,null,null,"","",null,0]
["SF-00308",{"$f":"INDEX(Orçamentária!A:B,MATCH(Composições!A1904,Orçamentária!A:A,0),2)","v":"Grelha para retorno retangular 425x225 mm"},null,{"$f":"TRIM(INDEX(Orçamentária!D:D,MATCH(Composições!A1904,Orçamentária!A:A,0),1))","v":"un"},null,"","",null,0]
[null,null,null,null,null,"","",null,0]
[null,null,"Ajudante de operação em geral com encargos complementares","h",3.5,17.470500000000001,61.146750000000004,{"$f":"SUM(G1906:G1908)","v":141.87774999999999},0]
[null,null,"MONTADOR ELETROMECÃNICO COM ENCARGOS COMPLEMENTARES","h",3.5,23.065999999999999,80.730999999999995,null,0]
[null,null,"Grelha para retorno de ar com lâminas fixas e registro, 40 x 20 cm","un ",1,0,0,null,0]
[null,null,null,null,null,"","",null,0]
["SF-00309",{"$f":"INDEX(Orçamentária!A:B,MATCH(Composições!A1910,Orçamentária!A:A,0),2)","v":"Grelha para retorno retangular 525x325 mm"},null,{"$f":"TRIM(INDEX(Orçamentária!D:D,MATCH(Composições!A1910,Orçamentária!A:A,0),1))","v":"un"},null,"","",null,0]
[null,null,null,null,null,"","",null,0]
[null,null,"Ajudante de operação em geral com encargos complementares","h",3.5,17.470500000000001,61.146750000000004,{"$f":"SUM(G1912:G1914)","v":141.87774999999999},0]
[null,null,"MONTADOR ELETROMECÃNICO COM ENCARGOS COMPLEMENTARES","h",3.5,23.065999999999999,80.730999999999995,null,0]
[null,null,"Grelha para retorno de ar com lâminas fixas e registro, 50 x 30 cm","un ",1,0,0,null,0]
[null,null,null,null,null,"","",null,0]
["SF-00310",{"$f":"INDEX(Orçamentária!A:B,MATCH(Composições!A1916,Orçamentária!A:A,0),2)","v":"Instalação de difusores, grelhas e acessórios de climatização reaproveitados"},null,{"$f":"TRIM(INDEX(Orçamentária!D:D,MATCH(Composições!A1916,Orçamentária!A:A,0),1))","v":"un"},null,"","",null,0]
[null,null,null,null,null,"","",null,0]
[null,null,"Ajudante de operação em geral com encargos complementares","h",2.5,17.470500000000001,43.676250000000003,{"$f":"SUM(G1918:G1919)","v":101.34125},0]
[null,null,"MONTADOR ELETROMECÃNICO COM ENCARGOS COMPLEMENTARES","h",2.5,23.065999999999999,57.664999999999999,null,0]
[null,null,null,null,null,"","",null,0]
["SF-00311",{"$f":"INDEX(Orçamentária!A:B,MATCH(Composições!A1921,Orçamentária!A:A,0),2)","v":"Instalação de exaustor reaproveitado"},null,{"$f":"TRIM(INDEX(Orçamentária!D:D,MATCH(Composições!A1921,Orçamentária!A:A,0),1))","v":"un"},null,"","",null,0]
[null,null,null,null,null,"","",null,0]
[null,null,"Eletricista com encargos complementares","h",1,22.268000000000001,22.268000000000001,{"$f":"SUM(G1923:G1924)","v":39.634},0]
[null,null,"Auxiliar de eletricista com encargos complementares","h",1,17.366,17.366,null,0]
[null,null,null,null,null,"","",null,0]
["SF-00312",{"$f":"INDEX(Orçamentária!A:B,MATCH(Composições!A1926,Orçamentária!A:A,0),2)","v":"Preparação para instalação de difusores/grelhas de ar em portas"},null,{"$f":"TRIM(INDEX(Orçamentária!D:D,MATCH(Composições!A1926,Orçamentária!A:A,0),1))","v":"un"},null,"","",null,0]
[null,null,null,null,null,"","",null,0]
[null,null,"Marceneiro com encargos complementares","h",0.75,22.268000000000001,16.701000000000001,{"$f":"SUM(G1928:G1929)","v":30.552},0]
[null,null,"Ajudante de carpinteiro com encargos complementares","h",0.75,18.468,13.850999999999999,null,0]
[null,null,null,null,null,"","",null,0]
["SF-00313",{"$f":"INDEX(Orçamentária!A:B,MATCH(Composições!A1931,Orçamentária!A:A,0),2)","v":"Bomba para condensado de ar-condicionado para instalação oculta"},null,{"$f":"TRIM(INDEX(Orçamentária!D:D,MATCH(Composições!A1931,Orçamentária!A:A,0),1))","v":"un"},null,"","",null,0]
[null,null,null,null,null,"","",null,0]
[null,null,"Auxiliar de eletricista com encargos complementares","h",1,17.366,17.366,{"$f":"SUM(G1933:G1935)","v":39.634},0]
[null,null,"Eletricista com encargos complementares","h",1,22.268000000000001,22.268000000000001,null,0]
[null,null,"Bomba para condensado de ar-condicionado para instalação oculta, 1F/220V/60Hz, vazão 14 l/h (a 0 mmca). Ref.: Elgin Mini Orange","un",1,"","",null,0]
[null,null,null,null,null,"","",null,0]
["SF-00314",{"$f":"INDEX(Orçamentária!A:B,MATCH(Composições!A1937,Orçamentária!A:A,0),2)","v":"Fita aluminizada para refrigeração 48 mm"},null,{"$f":"TRIM(INDEX(Orçamentária!D:D,MATCH(Composições!A1937,Orçamentária!A:A,0),1))","v":"m"},null,"","",null,0]
[null,null,null,null,null,"","",null,0]
[null,null,"Ajudante de operação em geral com encargos complementares","h",0.05,17.470500000000001,0.87352500000000011,{"$f":"SUM(G1939:G1940)","v":0.87352500000000011},0]
[null,null,"Fita aluminizada 48 mm","m",1,"","",null,0]
[null,null,null,null,null,"",{"$f":"IF(ISNUMBER(F1941),E1941*F1941,\"\")","v":""},null,0]
["SF-00315",{"$f":"INDEX(Orçamentária!A:B,MATCH(Composições!A1942,Orçamentária!A:A,0),2)","v":"Fita PVC 100 mm para acabamento em refrigeração"},null,{"$f":"TRIM(INDEX(Orçamentária!D:D,MATCH(Composições!A1942,Orçamentária!A:A,0),1))","v":"m"},null,"","",null,0]
[null,null,null,null,null,"","",null,0]
[null,null,"Ajudante de operação em geral com encargos complementares","h",0.05,17.470500000000001,0.87352500000000011,{"$f":"SUM(G1944:G1945)","v":0.87352500000000011},0]
[null,null,"Fita PVC 100 mm","m",1,"","",null,0]
[null,null,null,null,null,"","",null,0]
["SF-00316",{"$f":"INDEX(Orçamentária!A:B,MATCH(Composições!A1947,Orçamentária!A:A,0),2)","v":"Mangueira emborrachada 3/4\" para água gelada"},null,{"$f":"TRIM(INDEX(Orçamentária!D:D,MATCH(Composições!A1947,Orçamentária!A:A,0),1))","v":"m"},null,"","",null,0]
[null,null,null,null,null,"","",null,0]
[null,null,"Ajudante de operação em geral com encargos complementares","h",0.05,17.470500000000001,0.87352500000000011,{"$f":"SUM(G1949:G1950)","v":0.87352500000000011},0]
[null,null,"Mangueira emborrachada 3/4\"","m",1,"","",null,0]
[null,null,null,null,null,"","",null,0]
["SF-00317",{"$f":"INDEX(Orçamentária!A:B,MATCH(Composições!A1952,Orçamentária!A:A,0),2)","v":"Suporte para unidade condensadora de aparelho split"},null,{"$f":"TRIM(INDEX(Orçamentária!D:D,MATCH(Composições!A1952,Orçamentária!A:A,0),1))","v":"un"},null,"","",null,0]
[null,null,null,null,null,"","",null,0]
[null,null,"Serralheiro com encargos complementares","h",0.85099999999999998,21.973499999999998,18.699448499999999,{"$f":"SUM(G1954:G1956)","v":33.930646499999995},0]
[null,null,"Auxiliar de serralheiro com encargos complementares","h",0.85099999999999998,17.898,15.231197999999999,null,0]
[null,null,"Suporte para unidade condensadora de aparelho split ou fancolete","un ",1,"","",null,0]
[null,null,null,null,null,"","",null,0]
["SF-00318",{"$f":"INDEX(Orçamentária!A:B,MATCH(Composições!A1958,Orçamentária!A:A,0),2)","v":"Suporte para unidade evaporadora de aparelho split ou fancolete"},null,{"$f":"TRIM(INDEX(Orçamentária!D:D,MATCH(Composições!A1958,Orçamentária!A:A,0),1))","v":"un"},null,"","",null,0]
[null,null,null,null,null,"","",null,0]
[null,null,"Serralheiro com encargos complementares","h",0.85099999999999998,21.973499999999998,18.699448499999999,{"$f":"SUM(G1960:G1962)","v":33.930646499999995},0]
[null,null,"Auxiliar de serralheiro com encargos complementares","h",0.85099999999999998,17.898,15.231197999999999,null,0]
[null,null,"Suporte para unidade evaporadora de aparelho split ou fancolete","un ",1,"","",null,0]
[null,null,null,null,null,"","",null,0]
["SF-00319",{"$f":"INDEX(Orçamentária!A:B,MATCH(Composições!A1964,Orçamentária!A:A,0),2)","v":"Filtro em Y 1\""},null,{"$f":"TRIM(INDEX(Orçamentária!D:D,MATCH(Composições!A1964,Orçamentária!A:A,0),1))","v":"un"},null,"","",null,0]
[null,null,null,null,null,"","",null,0]
[null,null,"Auxiliar de encanador ou bombeiro hidráulico com encargos complementares","h",0.77449999999999997,16.891000000000002,13.082079500000001,{"$f":"SUM(G1966:G1969)","v":29.94410925},0]
[null,null,"Encanador ou Bombeiro Hidráulico com Encargos Complementares","h",0.77449999999999997,21.622,16.746238999999999,null,0]
[null,null,"Filtro em Y 1\" (DN 25 mm), fabricado em bronze, extremidade com roscas, filtro em aço inoxidável, classe de pressão PN20 ou superior. Ref.: Deca 000.085.100.03","un ",1,"","",null,0]
[null,null,"Fita veda rosca em rolos de 18 mm x 50 m (L x C)","UN",9.4999999999999998E-3,12.188499999999999,0.11579075,null,0]
[null,null,null,null,null,"","",null,0]
["SF-00320",{"$f":"INDEX(Orçamentária!A:B,MATCH(Composições!A1971,Orçamentária!A:A,0),2)","v":"Filtro em Y 3/4\""},null,{"$f":"TRIM(INDEX(Orçamentária!D:D,MATCH(Composições!A1971,Orçamentária!A:A,0),1))","v":"un"},null,"","",null,0]
[null,null,null,null,null,"","",null,0]
[null,null,"Auxiliar de encanador ou bombeiro hidráulico com encargos complementares","h",0.77449999999999997,16.891000000000002,13.082079500000001,{"$f":"SUM(G1973:G1976)","v":29.94410925},0]
[null,null,"Encanador ou Bombeiro Hidráulico com Encargos Complementares","h",0.77449999999999997,21.622,16.746238999999999,null,0]
[null,null,"Filtro em Y 3/4\" (DN 20 mm), fabricado em bronze, extremidade com roscas, filtro em aço inoxidável, classe de pressão PN20 ou superior. Ref.: Deca 000.085.034.03","un ",1,"","",null,0]
[null,null,"Fita veda rosca em rolos de 18 mm x 50 m (L x C)","UN",9.4999999999999998E-3,12.188499999999999,0.11579075,null,0]
[null,null,null,null,null,"","",null,0]
["SF-00321",{"$f":"INDEX(Orçamentária!A:B,MATCH(Composições!A1978,Orçamentária!A:A,0),2)","v":"Válvula de balanceamento e controle independente da pressão (PIBCV) 2 vias 1\""},null,{"$f":"TRIM(INDEX(Orçamentária!D:D,MATCH(Composições!A1978,Orçamentária!A:A,0),1))","v":"un"},null,"","",null,0]
[null,null,null,null,null,"","",null,0]
[null,null,"Auxiliar de encanador ou bombeiro hidráulico com encargos complementares","h",0.77449999999999997,16.891000000000002,13.082079500000001,{"$f":"SUM(G1980:G1984)","v":29.94410925},0]
[null,null,"Encanador ou Bombeiro Hidráulico com Encargos Complementares","h",0.77449999999999997,21.622,16.746238999999999,null,0]
[null,null,"Fita veda rosca em rolos de 18 mm x 50 m (L x C)","UN",9.4999999999999998E-3,12.188499999999999,0.11579075,null,0]
[null,null,"Atuador tipo liga/desliga (ON/OFF), com tensão compatível com o restante do sistema (24 V ou 220 V) e mecanicamente compatível com a válvula fornecida. Referência comercial: IMI Hydronic Engineering EMO-T","un ",1,"","",null,0]
[null,null,"Válvula de balanceamento e controle (PIBCV) 2 vias, para controle on-off, diâmetro nominal 1\" (25 mm). Ref.: IMI Hydronic Engineering TA-COMPACT-P DN 25, Honeywell VRN2C","un ",1,"","",null,0]
[null,null,null,null,null,"","",null,0]
["SF-00322",{"$f":"INDEX(Orçamentária!A:B,MATCH(Composições!A1986,Orçamentária!A:A,0),2)","v":"Válvula de balanceamento e controle independente da pressão (PIBCV) 2 vias 3/4\""},null,{"$f":"TRIM(INDEX(Orçamentária!D:D,MATCH(Composições!A1986,Orçamentária!A:A,0),1))","v":"un"},null,"","",null,0]
[null,null,null,null,null,"","",null,0]
[null,null,"Auxiliar de encanador ou bombeiro hidráulico com encargos complementares","h",0.77449999999999997,16.891000000000002,13.082079500000001,{"$f":"SUM(G1988:G1992)","v":29.94410925},0]
[null,null,"Encanador ou Bombeiro Hidráulico com Encargos Complementares","h",0.77449999999999997,21.622,16.746238999999999,null,0]
[null,null,"Fita veda rosca em rolos de 18 mm x 50 m (L x C)","UN",9.4999999999999998E-3,12.188499999999999,0.11579075,null,0]
[null,null,"Atuador tipo liga/desliga (ON/OFF), com tensão compatível com o restante do sistema (24 V ou 220 V) e mecanicamente compatível com a válvula fornecida. Referência comercial: IMI Hydronic Engineering EMO-T","un ",1,"","",null,0]
[null,null,"Válvula de balanceamento e controle (PIBCV) 2 vias, para controle on-off, diâmetro nominal 3/4\" (20 mm). Ref.: IMI Hydronic Engineering TA-COMPACT-P DN 20, Honeywell VRN2B","un ",1,"","",null,0]
[null,null,null,null,null,"","",null,0]
["SF-00323",{"$f":"INDEX(Orçamentária!A:B,MATCH(Composições!A1994,Orçamentária!A:A,0),2)","v":"Válvula de esfera em bronze 1 1/2\""},null,{"$f":"TRIM(INDEX(Orçamentária!D:D,MATCH(Composições!A1994,Orçamentária!A:A,0),1))","v":"un"},null,"","",null,0]
[null,null,null,null,null,"","",null,0]
[null,null,"Fita veda rosca em rolos de 18 mm x 50 m (L x C)","UN",1.9E-2,12.188499999999999,0.2315815,{"$f":"SUM(G1996:G1999)","v":139.81133850000001},0]
[null,null,"VALVULA DE ESFERA BRUTA EM BRONZE, BITOLA 1 1/2 \" (REF 1552-B)","un",1,109.193,109.193,null,0]
[null,null,"Auxiliar de encanador ou bombeiro hidráulico com encargos complementares","h",0.78900000000000003,16.891000000000002,13.326999000000002,null,0]
[null,null,"Encanador ou Bombeiro Hidráulico com Encargos Complementares","h",0.78900000000000003,21.622,17.059758000000002,null,0]
[null,null,null,null,null,"","",null,0]
["SF-00324",{"$f":"INDEX(Orçamentária!A:B,MATCH(Composições!A2001,Orçamentária!A:A,0),2)","v":"Válvula de esfera em bronze 1 1/4\""},null,{"$f":"TRIM(INDEX(Orçamentária!D:D,MATCH(Composições!A2001,Orçamentária!A:A,0),1))","v":"un"},null,"","",null,0]
[null,null,null,null,null,"","",null,0]
[null,null,"Fita veda rosca em rolos de 18 mm x 50 m (L x C)","UN",1.9E-2,12.188499999999999,0.2315815,{"$f":"SUM(G2003:G2006)","v":121.2293385},0]
[null,null,"VALVULA DE ESFERA BRUTA EM BRONZE, BITOLA 1 1/4 \" (REF 1552-B)","un",1,90.61099999999999,90.61099999999999,null,0]
[null,null,"Auxiliar de encanador ou bombeiro hidráulico com encargos complementares","h",0.78900000000000003,16.891000000000002,{"$f":"IF(ISNUMBER(F2005),E2005*F2005,\"\")","v":13.326999000000002},null,0]
[null,null,"Encanador ou Bombeiro Hidráulico com Encargos Complementares","h",0.78900000000000003,21.622,17.059758000000002,null,0]
[null,null,null,null,null,"","",null,0]
["SF-00325",{"$f":"INDEX(Orçamentária!A:B,MATCH(Composições!A2008,Orçamentária!A:A,0),2)","v":"Válvula de esfera em bronze 1\""},null,{"$f":"TRIM(INDEX(Orçamentária!D:D,MATCH(Composições!A2008,Orçamentária!A:A,0),1))","v":"un"},null,"","",null,0]
[null,null,null,null,null,"","",null,0]
[null,null,"Fita veda rosca em rolos de 18 mm x 50 m (L x C)","UN",9.4999999999999998E-3,12.188499999999999,0.11579075,{"$f":"SUM(G2010:G2013)","v":90.734609250000005},0]
[null,null,"Valvula de esfera bruta em bronze, bitola 1 \" (ref 1552-B)","un",1,60.790500000000002,60.790500000000002,null,0]
[null,null,"Auxiliar de encanador ou bombeiro hidráulico com encargos complementares","h",0.77449999999999997,16.891000000000002,13.082079500000001,null,0]
[null,null,"Encanador ou Bombeiro Hidráulico com Encargos Complementares","h",0.77449999999999997,21.622,16.746238999999999,null,0]
[null,null,null,null,null,"","",null,0]
["SF-00326",{"$f":"INDEX(Orçamentária!A:B,MATCH(Composições!A2015,Orçamentária!A:A,0),2)","v":"Válvula de esfera em bronze 3/4\""},null,{"$f":"TRIM(INDEX(Orçamentária!D:D,MATCH(Composições!A2015,Orçamentária!A:A,0),1))","v":"un"},null,"","",null,0]
[null,null,null,null,null,"","",null,0]
[null,null,"Fita veda rosca em rolos de 18 mm x 50 m (L x C)","UN",9.4999999999999998E-3,12.188499999999999,0.11579075,{"$f":"SUM(G2017:G2020)","v":74.974109249999998},0]
[null,null,"Valvula de esfera bruta em bronze, bitola 3/4 \" (ref 1552-B)","un",1,45.029999999999994,45.029999999999994,null,0]
[null,null,"Auxiliar de encanador ou bombeiro hidráulico com encargos complementares","h",0.77449999999999997,16.891000000000002,13.082079500000001,null,0]
[null,null,"Encanador ou Bombeiro Hidráulico com Encargos Complementares","h",0.77449999999999997,21.622,16.746238999999999,null,0]
[null,null,null,null,null,"","",null,0]
["SF-00327",{"$f":"INDEX(Orçamentária!A:B,MATCH(Composições!A2022,Orçamentária!A:A,0),2)","v":"Isolamento elastomérico em formato de prancha autoadesiva"},null,{"$f":"TRIM(INDEX(Orçamentária!D:D,MATCH(Composições!A2022,Orçamentária!A:A,0),1))","v":"m2"},null,"","",null,0]
[null,null,null,null,null,"","",null,0]
[null,null,"Auxiliar de encanador ou bombeiro hidráulico com encargos complementares","h",0.1,16.891000000000002,1.6891000000000003,{"$f":"SUM(G2024:G2026)","v":3.8513000000000002},0]
[null,null,"Encanador ou Bombeiro Hidráulico com Encargos Complementares","h",0.1,21.622,2.1621999999999999,null,0]
[null,null,"Isolamento elastomérico em formato prancha autoadesiva de espessura M. Ref.: AF/Armaflex M-99/E-A, K-Flex ST","m2",1.05,"","",null,0]
[null,null,null,null,null,"","",null,0]
["SF-00328",{"$f":"INDEX(Orçamentária!A:B,MATCH(Composições!A2028,Orçamentária!A:A,0),2)","v":"Isolamento elastomérico para tubulações de cobre de 1 1/8\" / tubulações de ferro de 3/4\""},null,{"$f":"TRIM(INDEX(Orçamentária!D:D,MATCH(Composições!A2028,Orçamentária!A:A,0),1))","v":"m"},null,"","",null,0]
[null,null,null,null,null,"","",null,0]
[null,null,"Isolamento elastomérico em formato de tubo ou coquilha de espessura M, próprio para tubulação de cobre de diâmetro nominal 1 1/8\" e para tubulações de ferro de diâmetro nominal 3/4\". Ref.: AF/Armaflex M-28, K-Flex ST","m",1.0210999999999999,"","",{"$f":"SUM(G2030:G2032)","v":0.73944959999999993},0]
[null,null,"Auxiliar de encanador ou bombeiro hidráulico com encargos complementares","h",{"$f":"0.064*0.3","v":1.9199999999999998E-2},16.891000000000002,0.32430720000000002,null,0]
[null,null,"Encanador ou Bombeiro Hidráulico com Encargos Complementares","h",{"$f":"0.064*0.3","v":1.9199999999999998E-2},21.622,0.41514239999999997,null,0]
[null,null,null,null,null,"","",null,0]
[null,null,"Obs.: As seguintes proporções foram consideradas quanto ao tempo de mão de obra: 70% para instalação do tubo e 30% para instalação do isolamento térmico.",null,null,"","",null,0]
[null,null,null,null,null,"","",null,0]
["SF-00329",{"$f":"INDEX(Orçamentária!A:B,MATCH(Composições!A2036,Orçamentária!A:A,0),2)","v":"Isolamento elastomérico para tubulações de cobre de 1/2\""},null,{"$f":"TRIM(INDEX(Orçamentária!D:D,MATCH(Composições!A2036,Orçamentária!A:A,0),1))","v":"m"},null,"","",null,0]
[null,null,null,null,null,"","",null,0]
[null,null,"Isolamento elastomérico em formato de tubo ou coquilha de espessura M, próprio para tubulação de cobre de diâmetro nominal 1/2\". Ref.: AF/Armaflex M-12, K-Flex ST","m",1.0210999999999999,"","",{"$f":"SUM(G2038:G2040)","v":0.70478790000000002},0]
[null,null,"Auxiliar de encanador ou bombeiro hidráulico com encargos complementares","h",{"$f":"0.061*0.3","v":1.83E-2},16.891000000000002,0.30910530000000003,null,0]
[null,null,"Encanador ou Bombeiro Hidráulico com Encargos Complementares","h",{"$f":"0.061*0.3","v":1.83E-2},21.622,0.3956826,null,0]
[null,null,null,null,null,"","",null,0]
[null,null,"Obs.: As seguintes proporções foram consideradas quanto ao tempo de mão de obra: 70% para instalação do tubo e 30% para instalação do isolamento térmico.",null,null,"","",null,0]
[null,null,null,null,null,"","",null,0]
["SF-00330",{"$f":"INDEX(Orçamentária!A:B,MATCH(Composições!A2044,Orçamentária!A:A,0),2)","v":"Isolamento elastomérico para tubulações de cobre de 1/4\""},null,{"$f":"TRIM(INDEX(Orçamentária!D:D,MATCH(Composições!A2044,Orçamentária!A:A,0),1))","v":"m"},null,"","",null,0]
[null,null,null,null,null,"","",null,0]
[null,null,"Isolamento elastomérico em formato de tubo ou coquilha de espessura M, próprio para tubulação de cobre de diâmetro nominal 1/4\". Ref.: AF/Armaflex M-06, K-Flex ST","m",1.0210999999999999,"","",{"$f":"SUM(G2046:G2048)","v":0.60080279999999997},0]
[null,null,"Auxiliar de encanador ou bombeiro hidráulico com encargos complementares","h",{"$f":"0.052*0.3","v":1.5599999999999999E-2},16.891000000000002,0.2634996,null,0]
[null,null,"Encanador ou Bombeiro Hidráulico com Encargos Complementares","h",{"$f":"0.052*0.3","v":1.5599999999999999E-2},21.622,0.33730319999999997,null,0]
[null,null,null,null,null,"","",null,0]
[null,null,"Obs.: As seguintes proporções foram consideradas quanto ao tempo de mão de obra: 70% para instalação do tubo e 30% para instalação do isolamento térmico.",null,null,"","",null,0]
[null,null,null,null,null,"","",null,0]
["SF-00331",{"$f":"INDEX(Orçamentária!A:B,MATCH(Composições!A2052,Orçamentária!A:A,0),2)","v":"Isolamento elastomérico para tubulações de cobre de 3/4\""},null,{"$f":"TRIM(INDEX(Orçamentária!D:D,MATCH(Composições!A2052,Orçamentária!A:A,0),1))","v":"m"},null,"","",null,0]
[null,null,null,null,null,"","",null,0]
[null,null,"Isolamento elastomérico em formato de tubo ou coquilha de espessura M, próprio para tubulação de cobre de diâmetro nominal 3/4\". Ref.: AF/Armaflex M-18, K-Flex ST","m",1.0210999999999999,"","",{"$f":"SUM(G2054:G2056)","v":0.73944959999999993},0]
[null,null,"Auxiliar de encanador ou bombeiro hidráulico com encargos complementares","h",{"$f":"0.064*0.3","v":1.9199999999999998E-2},16.891000000000002,0.32430720000000002,null,0]
[null,null,"Encanador ou Bombeiro Hidráulico com Encargos Complementares","h",{"$f":"0.064*0.3","v":1.9199999999999998E-2},21.622,0.41514239999999997,null,0]
[null,null,null,null,null,"","",null,0]
[null,null,"Obs.: As seguintes proporções foram consideradas quanto ao tempo de mão de obra: 70% para instalação do tubo e 30% para instalação do isolamento térmico.",null,null,"","",null,0]
[null,null,null,null,null,"","",null,0]
["SF-00332",{"$f":"INDEX(Orçamentária!A:B,MATCH(Composições!A2060,Orçamentária!A:A,0),2)","v":"Isolamento elastomérico para tubulações de cobre de 3/8\""},null,{"$f":"TRIM(INDEX(Orçamentária!D:D,MATCH(Composições!A2060,Orçamentária!A:A,0),1))","v":"m"},null,"","",null,0]
[null,null,null,null,null,"","",null,0]
[null,null,"Isolamento elastomérico em formato de tubo ou coquilha de espessura M, próprio para tubulação de cobre de diâmetro nominal 3/8\". Ref.: AF/Armaflex M-10, K-Flex ST","m",1.0210999999999999,"","",{"$f":"SUM(G2062:G2064)","v":0.65857230000000011},0]
[null,null,"Auxiliar de encanador ou bombeiro hidráulico com encargos complementares","h",{"$f":"0.057*0.3","v":1.7100000000000001E-2},16.891000000000002,0.28883610000000004,null,0]
[null,null,"Encanador ou Bombeiro Hidráulico com Encargos Complementares","h",{"$f":"0.057*0.3","v":1.7100000000000001E-2},21.622,0.36973620000000001,null,0]
[null,null,null,null,null,"","",null,0]
[null,null,"Obs.: As seguintes proporções foram consideradas quanto ao tempo de mão de obra: 70% para instalação do tubo e 30% para instalação do isolamento térmico.",null,null,"","",null,0]
[null,null,null,null,null,"","",null,0]
["SF-00333",{"$f":"INDEX(Orçamentária!A:B,MATCH(Composições!A2068,Orçamentária!A:A,0),2)","v":"Isolamento elastomérico para tubulações de cobre de 5/8\""},null,{"$f":"TRIM(INDEX(Orçamentária!D:D,MATCH(Composições!A2068,Orçamentária!A:A,0),1))","v":"m"},null,"","",null,0]
[null,null,null,null,null,"",{"$f":"IF(ISNUMBER(F2069),E2069*F2069,\"\")","v":""},null,0]
[null,null,"Isolamento elastomérico em formato de tubo ou coquilha de espessura M, próprio para tubulação de cobre de diâmetro nominal 5/8\". Ref.: AF/Armaflex M-15, K-Flex ST","m",1.0210999999999999,"","",{"$f":"SUM(G2070:G2072)","v":0.73944959999999993},0]
[null,null,"Auxiliar de encanador ou bombeiro hidráulico com encargos complementares","h",{"$f":"0.064*0.3","v":1.9199999999999998E-2},16.891000000000002,0.32430720000000002,null,0]
[null,null,"Encanador ou Bombeiro Hidráulico com Encargos Complementares","h",{"$f":"0.064*0.3","v":1.9199999999999998E-2},21.622,0.41514239999999997,null,0]
[null,null,null,null,null,"","",null,0]
[null,null,"Obs.: As seguintes proporções foram consideradas quanto ao tempo de mão de obra: 70% para instalação do tubo e 30% para instalação do isolamento térmico.",null,null,"","",null,0]
[null,null,null,null,null,"","",null,0]
["SF-00334",{"$f":"INDEX(Orçamentária!A:B,MATCH(Composições!A2076,Orçamentária!A:A,0),2)","v":"Isolamento elastomérico para tubulações de cobre de 7/8\" / tubulações de ferro de 1/2\""},null,{"$f":"TRIM(INDEX(Orçamentária!D:D,MATCH(Composições!A2076,Orçamentária!A:A,0),1))","v":"m"},null,"","",null,0]
[null,null,null,null,null,"","",null,0]
[null,null,"Isolamento elastomérico em formato de tubo ou coquilha de espessura M, próprio para tubulação de cobre de diâmetro nominal 7/8\" e para tubulações de ferro de diâmetro nominal 1/2\". Ref.: AF/Armaflex M-22, K-Flex ST","m",1.0210999999999999,"","",{"$f":"SUM(G2078:G2080)","v":0.73944959999999993},0]
[null,null,"Auxiliar de encanador ou bombeiro hidráulico com encargos complementares","h",{"$f":"0.064*0.3","v":1.9199999999999998E-2},16.891000000000002,0.32430720000000002,null,0]
[null,null,"Encanador ou Bombeiro Hidráulico com Encargos Complementares","h",{"$f":"0.064*0.3","v":1.9199999999999998E-2},21.622,0.41514239999999997,null,0]
[null,null,null,null,null,"","",null,0]
[null,null,"Obs.: As seguintes proporções foram consideradas quanto ao tempo de mão de obra: 70% para instalação do tubo e 30% para instalação do isolamento térmico.",null,null,"","",null,0]
[null,null,null,null,null,"","",null,0]
["SF-00335",{"$f":"INDEX(Orçamentária!A:B,MATCH(Composições!A2084,Orçamentária!A:A,0),2)","v":"Isolamento elastomérico para tubulações de cobre de 1\""},null,{"$f":"TRIM(INDEX(Orçamentária!D:D,MATCH(Composições!A2084,Orçamentária!A:A,0),1))","v":"m"},null,"","",null,0]
[null,null,null,null,null,"","",null,0]
[null,null,"Isolamento elastomérico em formato de tubo ou coquilha de espessura M, próprio para tubulação de cobre de diâmetro nominal 1\". Ref.: AF/Armaflex M-25, K-Flex ST","m",1.0210999999999999,"","",{"$f":"SUM(G2086:G2088)","v":0.73944959999999993},0]
[null,null,"Auxiliar de encanador ou bombeiro hidráulico com encargos complementares","h",{"$f":"0.064*0.3","v":1.9199999999999998E-2},16.891000000000002,0.32430720000000002,null,0]
[null,null,"Encanador ou Bombeiro Hidráulico com Encargos Complementares","h",{"$f":"0.064*0.3","v":1.9199999999999998E-2},21.622,0.41514239999999997,null,0]
[null,null,null,null,null,"","",null,0]
[null,null,"Obs.: As seguintes proporções foram consideradas quanto ao tempo de mão de obra: 70% para instalação do tubo e 30% para instalação do isolamento térmico.",null,null,"","",null,0]
[null,null,null,null,null,"","",null,0]
["SF-00336",{"$f":"INDEX(Orçamentária!A:B,MATCH(Composições!A2092,Orçamentária!A:A,0),2)","v":"Isolamento elastomérico para tubulações de ferro de 1 1/2\""},null,{"$f":"TRIM(INDEX(Orçamentária!D:D,MATCH(Composições!A2092,Orçamentária!A:A,0),1))","v":"m"},null,"","",null,0]
[null,null,null,null,null,"","",null,0]
[null,null,"Isolamento elastomérico em formato de tubo ou coquilha de espessura M, próprio para tubulação ferro de diâmetro nominal 1 1/2\". Ref.: AF/Armaflex M-48, K-Flex ST","m",1.0210999999999999,"","",{"$f":"SUM(G2094:G2096)","v":0.73944959999999993},0]
[null,null,"Auxiliar de encanador ou bombeiro hidráulico com encargos complementares","h",{"$f":"0.064*0.3","v":1.9199999999999998E-2},16.891000000000002,0.32430720000000002,null,0]
[null,null,"Encanador ou Bombeiro Hidráulico com Encargos Complementares","h",{"$f":"0.064*0.3","v":1.9199999999999998E-2},21.622,0.41514239999999997,null,0]
[null,null,null,null,null,"","",null,0]
[null,null,"Obs.: As seguintes proporções foram consideradas quanto ao tempo de mão de obra: 70% para instalação do tubo e 30% para instalação do isolamento térmico.",null,null,"","",null,0]
[null,null,null,null,null,"","",null,0]
["SF-00337",{"$f":"INDEX(Orçamentária!A:B,MATCH(Composições!A2100,Orçamentária!A:A,0),2)","v":"Isolamento elastomérico para tubulações de ferro de 1 1/4\""},null,{"$f":"TRIM(INDEX(Orçamentária!D:D,MATCH(Composições!A2100,Orçamentária!A:A,0),1))","v":"m"},null,"","",null,0]
[null,null,null,null,null,"","",null,0]
[null,null,"Isolamento elastomérico em formato de tubo ou coquilha de espessura M, próprio para tubulação ferro de diâmetro nominal 1 1/4\". Ref.: AF/Armaflex M-42, K-Flex ST","m",1.0210999999999999,"","",{"$f":"SUM(G2102:G2104)","v":0.73944959999999993},0]
[null,null,"Auxiliar de encanador ou bombeiro hidráulico com encargos complementares","h",{"$f":"0.064*0.3","v":1.9199999999999998E-2},16.891000000000002,0.32430720000000002,null,0]
[null,null,"Encanador ou Bombeiro Hidráulico com Encargos Complementares","h",{"$f":"0.064*0.3","v":1.9199999999999998E-2},21.622,0.41514239999999997,null,0]
[null,null,null,null,null,"","",null,0]
[null,null,"Obs.: As seguintes proporções foram consideradas quanto ao tempo de mão de obra: 70% para instalação do tubo e 30% para instalação do isolamento térmico.",null,null,"","",null,0]
[null,null,null,null,null,"","",null,0]
["SF-00338",{"$f":"INDEX(Orçamentária!A:B,MATCH(Composições!A2108,Orçamentária!A:A,0),2)","v":"Isolamento elastomérico para tubulações de ferro de 1\""},null,{"$f":"TRIM(INDEX(Orçamentária!D:D,MATCH(Composições!A2108,Orçamentária!A:A,0),1))","v":"m"},null,"","",null,0]
[null,null,null,null,null,"","",null,0]
[null,null,"Isolamento elastomérico em formato de tubo ou coquilha de espessura M, próprio para tubulação ferro de diâmetro nominal 1\". Ref.: AF/Armaflex M-35, K-Flex ST","m",1.0210999999999999,"","",{"$f":"SUM(G2110:G2112)","v":0.73944959999999993},0]
[null,null,"Auxiliar de encanador ou bombeiro hidráulico com encargos complementares","h",{"$f":"0.064*0.3","v":1.9199999999999998E-2},16.891000000000002,0.32430720000000002,null,0]
[null,null,"Encanador ou Bombeiro Hidráulico com Encargos Complementares","h",{"$f":"0.064*0.3","v":1.9199999999999998E-2},21.622,0.41514239999999997,null,0]
[null,null,null,null,null,"","",null,0]
[null,null,"Obs.: As seguintes proporções foram consideradas quanto ao tempo de mão de obra: 70% para instalação do tubo e 30% para instalação do isolamento térmico.",null,null,"","",null,0]
[null,null,null,null,null,"","",null,0]
["SF-00339",{"$f":"INDEX(Orçamentária!A:B,MATCH(Composições!A2116,Orçamentária!A:A,0),2)","v":"Proteção mecânica em alumínio"},null,{"$f":"TRIM(INDEX(Orçamentária!D:D,MATCH(Composições!A2116,Orçamentária!A:A,0),1))","v":"m2"},null,"","",null,0]
[null,null,null,null,null,"","",null,0]
[null,null,"Auxiliar de encanador ou bombeiro hidráulico com encargos complementares","h",0.2,16.891000000000002,3.3782000000000005,{"$f":"SUM(G2118:G2120)","v":7.7026000000000003},0]
[null,null,"Encanador ou Bombeiro Hidráulico com Encargos Complementares","h",0.2,21.622,4.3243999999999998,null,0]
[null,null,"Alumínio corrugado sem barreira espessura mínima = 0,15mm","m2",1.05,"","",null,0]
[null,null,null,null,null,"","",null,0]
["SF-00340",{"$f":"INDEX(Orçamentária!A:B,MATCH(Composições!A2122,Orçamentária!A:A,0),2)","v":"Tubo de aço-carbono galvanizado 1 1/2\""},null,{"$f":"TRIM(INDEX(Orçamentária!D:D,MATCH(Composições!A2122,Orçamentária!A:A,0),1))","v":"m"},null,"","",null,0]
[null,null,null,null,null,"","",null,0]
[null,null,"Encanador ou Bombeiro Hidráulico com Encargos Complementares","h",0.29199999999999998,21.622,6.3136239999999999,{"$f":"SUM(G2124:G2126)","v":58.940051999999994},0]
[null,null,"Auxiliar de encanador ou bombeiro hidráulico com encargos complementares","h",0.29199999999999998,16.891000000000002,4.9321720000000004,null,0]
[null,null,"TUBO ACO CARBONO SEM COSTURA 1 1/2\", E= *3,68 MM, SCHEDULE 40, 4,05 KG/M","m",1.0389999999999999,45.903999999999996,47.694255999999996,null,0]
[null,null,null,null,null,"","",null,0]
["SF-00341",{"$f":"INDEX(Orçamentária!A:B,MATCH(Composições!A2128,Orçamentária!A:A,0),2)","v":"Tubo de aço-carbono galvanizado 1 1/4\""},null,{"$f":"TRIM(INDEX(Orçamentária!D:D,MATCH(Composições!A2128,Orçamentária!A:A,0),1))","v":"m"},null,"","",null,0]
[null,null,null,null,null,"","",null,0]
[null,null,"Encanador ou Bombeiro Hidráulico com Encargos Complementares","h",0.27500000000000002,21.622,5.9460500000000005,{"$f":"SUM(G2130:G2132)","v":54.356872000000003},0]
[null,null,"Auxiliar de encanador ou bombeiro hidráulico com encargos complementares","h",0.27500000000000002,16.891000000000002,4.6450250000000013,null,0]
[null,null,"TUBO ACO CARBONO SEM COSTURA 1 1/4\", E= *3,56 MM, SCHEDULE 40, *3,38* KG/M","m",1.0389999999999999,42.123000000000005,43.765796999999999,null,0]
[null,null,null,null,null,"",{"$f":"IF(ISNUMBER(F2133),E2133*F2133,\"\")","v":""},null,0]
["SF-00342",{"$f":"INDEX(Orçamentária!A:B,MATCH(Composições!A2134,Orçamentária!A:A,0),2)","v":"Tubo de aço-carbono galvanizado 1\""},null,{"$f":"TRIM(INDEX(Orçamentária!D:D,MATCH(Composições!A2134,Orçamentária!A:A,0),1))","v":"m"},null,"","",null,0]
[null,null,null,null,null,"","",null,0]
[null,null,"Encanador ou Bombeiro Hidráulico com Encargos Complementares","h",0.29699999999999999,21.622,6.4217339999999998,{"$f":"SUM(G2136:G2138)","v":44.099845500000001},0]
[null,null,"Auxiliar de encanador ou bombeiro hidráulico com encargos complementares","h",0.29699999999999999,16.891000000000002,5.0166270000000006,null,0]
[null,null,"TUBO ACO CARBONO SEM COSTURA 1\", E= *3,38 MM, SCHEDULE 40, *2,50* KG/M","m",1.0389999999999999,31.435500000000001,32.6614845,null,0]
[null,null,null,null,null,"","",null,0]
["SF-00343",{"$f":"INDEX(Orçamentária!A:B,MATCH(Composições!A2140,Orçamentária!A:A,0),2)","v":"Tubo de aço-carbono galvanizado 3/4\""},null,{"$f":"TRIM(INDEX(Orçamentária!D:D,MATCH(Composições!A2140,Orçamentária!A:A,0),1))","v":"m"},null,"","",null,0]
[null,null,null,null,null,"","",null,0]
[null,null,"Encanador ou Bombeiro Hidráulico com Encargos Complementares","h",0.29699999999999999,21.622,6.4217339999999998,{"$f":"SUM(G2142:G2144)","v":40.457630999999992},0]
[null,null,"Auxiliar de encanador ou bombeiro hidráulico com encargos complementares","h",0.29699999999999999,16.891000000000002,5.0166270000000006,null,0]
[null,null,"TUBO ACO CARBONO SEM COSTURA 3/4\", E= *2,87 MM, SCHEDULE 40, *1,69 KG/M","m",1.0389999999999999,27.929999999999996,29.019269999999995,null,0]
[null,null,null,null,null,"","",null,0]
["SF-00344",{"$f":"INDEX(Orçamentária!A:B,MATCH(Composições!A2146,Orçamentária!A:A,0),2)","v":"Tubo de cobre de 1/2\""},null,{"$f":"TRIM(INDEX(Orçamentária!D:D,MATCH(Composições!A2146,Orçamentária!A:A,0),1))","v":"m"},null,"","",null,0]
[null,null,null,null,null,"","",null,0]
[null,null,"Tubo de cobre flexivel, D = 1/2 \", E = 0,79 mm, para ar-condicionado/ instalacoes gas residenciais e comerciais","m",1.0210999999999999,26.979999999999997,27.549277999999994,{"$f":"SUM(G2148:G2150)","v":29.193783099999994},0]
[null,null,"Auxiliar de encanador ou bombeiro hidráulico com encargos complementares","h",{"$f":"0.061*0.7","v":4.2699999999999995E-2},16.891000000000002,0.72124569999999999,null,0]
[null,null,"Encanador ou Bombeiro Hidráulico com Encargos Complementares","h",{"$f":"0.061*0.7","v":4.2699999999999995E-2},21.622,0.92325939999999984,null,0]
[null,null,null,null,null,"","",null,0]
[null,null,"Obs.: As seguintes proporções foram consideradas quanto ao tempo de mão de obra: 70% para instalação do tubo e 30% para instalação do isolamento térmico.",null,null,"","",null,0]
[null,null,null,null,null,"","",null,0]
["SF-00345",{"$f":"INDEX(Orçamentária!A:B,MATCH(Composições!A2154,Orçamentária!A:A,0),2)","v":"Tubo de cobre de 1/4\""},null,{"$f":"TRIM(INDEX(Orçamentária!D:D,MATCH(Composições!A2154,Orçamentária!A:A,0),1))","v":"m"},null,"","",null,0]
[null,null,null,null,null,"","",null,0]
[null,null,"Tubo de cobre flexivel, D = 1/4 \", E = 0,79 mm, para ar-condicionado/ instalacoes gas residenciais e comerciais","m",1.0210999999999999,12.929499999999999,13.202312449999997,{"$f":"SUM(G2156:G2158)","v":14.604185649999996},0]
[null,null,"Auxiliar de encanador ou bombeiro hidráulico com encargos complementares","h",{"$f":"0.052*0.7","v":3.6399999999999995E-2},16.891000000000002,0.61483239999999995,null,0]
[null,null,"Encanador ou Bombeiro Hidráulico com Encargos Complementares","h",{"$f":"0.052*0.7","v":3.6399999999999995E-2},21.622,0.78704079999999987,null,0]
[null,null,null,null,null,"","",null,0]
[null,null,"Obs.: As seguintes proporções foram consideradas quanto ao tempo de mão de obra: 70% para instalação do tubo e 30% para instalação do isolamento térmico.",null,null,"","",null,0]
[null,null,null,null,null,"","",null,0]
["SF-00346",{"$f":"INDEX(Orçamentária!A:B,MATCH(Composições!A2162,Orçamentária!A:A,0),2)","v":"Tubo de cobre de 3/4\""},null,{"$f":"TRIM(INDEX(Orçamentária!D:D,MATCH(Composições!A2162,Orçamentária!A:A,0),1))","v":"m"},null,"","",null,0]
[null,null,null,null,null,"","",null,0]
[null,null,"Tubo de cobre flexivel, D = 3/4 \", E = 0,79 mm, para ar-condicionado/ instalacoes gas residenciais e comerciais","m",1.0210999999999999,40.593499999999992,41.450022849999989,{"$f":"SUM(G2164:G2166)","v":43.17540524999999},0]
[null,null,"Auxiliar de encanador ou bombeiro hidráulico com encargos complementares","h",{"$f":"0.064*0.7","v":4.48E-2},16.891000000000002,0.75671680000000008,null,0]
[null,null,"Encanador ou Bombeiro Hidráulico com Encargos Complementares","h",{"$f":"0.064*0.7","v":4.48E-2},21.622,0.96866560000000002,null,0]
[null,null,null,null,null,"","",null,0]
[null,null,"Obs.: As seguintes proporções foram consideradas quanto ao tempo de mão de obra: 70% para instalação do tubo e 30% para instalação do isolamento térmico.",null,null,"","",null,0]
[null,null,null,null,null,"","",null,0]
["SF-00347",{"$f":"INDEX(Orçamentária!A:B,MATCH(Composições!A2170,Orçamentária!A:A,0),2)","v":"Tubo de cobre de 3/8\""},null,{"$f":"TRIM(INDEX(Orçamentária!D:D,MATCH(Composições!A2170,Orçamentária!A:A,0),1))","v":"m"},null,"","",null,0]
[null,null,null,null,null,"","",null,0]
[null,null,"Tubo de cobre flexivel, D = 3/8 \", E = 0,79 mm, para ar-condicionado/ instalacoes gas residenciais e comerciais","m",1.0210999999999999,19.893000000000001,20.3127423,{"$f":"SUM(G2172:G2174)","v":21.849411},0]
[null,null,"Auxiliar de encanador ou bombeiro hidráulico com encargos complementares","h",{"$f":"0.057*0.7","v":3.9899999999999998E-2},16.891000000000002,0.67395090000000002,null,0]
[null,null,"Encanador ou Bombeiro Hidráulico com Encargos Complementares","h",{"$f":"0.057*0.7","v":3.9899999999999998E-2},21.622,0.86271779999999998,null,0]
[null,null,null,null,null,"","",null,0]
[null,null,"Obs.: As seguintes proporções foram consideradas quanto ao tempo de mão de obra: 70% para instalação do tubo e 30% para instalação do isolamento térmico.",null,null,"","",null,0]
[null,null,null,null,null,"","",null,0]
["SF-00348",{"$f":"INDEX(Orçamentária!A:B,MATCH(Composições!A2178,Orçamentária!A:A,0),2)","v":"Tubo de cobre de 5/8\""},null,{"$f":"TRIM(INDEX(Orçamentária!D:D,MATCH(Composições!A2178,Orçamentária!A:A,0),1))","v":"m"},null,"","",null,0]
[null,null,null,null,null,"","",null,0]
[null,null,"Tubo de cobre flexivel, D = 5/8 \", E = 0,79 mm, para ar-condicionado/ instalacoes gas residenciais e comerciais","m",1.0210999999999999,33.563499999999998,34.271689849999994,{"$f":"SUM(G2180:G2182)","v":35.997072249999995},0]
[null,null,"Auxiliar de encanador ou bombeiro hidráulico com encargos complementares","h",{"$f":"0.064*0.7","v":4.48E-2},16.891000000000002,0.75671680000000008,null,0]
[null,null,"Encanador ou Bombeiro Hidráulico com Encargos Complementares","h",{"$f":"0.064*0.7","v":4.48E-2},21.622,0.96866560000000002,null,0]
[null,null,null,null,null,"","",null,0]
[null,null,"Obs.: As seguintes proporções foram consideradas quanto ao tempo de mão de obra: 70% para instalação do tubo e 30% para instalação do isolamento térmico.",null,null,"","",null,0]
[null,null,null,null,null,"","",null,0]
["SF-00349",{"$f":"INDEX(Orçamentária!A:B,MATCH(Composições!A2186,Orçamentária!A:A,0),2)","v":"Tubo de cobre de 7/8\""},null,{"$f":"TRIM(INDEX(Orçamentária!D:D,MATCH(Composições!A2186,Orçamentária!A:A,0),1))","v":"m"},null,"","",null,0]
[null,null,null,null,null,"","",null,0]
[null,null,"Tubo de cobre flexivel, D = 7/8 \", E = 0,79 mm, para ar-condicionado/ instalacoes gas residenciais e comerciais","m",1.0210999999999999,0,0,{"$f":"SUM(G2188:G2190)","v":1.7253824},0]
[null,null,"Auxiliar de encanador ou bombeiro hidráulico com encargos complementares","h",{"$f":"0.064*0.7","v":4.48E-2},16.891000000000002,0.75671680000000008,null,0]
[null,null,"Encanador ou Bombeiro Hidráulico com Encargos Complementares","h",{"$f":"0.064*0.7","v":4.48E-2},21.622,0.96866560000000002,null,0]
[null,null,null,null,null,"","",null,0]
[null,null,"Obs.: As seguintes proporções foram consideradas quanto ao tempo de mão de obra: 70% para instalação do tubo e 30% para instalação do isolamento térmico.",null,null,"","",null,0]
[null,null,null,null,null,"","",null,0]
["SF-00350",{"$f":"INDEX(Orçamentária!A:B,MATCH(Composições!A2194,Orçamentária!A:A,0),2)","v":"Tubo de cobre de 1\""},null,{"$f":"TRIM(INDEX(Orçamentária!D:D,MATCH(Composições!A2194,Orçamentária!A:A,0),1))","v":"m"},null,"","",null,0]
[null,null,null,null,null,"","",null,0]
[null,null,"Tubo de cobre flexivel, D = 1 \", E = 0,79 mm, para ar-condicionado/ instalacoes gas residenciais e comerciais","m",1.0210999999999999,0,0,{"$f":"SUM(G2196:G2198)","v":1.7253824},0]
[null,null,"Auxiliar de encanador ou bombeiro hidráulico com encargos complementares","h",{"$f":"0.064*0.7","v":4.48E-2},16.891000000000002,{"$f":"IF(ISNUMBER(F2197),E2197*F2197,\"\")","v":0.75671680000000008},null,0]
[null,null,"Encanador ou Bombeiro Hidráulico com Encargos Complementares","h",{"$f":"0.064*0.7","v":4.48E-2},21.622,0.96866560000000002,null,0]
[null,null,null,null,null,"","",null,0]
[null,null,"Obs.: As seguintes proporções foram consideradas quanto ao tempo de mão de obra: 70% para instalação do tubo e 30% para instalação do isolamento térmico.",null,null,"","",null,0]
[null,null,null,null,null,"","",null,0]
["SF-00351",{"$f":"INDEX(Orçamentária!A:B,MATCH(Composições!A2202,Orçamentária!A:A,0),2)","v":"Tubo de cobre de 1 1/8\""},null,{"$f":"TRIM(INDEX(Orçamentária!D:D,MATCH(Composições!A2202,Orçamentária!A:A,0),1))","v":"m"},null,"","",null,0]
[null,null,null,null,null,"","",null,0]
[null,null,"Tubo de cobre flexivel, D = 1 1/8 \", E = 0,79 mm, para ar-condicionado/ instalacoes gas residenciais e comerciais","m",1.0210999999999999,0,0,{"$f":"SUM(G2204:G2206)","v":1.7253824},0]
[null,null,"Auxiliar de encanador ou bombeiro hidráulico com encargos complementares","h",{"$f":"0.064*0.7","v":4.48E-2},16.891000000000002,0.75671680000000008,null,0]
[null,null,"Encanador ou Bombeiro Hidráulico com Encargos Complementares","h",{"$f":"0.064*0.7","v":4.48E-2},21.622,0.96866560000000002,null,0]
[null,null,null,null,null,"","",null,0]
[null,null,"Obs.: As seguintes proporções foram consideradas quanto ao tempo de mão de obra: 70% para instalação do tubo e 30% para instalação do isolamento térmico.",null,null,"","",null,0]
[null,null,null,null,null,"","",null,0]
["SF-00354",{"$f":"INDEX(Orçamentária!A:B,MATCH(Composições!A2210,Orçamentária!A:A,0),2)","v":"Instalação de armários reaproveitados"},null,{"$f":"TRIM(INDEX(Orçamentária!D:D,MATCH(Composições!A2210,Orçamentária!A:A,0),1))","v":"m2"},null,"","",null,0]
[null,null,null,null,null,"","",null,0]
[null,null,"Marceneiro com encargos complementares","h",1.8,22.268000000000001,40.0824,{"$f":"SUM(G2212:G2213)","v":98.256599999999992},0]
[null,null,"Ajudante de carpinteiro com encargos complementares","h",3.15,18.468,58.174199999999999,null,0]
[null,null,null,null,null,"","",null,0]
["SF-00355",{"$f":"INDEX(Orçamentária!A:B,MATCH(Composições!A2215,Orçamentária!A:A,0),2)","v":"Mesa/tampo de MDF, fixada em parede com mão-francesa"},null,{"$f":"TRIM(INDEX(Orçamentária!D:D,MATCH(Composições!A2215,Orçamentária!A:A,0),1))","v":"m2"},null,"","",null,0]
[null,null,null,null,null,"","",null,0]
[null,null,"Marceneiro com encargos complementares","h",1.8,22.268000000000001,40.0824,{"$f":"SUM(G2217:G2220)","v":157.10149999999999},0]
[null,null,"Ajudante de carpinteiro com encargos complementares","h",{"$f":"3.15/2","v":1.575},18.468,29.0871,null,0]
[null,null,"Suporte mao-francesa em aco, abas iguais 40 cm, capacidade minima 70 kg, branco","un",2,12.2455,24.491,null,0]
[null,null,"Chapa de MDF branco liso 2 faces, e = 25 mm, de *2,75 x 1,85* m","m2",1,63.440999999999995,63.440999999999995,null,0]
[null,null,null,null,null,"","",null,0]
["SF-00356",{"$f":"INDEX(Orçamentária!A:B,MATCH(Composições!A2222,Orçamentária!A:A,0),2)","v":"Painel para TV de 120 x 180 cm"},null,{"$f":"TRIM(INDEX(Orçamentária!D:D,MATCH(Composições!A2222,Orçamentária!A:A,0),1))","v":"un"},null,"","",null,0]
[null,null,null,null,null,"","",null,0]
[null,null,"Marceneiro com encargos complementares","h",1,22.268000000000001,22.268000000000001,{"$f":"SUM(G2224:G2226)","v":40.736000000000004},0]
[null,null,"Ajudante de carpinteiro com encargos complementares","h",1,18.468,18.468,null,0]
[null,null,"Painel de TV de 120 x 180 cm, fabricado em MDP. Ref.: Urbe Móveis Plus","un",1,"","",null,0]
[null,null,null,null,null,"","",null,0]
["SF-00357",{"$f":"INDEX(Orçamentária!A:B,MATCH(Composições!A2228,Orçamentária!A:A,0),2)","v":"Painel para TV de 160 x 160 cm"},null,{"$f":"TRIM(INDEX(Orçamentária!D:D,MATCH(Composições!A2228,Orçamentária!A:A,0),1))","v":"un"},null,"","",null,0]
[null,null,null,null,null,"","",null,0]
[null,null,"Marceneiro com encargos complementares","h",1,22.268000000000001,22.268000000000001,{"$f":"SUM(G2230:G2232)","v":40.736000000000004},0]
[null,null,"Ajudante de carpinteiro com encargos complementares","h",1,18.468,18.468,null,0]
[null,null,"Painel de TV de 160 x 160 cm, fabricado em MDP. Ref.: HB Móveis Life Canyon, HB Móveis Livin","un",1,"","",null,0]
[null,null,null,null,null,"","",null,0]
["SF-00358",{"$f":"INDEX(Orçamentária!A:B,MATCH(Composições!A2234,Orçamentária!A:A,0),2)","v":"Painel para TV de 90 x 120 cm"},null,{"$f":"TRIM(INDEX(Orçamentária!D:D,MATCH(Composições!A2234,Orçamentária!A:A,0),1))","v":"un"},null,"","",null,0]
[null,null,null,null,null,"","",null,0]
[null,null,"Marceneiro com encargos complementares","h",1,22.268000000000001,22.268000000000001,{"$f":"SUM(G2236:G2238)","v":40.736000000000004},0]
[null,null,"Ajudante de carpinteiro com encargos complementares","h",1,18.468,18.468,null,0]
[null,null,"Painel de TV de 90 x 120 cm, fabricado em MDP. Ref.: Germai Ipanema 90 x 120 x 26,5","un",1,"","",null,0]
[null,null,null,null,null,"","",null,0]
["SF-00359",{"$f":"INDEX(Orçamentária!A:B,MATCH(Composições!A2240,Orçamentária!A:A,0),2)","v":"Batentes e guarnições em madeira, com verniz ou esmalte"},null,{"$f":"TRIM(INDEX(Orçamentária!D:D,MATCH(Composições!A2240,Orçamentária!A:A,0),1))","v":"un"},null,"","",null,0]
[null,null,null,null,null,"","",null,0]
[null,null,"BATENTE/ PORTAL/ ADUELA/ MARCO MACICO, E= *3* CM, L= *13* CM, *60 CM A 120* CM X *210* CM, EM PINUS/ TAUARI/ VIROLA OU EQUIVALENTE DA REGIAO (NAO INCLUI ALIZARES)","JG",1,114.931,114.931,{"$f":"SUM(G2242:G2252)","v":241.69758449999998},0]
[null,null,"PREGO DE ACO POLIDO COM CABECA 12 X 12","KG",1.0999999999999999E-2,15.275999999999998,0.16803599999999996,null,0]
[null,null,"PREGO DE ACO POLIDO COM CABECA 18 X 30 (2 3/4 X 10)","KG",2.4E-2,11.589999999999998,0.27815999999999996,null,0]
[null,null,"CARPINTEIRO DE ESQUADRIA COM ENCARGOS COMPLEMENTARES","H",{"$f":"2.741+0.068","v":2.8090000000000002},21.916499999999999,61.5634485,null,0]
[null,null,"SERVENTE COM ENCARGOS COMPLEMENTARES","H",{"$f":"1.375+0.034","v":1.409},16.311500000000002,22.982903500000003,null,0]
[null,null,"PREGO DE ACO POLIDO SEM CABECA 15 X 15 (1 1/4 X 13)","KG",6.0000000000000001E-3,13.034000000000001,7.820400000000001E-2,null,0]
[null,null,"GUARNICAO/ ALIZAR/ VISTA MACICA, E= *1* CM, L= *4,5* CM, EM CEDRINHO/ ANGELIM COMERCIAL/  EUCALIPTO/ CURUPIXA/ PEROBA/ CUMARU OU EQUIVALENTE DA REGIAO","M",{"$f":"(2.1*2+0.8)*1.163","v":5.8150000000000004},5.2629999999999999,30.604345000000002,null,0]
[null,null,"Lixa em folha para parede ou madeira, numero 120 (cor vermelha)","un",{"$f":"ROUND(1*0.15*(2*2.1+0.8),4)","v":0.75},0.68399999999999994,0.5129999999999999,null,0]
[null,null,"Verniz a base de água para madeira","L",{"$f":"ROUND(0.108*0.15*(2*2.1+0.8),4)","v":8.1000000000000003E-2},"","",null,0]
[null,null,"Pintor com encargos complementares","h",{"$f":"ROUND(0.4*0.15*(2*2.1+0.8),4)","v":0.3},23.027999999999999,6.9083999999999994,null,0]
[null,null,"Servente com Encargos Complementares","h",{"$f":"ROUND(0.3*0.15*(2*2.1+0.8),4)","v":0.22500000000000001},16.311500000000002,3.6700875000000006,null,0]
[null,null,null,null,null,null,null,null,0]
[null,null,"Obs: considerando rendimento informado na especificação técnica de produto equivalente da Suvinil (Lata de 3,6L rende até 100 m²/demão).",null,null,null,null,null,0]
[null,null,null,null,null,"",{"$f":"IF(ISNUMBER(F2255),E2255*F2255,\"\")","v":""},null,0]
["SF-00360",{"$f":"INDEX(Orçamentária!A:B,MATCH(Composições!A2256,Orçamentária!A:A,0),2)","v":"Chapa de proteção para porta – Linha Acessibilidade"},null,{"$f":"TRIM(INDEX(Orçamentária!D:D,MATCH(Composições!A2256,Orçamentária!A:A,0),1))","v":"m2"},null,"","",null,0]
[null,null,null,null,null,"","",null,0]
[null,null,"Servente com Encargos Complementares","h",0.3,16.311500000000002,4.8934500000000005,{"$f":"SUM(G2258:G2260)","v":11.57385},0]
[null,null,"Marceneiro com encargos complementares","h",0.3,22.268000000000001,6.6803999999999997,null,0]
[null,null,"Chapa de proteção em aço inox AISI 304, largura conforme projeto, 400 mm de altura, chapa com espessura de 1 mm, acabamento escovado fosco","m2",1,"","",null,0]
[null,null,null,null,null,"","",null,0]
["SF-00361",{"$f":"INDEX(Orçamentária!A:B,MATCH(Composições!A2262,Orçamentária!A:A,0),2)","v":"Folha de porta em madeira 2,10x0,60m, pintada"},null,{"$f":"TRIM(INDEX(Orçamentária!D:D,MATCH(Composições!A2262,Orçamentária!A:A,0),1))","v":"un"},null,"","",null,0]
[null,null,null,null,null,"","",null,0]
[null,null,"PORTA DE MADEIRA, FOLHA MEDIA (NBR 15930) DE 60 X 210 CM, E = 35 MM, NUCLEO SARRAFEADO, CAPA LISA EM HDF, ACABAMENTO LAMINADO NATURAL PARA VERNIZ","UN",1,198.4265,198.4265,{"$f":"SUM(G2264:G2270)","v":266.53599760000003},0]
[null,null,"CARPINTEIRO DE ESQUADRIA COM ENCARGOS COMPLEMENTARES","H",{"$f":"ROUND(1.282*0.8,4)","v":1.0256000000000001},21.916499999999999,22.4775624,null,0]
[null,null,"SERVENTE COM ENCARGOS COMPLEMENTARES","H",{"$f":"ROUND(0.641*0.8,4)","v":0.51280000000000003},16.311500000000002,8.3645372000000009,null,0]
[null,null,"Lixa em folha para parede ou madeira, numero 120 (cor vermelha)","un",{"$f":"ROUND(1*(2*0.6*2.1),4)","v":2.52},0.68399999999999994,1.7236799999999999,null,0]
[null,null,"Verniz a base de água para madeira","L",{"$f":"ROUND(0.108*(2*0.6*2.1),4)","v":0.2722},"","",null,0]
[null,null,"Pintor com encargos complementares","h",{"$f":"ROUND(0.4*(2*0.6*2.1),4)","v":1.008},23.027999999999999,23.212223999999999,null,0]
[null,null,"Servente com Encargos Complementares","h",{"$f":"ROUND(0.3*(2*0.6*2.1),4)","v":0.75600000000000001},16.311500000000002,12.331494000000001,null,0]
[null,null,null,null,null,null,null,null,0]
[null,null,"Obs: considerando rendimento informado na especificação técnica de produto equivalente da Suvinil (Lata de 3,6L rende até 100 m²/demão).",null,null,null,null,null,0]
[null,null,null,null,null,"",{"$f":"IF(ISNUMBER(F2273),E2273*F2273,\"\")","v":""},null,0]
["SF-00362",{"$f":"INDEX(Orçamentária!A:B,MATCH(Composições!A2274,Orçamentária!A:A,0),2)","v":"Folha de porta em madeira 2,10x0,70m, pintada"},null,{"$f":"TRIM(INDEX(Orçamentária!D:D,MATCH(Composições!A2274,Orçamentária!A:A,0),1))","v":"un"},null,"","",null,0]
[null,null,null,null,null,"","",null,0]
[null,null,"PORTA DE MADEIRA, FOLHA MEDIA (NBR 15930) DE 70 X 210 CM, E = 35 MM, NUCLEO SARRAFEADO, CAPA LISA EM HDF, ACABAMENTO EM LAMINADO NATURAL PARA VERNIZ","UN",1,136.70500000000001,136.70500000000001,{"$f":"SUM(G2276:G2282)","v":214.20136020000004},0]
[null,null,"CARPINTEIRO DE ESQUADRIA COM ENCARGOS COMPLEMENTARES","H",{"$f":"ROUND(1.414*0.8,4)","v":1.1312},21.916499999999999,24.7919448,null,0]
[null,null,"SERVENTE COM ENCARGOS COMPLEMENTARES","H",{"$f":"ROUND(0.707*0.8,4)","v":0.56559999999999999},16.311500000000002,9.225784400000002,null,0]
[null,null,"Lixa em folha para parede ou madeira, numero 120 (cor vermelha)","un",{"$f":"ROUND(1*(2*0.7*2.1),4)","v":2.94},0.68399999999999994,2.0109599999999999,null,0]
[null,null,"Verniz a base de água para madeira","L",{"$f":"ROUND(0.108*(2*0.7*2.1),4)","v":0.3175},"","",null,0]
[null,null,"Pintor com encargos complementares","h",{"$f":"ROUND(0.4*(2*0.7*2.1),4)","v":1.1759999999999999},23.027999999999999,27.080927999999997,null,0]
[null,null,"Servente com Encargos Complementares","h",{"$f":"ROUND(0.3*(2*0.7*2.1),4)","v":0.88200000000000001},16.311500000000002,14.386743000000003,null,0]
[null,null,null,null,null,null,null,null,0]
[null,null,"Obs: considerando rendimento informado na especificação técnica de produto equivalente da Suvinil (Lata de 3,6L rende até 100 m²/demão).",null,null,null,null,null,0]
[null,null,null,null,null,"",{"$f":"IF(ISNUMBER(F2285),E2285*F2285,\"\")","v":""},null,0]
["SF-00363",{"$f":"INDEX(Orçamentária!A:B,MATCH(Composições!A2286,Orçamentária!A:A,0),2)","v":"Folha de porta em madeira 2,10x0,80m, pintada"},null,{"$f":"TRIM(INDEX(Orçamentária!D:D,MATCH(Composições!A2286,Orçamentária!A:A,0),1))","v":"un"},null,"","",null,0]
[null,null,null,null,null,"","",null,0]
[null,null,"PORTA DE MADEIRA, FOLHA MEDIA (NBR 15930) DE 80 X 210 CM, E = 35 MM, NUCLEO SARRAFEADO, CAPA LISA EM HDF, ACABAMENTO EM LAMINADO NATURAL PARA VERNIZ","UN",1,232.80699999999999,232.80699999999999,{"$f":"SUM(G2288:G2294)","v":319.69022280000002},0]
[null,null,"CARPINTEIRO DE ESQUADRIA COM ENCARGOS COMPLEMENTARES","H",{"$f":"ROUND(1.546*0.8,4)","v":1.2367999999999999},21.916499999999999,27.106327199999996,null,0]
[null,null,"SERVENTE COM ENCARGOS COMPLEMENTARES","H",{"$f":"ROUND(0.773*0.8,4)","v":0.61839999999999995},16.311500000000002,10.087031600000001,null,0]
[null,null,"Lixa em folha para parede ou madeira, numero 120 (cor vermelha)","un",{"$f":"ROUND(1*(2*0.8*2.1),4)","v":3.36},0.68399999999999994,2.2982399999999998,null,0]
[null,null,"Verniz a base de água para madeira","L",{"$f":"ROUND(0.108*(2*0.8*2.1),4)","v":0.3629},"","",null,0]
[null,null,"Pintor com encargos complementares","h",{"$f":"ROUND(0.4*(2*0.8*2.1),4)","v":1.3440000000000001},23.027999999999999,30.949632000000001,null,0]
[null,null,"Servente com Encargos Complementares","h",{"$f":"ROUND(0.3*(2*0.8*2.1),4)","v":1.008},16.311500000000002,16.441992000000003,null,0]
[null,null,null,null,null,null,null,null,0]
[null,null,"Obs: considerando rendimento informado na especificação técnica de produto equivalente da Suvinil (Lata de 3,6L rende até 100 m²/demão).",null,null,null,null,null,0]
[null,null,null,null,null,"",{"$f":"IF(ISNUMBER(F2297),E2297*F2297,\"\")","v":""},null,0]
["SF-00364",{"$f":"INDEX(Orçamentária!A:B,MATCH(Composições!A2298,Orçamentária!A:A,0),2)","v":"Folha de porta em madeira 2,10x0,90m, pintada"},null,{"$f":"TRIM(INDEX(Orçamentária!D:D,MATCH(Composições!A2298,Orçamentária!A:A,0),1))","v":"un"},null,"","",null,0]
[null,null,null,null,null,"","",null,0]
[null,null,"PORTA DE MADEIRA, FOLHA MEDIA (NBR 15930) DE 90 X 210 CM, E = 35 MM, NUCLEO SARRAFEADO, CAPA LISA EM HDF, ACABAMENTO EM LAMINADO NATURAL PARA VERNIZ","UN",1,213.89249999999998,213.89249999999998,{"$f":"SUM(G2300:G2306)","v":310.16258540000001},0]
[null,null,"CARPINTEIRO DE ESQUADRIA COM ENCARGOS COMPLEMENTARES","H",{"$f":"ROUND(1.678*0.8,4)","v":1.3424},21.916499999999999,29.420709599999999,null,0]
[null,null,"SERVENTE COM ENCARGOS COMPLEMENTARES","H",{"$f":"ROUND(0.839*0.8,4)","v":0.67120000000000002},16.311500000000002,10.948278800000002,null,0]
[null,null,"Lixa em folha para parede ou madeira, numero 120 (cor vermelha)","un",{"$f":"ROUND(1*(2*0.9*2.1),4)","v":3.78},0.68399999999999994,2.5855199999999998,null,0]
[null,null,"Verniz a base de água para madeira","L",{"$f":"ROUND(0.108*(2*0.9*2.1),4)","v":0.40820000000000001},"","",null,0]
[null,null,"Pintor com encargos complementares","h",{"$f":"ROUND(0.4*(2*0.9*2.1),4)","v":1.512},23.027999999999999,34.818335999999995,null,0]
[null,null,"Servente com Encargos Complementares","h",{"$f":"ROUND(0.3*(2*0.9*2.1),4)","v":1.1339999999999999},16.311500000000002,18.497241000000002,null,0]
[null,null,null,null,null,null,null,null,0]
[null,null,"Obs: considerando rendimento informado na especificação técnica de produto equivalente da Suvinil (Lata de 3,6L rende até 100 m²/demão).",null,null,null,null,null,0]
[null,null,null,null,null,"",{"$f":"IF(ISNUMBER(F2309),E2309*F2309,\"\")","v":""},null,0]
["SF-00365",{"$f":"INDEX(Orçamentária!A:B,MATCH(Composições!A2310,Orçamentária!A:A,0),2)","v":"Folha de porta em madeira 2,10x1,0m, pintada"},null,{"$f":"TRIM(INDEX(Orçamentária!D:D,MATCH(Composições!A2310,Orçamentária!A:A,0),1))","v":"un"},null,"","",null,0]
[null,null,null,null,null,"","",null,0]
[null,null,"PORTA DE MADEIRA, FOLHA MEDIA (NBR 15930) DE 100 X 210 CM, E = 35 MM, NUCLEO SARRAFEADO, CAPA LISA EM HDF, ACABAMENTO EM LAMINADO NATURAL PARA VERNIZ","UN",1,234.60249999999999,234.60249999999999,{"$f":"SUM(G2312:G2318)","v":337.08381839999998},0]
[null,null,"CARPINTEIRO DE ESQUADRIA COM ENCARGOS COMPLEMENTARES","H",{"$f":"ROUND(1.678*0.8,4)","v":1.3424},21.916499999999999,29.420709599999999,null,0]
[null,null,"SERVENTE COM ENCARGOS COMPLEMENTARES","H",{"$f":"ROUND(0.839*0.8,4)","v":0.67120000000000002},16.311500000000002,10.948278800000002,null,0]
[null,null,"Lixa em folha para parede ou madeira, numero 120 (cor vermelha)","un",{"$f":"ROUND(1*(2*1*2.1),4)","v":4.2},0.68399999999999994,2.8727999999999998,null,0]
[null,null,"Verniz a base de água para madeira","L",{"$f":"ROUND(0.108*(2*1*2.1),4)","v":0.4536},"","",null,0]
[null,null,"Pintor com encargos complementares","h",{"$f":"ROUND(0.4*(2*1*2.1),4)","v":1.68},23.027999999999999,38.687039999999996,null,0]
[null,null,"Servente com Encargos Complementares","h",{"$f":"ROUND(0.3*(2*1*2.1),4)","v":1.26},16.311500000000002,20.552490000000002,null,0]
[null,null,null,null,null,null,null,null,0]
[null,null,"Obs: considerando rendimento informado na especificação técnica de produto equivalente da Suvinil (Lata de 3,6L rende até 100 m²/demão).",null,null,null,null,null,0]
[null,null,null,null,null,"",{"$f":"IF(ISNUMBER(F2321),E2321*F2321,\"\")","v":""},null,0]
["SF-00366",{"$f":"INDEX(Orçamentária!A:B,MATCH(Composições!A2322,Orçamentária!A:A,0),2)","v":"Instalação de batentes de madeira reaproveitados"},null,{"$f":"TRIM(INDEX(Orçamentária!D:D,MATCH(Composições!A2322,Orçamentária!A:A,0),1))","v":"un"},null,"","",null,0]
[null,null,null,null,null,"","",null,0]
[null,null,"PREGO DE ACO POLIDO COM CABECA 12 X 12","KG",1.0999999999999999E-2,15.275999999999998,0.16803599999999996,{"$f":"SUM(G2324:G2327)","v":82.654028000000011},0]
[null,null,"PREGO DE ACO POLIDO COM CABECA 18 X 30 (2 3/4 X 10)","KG",2.4E-2,11.589999999999998,0.27815999999999996,null,0]
[null,null,"CARPINTEIRO DE ESQUADRIA COM ENCARGOS COMPLEMENTARES","H",2.7410000000000001,21.916499999999999,60.073126500000001,null,0]
[null,null,"SERVENTE COM ENCARGOS COMPLEMENTARES","H",1.357,16.311500000000002,22.134705500000003,null,0]
[null,null,null,null,null,"","",null,0]
["SF-00367",{"$f":"INDEX(Orçamentária!A:B,MATCH(Composições!A2329,Orçamentária!A:A,0),2)","v":"Instalação de folhas de portas e dobradiças reaproveitadas"},null,{"$f":"TRIM(INDEX(Orçamentária!D:D,MATCH(Composições!A2329,Orçamentária!A:A,0),1))","v":"un"},null,"","",null,0]
[null,null,null,null,null,"","",null,0]
[null,null,"PARAFUSO ROSCA SOBERBA ZINCADO CABECA CHATA FENDA SIMPLES 3,5 X 25 MM (1 \")","UN",19.8,3.7999999999999999E-2,0.75239999999999996,{"$f":"SUM(G2331:G2334)","v":59.204627000000002},0]
[null,null,"CARPINTEIRO DE ESQUADRIA COM ENCARGOS COMPLEMENTARES","H",1.546,21.916499999999999,33.882908999999998,null,0]
[null,null,"PEDREIRO COM ENCARGOS COMPLEMENTARES","H",0.221,22.087499999999999,4.8813374999999999,null,0]
[null,null,"SERVENTE COM ENCARGOS COMPLEMENTARES","H",1.2070000000000001,16.311500000000002,19.687980500000005,null,0]
[null,null,null,null,null,"","",null,0]
["SF-00368",{"$f":"INDEX(Orçamentária!A:B,MATCH(Composições!A2336,Orçamentária!A:A,0),2)","v":"Dobradiça para porta"},null,{"$f":"TRIM(INDEX(Orçamentária!D:D,MATCH(Composições!A2336,Orçamentária!A:A,0),1))","v":"un"},null,"","",null,0]
[null,null,null,null,null,"","",null,0]
[null,null,"DOBRADICA EM LATAO, 3 \" X 2 1/2 \", E= 1,9 A 2 MM, COM ANEL, CROMADO, TAMPA BOLA, COM PARAFUSOS","UN",1,20.861999999999998,20.861999999999998,{"$f":"SUM(G2338:G2340)","v":48.408180999999999},0]
[null,null,"SERVENTE COM ENCARGOS COMPLEMENTARES","h",0.45800000000000002,16.311500000000002,7.4706670000000015,null,0]
[null,null,"Carpinteiro de esquadria com encargos complementares","h",0.91600000000000004,21.916499999999999,20.075513999999998,null,0]
[null,null,null,null,null,"","",null,0]
["SF-00369",{"$f":"INDEX(Orçamentária!A:B,MATCH(Composições!A2342,Orçamentária!A:A,0),2)","v":"Fechadura para banheiro maçaneta em barra"},null,{"$f":"TRIM(INDEX(Orçamentária!D:D,MATCH(Composições!A2342,Orçamentária!A:A,0),1))","v":"un"},null,"","",null,0]
[null,null,null,null,null,"","",null,0]
[null,null,"Fechadura para porta de banheiro, com maçaneta em formato de barra, confeccionada em aço com acabamento inox polido. Ref.: MZ 270 WC Standard – Linha Standard – Papaiz","un ",1,"","",{"$f":"SUM(G2344:G2346)","v":23.0735715},0]
[null,null,"Carpinteiro de esquadria com encargos complementares","h",0.76700000000000002,21.916499999999999,16.809955500000001,null,0]
[null,null,"Servente com Encargos Complementares","h",0.38400000000000001,16.311500000000002,6.2636160000000007,null,0]
[null,null,null,null,null,"","",null,0]
["SF-00370",{"$f":"INDEX(Orçamentária!A:B,MATCH(Composições!A2348,Orçamentária!A:A,0),2)","v":"Fechadura para porta externa maçaneta em barra"},null,{"$f":"TRIM(INDEX(Orçamentária!D:D,MATCH(Composições!A2348,Orçamentária!A:A,0),1))","v":"un"},null,"","",null,0]
[null,null,null,null,null,"","",null,0]
[null,null,"Fechadura para porta externa, com maçaneta em formato de barra, confeccionada em zamac com acabamento cromado. Ref.: MZ 270 EXT Standard – Linha Standard – Papaiz","un ",1,"","",{"$f":"SUM(G2350:G2352)","v":30.1323945},0]
[null,null,"Carpinteiro de esquadria com encargos complementares","h",1.002,21.916499999999999,21.960332999999999,null,0]
[null,null,"Servente com Encargos Complementares","h",0.501,16.311500000000002,8.1720615000000016,null,0]
[null,null,null,null,null,"","",null,0]
["SF-00371",{"$f":"INDEX(Orçamentária!A:B,MATCH(Composições!A2354,Orçamentária!A:A,0),2)","v":"Fechadura para porta interna maçaneta tubular"},null,{"$f":"TRIM(INDEX(Orçamentária!D:D,MATCH(Composições!A2354,Orçamentária!A:A,0),1))","v":"un"},null,"","",null,0]
[null,null,null,null,null,"","",null,0]
[null,null,"Fechadura para porta interna, com acabamento cromado brilhante, maçaneta tipo pera, com pino giratório central. Ref.: CJ 030 (externo) – Linha Professionel – La Fonte","un ",1,"","",{"$f":"SUM(G2356:G2358)","v":30.1323945},0]
[null,null,"Carpinteiro de esquadria com encargos complementares","h",1.002,21.916499999999999,21.960332999999999,null,0]
[null,null,"Servente com Encargos Complementares","h",0.501,16.311500000000002,8.1720615000000016,null,0]
[null,null,null,null,null,"","",null,0]
["SF-00372",{"$f":"INDEX(Orçamentária!A:B,MATCH(Composições!A2360,Orçamentária!A:A,0),2)","v":"Instalação de fechadura/puxador de porta reaproveitados"},null,{"$f":"TRIM(INDEX(Orçamentária!D:D,MATCH(Composições!A2360,Orçamentária!A:A,0),1))","v":"un"},null,"","",null,0]
[null,null,null,null,null,"","",null,0]
[null,null,"Carpinteiro de esquadria com encargos complementares","h",1.002,21.916499999999999,21.960332999999999,{"$f":"SUM(G2362:G2363)","v":30.1323945},0]
[null,null,"Servente com Encargos Complementares","h",0.501,16.311500000000002,8.1720615000000016,null,0]
[null,null,null,null,null,"","",null,0]
["SF-00373",{"$f":"INDEX(Orçamentária!A:B,MATCH(Composições!A2365,Orçamentária!A:A,0),2)","v":"Mola hidráulica aérea"},null,{"$f":"TRIM(INDEX(Orçamentária!D:D,MATCH(Composições!A2365,Orçamentária!A:A,0),1))","v":"un"},null,"","",null,0]
[null,null,null,null,null,"","",null,0]
[null,null,"Marceneiro com encargos complementares","h",1,22.268000000000001,22.268000000000001,{"$f":"SUM(G2367:G2368)","v":22.268000000000001},0]
[null,null,"Mola aérea para fechamento automático de portas com regulagem da velocidade de fechamento. Ref.: Mola automática – Modelo 453 - Coimbra","un",1,"","",null,0]
[null,null,null,null,null,"","",null,0]
["SF-00374",{"$f":"INDEX(Orçamentária!A:B,MATCH(Composições!A2370,Orçamentária!A:A,0),2)","v":"Pivô em latão com acabamento cromado para portas pivotantes"},null,{"$f":"TRIM(INDEX(Orçamentária!D:D,MATCH(Composições!A2370,Orçamentária!A:A,0),1))","v":"un"},null,"","",null,0]
[null,null,null,null,null,"","",null,0]
[null,null,"Marceneiro com encargos complementares","h",{"$f":"1/2","v":0.5},22.268000000000001,11.134,{"$f":"SUM(G2372:G2373)","v":11.134},0]
[null,null,"Pivô em latão com acabamento cromado para portas pivotantes até 150 kg. Conjunto completo composto de superior macho e fêmea e inferior macho e fêmea. Ref.: Pivô Strong 150 - La fonte","un",1,"","",null,0]
[null,null,null,null,null,"","",null,0]
["SF-00375",{"$f":"INDEX(Orçamentária!A:B,MATCH(Composições!A2375,Orçamentária!A:A,0),2)","v":"Cabo de dados tipo UTP, tipo LSZH, categoria 6"},null,{"$f":"TRIM(INDEX(Orçamentária!D:D,MATCH(Composições!A2375,Orçamentária!A:A,0),1))","v":"m"},null,"","",null,0]
[null,null,null,null,null,"","",null,0]
[null,null,"Auxiliar de eletricista com encargos complementares","h",2.8E-3,17.366,4.8624799999999996E-2,{"$f":"SUM(G2377:G2379)","v":0.1109752},0]
[null,null,"Eletricista com encargos complementares","h",2.8E-3,22.268000000000001,6.23504E-2,null,0]
[null,null,"Cabo de dados tipo UTP, tipo LSZH, categoria 6. Ref.: AMP 1989106-6, Furukawa 23400196","m",1.05,"","",null,0]
[null,null,null,null,null,"","",null,0]
["SF-00376",{"$f":"INDEX(Orçamentária!A:B,MATCH(Composições!A2381,Orçamentária!A:A,0),2)","v":"Módulo (tomada) de rede RJ45, categoria 6, com conectorização e certificação"},null,{"$f":"TRIM(INDEX(Orçamentária!D:D,MATCH(Composições!A2381,Orçamentária!A:A,0),1))","v":"un"},null,"","",null,0]
[null,null,null,null,null,"","",null,0]
[null,null,"Tampa p/ conector /RJ45. ref.: Schneider Electric PRM47761 (Padrão Keystone), Schneider Electric PRM47771 (Padrão AMP)","un ",1,"","",{"$f":"SUM(G2383:G2387)","v":16.345061600000001},0]
[null,null,"Módulo RJ 45 - CAT 6. Ref.: AMP 1375055-2, Furukawa 35030621","un ",1,"","",null,0]
[null,null,"Certificação de ponto de rede","un ",1,"",{"$f":"IF(ISNUMBER(F2385),E2385*F2385,\"\")","v":""},null,0]
[null,null,"Auxiliar de eletricista com encargos complementares","h",{"$f":"0.2062*2","v":0.41239999999999999},17.366,7.1617383999999999,null,0]
[null,null,"Eletricista com encargos complementares","h",{"$f":"0.2062*2","v":0.41239999999999999},22.268000000000001,9.1833232000000002,null,0]
[null,null,null,null,null,"","",null,0]
["SF-00377",{"$f":"INDEX(Orçamentária!A:B,MATCH(Composições!A2389,Orçamentária!A:A,0),2)","v":"Painel de distribuição (patch panel) de 24 portas, categoria 6"},null,{"$f":"TRIM(INDEX(Orçamentária!D:D,MATCH(Composições!A2389,Orçamentária!A:A,0),1))","v":"un"},null,"","",null,0]
[null,null,null,null,null,"","",null,0]
[null,null,"Auxiliar de eletricista com encargos complementares","h",{"$f":"6.2007","v":6.2007000000000003},17.366,107.68135620000001,{"$f":"SUM(G2391:G2394)","v":245.75854380000001},0]
[null,null,"Eletricista com encargos complementares","h",{"$f":"6.2007","v":6.2007000000000003},22.268000000000001,138.0771876,null,0]
[null,null,"Painel de distribuição (patch panel) de 24 portas, categoria 6. Ref.: AMP 1375014-2","un",1,"","",null,0]
[null,null,"Módulo RJ 45 - CAT 6. Ref.: AMP 1375055-2, Furukawa 35030621","un ",24,"","",null,0]
[null,null,null,null,null,"","",null,0]
["SF-00378",{"$f":"INDEX(Orçamentária!A:B,MATCH(Composições!A2396,Orçamentária!A:A,0),2)","v":"Cabo de telefonia tipo CCI 50x2"},null,{"$f":"TRIM(INDEX(Orçamentária!D:D,MATCH(Composições!A2396,Orçamentária!A:A,0),1))","v":"m"},null,"","",null,0]
[null,null,null,null,null,"","",null,0]
[null,null,"Auxiliar de eletricista com encargos complementares","h",6.4100000000000004E-2,17.366,1.1131606000000001,{"$f":"SUM(G2398:G2400)","v":3.5779394},0]
[null,null,"Eletricista com encargos complementares","h",6.4100000000000004E-2,22.268000000000001,1.4273788000000001,null,0]
[null,null,"CABO TELEFONICO CCI 50, 2 PARES, USO INTERNO, SEM BLINDAGEM","m",1.05,0.98799999999999999,1.0374000000000001,null,0]
[null,null,null,null,null,"","",null,0]
["SF-00379",{"$f":"INDEX(Orçamentária!A:B,MATCH(Composições!A2402,Orçamentária!A:A,0),2)","v":"Módulo (tomada) de rede RJ45, para telefonia"},null,{"$f":"TRIM(INDEX(Orçamentária!D:D,MATCH(Composições!A2402,Orçamentária!A:A,0),1))","v":"un"},null,"","",null,0]
[null,null,null,null,null,"","",null,0]
[null,null,"Tampa p/ conector /RJ45. ref.: Schneider Electric PRM47761 (padrão Keystone), Schneider Electric PRM47771 (padrão AMP)","un ",1,"","",{"$f":"SUM(G2404:G2407)","v":37.223530799999999},0]
[null,null,"Tomada RJ45, 8 fios, CAT 5E (apenas modulo)","UN",1,29.050999999999998,29.050999999999998,null,0]
[null,null,"Auxiliar de eletricista com encargos complementares","h",0.20619999999999999,17.366,3.5808692,null,0]
[null,null,"Eletricista com encargos complementares","h",0.20619999999999999,22.268000000000001,4.5916616000000001,null,0]
[null,null,null,null,null,"","",null,0]
["SF-00380",{"$f":"INDEX(Orçamentária!A:B,MATCH(Composições!A2409,Orçamentária!A:A,0),2)","v":"Grelha para retorno para portas, divisórias e paredes 525x325 mm"},null,{"$f":"TRIM(INDEX(Orçamentária!D:D,MATCH(Composições!A2409,Orçamentária!A:A,0),1))","v":"un"},null,"","",null,0]
[null,null,null,null,null,"","",null,0]
[null,null,"Ajudante de operação em geral com encargos complementares","h",3.5,17.470500000000001,61.146750000000004,{"$f":"SUM(G2411:G2413)","v":141.87774999999999},0]
[null,null,"MONTADOR ELETROMECÃNICO COM ENCARGOS COMPLEMENTARES","h",3.5,23.065999999999999,80.730999999999995,null,0]
[null,null,"Grelha para retorno para portas, divisórias e paredes 525x325 mm, Ref. Trox AGS-T","un ",1,"","",null,0]
[null,null,null,null,null,"","",null,0]
["SF-00408",{"$f":"INDEX(Orçamentária!A:B,MATCH(Composições!A2415,Orçamentária!A:A,0),2)","v":"Fechadura para Porta Externa com Espelho - Millenio"},null,{"$f":"TRIM(INDEX(Orçamentária!D:D,MATCH(Composições!A2415,Orçamentária!A:A,0),1))","v":"un"},null,"","",null,0]
[null,null,null,null,null,"","",null,0]
[null,null,"FECHADURA DE EMBUTIR PARA PORTA EXTERNA / ENTRADA, MAQUINA 40 MM, COM CILINDRO, MACANETA ALAVANCA E ESPELHO EM METAL CROMADO - NIVEL SEGURANCA MEDIO - COMPLETA","CJ",1,56.904999999999994,56.904999999999994,{"$f":"SUM(G2417:G2417)","v":56.904999999999994},0]
[null,null,null,null,null,"","",null,0]
["SF-00467",{"$f":"INDEX(Orçamentária!A:B,MATCH(Composições!A2419,Orçamentária!A:A,0),2)","v":"Espuma Expansiva à base de poliuretano"},null,{"$f":"TRIM(INDEX(Orçamentária!D:D,MATCH(Composições!A2419,Orçamentária!A:A,0),1))","v":"500 ml"},null,"","",null,0]
[null,null,null,null,null,"","",null,0]
[null,null,"ESPUMA EXPANSIVA DE POLIURETANO, APLICACAO MANUAL - 500 ML","UN",1,21.375,21.375,{"$f":"SUM(G2421:G2421)","v":21.375},0]
[null,null,null,null,null,"","",null,0]
["SF-00563",{"$f":"INDEX(Orçamentária!A:B,MATCH(Composições!A2423,Orçamentária!A:A,0),2)","v":"Argamassa Para Contrapiso"},null,{"$f":"TRIM(INDEX(Orçamentária!D:D,MATCH(Composições!A2423,Orçamentária!A:A,0),1))","v":"40 kg"},null,"","",null,0]
[null,null,null,null,null,"","",null,0]
[null,null,"ARGAMASSA PRONTA PARA CONTRAPISO","kg",40,0.437,17.48,{"$f":"SUM(G2425:G2425)","v":17.48},0]
[null,null,null,null,null,"","",null,0]
["SF-00564",{"$f":"INDEX(Orçamentária!A:B,MATCH(Composições!A2427,Orçamentária!A:A,0),2)","v":"Argamassa Múltiplo Uso"},null,{"$f":"TRIM(INDEX(Orçamentária!D:D,MATCH(Composições!A2427,Orçamentária!A:A,0),1))","v":"40 kg"},null,"","",null,0]
[null,null,null,null,null,"","",null,0]
[null,null,"ARGAMASSA INDUSTRIALIZADA MULTIUSO, PARA REVESTIMENTO INTERNO E EXTERNO E ASSENTAMENTO DE BLOCOS DIVERSOS","kg",40,0.46549999999999997,18.619999999999997,{"$f":"SUM(G2429:G2429)","v":18.619999999999997},0]
[null,null,null,null,null,"","",null,0]
["SF-00565",{"$f":"INDEX(Orçamentária!A:B,MATCH(Composições!A2431,Orçamentária!A:A,0),2)","v":"Cimento Portland CP II E 32"},null,{"$f":"TRIM(INDEX(Orçamentária!D:D,MATCH(Composições!A2431,Orçamentária!A:A,0),1))","v":"50 kg"},null,"","",null,0]
[null,null,null,null,null,"","",null,0]
[null,null,"CIMENTO PORTLAND COMPOSTO CP II-32","kg",50,0.44649999999999995,22.324999999999999,{"$f":"SUM(G2433:G2433)","v":22.324999999999999},0]
[null,null,null,null,null,"","",null,0]
["SF-00566",{"$f":"INDEX(Orçamentária!A:B,MATCH(Composições!A2435,Orçamentária!A:A,0),2)","v":"Argamassa Colante tipo AC III"},null,{"$f":"TRIM(INDEX(Orçamentária!D:D,MATCH(Composições!A2435,Orçamentária!A:A,0),1))","v":"20 kg"},null,"","",null,0]
[null,null,null,null,null,"","",null,0]
[null,null,"Argamassa colante tipo AC III","kg",20,1.3109999999999999,26.22,{"$f":"SUM(G2437:G2437)","v":26.22},0]
[null,null,null,null,null,"","",null,0]
["SF-00567",{"$f":"INDEX(Orçamentária!A:B,MATCH(Composições!A2439,Orçamentária!A:A,0),2)","v":"Gesso Para Uso Geral"},null,{"$f":"TRIM(INDEX(Orçamentária!D:D,MATCH(Composições!A2439,Orçamentária!A:A,0),1))","v":"40 kg"},null,"","",null,0]
[null,null,null,null,null,"","",null,0]
[null,null,"GESSO EM PO PARA REVESTIMENTOS/MOLDURAS/SANCAS","kg",40,0.34199999999999997,13.68,{"$f":"SUM(G2441:G2441)","v":13.68},0]
[null,null,null,null,null,"","",null,0]
["SF-00568",{"$f":"INDEX(Orçamentária!A:B,MATCH(Composições!A2443,Orçamentária!A:A,0),2)","v":"Areia Média"},null,{"$f":"TRIM(INDEX(Orçamentária!D:D,MATCH(Composições!A2443,Orçamentária!A:A,0),1))","v":"m3"},null,"","",null,0]
[null,null,null,null,null,"","",null,0]
[null,null,"AREIA MEDIA - POSTO JAZIDA/FORNECEDOR (RETIRADO NA JAZIDA, SEM TRANSPORTE)","m3",1,93.8125,93.8125,{"$f":"SUM(G2445:G2447)","v":119.94542109999999},0]
[null,null,"CARGA, MANOBRA E DESCARGA DE SOLOS E MATERIAIS GRANULARES EM CAMINHÃO BASCULANTE 6 M³ - CARGA COM PÁ CARREGADEIRA (CAÇAMBA DE 1,7 A 2,8 M³ / 128 HP) E DESCARGA LIVRE (UNIDADE: M3). AF_07/2020","m3",{"$f":"E2445","v":1},4.9035180999999994,4.9035180999999994,null,0]
[null,null,"TRANSPORTE COM CAMINHÃO BASCULANTE DE 6 M3, EM VIA URBANA PAVIMENTADA, DMT ATÉ 30 KM (UNIDADE: TxKM). AF_01/2018","TxKM",{"$f":"E2445*20","v":20},1.0614701499999997,21.229402999999994,null,0]
[null,null,null,null,null,"","",null,0]
[null,null,"Obs.: Considerando fornecedor de areia a 20 km do Senado Federal.",null,null,"",{"$f":"IF(ISNUMBER(F2449),E2449*F2449,\"\")","v":""},null,0]
[null,null,null,null,null,"","",null,0]
["SF-00569",{"$f":"INDEX(Orçamentária!A:B,MATCH(Composições!A2451,Orçamentária!A:A,0),2)","v":"Brita Nº 0"},null,{"$f":"TRIM(INDEX(Orçamentária!D:D,MATCH(Composições!A2451,Orçamentária!A:A,0),1))","v":"m3"},null,"","",null,0]
[null,null,null,null,null,"","",null,0]
[null,null,"PEDRA BRITADA N. 0, OU PEDRISCO (4,8 A 9,5 MM) POSTO PEDREIRA/FORNECEDOR, SEM FRETE","m3",1,132.11649999999997,132.11649999999997,{"$f":"SUM(G2453:G2455)","v":158.24942109999995},0]
[null,null,"CARGA, MANOBRA E DESCARGA DE SOLOS E MATERIAIS GRANULARES EM CAMINHÃO BASCULANTE 6 M³ - CARGA COM PÁ CARREGADEIRA (CAÇAMBA DE 1,7 A 2,8 M³ / 128 HP) E DESCARGA LIVRE (UNIDADE: M3). AF_07/2020","m3",{"$f":"E2453","v":1},4.9035180999999994,4.9035180999999994,null,0]
[null,null,"TRANSPORTE COM CAMINHÃO BASCULANTE DE 6 M3, EM VIA URBANA PAVIMENTADA, DMT ATÉ 30 KM (UNIDADE: TxKM). AF_01/2018","TxKM",{"$f":"E2453*20","v":20},1.0614701499999997,21.229402999999994,null,0]
[null,null,null,null,null,"","",null,0]
[null,null,"Obs.: Considerando fornecedor de brita a 20 km do Senado Federal.",null,null,"","",null,0]
[null,null,null,null,null,"","",null,0]
["SF-00570",{"$f":"INDEX(Orçamentária!A:B,MATCH(Composições!A2459,Orçamentária!A:A,0),2)","v":"Brita Nº 1"},null,{"$f":"TRIM(INDEX(Orçamentária!D:D,MATCH(Composições!A2459,Orçamentária!A:A,0),1))","v":"m3"},null,"","",null,0]
[null,null,null,null,null,"","",null,0]
[null,null,"PEDRA BRITADA N. 1 (9,5 a 19 MM) POSTO PEDREIRA/FORNECEDOR, SEM FRETE","m3",1,103.48350000000001,103.48350000000001,{"$f":"SUM(G2461:G2463)","v":129.6164211},0]
[null,null,"CARGA, MANOBRA E DESCARGA DE SOLOS E MATERIAIS GRANULARES EM CAMINHÃO BASCULANTE 6 M³ - CARGA COM PÁ CARREGADEIRA (CAÇAMBA DE 1,7 A 2,8 M³ / 128 HP) E DESCARGA LIVRE (UNIDADE: M3). AF_07/2020","m3",{"$f":"E2461","v":1},4.9035180999999994,4.9035180999999994,null,0]
[null,null,"TRANSPORTE COM CAMINHÃO BASCULANTE DE 6 M3, EM VIA URBANA PAVIMENTADA, DMT ATÉ 30 KM (UNIDADE: TxKM). AF_01/2018","TxKM",{"$f":"E2461*20","v":20},1.0614701499999997,21.229402999999994,null,0]
[null,null,null,null,null,"","",null,0]
[null,null,"Obs.: Considerando fornecedor de brita a 20 km do Senado Federal.",null,null,"","",null,0]
[null,null,null,null,null,"","",null,0]
["SF-00571",{"$f":"INDEX(Orçamentária!A:B,MATCH(Composições!A2467,Orçamentária!A:A,0),2)","v":"Bloco Cerâmico De 08 Furos"},null,{"$f":"TRIM(INDEX(Orçamentária!D:D,MATCH(Composições!A2467,Orçamentária!A:A,0),1))","v":"un"},null,"","",null,0]
[null,null,null,null,null,"","",null,0]
[null,null,"BLOCO CERAMICO VAZADO PARA ALVENARIA DE VEDACAO, DE 9 X 19 X 19 CM (L X A X C)","mil",{"$f":"1/1000","v":1E-3},783.71199999999999,0.78371199999999996,{"$f":"SUM(G2469:G2469)","v":0.78371199999999996},0]
[null,null,null,null,null,"","",null,0]
["SF-00572",{"$f":"INDEX(Orçamentária!A:B,MATCH(Composições!A2471,Orçamentária!A:A,0),2)","v":"Tijolo Maciço"},null,{"$f":"TRIM(INDEX(Orçamentária!D:D,MATCH(Composições!A2471,Orçamentária!A:A,0),1))","v":"un"},null,"","",null,0]
[null,null,null,null,null,"","",null,0]
[null,null,"TIJOLO CERAMICO MACICO COMUM *5 X 10 X 20* CM (L X A X C)","UN",1,0.67449999999999999,0.67449999999999999,{"$f":"SUM(G2473:G2473)","v":0.67449999999999999},0]
[null,null,null,null,null,"","",null,0]
["SF-00573",{"$f":"INDEX(Orçamentária!A:B,MATCH(Composições!A2475,Orçamentária!A:A,0),2)","v":"Bloco De Concreto Com 02 Furos"},null,{"$f":"TRIM(INDEX(Orçamentária!D:D,MATCH(Composições!A2475,Orçamentária!A:A,0),1))","v":"un"},null,"","",null,0]
[null,null,null,null,null,"","",null,0]
[null,null,"BLOCO DE CONCRETO ESTRUTURAL 9 X 19 X 39 CM, FBK 4,5 MPA (NBR 6136)","UN",1,1.6909999999999998,1.6909999999999998,{"$f":"SUM(G2477:G2477)","v":1.6909999999999998},0]
[null,null,null,null,null,"","",null,0]
["SF-00574",{"$f":"INDEX(Orçamentária!A:B,MATCH(Composições!A2479,Orçamentária!A:A,0),2)","v":"Bloco De Concreto Tipo Canaleta"},null,{"$f":"TRIM(INDEX(Orçamentária!D:D,MATCH(Composições!A2479,Orçamentária!A:A,0),1))","v":"un"},null,"","",null,0]
[null,null,null,null,null,"","",null,0]
[null,null,"Bloco de concreto tipo canaleta 11,5 x 19 x 39 cm","un ",1,0,0,{"$f":"SUM(G2481:G2481)","v":0},0]
[null,null,null,null,null,"","",null,0]
["SF-00575",{"$f":"INDEX(Orçamentária!A:B,MATCH(Composições!A2483,Orçamentária!A:A,0),2)","v":"Vergalhão Ca-60 Diâmetro 5,0 Mm"},null,{"$f":"TRIM(INDEX(Orçamentária!D:D,MATCH(Composições!A2483,Orçamentária!A:A,0),1))","v":"m"},null,"","",null,0]
[null,null,null,null,null,"","",null,0]
[null,null,"TIJOLO CERAMICO MACICO COMUM *5 X 10 X 20* CM (L X A X C)","UN",1,0.67449999999999999,0.67449999999999999,{"$f":"SUM(G2485:G2485)","v":0.67449999999999999},0]
[null,null,null,null,null,"","",null,0]
["SF-00576",{"$f":"INDEX(Orçamentária!A:B,MATCH(Composições!A2487,Orçamentária!A:A,0),2)","v":"Vergalhão Ca-50 Diâmetro 6,3 Mm"},null,{"$f":"TRIM(INDEX(Orçamentária!D:D,MATCH(Composições!A2487,Orçamentária!A:A,0),1))","v":"m"},null,"","",null,0]
[null,null,null,null,null,"","",null,0]
[null,null,"ACO CA-50, 6,3 MM, VERGALHAO","kg",0.245,5.8425000000000002,1.4314125,{"$f":"SUM(G2489:G2489)","v":1.4314125},0]
[null,null,null,null,null,"","",null,0]
["SF-00577",{"$f":"INDEX(Orçamentária!A:B,MATCH(Composições!A2491,Orçamentária!A:A,0),2)","v":"Vergalhão Ca-50 Diâmetro 8,0 Mm"},null,{"$f":"TRIM(INDEX(Orçamentária!D:D,MATCH(Composições!A2491,Orçamentária!A:A,0),1))","v":"m"},null,"","",null,0]
[null,null,null,null,null,"","",null,0]
[null,null,"ACO CA-50, 8,0 MM, VERGALHAO","kg",0.39500000000000002,5.8709999999999996,2.319045,{"$f":"SUM(G2493:G2493)","v":2.319045},0]
[null,null,null,null,null,"","",null,0]
["SF-00578",{"$f":"INDEX(Orçamentária!A:B,MATCH(Composições!A2495,Orçamentária!A:A,0),2)","v":"Vergalhão Ca-50 Diâmetro 10,0 Mm"},null,{"$f":"TRIM(INDEX(Orçamentária!D:D,MATCH(Composições!A2495,Orçamentária!A:A,0),1))","v":"m"},null,"","",null,0]
[null,null,null,null,null,"","",null,0]
[null,null,"ACO CA-50, 10,0 MM, VERGALHAO","kg",0.61699999999999999,5.5385,3.4172544999999999,{"$f":"SUM(G2497:G2497)","v":3.4172544999999999},0]
[null,null,null,null,null,"","",null,0]
["SF-00579",{"$f":"INDEX(Orçamentária!A:B,MATCH(Composições!A2499,Orçamentária!A:A,0),2)","v":"Vergalhão Ca-50 Diâmetro 12,5 Mm"},null,{"$f":"TRIM(INDEX(Orçamentária!D:D,MATCH(Composições!A2499,Orçamentária!A:A,0),1))","v":"m"},null,"","",null,0]
[null,null,null,null,null,"","",null,0]
[null,null,"ACO CA-50, 12,5 MM OU 16,0 MM, VERGALHAO","kg",0.96299999999999997,4.7974999999999994,4.6199924999999995,{"$f":"SUM(G2501:G2501)","v":4.6199924999999995},0]
[null,null,null,null,null,"","",null,0]
["SF-00580",{"$f":"INDEX(Orçamentária!A:B,MATCH(Composições!A2503,Orçamentária!A:A,0),2)","v":"Arame Recozido Nº 18"},null,{"$f":"TRIM(INDEX(Orçamentária!D:D,MATCH(Composições!A2503,Orçamentária!A:A,0),1))","v":"kg"},null,"","",null,0]
[null,null,null,null,null,"","",null,0]
[null,null,"ARAME RECOZIDO 16 BWG, D = 1,65 MM (0,016 KG/M) OU 18 BWG, D = 1,25 MM (0,01 KG/M)","kg",1,14.154999999999999,14.154999999999999,{"$f":"SUM(G2505:G2505)","v":14.154999999999999},0]
[null,null,null,null,null,"","",null,0]
["SF-00581",{"$f":"INDEX(Orçamentária!A:B,MATCH(Composições!A2507,Orçamentária!A:A,0),2)","v":"Adesivo Estrutural Epóxi Bicomponente"},null,{"$f":"TRIM(INDEX(Orçamentária!D:D,MATCH(Composições!A2507,Orçamentária!A:A,0),1))","v":"kg"},null,"","",null,0]
[null,null,null,null,null,"","",null,0]
[null,null,"ADESIVO ESTRUTURAL A BASE DE RESINA EPOXI, BICOMPONENTE, PASTOSO (TIXOTROPICO)","kg",1,32.812999999999995,32.812999999999995,{"$f":"SUM(G2509:G2509)","v":32.812999999999995},0]
[null,null,null,null,null,"","",null,0]
["SF-00588",{"$f":"INDEX(Orçamentária!A:B,MATCH(Composições!A2511,Orçamentária!A:A,0),2)","v":"Aditivo Impermeabilizante"},null,{"$f":"TRIM(INDEX(Orçamentária!D:D,MATCH(Composições!A2511,Orçamentária!A:A,0),1))","v":"L"},null,"","",null,0]
[null,null,null,null,null,"","",null,0]
[null,null,"ADITIVO IMPERMEABILIZANTE DE PEGA NORMAL PARA ARGAMASSAS E CONCRETOS SEM ARMACAO, LIQUIDO E ISENTO DE CLORETOS","L",1,5.1775000000000002,{"$f":"IF(ISNUMBER(F2513),E2513*F2513,\"\")","v":5.1775000000000002},{"$f":"SUM(G2513:G2513)","v":5.1775000000000002},0]
[null,null,null,null,null,"","",null,0]
["SF-00708",{"$f":"INDEX(Orçamentária!A:B,MATCH(Composições!A2515,Orçamentária!A:A,0),2)","v":"Supervisor(a)-Geral"},null,{"$f":"TRIM(INDEX(Orçamentária!D:D,MATCH(Composições!A2515,Orçamentária!A:A,0),1))","v":"Profissional"},null,"","",null,0]
[null,null,null,null,null,"","",null,0]
[null,null,"ENGENHEIRO CIVIL DE OBRA PLENO COM ENCARGOS COMPLEMENTARES","h",{"$f":"ROUND(220/(1+112.85%),4)","v":103.3592},94.809999999999988,9799.4857519999987,{"$f":"SUM(G2517:G2517)","v":9799.4857519999987},0]
[null,null,null,null,null,"","",null,0]
[null,null,"Obs: considerando 220h/mês e encargos sociais indicados na tabela do SINAPI.",null,null,"","",null,0]
[null,null,null,null,null,"","",null,0]
["SF-00709",{"$f":"INDEX(Orçamentária!A:B,MATCH(Composições!A2521,Orçamentária!A:A,0),2)","v":"Apoio Técnico Administrativo – Controle de Almoxarifado"},null,{"$f":"TRIM(INDEX(Orçamentária!D:D,MATCH(Composições!A2521,Orçamentária!A:A,0),1))","v":"Profissional"},null,"","",null,0]
[null,null,null,null,null,"","",null,0]
[null,null,"ALMOXARIFE COM ENCARGOS COMPLEMENTARES","h",{"$f":"ROUND(220/(1+112.85%),4)","v":103.3592},25.593,2645.2720055999998,{"$f":"SUM(G2523:G2523)","v":2645.2720055999998},0]
[null,null,null,null,null,"","",null,0]
[null,null,"Obs: considerando 220h/mês e encargos sociais indicados na tabela do SINAPI.",null,null,"","",null,0]
[null,null,null,null,null,"","",null,0]
["SF-00710",{"$f":"INDEX(Orçamentária!A:B,MATCH(Composições!A2527,Orçamentária!A:A,0),2)","v":"Ajudante de Serviços Gerais"},null,{"$f":"TRIM(INDEX(Orçamentária!D:D,MATCH(Composições!A2527,Orçamentária!A:A,0),1))","v":"Profissional"},null,"","",null,0]
[null,null,null,null,null,"","",null,0]
[null,null,"SERVENTE COM ENCARGOS COMPLEMENTARES","h",{"$f":"ROUND(220/(1+112.85%),4)","v":103.3592},16.311500000000002,1685.9435908000003,{"$f":"SUM(G2529:G2529)","v":1685.9435908000003},0]
[null,null,null,null,null,"","",null,0]
[null,null,"Obs: considerando 220h/mês e encargos sociais indicados na tabela do SINAPI.",null,null,"","",null,0]
[null,null,null,null,null,"","",null,0]
["SF-00711",{"$f":"INDEX(Orçamentária!A:B,MATCH(Composições!A2533,Orçamentária!A:A,0),2)","v":"Ajudante de Marceneiro(a)"},null,{"$f":"TRIM(INDEX(Orçamentária!D:D,MATCH(Composições!A2533,Orçamentária!A:A,0),1))","v":"Profissional"},null,"","",null,0]
[null,null,null,null,null,"","",null,0]
[null,null,"AJUDANTE DE CARPINTEIRO COM ENCARGOS COMPLEMENTARES","h",{"$f":"ROUND(220/(1+112.85%),4)","v":103.3592},18.468,1908.8377055999999,{"$f":"SUM(G2535:G2535)","v":1908.8377055999999},0]
[null,null,null,null,null,"","",null,0]
[null,null,"Obs: considerando 220h/mês e encargos sociais indicados na tabela do SINAPI.",null,null,"","",null,0]
[null,null,null,null,null,"","",null,0]
["SF-00712",{"$f":"INDEX(Orçamentária!A:B,MATCH(Composições!A2539,Orçamentária!A:A,0),2)","v":"Ajudante de Serralheiro(a)"},null,{"$f":"TRIM(INDEX(Orçamentária!D:D,MATCH(Composições!A2539,Orçamentária!A:A,0),1))","v":"Profissional"},null,"","",null,0]
[null,null,null,null,null,"","",null,0]
[null,null,"AUXILIAR DE SERRALHEIRO COM ENCARGOS COMPLEMENTARES","h",{"$f":"ROUND(220/(1+112.85%),4)","v":103.3592},17.898,1849.9229616,{"$f":"SUM(G2541:G2541)","v":1849.9229616},0]
[null,null,null,null,null,"","",null,0]
[null,null,"Obs: considerando 220h/mês e encargos sociais indicados na tabela do SINAPI.",null,null,"","",null,0]
[null,null,null,null,null,"","",null,0]
["SF-00713",{"$f":"INDEX(Orçamentária!A:B,MATCH(Composições!A2545,Orçamentária!A:A,0),2)","v":"Lustrador(a) de Móveis"},null,{"$f":"TRIM(INDEX(Orçamentária!D:D,MATCH(Composições!A2545,Orçamentária!A:A,0),1))","v":"Profissional"},null,"","",null,0]
[null,null,null,null,null,"","",null,0]
[null,null,"Marceneiro com encargos complementares","h",{"$f":"ROUND(220/(1+112.85%),4)","v":103.3592},22.268000000000001,2301.6026655999999,{"$f":"SUM(G2547:G2547)","v":2301.6026655999999},0]
[null,null,null,null,null,"","",null,0]
[null,null,"Obs: considerando 220h/mês e encargos sociais indicados na tabela do SINAPI.",null,null,"","",null,0]
[null,null,null,null,null,"","",null,0]
["SF-00714",{"$f":"INDEX(Orçamentária!A:B,MATCH(Composições!A2551,Orçamentária!A:A,0),2)","v":"Marceneiro(a)"},null,{"$f":"TRIM(INDEX(Orçamentária!D:D,MATCH(Composições!A2551,Orçamentária!A:A,0),1))","v":"Profissional"},null,"","",null,0]
[null,null,null,null,null,"","",null,0]
[null,null,"Marceneiro com encargos complementares","h",{"$f":"ROUND(220/(1+112.85%),4)","v":103.3592},22.268000000000001,2301.6026655999999,{"$f":"SUM(G2553:G2553)","v":2301.6026655999999},0]
[null,null,null,null,null,"","",null,0]
[null,null,"Obs: considerando 220h/mês e encargos sociais indicados na tabela do SINAPI.",null,null,"","",null,0]
[null,null,null,null,null,"","",null,0]
["SF-00715",{"$f":"INDEX(Orçamentária!A:B,MATCH(Composições!A2557,Orçamentária!A:A,0),2)","v":"Serralheiro(a)"},null,{"$f":"TRIM(INDEX(Orçamentária!D:D,MATCH(Composições!A2557,Orçamentária!A:A,0),1))","v":"Profissional"},null,"","",null,0]
[null,null,null,null,null,"","",null,0]
[null,null,"Serralheiro com encargos complementares","h",{"$f":"ROUND(220/(1+112.85%),4)","v":103.3592},21.973499999999998,2271.1633812,{"$f":"SUM(G2559:G2559)","v":2271.1633812},0]
[null,null,null,null,null,"","",null,0]
[null,null,"Obs: considerando 220h/mês e encargos sociais indicados na tabela do SINAPI.",null,null,"","",null,0]
[null,null,null,null,null,"","",null,0]
["SF-00716",{"$f":"INDEX(Orçamentária!A:B,MATCH(Composições!A2563,Orçamentária!A:A,0),2)","v":"Mestre de Obras (Posto de Trabalho)"},null,{"$f":"TRIM(INDEX(Orçamentária!D:D,MATCH(Composições!A2563,Orçamentária!A:A,0),1))","v":"Profissional"},null,"","",null,0]
[null,null,null,null,null,"","",null,0]
[null,null,"Mestre de obras com encargos complementares","h",{"$f":"ROUND(220/(1+112.85%),4)","v":103.3592},26.248499999999996,2713.0239611999996,{"$f":"SUM(G2565:G2565)","v":2713.0239611999996},0]
[null,null,null,null,null,"","",null,0]
[null,null,"Obs: considerando 220h/mês e encargos sociais indicados na tabela do SINAPI.",null,null,"","",null,0]
[null,null,null,null,null,"","",null,0]
["SF-00717",{"$f":"INDEX(Orçamentária!A:B,MATCH(Composições!A2569,Orçamentária!A:A,0),2)","v":"Oficial de Serviços Gerais"},null,{"$f":"TRIM(INDEX(Orçamentária!D:D,MATCH(Composições!A2569,Orçamentária!A:A,0),1))","v":"Profissional"},null,"","",null,0]
[null,null,null,null,null,"","",null,0]
[null,null,"PEDREIRO COM ENCARGOS COMPLEMENTARES","h",{"$f":"ROUND(220/(1+112.85%),4)","v":103.3592},22.087499999999999,2282.9463299999998,{"$f":"SUM(G2571:G2571)","v":2282.9463299999998},0]
[null,null,null,null,null,"","",null,0]
[null,null,"Obs: considerando 220h/mês e encargos sociais indicados na tabela do SINAPI.",null,null,"","",null,0]
[null,null,null,null,null,"","",null,0]
["SF-00844",{"$f":"INDEX(Orçamentária!A:B,MATCH(Composições!A2575,Orçamentária!A:A,0),2)","v":"Instalação de vidro (comum, temperado, aramado ou laminado) reaproveitado"},null,{"$f":"TRIM(INDEX(Orçamentária!D:D,MATCH(Composições!A2575,Orçamentária!A:A,0),1))","v":"m2"},null,"","",null,0]
[null,null,null,null,null,"","",null,0]
[null,null,"Vidraceiro com encargos complementares","h",1,20.539000000000001,{"$f":"IF(ISNUMBER(F2577),E2577*F2577,\"\")","v":20.539000000000001},{"$f":"SUM(G2577:G2579)","v":38.336300000000001},0]
[null,null,"Servente com Encargos Complementares","h",0.2,16.311500000000002,3.2623000000000006,null,0]
[null,null,"Massa para vidro","Kg",2,7.2675000000000001,14.535,null,0]
[null,null,null,null,null,"","",null,0]
["SF-00845",{"$f":"INDEX(Orçamentária!A:B,MATCH(Composições!A2581,Orçamentária!A:A,0),2)","v":"Vidro temperado incolor com 8mm de espessura"},null,{"$f":"TRIM(INDEX(Orçamentária!D:D,MATCH(Composições!A2581,Orçamentária!A:A,0),1))","v":"m2"},null,"","",null,0]
[null,null,null,null,null,"","",null,0]
[null,null,"Vidraceiro com encargos complementares","h",1,20.539000000000001,20.539000000000001,{"$f":"SUM(G2583:G2586)","v":171.80179999999999},0]
[null,null,"Servente com Encargos Complementares","h",0.2,16.311500000000002,3.2623000000000006,null,0]
[null,null,"Massa para vidro","Kg",2,7.2675000000000001,14.535,null,0]
[null,null,"VIDRO LISO INCOLOR 5MM - SEM COLOCACAO","m2",1,133.46549999999999,133.46549999999999,null,0]
[null,null,null,null,null,"","",null,0]
["SF-00846",{"$f":"INDEX(Orçamentária!A:B,MATCH(Composições!A2588,Orçamentária!A:A,0),2)","v":"Vidro liso comum transparente 5mm"},null,{"$f":"TRIM(INDEX(Orçamentária!D:D,MATCH(Composições!A2588,Orçamentária!A:A,0),1))","v":"m2"},null,"","",null,0]
[null,null,null,null,null,"","",null,0]
[null,null,"Vidraceiro com encargos complementares","h",0.5,20.539000000000001,10.269500000000001,{"$f":"SUM(G2590:G2593)","v":141.57849999999999},0]
[null,null,"Servente com Encargos Complementares","h",0.5,16.311500000000002,8.1557500000000012,null,0]
[null,null,"Massa para vidro","Kg",1.5,7.2675000000000001,10.901250000000001,null,0]
[null,null,"VIDRO TEMPERADO INCOLOR E = 8 MM, SEM COLOCACAO","m2",1,112.252,112.252,null,0]
[null,null,null,null,null,"","",null,0]
["SF-00847",{"$f":"INDEX(Orçamentária!A:B,MATCH(Composições!A2595,Orçamentária!A:A,0),2)","v":"Corte em vidro ou espelho reaproveitado"},null,{"$f":"TRIM(INDEX(Orçamentária!D:D,MATCH(Composições!A2595,Orçamentária!A:A,0),1))","v":"m"},null,"","",null,0]
[null,null,null,null,null,"","",null,0]
[null,null,"Vidraceiro com encargos complementares","h",0.5,20.539000000000001,10.269500000000001,{"$f":"SUM(G2597:G2598)","v":18.425250000000002},0]
[null,null,"Servente com Encargos Complementares","h",0.5,16.311500000000002,8.1557500000000012,null,0]
[null,null,null,null,null,"","",null,0]
["SF-00848",{"$f":"INDEX(Orçamentária!A:B,MATCH(Composições!A2600,Orçamentária!A:A,0),2)","v":"Lapidação de vidro / espelho reaproveitado"},null,{"$f":"TRIM(INDEX(Orçamentária!D:D,MATCH(Composições!A2600,Orçamentária!A:A,0),1))","v":"m"},null,"","",null,0]
[null,null,null,null,null,"","",null,0]
[null,null,"Vidraceiro com encargos complementares","h",0.75,20.539000000000001,15.404250000000001,{"$f":"SUM(G2602:G2603)","v":27.637875000000001},0]
[null,null,"Servente com Encargos Complementares","h",0.75,16.311500000000002,12.233625000000002,null,0]
[null,null,null,null,null,"","",null,0]
["SF-00849",{"$f":"INDEX(Orçamentária!A:B,MATCH(Composições!A2605,Orçamentária!A:A,0),2)","v":"Vidro temperado incolor com 10 mm de espessura"},null,{"$f":"TRIM(INDEX(Orçamentária!D:D,MATCH(Composições!A2605,Orçamentária!A:A,0),1))","v":"m2"},null,"","",null,0]
[null,null,null,null,null,"","",null,0]
[null,null,"Vidraceiro com encargos complementares","h",0.5,20.539000000000001,10.269500000000001,{"$f":"SUM(G2607:G2610)","v":175.0565},0]
[null,null,"Servente com Encargos Complementares","h",0.5,16.311500000000002,8.1557500000000012,null,0]
[null,null,"Massa para vidro","Kg",1.5,7.2675000000000001,10.901250000000001,null,0]
[null,null,"VIDRO TEMPERADO INCOLOR E = 10 MM, SEM COLOCACAO","m2",1,145.72999999999999,145.72999999999999,null,0]
[null,null,null,null,null,"","",null,0]
["SF-00850",{"$f":"INDEX(Orçamentária!A:B,MATCH(Composições!A2612,Orçamentária!A:A,0),2)","v":"Bucha para pivô de dobradiça para vidro temperado"},null,{"$f":"TRIM(INDEX(Orçamentária!D:D,MATCH(Composições!A2612,Orçamentária!A:A,0),1))","v":"un"},null,"","",null,0]
[null,null,null,null,null,"","",null,0]
[null,null,"Vidraceiro com encargos complementares","h",0.15,20.539000000000001,3.0808500000000003,{"$f":"SUM(G2614:G2615)","v":3.0808500000000003},0]
[null,null,"Bucha para pivô de dobradiça para vidro temperado. Ref.: Santa Marina/1201; Belga Metais / 9201","un",1,0,0,null,0]
[null,null,null,null,null,"","",null,0]
["SF-00851",{"$f":"INDEX(Orçamentária!A:B,MATCH(Composições!A2617,Orçamentária!A:A,0),2)","v":"Suporte para bandeira de vidro temperado, com ponto de giro para dobradiça"},null,{"$f":"TRIM(INDEX(Orçamentária!D:D,MATCH(Composições!A2617,Orçamentária!A:A,0),1))","v":"un"},null,"","",null,0]
[null,null,null,null,null,"","",null,0]
[null,null,"Vidraceiro com encargos complementares","h",0.3,20.539000000000001,6.1617000000000006,{"$f":"SUM(G2619:G2620)","v":6.1617000000000006},0]
[null,null,"Suporte para bandeira de vidro temperado, com ponto de giro para dobradiça. Ref.: Santa Marina / 1203; Belga Metais / 9203","un",1,0,0,null,0]
[null,null,null,null,null,"","",null,0]
["SF-00852",{"$f":"INDEX(Orçamentária!A:B,MATCH(Composições!A2622,Orçamentária!A:A,0),2)","v":"Suporte de canto, simples, para vidro temperado"},null,{"$f":"TRIM(INDEX(Orçamentária!D:D,MATCH(Composições!A2622,Orçamentária!A:A,0),1))","v":"un"},null,"","",null,0]
[null,null,null,null,null,"","",null,0]
[null,null,"Vidraceiro com encargos complementares","h",0.15,20.539000000000001,3.0808500000000003,{"$f":"SUM(G2624:G2625)","v":3.0808500000000003},0]
[null,null,"Suporte de canto, simples, para vidro temperado. Ref.: Santa Marina/1302; Belga Metais/9302","un",1,0,0,null,0]
[null,null,null,null,null,"","",null,0]
["SF-00853",{"$f":"INDEX(Orçamentária!A:B,MATCH(Composições!A2627,Orçamentária!A:A,0),2)","v":"Suporte de união, sem batedor, para dois ou três vidros temperados"},null,{"$f":"TRIM(INDEX(Orçamentária!D:D,MATCH(Composições!A2627,Orçamentária!A:A,0),1))","v":"un"},null,"","",null,0]
[null,null,null,null,null,"","",null,0]
[null,null,"Vidraceiro com encargos complementares","h",0.3,20.539000000000001,6.1617000000000006,{"$f":"SUM(G2629:G2630)","v":6.1617000000000006},0]
[null,null,"Suporte de união em \"L\" em latão fundido, sem batedor, para dois ou três vidros temperados de 10 mm. Ref.: Santa Marina/1310; Belga Metais/9310","un",1,0,0,null,0]
[null,null,null,null,null,"","",null,0]
[null,null,"OBS: Para o preço unitário do insumo, considerou-se 85% do preço da peça tipo 1308 da tabela TCPO/Pini, percentual esse verificado mediante pesquisa de mercado.",null,null,"","",null,0]
[null,null,null,null,null,"","",null,0]
["SF-00854",{"$f":"INDEX(Orçamentária!A:B,MATCH(Composições!A2634,Orçamentária!A:A,0),2)","v":"Botão de correção para vidro temperado"},null,{"$f":"TRIM(INDEX(Orçamentária!D:D,MATCH(Composições!A2634,Orçamentária!A:A,0),1))","v":"un"},null,"","",null,0]
[null,null,null,null,null,"","",null,0]
[null,null,"Vidraceiro com encargos complementares","h",0.15,20.539000000000001,3.0808500000000003,{"$f":"SUM(G2636:G2637)","v":3.0808500000000003},0]
[null,null,"Botão de correção fosco acetinado com parafuso. Ref.: Santa Marina/1002","un",1,0,0,null,0]
[null,null,null,null,null,"","",null,0]
["SF-00855",{"$f":"INDEX(Orçamentária!A:B,MATCH(Composições!A2639,Orçamentária!A:A,0),2)","v":"Fechadura bico-de-papagaio, com furo, para vidro temperado"},null,{"$f":"TRIM(INDEX(Orçamentária!D:D,MATCH(Composições!A2639,Orçamentária!A:A,0),1))","v":"un"},null,"","",null,0]
[null,null,null,null,null,"","",null,0]
[null,null,"Vidraceiro com encargos complementares","h",0.4,20.539000000000001,{"$f":"IF(ISNUMBER(F2641),E2641*F2641,\"\")","v":8.2156000000000002},{"$f":"SUM(G2641:G2642)","v":8.2156000000000002},0]
[null,null,"Fechadura bico-de-papagaio, com furo, para porta de correr em vidro temperado 10 mm. Ref.: Santa Marina / 3530; Belga Metais / 9510-F","un",1,"","",null,0]
[null,null,null,null,null,"","",null,0]
["SF-00856",{"$f":"INDEX(Orçamentária!A:B,MATCH(Composições!A2644,Orçamentária!A:A,0),2)","v":"Fechadura bico-de-papagaio, com furo, para janela de vidro temperado"},null,{"$f":"TRIM(INDEX(Orçamentária!D:D,MATCH(Composições!A2644,Orçamentária!A:A,0),1))","v":"un"},null,"","",null,0]
[null,null,null,null,null,"","",null,0]
[null,null,"Vidraceiro com encargos complementares","h",0.4,20.539000000000001,8.2156000000000002,{"$f":"SUM(G2646:G2647)","v":8.2156000000000002},0]
[null,null,"Fechadura bico-de-papagaio, com furo, para aplicação em janela de correr em vidro temperado 10 mm. Ref.: Santa Marina/3532; Belga Metais/9510-JF","un",1,"","",null,0]
[null,null,null,null,null,"","",null,0]
["SF-00857",{"$f":"INDEX(Orçamentária!A:B,MATCH(Composições!A2649,Orçamentária!A:A,0),2)","v":"Fechadura para porta de abrir de vidro temperado"},null,{"$f":"TRIM(INDEX(Orçamentária!D:D,MATCH(Composições!A2649,Orçamentária!A:A,0),1))","v":"un"},null,"","",null,0]
[null,null,null,null,null,"","",null,0]
[null,null,"Vidraceiro com encargos complementares","h",0.4,20.539000000000001,8.2156000000000002,{"$f":"SUM(G2651:G2652)","v":8.2156000000000002},0]
[null,null,"Fechadura para aplicação em porta de abrirem vidro temperado 10 mm. Ref.: Santa Marina/1520; Belga Metais/9520","un",1,"","",null,0]
[null,null,null,null,null,"","",null,0]
["SF-00858",{"$f":"INDEX(Orçamentária!A:B,MATCH(Composições!A2654,Orçamentária!A:A,0),2)","v":"Contra fechadura, para alvenaria, para porta com fechadura 1520/9520"},null,{"$f":"TRIM(INDEX(Orçamentária!D:D,MATCH(Composições!A2654,Orçamentária!A:A,0),1))","v":"un"},null,"","",null,0]
[null,null,null,null,null,"","",null,0]
[null,null,"Vidraceiro com encargos complementares","h",0.25,20.539000000000001,5.1347500000000004,{"$f":"SUM(G2656:G2657)","v":5.1347500000000004},0]
[null,null,"Contra fechadura, para alvenaria, para porta com fechadura 1520/952, aplicada em alvenaria junto a porta de abrirem vidro temperado 10 mm. Ref.: TQ Ferragens/1504; Santa Marina/1504; Belga Metais/1504","un",1,"","",null,0]
[null,null,null,null,null,"","",null,0]
["SF-00859",{"$f":"INDEX(Orçamentária!A:B,MATCH(Composições!A2659,Orçamentária!A:A,0),2)","v":"Contra fechadura de pressão para porta de vidro temperado"},null,{"$f":"TRIM(INDEX(Orçamentária!D:D,MATCH(Composições!A2659,Orçamentária!A:A,0),1))","v":"un"},null,"","",null,0]
[null,null,null,null,null,"","",null,0]
[null,null,"Vidraceiro com encargos complementares","h",0.25,20.539000000000001,5.1347500000000004,{"$f":"SUM(G2661:G2662)","v":5.1347500000000004},0]
[null,null,"Contra fechadura de pressão para porta de vidro temperado de 10 mm, usada com fechaduras de referência 1520SE / 9520PRD / 9520PRE. Ref.: Santa Marina/1504S; Belga Metais 9504S","un",1,"","",null,0]
[null,null,null,null,null,"","",null,0]
["SF-00860",{"$f":"INDEX(Orçamentária!A:B,MATCH(Composições!A2664,Orçamentária!A:A,0),2)","v":"Contra fechadura, com furo, para porta com furo"},null,{"$f":"TRIM(INDEX(Orçamentária!D:D,MATCH(Composições!A2664,Orçamentária!A:A,0),1))","v":"un"},null,"","",null,0]
[null,null,null,null,null,"","",null,0]
[null,null,"Vidraceiro com encargos complementares","h",0.25,20.539000000000001,5.1347500000000004,{"$f":"SUM(G2666:G2667)","v":5.1347500000000004},0]
[null,null,"Contra fechadura, com furo, para porta de correr com furo em vidro temperado 10 mm, usada com fechaduras de referência 3530/9510-F. Ref.: Santa Marina/3534; Belga Metais/9511-F","un",1,"","",null,0]
[null,null,null,null,null,"","",null,0]
["SF-00861",{"$f":"INDEX(Orçamentária!A:B,MATCH(Composições!A2669,Orçamentária!A:A,0),2)","v":"Trinco inferior, com miolo, para porta de vidro temperado"},null,{"$f":"TRIM(INDEX(Orçamentária!D:D,MATCH(Composições!A2669,Orçamentária!A:A,0),1))","v":"un"},null,"","",null,0]
[null,null,null,null,null,"","",null,0]
[null,null,"Vidraceiro com encargos complementares","h",0.25,20.539000000000001,5.1347500000000004,{"$f":"SUM(G2671:G2672)","v":5.1347500000000004},0]
[null,null,"Trinco inferior, com miolo, em latão fundido cromado, para porta de vidro temperado 10 mm. Ref.: Santa Marina/1502; Belga Metais/9502","un",1,0,0,null,0]
[null,null,null,null,null,"","",null,0]
["SF-00862",{"$f":"INDEX(Orçamentária!A:B,MATCH(Composições!A2674,Orçamentária!A:A,0),2)","v":"Mola hidráulica BTS 75R"},null,{"$f":"TRIM(INDEX(Orçamentária!D:D,MATCH(Composições!A2674,Orçamentária!A:A,0),1))","v":"un"},null,"","",null,0]
[null,null,null,null,null,"","",null,0]
[null,null,"Vidraceiro com encargos complementares","h",0.75,20.539000000000001,15.404250000000001,{"$f":"SUM(G2676:G2681)","v":43.031124000000005},0]
[null,null,"Servente com Encargos Complementares","h",0.3,16.311500000000002,4.8934500000000005,null,0]
[null,null,"Impermeabilizante Dorma SealProtect","un",1,"","",null,0]
[null,null,"Mola Hidráulica de piso universal para portas de batente e portas vai-e-vem em aço inoxidável. Ref.: DORMA, modelo BTS 75V, com eixo intercambiável tipo \"B\"","un",1,"","",null,0]
[null,null,"Vidraceiro com encargos complementares","h",{"$f":"0.5*2.1*0.8","v":0.84000000000000008},20.539000000000001,17.252760000000002,null,0]
[null,null,"Servente com Encargos Complementares","h",{"$f":"0.2*2.1*0.8","v":0.33600000000000008},16.311500000000002,5.4806640000000018,null,0]
[null,null,null,null,null,"","",null,0]
[null,null,"Obs: considerando remoção de uma folha de 2,10 m x 0,80 m.",null,null,"","",null,0]
[null,null,null,null,null,"","",null,0]
["SF-00863",{"$f":"INDEX(Orçamentária!A:B,MATCH(Composições!A2685,Orçamentária!A:A,0),2)","v":"Puxador redondo, padrão em poliéster, para porta de vidro temperado"},null,{"$f":"TRIM(INDEX(Orçamentária!D:D,MATCH(Composições!A2685,Orçamentária!A:A,0),1))","v":"un"},null,"","",null,0]
[null,null,null,null,null,"","",null,0]
[null,null,"Vidraceiro com encargos complementares","h",0.2,20.539000000000001,4.1078000000000001,{"$f":"SUM(G2687:G2688)","v":4.1078000000000001},0]
[null,null,"Puxador para porta de vidro temperado redondo duplo em resina poliéster incolor com aditivo anti-UV com 110-135 mm de diâmetro. Ref.: 1608 e 1609, Poliforma Alumínios e Ferragens; 1613, Aço Metais","un",1,"","",null,0]
[null,null,null,null,null,"","",null,0]
["SF-00864",{"$f":"INDEX(Orçamentária!A:B,MATCH(Composições!A2690,Orçamentária!A:A,0),2)","v":"Puxador em aço inox sob medida – Tipo A"},null,{"$f":"TRIM(INDEX(Orçamentária!D:D,MATCH(Composições!A2690,Orçamentária!A:A,0),1))","v":"un"},null,"","",null,0]
[null,null,null,null,null,"","",null,0]
[null,null,"Vidraceiro com encargos complementares","h",0.4,20.539000000000001,8.2156000000000002,{"$f":"SUM(G2692:G2693)","v":8.2156000000000002},0]
[null,null,"Puxador para porta de vidro temperado em aço inox, sob medida, tipo A","un",1,"","",null,0]
[null,null,null,null,null,"","",null,0]
["SF-00865",{"$f":"INDEX(Orçamentária!A:B,MATCH(Composições!A2695,Orçamentária!A:A,0),2)","v":"Dobradiça superior para porta de vidro temperado"},null,{"$f":"TRIM(INDEX(Orçamentária!D:D,MATCH(Composições!A2695,Orçamentária!A:A,0),1))","v":"un"},null,"","",null,0]
[null,null,null,null,null,"","",null,0]
[null,null,"Vidraceiro com encargos complementares","h",0.3,20.539000000000001,6.1617000000000006,{"$f":"SUM(G2697:G2698)","v":6.1617000000000006},0]
[null,null,"Dobradiça superior para porta de vidro temperado, em latão fundido cromado. Ref.: Santa Marina / 1101 ou Belga Metais / 9101","un",1,0,0,null,0]
[null,null,null,null,null,"","",null,0]
["SF-00866",{"$f":"INDEX(Orçamentária!A:B,MATCH(Composições!A2700,Orçamentária!A:A,0),2)","v":"Perfil em alumínio, tipo U - abas iguais - PU 5/8\" x 5/8\" – espessura 1,58mm"},null,{"$f":"TRIM(INDEX(Orçamentária!D:D,MATCH(Composições!A2700,Orçamentária!A:A,0),1))","v":"m"},null,"","",null,0]
[null,null,null,null,null,"","",null,0]
[null,null,"Vidraceiro com encargos complementares","h",0.2,20.539000000000001,4.1078000000000001,{"$f":"SUM(G2702:G2703)","v":9.5823649999999994},0]
[null,null,"PERFIL DE ALUMINIO ANODIZADO","kg",0.19,28.813499999999998,5.4745649999999992,null,0]
[null,null,null,null,null,"","",null,0]
[null,null,"Obs: Perfil em alumínio anodizado, tipo U - abas iguais - PU 5/8\" x 5/8\" – espessura 1,58mm",null,null,"",{"$f":"IF(ISNUMBER(F2705),E2705*F2705,\"\")","v":""},null,0]
[null,null,"Fonte do coeficiente: http://www.estreladosmetais.com.br/pag_metal_aluminio_perfil_u_igual.php",null,null,"","",null,0]
[null,null,null,null,null,"","",null,0]
["SF-00867",{"$f":"INDEX(Orçamentária!A:B,MATCH(Composições!A2708,Orçamentária!A:A,0),2)","v":"Trilho superior em alumínio 60mm x 49,5mm, para vidro temperado"},null,{"$f":"TRIM(INDEX(Orçamentária!D:D,MATCH(Composições!A2708,Orçamentária!A:A,0),1))","v":"m"},null,"","",null,0]
[null,null,null,null,null,"","",null,0]
[null,null,"Vidraceiro com encargos complementares","h",0.3,20.539000000000001,6.1617000000000006,{"$f":"SUM(G2710:G2711)","v":28.434535499999999},0]
[null,null,"PERFIL DE ALUMINIO ANODIZADO","kg",0.77300000000000002,28.813499999999998,22.272835499999999,null,0]
[null,null,null,null,null,"","",null,0]
[null,null,"Obs: Trilho superior em alumínio anodizado 60mm x 49,5mm, para vidro temperado. Ref.: AL-0051",null,null,"","",null,0]
[null,null,"Fonte do coeficiente: http://www.ferragensdbf.com.br/produtos-aluminio.html",null,null,"","",null,0]
[null,null,null,null,null,"","",null,0]
["SF-00868",{"$f":"INDEX(Orçamentária!A:B,MATCH(Composições!A2716,Orçamentária!A:A,0),2)","v":"Perfil em alumínio para acabamento de trilho superior"},null,{"$f":"TRIM(INDEX(Orçamentária!D:D,MATCH(Composições!A2716,Orçamentária!A:A,0),1))","v":"m"},null,"","",null,0]
[null,null,null,null,null,"","",null,0]
[null,null,"Vidraceiro com encargos complementares","h",0.2,20.539000000000001,4.1078000000000001,{"$f":"SUM(G2718:G2719)","v":12.204393500000002},0]
[null,null,"PERFIL DE ALUMINIO ANODIZADO","kg",0.28100000000000003,28.813499999999998,8.0965935000000009,null,0]
[null,null,null,null,null,"","",null,0]
[null,null,"Obs: Perfil guia inferior de alumínio anodizado 39,3 mm x 24 mm para vidro temperado 10mm. Ref.: Perfil Guia Inferior AL-0005",null,null,"","",null,0]
[null,null,"Fonte do coeficiente: http://www.ferragensdbf.com.br/produtos-aluminio.html",null,null,"","",null,0]
[null,null,null,null,null,"","",null,0]
["SF-00869",{"$f":"INDEX(Orçamentária!A:B,MATCH(Composições!A2724,Orçamentária!A:A,0),2)","v":"Perfil guia inferior de alumínio 39,3 mm x 24 mm para vidro temperado 10mm"},null,{"$f":"TRIM(INDEX(Orçamentária!D:D,MATCH(Composições!A2724,Orçamentária!A:A,0),1))","v":"m"},null,"","",null,0]
[null,null,null,null,null,"","",null,0]
[null,null,"Vidraceiro com encargos complementares","h",0.3,20.539000000000001,6.1617000000000006,{"$f":"SUM(G2726:G2727)","v":19.156588500000002},0]
[null,null,"PERFIL DE ALUMINIO ANODIZADO","kg",0.45100000000000001,28.813499999999998,12.9948885,null,0]
[null,null,null,null,null,"","",null,0]
[null,null,"Obs: Perfil guia inferior de alumínio anodizado 39,3 mm x 24 mm para vidro temperado 10mm. Ref.: Perfil Guia Inferior AL-0005",null,null,"","",null,0]
[null,null,"Fonte do coeficiente: http://www.ferragensdbf.com.br/produtos-aluminio.html",null,null,"","",null,0]
[null,null,null,null,null,"","",null,0]
["SF-00870",{"$f":"INDEX(Orçamentária!A:B,MATCH(Composições!A2732,Orçamentária!A:A,0),2)","v":"Capa do Perfil Guia Inferior “Click”"},null,{"$f":"TRIM(INDEX(Orçamentária!D:D,MATCH(Composições!A2732,Orçamentária!A:A,0),1))","v":"m"},null,"","",null,0]
[null,null,null,null,null,"","",null,0]
[null,null,"Vidraceiro com encargos complementares","h",0.15,20.539000000000001,3.0808500000000003,{"$f":"SUM(G2734:G2735)","v":6.2503349999999998},0]
[null,null,"PERFIL DE ALUMINIO ANODIZADO","kg",0.11,28.813499999999998,3.1694849999999999,null,0]
[null,null,null,null,null,"","",null,0]
[null,null,"Obs: Perfil Guia Inferior “Click” de alumínio anodizado. Ref.: Perfil AL-0013",null,null,"","",null,0]
[null,null,"Fonte do coeficiente: http://www.ferragensdbf.com.br/produtos-aluminio.html",null,null,"","",null,0]
[null,null,null,null,null,"","",null,0]
["SF-00871",{"$f":"INDEX(Orçamentária!A:B,MATCH(Composições!A2740,Orçamentária!A:A,0),2)","v":"Dobradiça inferior para porta de vidro temperado"},null,{"$f":"TRIM(INDEX(Orçamentária!D:D,MATCH(Composições!A2740,Orçamentária!A:A,0),1))","v":"un"},null,"","",null,0]
[null,null,null,null,null,"","",null,0]
[null,null,"Vidraceiro com encargos complementares","h",0.3,20.539000000000001,6.1617000000000006,{"$f":"SUM(G2742:G2743)","v":6.1617000000000006},0]
[null,null,"Dobradiça inferior para porta de vidro temperado, em latão fundido cromado. Ref.: Santa Marina / 1103; Belga Metais / 9103","un",1,0,0,null,0]
[null,null,null,null,null,"","",null,0]
["SF-00872",{"$f":"INDEX(Orçamentária!A:B,MATCH(Composições!A2745,Orçamentária!A:A,0),2)","v":"Escova de vedação para vidro temperado"},null,{"$f":"TRIM(INDEX(Orçamentária!D:D,MATCH(Composições!A2745,Orçamentária!A:A,0),1))","v":"m"},null,"","",null,0]
[null,null,null,null,null,"","",null,0]
[null,null,"Vidraceiro com encargos complementares","h",0.3,20.539000000000001,6.1617000000000006,{"$f":"SUM(G2747:G2748)","v":6.1617000000000006},0]
[null,null,"Escova de vedação para aplicação em janela ou porta de vidro temperado, autocolante ou de encaixe, na cor preta, branca ou cinza alumínio, entre 5mm e 7mm de base. Ref.: 290-1 (vidromax) 5x5 preto; Seal; VBrasil; Aluinter","un",1,"","",null,0]
[null,null,null,null,null,"","",null,0]
["SF-00873",{"$f":"INDEX(Orçamentária!A:B,MATCH(Composições!A2750,Orçamentária!A:A,0),2)","v":"Roldana simples para porta de correr em vidro temperado"},null,{"$f":"TRIM(INDEX(Orçamentária!D:D,MATCH(Composições!A2750,Orçamentária!A:A,0),1))","v":"un"},null,"","",null,0]
[null,null,null,null,null,"","",null,0]
[null,null,"Vidraceiro com encargos complementares","h",0.15,20.539000000000001,3.0808500000000003,{"$f":"SUM(G2752:G2753)","v":3.0808500000000003},0]
[null,null,"Roldana simples em nylon para porta ou janela de correr de vidro temperado. Ref.: Santa Marina/1125N; Belga Metais/9125","un",1,"","",null,0]
[null,null,null,null,null,"","",null,0]
["SF-00874",{"$f":"INDEX(Orçamentária!A:B,MATCH(Composições!A2755,Orçamentária!A:A,0),2)","v":"Roldana dupla para porta de correr em vidro temperado"},null,{"$f":"TRIM(INDEX(Orçamentária!D:D,MATCH(Composições!A2755,Orçamentária!A:A,0),1))","v":"un"},null,"","",null,0]
[null,null,null,null,null,"","",null,0]
[null,null,"Vidraceiro com encargos complementares","h",0.15,20.539000000000001,3.0808500000000003,{"$f":"SUM(G2757:G2758)","v":3.0808500000000003},0]
[null,null,"Roldana dupla em nylon para porta ou janela de correr de vidro temperado. Ref.: Santa Marina/1125N; Belga Metais/9125","un",1,"","",null,0]
[null,null,null,null,null,"","",null,0]
["SF-00875",{"$f":"INDEX(Orçamentária!A:B,MATCH(Composições!A2760,Orçamentária!A:A,0),2)","v":"Capuchinho para trinco para vidro temperado"},null,{"$f":"TRIM(INDEX(Orçamentária!D:D,MATCH(Composições!A2760,Orçamentária!A:A,0),1))","v":"un"},null,"","",null,0]
[null,null,null,null,null,"","",null,0]
[null,null,"Vidraceiro com encargos complementares","h",0.1,20.539000000000001,2.0539000000000001,{"$f":"SUM(G2762:G2763)","v":2.0539000000000001},0]
[null,null,"Capuchinho para trinco para vidro temperado, com furo de 8 ou 10 mm, em latão fundido. Ref.: Santa Marina/1037; Santa Marina/1038; Belga Metais/9038","un",1,0,0,null,0]
[null,null,null,null,null,"","",null,0]
["SF-00876",{"$f":"INDEX(Orçamentária!A:B,MATCH(Composições!A2765,Orçamentária!A:A,0),2)","v":"Facão simples para lateral e bandeira de vidro temperado"},null,{"$f":"TRIM(INDEX(Orçamentária!D:D,MATCH(Composições!A2765,Orçamentária!A:A,0),1))","v":"un"},null,"","",null,0]
[null,null,null,null,null,"","",null,0]
[null,null,"Vidraceiro com encargos complementares","h",0.4,20.539000000000001,8.2156000000000002,{"$f":"SUM(G2767:G2768)","v":8.2156000000000002},0]
[null,null,"Facão simples para lateral e bandeira de vidro temperado 10 mm, com ponto de giro para dobradiça superior, em latão fundido cromado. Ref.: Santa Marina/1209; Belga Metais/9209","un",1,0,0,null,0]
[null,null,null,null,null,"",{"$f":"IF(ISNUMBER(F2769),E2769*F2769,\"\")","v":""},null,0]
["SF-00877",{"$f":"INDEX(Orçamentária!A:B,MATCH(Composições!A2770,Orçamentária!A:A,0),2)","v":"Fechadura de pressão para porta de abrir em vidro temperado"},null,{"$f":"TRIM(INDEX(Orçamentária!D:D,MATCH(Composições!A2770,Orçamentária!A:A,0),1))","v":"un"},null,"","",null,0]
[null,null,null,null,null,"","",null,0]
[null,null,"Vidraceiro com encargos complementares","h",0.4,20.539000000000001,8.2156000000000002,{"$f":"SUM(G2772:G2773)","v":8.2156000000000002},0]
[null,null,"Fechadura de pressão para porta de abrir em vidro temperado 10 mm. Ref.: Belga  Metais/9520-PRD (lado direito); Santa Marina/1520SE; Belga Metais/9520-PRE (lado esquerdo)","un",1,"","",null,0]
[null,null,null,null,null,"","",null,0]
["SF-00878",{"$f":"INDEX(Orçamentária!A:B,MATCH(Composições!A2775,Orçamentária!A:A,0),2)","v":"Suporte de união, com miolo, para vidro temperado"},null,{"$f":"TRIM(INDEX(Orçamentária!D:D,MATCH(Composições!A2775,Orçamentária!A:A,0),1))","v":"un"},null,"","",null,0]
[null,null,null,null,null,"","",null,0]
[null,null,"Vidraceiro com encargos complementares","h",0.3,20.539000000000001,6.1617000000000006,{"$f":"SUM(G2777:G2778)","v":6.1617000000000006},0]
[null,null,"Suporte de união, com miolo, para vidro temperado de 10 mm, em latão fundido cromado. Ref.: Santa Marina/1306; Belga Metais/9306","un",1,0,0,null,0]
[null,null,null,null,null,"","",null,0]
["SF-00879",{"$f":"INDEX(Orçamentária!A:B,MATCH(Composições!A2780,Orçamentária!A:A,0),2)","v":"Suporte para basculante e pivotante de vidro temperado"},null,{"$f":"TRIM(INDEX(Orçamentária!D:D,MATCH(Composições!A2780,Orçamentária!A:A,0),1))","v":"un"},null,"","",null,0]
[null,null,null,null,null,"","",null,0]
[null,null,"Vidraceiro com encargos complementares","h",0.2,20.539000000000001,4.1078000000000001,{"$f":"SUM(G2782:G2783)","v":4.1078000000000001},0]
[null,null,"Suporte para basculante e pivotante de vidro temperado 10 mm, em latão fundido cromado. Ref.: Santa Marina/1230; Belga Metais/9230","un",1,0,0,null,0]
[null,null,null,null,null,"","",null,0]
["SF-00880",{"$f":"INDEX(Orçamentária!A:B,MATCH(Composições!A2785,Orçamentária!A:A,0),2)","v":"Trinco central para basculante em vidro temperado"},null,{"$f":"TRIM(INDEX(Orçamentária!D:D,MATCH(Composições!A2785,Orçamentária!A:A,0),1))","v":"un"},null,"","",null,0]
[null,null,null,null,null,"","",null,0]
[null,null,"Vidraceiro com encargos complementares","h",0.2,20.539000000000001,4.1078000000000001,{"$f":"SUM(G2787:G2788)","v":4.1078000000000001},0]
[null,null,"Trinco central para basculante em vidro temperado 10 mm, em latão fundido cromado. Ref.: Santa Marina/1523; Belga Metais/9523","un",1,0,0,null,0]
[null,null,null,null,null,"","",null,0]
["SF-00881",{"$f":"INDEX(Orçamentária!A:B,MATCH(Composições!A2790,Orçamentária!A:A,0),2)","v":"Vidro laminado incolor de 8mm de espessura"},null,{"$f":"TRIM(INDEX(Orçamentária!D:D,MATCH(Composições!A2790,Orçamentária!A:A,0),1))","v":"m2"},null,"","",null,0]
[null,null,null,null,null,"","",null,0]
[null,null,"Vidro laminado incolor de 8mm de espessura","m2",1,0,0,{"$f":"SUM(G2792:G2795)","v":29.326500000000003},0]
[null,null,"Vidraceiro com encargos complementares","h",0.5,20.539000000000001,10.269500000000001,null,0]
[null,null,"Servente com Encargos Complementares","h",0.5,16.311500000000002,8.1557500000000012,null,0]
[null,null,"Massa para vidro","Kg",1.5,7.2675000000000001,10.901250000000001,null,0]
[null,null,null,null,null,"","",null,0]
["SF-00883",{"$f":"INDEX(Orçamentária!A:B,MATCH(Composições!A2797,Orçamentária!A:A,0),2)","v":"Dobradiça automática para box de vidro temperado"},null,{"$f":"TRIM(INDEX(Orçamentária!D:D,MATCH(Composições!A2797,Orçamentária!A:A,0),1))","v":"un"},null,"","",null,0]
[null,null,null,null,null,"","",null,0]
[null,null,"Vidraceiro com encargos complementares","h",0.2,20.539000000000001,4.1078000000000001,{"$f":"SUM(G2799:G2800)","v":4.1078000000000001},0]
[null,null,"Dobradiça automática para Box de vidro temperado. Ref.: Belga Metais/9114 e Belga Metais/9115","un",1,"","",null,0]
[null,null,null,null,null,"","",null,0]
["SF-00884",{"$f":"INDEX(Orçamentária!A:B,MATCH(Composições!A2802,Orçamentária!A:A,0),2)","v":"Dobradiça horizontal para vidro basculante com trinco"},null,{"$f":"TRIM(INDEX(Orçamentária!D:D,MATCH(Composições!A2802,Orçamentária!A:A,0),1))","v":"un"},null,"","",null,0]
[null,null,null,null,null,"","",null,0]
[null,null,"Vidraceiro com encargos complementares","h",0.2,20.539000000000001,4.1078000000000001,{"$f":"SUM(G2804:G2805)","v":4.1078000000000001},0]
[null,null,"Dobradiça horizontal, com trinco central, para janela tipo basculante de vidro temperado com 8mm ou 10mm de espessura. Ref.: Belga Metais/9123-A","un",1,"","",null,0]
[null,null,null,null,null,"","",null,0]
["SF-00885",{"$f":"INDEX(Orçamentária!A:B,MATCH(Composições!A2807,Orçamentária!A:A,0),2)","v":"Dobradiça horizontal para vidro basculante"},null,{"$f":"TRIM(INDEX(Orçamentária!D:D,MATCH(Composições!A2807,Orçamentária!A:A,0),1))","v":"un"},null,"","",null,0]
[null,null,null,null,null,"","",null,0]
[null,null,"Vidraceiro com encargos complementares","h",0.2,20.539000000000001,4.1078000000000001,{"$f":"SUM(G2809:G2810)","v":4.1078000000000001},0]
[null,null,"Dobradiça horizontal, sem trinco, para janela tipo basculante de vidro temperado com 8mm ou 10mm de espessura. Ref.: Belga Metais/9123","un",1,"","",null,0]
[null,null,null,null,null,"","",null,0]
["SF-00886",{"$f":"INDEX(Orçamentária!A:B,MATCH(Composições!A2812,Orçamentária!A:A,0),2)","v":"Fechadura elétrica para porta de vidro temperado"},null,{"$f":"TRIM(INDEX(Orçamentária!D:D,MATCH(Composições!A2812,Orçamentária!A:A,0),1))","v":"un"},null,"","",null,0]
[null,null,null,null,null,"","",null,0]
[null,null,"Vidraceiro com encargos complementares","h",1.5,20.539000000000001,30.808500000000002,{"$f":"SUM(G2814:G2815)","v":30.808500000000002},0]
[null,null,"Fechadura elétrica para porta de vidro temperado com 8mm ou 10mm de espessura, acabamento cromado. Ref.: Fechadura Modelo FV35ICR / FV35ECRA / FV32ICR / FV32IPR / FV32ICRA / FV32ECRA, fabricante Amelco","un",1,"","",null,0]
[null,null,null,null,null,"","",null,0]
["SF-00887",{"$f":"INDEX(Orçamentária!A:B,MATCH(Composições!A2817,Orçamentária!A:A,0),2)","v":"Porteiro eletrônico"},null,{"$f":"TRIM(INDEX(Orçamentária!D:D,MATCH(Composições!A2817,Orçamentária!A:A,0),1))","v":"un"},null,"","",null,0]
[null,null,null,null,null,"","",null,0]
[null,null,"Vidraceiro com encargos complementares","h",1.5,20.539000000000001,30.808500000000002,{"$f":"SUM(G2819:G2820)","v":30.808500000000002},0]
[null,null,"Porteiro eletrônico residencial. Ref.: Amelco AM-m²00","un",1,"","",null,0]
[null,null,null,null,null,"","",null,0]
["SF-00888",{"$f":"INDEX(Orçamentária!A:B,MATCH(Composições!A2822,Orçamentária!A:A,0),2)","v":"Acionador fixo"},null,{"$f":"TRIM(INDEX(Orçamentária!D:D,MATCH(Composições!A2822,Orçamentária!A:A,0),1))","v":"un"},null,"","",null,0]
[null,null,null,null,null,"","",null,0]
[null,null,"Vidraceiro com encargos complementares","h",1,20.539000000000001,20.539000000000001,{"$f":"SUM(G2824:G2825)","v":20.539000000000001},0]
[null,null,"Acionador de fechadura elétrica para porta de vidro temperado com 01 acionador fixo. Ref.; Amelco AF62UP","un",1,"","",null,0]
[null,null,null,null,null,"","",null,0]
["SF-00889",{"$f":"INDEX(Orçamentária!A:B,MATCH(Composições!A2827,Orçamentária!A:A,0),2)","v":"Mini chapinha para trinco basculante"},null,{"$f":"TRIM(INDEX(Orçamentária!D:D,MATCH(Composições!A2827,Orçamentária!A:A,0),1))","v":"un"},null,"","",null,0]
[null,null,null,null,null,"","",null,0]
[null,null,"Vidraceiro com encargos complementares","h",0.1,20.539000000000001,2.0539000000000001,{"$f":"SUM(G2829:G2830)","v":2.0539000000000001},0]
[null,null,"Mini chapinha para trinco de janela basculante em vidro temperado 8 ou 10 mm, em latão fundido cromado. Ref.: Belga Metais/9801-M","un",1,"","",null,0]
[null,null,null,null,null,"","",null,0]
["SF-00890",{"$f":"INDEX(Orçamentária!A:B,MATCH(Composições!A2832,Orçamentária!A:A,0),2)","v":"Puxador de latão - diâmetro 25mm"},null,{"$f":"TRIM(INDEX(Orçamentária!D:D,MATCH(Composições!A2832,Orçamentária!A:A,0),1))","v":"un"},null,"","",null,0]
[null,null,null,null,null,"",{"$f":"IF(ISNUMBER(F2833),E2833*F2833,\"\")","v":""},null,0]
[null,null,"Vidraceiro com encargos complementares","h",0.2,20.539000000000001,4.1078000000000001,{"$f":"SUM(G2834:G2835)","v":4.1078000000000001},0]
[null,null,"Puxador de latão polido - diâmetro 25mm, para portas e janelas de vidro temperado. Ref.: Belga Metais/9629","un",1,"","",null,0]
[null,null,null,null,null,"","",null,0]
["SF-00891",{"$f":"INDEX(Orçamentária!A:B,MATCH(Composições!A2837,Orçamentária!A:A,0),2)","v":"Trinco sem miolo para vidro temperado"},null,{"$f":"TRIM(INDEX(Orçamentária!D:D,MATCH(Composições!A2837,Orçamentária!A:A,0),1))","v":"un"},null,"","",null,0]
[null,null,null,null,null,"","",null,0]
[null,null,"Vidraceiro com encargos complementares","h",0.2,20.539000000000001,4.1078000000000001,{"$f":"SUM(G2839:G2840)","v":4.1078000000000001},0]
[null,null,"Trinco sem miolo, para vidro temperado 8mm ou 10 mm, funcionando como suporte inferior de centro, em latão fundido cromado. Ref.: Belga Metais/9335","un",1,"","",null,0]
[null,null,null,null,null,"","",null,0]
["SF-00892",{"$f":"INDEX(Orçamentária!A:B,MATCH(Composições!A2842,Orçamentária!A:A,0),2)","v":"Tubo de alumínio quadrado 50x50"},null,{"$f":"TRIM(INDEX(Orçamentária!D:D,MATCH(Composições!A2842,Orçamentária!A:A,0),1))","v":"m"},null,"","",null,0]
[null,null,null,null,null,"","",null,0]
[null,null,"Vidraceiro com encargos complementares","h",0.25,20.539000000000001,5.1347500000000004,{"$f":"SUM(G2844:G2845)","v":29.712665499999996},0]
[null,null,"PERFIL DE ALUMINIO ANODIZADO","kg",0.85299999999999998,28.813499999999998,24.577915499999996,null,0]
[null,null,null,null,null,"","",null,0]
[null,null,"Obs: Tubo de alumínio quadrado 50x50, para fixação de painéis em vidro temperado de 8mm ou 10 mm",null,null,"","",null,0]
[null,null,"Fonte do coeficiente: http://www.ferragensdbf.com.br/produtos-aluminio.html",null,null,"","",null,0]
[null,null,null,null,null,"","",null,0]
["SF-00893",{"$f":"INDEX(Orçamentária!A:B,MATCH(Composições!A2850,Orçamentária!A:A,0),2)","v":"Veda fresta adesivo “E” branco"},null,{"$f":"TRIM(INDEX(Orçamentária!D:D,MATCH(Composições!A2850,Orçamentária!A:A,0),1))","v":"m"},null,"","",null,0]
[null,null,null,null,null,"","",null,0]
[null,null,"Vidraceiro com encargos complementares","h",0.2,20.539000000000001,4.1078000000000001,{"$f":"SUM(G2852:G2853)","v":4.1078000000000001},0]
[null,null,"Veda fresta adesivo “E” em PVC branco, elemento vedante adesivo para portas e janelas","m",0.11899999999999999,"","",null,0]
[null,null,null,null,null,"","",null,0]
["SF-00894",{"$f":"INDEX(Orçamentária!A:B,MATCH(Composições!A2855,Orçamentária!A:A,0),2)","v":"Vedapress 10mm"},null,{"$f":"TRIM(INDEX(Orçamentária!D:D,MATCH(Composições!A2855,Orçamentária!A:A,0),1))","v":"m"},null,"","",null,0]
[null,null,null,null,null,"","",null,0]
[null,null,"Vidraceiro com encargos complementares","h",0.3,20.539000000000001,6.1617000000000006,{"$f":"SUM(G2857:G2858)","v":9.5905065},0]
[null,null,"PERFIL DE ALUMINIO ANODIZADO","kg",0.11899999999999999,28.813499999999998,3.4288064999999994,null,0]
[null,null,null,null,null,"","",null,0]
[null,null,"Obs: Vedapress 10mm, elemento vedante para portas e janelas de vidro temperado de 8mm ou 10 mm. Ref.: AL-15 - Poliformas alumínio e ferragens",null,null,"","",null,0]
[null,null,"Fonte do coeficiente: http://www.alumipremium.com/produto/al15",null,null,"","",null,0]
[null,null,null,null,null,"","",null,0]
["SF-00895",{"$f":"INDEX(Orçamentária!A:B,MATCH(Composições!A2863,Orçamentária!A:A,0),2)","v":"Regulagem de ferragens"},null,{"$f":"TRIM(INDEX(Orçamentária!D:D,MATCH(Composições!A2863,Orçamentária!A:A,0),1))","v":"un"},null,"","",null,0]
[null,null,null,null,null,"","",null,0]
[null,null,"Vidraceiro com encargos complementares","h",1.5,20.539000000000001,30.808500000000002,{"$f":"SUM(G2865:G2865)","v":30.808500000000002},0]
[null,null,null,null,null,"","",null,0]
["SF-00896",{"$f":"INDEX(Orçamentária!A:B,MATCH(Composições!A2867,Orçamentária!A:A,0),2)","v":"Vidro fumê / bronze temperado 10mm"},null,{"$f":"TRIM(INDEX(Orçamentária!D:D,MATCH(Composições!A2867,Orçamentária!A:A,0),1))","v":"m2"},null,"","",null,0]
[null,null,null,null,null,"","",null,0]
[null,null,"Vidraceiro com encargos complementares","h",0.5,20.539000000000001,10.269500000000001,{"$f":"SUM(G2869:G2872)","v":29.326500000000003},0]
[null,null,"Servente com Encargos Complementares","h",0.5,16.311500000000002,8.1557500000000012,null,0]
[null,null,"Massa para vidro","Kg",1.5,7.2675000000000001,10.901250000000001,null,0]
[null,null,"Vidro fumê/bronze temperado 10mm","m2",1,"","",null,0]
[null,null,null,null,null,"","",null,0]
["SF-00897",{"$f":"INDEX(Orçamentária!A:B,MATCH(Composições!A2874,Orçamentária!A:A,0),2)","v":"Puxador em aço inox sob medida – Tipo B"},null,{"$f":"TRIM(INDEX(Orçamentária!D:D,MATCH(Composições!A2874,Orçamentária!A:A,0),1))","v":"un"},null,"","",null,0]
[null,null,null,null,null,"","",null,0]
[null,null,"Vidraceiro com encargos complementares","h",0.4,20.539000000000001,8.2156000000000002,{"$f":"SUM(G2876:G2877)","v":8.2156000000000002},0]
[null,null,"Puxador para porta de vidro temperado em aço inox, sob medida, tipo B","un",1,"","",null,0]
[null,null,null,null,null,"","",null,0]
["SF-00898",{"$f":"INDEX(Orçamentária!A:B,MATCH(Composições!A2879,Orçamentária!A:A,0),2)","v":"Armação de aço CA-50 bitolas de 5,0mm a 8,00mm"},null,{"$f":"TRIM(INDEX(Orçamentária!D:D,MATCH(Composições!A2879,Orçamentária!A:A,0),1))","v":"kg"},null,"","",null,0]
[null,null,null,null,null,"","",null,0]
[null,null,"ARAME RECOZIDO 16 BWG, D = 1,65 MM (0,016 KG/M) OU 18 BWG, D = 1,25 MM (0,01 KG/M)","KG",2.5000000000000001E-2,14.154999999999999,0.353875,{"$f":"SUM(G2881:G2885)","v":10.681575799999999},0]
[null,null,"ESPACADOR / DISTANCIADOR CIRCULAR COM ENTRADA LATERAL, EM PLASTICO, PARA VERGALHAO *4,2 A 12,5* MM, COBRIMENTO 20 MM","UN",0.74299999999999999,0.13300000000000001,9.8819000000000004E-2,null,0]
[null,null,"AJUDANTE DE ARMADOR COM ENCARGOS COMPLEMENTARES","H",2.0899999999999998E-2,17.081,0.35699289999999995,null,0]
[null,null,"ARMADOR COM ENCARGOS COMPLEMENTARES","H",0.1278,21.973499999999998,2.8082132999999998,null,0]
[null,null,"CORTE E DOBRA DE AÇO CA-50, DIÂMETRO DE 8,0 MM, UTILIZADO EM ESTRUTURAS DIVERSAS, EXCETO LAJES. AF_12/2015","KG",1,7.0636755999999998,7.0636755999999998,null,0]
[null,null,null,null,null,"","",null,0]
["SF-00899",{"$f":"INDEX(Orçamentária!A:B,MATCH(Composições!A2887,Orçamentária!A:A,0),2)","v":"Pivô para dobradiça inferior (Montagem com a 1103-TQ)"},null,{"$f":"TRIM(INDEX(Orçamentária!D:D,MATCH(Composições!A2887,Orçamentária!A:A,0),1))","v":"un"},null,"","",null,0]
[null,null,null,null,null,"","",null,0]
[null,null,"Vidraceiro com encargos complementares","h",0.2,20.539000000000001,4.1078000000000001,{"$f":"SUM(G2889:G2890)","v":4.1078000000000001},0]
[null,null,"Pivô para dobradiça inferior (montagem com a 1103- TQ) para porta em vidro temperado","un",1,"","",null,0]
[null,null,null,null,null,"","",null,0]
["SF-00900",{"$f":"INDEX(Orçamentária!A:B,MATCH(Composições!A2892,Orçamentária!A:A,0),2)","v":"Dobradiça direita inferior excêntrica"},null,{"$f":"TRIM(INDEX(Orçamentária!D:D,MATCH(Composições!A2892,Orçamentária!A:A,0),1))","v":"un"},null,"","",null,0]
[null,null,null,null,null,"","",null,0]
[null,null,"Vidraceiro com encargos complementares","h",0.3,20.539000000000001,6.1617000000000006,{"$f":"SUM(G2894:G2895)","v":6.1617000000000006},0]
[null,null,"Dobradiça direita inferior excêntrica para porta pivotante em vidro temperado, dimensões máximas recomendadas 1000 x 2100 mm ou 900 x 2400 mm","un",1,"","",null,0]
[null,null,null,null,null,"","",null,0]
["SF-00901",{"$f":"INDEX(Orçamentária!A:B,MATCH(Composições!A2897,Orçamentária!A:A,0),2)","v":"Dobradiça esquerda inferior excêntrica"},null,{"$f":"TRIM(INDEX(Orçamentária!D:D,MATCH(Composições!A2897,Orçamentária!A:A,0),1))","v":"un"},null,"",{"$f":"IF(ISNUMBER(F2897),E2897*F2897,\"\")","v":""},null,0]
[null,null,null,null,null,"","",null,0]
[null,null,"Vidraceiro com encargos complementares","h",0.3,20.539000000000001,6.1617000000000006,{"$f":"SUM(G2899:G2900)","v":6.1617000000000006},0]
[null,null,"Dobradiça esquerda inferior excêntrica para porta pivotante em vidro temperado, dimensões máximas recomendadas 1000 x 2100 mm ou 900 x 2400 mm","un",1,"","",null,0]
[null,null,null,null,null,"","",null,0]
["SF-00902",{"$f":"INDEX(Orçamentária!A:B,MATCH(Composições!A2902,Orçamentária!A:A,0),2)","v":"Dobradiça pivotante inferior com trinco"},null,{"$f":"TRIM(INDEX(Orçamentária!D:D,MATCH(Composições!A2902,Orçamentária!A:A,0),1))","v":"un"},null,"","",null,0]
[null,null,null,null,null,"","",null,0]
[null,null,"Vidraceiro com encargos complementares","h",0.3,20.539000000000001,6.1617000000000006,{"$f":"SUM(G2904:G2905)","v":6.1617000000000006},0]
[null,null,"Dobradiça pivotante inferior com trinco, em alumínio, para porta em vidro temperado, dimensões máximas recomendadas 900 x 2200 mm","un",1,"","",null,0]
[null,null,null,null,null,"","",null,0]
["SF-00903",{"$f":"INDEX(Orçamentária!A:B,MATCH(Composições!A2907,Orçamentária!A:A,0),2)","v":"Carrinho para porta de correr 1 roldana e 2 furos"},null,{"$f":"TRIM(INDEX(Orçamentária!D:D,MATCH(Composições!A2907,Orçamentária!A:A,0),1))","v":"un"},null,"","",null,0]
[null,null,null,null,null,"","",null,0]
[null,null,"Vidraceiro com encargos complementares","h",0.15,20.539000000000001,3.0808500000000003,{"$f":"SUM(G2909:G2910)","v":3.0808500000000003},0]
[null,null,"Carrinho para porta de correr em vidro temperado até 20kg 1 roldana e 2 furos. Ref.: Vidromax 1122-S","un",1,"","",null,0]
[null,null,null,null,null,"","",null,0]
["SF-00904",{"$f":"INDEX(Orçamentária!A:B,MATCH(Composições!A2912,Orçamentária!A:A,0),2)","v":"Carrinho para porta de correr 2 roldanas e 2 furos"},null,{"$f":"TRIM(INDEX(Orçamentária!D:D,MATCH(Composições!A2912,Orçamentária!A:A,0),1))","v":"un"},null,"","",null,0]
[null,null,null,null,null,"","",null,0]
[null,null,"Vidraceiro com encargos complementares","h",0.15,20.539000000000001,3.0808500000000003,{"$f":"SUM(G2914:G2915)","v":3.0808500000000003},0]
[null,null,"Carrinho para porta de correr em vidro temperado até 80kg 2 roldanas e 2 furos. Ref.: Vidromax 1122","un",1,"","",null,0]
[null,null,null,null,null,"","",null,0]
["SF-00905",{"$f":"INDEX(Orçamentária!A:B,MATCH(Composições!A2917,Orçamentária!A:A,0),2)","v":"Carrinho para porta de correr com roldana côncava"},null,{"$f":"TRIM(INDEX(Orçamentária!D:D,MATCH(Composições!A2917,Orçamentária!A:A,0),1))","v":"un"},null,"","",null,0]
[null,null,null,null,null,"","",null,0]
[null,null,"Vidraceiro com encargos complementares","h",0.15,20.539000000000001,3.0808500000000003,{"$f":"SUM(G2919:G2920)","v":3.0808500000000003},0]
[null,null,"Carrinho para porta de correr em vidro temperado com roldana côncava, dimensões máximas recomendadas 600 x 1800 mm","un",1,"","",null,0]
[null,null,null,null,null,"","",null,0]
["SF-00906",{"$f":"INDEX(Orçamentária!A:B,MATCH(Composições!A2922,Orçamentária!A:A,0),2)","v":"Guia de nylon para porta de correr"},null,{"$f":"TRIM(INDEX(Orçamentária!D:D,MATCH(Composições!A2922,Orçamentária!A:A,0),1))","v":"un"},null,"","",null,0]
[null,null,null,null,null,"","",null,0]
[null,null,"Vidraceiro com encargos complementares","h",0.15,20.539000000000001,3.0808500000000003,{"$f":"SUM(G2924:G2925)","v":3.0808500000000003},0]
[null,null,"Guia de nylon para porta de correr em vidro temperado","un",1,"","",null,0]
[null,null,null,null,null,"","",null,0]
["SF-00907",{"$f":"INDEX(Orçamentária!A:B,MATCH(Composições!A2927,Orçamentária!A:A,0),2)","v":"Puxador H tubular em aço inox, comprimento 45cm, para portas de vidro temperado"},null,{"$f":"TRIM(INDEX(Orçamentária!D:D,MATCH(Composições!A2927,Orçamentária!A:A,0),1))","v":"un"},null,"","",null,0]
[null,null,null,null,null,"","",null,0]
[null,null,"Vidraceiro com encargos complementares","h",0.4,20.539000000000001,8.2156000000000002,{"$f":"SUM(G2929:G2930)","v":8.2156000000000002},0]
[null,null,"Puxador H tubular em aço inox AISI304, com porcas tipo castelo, comprimento 45cm, entre furos de 30cm,  diâmetro 1.1/4\",  chapa #16, acabamento escovado. Ref.: PX-RD, Poliforma Alumínio e Ferragens","un",1,"","",null,0]
[null,null,null,null,null,"","",null,0]
["SF-00908",{"$f":"INDEX(Orçamentária!A:B,MATCH(Composições!A2932,Orçamentária!A:A,0),2)","v":"Transporte de vidros"},null,{"$f":"TRIM(INDEX(Orçamentária!D:D,MATCH(Composições!A2932,Orçamentária!A:A,0),1))","v":"m2 x km"},null,"","",null,0]
[null,null,null,null,null,"","",null,0]
[null,null,"Servente com Encargos Complementares","h",2.9209999999999998,16.311500000000002,47.645891500000005,{"$f":"SUM(G2934:G2934)","v":47.645891500000005},0]
[null,null,null,null,null,"","",null,0]
[null,null,"Fonte do coeficiente: http://www.alumipremium.com/produto/al15",null,null,"","",null,0]
[null,null,null,null,null,"","",null,0]
["SF-00909",{"$f":"INDEX(Orçamentária!A:B,MATCH(Composições!A2938,Orçamentária!A:A,0),2)","v":"Vidro fantasia 4mm (canelado, martelado, pontilhado e mini-boreal)"},null,{"$f":"TRIM(INDEX(Orçamentária!D:D,MATCH(Composições!A2938,Orçamentária!A:A,0),1))","v":"m2"},null,"","",null,0]
[null,null,null,null,null,"","",null,0]
[null,null,"Vidraceiro com encargos complementares","h",0.45,20.539000000000001,9.2425500000000014,{"$f":"SUM(G2940:G2943)","v":122.816475},0]
[null,null,"Servente com Encargos Complementares","h",0.45,16.311500000000002,7.3401750000000012,null,0]
[null,null,"Massa para vidro","Kg",1.5,7.2675000000000001,10.901250000000001,null,0]
[null,null,"VIDRO MARTELADO OU CANELADO, 4 MM - SEM COLOCACAO","m2",1,95.332499999999996,95.332499999999996,null,0]
[null,null,null,null,null,"","",null,0]
["SF-00910",{"$f":"INDEX(Orçamentária!A:B,MATCH(Composições!A2945,Orçamentária!A:A,0),2)","v":"Vidro fumê/bronze 5mm"},null,{"$f":"TRIM(INDEX(Orçamentária!D:D,MATCH(Composições!A2945,Orçamentária!A:A,0),1))","v":"m2"},null,"","",null,0]
[null,null,null,null,null,"","",null,0]
[null,null,"Vidraceiro com encargos complementares","h",1,20.539000000000001,20.539000000000001,{"$f":"SUM(G2947:G2950)","v":202.99029999999999},0]
[null,null,"Servente com Encargos Complementares","h",0.2,16.311500000000002,3.2623000000000006,null,0]
[null,null,"Massa para vidro","Kg",2,7.2675000000000001,14.535,null,0]
[null,null,"VIDRO LISO FUME, E = 5 MM - SEM COLOCACAO","m2",1,164.654,164.654,null,0]
[null,null,null,null,null,"","",null,0]
["SF-00911",{"$f":"INDEX(Orçamentária!A:B,MATCH(Composições!A2952,Orçamentária!A:A,0),2)","v":"Recuperação de massa em esquadria metálica"},null,{"$f":"TRIM(INDEX(Orçamentária!D:D,MATCH(Composições!A2952,Orçamentária!A:A,0),1))","v":"m"},null,"","",null,0]
[null,null,null,null,null,"","",null,0]
[null,null,"Vidraceiro com encargos complementares","h",{"$f":"ROUND(1/3,4)","v":0.33329999999999999},20.539000000000001,6.8456486999999999,{"$f":"SUM(G2954:G2956)","v":24.642948700000002},0]
[null,null,"Servente com Encargos Complementares","h",0.2,16.311500000000002,3.2623000000000006,null,0]
[null,null,"Massa para vidro","Kg",2,7.2675000000000001,14.535,null,0]
[null,null,null,null,null,"","",null,0]
["SF-00912",{"$f":"INDEX(Orçamentária!A:B,MATCH(Composições!A2958,Orçamentária!A:A,0),2)","v":"Instalação de espelho reaproveitado"},null,{"$f":"TRIM(INDEX(Orçamentária!D:D,MATCH(Composições!A2958,Orçamentária!A:A,0),1))","v":"m2"},null,"","",null,0]
[null,null,null,null,null,"","",null,0]
[null,null,"Servente com Encargos Complementares","h",0.4,16.311500000000002,6.5246000000000013,{"$f":"SUM(G2960:G2962)","v":61.624600000000001},0]
[null,null,"Vidraceiro com encargos complementares","h",2,20.539000000000001,{"$f":"IF(ISNUMBER(F2961),E2961*F2961,\"\")","v":41.078000000000003},null,0]
[null,null,"PARAFUSO FRANCES M16 EM ACO GALVANIZADO, COMPRIMENTO = 45 MM, DIAMETRO = 16 MM, CABECA ABAULADA","UN",4,3.5054999999999996,14.021999999999998,null,0]
[null,null,null,null,null,"","",null,0]
["SF-00913",{"$f":"INDEX(Orçamentária!A:B,MATCH(Composições!A2964,Orçamentária!A:A,0),2)","v":"Espelho fumê/bronze 4mm lapidado"},null,{"$f":"TRIM(INDEX(Orçamentária!D:D,MATCH(Composições!A2964,Orçamentária!A:A,0),1))","v":"m2"},null,"","",null,0]
[null,null,null,null,null,"","",null,0]
[null,null,"PARAFUSO FRANCES M16 EM ACO GALVANIZADO, COMPRIMENTO = 45 MM, DIAMETRO = 16 MM, CABECA ABAULADA","un",4,3.5054999999999996,14.021999999999998,{"$f":"SUM(G2966:G2969)","v":61.624600000000001},0]
[null,null,"Espelho fumê/bronze 4mm lapidado","m2",1,"","",null,0]
[null,null,"Servente com Encargos Complementares","h",0.4,16.311500000000002,6.5246000000000013,null,0]
[null,null,"Vidraceiro com encargos complementares","h",2,20.539000000000001,41.078000000000003,null,0]
[null,null,null,null,null,"","",null,0]
["SF-00914",{"$f":"INDEX(Orçamentária!A:B,MATCH(Composições!A2971,Orçamentária!A:A,0),2)","v":"Finesson (parafuso de fixação francês)"},null,{"$f":"TRIM(INDEX(Orçamentária!D:D,MATCH(Composições!A2971,Orçamentária!A:A,0),1))","v":"un"},null,"","",null,0]
[null,null,null,null,null,"","",null,0]
[null,null,"Vidraceiro com encargos complementares","h",0.1,20.539000000000001,2.0539000000000001,{"$f":"SUM(G2973:G2974)","v":5.5594000000000001},0]
[null,null,"PARAFUSO FRANCES M16 EM ACO GALVANIZADO, COMPRIMENTO = 45 MM, DIAMETRO = 16 MM, CABECA ABAULADA","un",1,3.5054999999999996,3.5054999999999996,null,0]
[null,null,null,null,null,"","",null,0]
["SF-00915",{"$f":"INDEX(Orçamentária!A:B,MATCH(Composições!A2976,Orçamentária!A:A,0),2)","v":"Graute industrializado, fck ≥ 25MPa"},null,{"$f":"TRIM(INDEX(Orçamentária!D:D,MATCH(Composições!A2976,Orçamentária!A:A,0),1))","v":"m3"},null,"","",null,0]
[null,null,null,null,null,"","",null,0]
[null,null,"PEDREIRO COM ENCARGOS COMPLEMENTARES","H",4.7313999999999998,22.087499999999999,104.5047975,{"$f":"SUM(G2978:G2980)","v":2439.0928634000002},0]
[null,null,"SERVENTE COM ENCARGOS COMPLEMENTARES","H",3.3466,16.311500000000002,54.588065900000011,null,0]
[null,null,"GRAUTE CIMENTICIO PARA USO GERAL","KG",1875,1.216,2280,null,0]
[null,null,null,null,null,"","",null,0]
["SF-00916",{"$f":"INDEX(Orçamentária!A:B,MATCH(Composições!A2982,Orçamentária!A:A,0),2)","v":"Armação de aço CA-50 bitolas de 10,0mm a 12,50mm"},null,{"$f":"TRIM(INDEX(Orçamentária!D:D,MATCH(Composições!A2982,Orçamentária!A:A,0),1))","v":"kg"},null,"","",null,0]
[null,null,null,null,null,"","",null,0]
[null,null,"ARAME RECOZIDO 16 BWG, D = 1,65 MM (0,016 KG/M) OU 18 BWG, D = 1,25 MM (0,01 KG/M)","KG",2.5000000000000001E-2,14.154999999999999,0.353875,{"$f":"SUM(G2984:G2988)","v":7.6272801999999995},0]
[null,null,"ESPACADOR / DISTANCIADOR CIRCULAR COM ENTRADA LATERAL, EM PLASTICO, PARA VERGALHAO *4,2 A 12,5* MM, COBRIMENTO 20 MM","UN",0.36699999999999999,0.13300000000000001,4.8811E-2,null,0]
[null,null,"AJUDANTE DE ARMADOR COM ENCARGOS COMPLEMENTARES","H",1.14E-2,17.081,0.19472339999999999,null,0]
[null,null,"ARMADOR COM ENCARGOS COMPLEMENTARES","H",6.9800000000000001E-2,21.973499999999998,1.5337502999999999,null,0]
[null,null,"CORTE E DOBRA DE AÇO CA-50, DIÂMETRO DE 12,5 MM, UTILIZADO EM ESTRUTURAS DIVERSAS, EXCETO LAJES. AF_12/2015","KG",1,5.4961204999999991,5.4961204999999991,null,0]
[null,null,null,null,null,"","",null,0]
["SF-00917",{"$f":"INDEX(Orçamentária!A:B,MATCH(Composições!A2990,Orçamentária!A:A,0),2)","v":"Armação de aço CA-50 bitolas de 16,0mm a 25,0mm"},null,{"$f":"TRIM(INDEX(Orçamentária!D:D,MATCH(Composições!A2990,Orçamentária!A:A,0),1))","v":"kg"},null,"","",null,0]
[null,null,null,null,null,"","",null,0]
[null,null,"ARAME RECOZIDO 16 BWG, D = 1,65 MM (0,016 KG/M) OU 18 BWG, D = 1,25 MM (0,01 KG/M)","KG",2.5000000000000001E-2,14.154999999999999,0.353875,{"$f":"SUM(G2992:G2996)","v":7.4885972999999995},0]
[null,null,"ESPACADOR / DISTANCIADOR CIRCULAR COM ENTRADA LATERAL, EM PLASTICO, PARA VERGALHAO *4,2 A 12,5* MM, COBRIMENTO 20 MM","UN",0.113,0.13300000000000001,1.5029000000000001E-2,null,0]
[null,null,"AJUDANTE DE ARMADOR COM ENCARGOS COMPLEMENTARES","H",5.1000000000000004E-3,17.081,8.7113099999999999E-2,null,0]
[null,null,"ARMADOR COM ENCARGOS COMPLEMENTARES","H",3.1199999999999999E-2,21.973499999999998,0.68557319999999988,null,0]
[null,null,"CORTE E DOBRA DE AÇO CA-50, DIÂMETRO DE 20,0 MM, UTILIZADO EM ESTRUTURAS DIVERSAS, EXCETO LAJES. AF_12/2015","KG",1,6.3470069999999996,6.3470069999999996,null,0]
[null,null,null,null,null,"","",null,0]
["SF-00918",{"$f":"INDEX(Orçamentária!A:B,MATCH(Composições!A2998,Orçamentária!A:A,0),2)","v":"Remoção de mola hidráulica de piso"},null,{"$f":"TRIM(INDEX(Orçamentária!D:D,MATCH(Composições!A2998,Orçamentária!A:A,0),1))","v":"un"},null,"","",null,0]
[null,null,null,null,null,"","",null,0]
[null,null,"Servente com Encargos Complementares","h",0.55000000000000004,16.311500000000002,8.971325000000002,{"$f":"SUM(G3000:G3001)","v":20.267775000000004},0]
[null,null,"Vidraceiro com encargos complementares","h",0.55000000000000004,20.539000000000001,11.296450000000002,null,0]
[null,null,null,null,null,"","",null,0]
["SF-00919",{"$f":"INDEX(Orçamentária!A:B,MATCH(Composições!A3003,Orçamentária!A:A,0),2)","v":"Escavação manual de valas"},null,{"$f":"TRIM(INDEX(Orçamentária!D:D,MATCH(Composições!A3003,Orçamentária!A:A,0),1))","v":"m3"},null,"","",null,0]
[null,null,null,null,null,"","",null,0]
[null,null,"Servente com Encargos Complementares","h",3.956,16.311500000000002,64.528294000000002,{"$f":"SUM(G3005:G3005)","v":64.528294000000002},0]
[null,null,null,null,null,"","",null,0]
["SF-00920",{"$f":"INDEX(Orçamentária!A:B,MATCH(Composições!A3007,Orçamentária!A:A,0),2)","v":"Reaterro de vala com compactação mecanizada"},null,{"$f":"TRIM(INDEX(Orçamentária!D:D,MATCH(Composições!A3007,Orçamentária!A:A,0),1))","v":"m3"},null,"","",null,1380]
[null,null,null,null,null,"","",null,1380]
[null,null,"SERVENTE COM ENCARGOS COMPLEMENTARES","H",0.65,16.311500000000002,10.602475000000002,{"$f":"SUM(G3009:G3012)","v":22.991140000000001},1380]
[null,null,"COMPACTADOR DE SOLOS DE PERCUSSÃO (SOQUETE) COM MOTOR A GASOLINA 4 TEMPOS, POTÊNCIA 4 CV - CHP DIURNO. AF_08/2015","CHP",0.27400000000000002,23.740499999999997,6.5048969999999997,null,1380]
[null,null,"COMPACTADOR DE SOLOS DE PERCUSSÃO (SOQUETE) COM MOTOR A GASOLINA 4 TEMPOS, POTÊNCIA 4 CV - CHI DIURNO. AF_08/2015","CHI",0.254,18.297000000000001,4.6474380000000002,null,1380]
[null,null,"UMIDIFICAÇÃO DE MATERIAL PARA VALAS COM CAMINHÃO PIPA 10000L. AF_11/2016","M3",1,1.2363300000000002,1.2363300000000002,null,1380]
[null,null,null,null,null,"","",null,1380]
["SF-00921",{"$f":"INDEX(Orçamentária!A:B,MATCH(Composições!A3014,Orçamentária!A:A,0),2)","v":"Aterro de vala com compactação mecanizada"},null,{"$f":"TRIM(INDEX(Orçamentária!D:D,MATCH(Composições!A3014,Orçamentária!A:A,0),1))","v":"m3"},null,"","",null,0]
[null,null,null,null,null,"","",null,0]
[null,null,"CAMINHÃO PIPA 10.000 L TRUCADO, PESO BRUTO TOTAL 23.000 KG, CARGA ÚTIL MÁXIMA 15.935 KG, DISTÂNCIA ENTRE EIXOS 4,8 M, POTÊNCIA 230 CV, INCLUSIVE TANQUE DE AÇO PARA TRANSPORTE DE ÁGUA - CHP DIURNO. AF_06/2014","CHP",6.0000000000000001E-3,164.578,0.98746800000000001,{"$f":"SUM(G3016:G3023)","v":80.663523874999981},0]
[null,null,"CAMINHÃO PIPA 10.000 L TRUCADO, PESO BRUTO TOTAL 23.000 KG, CARGA ÚTIL MÁXIMA 15.935 KG, DISTÂNCIA ENTRE EIXOS 4,8 M, POTÊNCIA 230 CV, INCLUSIVE TANQUE DE AÇO PARA TRANSPORTE DE ÁGUA - CHI DIURNO. AF_06/2014","CHI",3.0000000000000001E-3,34.019500000000001,0.10205850000000001,null,0]
[null,null,"ARGILA, ARGILA VERMELHA OU ARGILA ARENOSA (RETIRADA NA JAZIDA, SEM TRANSPORTE)","M3",1.25,9.490499999999999,11.863124999999998,null,0]
[null,null,"SERVENTE COM ENCARGOS COMPLEMENTARES","H",0.65900000000000003,16.311500000000002,10.749278500000003,null,0]
[null,null,"COMPACTADOR DE SOLOS DE PERCUSSÃO (SOQUETE) COM MOTOR A GASOLINA 4 TEMPOS, POTÊNCIA 4 CV - CHP DIURNO. AF_08/2015","CHP",0.27400000000000002,23.740499999999997,6.5048969999999997,null,0]
[null,null,"COMPACTADOR DE SOLOS DE PERCUSSÃO (SOQUETE) COM MOTOR A GASOLINA 4 TEMPOS, POTÊNCIA 4 CV - CHI DIURNO. AF_08/2015","CHI",0.254,18.297000000000001,4.6474380000000002,null,0]
[null,null,"CARGA, MANOBRA E DESCARGA DE SOLOS E MATERIAIS GRANULARES EM CAMINHÃO BASCULANTE 6 M³ - CARGA COM PÁ CARREGADEIRA (CAÇAMBA DE 1,7 A 2,8 M³ / 128 HP) E DESCARGA LIVRE (UNIDADE: M3). AF_07/2020","m3",{"$f":"E3018*1","v":1.25},4.9035180999999994,6.1293976249999993,null,0]
[null,null,"TRANSPORTE COM CAMINHÃO BASCULANTE DE 6 M3, EM VIA URBANA PAVIMENTADA, DMT ATÉ 30 KM (UNIDADE: M3xKM). AF_01/2018","M3xKM",{"$f":"E3018*20","v":25},1.5871944499999999,39.679861249999995,null,0]
[null,null,null,null,null,"","",null,0]
[null,null,"Obs.: Considerando fornecedor de argila a 20 km do Senado Federal.",null,null,"",{"$f":"IF(ISNUMBER(F3025),E3025*F3025,\"\")","v":""},null,0]
[null,null,null,null,null,"","",null,0]
["SF-00922",{"$f":"INDEX(Orçamentária!A:B,MATCH(Composições!A3027,Orçamentária!A:A,0),2)","v":"Tubo de cobre classe \"E\" 22mm"},null,{"$f":"TRIM(INDEX(Orçamentária!D:D,MATCH(Composições!A3027,Orçamentária!A:A,0),1))","v":"m"},null,"","",null,0]
[null,null,null,null,null,"","",null,0]
[null,null,"TUBO DE COBRE CLASSE \"E\", DN = 22 MM, PARA INSTALACAO HIDRAULICA PREDIAL","M",1.0210999999999999,35.235500000000002,35.978969049999996,{"$f":"SUM(G3029:G3031)","v":41.524841049999999},0]
[null,null,"AUXILIAR DE ENCANADOR OU BOMBEIRO HIDRÁULICO COM ENCARGOS COMPLEMENTARES","H",0.14399999999999999,16.891000000000002,2.4323040000000002,null,0]
[null,null,"ENCANADOR OU BOMBEIRO HIDRÁULICO COM ENCARGOS COMPLEMENTARES","H",0.14399999999999999,21.622,3.1135679999999999,null,0]
[null,null,null,null,null,"","",null,0]
["SF-00923",{"$f":"INDEX(Orçamentária!A:B,MATCH(Composições!A3033,Orçamentária!A:A,0),2)","v":"Tubo de cobre classe \"E\" 28 mm"},null,{"$f":"TRIM(INDEX(Orçamentária!D:D,MATCH(Composições!A3033,Orçamentária!A:A,0),1))","v":"m"},null,"","",null,0]
[null,null,null,null,null,"","",null,0]
[null,null,"TUBO DE COBRE CLASSE \"E\", DN = 28 MM, PARA INSTALACAO HIDRAULICA PREDIAL","M",1.0210999999999999,44.716499999999996,45.660018149999992,{"$f":"SUM(G3035:G3037)","v":51.822098149999988},0]
[null,null,"AUXILIAR DE ENCANADOR OU BOMBEIRO HIDRÁULICO COM ENCARGOS COMPLEMENTARES","H",0.16,16.891000000000002,2.7025600000000005,null,0]
[null,null,"ENCANADOR OU BOMBEIRO HIDRÁULICO COM ENCARGOS COMPLEMENTARES","H",0.16,21.622,3.4595199999999999,null,0]
[null,null,null,null,null,"","",null,0]
["SF-00924",{"$f":"INDEX(Orçamentária!A:B,MATCH(Composições!A3039,Orçamentária!A:A,0),2)","v":"Tubo de cobre classe \"E\" 42mm"},null,{"$f":"TRIM(INDEX(Orçamentária!D:D,MATCH(Composições!A3039,Orçamentária!A:A,0),1))","v":"m"},null,"","",null,0]
[null,null,null,null,null,"","",null,0]
[null,null,"TUBO DE COBRE CLASSE \"E\", DN = 42 MM, PARA INSTALACAO HIDRAULICA PREDIAL","M",1.0210999999999999,87.684999999999988,89.535153499999979,{"$f":"SUM(G3041:G3043)","v":92.462141499999973},0]
[null,null,"AUXILIAR DE ENCANADOR OU BOMBEIRO HIDRÁULICO COM ENCARGOS COMPLEMENTARES","H",7.5999999999999998E-2,16.891000000000002,1.2837160000000001,null,0]
[null,null,"ENCANADOR OU BOMBEIRO HIDRÁULICO COM ENCARGOS COMPLEMENTARES","H",7.5999999999999998E-2,21.622,1.6432719999999998,null,0]
[null,null,null,null,null,"","",null,0]
["SF-00925",{"$f":"INDEX(Orçamentária!A:B,MATCH(Composições!A3045,Orçamentária!A:A,0),2)","v":"Bacia convencional - Linha Acessibilidade"},null,{"$f":"TRIM(INDEX(Orçamentária!D:D,MATCH(Composições!A3045,Orçamentária!A:A,0),1))","v":"un"},null,"","",null,0]
[null,null,null,null,null,"","",null,0]
[null,null,"PARAFUSO NIQUELADO COM ACABAMENTO CROMADO PARA FIXAR PECA SANITARIA, INCLUI PORCA CEGA, ARRUELA E BUCHA DE NYLON TAMANHO S-10","UN",2,17.270999999999997,34.541999999999994,{"$f":"SUM(G3047:G3053)","v":642.57130559999996},0]
[null,null,"VEDACAO PVC, 100 MM, PARA SAIDA VASO SANITARIO","UN",1,1.9284999999999997,1.9284999999999997,null,0]
[null,null,"BACIA SANITARIA (VASO) CONVENCIONAL PARA PCD SEM FURO FRONTAL, DE LOUCA BRANCA, SEM ASSENTO","UN",1,585.00049999999999,585.00049999999999,null,0]
[null,null,"Rejunte epoxi, qualquer cor","KG",8.8099999999999998E-2,52.8675,4.6576267499999995,null,0]
[null,null,"ENCANADOR OU BOMBEIRO HIDRÁULICO COM ENCARGOS COMPLEMENTARES","H",0.49680000000000002,21.622,10.7418096,null,0]
[null,null,"SERVENTE COM ENCARGOS COMPLEMENTARES","H",0.34949999999999998,16.311500000000002,5.7008692500000002,null,0]
[null,null,"Tubo de ligação para bacia sanitária em PVC, com acabamento cromado, ajustável ou não. Ref.: DECA 1968C ou equivalente","un",1,"","",null,0]
[null,null,null,null,null,"","",null,0]
["SF-00926",{"$f":"INDEX(Orçamentária!A:B,MATCH(Composições!A3055,Orçamentária!A:A,0),2)","v":"Assento para bacia convencional - Linha Acessibilidade"},null,{"$f":"TRIM(INDEX(Orçamentária!D:D,MATCH(Composições!A3055,Orçamentária!A:A,0),1))","v":"un"},null,"","",null,0]
[null,null,null,null,null,"","",null,0]
[null,null,"Assento poliéster, mod.: Vogue plus, cor branca, com fixação cromada. AP.51 ref: DECA ou equivalente","un ",1,"","",{"$f":"SUM(G3057:G3058)","v":1.6311500000000003},0]
[null,null,"Servente Com Encargos Complementares","h",0.1,16.311500000000002,1.6311500000000003,null,0]
[null,null,null,null,null,"","",null,0]
["SF-00927",{"$f":"INDEX(Orçamentária!A:B,MATCH(Composições!A3060,Orçamentária!A:A,0),2)","v":"Base registro de gaveta 1 1/2”"},null,{"$f":"TRIM(INDEX(Orçamentária!D:D,MATCH(Composições!A3060,Orçamentária!A:A,0),1))","v":"un"},null,"","",null,0]
[null,null,null,null,null,"","",null,0]
[null,null,"Registro gaveta em liga de cobre, bitola 1 1/2\" mod:1502.B.112 ref: DECA ou equivalente","un ",1,"","",{"$f":"SUM(G3062:G3065)","v":30.618338500000007},0]
[null,null,"FITA VEDA ROSCA EM ROLOS DE 18 MM X 50 M (L X C)","UN",1.9E-2,12.188499999999999,0.2315815,null,0]
[null,null,"Encanador ou Bombeiro Hidráulico com Encargos Complementares","h",0.78900000000000003,21.622,17.059758000000002,null,0]
[null,null,"AUXILIAR DE ENCANADOR OU BOMBEIRO HIDRÁULICO COM ENCARGOS COMPLEMENTARES","h",0.78900000000000003,16.891000000000002,13.326999000000002,null,0]
[null,null,null,null,null,"","",null,0]
["SF-00928",{"$f":"INDEX(Orçamentária!A:B,MATCH(Composições!A3067,Orçamentária!A:A,0),2)","v":"Condutor 25mm²"},null,{"$f":"TRIM(INDEX(Orçamentária!D:D,MATCH(Composições!A3067,Orçamentária!A:A,0),1))","v":"m"},null,"","",null,0]
[null,null,null,null,null,"","",null,0]
[null,null,"Cabo flexível isolado em EPR não halogenado 25 mm² 0,6 a 1 kV","m",1.0149999999999999,0,0,{"$f":"SUM(G3069:G3072)","v":2.5690659999999998},0]
[null,null,"Fita isolante adesiva antichama, uso ate 750 V, em rolo de 19 mm x 5 m","UN",8.9999999999999993E-3,3.61,3.2489999999999998E-2,null,0]
[null,null,"Auxiliar de eletricista com encargos complementares","h",6.4000000000000001E-2,17.366,1.111424,null,0]
[null,null,"Eletricista com encargos complementares","h",6.4000000000000001E-2,22.268000000000001,1.425152,null,0]
[null,null,null,null,null,"","",null,0]
["SF-00929",{"$f":"INDEX(Orçamentária!A:B,MATCH(Composições!A3074,Orçamentária!A:A,0),2)","v":"Condutor 35mm²"},null,{"$f":"TRIM(INDEX(Orçamentária!D:D,MATCH(Composições!A3074,Orçamentária!A:A,0),1))","v":"m"},null,"","",null,0]
[null,null,null,null,null,"","",null,0]
[null,null,"Cabo flexível isolado em EPR não halogenado 35 mm² 0,6 a 1 kV","m",1.0149999999999999,0,0,{"$f":"SUM(G3076:G3079)","v":2.9257719999999998},0]
[null,null,"Fita isolante adesiva antichama, uso ate 750 V, em rolo de 19 mm x 5 m","UN",8.9999999999999993E-3,3.61,3.2489999999999998E-2,null,0]
[null,null,"Auxiliar de eletricista com encargos complementares","h",7.2999999999999995E-2,17.366,1.2677179999999999,null,0]
[null,null,"Eletricista com encargos complementares","h",7.2999999999999995E-2,22.268000000000001,1.625564,null,0]
[null,null,null,null,null,"","",null,0]
["SF-00930",{"$f":"INDEX(Orçamentária!A:B,MATCH(Composições!A3081,Orçamentária!A:A,0),2)","v":"Condutor 50mm²"},null,{"$f":"TRIM(INDEX(Orçamentária!D:D,MATCH(Composições!A3081,Orçamentária!A:A,0),1))","v":"m"},null,"","",null,0]
[null,null,null,null,null,"","",null,0]
[null,null,"Cabo flexível isolado em EPR não halogenado 50 mm² 0,6 a 1 kV","m",1.0149999999999999,0,0,{"$f":"SUM(G3083:G3086)","v":3.4806479999999995},0]
[null,null,"Fita isolante adesiva antichama, uso ate 750 V, em rolo de 19 mm x 5 m","UN",8.9999999999999993E-3,3.61,3.2489999999999998E-2,null,0]
[null,null,"Auxiliar de eletricista com encargos complementares","h",8.6999999999999994E-2,17.366,1.5108419999999998,null,0]
[null,null,"Eletricista com encargos complementares","h",8.6999999999999994E-2,22.268000000000001,1.9373159999999998,null,0]
[null,null,null,null,null,"","",null,0]
["SF-00931",{"$f":"INDEX(Orçamentária!A:B,MATCH(Composições!A3088,Orçamentária!A:A,0),2)","v":"Condutor 70mm²"},null,{"$f":"TRIM(INDEX(Orçamentária!D:D,MATCH(Composições!A3088,Orçamentária!A:A,0),1))","v":"m"},null,"","",null,0]
[null,null,null,null,null,"",{"$f":"IF(ISNUMBER(F3089),E3089*F3089,\"\")","v":""},null,0]
[null,null,"Cabo flexível isolado em EPR não halogenado 70 mm² 0,6 a 1 kV","m",1.0149999999999999,0,0,{"$f":"SUM(G3090:G3093)","v":4.1940600000000003},0]
[null,null,"Fita isolante adesiva antichama, uso ate 750 V, em rolo de 19 mm x 5 m","UN",8.9999999999999993E-3,3.61,3.2489999999999998E-2,null,0]
[null,null,"Auxiliar de eletricista com encargos complementares","h",0.105,17.366,1.8234299999999999,null,0]
[null,null,"Eletricista com encargos complementares","h",0.105,22.268000000000001,2.3381400000000001,null,0]
[null,null,null,null,null,"","",null,0]
["SF-00932",{"$f":"INDEX(Orçamentária!A:B,MATCH(Composições!A3095,Orçamentária!A:A,0),2)","v":"Condutor 95mm²"},null,{"$f":"TRIM(INDEX(Orçamentária!D:D,MATCH(Composições!A3095,Orçamentária!A:A,0),1))","v":"m"},null,"","",null,0]
[null,null,null,null,null,"","",null,0]
[null,null,"Cabo flexível isolado em EPR não halogenado 95 mm² 0,6 a 1 kV","m",1.0149999999999999,0,0,{"$f":"SUM(G3097:G3100)","v":5.1056419999999996},0]
[null,null,"Fita isolante adesiva antichama, uso ate 750 V, em rolo de 19 mm x 5 m","UN",8.9999999999999993E-3,3.61,3.2489999999999998E-2,null,0]
[null,null,"Auxiliar de eletricista com encargos complementares","h",0.128,17.366,2.2228479999999999,null,0]
[null,null,"Eletricista com encargos complementares","h",0.128,22.268000000000001,2.8503039999999999,null,0]
[null,null,null,null,null,"","",null,0]
["SF-00933",{"$f":"INDEX(Orçamentária!A:B,MATCH(Composições!A3102,Orçamentária!A:A,0),2)","v":"Condutor 120mm²"},null,{"$f":"TRIM(INDEX(Orçamentária!D:D,MATCH(Composições!A3102,Orçamentária!A:A,0),1))","v":"m"},null,"","",null,0]
[null,null,null,null,null,"","",null,0]
[null,null,"Cabo flexível isolado em EPR não halogenado 120 mm² 0,6 a 1 kV","m",1.0149999999999999,0,0,{"$f":"SUM(G3104:G3107)","v":6.0568580000000001},0]
[null,null,"Fita isolante adesiva antichama, uso ate 750 V, em rolo de 19 mm x 5 m","UN",8.9999999999999993E-3,3.61,3.2489999999999998E-2,null,0]
[null,null,"Auxiliar de eletricista com encargos complementares","h",0.152,17.366,2.6396319999999998,null,0]
[null,null,"Eletricista com encargos complementares","h",0.152,22.268000000000001,3.3847360000000002,null,0]
[null,null,null,null,null,"","",null,0]
["SF-00934",{"$f":"INDEX(Orçamentária!A:B,MATCH(Composições!A3109,Orçamentária!A:A,0),2)","v":"Condutor 150mm²"},null,{"$f":"TRIM(INDEX(Orçamentária!D:D,MATCH(Composições!A3109,Orçamentária!A:A,0),1))","v":"m"},null,"","",null,0]
[null,null,null,null,null,"","",null,0]
[null,null,"Cabo flexível isolado em EPR não halogenado 150 mm² 0,6 a 1 kV","m",1.0149999999999999,0,0,{"$f":"SUM(G3111:G3114)","v":7.126976},0]
[null,null,"Fita isolante adesiva antichama, uso ate 750 V, em rolo de 19 mm x 5 m","UN",8.9999999999999993E-3,3.61,3.2489999999999998E-2,null,0]
[null,null,"Auxiliar de eletricista com encargos complementares","h",0.17899999999999999,17.366,3.108514,null,0]
[null,null,"Eletricista com encargos complementares","h",0.17899999999999999,22.268000000000001,3.9859719999999998,null,0]
[null,null,null,null,null,"","",null,0]
["SF-00935",{"$f":"INDEX(Orçamentária!A:B,MATCH(Composições!A3116,Orçamentária!A:A,0),2)","v":"Condutor 185mm²"},null,{"$f":"TRIM(INDEX(Orçamentária!D:D,MATCH(Composições!A3116,Orçamentária!A:A,0),1))","v":"m"},null,"","",null,0]
[null,null,null,null,null,"","",null,0]
[null,null,"Cabo flexível isolado em EPR não halogenado 185 mm² 0,6 a 1 kV","m",1.0149999999999999,0,0,{"$f":"SUM(G3118:G3121)","v":8.4348980000000005},0]
[null,null,"Fita isolante adesiva antichama, uso ate 750 V, em rolo de 19 mm x 5 m","UN",8.9999999999999993E-3,3.61,3.2489999999999998E-2,null,0]
[null,null,"Auxiliar de eletricista com encargos complementares","h",0.21199999999999999,17.366,3.6815919999999998,null,0]
[null,null,"Eletricista com encargos complementares","h",0.21199999999999999,22.268000000000001,4.7208160000000001,null,0]
[null,null,null,null,null,"","",null,0]
["SF-00936",{"$f":"INDEX(Orçamentária!A:B,MATCH(Composições!A3123,Orçamentária!A:A,0),2)","v":"Condutor 240mm²"},null,{"$f":"TRIM(INDEX(Orçamentária!D:D,MATCH(Composições!A3123,Orçamentária!A:A,0),1))","v":"m"},null,"","",null,0]
[null,null,null,null,null,"","",null,0]
[null,null,"Cabo flexível isolado em EPR não halogenado 240 mm² 0,6 a 1 kV","m",1.0149999999999999,0,0,{"$f":"SUM(G3125:G3128)","v":2.5690659999999998},0]
[null,null,"Fita isolante adesiva antichama, uso ate 750 V, em rolo de 19 mm x 5 m","UN",8.9999999999999993E-3,3.61,3.2489999999999998E-2,null,0]
[null,null,"Auxiliar de eletricista com encargos complementares","h",6.4000000000000001E-2,17.366,1.111424,null,0]
[null,null,"Eletricista com encargos complementares","h",6.4000000000000001E-2,22.268000000000001,1.425152,null,0]
[null,null,null,null,null,"","",null,0]
["SF-00937",{"$f":"INDEX(Orçamentária!A:B,MATCH(Composições!A3130,Orçamentária!A:A,0),2)","v":"Montagem e desmontagem de andaime fachadeiro"},null,{"$f":"TRIM(INDEX(Orçamentária!D:D,MATCH(Composições!A3130,Orçamentária!A:A,0),1))","v":"m2"},null,"","",null,0]
[null,null,null,null,null,"","",null,0]
[null,null,"MONTADOR DE ESTRUTURA METÁLICA COM ENCARGOS COMPLEMENTARES","H",0.29509999999999997,16.852999999999998,4.9733202999999992,{"$f":"SUM(G3132:G3134)","v":7.6052483546099996},0]
[null,null,"SERVENTE COM ENCARGOS COMPLEMENTARES","H",5.8999999999999997E-2,16.311500000000002,0.96237850000000014,null,0]
[null,null,"TRANSPORTE HORIZONTAL MANUAL, DE TUBO DE AÇO CARBONO LEVE OU MÉDIO, PRETO OU GALVANIZADO, COM DIÂMETRO MAIOR QUE 32 MM E MENOR OU IGUAL A 65 MM (UNIDADE: MXKM). AF_07/2019","MXKM",0.1673,9.9793757000000003,1.6695495546100001,null,0]
[null,null,null,null,null,"","",null,0]
["SF-00938",{"$f":"INDEX(Orçamentária!A:B,MATCH(Composições!A3136,Orçamentária!A:A,0),2)","v":"Montagem e desmontagem de andaime tubular"},null,{"$f":"TRIM(INDEX(Orçamentária!D:D,MATCH(Composições!A3136,Orçamentária!A:A,0),1))","v":"m"},null,"","",null,0]
[null,null,null,null,null,"","",null,0]
[null,null,"MONTADOR DE ESTRUTURA METÁLICA COM ENCARGOS COMPLEMENTARES","H",0.5,16.852999999999998,8.426499999999999,{"$f":"SUM(G3138:G3140)","v":14.069359031399999},0]
[null,null,"SERVENTE COM ENCARGOS COMPLEMENTARES","H",0.1,16.311500000000002,1.6311500000000003,null,0]
[null,null,"TRANSPORTE HORIZONTAL MANUAL, DE TUBO DE AÇO CARBONO LEVE OU MÉDIO, PRETO OU GALVANIZADO, COM DIÂMETRO MAIOR QUE 32 MM E MENOR OU IGUAL A 65 MM (UNIDADE: MXKM). AF_07/2019","MXKM",0.40200000000000002,9.9793757000000003,4.0117090314000006,null,0]
[null,null,null,null,null,"","",null,0]
["SF-00940",{"$f":"INDEX(Orçamentária!A:B,MATCH(Composições!A3142,Orçamentária!A:A,0),2)","v":"Locação de fechamento para andaimes com tela 100% polietileno"},null,{"$f":"TRIM(INDEX(Orçamentária!D:D,MATCH(Composições!A3142,Orçamentária!A:A,0),1))","v":"m2 x mês"},null,"","",null,0]
[null,null,null,null,null,"","",null,0]
[null,null,"ABRACADEIRA DE NYLON PARA AMARRACAO DE CABOS, COMPRIMENTO DE 200 X *4,6* MM","UN",0.89449999999999996,0.17099999999999999,0.15295949999999997,{"$f":"SUM(G3144:G3147)","v":3.7280413000000001},0]
[null,null,"TELA FACHADEIRA EM POLIETILENO, ROLO DE 3 X 100 M (L X C), COR BRANCA, SEM LOGOMARCA - PARA PROTECAO DE OBRAS","M2",{"$f":"ROUND(1.177*(1/3),4)","v":0.39229999999999998},1.7289999999999999,0.67828669999999991,null,0]
[null,null,"AJUDANTE DE CARPINTEIRO COM ENCARGOS COMPLEMENTARES","H",6.9900000000000004E-2,18.468,1.2909132000000001,null,0]
[null,null,"CARPINTEIRO DE FORMAS COM ENCARGOS COMPLEMENTARES","H",7.3400000000000007E-2,21.878499999999999,1.6058819,null,0]
[null,null,null,null,null,"","",null,0]
[null,null,"Obs.: Considerou-se aproveitamento de 3x para a tela, já que trata-se de locação.",null,null,"","",null,0]
[null,null,null,null,null,"","",null,0]
["SF-00942",{"$f":"INDEX(Orçamentária!A:B,MATCH(Composições!A3151,Orçamentária!A:A,0),2)","v":"Remoção de folha de porta de enrolar"},null,{"$f":"TRIM(INDEX(Orçamentária!D:D,MATCH(Composições!A3151,Orçamentária!A:A,0),1))","v":"un"},null,"","",null,0]
[null,null,null,null,null,"","",null,0]
[null,null,"Serralheiro com encargos complementares","h",2.5,21.973499999999998,{"$f":"IF(ISNUMBER(F3153),E3153*F3153,\"\")","v":54.933749999999996},{"$f":"SUM(G3153:G3154)","v":144.42374999999998},0]
[null,null,"Auxiliar de serralheiro com encargos complementares","h",5,17.898,89.49,null,0]
[null,null,null,null,null,"","",null,0]
["SF-00943",{"$f":"INDEX(Orçamentária!A:B,MATCH(Composições!A3156,Orçamentária!A:A,0),2)","v":"Base registro de gaveta 1\""},null,{"$f":"TRIM(INDEX(Orçamentária!D:D,MATCH(Composições!A3156,Orçamentária!A:A,0),1))","v":"un"},null,"","",null,0]
[null,null,null,null,null,"","",null,0]
[null,null,"Registro de gaveta em liga de cobre, bitola 1\" mod: 4509.302 ref: DECA ou equivalente","un ",1,"","",{"$f":"SUM(G3158:G3161)","v":29.944109249999997},0]
[null,null,"FITA VEDA ROSCA EM ROLOS DE 18 MM X 50 M (L X C)","UN",9.4999999999999998E-3,12.188499999999999,0.11579075,null,0]
[null,null,"Encanador ou Bombeiro Hidráulico com Encargos Complementares","h",0.77449999999999997,21.622,16.746238999999999,null,0]
[null,null,"Auxiliar de encanador ou bombeiro hidráulico com encargos complementares","h",0.77449999999999997,16.891000000000002,13.082079500000001,null,0]
[null,null,null,null,null,"","",null,0]
["SF-00944",{"$f":"INDEX(Orçamentária!A:B,MATCH(Composições!A3163,Orçamentária!A:A,0),2)","v":"Base registro de pressão 3/4\""},null,{"$f":"TRIM(INDEX(Orçamentária!D:D,MATCH(Composições!A3163,Orçamentária!A:A,0),1))","v":"un"},null,"","",null,0]
[null,null,null,null,null,"","",null,0]
[null,null,"FITA VEDA ROSCA EM ROLOS DE 18 MM X 50 M (L X C)","UN",1.2999999999999999E-2,12.188499999999999,0.15845049999999999,{"$f":"SUM(G3165:G3168)","v":7.8610505000000002},0]
[null,null,"Registro de pressão em liga de cobre, bitola 3/4\" mod: 4416.202 ref: DECA ou equivalente","un ",1,"","",null,0]
[null,null,"Auxiliar de encanador ou bombeiro hidráulico com encargos complementares","h",0.2,16.891000000000002,3.3782000000000005,null,0]
[null,null,"Encanador ou Bombeiro Hidráulico com Encargos Complementares","h",0.2,21.622,4.3243999999999998,null,0]
[null,null,null,null,null,"","",null,0]
["SF-00946",{"$f":"INDEX(Orçamentária!A:B,MATCH(Composições!A3170,Orçamentária!A:A,0),2)","v":"Tampa em ferro fundido T33"},null,{"$f":"TRIM(INDEX(Orçamentária!D:D,MATCH(Composições!A3170,Orçamentária!A:A,0),1))","v":"un"},null,"","",null,0]
[null,null,null,null,null,"","",null,0]
[null,null,"TAMPAO FOFO ARTICULADO P/ REGISTRO, CLASSE A15 CARGA MAXIMA 1,5 T, *400 X 400* MM","UN",1,154.23249999999999,154.23249999999999,{"$f":"SUM(G3172:G3175)","v":222.207424201089},0]
[null,null,"ARGAMASSA TRAÇO 1:4 (EM VOLUME DE CIMENTO E AREIA GROSSA ÚMIDA) PARA CHAPISCO CONVENCIONAL, PREPARO MECÂNICO COM BETONEIRA 400 L. AF_08/2019","M3",7.0000000000000001E-3,385.232028727,2.696624201089,null,0]
[null,null,"Pedreiro com Encargos Complementares","h",1.7,22.087499999999999,37.548749999999998,null,0]
[null,null,"Servente com Encargos Complementares","h",1.7,16.311500000000002,27.729550000000003,null,0]
[null,null,null,null,null,"","",null,0]
["SF-00947",{"$f":"INDEX(Orçamentária!A:B,MATCH(Composições!A3177,Orçamentária!A:A,0),2)","v":"Arquiteto(a) com experiência em intervenção no patrimônio cultural"},null,{"$f":"TRIM(INDEX(Orçamentária!D:D,MATCH(Composições!A3177,Orçamentária!A:A,0),1))","v":"hh"},null,"","",null,0]
[null,null,null,null,null,"","",null,0]
[null,null,"Arquiteto de obra pleno com encargos complementares","h",1,86.906000000000006,86.906000000000006,{"$f":"SUM(G3179:G3179)","v":86.906000000000006},0]
[null,null,null,null,null,"","",null,0]
["SF-00948",{"$f":"INDEX(Orçamentária!A:B,MATCH(Composições!A3181,Orçamentária!A:A,0),2)","v":"Locação de andaime suspenso tipo leve"},null,{"$f":"TRIM(INDEX(Orçamentária!D:D,MATCH(Composições!A3181,Orçamentária!A:A,0),1))","v":"un x mês"},null,"","",null,0]
[null,null,null,null,null,"","",null,0]
[null,null,"LOCACAO DE ANDAIME SUSPENSO OU BALANCIM MANUAL, CAPACIDADE DE CARGA TOTAL DE APROXIMADAMENTE 250 KG/M2, PLATAFORMA DE 1,50 M X 0,80 M (C X L), CABO DE 45 M","MES",1,570,570,{"$f":"SUM(G3183:G3183)","v":570},0]
[null,null,null,null,null,"","",null,0]
["SF-00950",{"$f":"INDEX(Orçamentária!A:B,MATCH(Composições!A3185,Orçamentária!A:A,0),2)","v":"Limpeza de superfície por hidrojateamento de média pressão"},null,{"$f":"TRIM(INDEX(Orçamentária!D:D,MATCH(Composições!A3185,Orçamentária!A:A,0),1))","v":"m2"},null,"","",null,0]
[null,null,null,null,null,"","",null,0]
[null,null,"Servente com Encargos Complementares","h",8.8999999999999996E-2,16.311500000000002,1.4517235000000002,{"$f":"SUM(G3187:G3188)","v":1.4659735000000003},0]
[null,null,"LAVADORA DE ALTA PRESSAO (LAVA-JATO) PARA AGUA FRIA, PRESSAO DE OPERACAO ENTRE 1400 E 1900 LIB/POL2, VAZAO MAXIMA ENTRE 400 E 700 L/H - CHP DIURNO. AF_04/2019","chp",1.4999999999999999E-2,0.95,1.4249999999999999E-2,null,0]
[null,null,null,null,null,"","",null,0]
["SF-00951",{"$f":"INDEX(Orçamentária!A:B,MATCH(Composições!A3190,Orçamentária!A:A,0),2)","v":"Inspeção da integridade e adesão de placas de rocha ornamental por percussão"},null,{"$f":"TRIM(INDEX(Orçamentária!D:D,MATCH(Composições!A3190,Orçamentária!A:A,0),1))","v":"m2"},null,"","",null,0]
[null,null,null,null,null,"","",null,0]
[null,null,"Marmorista/graniteiro com encargos complementares","h",0.25,18.420500000000001,4.6051250000000001,{"$f":"SUM(G3192:G3193)","v":4.6051250000000001},0]
[null,null,null,null,null,"","",null,0]
["SF-00952",{"$f":"INDEX(Orçamentária!A:B,MATCH(Composições!A3194,Orçamentária!A:A,0),2)","v":"Demolição de proteção mecânica de impermeabilização"},null,{"$f":"TRIM(INDEX(Orçamentária!D:D,MATCH(Composições!A3194,Orçamentária!A:A,0),1))","v":"m2"},null,"","",null,0]
[null,null,null,null,null,"","",null,0]
[null,null,"Servente com Encargos Complementares","H",1.25,16.311500000000002,20.389375000000001,{"$f":"SUM(G3196:G3196)","v":20.389375000000001},0]
[null,null,null,null,null,"","",null,0]
["SF-00953",{"$f":"INDEX(Orçamentária!A:B,MATCH(Composições!A3198,Orçamentária!A:A,0),2)","v":"Impermeabilização com emulsão asfáltica"},null,{"$f":"TRIM(INDEX(Orçamentária!D:D,MATCH(Composições!A3198,Orçamentária!A:A,0),1))","v":"m2"},null,"","",null,0]
[null,null,null,null,null,"","",null,0]
[null,null,"MANTA LIQUIDA DE BASE ASFALTICA MODIFICADA COM A ADICAO DE ELASTOMEROS DILUIDOS EM SOLVENTE ORGANICO, APLICACAO A FRIO (MEMBRANA IMPERMEABILIZANTE ASFASTICA)","KG",1.5,14.040999999999999,21.061499999999999,{"$f":"SUM(G3200:G3203)","v":37.932787499999996},0]
[null,null,"VEU POLIESTER","M2",1.351,4.3699999999999992,5.9038699999999986,null,0]
[null,null,"Ajudante Especializado Com Encargos Complementares","H",8.5000000000000006E-2,19.3705,1.6464925000000001,null,0]
[null,null,"IMPERMEABILIZADOR COM ENCARGOS COMPLEMENTARES","H",0.42199999999999999,22.087499999999999,9.320924999999999,null,0]
[null,null,null,null,null,"","",null,0]
["SF-00954",{"$f":"INDEX(Orçamentária!A:B,MATCH(Composições!A3205,Orçamentária!A:A,0),2)","v":"Camada de proteção mecânica simples de impermeabilização"},null,{"$f":"TRIM(INDEX(Orçamentária!D:D,MATCH(Composições!A3205,Orçamentária!A:A,0),1))","v":"m2"},null,"","",null,0]
[null,null,null,null,null,"","",null,0]
[null,null,"CAMADA SEPARADORA DE FILME DE POLIETILENO 20 A 25 MICRA","M2",1.04,1.292,1.34368,{"$f":"SUM(G3207:G3210)","v":39.235099518437501},0]
[null,null,"ARGAMASSA TRAÇO 1:3 (EM VOLUME DE CIMENTO E AREIA MÉDIA ÚMIDA) PARA CONTRAPISO, PREPARO MANUAL. AF_08/2019","M3",3.5000000000000003E-2,604.75221481249991,21.166327518437498,null,0]
[null,null,"Pedreiro com Encargos Complementares","H",0.65900000000000003,22.087499999999999,14.5556625,null,0]
[null,null,"Servente com Encargos Complementares","H",0.13300000000000001,16.311500000000002,2.1694295000000006,null,0]
[null,null,null,null,null,"","",null,0]
["SF-00955",{"$f":"INDEX(Orçamentária!A:B,MATCH(Composições!A3212,Orçamentária!A:A,0),2)","v":"Camada de proteção mecânica estruturada de impermeabilização"},null,{"$f":"TRIM(INDEX(Orçamentária!D:D,MATCH(Composições!A3212,Orçamentária!A:A,0),1))","v":"m2"},null,"","",null,0]
[null,null,null,null,null,"","",null,0]
[null,null,"TELA DE ARAME GALVANIZADA, HEXAGONAL, FIO 0,56 MM (24 BWG), MALHA 1/2\", H = 1 M","M2",1.05,8.4359999999999999,8.857800000000001,{"$f":"SUM(G3214:G3217)","v":47.950447018437494},0]
[null,null,"ARGAMASSA TRAÇO 1:3 (EM VOLUME DE CIMENTO E AREIA MÉDIA ÚMIDA) PARA CONTRAPISO, PREPARO MANUAL. AF_08/2019","M3",3.5000000000000003E-2,604.75221481249991,21.166327518437498,null,0]
[null,null,"Pedreiro com Encargos Complementares","H",0.70599999999999996,22.087499999999999,15.593774999999997,null,0]
[null,null,"Servente com Encargos Complementares","H",0.14299999999999999,16.311500000000002,{"$f":"IF(ISNUMBER(F3217),E3217*F3217,\"\")","v":2.3325445},null,0]
[null,null,null,null,null,"","",null,0]
["SF-00956",{"$f":"INDEX(Orçamentária!A:B,MATCH(Composições!A3219,Orçamentária!A:A,0),2)","v":"Remoção de placas  de mármore encaixadas por fixadores metálicos (modelo Ed. Principal)"},null,{"$f":"TRIM(INDEX(Orçamentária!D:D,MATCH(Composições!A3219,Orçamentária!A:A,0),1))","v":"m2"},null,"","",null,0]
[null,null,null,null,null,"","",null,0]
[null,null,"Marmorista/graniteiro com encargos complementares","h",0.4,18.420500000000001,7.3682000000000007,{"$f":"SUM(G3221:G3222)","v":13.892800000000001},0]
[null,null,"Servente com Encargos Complementares","h",0.4,16.311500000000002,6.5246000000000013,null,0]
[null,null,null,null,null,"","",null,0]
["SF-00957",{"$f":"INDEX(Orçamentária!A:B,MATCH(Composições!A3224,Orçamentária!A:A,0),2)","v":"Remoção de placas de rocha ornamental argamassada, para reaproveitamento"},null,{"$f":"TRIM(INDEX(Orçamentária!D:D,MATCH(Composições!A3224,Orçamentária!A:A,0),1))","v":"m2"},null,"","",null,0]
[null,null,null,null,null,"","",null,0]
[null,null,"Marmorista/graniteiro com encargos complementares","h",1.2,18.420500000000001,22.104600000000001,{"$f":"SUM(G3226:G3227)","v":41.678400000000003},0]
[null,null,"Servente com Encargos Complementares","h",1.2,16.311500000000002,19.573800000000002,null,0]
[null,null,null,null,null,"","",null,0]
["SF-00958",{"$f":"INDEX(Orçamentária!A:B,MATCH(Composições!A3229,Orçamentária!A:A,0),2)","v":"Identificação e acondicionamento de placas de rocha ornamental"},null,{"$f":"TRIM(INDEX(Orçamentária!D:D,MATCH(Composições!A3229,Orçamentária!A:A,0),1))","v":"m2"},null,"","",null,0]
[null,null,null,null,null,"","",null,0]
[null,null,"Papel kraft betumado","m2",1.05,3.42,3.5910000000000002,{"$f":"SUM(G3231:G3232)","v":6.8533000000000008},0]
[null,null,"Servente com Encargos Complementares","h",0.2,16.311500000000002,3.2623000000000006,null,0]
[null,null,null,null,null,"","",null,0]
["SF-00959",{"$f":"INDEX(Orçamentária!A:B,MATCH(Composições!A3234,Orçamentária!A:A,0),2)","v":"Limpeza de placas de rocha ornamental argamassada, para reaproveitamento"},null,{"$f":"TRIM(INDEX(Orçamentária!D:D,MATCH(Composições!A3234,Orçamentária!A:A,0),1))","v":"m2"},null,"","",null,0]
[null,null,null,null,null,"","",null,0]
[null,null,"Servente com Encargos Complementares","h",0.3,16.311500000000002,4.8934500000000005,{"$f":"SUM(G3236)","v":4.8934500000000005},0]
[null,null,null,null,null,"","",null,0]
["SF-00960",{"$f":"INDEX(Orçamentária!A:B,MATCH(Composições!A3238,Orçamentária!A:A,0),2)","v":"Remoção e acondicionamento de fixadores metálicos para placas de mármore em fachada (modelo Ed. Principal)"},null,{"$f":"TRIM(INDEX(Orçamentária!D:D,MATCH(Composições!A3238,Orçamentária!A:A,0),1))","v":"un"},null,"","",null,0]
[null,null,null,null,null,"","",null,0]
[null,null,"Servente com Encargos Complementares","h",0.1,16.311500000000002,1.6311500000000003,{"$f":"SUM(G3240)","v":1.6311500000000003},0]
[null,null,null,null,null,"","",null,0]
["SF-00961",{"$f":"INDEX(Orçamentária!A:B,MATCH(Composições!A3242,Orçamentária!A:A,0),2)","v":"Instalação de fixadores metálicos para placas de mármore em fachada reaproveitados (modelo Ed. Principal)"},null,{"$f":"TRIM(INDEX(Orçamentária!D:D,MATCH(Composições!A3242,Orçamentária!A:A,0),1))","v":"un"},null,"","",null,0]
[null,null,null,null,null,"","",null,0]
[null,null,"Pedreiro com Encargos Complementares","h",{"$f":"0.1+0.1","v":0.2},22.087499999999999,4.4174999999999995,{"$f":"SUM(G3244:G3248)","v":7.8482978224169999},0]
[null,null,"Servente com Encargos Complementares","h",{"$f":"0.1+0.1","v":0.2},16.311500000000002,3.2623000000000006,null,0]
[null,null,"Broca com ponta de widia Ø 3/8\" x 160 mm","un ",{"$f":"0.016*2","v":3.2000000000000001E-2},0,0,null,0]
[null,null,"Furadeira de impacto elétrica - 0,65 kW, Ø mandril 5/8\"","h prod",{"$f":"0.1*2","v":0.2},0,0,null,0]
[null,null,"GRAUTE FGK=25 MPA; TRAÇO 1:0,02:1,2:1,5 (CIMENTO/ CAL/ AREIA GROSSA/ BRITA 0) - PREPARO MECÂNICO COM BETONEIRA 400 L. AF_02/2015","m3",{"$f":"ROUND(0.15*0.05*0.05,4)","v":4.0000000000000002E-4},421.24455604249999,0.16849782241700001,null,0]
[null,null,null,null,null,"","",null,0]
[null,null,"Fontes: PINI 05.102.000020.SER",null,null,"","",null,0]
[null,null,null,null,null,"","",null,0]
["SF-00962",{"$f":"INDEX(Orçamentária!A:B,MATCH(Composições!A3252,Orçamentária!A:A,0),2)","v":"Fixadores metálicos para rochas ornamentais (tipo Ed. Principal, peça superior)"},null,{"$f":"TRIM(INDEX(Orçamentária!D:D,MATCH(Composições!A3252,Orçamentária!A:A,0),1))","v":"un"},null,"","",null,0]
[null,null,null,null,null,"","",null,0]
[null,null,"Pedreiro com Encargos Complementares","h",{"$f":"0.1+0.1","v":0.2},22.087499999999999,4.4174999999999995,{"$f":"SUM(G3254:G3259)","v":7.8482978224169999},0]
[null,null,"Servente com Encargos Complementares","h",{"$f":"0.1+0.1","v":0.2},16.311500000000002,3.2623000000000006,null,0]
[null,null,"Broca com ponta de widia Ø 3/8\" x 160 mm","un ",{"$f":"0.016*2","v":3.2000000000000001E-2},0,0,null,0]
[null,null,"Furadeira de impacto elétrica - 0,65 kW, Ø mandril 5/8\"","h prod",{"$f":"0.1*2","v":0.2},0,0,null,0]
[null,null,"Insert metálico tipo 2, conforme projeto","un ",1,"","",null,0]
[null,null,"GRAUTE FGK=25 MPA; TRAÇO 1:0,02:1,2:1,5 (CIMENTO/ CAL/ AREIA GROSSA/ BRITA 0) - PREPARO MECÂNICO COM BETONEIRA 400 L. AF_02/2015","m3",{"$f":"ROUND(0.15*0.05*0.05,4)","v":4.0000000000000002E-4},421.24455604249999,0.16849782241700001,null,0]
[null,null,null,null,null,"","",null,0]
[null,null,"Fontes: PINI 05.102.000020.SER",null,null,"","",null,0]
[null,null,null,null,null,"","",null,0]
["SF-00964",{"$f":"INDEX(Orçamentária!A:B,MATCH(Composições!A3263,Orçamentária!A:A,0),2)","v":"Mármore Branco Especial 20mm argamassado (Ed. Principal e Anexo 1)"},null,{"$f":"TRIM(INDEX(Orçamentária!D:D,MATCH(Composições!A3263,Orçamentária!A:A,0),1))","v":"m2"},null,"","",null,0]
[null,null,null,null,null,"","",null,0]
[null,null,"Mármore branco especial 20mm","m2",1.05,"","",{"$f":"SUM(G3265:G3269)","v":41.306474999999999},0]
[null,null,"Marmorista/graniteiro com encargos complementares","h",1.35,18.420500000000001,24.867675000000002,null,0]
[null,null,"Servente com Encargos Complementares","h",0.6,16.311500000000002,9.786900000000001,null,0]
[null,null,"Argamassa colante tipo AC III","kg",4.5,1.3109999999999999,5.8994999999999997,null,0]
[null,null,"Rejunte cimenticio, qualquer cor","kg",0.3,2.508,0.75239999999999996,null,0]
[null,null,null,null,null,"","",null,0]
["SF-00965",{"$f":"INDEX(Orçamentária!A:B,MATCH(Composições!A3271,Orçamentária!A:A,0),2)","v":"Mármore Branco Especial 20mm com inserts e argamassa (Ed. Principal e Anexo 1)"},null,{"$f":"TRIM(INDEX(Orçamentária!D:D,MATCH(Composições!A3271,Orçamentária!A:A,0),1))","v":"m2"},null,"","",null,0]
[null,null,null,null,null,"","",null,0]
[null,null,"Mármore branco especial 20mm","m2",1.05,"","",{"$f":"SUM(G3273:G3283)","v":58.279024455604258},0]
[null,null,"Marmorista/graniteiro com encargos complementares","h",{"$f":"1.35","v":1.35},18.420500000000001,24.867675000000002,null,0]
[null,null,"Pedreiro com Encargos Complementares","h",0.1,22.087499999999999,2.2087499999999998,null,0]
[null,null,"Servente com Encargos Complementares","h",{"$f":"0.6+0.1+0.1","v":0.79999999999999993},16.311500000000002,13.049200000000001,null,0]
[null,null,"Argamassa colante tipo AC III","kg",4.5,1.3109999999999999,5.8994999999999997,null,0]
[null,null,"Rejunte cimenticio, qualquer cor","kg",0.3,2.508,0.75239999999999996,null,0]
[null,null,"PARAFUSO DE ACO TIPO CHUMBADOR PARABOLT, DIAMETRO 3/8\", COMPRIMENTO 75 MM","UN",{"$f":"2/(0.4*0.8)","v":6.2499999999999991},1.8334999999999999,11.459374999999998,null,0]
[null,null,"Broca com ponta de widia Ø 3/8\" x 160 mm","un ",{"$f":"(2/(0.4*0.8))*(0.016)*1.5","v":0.15},0,0,null,0]
[null,null,"Furadeira de impacto elétrica - 0,65 kW, Ø mandril 5/8\"","h prod",{"$f":"(2/(0.4*0.8))*0.1*1.5","v":0.9375},0,{"$f":"IF(ISNUMBER(F3281),E3281*F3281,\"\")","v":0},null,0]
[null,null,"Insert metálico tipo 1, conforme projeto","un ",{"$f":"2/(0.4*0.8)","v":6.2499999999999991},"","",null,0]
[null,null,"GRAUTE FGK=25 MPA; TRAÇO 1:0,02:1,2:1,5 (CIMENTO/ CAL/ AREIA GROSSA/ BRITA 0) - PREPARO MECÂNICO COM BETONEIRA 400 L. AF_02/2015","m3",1E-4,421.24455604249999,4.2124455604250002E-2,null,0]
[null,null,null,null,null,"","",null,0]
[null,null,"Fontes: ORSE 03735, PINI 05.102.000020.SER e 05.108.000450.SER",null,null,"","",null,0]
[null,null,"Observações: Considerando uma placa de 0,40 m x 0,80 m, que, conforme projeto, necessita de 2 inserts.",null,null,"","",null,0]
[null,null,null,null,null,"","",null,0]
["SF-00966",{"$f":"INDEX(Orçamentária!A:B,MATCH(Composições!A3288,Orçamentária!A:A,0),2)","v":"Mármore Branco Especial 30mm argamassado (Ed. Principal e Anexo 1)"},null,{"$f":"TRIM(INDEX(Orçamentária!D:D,MATCH(Composições!A3288,Orçamentária!A:A,0),1))","v":"m2"},null,"","",null,0]
[null,null,null,null,null,"","",null,0]
[null,null,"Mármore branco especial 30mm","m2",1.05,"","",{"$f":"SUM(G3290:G3294)","v":41.306474999999999},0]
[null,null,"Marmorista/graniteiro com encargos complementares","h",1.35,18.420500000000001,24.867675000000002,null,0]
[null,null,"Servente com Encargos Complementares","h",0.6,16.311500000000002,9.786900000000001,null,0]
[null,null,"Argamassa colante tipo AC III","kg",4.5,1.3109999999999999,5.8994999999999997,null,0]
[null,null,"Rejunte cimenticio, qualquer cor","kg",0.3,2.508,0.75239999999999996,null,0]
[null,null,null,null,null,"","",null,0]
["SF-00967",{"$f":"INDEX(Orçamentária!A:B,MATCH(Composições!A3296,Orçamentária!A:A,0),2)","v":"Mármore Branco Especial 30mm com inserts e argamassa (Ed. Principal e Anexo 1)"},null,{"$f":"TRIM(INDEX(Orçamentária!D:D,MATCH(Composições!A3296,Orçamentária!A:A,0),1))","v":"m2"},null,"","",null,0]
[null,null,null,null,null,"","",null,0]
[null,null,"Mármore branco especial 30mm","m2",1.05,"","",{"$f":"SUM(G3298:G3308)","v":58.279024455604258},0]
[null,null,"Marmorista/graniteiro com encargos complementares","h",{"$f":"1.35","v":1.35},18.420500000000001,24.867675000000002,null,0]
[null,null,"Pedreiro com Encargos Complementares","h",0.1,22.087499999999999,2.2087499999999998,null,0]
[null,null,"Servente com Encargos Complementares","h",{"$f":"0.6+0.1+0.1","v":0.79999999999999993},16.311500000000002,13.049200000000001,null,0]
[null,null,"Argamassa colante tipo AC III","kg",4.5,1.3109999999999999,5.8994999999999997,null,0]
[null,null,"Rejunte cimenticio, qualquer cor","kg",0.3,2.508,0.75239999999999996,null,0]
[null,null,"PARAFUSO DE ACO TIPO CHUMBADOR PARABOLT, DIAMETRO 3/8\", COMPRIMENTO 75 MM","UN",{"$f":"2/(0.4*0.8)","v":6.2499999999999991},1.8334999999999999,11.459374999999998,null,0]
[null,null,"Broca com ponta de widia Ø 3/8\" x 160 mm","un ",{"$f":"(2/(0.4*0.8))*(0.016)*1.5","v":0.15},0,0,null,0]
[null,null,"Furadeira de impacto elétrica - 0,65 kW, Ø mandril 5/8\"","h prod",{"$f":"(2/(0.4*0.8))*0.1*1.5","v":0.9375},0,0,null,0]
[null,null,"Insert metálico tipo 1, conforme projeto","un ",{"$f":"2/(0.4*0.8)","v":6.2499999999999991},"","",null,0]
[null,null,"GRAUTE FGK=25 MPA; TRAÇO 1:0,02:1,2:1,5 (CIMENTO/ CAL/ AREIA GROSSA/ BRITA 0) - PREPARO MECÂNICO COM BETONEIRA 400 L. AF_02/2015","m3",1E-4,421.24455604249999,4.2124455604250002E-2,null,0]
[null,null,null,null,null,"","",null,0]
[null,null,"Fontes: ORSE 03735, PINI 05.102.000020.SER e 05.108.000450.SER",null,null,"","",null,0]
[null,null,"Observações: Considerando uma placa de 0,40 m x 0,80 m, que, conforme projeto, necessita de 2 inserts.",null,null,"","",null,0]
[null,null,null,null,null,"","",null,0]
["SF-00968",{"$f":"INDEX(Orçamentária!A:B,MATCH(Composições!A3313,Orçamentária!A:A,0),2)","v":"Mármore branco especial, e=30mm, instalação em fixadores metálicos existentes (modelo Edifício Principal)"},null,{"$f":"TRIM(INDEX(Orçamentária!D:D,MATCH(Composições!A3313,Orçamentária!A:A,0),1))","v":"m2"},null,"","",null,0]
[null,null,null,null,null,"","",null,0]
[null,null,"Mármore branco especial 30mm","m2",1.05,"","",{"$f":"SUM(G3315:G3320)","v":6.2783994556042506},0]
[null,null,"Marmorista/graniteiro com encargos complementares","h",0.25,18.420500000000001,4.6051250000000001,null,0]
[null,null,"Servente com Encargos Complementares","h",0.1,16.311500000000002,1.6311500000000003,null,0]
[null,null,"Broca com ponta de widia Ø 3/8\" x 160 mm","un ",{"$f":"(2/(0.4*0.8))*0.016/2","v":4.9999999999999996E-2},0,0,null,0]
[null,null,"Furadeira de impacto elétrica - 0,65 kW, Ø mandril 5/8\"","h prod",{"$f":"(2/(0.4*0.8))*0.1/2","v":0.3125},0,0,null,0]
[null,null,"GRAUTE FGK=25 MPA; TRAÇO 1:0,02:1,2:1,5 (CIMENTO/ CAL/ AREIA GROSSA/ BRITA 0) - PREPARO MECÂNICO COM BETONEIRA 400 L. AF_02/2015","m3",1E-4,421.24455604249999,4.2124455604250002E-2,null,0]
[null,null,null,null,null,"","",null,0]
[null,null,"Fontes: PINI 05.102.000020.SER e 05.108.000450.SER",null,null,"","",null,0]
[null,null,"Observações: Considerando uma placa de 0,40 m x 0,80 m, que, conforme projeto, necessita de 2 inserts.",null,null,"","",null,0]
[null,null,null,null,null,"","",null,0]
["SF-00970",{"$f":"INDEX(Orçamentária!A:B,MATCH(Composições!A3325,Orçamentária!A:A,0),2)","v":"Instalação de placas de rocha ornamental reaproveitadas, por meio de argamassa"},null,{"$f":"TRIM(INDEX(Orçamentária!D:D,MATCH(Composições!A3325,Orçamentária!A:A,0),1))","v":"m2"},null,"","",null,0]
[null,null,null,null,null,"","",null,0]
[null,null,"Marmorista/graniteiro com encargos complementares","h",1.35,18.420500000000001,24.867675000000002,{"$f":"SUM(G3327:G3330)","v":41.306474999999999},0]
[null,null,"Servente com Encargos Complementares","h",0.6,16.311500000000002,9.786900000000001,null,0]
[null,null,"Argamassa colante tipo AC III","kg",4.5,1.3109999999999999,5.8994999999999997,null,0]
[null,null,"Rejunte cimenticio, qualquer cor","kg",0.3,2.508,0.75239999999999996,null,0]
[null,null,null,null,null,"","",null,0]
["SF-00971",{"$f":"INDEX(Orçamentária!A:B,MATCH(Composições!A3332,Orçamentária!A:A,0),2)","v":"Instalação de placas de rocha ornamental reaproveitadas, por meio de argamassa e fixadores metálicos"},null,{"$f":"TRIM(INDEX(Orçamentária!D:D,MATCH(Composições!A3332,Orçamentária!A:A,0),1))","v":"m2"},null,"","",null,0]
[null,null,null,null,null,"","",null,0]
[null,null,"Marmorista/graniteiro com encargos complementares","h",{"$f":"1.35","v":1.35},18.420500000000001,24.867675000000002,{"$f":"SUM(G3334:G3343)","v":58.279024455604258},0]
[null,null,"Pedreiro com Encargos Complementares","h",0.1,22.087499999999999,2.2087499999999998,null,0]
[null,null,"Servente com Encargos Complementares","h",{"$f":"0.6+0.1+0.1","v":0.79999999999999993},16.311500000000002,13.049200000000001,null,0]
[null,null,"Argamassa colante tipo AC III","kg",4.5,1.3109999999999999,5.8994999999999997,null,0]
[null,null,"Rejunte cimenticio, qualquer cor","kg",0.3,2.508,0.75239999999999996,null,0]
[null,null,"PARAFUSO DE ACO TIPO CHUMBADOR PARABOLT, DIAMETRO 3/8\", COMPRIMENTO 75 MM","UN",{"$f":"2/(0.4*0.8)","v":6.2499999999999991},1.8334999999999999,11.459374999999998,null,0]
[null,null,"Broca com ponta de widia Ø 3/8\" x 160 mm","un ",{"$f":"(2/(0.4*0.8))*(0.016)*1.5","v":0.15},0,0,null,0]
[null,null,"Furadeira de impacto elétrica - 0,65 kW, Ø mandril 5/8\"","h prod",{"$f":"(2/(0.4*0.8))*0.1*1.5","v":0.9375},0,0,null,0]
[null,null,"Insert metálico tipo 1, conforme projeto","un ",{"$f":"2/(0.4*0.8)","v":6.2499999999999991},"","",null,0]
[null,null,"GRAUTE FGK=25 MPA; TRAÇO 1:0,02:1,2:1,5 (CIMENTO/ CAL/ AREIA GROSSA/ BRITA 0) - PREPARO MECÂNICO COM BETONEIRA 400 L. AF_02/2015","m3",1E-4,421.24455604249999,4.2124455604250002E-2,null,0]
[null,null,null,null,null,"","",null,0]
[null,null,"Fontes: ORSE 03735, PINI 05.102.000020.SER e 05.108.000450.SER",null,null,"",{"$f":"IF(ISNUMBER(F3345),E3345*F3345,\"\")","v":""},null,0]
[null,null,"Observações: Considerando uma placa de 0,40 m x 0,80 m, que, conforme projeto, necessita de 2 inserts.",null,null,"","",null,0]
[null,null,null,null,null,"","",null,0]
["SF-00972",{"$f":"INDEX(Orçamentária!A:B,MATCH(Composições!A3348,Orçamentária!A:A,0),2)","v":"Aplicação de hidrofugante à base de silano e silicone"},null,{"$f":"TRIM(INDEX(Orçamentária!D:D,MATCH(Composições!A3348,Orçamentária!A:A,0),1))","v":"m2"},null,"","",null,0]
[null,null,null,null,null,"","",null,0]
[null,null,"Pintor com encargos complementares","h",0.4,23.027999999999999,9.2111999999999998,{"$f":"SUM(G3350:G3352)","v":11.062749999999999},0]
[null,null,"Ajudante de pintor com Encargos Complementares","h",0.1,18.515499999999999,1.85155,null,0]
[null,null,"Hidrofugante à base de silano e silicone","L",0.33,0,0,null,0]
[null,null,null,null,null,"","",null,0]
["SF-00973",{"$f":"INDEX(Orçamentária!A:B,MATCH(Composições!A3354,Orçamentária!A:A,0),2)","v":"Cantoneira em alumínio abas iguais 1\" x 1/8\" – Pingadeira “L”"},null,{"$f":"TRIM(INDEX(Orçamentária!D:D,MATCH(Composições!A3354,Orçamentária!A:A,0),1))","v":"m"},null,"","",null,0]
[null,null,null,null,null,"","",null,0]
[null,null,"Marmorista/graniteiro com encargos complementares","h",0.6,18.420500000000001,11.052300000000001,{"$f":"SUM(G3356:G3358)","v":17.576900000000002},0]
[null,null,"Servente com Encargos Complementares","h",0.4,16.311500000000002,6.5246000000000013,null,0]
[null,null,"Cantoneira em alumínio abas iguais 1\" x 1/8\" com pintura eletrostática branca","m",1,"","",null,0]
[null,null,null,null,null,"","",null,0]
["SF-00974",{"$f":"INDEX(Orçamentária!A:B,MATCH(Composições!A3360,Orçamentária!A:A,0),2)","v":"Granito Amarelo Maracujá para rodapé"},null,{"$f":"TRIM(INDEX(Orçamentária!D:D,MATCH(Composições!A3360,Orçamentária!A:A,0),1))","v":"m2"},null,"","",null,0]
[null,null,null,null,null,"","",null,0]
[null,null,"Granito Amarelo Capri para rodapé","m2",1.05,"","",{"$f":"SUM(G3362:G3366)","v":93.847099000000014},0]
[null,null,"Argamassa colante tipo AC III","kg",{"$f":"0.8614/0.1","v":8.6140000000000008},1.3109999999999999,11.292954,null,0]
[null,null,"Marmorista/graniteiro com encargos complementares","h",{"$f":"0.299/0.1","v":2.9899999999999998},18.420500000000001,55.077294999999999,null,0]
[null,null,"Servente com Encargos Complementares","h",{"$f":"0.15/0.1","v":1.4999999999999998},16.311500000000002,24.46725,null,0]
[null,null,"Rejunte cimenticio, qualquer cor","kg",{"$f":"0.12/0.1","v":1.2},2.508,3.0095999999999998,null,0]
[null,null,null,null,null,"","",null,0]
["SF-00975",{"$f":"INDEX(Orçamentária!A:B,MATCH(Composições!A3368,Orçamentária!A:A,0),2)","v":"Acabamento das extremidades aparentes dos parafusos de fixação (lixamento e revestimento)"},null,{"$f":"TRIM(INDEX(Orçamentária!D:D,MATCH(Composições!A3368,Orçamentária!A:A,0),1))","v":"un"},null,"","",null,0]
[null,null,null,null,null,"","",null,0]
[null,null,"Servente com Encargos Complementares","h",0.05,16.311500000000002,0.81557500000000016,{"$f":"SUM(G3370:G3373)","v":0.94097500000000012},0]
[null,null,"Lixadeira angular manual elétrica Ø 7\" 2200 W 6600 rpm","loc/un/dia",{"$f":"0.25/10","v":2.5000000000000001E-2},0,0,null,0]
[null,null,"Ponta montada A2 haste 1/4\"","un",0.25,"","",null,0]
[null,null,"Rejunte cimenticio, qualquer cor","kg",0.05,2.508,0.12540000000000001,null,0]
[null,null,null,null,null,"","",null,0]
["SF-00976",{"$f":"INDEX(Orçamentária!A:B,MATCH(Composições!A3375,Orçamentária!A:A,0),2)","v":"Rejuntamento de placas de rocha ornamental em fachada"},null,{"$f":"TRIM(INDEX(Orçamentária!D:D,MATCH(Composições!A3375,Orçamentária!A:A,0),1))","v":"m2"},null,"","",null,0]
[null,null,null,null,null,"","",null,0]
[null,null,"Servente com Encargos Complementares","h",0.25,16.311500000000002,4.0778750000000006,{"$f":"SUM(G3377:G3378)","v":5.4046070000000004},0]
[null,null,"Rejunte cimenticio, qualquer cor","kg",0.52900000000000003,2.508,1.326732,null,0]
[null,null,null,null,null,"","",null,0]
["SF-00977",{"$f":"INDEX(Orçamentária!A:B,MATCH(Composições!A3380,Orçamentária!A:A,0),2)","v":"Junta de movimentação em fachada"},null,{"$f":"TRIM(INDEX(Orçamentária!D:D,MATCH(Composições!A3380,Orçamentária!A:A,0),1))","v":"m"},null,"","",null,0]
[null,null,null,null,null,"","",null,0]
[null,null,"Pedreiro com Encargos Complementares","h",0.33,22.087499999999999,7.288875,{"$f":"SUM(G3382:G3386)","v":20.932116650000001},0]
[null,null,"Servente com Encargos Complementares","h",0.1,16.311500000000002,1.6311500000000003,null,0]
[null,null,"Primer de secagem rápida e alto poder de aderência ao concreto","L",0.15,0,0,null,0]
[null,null,"Corpo de apoio em polietileno para aplicação de mástiques em juntas","m",1,0,0,null,0]
[null,null,"SELANTE ELASTICO MONOCOMPONENTE A BASE DE POLIURETANO (PU) PARA JUNTAS DIVERSAS","310ml",{"$f":"ROUND(0.15/0.31,4)","v":0.4839},24.823499999999999,12.01209165,null,0]
[null,null,null,null,null,"","",null,0]
["SF-00978",{"$f":"INDEX(Orçamentária!A:B,MATCH(Composições!A3388,Orçamentária!A:A,0),2)","v":"Adesivo Selante Poliuretano – fornecimento e aplicação"},null,{"$f":"TRIM(INDEX(Orçamentária!D:D,MATCH(Composições!A3388,Orçamentária!A:A,0),1))","v":"m"},null,"","",null,0]
[null,null,null,null,null,"","",null,0]
[null,null,"Pedreiro com Encargos Complementares","h",0.16500000000000001,22.087499999999999,3.6444375,{"$f":"SUM(G3390:G3392)","v":13.5467777},0]
[null,null,"Servente com Encargos Complementares","h",0.1,16.311500000000002,1.6311500000000003,null,0]
[null,null,"SELANTE ELASTICO MONOCOMPONENTE A BASE DE POLIURETANO (PU) PARA JUNTAS DIVERSAS","310ml",{"$f":"ROUND(0.1033/0.31,4)","v":0.3332},24.823499999999999,8.2711901999999995,null,0]
[null,null,null,null,null,"","",null,0]
["SF-00980",{"$f":"INDEX(Orçamentária!A:B,MATCH(Composições!A3394,Orçamentária!A:A,0),2)","v":"Chuveiro elétrico"},null,{"$f":"TRIM(INDEX(Orçamentária!D:D,MATCH(Composições!A3394,Orçamentária!A:A,0),1))","v":"un"},null,"","",null,0]
[null,null,null,null,null,"","",null,0]
[null,null,"CHUVEIRO COMUM EM PLASTICO BRANCO, COM CANO, 3 TEMPERATURAS, 5500 W (110/220 V)","UN",1,52.981500000000004,52.981500000000004,{"$f":"SUM(G3396:G3399)","v":65.004501450000006},0]
[null,null,"FITA VEDA ROSCA EM ROLOS DE 18 MM X 10 M (L X C)","UN",2.1000000000000001E-2,3.306,6.9426000000000002E-2,null,0]
[null,null,"ENCANADOR OU BOMBEIRO HIDRÁULICO COM ENCARGOS COMPLEMENTARES","H",0.44669999999999999,21.622,9.6585473999999998,null,0]
[null,null,"SERVENTE COM ENCARGOS COMPLEMENTARES","H",0.14069999999999999,16.311500000000002,2.29502805,null,0]
[null,null,null,null,null,"","",null,0]
["SF-00981",{"$f":"INDEX(Orçamentária!A:B,MATCH(Composições!A3401,Orçamentária!A:A,0),2)","v":"Base para pavimentação com concreto magro"},null,{"$f":"TRIM(INDEX(Orçamentária!D:D,MATCH(Composições!A3401,Orçamentária!A:A,0),1))","v":"m3"},null,"","",null,0]
[null,null,null,null,null,"","",null,0]
[null,null,"Pedreiro com Encargos Complementares","H",2,22.087499999999999,44.174999999999997,{"$f":"SUM(G3403:G3405)","v":486.51598280389999},0]
[null,null,"Servente com Encargos Complementares","H",6,16.311500000000002,97.869000000000014,null,0]
[null,null,"CONCRETO MAGRO PARA LASTRO, TRAÇO 1:4,5:4,5 (CIMENTO/ AREIA MÉDIA/ BRITA 1)  - PREPARO MECÂNICO COM BETONEIRA 600 L. AF_07/2016","M3",1,344.47198280389995,344.47198280389995,null,0]
[null,null,null,null,null,"","",null,0]
["SF-00982",{"$f":"INDEX(Orçamentária!A:B,MATCH(Composições!A3407,Orçamentária!A:A,0),2)","v":"Pavimentação em concreto armado simples"},null,{"$f":"TRIM(INDEX(Orçamentária!D:D,MATCH(Composições!A3407,Orçamentária!A:A,0),1))","v":"m2"},null,"","",null,90]
[null,null,null,null,null,"","",null,90]
[null,null,"CONCRETO USINADO BOMBEAVEL, CLASSE DE RESISTENCIA C20, COM BRITA 0 E 1, SLUMP = 100 +/- 20 MM, EXCLUI SERVICO DE BOMBEAMENTO (NBR 8953)","M3",8.14E-2,264.86,{"$f":"IF(ISNUMBER(F3409),E3409*F3409,\"\")","v":21.559604},{"$f":"SUM(G3409:G3415)","v":74.315280450000003},90]
[null,null,"ENDURECEDOR MINERAL DE BASE CIMENTICIA PARA PISO DE CONCRETO","KG",4,6.3744999999999994,25.497999999999998,null,90]
[null,null,"PEDREIRO COM ENCARGOS COMPLEMENTARES","H",0.1119,22.087499999999999,2.4715912499999999,null,90]
[null,null,"SERVENTE COM ENCARGOS COMPLEMENTARES","H",4.6600000000000003E-2,16.311500000000002,0.76011590000000018,null,90]
[null,null,"DESEMPENADEIRA DE CONCRETO, PESO DE 75KG, 4 PÁS, MOTOR A GASOLINA, POTÊNCIA 5,5 HP - CHP DIURNO. AF_09/2016","CHP",7.0000000000000001E-3,6.7734999999999994,4.7414499999999998E-2,null,90]
[null,null,"TELA DE ACO SOLDADA NERVURADA, CA-60, Q-196, (3,11 KG/M2), DIAMETRO DO FIO = 5,0 MM, LARGURA = 2,45 M, ESPACAMENTO DA MALHA = 10 X 10 CM","M2",1.1224000000000001,19.151999999999997,21.496204799999997,null,90]
[null,null,"SELANTE ELASTICO MONOCOMPONENTE A BASE DE POLIURETANO (PU) PARA JUNTAS DIVERSAS","310ML",0.1,24.823499999999999,2.4823500000000003,null,90]
[null,null,null,null,null,"","",null,90]
["SF-00983",{"$f":"INDEX(Orçamentária!A:B,MATCH(Composições!A3417,Orçamentária!A:A,0),2)","v":"Remoção de reservatório d’água"},null,{"$f":"TRIM(INDEX(Orçamentária!D:D,MATCH(Composições!A3417,Orçamentária!A:A,0),1))","v":"un"},null,"","",null,0]
[null,null,null,null,null,"","",null,0]
[null,null,"Encanador ou Bombeiro Hidráulico com Encargos Complementares","h",4,21.622,86.488,{"$f":"SUM(G3419:G3420)","v":151.73400000000001},0]
[null,null,"Servente com Encargos Complementares","h",4,16.311500000000002,65.246000000000009,null,0]
[null,null,null,null,null,"","",null,0]
["SF-00984",{"$f":"INDEX(Orçamentária!A:B,MATCH(Composições!A3422,Orçamentária!A:A,0),2)","v":"Transporte e destinação final de entulho para distâncias até 30 km"},null,{"$f":"TRIM(INDEX(Orçamentária!D:D,MATCH(Composições!A3422,Orçamentária!A:A,0),1))","v":"m3 x km"},null,"","",null,0]
[null,null,null,null,null,"","",null,0]
[null,null,"CAMINHÃO BASCULANTE 6 M3 TOCO, PESO BRUTO TOTAL 16.000 KG, CARGA ÚTIL MÁXIMA 11.130 KG, DISTÂNCIA ENTRE EIXOS 5,36 M, POTÊNCIA 185 CV, INCLUSIVE CAÇAMBA METÁLICA - CHP DIURNO. AF_06/2014","CHP",1.3899999999999999E-2,100.21549999999999,1.3929954499999997,{"$f":"SUM(G3424:G3425)","v":1.5871944499999997},0]
[null,null,"CAMINHÃO BASCULANTE 6 M3 TOCO, PESO BRUTO TOTAL 16.000 KG, CARGA ÚTIL MÁXIMA 11.130 KG, DISTÂNCIA ENTRE EIXOS 5,36 M, POTÊNCIA 185 CV, INCLUSIVE CAÇAMBA METÁLICA - CHI DIURNO. AF_06/2014","CHI",6.0000000000000001E-3,32.366500000000002,0.19419900000000001,null,0]
[null,null,null,null,null,"","",null,0]
["SF-00986",{"$f":"INDEX(Orçamentária!A:B,MATCH(Composições!A3427,Orçamentária!A:A,0),2)","v":"Demolição de estrutura metálica"},null,{"$f":"TRIM(INDEX(Orçamentária!D:D,MATCH(Composições!A3427,Orçamentária!A:A,0),1))","v":"kg"},null,"","",null,0]
[null,null,null,null,null,"","",null,0]
[null,null,"OXIGENIO, RECARGA PARA CILINDRO DE CONJUNTO OXICORTE GRANDE","m3",2.1999999999999999E-2,11.561499999999999,0.25435299999999994,{"$f":"SUM(G3429:G3433)","v":3.1703779999999999},0]
[null,null,"ACETILENO (RECARGA PARA CILINDRO DE CONJUNTO OXICORTE GRANDE)","kg",5.0000000000000001E-3,52.762999999999998,0.26381500000000002,null,0]
[null,null,"APARELHO PARA CORTE E SOLDA OXI-ACETILENO SOBRE RODAS, INCLUSIVE CILINDROS E MAÇARICOS - CHP DIURNO. AF_12/2015","CHP",{"$f":"E3432","v":4.3999999999999997E-2},21.365499999999997,0.94008199999999986,null,0]
[null,null,"Soldador com encargos complementares","h",4.3999999999999997E-2,22.600499999999997,0.99442199999999981,null,0]
[null,null,"Servente com Encargos Complementares","h",4.3999999999999997E-2,16.311500000000002,0.71770600000000007,null,0]
[null,null,null,null,null,"","",null,0]
["SF-00987",{"$f":"INDEX(Orçamentária!A:B,MATCH(Composições!A3435,Orçamentária!A:A,0),2)","v":"Escavação manual com profundidade maior do que 1,30 m"},null,{"$f":"TRIM(INDEX(Orçamentária!D:D,MATCH(Composições!A3435,Orçamentária!A:A,0),1))","v":"m3"},null,"","",null,0]
[null,null,null,null,null,"","",null,0]
[null,null,"Servente com Encargos Complementares","h",4.3,16.311500000000002,70.139450000000011,{"$f":"SUM(G3437:G3437)","v":70.139450000000011},0]
[null,null,null,null,null,"","",null,0]
["SF-00988",{"$f":"INDEX(Orçamentária!A:B,MATCH(Composições!A3439,Orçamentária!A:A,0),2)","v":"Escavação mecânica com profundidade maior do que 1,30 m"},null,{"$f":"TRIM(INDEX(Orçamentária!D:D,MATCH(Composições!A3439,Orçamentária!A:A,0),1))","v":"m3"},null,"","",null,1380]
[null,null,null,null,null,"","",null,1380]
[null,null,"RETROESCAVADEIRA SOBRE RODAS COM CARREGADEIRA, TRAÇÃO 4X4, POTÊNCIA LÍQ. 88 HP, CAÇAMBA CARREG. CAP. MÍN. 1 M3, CAÇAMBA RETRO CAP. 0,26 M3, PESO OPERACIONAL MÍN. 6.674 KG, PROFUNDIDADE ESCAVAÇÃO MÁX. 4,37 M - CHP DIURNO. AF_06/2014","CHP",2.7099999999999999E-2,84.759,2.2969689,{"$f":"SUM(G3441:G3443)","v":4.4948765500000007},1380]
[null,null,"RETROESCAVADEIRA SOBRE RODAS COM CARREGADEIRA, TRAÇÃO 4X4, POTÊNCIA LÍQ. 88 HP, CAÇAMBA CARREG. CAP. MÍN. 1 M3, CAÇAMBA RETRO CAP. 0,26 M3, PESO OPERACIONAL MÍN. 6.674 KG, PROFUNDIDADE ESCAVAÇÃO MÁX. 4,37 M - CHI DIURNO. AF_06/2014","CHI",3.2800000000000003E-2,37.220999999999997,1.2208488,null,1380]
[null,null,"SERVENTE COM ENCARGOS COMPLEMENTARES","H",5.9900000000000002E-2,16.311500000000002,0.97705885000000015,null,1380]
[null,null,null,null,null,"","",null,1380]
["SF-00989",{"$f":"INDEX(Orçamentária!A:B,MATCH(Composições!A3445,Orçamentária!A:A,0),2)","v":"Grama Batatais em placas de 40 x 40 cm"},null,{"$f":"TRIM(INDEX(Orçamentária!D:D,MATCH(Composições!A3445,Orçamentária!A:A,0),1))","v":"m2"},null,"","",null,160]
[null,null,null,null,null,"","",null,160]
[null,null,"GRAMA BATATAIS EM PLACAS, SEM PLANTIO","m2",1,4.6739999999999995,4.6739999999999995,{"$f":"SUM(G3447:G3457)","v":38.097011202516008},160]
[null,null,"Servente com Encargos Complementares","h",0.15640000000000001,16.311500000000002,2.5511186000000006,null,160]
[null,null,"JARDINEIRO COM ENCARGOS COMPLEMENTARES","h",3.9100000000000003E-2,21.365499999999997,0.83539104999999991,null,160]
[null,null,"Servente com Encargos Complementares","h",{"$f":"1.6*0.25","v":0.4},16.311500000000002,6.5246000000000013,null,160]
[null,null,"CALCARIO DOLOMITICO A (POSTO PEDREIRA/FORNECEDOR, SEM FRETE)","kg",{"$f":"1*0.25","v":0.25},0.14249999999999999,3.5624999999999997E-2,null,160]
[null,null,"TERRA VEGETAL (GRANEL)","m3",{"$f":"0.9*0.25","v":0.22500000000000001},101.783,22.901175000000002,null,160]
[null,null,"FERTILIZANTE NPK - 10:10:10","kg",{"$f":"1*0.25","v":0.25},2.1945000000000001,0.54862500000000003,null,160]
[null,null,"FERTILIZANTE ORGANICO COMPOSTO, CLASSE A","kg",{"$f":"0.1*0.25","v":2.5000000000000001E-2},0.8075,2.0187500000000001E-2,null,160]
[null,null,"CARGA, MANOBRAS E DESCARGA DE AREIA, BRITA, PEDRA DE MAO E SOLOS COM CAMINHAO BASCULANTE 6 M3 (DESCARGA LIVRE)","t",{"$f":"ROUND(1*E3451/1000,4)","v":2.9999999999999997E-4},3.2723392199999997,9.8170176599999973E-4,null,160]
[null,null,"TRANSPORTE COM CAMINHÃO BASCULANTE DE 6 M3, EM VIA URBANA PAVIMENTADA, DMT ATÉ 30 KM (UNIDADE: TxKM). AF_01/2018","TxKM",{"$f":"20*E3451*1/1000","v":5.0000000000000001E-3},1.0614701499999997,5.3073507499999985E-3,null,160]
[null,null,null,null,null,"","",null,160]
[null,null,"Obs.: Considerando fornecedor de calcário a 20km do Senado Federal.",null,null,"","",null,160]
[null,null,null,null,null,"","",null,160]
["SF-00990",{"$f":"INDEX(Orçamentária!A:B,MATCH(Composições!A3460,Orçamentária!A:A,0),2)","v":"Pintura de meios-fios com tinta acrílica"},null,{"$f":"TRIM(INDEX(Orçamentária!D:D,MATCH(Composições!A3460,Orçamentária!A:A,0),1))","v":"m"},null,"","",null,0]
[null,null,null,null,null,"","",null,0]
[null,null,"TINTA ACRILICA PREMIUM PARA PISO","L",{"$f":"ROUND(0.17/2*(0.25+0.13+0.25),4)","v":5.3600000000000002E-2},13.233499999999999,0.70931559999999994,{"$f":"SUM(G3462:G3464)","v":4.5326832249999995},0]
[null,null,"PINTOR COM ENCARGOS COMPLEMENTARES","H",{"$f":"0.35*(0.25+0.13+0.25)/2","v":0.11024999999999999},23.027999999999999,2.5388369999999996,null,0]
[null,null,"Servente com Encargos Complementares","H",{"$f":"0.25*(0.25+0.13+0.25)/2","v":7.8750000000000001E-2},16.311500000000002,1.2845306250000001,null,0]
[null,null,null,null,null,"","",null,0]
[null,null,"Obs: considerando uma demão, meio-fio de 30 cm x 15 cm x 13 cm (altura, base inferior, base superior), enterrado 5 cm.",null,null,"","",null,0]
[null,null,null,null,null,"","",null,0]
["SF-00991",{"$f":"INDEX(Orçamentária!A:B,MATCH(Composições!A3468,Orçamentária!A:A,0),2)","v":"Meios-fios em concreto pré-moldado"},null,{"$f":"TRIM(INDEX(Orçamentária!D:D,MATCH(Composições!A3468,Orçamentária!A:A,0),1))","v":"m"},null,"","",null,0]
[null,null,null,null,null,"","",null,0]
[null,null,"AREIA MEDIA - POSTO JAZIDA/FORNECEDOR (RETIRADO NA JAZIDA, SEM TRANSPORTE)","m3",7.0000000000000001E-3,93.8125,0.65668749999999998,{"$f":"SUM(G3470:G3478)","v":38.418881221538989},0]
[null,null,"MEIO-FIO OU GUIA DE CONCRETO, PRE-MOLDADO, COMP 1 M, *30 X 15/ 12* CM (H X L1/L2)","m",1.0049999999999999,21.279999999999998,21.386399999999995,null,0]
[null,null,"Pedreiro com Encargos Complementares","h",0.39400000000000002,22.087499999999999,8.7024749999999997,null,0]
[null,null,"Servente com Encargos Complementares","h",0.39400000000000002,16.311500000000002,{"$f":"IF(ISNUMBER(F3473),E3473*F3473,\"\")","v":6.4267310000000011},null,0]
[null,null,"ARGAMASSA TRAÇO 1:3 (EM VOLUME DE CIMENTO E AREIA MÉDIA ÚMIDA), PREPARO MANUAL. AF_08/2019","m3",2E-3,495.02793591949995,0.9900558718389999,null,0]
[null,null,"CARGA, MANOBRA E DESCARGA DE SOLOS E MATERIAIS GRANULARES EM CAMINHÃO BASCULANTE 6 M³ - CARGA COM PÁ CARREGADEIRA (CAÇAMBA DE 1,7 A 2,8 M³ / 128 HP) E DESCARGA LIVRE (UNIDADE: M3). AF_07/2020","m3",{"$f":"1*E3470","v":7.0000000000000001E-3},4.9035180999999994,3.4324626699999999E-2,null,0]
[null,null,"TRANSPORTE COM CAMINHÃO BASCULANTE DE 6 M3, EM VIA URBANA PAVIMENTADA, DMT ATÉ 30 KM (UNIDADE: M3xKM). AF_01/2018","M3xKM",{"$f":"0.007*20","v":0.14000000000000001},1.5871944499999999,0.22220722300000001,null,0]
[null,null,null,null,null,"","",null,0]
[null,null,"Obs.: Considerando fornecedor de areia a 20km do Senado Federal.",null,null,"","",null,0]
[null,null,null,null,null,"","",null,0]
["SF-00992",{"$f":"INDEX(Orçamentária!A:B,MATCH(Composições!A3480,Orçamentária!A:A,0),2)","v":"Tubo PEAD corrugado para drenagem – Diâmetro 100 mm"},null,{"$f":"TRIM(INDEX(Orçamentária!D:D,MATCH(Composições!A3480,Orçamentária!A:A,0),1))","v":"m"},null,"","",null,0]
[null,null,null,null,null,"","",null,0]
[null,null,"PEDRA BRITADA N. 2 (19 A 38 MM) POSTO PEDREIRA/FORNECEDOR, SEM FRETE","M3",8.2100000000000006E-2,103.474,8.4952154000000011,{"$f":"SUM(G3482:G3492)","v":30.268516672910003},0]
[null,null,"CAMINHÃO BASCULANTE 6 M3, PESO BRUTO TOTAL 16.000 KG, CARGA ÚTIL MÁXIMA 13.071 KG, DISTÂNCIA ENTRE EIXOS 4,80 M, POTÊNCIA 230 CV INCLUSIVE CAÇAMBA METÁLICA - CHP DIURNO. AF_06/2014","CHP",3.2000000000000002E-3,113.01199999999999,0.36163839999999997,null,0]
[null,null,"TUBO DRENO, CORRUGADO, ESPIRALADO, FLEXIVEL, PERFURADO, EM POLIETILENO DE ALTA DENSIDADE (PEAD), DN 100 MM, (4\") PARA DRENAGEM - EM ROLO (NORMA DNIT 093/2006 - E.M)","M",1,4.9305000000000003,4.9305000000000003,null,0]
[null,null,"ENCANADOR OU BOMBEIRO HIDRÁULICO COM ENCARGOS COMPLEMENTARES","H",1.7500000000000002E-2,21.622,0.37838500000000003,null,0]
[null,null,"SERVENTE COM ENCARGOS COMPLEMENTARES","H",0.79930000000000001,16.311500000000002,13.037781950000001,null,0]
[null,null,"PLACA VIBRATÓRIA REVERSÍVEL COM MOTOR 4 TEMPOS A GASOLINA, FORÇA CENTRÍFUGA DE 25 KN (2500 KGF), POTÊNCIA 5,5 CV - CHP DIURNO. AF_08/2015","CHP",7.6E-3,7.4005000000000001,5.6243800000000004E-2,null,0]
[null,null,"CARGA, MANOBRA E DESCARGA DE SOLOS E MATERIAIS GRANULARES EM CAMINHÃO BASCULANTE 6 M³ - CARGA COM PÁ CARREGADEIRA (CAÇAMBA DE 1,7 A 2,8 M³ / 128 HP) E DESCARGA LIVRE (UNIDADE: M3). AF_07/2020","m3",{"$f":"1*E3482","v":8.2100000000000006E-2},4.9035180999999994,0.40257883601,null,0]
[null,null,"TRANSPORTE COM CAMINHÃO BASCULANTE DE 6 M3, EM VIA URBANA PAVIMENTADA, DMT ATÉ 30 KM (UNIDADE: M3xKM). AF_01/2018","M3xKM",{"$f":"E3482*20","v":1.6420000000000001},1.5871944499999999,2.6061732869000003,null,0]
[null,null,null,null,null,"","",null,0]
[null,null,"Obs.: Considerando fornecedor de brita a 20km do Senado Federal.",null,null,"","",null,0]
[null,null,null,null,null,"","",null,0]
["SF-00994",{"$f":"INDEX(Orçamentária!A:B,MATCH(Composições!A3493,Orçamentária!A:A,0),2)","v":"Fixadores metálicos para rochas ornamentais (Modelo Edifício Principal, peça inferior)"},null,{"$f":"TRIM(INDEX(Orçamentária!D:D,MATCH(Composições!A3493,Orçamentária!A:A,0),1))","v":"un"},null,"","",null,0]
[null,null,null,null,null,"","",null,0]
[null,null,"Pedreiro com Encargos Complementares","h",{"$f":"0.1+0.1","v":0.2},22.087499999999999,4.4174999999999995,{"$f":"SUM(G3495:G3500)","v":7.8482978224169999},0]
[null,null,"Servente com Encargos Complementares","h",{"$f":"0.1+0.1","v":0.2},16.311500000000002,3.2623000000000006,null,0]
[null,null,"Broca com ponta de widia Ø 3/8\" x 160 mm","un ",{"$f":"0.016*2","v":3.2000000000000001E-2},0,0,null,0]
[null,null,"Furadeira de impacto elétrica - 0,65 kW, Ø mandril 5/8\"","h prod",{"$f":"0.1*2","v":0.2},0,0,null,0]
[null,null,"Insert metálico tipo 3, conforme projeto","un ",1,"","",null,0]
[null,null,"GRAUTE FGK=25 MPA; TRAÇO 1:0,02:1,2:1,5 (CIMENTO/ CAL/ AREIA GROSSA/ BRITA 0) - PREPARO MECÂNICO COM BETONEIRA 400 L. AF_02/2015","m3",{"$f":"ROUND(0.15*0.05*0.05,4)","v":4.0000000000000002E-4},421.24455604249999,0.16849782241700001,null,0]
[null,null,null,null,null,"","",null,0]
[null,null,"Fontes: PINI 05.102.000020.SER",null,null,"","",null,0]
[null,null,null,null,null,"","",null,0]
["SF-01001",{"$f":"INDEX(Orçamentária!A:B,MATCH(Composições!A3504,Orçamentária!A:A,0),2)","v":"Locação de Container - Escritório"},null,{"$f":"TRIM(INDEX(Orçamentária!D:D,MATCH(Composições!A3504,Orçamentária!A:A,0),1))","v":"mês"},null,"","",null,0]
[null,null,null,null,null,"","",null,0]
[null,null,"LOCACAO DE CONTAINER 2,30  X  6,00 M, ALT. 2,50 M, COM 1 SANITARIO, PARA ESCRITORIO, COMPLETO, SEM DIVISORIAS INTERNAS","MES",1,495.9,495.9,{"$f":"SUM(G3506:G3506)","v":495.9},0]
[null,null,null,null,null,"","",null,0]
["SF-01011",{"$f":"INDEX(Orçamentária!A:B,MATCH(Composições!A3508,Orçamentária!A:A,0),2)","v":"Abertura/fechamento de rasgo em concreto"},null,{"$f":"TRIM(INDEX(Orçamentária!D:D,MATCH(Composições!A3508,Orçamentária!A:A,0),1))","v":"m"},null,"","",null,0]
[null,null,null,null,null,"","",null,0]
[null,null,"MARTELETE OU ROMPEDOR PNEUMÁTICO MANUAL, 28 KG, COM SILENCIADOR - CHP DIURNO. AF_07/2016","CHP",0.183,20.035499999999999,3.6664964999999996,{"$f":"SUM(G3510:G3516)","v":35.800993487355996},0]
[null,null,"MARTELETE OU ROMPEDOR PNEUMÁTICO MANUAL, 28 KG, COM SILENCIADOR - CHI DIURNO. AF_07/2016","CHI",0.40100000000000002,18.724499999999999,7.5085245,null,0]
[null,null,"Auxiliar de encanador ou bombeiro hidráulico com encargos complementares","h",9.0999999999999998E-2,16.891000000000002,1.5370810000000001,null,0]
[null,null,"Encanador ou Bombeiro Hidráulico com Encargos Complementares","h",0.58299999999999996,21.622,12.605625999999999,null,0]
[null,null,"Auxiliar de encanador ou bombeiro hidráulico com encargos complementares","h",3.7999999999999999E-2,16.891000000000002,0.64185800000000004,null,0]
[null,null,"Encanador ou Bombeiro Hidráulico com Encargos Complementares","h",0.27200000000000002,21.622,5.8811840000000002,null,0]
[null,null,"ARGAMASSA TRAÇO 1:3 (EM VOLUME DE CIMENTO E AREIA MÉDIA ÚMIDA), PREPARO MANUAL. AF_08/2019","m3",8.0000000000000002E-3,495.02793591949995,3.9602234873559996,null,0]
[null,null,null,null,null,"","",null,0]
["SF-01012",{"$f":"INDEX(Orçamentária!A:B,MATCH(Composições!A3518,Orçamentária!A:A,0),2)","v":"Recomposição de rejuntamento sobre revestimentos"},null,{"$f":"TRIM(INDEX(Orçamentária!D:D,MATCH(Composições!A3518,Orçamentária!A:A,0),1))","v":"m2"},null,"","",null,0]
[null,null,null,null,null,"","",null,0]
[null,null,"Rejunte cimenticio, qualquer cor","kg",0.25900000000000001,2.508,0.64957200000000004,{"$f":"SUM(G3520:G3521)","v":8.8053220000000003},0]
[null,null,"Servente com Encargos Complementares","h",{"$f":"0.25*2","v":0.5},16.311500000000002,8.1557500000000012,null,0]
[null,null,null,null,null,"","",null,0]
["SF-01013",{"$f":"INDEX(Orçamentária!A:B,MATCH(Composições!A3523,Orçamentária!A:A,0),2)","v":"Impermeabilização de revestimentos em pedra"},null,{"$f":"TRIM(INDEX(Orçamentária!D:D,MATCH(Composições!A3523,Orçamentária!A:A,0),1))","v":"m2"},null,"","",null,0]
[null,null,null,null,null,"","",null,0]
[null,null,"Impermeabilizante Idea HP","L",{"$f":"ROUND(1/12,4)","v":8.3299999999999999E-2},"","",{"$f":"SUM(G3525:G3527)","v":18.145949999999999},0]
[null,null,"IMPERMEABILIZADOR COM ENCARGOS COMPLEMENTARES","H",{"$f":"1.2/2","v":0.6},22.087499999999999,13.2525,null,0]
[null,null,"Servente com Encargos Complementares","H",{"$f":"0.6/2","v":0.3},16.311500000000002,4.8934500000000005,null,0]
[null,null,null,null,null,"","",null,0]
[null,null,"Obs: Rendimento informado na especificação do serviço (12 m2 para 1 L, considerando duas demãos).",null,null,"","",null,0]
[null,null,"Fonte: SINAPI 73872/2",null,null,"","",null,0]
[null,null,null,null,null,"","",null,0]
["SF-01014",{"$f":"INDEX(Orçamentária!A:B,MATCH(Composições!A3532,Orçamentária!A:A,0),2)","v":"Piso vinílico semiflexível"},null,{"$f":"TRIM(INDEX(Orçamentária!D:D,MATCH(Composições!A3532,Orçamentária!A:A,0),1))","v":"m2"},null,"","",null,0]
[null,null,null,null,null,"","",null,0]
[null,null,"ADESIVO ACRILICO/COLA DE CONTATO","KG",9.5000000000000001E-2,24.595499999999998,2.3365724999999999,{"$f":"SUM(G3534:G3539)","v":98.340143000000012},0]
[null,null,"PLACA VINILICA SEMIFLEXIVEL PARA REVESTIMENTO DE PISOS E PAREDES, E = 2 MM (SEM COLOCACAO)","M2",1.1100000000000001,79.248999999999995,87.966390000000004,null,0]
[null,null,"PEDREIRO COM ENCARGOS COMPLEMENTARES","H",0.26100000000000001,22.087499999999999,5.7648374999999996,null,0]
[null,null,"SERVENTE COM ENCARGOS COMPLEMENTARES","H",0.13,16.311500000000002,{"$f":"IF(ISNUMBER(F3537),E3537*F3537,\"\")","v":2.1204950000000005},null,0]
[null,null,"POLIDORA DE PISO (POLITRIZ), PESO DE 100KG, DIÂMETRO 450 MM, MOTOR ELÉTRICO, POTÊNCIA 4 HP - CHP DIURNO. AF_09/2016","CHP",2.5000000000000001E-2,2.1280000000000001,5.3200000000000004E-2,null,0]
[null,null,"POLIDORA DE PISO (POLITRIZ), PESO DE 100KG, DIÂMETRO 450 MM, MOTOR ELÉTRICO, POTÊNCIA 4 HP - CHI DIURNO. AF_09/2016","CHI",0.23599999999999999,0.41799999999999998,9.8647999999999986E-2,null,0]
[null,null,null,null,null,"","",null,0]
["SF-01029",{"$f":"INDEX(Orçamentária!A:B,MATCH(Composições!A3541,Orçamentária!A:A,0),2)","v":"Locação de Container - Sanitário"},null,{"$f":"TRIM(INDEX(Orçamentária!D:D,MATCH(Composições!A3541,Orçamentária!A:A,0),1))","v":"mês"},null,"","",null,0]
[null,null,null,null,null,"","",null,0]
[null,null,"LOCACAO DE CONTAINER 2,30 X 6,00 M, ALT. 2,50 M,  PARA SANITARIO,  COM 4 BACIAS, 8 CHUVEIROS,1 LAVATORIO E 1 MICTORIO","MES",1,619.875,619.875,{"$f":"SUM(G3543:G3543)","v":619.875},0]
[null,null,null,null,null,"","",null,0]
["SF-01030",{"$f":"INDEX(Orçamentária!A:B,MATCH(Composições!A3545,Orçamentária!A:A,0),2)","v":"Locação de Container - Almoxarifado"},null,{"$f":"TRIM(INDEX(Orçamentária!D:D,MATCH(Composições!A3545,Orçamentária!A:A,0),1))","v":"mês"},null,"","",null,0]
[null,null,null,null,null,"","",null,0]
[null,null,"LOCACAO DE CONTAINER 2,30  X  6,00 M, ALT. 2,50 M, PARA ESCRITORIO, SEM DIVISORIAS INTERNAS E SEM SANITARIO","MES",1,387.41949999999997,387.41949999999997,{"$f":"SUM(G3547:G3547)","v":387.41949999999997},0]
[null,null,null,null,null,"","",null,0]
["SF-01031",{"$f":"INDEX(Orçamentária!A:B,MATCH(Composições!A3549,Orçamentária!A:A,0),2)","v":"Placa de Obra"},null,{"$f":"TRIM(INDEX(Orçamentária!D:D,MATCH(Composições!A3549,Orçamentária!A:A,0),1))","v":"m2"},null,"","",null,0]
[null,null,null,null,null,"","",null,0]
[null,null,"PLACA DE OBRA (PARA CONSTRUCAO CIVIL) EM CHAPA GALVANIZADA *N. 22*, ADESIVADA, DE *2,0 X 1,125* M","M2",1,237.5,237.5,{"$f":"SUM(G3551:G3552)","v":237.5},0]
[null,null,null,null,null,"","",null,0]
["SF-01041",{"$f":"INDEX(Orçamentária!A:B,MATCH(Composições!A3553,Orçamentária!A:A,0),2)","v":"Supervisor de Obras e Manutenção – Apoio de campo – Segurança do Trabalho"},null,{"$f":"TRIM(INDEX(Orçamentária!D:D,MATCH(Composições!A3553,Orçamentária!A:A,0),1))","v":"Profissional"},null,"","",null,0]
[null,null,null,null,null,"","",null,0]
[null,null,"TÉCNICO EM SEGURANÇA DO TRABALHO COM ENCARGOS COMPLEMENTARES","MES",{"$f":"ROUND(1/(1+72.54%),4)","v":0.5796},6607.9529999999995,3829.9695588,{"$f":"SUM(G3555:G3558)","v":3829.9695588},0]
[null,null,null,null,null,"","",null,0]
[null,null,"Obs: considerando 220h/mês e encargos sociais indicados na tabela do SINAPI.",null,null,"","",null,0]
[null,null,null,null,null,"","",null,0]
["SF-01053",{"$f":"INDEX(Orçamentária!A:B,MATCH(Composições!A3559,Orçamentária!A:A,0),2)","v":"Reparo de placas de mármore com adesivo estrutural epóxi branco/transparente "},null,{"$f":"TRIM(INDEX(Orçamentária!D:D,MATCH(Composições!A3559,Orçamentária!A:A,0),1))","v":"m2"},null,"","",null,0]
[null,null,null,null,null,"","",null,0]
[null,null,"Marmorista/graniteiro com encargos complementares","h",{"$f":"0.5/50","v":0.01},18.420500000000001,0.18420500000000001,{"$f":"SUM(G3561:G3562)","v":0.18420500000000001},0]
[null,null,"Adesivo epóxi estrutural - bisnaga de 50ml","un ",{"$f":"1/50","v":0.02},"","",null,0]
[null,null,null,null,null,"","",null,0]
["SF-01054",{"$f":"INDEX(Orçamentária!A:B,MATCH(Composições!A3564,Orçamentária!A:A,0),2)","v":"Perfil de chapa de aço galvanizado para esquadria (Anexo 1)"},null,{"$f":"TRIM(INDEX(Orçamentária!D:D,MATCH(Composições!A3564,Orçamentária!A:A,0),1))","v":"m2"},null,"","",null,0]
[null,null,null,null,null,"","",null,0]
[null,null,"Pedreiro com Encargos Complementares","h",0.5,22.087499999999999,11.043749999999999,{"$f":"SUM(G3566:G3571)","v":29.248348204078898},0]
[null,null,"Servente com Encargos Complementares","h",0.51,16.311500000000002,8.3188650000000006,null,0]
[null,null,"ARGAMASSA TRAÇO 1:3 (EM VOLUME DE CIMENTO E AREIA GROSSA ÚMIDA) PARA CHAPISCO CONVENCIONAL, PREPARO MANUAL. AF_08/2019","m3",3.0999999999999999E-3,509.75711421900002,1.5802470540789,null,0]
[null,null,"Perfil metálico em chapa #14 dobrada","m",1,"","",null,0]
[null,null,"Servente com Encargos Complementares","h",0.15,16.311500000000002,2.4467250000000003,null,0]
[null,null,"SILICONE ACETICO USO GERAL INCOLOR 280 G","UN",{"$f":"ROUND(0.1/0.28,4)","v":0.35709999999999997},16.406499999999998,5.8587611499999985,null,0]
[null,null,null,null,null,"","",null,0]
[null,null,"Fonte: SIURB 08-01-70 e CDHU 403091",null,null,"","",null,0]
[null,null,null,null,null,"","",null,0]
["SF-01059",{"$f":"INDEX(Orçamentária!A:B,MATCH(Composições!A3575,Orçamentária!A:A,0),2)","v":"Granito Vermelho Brasília 20 mm para bancadas"},null,{"$f":"TRIM(INDEX(Orçamentária!D:D,MATCH(Composições!A3575,Orçamentária!A:A,0),1))","v":"m2"},null,"","",null,0]
[null,null,null,null,null,"","",null,0]
[null,null,"MASSA PLASTICA PARA MARMORE/GRANITO","KG",{"$f":"ROUND(0.5228/(1.5*0.6),4)","v":0.58089999999999997},27.293499999999998,15.854794149999998,{"$f":"SUM(G3577:G3583)","v":98.539513799999995},0]
[null,null,"BUCHA DE NYLON SEM ABA S10, COM PARAFUSO DE 6,10 X 65 MM EM ACO ZINCADO COM ROSCA SOBERBA, CABECA CHATA E FENDA PHILLIPS","UN",{"$f":"ROUND(6/(1.5*0.6),4)","v":6.6666999999999996},0.874,5.8266957999999995,null,0]
[null,null,"Granito Vermelho Brasília, com 20 mm de espessura, polido, com testeira para acabamento em meia esquadria, para bancadas","M2",{"$f":"ROUND(1.005/(1.5*0.6),4)","v":1.1167},"","",null,0]
[null,null,"REJUNTE EPOXI, QUALQUER COR","KG",{"$f":"ROUND(0.0211/(1.5*0.6),4)","v":2.3400000000000001E-2},52.8675,1.2370995,null,0]
[null,null,"SUPORTE MAO-FRANCESA EM ACO, ABAS IGUAIS 40 CM, CAPACIDADE MINIMA 70 KG, BRANCO","UN",{"$f":"ROUND(2/(1.5*0.6),4)","v":2.2222},12.2455,27.211950099999999,null,0]
[null,null,"MARMORISTA/GRANITEIRO COM ENCARGOS COMPLEMENTARES","H",{"$f":"ROUND(1.4944/(1.5*0.6),4)","v":1.6604000000000001},18.420500000000001,30.585398200000004,null,0]
[null,null,"SERVENTE COM ENCARGOS COMPLEMENTARES","H",{"$f":"ROUND(0.9834/(1.5*0.6),4)","v":1.0927},16.311500000000002,17.823576050000003,null,0]
[null,null,null,null,null,"","",null,0]
["SF-01060",{"$f":"INDEX(Orçamentária!A:B,MATCH(Composições!A3585,Orçamentária!A:A,0),2)","v":"Porta em alumínio tipo veneziana"},null,{"$f":"TRIM(INDEX(Orçamentária!D:D,MATCH(Composições!A3585,Orçamentária!A:A,0),1))","v":"m2"},null,"","",null,0]
[null,null,null,null,null,"","",null,0]
[null,null,"SELANTE ELASTICO MONOCOMPONENTE A BASE DE POLIURETANO (PU) PARA JUNTAS DIVERSAS","310ML",0.88290000000000002,24.823499999999999,21.91666815,{"$f":"SUM(G3587:G3592)","v":389.10328284999997},0]
[null,null,"BUCHA DE NYLON SEM ABA S10, COM PARAFUSO DE 6,10 X 65 MM EM ACO ZINCADO COM ROSCA SOBERBA, CABECA CHATA E FENDA PHILLIPS","UN",4.8166000000000002,0.874,4.2097084000000002,null,0]
[null,null,"GUARNICAO/MOLDURA DE ACABAMENTO PARA ESQUADRIA DE ALUMINIO ANODIZADO NATURAL, PARA 1 FACE","M",6.8503999999999996,6.4979999999999993,44.51389919999999,null,0]
[null,null,"PORTA DE ABRIR EM ALUMINIO TIPO VENEZIANA, ACABAMENTO ANODIZADO NATURAL, SEM GUARNICAO/ALIZAR/VISTA, 87 X 210 CM","UN",0.54730000000000001,560.74699999999996,306.89683309999998,null,0]
[null,null,"Pedreiro com encargos complementares","H",0.3826,22.087499999999999,8.4506774999999994,null,0]
[null,null,"Servente com Encargos Complementares","H",0.191,16.311500000000002,3.1154965000000003,null,0]
[null,null,null,null,null,"","",null,0]
["SF-01061",{"$f":"INDEX(Orçamentária!A:B,MATCH(Composições!A3594,Orçamentária!A:A,0),2)","v":"Janela em alumínio, duas seções, 120x60cm"},null,{"$f":"TRIM(INDEX(Orçamentária!D:D,MATCH(Composições!A3594,Orçamentária!A:A,0),1))","v":"m2"},null,"","",null,0]
[null,null,null,null,null,"","",null,0]
[null,null,"JANELA MAXIM AR EM ALUMINIO, 80 X 60 CM (A X L), BATENTE/REQUADRO DE 4 A 14 CM, COM VIDRO, SEM GUARNICAO/ALIZAR","M2",1,299.96249999999998,299.96249999999998,{"$f":"SUM(G3596:G3600)","v":375.51055554999994},0]
[null,null,"PARAFUSO DE ACO ZINCADO COM ROSCA SOBERBA, CABECA CHATA E FENDA SIMPLES, DIAMETRO 4,2 MM, COMPRIMENTO * 32 * MM","UN",24.4,0.14249999999999999,3.4769999999999994,null,0]
[null,null,"SILICONE ACETICO USO GERAL INCOLOR 280 G","UN",1.2466999999999999,16.406499999999998,20.453983549999997,null,0]
[null,null,"PEDREIRO COM ENCARGOS COMPLEMENTARES","H",1.7070000000000001,22.087499999999999,37.703362499999997,null,0]
[null,null,"SERVENTE COM ENCARGOS COMPLEMENTARES","H",0.85299999999999998,16.311500000000002,13.913709500000001,null,0]
[null,null,null,null,null,"",{"$f":"IF(ISNUMBER(F3601),E3601*F3601,\"\")","v":""},null,0]
["SF-01062",{"$f":"INDEX(Orçamentária!A:B,MATCH(Composições!A3602,Orçamentária!A:A,0),2)","v":"Porta metálica de enrolar"},null,{"$f":"TRIM(INDEX(Orçamentária!D:D,MATCH(Composições!A3602,Orçamentária!A:A,0),1))","v":"m2"},null,"","",null,0]
[null,null,null,null,null,"","",null,0]
[null,null,"PORTA DE ENROLAR MANUAL COMPLETA, ARTICULADA RAIADA LARGA, EM ACO GALVANIZADO NATURAL, CHAPA NUMERO 24 (SEM INSTALACAO)","M2",1,214.66200000000001,214.66200000000001,{"$f":"SUM(G3604:G3610)","v":256.56672879230007},0]
[null,null,"PEDREIRO COM ENCARGOS COMPLEMENTARES","H",1,22.087499999999999,22.087499999999999,null,0]
[null,null,"SERVENTE COM ENCARGOS COMPLEMENTARES","H",1.1000000000000001,16.311500000000002,17.942650000000004,null,0]
[null,null,"AREIA MEDIA - POSTO JAZIDA/FORNECEDOR (RETIRADO NA JAZIDA, SEM TRANSPORTE)","M3",1.2999999999999999E-2,93.8125,1.2195624999999999,null,0]
[null,null,"CIMENTO PORTLAND COMPOSTO CP II-32","KG",0.4,0.44649999999999995,0.17859999999999998,null,0]
[null,null,"CARGA, MANOBRA E DESCARGA DE SOLOS E MATERIAIS GRANULARES EM CAMINHÃO BASCULANTE 6 M³ - CARGA COM PÁ CARREGADEIRA (CAÇAMBA DE 1,7 A 2,8 M³ / 128 HP) E DESCARGA LIVRE (UNIDADE: M3). AF_07/2020","m3",{"$f":"1*E3607","v":1.2999999999999999E-2},4.9035180999999994,6.3745735299999995E-2,null,0]
[null,null,"TRANSPORTE COM CAMINHÃO BASCULANTE DE 6 M3, EM VIA URBANA PAVIMENTADA, DMT ATÉ 30 KM (UNIDADE: M3xKM). AF_01/2018","M3xKM",{"$f":"E3607*20","v":0.26},1.5871944499999999,0.41267055699999999,null,0]
[null,null,null,null,null,"","",null,0]
[null,null,"Obs.: Considerando fornecedor de areia a 20 km do Senado Federal.",null,null,"","",null,0]
[null,null,null,null,null,"","",null,0]
["SF-01063",{"$f":"INDEX(Orçamentária!A:B,MATCH(Composições!A3614,Orçamentária!A:A,0),2)","v":"Medidor de Gás"},null,{"$f":"TRIM(INDEX(Orçamentária!D:D,MATCH(Composições!A3614,Orçamentária!A:A,0),1))","v":"un"},null,"","",null,0]
[null,null,null,null,null,"","",null,0]
[null,null,"FITA VEDA ROSCA EM ROLOS DE 18 MM X 50 M (L X C)","UN",0.20519999999999999,12.188499999999999,2.5010801999999996,{"$f":"SUM(G3616:G3627)","v":514.22693355000001},0]
[null,null,"COTOVELO 90 GRAUS DE FERRO GALVANIZADO, COM ROSCA BSP, DE 1\"","UN",2,8.2080000000000002,16.416,null,0]
[null,null,"NIPLE DE FERRO GALVANIZADO, COM ROSCA BSP, DE 1\"","UN",4,6.0895000000000001,24.358000000000001,null,0]
[null,null,"PLUG OU BUJAO DE FERRO GALVANIZADO, DE 1/2\"","UN",2,2.1659999999999999,4.3319999999999999,null,0]
[null,null,"TE DE REDUCAO DE FERRO GALVANIZADO, COM ROSCA BSP, DE 1\" X 1/2\"","UN",2,13.3475,26.695,null,0]
[null,null,"UNIAO DE FERRO GALVANIZADO, COM ROSCA BSP, COM ASSENTO PLANO, DE 1\"","UN",1,17.5275,17.5275,null,0]
[null,null,"VALVULA DE ESFERA BRUTA EM BRONZE, BITOLA 1 \" (REF 1552-B)","UN",3,60.790500000000002,182.3715,null,0]
[null,null,"VALVULA DE ESFERA BRUTA EM BRONZE, BITOLA 1/2 \" (REF 1552-B)","UN",2,39.016500000000001,78.033000000000001,null,0]
[null,null,"TUBO ACO GALVANIZADO COM COSTURA, CLASSE MEDIA, DN 1\", E = 3,38 MM, PESO 2,50 KG/M (NBR 5580)","M",0.72729999999999995,22.999500000000001,16.727536350000001,null,0]
[null,null,"AUXILIAR DE ENCANADOR OU BOMBEIRO HIDRÁULICO COM ENCARGOS COMPLEMENTARES","H",1.6462000000000001,16.891000000000002,27.805964200000005,null,0]
[null,null,"ENCANADOR OU BOMBEIRO HIDRÁULICO COM ENCARGOS COMPLEMENTARES","H",5.4324000000000003,21.622,117.4593528,null,0]
[null,null,"MEDIDOR DE GÁS EM ALUMÍNIO. Ref. LAO G6 ","UN",1,"","",null,0]
[null,null,null,null,null,"","",null,0]
["SF-01064",{"$f":"INDEX(Orçamentária!A:B,MATCH(Composições!A3629,Orçamentária!A:A,0),2)","v":"Registro Esfera para Gás 3/4”"},null,{"$f":"TRIM(INDEX(Orçamentária!D:D,MATCH(Composições!A3629,Orçamentária!A:A,0),1))","v":"un"},null,"","",null,0]
[null,null,null,null,null,"","",null,0]
[null,null,"FITA VEDA ROSCA EM ROLOS DE 18 MM X 50 M (L X C)","UN",1.2999999999999999E-2,12.188499999999999,0.15845049999999999,{"$f":"SUM(G3631:G3634)","v":7.8610505000000002},0]
[null,null,"Válvula de esfera tripartida Classe 300","UN",1,"","",null,0]
[null,null,"AUXILIAR DE ENCANADOR OU BOMBEIRO HIDRÁULICO COM ENCARGOS COMPLEMENTARES","H",0.2,16.891000000000002,3.3782000000000005,null,0]
[null,null,"ENCANADOR OU BOMBEIRO HIDRÁULICO COM ENCARGOS COMPLEMENTARES","H",0.2,21.622,4.3243999999999998,null,0]
[null,null,null,null,null,"","",null,0]
["SF-01065",{"$f":"INDEX(Orçamentária!A:B,MATCH(Composições!A3636,Orçamentária!A:A,0),2)","v":"Placa de Concreto Pré-Moldado 15 Mpa"},null,{"$f":"TRIM(INDEX(Orçamentária!D:D,MATCH(Composições!A3636,Orçamentária!A:A,0),1))","v":"m3"},null,"","",null,0]
[null,null,null,null,null,"","",null,0]
[null,null,"CHAPA DE MADEIRA COMPENSADA RESINADA PARA FORMA DE CONCRETO, DE *2,2 X 1,1* M, E = 17 MM","M2",2.9790000000000001,28.385999999999999,84.561893999999995,{"$f":"SUM(G3638:G3650)","v":2616.2770823566548},0]
[null,null,"DESMOLDANTE PROTETOR PARA FORMAS DE MADEIRA, DE BASE OLEOSA EMULSIONADA EM AGUA","L",0.12,4.9685000000000006,0.59622000000000008,null,0]
[null,null,"PREGO DE ACO POLIDO COM CABECA 15 X 15 (1 1/4 X 13)","KG",0.64449999999999996,12.834499999999998,8.2718352499999988,null,0]
[null,null,"AJUDANTE DE CARPINTEIRO COM ENCARGOS COMPLEMENTARES","H",1.8137000000000001,18.468,33.495411600000004,null,0]
[null,null,"CARPINTEIRO DE ESQUADRIA COM ENCARGOS COMPLEMENTARES","H",9.0685000000000002,21.916499999999999,198.74978024999999,null,0]
[null,null,"PEDREIRO COM ENCARGOS COMPLEMENTARES","H",32.192999999999998,22.087499999999999,711.06288749999987,null,0]
[null,null,"SERVENTE COM ENCARGOS COMPLEMENTARES","H",32.192999999999998,16.311500000000002,525.11611950000008,null,0]
[null,null,"VIBRADOR DE IMERSÃO, DIÂMETRO DE PONTEIRA 45MM, MOTOR ELÉTRICO TRIFÁSICO POTÊNCIA DE 2 CV - CHP DIURNO. AF_06/2015","CHP",6.6319999999999997,1.3015000000000001,8.6315480000000004,null,0]
[null,null,"VIBRADOR DE IMERSÃO, DIÂMETRO DE PONTEIRA 45MM, MOTOR ELÉTRICO TRIFÁSICO POTÊNCIA DE 2 CV - CHI DIURNO. AF_06/2015","CHI",18.246200000000002,0.36099999999999999,6.5868782000000001,null,0]
[null,null,"SERRA CIRCULAR DE BANCADA COM MOTOR ELÉTRICO POTÊNCIA DE 5HP, COM COIFA PARA DISCO 10\" - CHP DIURNO. AF_08/2015","CHP",0.77359999999999995,19.151999999999997,14.815987199999997,null,0]
[null,null,"SERRA CIRCULAR DE BANCADA COM MOTOR ELÉTRICO POTÊNCIA DE 5HP, COM COIFA PARA DISCO 10\" - CHI DIURNO. AF_08/2015","CHI",1.0401,17.327999999999999,18.022852799999999,null,0]
[null,null,"ARMAÇÃO DE LAJE DE UMA ESTRUTURA CONVENCIONAL DE CONCRETO ARMADO EM UMA EDIFICAÇÃO TÉRREA OU SOBRADO UTILIZANDO AÇO CA-60 DE 4,2 MM - MONTAGEM. AF_12/2015","KG",42.646299999999997,13.298893249999997,567.14859120747485,null,0]
[null,null,"CONCRETO FCK = 15MPA, TRAÇO 1:3,4:3,5 (CIMENTO/ AREIA MÉDIA/ BRITA 1)  - PREPARO MECÂNICO COM BETONEIRA 600 L. AF_07/2016","M3",1.2,366.01423070764997,439.21707684917993,null,0]
[null,null,null,null,null,"","",null,0]
["SF-01066",{"$f":"INDEX(Orçamentária!A:B,MATCH(Composições!A3652,Orçamentária!A:A,0),2)","v":"Eletroduto PEAD 3”"},null,{"$f":"TRIM(INDEX(Orçamentária!D:D,MATCH(Composições!A3652,Orçamentária!A:A,0),1))","v":"m"},null,"","",null,0]
[null,null,null,null,null,"","",null,0]
[null,null,"ELETRODUTO/DUTO PEAD FLEXIVEL PAREDE SIMPLES, CORRUGACAO HELICOIDAL, COR PRETA, SEM ROSCA, DE 3\",  PARA CABEAMENTO SUBTERRANEO (NBR 15715)","M",1.1000000000000001,7.3149999999999995,8.0465,{"$f":"SUM(G3654:G3656)","v":15.814764},0]
[null,null,"AUXILIAR DE ELETRICISTA COM ENCARGOS COMPLEMENTARES","H",0.19600000000000001,17.366,3.4037359999999999,null,0]
[null,null,"ELETRICISTA COM ENCARGOS COMPLEMENTARES","H",0.19600000000000001,22.268000000000001,4.364528,null,0]
[null,null,null,null,null,"","",null,0]
["SF-01068",{"$f":"INDEX(Orçamentária!A:B,MATCH(Composições!A3658,Orçamentária!A:A,0),2)","v":"Eletroduto de aço galvanizado de 3”"},null,{"$f":"TRIM(INDEX(Orçamentária!D:D,MATCH(Composições!A3658,Orçamentária!A:A,0),1))","v":"m"},null,"","",null,0]
[null,null,null,null,null,"","",null,0]
[null,null,"Eletroduto de aço com costura galvanização eletrolítica Ø 3\"","m",1.05,0,0,{"$f":"SUM(G3660:G3662)","v":39.634},0]
[null,null,"AUXILIAR DE ELETRICISTA COM ENCARGOS COMPLEMENTARES","H",1,17.366,17.366,null,0]
[null,null,"ELETRICISTA COM ENCARGOS COMPLEMENTARES","H",1,22.268000000000001,22.268000000000001,null,0]
[null,null,null,null,null,"","",null,0]
["SF-01069",{"$f":"INDEX(Orçamentária!A:B,MATCH(Composições!A3664,Orçamentária!A:A,0),2)","v":"Grelha reta para ralo"},null,{"$f":"TRIM(INDEX(Orçamentária!D:D,MATCH(Composições!A3664,Orçamentária!A:A,0),1))","v":"m"},null,"","",null,0]
[null,null,null,null,null,"",{"$f":"IF(ISNUMBER(F3665),E3665*F3665,\"\")","v":""},null,0]
[null,null,"Grelha em ferro fundido com caixilho de apoio espessura 15 mm, largura 200 mm","m",1,0,0,{"$f":"SUM(G3666:G3668)","v":25.727330000000002},0]
[null,null,"PEDREIRO COM ENCARGOS COMPLEMENTARES","H",0.67,22.087499999999999,14.798624999999999,null,0]
[null,null,"SERVENTE COM ENCARGOS COMPLEMENTARES","H",0.67,16.311500000000002,10.928705000000003,null,0]
[null,null,null,null,null,"","",null,0]
["SF-01070",{"$f":"INDEX(Orçamentária!A:B,MATCH(Composições!A3670,Orçamentária!A:A,0),2)","v":"Granito Vermelho Brasília para soleira e peitoril"},null,{"$f":"TRIM(INDEX(Orçamentária!D:D,MATCH(Composições!A3670,Orçamentária!A:A,0),1))","v":"m2"},null,"","",null,0]
[null,null,null,null,null,"","",null,0]
[null,null,"Granito Vermelho Brasília, com 20 mm de espessura e 150 mm de altura, para soleira e peitoril","m",{"$f":"ROUND(1/0.15,4)","v":6.6666999999999996},"","",{"$f":"SUM(G3672:G3675)","v":108.13556735000002},0]
[null,null,"Argamassa colante tipo AC III","kg",{"$f":"1.29/0.15","v":8.6000000000000014},1.3109999999999999,11.274600000000001,null,0]
[null,null,"Marmorista/graniteiro com encargos complementares","h",{"$f":"ROUND(0.547/0.15,4)","v":3.6467000000000001},18.420500000000001,67.174037350000006,null,0]
[null,null,"Servente com Encargos Complementares","h",{"$f":"0.273/0.15","v":1.8200000000000003},16.311500000000002,29.686930000000007,null,0]
[null,null,null,null,null,"","",null,0]
["SF-01071",{"$f":"INDEX(Orçamentária!A:B,MATCH(Composições!A3677,Orçamentária!A:A,0),2)","v":"Luminária LED redonda de embutir"},null,{"$f":"TRIM(INDEX(Orçamentária!D:D,MATCH(Composições!A3677,Orçamentária!A:A,0),1))","v":"un"},null,"","",null,0]
[null,null,null,null,null,"","",null,0]
[null,null,"Luminária redonda de embutir, LED, potência 19 W, temperatura de cor 3000 K, fluxo luminoso 1770 lm. Ref: OSRAM - LEDVANCE DOWNLIGHT XL WT 830","un ",1,"","",{"$f":"SUM(G3679:G3684)","v":10.477534800000001},0]
[null,null,"Cabo PP 3x2,5mm2 300/500 V, extraflexível (classe 5), com condutor de proteção, com isolação, enchimento e cobertura de PVC","m",1.5,"","",null,0]
[null,null,"Plugue (macho) com 3 polos (2P+T), para 10A","un ",1,"","",null,0]
[null,null,"Plugue (fêmea) com 3 polos (2P+T), para 10A","un ",1,"","",null,0]
[null,null,"Auxiliar de eletricista com encargos complementares","h",0.14799999999999999,17.366,2.5701679999999998,null,0]
[null,null,"Eletricista com encargos complementares","h",0.35510000000000003,22.268000000000001,7.907366800000001,null,0]
[null,null,null,null,null,"","",null,0]
["SF-01072",{"$f":"INDEX(Orçamentária!A:B,MATCH(Composições!A3686,Orçamentária!A:A,0),2)","v":"Piso tátil de borracha"},null,{"$f":"TRIM(INDEX(Orçamentária!D:D,MATCH(Composições!A3686,Orçamentária!A:A,0),1))","v":"m2"},null,"","",null,0]
[null,null,null,null,null,"","",null,0]
[null,null,"ADESIVO ACRILICO/COLA DE CONTATO","KG",9.5000000000000001E-2,24.595499999999998,2.3365724999999999,{"$f":"SUM(G3688:G3691)","v":21.93718625},0]
[null,null,"PISO TATIL ALERTA OU DIRECIONAL, DE BORRACHA, COLORIDO, 25 X 25 CM, E = 5 MM, PARA COLA","M2",{"$f":"1*0.25*0.25","v":6.25E-2},187.44450000000001,11.71528125,null,0]
[null,null,"PEDREIRO COM ENCARGOS COMPLEMENTARES","H",0.26100000000000001,22.087499999999999,5.7648374999999996,null,0]
[null,null,"SERVENTE COM ENCARGOS COMPLEMENTARES","H",0.13,16.311500000000002,2.1204950000000005,null,0]
[null,null,null,null,null,"","",null,0]
["SF-01073",{"$f":"INDEX(Orçamentária!A:B,MATCH(Composições!A3693,Orçamentária!A:A,0),2)","v":"Granito Vermelho Brasília 20 mm para divisória"},null,{"$f":"TRIM(INDEX(Orçamentária!D:D,MATCH(Composições!A3693,Orçamentária!A:A,0),1))","v":"m2"},null,"","",null,0]
[null,null,null,null,null,"","",null,0]
[null,null,"Cimento branco","kg",0.7,2.6599999999999997,1.8619999999999997,{"$f":"SUM(G3695:G3699)","v":129.31216322391074},0]
[null,null,"Granito Vermelho Brasília ou equivalente, com 30 mm de espessura, polido em todas as faces aparentes, para divisórias","m2",1,"","",null,0]
[null,null,"Marmorista/graniteiro com encargos complementares","h",4.8,18.420500000000001,88.418400000000005,null,0]
[null,null,"Servente com Encargos Complementares","h",2.2999999999999998,16.311500000000002,37.516449999999999,null,0]
[null,null,"ARGAMASSA TRAÇO 1:4 (EM VOLUME DE CIMENTO E AREIA MÉDIA ÚMIDA), PREPARO MANUAL. AF_08/2019","m3",3.3E-3,459.18582542749994,1.5153132239107499,null,0]
[null,null,null,null,null,"","",null,0]
["SF-01074",{"$f":"INDEX(Orçamentária!A:B,MATCH(Composições!A3701,Orçamentária!A:A,0),2)","v":"Tampa em ferro fundido 20x20 cm"},null,{"$f":"TRIM(INDEX(Orçamentária!D:D,MATCH(Composições!A3701,Orçamentária!A:A,0),1))","v":"un"},null,"","",null,0]
[null,null,null,null,null,"","",null,0]
[null,null,"TAMPAO FOFO ARTICULADO P/ REGISTRO, CLASSE A15 CARGA MAX 1,5 T, *200 X 200* MM","UN",1,61.692999999999998,61.692999999999998,{"$f":"SUM(G3703:G3706)","v":129.66792420108899},0]
[null,null,"ARGAMASSA TRAÇO 1:4 (EM VOLUME DE CIMENTO E AREIA GROSSA ÚMIDA) PARA CHAPISCO CONVENCIONAL, PREPARO MECÂNICO COM BETONEIRA 400 L. AF_08/2019","M3",7.0000000000000001E-3,385.232028727,2.696624201089,null,0]
[null,null,"Pedreiro com Encargos Complementares","h",1.7,22.087499999999999,37.548749999999998,null,0]
[null,null,"Servente com Encargos Complementares","h",1.7,16.311500000000002,27.729550000000003,null,0]
[null,null,null,null,null,"","",null,0]
["SF-01076",{"$f":"INDEX(Orçamentária!A:B,MATCH(Composições!A3708,Orçamentária!A:A,0),2)","v":"Cerâmica para revestimento de superfícies internas ou externas – Linha GAIL"},null,{"$f":"TRIM(INDEX(Orçamentária!D:D,MATCH(Composições!A3708,Orçamentária!A:A,0),1))","v":"m2"},null,"","",null,0]
[null,null,null,null,null,"","",null,0]
[null,null,"Cerâmica GAIL (Referência 1009 Placa Cerâmica Linha Gressit da Marca Gail, tamanho 240 mm x 116 mm, espessura 9 mm)","m2",1.08,"","",{"$f":"SUM(G3710:G3714)","v":25.792880000000004},0]
[null,null,"Argamassa colante AC II","kg",6.14,0.78849999999999998,4.8413899999999996,null,0]
[null,null,"Rejunte cimenticio, qualquer cor","kg",0.22,2.508,0.55176000000000003,null,0]
[null,null,"Azulejista ou ladrilhista com encargos complementares","h",0.66,22.011500000000002,14.527590000000002,null,0]
[null,null,"Servente com Encargos Complementares","h",0.36,16.311500000000002,5.8721400000000008,null,0]
[null,null,null,null,null,"","",null,0]
["SF-01077",{"$f":"INDEX(Orçamentária!A:B,MATCH(Composições!A3716,Orçamentária!A:A,0),2)","v":"Aterro de vala com areia média e compactação mecanizada"},null,{"$f":"TRIM(INDEX(Orçamentária!D:D,MATCH(Composições!A3716,Orçamentária!A:A,0),1))","v":"m3"},null,"","",null,0]
[null,null,null,null,null,"","",null,0]
[null,null,"AREIA PARA ATERRO - POSTO JAZIDA/FORNECEDOR (RETIRADO NA JAZIDA, SEM TRANSPORTE)","M3",1.25,85.243499999999997,106.55437499999999,{"$f":"SUM(G3718:G3725)","v":175.35477387499998},0]
[null,null,"CAMINHÃO PIPA 10.000 L TRUCADO, PESO BRUTO TOTAL 23.000 KG, CARGA ÚTIL MÁXIMA 15.935 KG, DISTÂNCIA ENTRE EIXOS 4,8 M, POTÊNCIA 230 CV, INCLUSIVE TANQUE DE AÇO PARA TRANSPORTE DE ÁGUA - CHP DIURNO. AF_06/2014","CHP",6.0000000000000001E-3,164.578,0.98746800000000001,null,0]
[null,null,"CAMINHÃO PIPA 10.000 L TRUCADO, PESO BRUTO TOTAL 23.000 KG, CARGA ÚTIL MÁXIMA 15.935 KG, DISTÂNCIA ENTRE EIXOS 4,8 M, POTÊNCIA 230 CV, INCLUSIVE TANQUE DE AÇO PARA TRANSPORTE DE ÁGUA - CHI DIURNO. AF_06/2014","CHI",3.0000000000000001E-3,34.019500000000001,0.10205850000000001,null,0]
[null,null,"SERVENTE COM ENCARGOS COMPLEMENTARES","H",0.65900000000000003,16.311500000000002,10.749278500000003,null,0]
[null,null,"COMPACTADOR DE SOLOS DE PERCUSSÃO (SOQUETE) COM MOTOR A GASOLINA 4 TEMPOS, POTÊNCIA 4 CV - CHP DIURNO. AF_08/2015","CHP",0.27400000000000002,23.740499999999997,6.5048969999999997,null,0]
[null,null,"COMPACTADOR DE SOLOS DE PERCUSSÃO (SOQUETE) COM MOTOR A GASOLINA 4 TEMPOS, POTÊNCIA 4 CV - CHI DIURNO. AF_08/2015","CHI",0.254,18.297000000000001,4.6474380000000002,null,0]
[null,null,"CARGA, MANOBRA E DESCARGA DE SOLOS E MATERIAIS GRANULARES EM CAMINHÃO BASCULANTE 6 M³ - CARGA COM PÁ CARREGADEIRA (CAÇAMBA DE 1,7 A 2,8 M³ / 128 HP) E DESCARGA LIVRE (UNIDADE: M3). AF_07/2020","m3",{"$f":"1*E3718","v":1.25},4.9035180999999994,6.1293976249999993,null,0]
[null,null,"TRANSPORTE COM CAMINHÃO BASCULANTE DE 6 M3, EM VIA URBANA PAVIMENTADA, DMT ATÉ 30 KM (UNIDADE: M3xKM). AF_01/2018","M3xKM",{"$f":"E3718*20","v":25},1.5871944499999999,39.679861249999995,null,0]
[null,null,null,null,null,"","",null,0]
[null,null,"Obs.: Considerando fornecedor de areia a 20 km do Senado Federal.",null,null,"","",null,0]
[null,null,null,null,null,"","",null,0]
["SF-01078",{"$f":"INDEX(Orçamentária!A:B,MATCH(Composições!A3729,Orçamentária!A:A,0),2)","v":"Guarda-corpo panorâmico"},null,{"$f":"TRIM(INDEX(Orçamentária!D:D,MATCH(Composições!A3729,Orçamentária!A:A,0),1))","v":"m"},null,"",{"$f":"IF(ISNUMBER(F3729),E3729*F3729,\"\")","v":""},null,0]
[null,null,null,null,null,"","",null,0]
[null,null,"CHAPA DE ACO GROSSA, ASTM A36, E = 3/8 \" (9,53 MM) 74,69 KG/M2","KG",1.4,5.9375,8.3125,{"$f":"SUM(G3731:G3740)","v":823.34496449999983},0]
[null,null,"ELETRODO REVESTIDO AWS - E6013, DIAMETRO IGUAL A 2,50 MM","KG",3.0000000000000001E-3,16.311500000000002,4.8934500000000006E-2,null,0]
[null,null,"PARAFUSO DE ACO TIPO CHUMBADOR PARABOLT, DIAMETRO 3/8\", COMPRIMENTO 75 MM","UN",3.3330000000000002,1.8334999999999999,6.1110555,null,0]
[null,null,"PARAFUSO DE FERRO POLIDO, SEXTAVADO, COM ROSCA INTEIRA, DIAMETRO 5/16\", COMPRIMENTO 3/4\", COM PORCA E ARRUELA LISA LEVE","UN",5,0.34199999999999997,1.71,null,0]
[null,null,"PERFIL DE BORRACHA EPDM MACICO *12 X 15* MM PARA ESQUADRIAS","M",3.149,8.0749999999999993,25.428175,null,0]
[null,null,"PERFIL DE ALUMINIO ANODIZADO","KG",3.4089999999999998,28.813499999999998,98.225221499999989,null,0]
[null,null,"VIDRO COMUM LAMINADO LISO INCOLOR DUPLO, ESPESSURA TOTAL 8 MM (CADA CAMADA DE 4 MM) - COLOCADO","M2",0.998,547.60849999999994,546.51328299999989,null,0]
[null,null,"SILICONE ACETICO USO GERAL INCOLOR 280 G","UN",0.85499999999999998,16.406499999999998,14.027557499999999,null,0]
[null,null,"AUXILIAR DE SERRALHEIRO COM ENCARGOS COMPLEMENTARES","H",2.754,17.898,49.291091999999999,null,0]
[null,null,"SERRALHEIRO COM ENCARGOS COMPLEMENTARES","H",3.3530000000000002,21.973499999999998,73.677145499999995,null,0]
[null,null,null,null,null,"","",null,0]
["SF-01080",{"$f":"INDEX(Orçamentária!A:B,MATCH(Composições!A3742,Orçamentária!A:A,0),2)","v":"Perfil “U” em aço 25 x 25mm"},null,{"$f":"TRIM(INDEX(Orçamentária!D:D,MATCH(Composições!A3742,Orçamentária!A:A,0),1))","v":"m"},null,"","",null,0]
[null,null,null,null,null,"","",null,0]
[null,null,"Vidraceiro com encargos complementares","h",{"$f":"1/10","v":0.1},20.539000000000001,2.0539000000000001,{"$f":"SUM(G3744:G3745)","v":2.0539000000000001},0]
[null,null,"Perfil \"U\" em aço galvanizado 25mm x 25mm, espessura 1,5mm (#16)","m",1.05,"","",null,0]
[null,null,null,null,null,"","",null,0]
["SF-01082",{"$f":"INDEX(Orçamentária!A:B,MATCH(Composições!A3747,Orçamentária!A:A,0),2)","v":"Alimentação para mão-de-obra indireta"},null,{"$f":"TRIM(INDEX(Orçamentária!D:D,MATCH(Composições!A3747,Orçamentária!A:A,0),1))","v":"h"},null,"","",null,0]
[null,null,null,null,null,"","",null,0]
[null,null,"ALIMENTACAO - HORISTA (COLETADO CAIXA)","h",1,2.4889999999999999,2.4889999999999999,{"$f":"SUM(G3749:G3749)","v":2.4889999999999999},0]
[null,null,null,null,null,"","",null,0]
["SF-01083",{"$f":"INDEX(Orçamentária!A:B,MATCH(Composições!A3751,Orçamentária!A:A,0),2)","v":"Transporte para mão-de-obra indireta"},null,{"$f":"TRIM(INDEX(Orçamentária!D:D,MATCH(Composições!A3751,Orçamentária!A:A,0),1))","v":"h"},null,"","",null,0]
[null,null,null,null,null,"","",null,0]
[null,null,"TRANSPORTE - HORISTA (COLETADO CAIXA)","H",1.05,1.292,1.3566,{"$f":"SUM(G3753:G3753)","v":1.3566},0]
[null,null,null,null,null,"","",null,0]
["SF-01088",{"$f":"INDEX(Orçamentária!A:B,MATCH(Composições!A3755,Orçamentária!A:A,0),2)","v":"Cotovelo bolsa–bolsa 90° para solda em tubulação de cobre diâmetro de 1 3/8\""},null,{"$f":"TRIM(INDEX(Orçamentária!D:D,MATCH(Composições!A3755,Orçamentária!A:A,0),1))","v":"un"},null,"","",null,0]
[null,null,null,null,null,"","",null,0]
[null,null,"COTOVELO DE COBRE 90 GRAUS (REF 607) SEM ANEL DE SOLDA, BOLSA X BOLSA, 35 MM","UN",1,26.2105,26.2105,{"$f":"SUM(G3757:G3762)","v":33.4851326},0]
[null,null,"SOLDA ESTANHO/COBRE PARA CONEXOES DE COBRE, FIO 2,5 MM, CARRETEL 500 GR (SEM CHUMBO)","UN",8.3999999999999995E-3,193.648,1.6266432,null,0]
[null,null,"LIXA D'AGUA EM FOLHA, GRAO 100","UN",5.9400000000000001E-2,1.748,0.1038312,null,0]
[null,null,"PASTA PARA SOLDA DE TUBOS E CONEXOES DE COBRE (EMBALAGEM COM 250 G)","UN",1.0800000000000001E-2,35.501499999999993,0.38341619999999993,null,0]
[null,null,"AUXILIAR DE ENCANADOR OU BOMBEIRO HIDRÁULICO COM ENCARGOS COMPLEMENTARES","H",0.13400000000000001,16.891000000000002,2.2633940000000004,null,0]
[null,null,"ENCANADOR OU BOMBEIRO HIDRÁULICO COM ENCARGOS COMPLEMENTARES","H",0.13400000000000001,21.622,2.897348,null,0]
[null,null,null,null,null,"","",null,0]
["SF-01089",{"$f":"INDEX(Orçamentária!A:B,MATCH(Composições!A3764,Orçamentária!A:A,0),2)","v":"Cotovelo bolsa–bolsa 90° para solda em tubulação de cobre diâmetro de 1 5/8\""},null,{"$f":"TRIM(INDEX(Orçamentária!D:D,MATCH(Composições!A3764,Orçamentária!A:A,0),1))","v":"un"},null,"","",null,0]
[null,null,null,null,null,"","",null,0]
[null,null,"COTOVELO DE COBRE 90 GRAUS (REF 607) SEM ANEL DE SOLDA, BOLSA X BOLSA, 42 MM","UN",1,40.232500000000002,40.232500000000002,{"$f":"SUM(G3766:G3771)","v":50.544340550000001},0]
[null,null,"SOLDA ESTANHO/COBRE PARA CONEXOES DE COBRE, FIO 2,5 MM, CARRETEL 500 GR (SEM CHUMBO)","UN",1.7600000000000001E-2,193.648,3.4082048,null,0]
[null,null,"LIXA D'AGUA EM FOLHA, GRAO 100","UN",6.93E-2,1.748,0.12113640000000001,null,0]
[null,null,"PASTA PARA SOLDA DE TUBOS E CONEXOES DE COBRE (EMBALAGEM COM 250 G)","UN",2.29E-2,35.501499999999993,0.8129843499999998,null,0]
[null,null,"AUXILIAR DE ENCANADOR OU BOMBEIRO HIDRÁULICO COM ENCARGOS COMPLEMENTARES","H",0.155,16.891000000000002,2.6181050000000003,null,0]
[null,null,"ENCANADOR OU BOMBEIRO HIDRÁULICO COM ENCARGOS COMPLEMENTARES","H",0.155,21.622,3.35141,null,0]
[null,null,null,null,null,"","",null,0]
["SF-01090",{"$f":"INDEX(Orçamentária!A:B,MATCH(Composições!A3773,Orçamentária!A:A,0),2)","v":"Cotovelo bolsa–bolsa 90° para solda em tubulação de cobre diâmetro de 7/8\""},null,{"$f":"TRIM(INDEX(Orçamentária!D:D,MATCH(Composições!A3773,Orçamentária!A:A,0),1))","v":"un"},null,"","",null,0]
[null,null,null,null,null,"","",null,0]
[null,null,"COTOVELO DE COBRE 90 GRAUS (REF 607) SEM ANEL DE SOLDA, BOLSA X BOLSA, 22 MM","UN",1,7.7614999999999998,7.7614999999999998,{"$f":"SUM(G3775:G3780)","v":12.687431450000002},0]
[null,null,"SOLDA ESTANHO/COBRE PARA CONEXOES DE COBRE, FIO 2,5 MM, CARRETEL 500 GR (SEM CHUMBO)","UN",4.7999999999999996E-3,193.648,0.92951039999999985,null,0]
[null,null,"LIXA D'AGUA EM FOLHA, GRAO 100","UN",4.3200000000000002E-2,1.748,7.55136E-2,null,0]
[null,null,"PASTA PARA SOLDA DE TUBOS E CONEXOES DE COBRE (EMBALAGEM COM 250 G)","UN",6.3E-3,35.501499999999993,0.22365944999999995,null,0]
[null,null,"AUXILIAR DE ENCANADOR OU BOMBEIRO HIDRÁULICO COM ENCARGOS COMPLEMENTARES","H",9.6000000000000002E-2,16.891000000000002,1.6215360000000003,null,0]
[null,null,"ENCANADOR OU BOMBEIRO HIDRÁULICO COM ENCARGOS COMPLEMENTARES","H",9.6000000000000002E-2,21.622,2.0757120000000002,null,0]
[null,null,null,null,null,"","",null,0]
["SF-01092",{"$f":"INDEX(Orçamentária!A:B,MATCH(Composições!A3782,Orçamentária!A:A,0),2)","v":"Luva bolsa–bolsa para solda em tubulação de cobre diâmetro de 1 3/8\""},null,{"$f":"TRIM(INDEX(Orçamentária!D:D,MATCH(Composições!A3782,Orçamentária!A:A,0),1))","v":"un"},null,"","",null,0]
[null,null,null,null,null,"","",null,0]
[null,null,"LUVA DE COBRE (REF 600) SEM ANEL DE SOLDA, BOLSA X BOLSA, 35 MM","UN",1,16.283000000000001,16.283000000000001,{"$f":"SUM(G3784:G3789)","v":21.824547599999995},0]
[null,null,"SOLDA ESTANHO/COBRE PARA CONEXOES DE COBRE, FIO 2,5 MM, CARRETEL 500 GR (SEM CHUMBO)","UN",8.3999999999999995E-3,193.648,1.6266432,null,0]
[null,null,"LIXA D'AGUA EM FOLHA, GRAO 100","UN",5.9400000000000001E-2,1.748,0.1038312,null,0]
[null,null,"PASTA PARA SOLDA DE TUBOS E CONEXOES DE COBRE (EMBALAGEM COM 250 G)","UN",1.0800000000000001E-2,35.501499999999993,0.38341619999999993,null,0]
[null,null,"AUXILIAR DE ENCANADOR OU BOMBEIRO HIDRÁULICO COM ENCARGOS COMPLEMENTARES","H",8.8999999999999996E-2,16.891000000000002,1.5032990000000002,null,0]
[null,null,"ENCANADOR OU BOMBEIRO HIDRÁULICO COM ENCARGOS COMPLEMENTARES","H",8.8999999999999996E-2,21.622,1.9243579999999998,null,0]
[null,null,null,null,null,"","",null,0]
["SF-01093",{"$f":"INDEX(Orçamentária!A:B,MATCH(Composições!A3791,Orçamentária!A:A,0),2)","v":"Luva bolsa–bolsa para solda em tubulação de cobre diâmetro de 1 5/8\""},null,{"$f":"TRIM(INDEX(Orçamentária!D:D,MATCH(Composições!A3791,Orçamentária!A:A,0),1))","v":"un"},null,"","",null,0]
[null,null,null,null,null,"","",null,0]
[null,null,"LUVA DE COBRE (REF 600) SEM ANEL DE SOLDA, BOLSA X BOLSA, 42 MM","UN",1,20.652999999999999,{"$f":"IF(ISNUMBER(F3793),E3793*F3793,\"\")","v":20.652999999999999},{"$f":"SUM(G3793:G3798)","v":28.962164550000001},0]
[null,null,"SOLDA ESTANHO/COBRE PARA CONEXOES DE COBRE, FIO 2,5 MM, CARRETEL 500 GR (SEM CHUMBO)","UN",1.7600000000000001E-2,193.648,3.4082048,null,0]
[null,null,"LIXA D'AGUA EM FOLHA, GRAO 100","UN",6.93E-2,1.748,0.12113640000000001,null,0]
[null,null,"PASTA PARA SOLDA DE TUBOS E CONEXOES DE COBRE (EMBALAGEM COM 250 G)","UN",2.29E-2,35.501499999999993,0.8129843499999998,null,0]
[null,null,"AUXILIAR DE ENCANADOR OU BOMBEIRO HIDRÁULICO COM ENCARGOS COMPLEMENTARES","H",0.10299999999999999,16.891000000000002,1.739773,null,0]
[null,null,"ENCANADOR OU BOMBEIRO HIDRÁULICO COM ENCARGOS COMPLEMENTARES","H",0.10299999999999999,21.622,2.2270659999999998,null,0]
[null,null,null,null,null,"","",null,0]
["SF-01094",{"$f":"INDEX(Orçamentária!A:B,MATCH(Composições!A3800,Orçamentária!A:A,0),2)","v":"Luva bolsa–bolsa para solda em tubulação de cobre diâmetro de 7/8\""},null,{"$f":"TRIM(INDEX(Orçamentária!D:D,MATCH(Composições!A3800,Orçamentária!A:A,0),1))","v":"un"},null,"","",null,0]
[null,null,null,null,null,"","",null,0]
[null,null,"LUVA DE COBRE (REF 600) SEM ANEL DE SOLDA, BOLSA X BOLSA, 22 MM","UN",1,3.6764999999999999,3.6764999999999999,{"$f":"SUM(G3802:G3807)","v":7.3700154499999995},0]
[null,null,"SOLDA ESTANHO/COBRE PARA CONEXOES DE COBRE, FIO 2,5 MM, CARRETEL 500 GR (SEM CHUMBO)","UN",4.7999999999999996E-3,193.648,0.92951039999999985,null,0]
[null,null,"LIXA D'AGUA EM FOLHA, GRAO 100","UN",4.3200000000000002E-2,1.748,7.55136E-2,null,0]
[null,null,"PASTA PARA SOLDA DE TUBOS E CONEXOES DE COBRE (EMBALAGEM COM 250 G)","UN",6.3E-3,35.501499999999993,0.22365944999999995,null,0]
[null,null,"AUXILIAR DE ENCANADOR OU BOMBEIRO HIDRÁULICO COM ENCARGOS COMPLEMENTARES","H",6.4000000000000001E-2,16.891000000000002,1.0810240000000002,null,0]
[null,null,"ENCANADOR OU BOMBEIRO HIDRÁULICO COM ENCARGOS COMPLEMENTARES","H",6.4000000000000001E-2,21.622,1.3838079999999999,null,0]
[null,null,null,null,null,"","",null,0]
["SF-01097",{"$f":"INDEX(Orçamentária!A:B,MATCH(Composições!A3809,Orçamentária!A:A,0),2)","v":"Tubo de cobre rígido 1 3/8\""},null,{"$f":"TRIM(INDEX(Orçamentária!D:D,MATCH(Composições!A3809,Orçamentária!A:A,0),1))","v":"m"},null,"","",null,0]
[null,null,null,null,null,"","",null,0]
[null,null,"TUBO DE COBRE CLASSE \"A\", DN = 1 1/4 \" (35 MM), PARA INSTALACOES DE MEDIA PRESSAO PARA GASES COMBUSTIVEIS E MEDICINAIS","M",1.0210999999999999,98.581499999999991,100.66156964999998,{"$f":"SUM(G3811:G3813)","v":103.20342764999998},0]
[null,null,"AUXILIAR DE ENCANADOR OU BOMBEIRO HIDRÁULICO COM ENCARGOS COMPLEMENTARES","H",6.6000000000000003E-2,16.891000000000002,1.1148060000000002,null,0]
[null,null,"ENCANADOR OU BOMBEIRO HIDRÁULICO COM ENCARGOS COMPLEMENTARES","H",6.6000000000000003E-2,21.622,1.427052,null,0]
[null,null,null,null,null,"","",null,0]
["SF-01098",{"$f":"INDEX(Orçamentária!A:B,MATCH(Composições!A3815,Orçamentária!A:A,0),2)","v":"Tubo de cobre rígido 1 5/8\""},null,{"$f":"TRIM(INDEX(Orçamentária!D:D,MATCH(Composições!A3815,Orçamentária!A:A,0),1))","v":"m"},null,"","",null,0]
[null,null,null,null,null,"","",null,0]
[null,null,"TUBO DE COBRE CLASSE \"A\", DN = 1 1/2 \" (42 MM), PARA INSTALACOES DE MEDIA PRESSAO PARA GASES COMBUSTIVEIS E MEDICINAIS","M",1.0210999999999999,118.60749999999999,121.11011824999997,{"$f":"SUM(G3817:G3819)","v":124.03710624999997},0]
[null,null,"AUXILIAR DE ENCANADOR OU BOMBEIRO HIDRÁULICO COM ENCARGOS COMPLEMENTARES","H",7.5999999999999998E-2,16.891000000000002,1.2837160000000001,null,0]
[null,null,"ENCANADOR OU BOMBEIRO HIDRÁULICO COM ENCARGOS COMPLEMENTARES","H",7.5999999999999998E-2,21.622,1.6432719999999998,null,0]
[null,null,null,null,null,"","",null,0]
["SF-01101",{"$f":"INDEX(Orçamentária!A:B,MATCH(Composições!A3821,Orçamentária!A:A,0),2)","v":"Eletroduto flexível metálico com capa de PVC 1 1/2\""},null,{"$f":"TRIM(INDEX(Orçamentária!D:D,MATCH(Composições!A3821,Orçamentária!A:A,0),1))","v":"m"},null,"","",null,0]
[null,null,null,null,null,"","",null,0]
[null,null,"ELETRODUTO FLEXIVEL, EM ACO GALVANIZADO, REVESTIDO EXTERNAMENTE COM PVC PRETO, DIAMETRO EXTERNO DE 50 MM( 1 1/2\"), TIPO SEALTUBO","M",1.1000000000000001,20.881,22.969100000000001,{"$f":"SUM(G3823:G3826)","v":28.193710499999998},0]
[null,null,"ARAME RECOZIDO 16 BWG, D = 1,65 MM (0,016 KG/M) OU 18 BWG, D = 1,25 MM (0,01 KG/M)","KG",2.3E-3,14.154999999999999,3.2556499999999995E-2,null,0]
[null,null,"AUXILIAR DE ELETRICISTA COM ENCARGOS COMPLEMENTARES","H",0.13100000000000001,17.366,2.2749459999999999,null,0]
[null,null,"ELETRICISTA COM ENCARGOS COMPLEMENTARES","H",0.13100000000000001,22.268000000000001,2.9171080000000003,null,0]
[null,null,null,null,null,"","",null,0]
["SF-01102",{"$f":"INDEX(Orçamentária!A:B,MATCH(Composições!A3828,Orçamentária!A:A,0),2)","v":"Técnico(a) em Edificações - Planejamento de Manutenção"},null,{"$f":"TRIM(INDEX(Orçamentária!D:D,MATCH(Composições!A3828,Orçamentária!A:A,0),1))","v":"Profissional"},null,"","",null,0]
[null,null,null,null,null,"","",null,0]
[null,null,"TECNICO DE EDIFICACOES COM ENCARGOS COMPLEMENTARES","h",{"$f":"ROUND(1/(1+72.54%),2)","v":0.57999999999999996},2972.3409999999999,1723.9577799999997,{"$f":"SUM(G3830:G3830)","v":1723.9577799999997},0]
[null,null,null,null,null,"","",null,0]
[null,null,"Obs: considerando 220h/mês e encargos sociais indicados na tabela do SINAPI.",null,null,"","",null,0]
[null,null,null,null,null,"","",null,0]
["SF-01104",{"$f":"INDEX(Orçamentária!A:B,MATCH(Composições!A3834,Orçamentária!A:A,0),2)","v":"Projeto de Impermeabilização"},null,{"$f":"TRIM(INDEX(Orçamentária!D:D,MATCH(Composições!A3834,Orçamentária!A:A,0),1))","v":"m2"},null,"","",null,0]
[null,null,null,null,null,"","",null,0]
[null,null,"ENGENHEIRO CIVIL PLENO COM ENCARGOS COMPLEMENTARES","h",{"$f":"ROUND(1/10,4)","v":0.1},95.123499999999993,9.5123499999999996,{"$f":"SUM(G3836:G3836)","v":9.5123499999999996},0]
[null,null,null,null,null,"","",null,0]
["SF-01105",{"$f":"INDEX(Orçamentária!A:B,MATCH(Composições!A3838,Orçamentária!A:A,0),2)","v":"Laminado decorativo de alta pressão (LDAP)"},null,{"$f":"TRIM(INDEX(Orçamentária!D:D,MATCH(Composições!A3838,Orçamentária!A:A,0),1))","v":"m2"},null,"","",null,0]
[null,null,null,null,null,"","",null,0]
[null,null,"Servente com Encargos Complementares","h",0.18,16.311500000000002,2.9360700000000004,{"$f":"SUM(G3840:G3843)","v":40.706549999999993},0]
[null,null,"TAQUEADOR OU TAQUEIRO COM ENCARGOS COMPLEMENTARES","h",0.18,25.535999999999998,4.5964799999999997,null,0]
[null,null,"Cola a base de resina sintetica para chapa de laminado melaminico","kg",0.9,36.859999999999992,33.173999999999992,null,0]
[null,null,"Laminado melamínico texturizado esp. 1,3 mm","m2",1.05,0,0,null,0]
[null,null,null,null,null,"","",null,0]
["SF-01106",{"$f":"INDEX(Orçamentária!A:B,MATCH(Composições!A3845,Orçamentária!A:A,0),2)","v":"Granito Preto Absoluto para revestimento de superfícies internas e externas - Linha Administrativa"},null,{"$f":"TRIM(INDEX(Orçamentária!D:D,MATCH(Composições!A3845,Orçamentária!A:A,0),1))","v":"m2"},null,"","",null,0]
[null,null,null,null,null,"","",null,0]
[null,null,"Argamassa colante tipo AC III","kg",8.6199999999999992,1.3109999999999999,11.300819999999998,{"$f":"SUM(G3847:G3851)","v":43.224525},0]
[null,null,"Marmorista/graniteiro com encargos complementares","h",1.1879999999999999,18.420500000000001,21.883554,null,0]
[null,null,"Servente com Encargos Complementares","h",0.59399999999999997,16.311500000000002,9.6890310000000017,null,0]
[null,null,"Rejunte cimenticio, qualquer cor","kg",0.14000000000000001,2.508,0.35112000000000004,null,0]
[null,null,"Granito Preto Absoluto, com 20 mm de espessura","m2",1.1599999999999999,"","",null,0]
[null,null,null,null,null,"","",null,0]
["SF-01107",{"$f":"INDEX(Orçamentária!A:B,MATCH(Composições!A3853,Orçamentária!A:A,0),2)","v":"Granito Arabesco para revestimento de superfícies internas e externas - Linha Administrativa"},null,{"$f":"TRIM(INDEX(Orçamentária!D:D,MATCH(Composições!A3853,Orçamentária!A:A,0),1))","v":"m2"},null,"","",null,0]
[null,null,null,null,null,"","",null,0]
[null,null,"Argamassa colante tipo AC III","kg",8.6199999999999992,1.3109999999999999,11.300819999999998,{"$f":"SUM(G3855:G3859)","v":43.224525},0]
[null,null,"Marmorista/graniteiro com encargos complementares","h",1.1879999999999999,18.420500000000001,21.883554,null,0]
[null,null,"Servente com Encargos Complementares","h",0.59399999999999997,16.311500000000002,{"$f":"IF(ISNUMBER(F3857),E3857*F3857,\"\")","v":9.6890310000000017},null,0]
[null,null,"Rejunte cimenticio, qualquer cor","kg",0.14000000000000001,2.508,0.35112000000000004,null,0]
[null,null,"Granito Arabesco, com 20 mm de espessura","m2",1.1599999999999999,"","",null,0]
[null,null,null,null,null,"","",null,0]
["SF-01108",{"$f":"INDEX(Orçamentária!A:B,MATCH(Composições!A3861,Orçamentária!A:A,0),2)","v":"Porcelanato para revestimento de superfícies internas e externas - Linha Residencial"},null,{"$f":"TRIM(INDEX(Orçamentária!D:D,MATCH(Composições!A3861,Orçamentária!A:A,0),1))","v":"m2"},null,"","",null,0]
[null,null,null,null,null,"","",null,0]
[null,null,"PISO EM PORCELANATO RETIFICADO EXTRA, FORMATO MENOR OU IGUAL A 2025 CM2","M2",1.07,46.198500000000003,49.432395000000007,{"$f":"SUM(G3863:G3867)","v":78.840025000000011},0]
[null,null,"Rejunte cimenticio, qualquer cor","KG",0.24,2.508,0.60192000000000001,null,0]
[null,null,"Argamassa colante tipo AC III","KG",8.6199999999999992,1.3109999999999999,11.300819999999998,null,0]
[null,null,"AZULEJISTA OU LADRILHISTA COM ENCARGOS COMPLEMENTARES","H",0.61,22.011500000000002,13.427015000000001,null,0]
[null,null,"SERVENTE COM ENCARGOS COMPLEMENTARES","H",0.25,16.311500000000002,4.0778750000000006,null,0]
[null,null,null,null,null,"","",null,0]
["SF-01109",{"$f":"INDEX(Orçamentária!A:B,MATCH(Composições!A3869,Orçamentária!A:A,0),2)","v":"Granitina para revestimento de pisos"},null,{"$f":"TRIM(INDEX(Orçamentária!D:D,MATCH(Composições!A3869,Orçamentária!A:A,0),1))","v":"m2"},null,"","",null,0]
[null,null,null,null,null,"","",null,0]
[null,null,"JUNTA PLASTICA DE DILATACAO PARA PISOS, COR CINZA, 17 X 3 MM (ALTURA X ESPESSURA)","M",1.67,0.8075,1.348525,{"$f":"SUM(G3871:G3877)","v":34.172301749845701},0]
[null,null,"GRANILHA/ GRANA/ PEDRISCO OU AGREGADO EM MARMORE/ GRANITO/ QUARTZO E CALCARIO, PRETO, CINZA, PALHA OU BRANCO","KG",23.24,0.30399999999999999,7.0649599999999992,null,0]
[null,null,"ARGAMASSA TRAÇO 1:3 (EM VOLUME DE CIMENTO E AREIA MÉDIA ÚMIDA) PARA CONTRAPISO, PREPARO MECÂNICO COM BETONEIRA 400 L. AF_08/2019","M3",1.66E-2,521.82492468949988,8.6622937498456984,null,0]
[null,null,"PEDREIRO COM ENCARGOS COMPLEMENTARES","H",0.55100000000000005,22.087499999999999,12.1702125,null,0]
[null,null,"SERVENTE COM ENCARGOS COMPLEMENTARES","H",0.27500000000000002,16.311500000000002,4.485662500000001,null,0]
[null,null,"POLIDORA DE PISO (POLITRIZ), PESO DE 100KG, DIÂMETRO 450 MM, MOTOR ELÉTRICO, POTÊNCIA 4 HP - CHP DIURNO. AF_09/2016","CHP",0.123,2.1280000000000001,0.26174400000000003,null,0]
[null,null,"POLIDORA DE PISO (POLITRIZ), PESO DE 100KG, DIÂMETRO 450 MM, MOTOR ELÉTRICO, POTÊNCIA 4 HP - CHI DIURNO. AF_09/2016","CHI",0.42799999999999999,0.41799999999999998,0.17890399999999998,null,0]
[null,null,null,null,null,"","",null,0]
["SF-01110",{"$f":"INDEX(Orçamentária!A:B,MATCH(Composições!A3879,Orçamentária!A:A,0),2)","v":"Piso vinílico flexível em manta"},null,{"$f":"TRIM(INDEX(Orçamentária!D:D,MATCH(Composições!A3879,Orçamentária!A:A,0),1))","v":"m2"},null,"","",null,0]
[null,null,null,null,null,"","",null,0]
[null,null,"Piso vinílico em manta esp. 2 mm","m2",1.05,"","",{"$f":"SUM(G3881:G3884)","v":14.368274999999999},0]
[null,null,"ADESIVO ACRILICO/COLA DE CONTATO","kg",0.35,24.595499999999998,8.6084249999999987,null,0]
[null,null,"Pedreiro com Encargos Complementares","h",0.15,22.087499999999999,3.3131249999999999,null,0]
[null,null,"Servente com Encargos Complementares","h",0.15,16.311500000000002,2.4467250000000003,null,0]
[null,null,null,null,null,"","",null,0]
["SF-01111",{"$f":"INDEX(Orçamentária!A:B,MATCH(Composições!A3886,Orçamentária!A:A,0),2)","v":"Tratamento de juntas de dilatação ou movimentação"},null,{"$f":"TRIM(INDEX(Orçamentária!D:D,MATCH(Composições!A3886,Orçamentária!A:A,0),1))","v":"m"},null,"","",null,0]
[null,null,null,null,null,"","",null,0]
[null,null,"Pedreiro com Encargos Complementares","h",0.35,22.087499999999999,7.730624999999999,{"$f":"SUM(G3888:G3892)","v":47.809129999999996},0]
[null,null,"Servente com Encargos Complementares","h",0.35,16.311500000000002,5.7090250000000005,null,0]
[null,null,"SELANTE MONOCOMPONENTE A BASE DE SILICONE DE BAIXO MODULO, PARA JUNTAS DE PAVIMENTACAO","L",0.2,112.78399999999999,22.556799999999999,null,0]
[null,null,"Corpo de apoio em polietileno para aplicação de mástiques em juntas","m",1,0,0,null,0]
[null,null,"ADESIVO ESTRUTURAL A BASE DE RESINA EPOXI, BICOMPONENTE, PASTOSO (TIXOTROPICO)","kg",{"$f":"1.8*1*(0.01+0.01)*10","v":0.36000000000000004},32.812999999999995,11.81268,null,0]
[null,null,null,null,null,null,null,null,0]
[null,null,"Obs 1: Considerando consumo do adesivo estrutural 1,8 kg / m² / mm.",null,null,null,null,null,0]
[null,null,"Obs 2: Considerando consumo do selante 100 ml / cm de espessura.",null,null,null,null,null,0]
[null,null,null,null,null,"",{"$f":"IF(ISNUMBER(F3896),E3896*F3896,\"\")","v":""},null,0]
["SF-01112",{"$f":"INDEX(Orçamentária!A:B,MATCH(Composições!A3897,Orçamentária!A:A,0),2)","v":"Recuperação superficial de preparação para pintura epóxi de alto desempenho"},null,{"$f":"TRIM(INDEX(Orçamentária!D:D,MATCH(Composições!A3897,Orçamentária!A:A,0),1))","v":"m2"},null,"","",null,0]
[null,null,null,null,null,"","",null,0]
[null,null,"Pedreiro com Encargos Complementares","h",0.3,22.087499999999999,6.6262499999999998,{"$f":"SUM(G3899:G3904)","v":15.597575000000003},0]
[null,null,"Servente com Encargos Complementares","h",{"$f":"0.3+0.25","v":0.55000000000000004},16.311500000000002,8.971325000000002,null,0]
[null,null,"Massa rápida para recuperação","kg",5,"","",null,0]
[null,null,"Argamassa para recuperação","kg",0.5,"","",null,0]
[null,null,"Primer à base de resina acrílica","kg",0.1,"","",null,0]
[null,null,"Lixa grana 100 para superfície metálica","UN",0.5,0,0,null,0]
[null,null,null,null,null,"","",null,0]
[null,null,"Fonte: Pini 20.105.000010.SER e Pini 20.105.000015.SER",null,null,"","",null,0]
[null,null,null,null,null,"","",null,0]
["SF-01113",{"$f":"INDEX(Orçamentária!A:B,MATCH(Composições!A3908,Orçamentária!A:A,0),2)","v":"Lixamento, calafetação e aplicação de sinteco em piso de madeira - Linha Residencial"},null,{"$f":"TRIM(INDEX(Orçamentária!D:D,MATCH(Composições!A3908,Orçamentária!A:A,0),1))","v":"m2"},null,"","",null,0]
[null,null,null,null,null,"","",null,0]
[null,null,"Raspagem, calafetagem, aplicação de synteko alto brilho em piso de madeira","m2",1,0,0,{"$f":"SUM(G3910:G3910)","v":0},0]
[null,null,null,null,null,"","",null,0]
["SF-01114",{"$f":"INDEX(Orçamentária!A:B,MATCH(Composições!A3912,Orçamentária!A:A,0),2)","v":"Piso em taco de madeira - Linha Residencial"},null,{"$f":"TRIM(INDEX(Orçamentária!D:D,MATCH(Composições!A3912,Orçamentária!A:A,0),1))","v":"m2"},null,"","",null,0]
[null,null,null,null,null,"","",null,0]
[null,null,"TACO DE MADEIRA PARA PISO, IPE (CERNE) OU EQUIVALENTE DA REGIAO, 7 X 42 CM, E = 2 CM","M2",1.05,100.624,105.65519999999999,{"$f":"SUM(G3914:G3917)","v":133.98683625000001},0]
[null,null,"COLA BRANCA BASE PVA","L",0.57499999999999996,16.891000000000002,9.7123249999999999,null,0]
[null,null,"SERVENTE COM ENCARGOS COMPLEMENTARES","H",0.2399,16.311500000000002,3.9131288500000005,null,0]
[null,null,"TAQUEADOR OU TAQUEIRO COM ENCARGOS COMPLEMENTARES","H",0.57589999999999997,25.535999999999998,14.706182399999998,null,0]
[null,null,null,null,null,"","",null,0]
["SF-01115",{"$f":"INDEX(Orçamentária!A:B,MATCH(Composições!A3919,Orçamentária!A:A,0),2)","v":"Piso de borracha antiderrapante tipo moeda"},null,{"$f":"TRIM(INDEX(Orçamentária!D:D,MATCH(Composições!A3919,Orçamentária!A:A,0),1))","v":"m2"},null,"","",null,0]
[null,null,null,null,null,"","",null,0]
[null,null,"ADESIVO ACRILICO/COLA DE CONTATO","KG",0.56369999999999998,24.595499999999998,13.864483349999999,{"$f":"SUM(G3921:G3924)","v":77.548355599999994},0]
[null,null,"PISO DE BORRACHA PASTILHADO EM PLACAS 50 X 50 CM, E = *3,5* MM, PARA COLA, PRETO","M2",1.06,46.901499999999999,49.715589999999999,null,0]
[null,null,"PEDREIRO COM ENCARGOS COMPLEMENTARES","H",0.48359999999999997,22.087499999999999,10.681514999999999,null,0]
[null,null,"SERVENTE COM ENCARGOS COMPLEMENTARES","H",0.20150000000000001,16.311500000000002,3.2867672500000005,null,0]
[null,null,null,null,null,"","",null,0]
["SF-01116",{"$f":"INDEX(Orçamentária!A:B,MATCH(Composições!A3926,Orçamentária!A:A,0),2)","v":"Piso sintético flutuante - Linha Residencial"},null,{"$f":"TRIM(INDEX(Orçamentária!D:D,MATCH(Composições!A3926,Orçamentária!A:A,0),1))","v":"m2"},null,"","",null,0]
[null,null,null,null,null,"","",null,0]
[null,null,"Piso sintético flutuante, laminado de alta resistência, superfície em overlay, substrato HDF-H, painel de fibras de madeira de alta densidade, e = 7 cm","M2",1.05,"","",{"$f":"SUM(G3928:G3930)","v":14.207456529999998},0]
[null,null,"SERVENTE COM ENCARGOS COMPLEMENTARES","H",0.2399,16.311500000000002,3.9131288500000005,null,0]
[null,null,"TAQUEADOR OU TAQUEIRO COM ENCARGOS COMPLEMENTARES","H",{"$f":"0.5759*0.7","v":0.40312999999999993},25.535999999999998,10.294327679999997,null,0]
[null,null,null,null,null,"","",null,0]
["SF-01117",{"$f":"INDEX(Orçamentária!A:B,MATCH(Composições!A3932,Orçamentária!A:A,0),2)","v":"Revestimento acústico perfilado - Linha Administrativa"},null,{"$f":"TRIM(INDEX(Orçamentária!D:D,MATCH(Composições!A3932,Orçamentária!A:A,0),1))","v":"m2"},null,"","",null,0]
[null,null,null,null,null,"","",null,0]
[null,null,"Placa acústica perfilada, semi-rígida, de estrutura micro-celular, com dimensões de 625x625x25 mm, na cor natural (cinza claro)","m2",1.05,"","",{"$f":"SUM(G3934:G3936)","v":8.0116350000000001},0]
[null,null,"TAQUEADOR OU TAQUEIRO COM ENCARGOS COMPLEMENTARES","H",0.15,25.535999999999998,3.8303999999999996,null,0]
[null,null,"ADESIVO ACRILICO/COLA DE CONTATO","kg",0.17,24.595499999999998,4.181235,null,0]
[null,null,null,null,null,"","",null,0]
["SF-01118",{"$f":"INDEX(Orçamentária!A:B,MATCH(Composições!A3938,Orçamentária!A:A,0),2)","v":"Revestimento acústico plano - Linha Administrativa"},null,{"$f":"TRIM(INDEX(Orçamentária!D:D,MATCH(Composições!A3938,Orçamentária!A:A,0),1))","v":"m2"},null,"","",null,0]
[null,null,null,null,null,"","",null,0]
[null,null,"Placa acústica plana, semi-rígida, de estrutura micro-celular, com dimensões de 625x625x25 mm, na cor natural (cinza claro)","m2",1.05,"","",{"$f":"SUM(G3940:G3942)","v":8.0116350000000001},0]
[null,null,"TAQUEADOR OU TAQUEIRO COM ENCARGOS COMPLEMENTARES","H",0.15,25.535999999999998,3.8303999999999996,null,0]
[null,null,"ADESIVO ACRILICO/COLA DE CONTATO","kg",0.17,24.595499999999998,4.181235,null,0]
[null,null,null,null,null,"","",null,0]
["SF-01119",{"$f":"INDEX(Orçamentária!A:B,MATCH(Composições!A3944,Orçamentária!A:A,0),2)","v":"Forro monolítico de gesso em placas"},null,{"$f":"TRIM(INDEX(Orçamentária!D:D,MATCH(Composições!A3944,Orçamentária!A:A,0),1))","v":"m2"},null,"","",null,0]
[null,null,null,null,null,"","",null,0]
[null,null,"ARAME GALVANIZADO 18 BWG, D = 1,24MM (0,009 KG/M)","KG",2.5000000000000001E-2,20.1875,0.50468750000000007,{"$f":"SUM(G3946:G3952)","v":33.813534300000001},0]
[null,null,"GESSO EM PO PARA REVESTIMENTOS/MOLDURAS/SANCAS","KG",0.99639999999999995,0.34199999999999997,0.34076879999999993,null,0]
[null,null,"PLACA DE GESSO PARA FORRO, DE  *60 X 60* CM E ESPESSURA DE 12 MM (30 MM NAS BORDAS) SEM COLOCACAO","M2",1.0293000000000001,7.9705000000000004,8.2040356500000016,null,0]
[null,null,"SISAL EM FIBRA","KG",7.7999999999999996E-3,11.875,9.2624999999999999E-2,null,0]
[null,null,"PARAFUSO ZINCADO, AUTOBROCANTE, FLANGEADO, 4,2 MM X 19 MM","CENTO",3.0800000000000001E-2,20.985499999999998,0.64635339999999997,null,0]
[null,null,"GESSEIRO COM ENCARGOS COMPLEMENTARES","H",0.7974,21.973499999999998,17.521668899999998,null,0]
[null,null,"SERVENTE COM ENCARGOS COMPLEMENTARES","H",0.3987,16.311500000000002,6.5033950500000008,null,0]
[null,null,null,null,null,"","",null,0]
["SF-01120",{"$f":"INDEX(Orçamentária!A:B,MATCH(Composições!A3954,Orçamentária!A:A,0),2)","v":"Textura acrílica - Linha Administrativa"},null,{"$f":"TRIM(INDEX(Orçamentária!D:D,MATCH(Composições!A3954,Orçamentária!A:A,0),1))","v":"m2"},null,"","",null,0]
[null,null,null,null,null,"","",null,0]
[null,null,"MASSA PARA TEXTURA LISA DE BASE ACRILICA, USO INTERNO E EXTERNO","KG",1.1399999999999999,6.1084999999999994,6.9636899999999988,{"$f":"SUM(G3956:G3958)","v":12.418447499999999},0]
[null,null,"PINTOR COM ENCARGOS COMPLEMENTARES","H",0.188,23.027999999999999,4.3292639999999993,null,0]
[null,null,"SERVENTE COM ENCARGOS COMPLEMENTARES","H",6.9000000000000006E-2,16.311500000000002,1.1254935000000001,null,0]
[null,null,null,null,null,"","",null,0]
["SF-01121",{"$f":"INDEX(Orçamentária!A:B,MATCH(Composições!A3960,Orçamentária!A:A,0),2)","v":"Pintura com tinta látex acrílica Premium - cores especiais (sistema tintométrico)"},null,{"$f":"TRIM(INDEX(Orçamentária!D:D,MATCH(Composições!A3960,Orçamentária!A:A,0),1))","v":"m2"},null,"",{"$f":"IF(ISNUMBER(F3960),E3960*F3960,\"\")","v":""},null,0]
[null,null,null,null,null,"","",null,0]
[null,null,"TINTA ACRILICA PREMIUM, COR BRANCO FOSCO","L",{"$f":"ROUND(0.33*1.15,4)","v":0.3795},19.835999999999999,7.5277619999999992,{"$f":"SUM(G3962:G3964)","v":12.959491499999999},0]
[null,null,"PINTOR COM ENCARGOS COMPLEMENTARES","H",0.187,23.027999999999999,4.3062360000000002,null,0]
[null,null,"SERVENTE COM ENCARGOS COMPLEMENTARES","H",6.9000000000000006E-2,16.311500000000002,1.1254935000000001,null,0]
[null,null,null,null,null,"","",null,0]
[null,null,"Obs.: Acréscimo de 15% no coeficiente da tinta para suprir a diferença de preço da tinta branca para as tintas de cores especiais.",null,null,"","",null,0]
[null,null,null,null,null,"","",null,0]
["SF-01123",{"$f":"INDEX(Orçamentária!A:B,MATCH(Composições!A3968,Orçamentária!A:A,0),2)","v":"Pintura com tinta acrílica (pisos)"},null,{"$f":"TRIM(INDEX(Orçamentária!D:D,MATCH(Composições!A3968,Orçamentária!A:A,0),1))","v":"m2"},null,"","",null,0]
[null,null,null,null,null,"","",null,0]
[null,null,"TINTA ACRILICA PREMIUM PARA PISO","L",0.17,13.233499999999999,2.249695,{"$f":"SUM(G3970:G3972)","v":14.387369999999999},0]
[null,null,"PINTOR COM ENCARGOS COMPLEMENTARES","H",0.35,23.027999999999999,8.0597999999999992,null,0]
[null,null,"SERVENTE COM ENCARGOS COMPLEMENTARES","H",0.25,16.311500000000002,4.0778750000000006,null,0]
[null,null,null,null,null,"","",null,0]
["SF-01124",{"$f":"INDEX(Orçamentária!A:B,MATCH(Composições!A3974,Orçamentária!A:A,0),2)","v":"Pintura com tinta epóxi de alto desempenho (pisos)"},null,{"$f":"TRIM(INDEX(Orçamentária!D:D,MATCH(Composições!A3974,Orçamentária!A:A,0),1))","v":"m2"},null,"","",null,0]
[null,null,null,null,null,"","",null,0]
[null,null,"TINTA EPOXI PREMIUM, BRANCA","L",0.52559999999999996,60.457999999999998,31.776724799999997,{"$f":"SUM(G3976:G3979)","v":56.950265599999994},0]
[null,null,"PEDREIRO COM ENCARGOS COMPLEMENTARES","H",0.5,22.087499999999999,11.043749999999999,null,0]
[null,null,"SERVENTE COM ENCARGOS COMPLEMENTARES","H",0.5,16.311500000000002,8.1557500000000012,null,0]
[null,null,"PRIMER EPOXI","GL",3.9199999999999999E-2,152.39899999999997,5.9740407999999992,null,0]
[null,null,null,null,null,"","",null,0]
["SF-01125",{"$f":"INDEX(Orçamentária!A:B,MATCH(Composições!A3981,Orçamentária!A:A,0),2)","v":"Verniz de poliuretano sobre pintura epóxi de alto desempenho"},null,{"$f":"TRIM(INDEX(Orçamentária!D:D,MATCH(Composições!A3981,Orçamentária!A:A,0),1))","v":"m2"},null,"","",null,0]
[null,null,null,null,null,"","",null,0]
[null,null,"LIXA EM FOLHA PARA PAREDE OU MADEIRA, NUMERO 120 (COR VERMELHA)","UN",0.4,0.68399999999999994,0.27360000000000001,{"$f":"SUM(G3983:G3987)","v":18.848683999999999},0]
[null,null,"SOLVENTE DILUENTE A BASE DE AGUARRAS","L",3.3000000000000002E-2,10.773,0.35550900000000002,null,0]
[null,null,"VERNIZ POLIURETANO BRILHANTE PARA MADEIRA, COM FILTRO SOLAR, USO INTERNO E EXTERNO","L",0.22,27.645,6.0819000000000001,null,0]
[null,null,"PINTOR COM ENCARGOS COMPLEMENTARES","H",0.35,23.027999999999999,8.0597999999999992,null,0]
[null,null,"SERVENTE COM ENCARGOS COMPLEMENTARES","H",0.25,16.311500000000002,4.0778750000000006,null,0]
[null,null,null,null,null,"","",null,0]
["SF-01126",{"$f":"INDEX(Orçamentária!A:B,MATCH(Composições!A3989,Orçamentária!A:A,0),2)","v":"Tratamento antiderrapante em verniz de poliuretano sobre pintura epóxi"},null,{"$f":"TRIM(INDEX(Orçamentária!D:D,MATCH(Composições!A3989,Orçamentária!A:A,0),1))","v":"m2"},null,"","",null,0]
[null,null,null,null,null,"","",null,0]
[null,null,"Carga inerte para tratamento antiderrapante em piso (ref.: Sikadur 512 ou 515)","KG",2,"","",{"$f":"SUM(G3991:G3992)","v":1.1254935000000001},0]
[null,null,"SERVENTE COM ENCARGOS COMPLEMENTARES","H",6.9000000000000006E-2,16.311500000000002,1.1254935000000001,null,0]
[null,null,null,null,null,"","",null,0]
["SF-01127",{"$f":"INDEX(Orçamentária!A:B,MATCH(Composições!A3994,Orçamentária!A:A,0),2)","v":"Pintura para superfícies galvanizadas"},null,{"$f":"TRIM(INDEX(Orçamentária!D:D,MATCH(Composições!A3994,Orçamentária!A:A,0),1))","v":"m2"},null,"","",null,0]
[null,null,null,null,null,"","",null,0]
[null,null,"SOLVENTE DILUENTE A BASE DE AGUARRAS","L",6.1899999999999997E-2,10.773,0.66684869999999996,{"$f":"SUM(G3996:G4002)","v":25.709134649999996},0]
[null,null,"PRIMER UNIVERSAL, FUNDO ANTICORROSIVO TIPO ZARCAO","18L",1.15E-2,432.71549999999996,4.9762282499999992,null,0]
[null,null,"PINTOR COM ENCARGOS COMPLEMENTARES","H",0.52659999999999996,23.027999999999999,12.126544799999998,null,0]
[null,null,"COMPRESSOR DE AR, VAZAO DE 10 PCM, RESERVATORIO 100 L, PRESSAO DE TRABALHO ENTRE 6,9 E 9,7 BAR  POTENCIA 2 HP, TENSAO 110/220 V \u0096 CHI DIURNO. AF_05/2017","CHI",0.37319999999999998,0.13300000000000001,4.9635600000000002E-2,null,0]
[null,null,"COMPRESSOR DE AR, VAZAO DE 10 PCM, RESERVATORIO 100 L, PRESSAO DE TRABALHO ENTRE 6,9 E 9,7 BAR, POTENCIA 2 HP, TENSAO 110/220 V - CHP DIURNO. AF_05/2017","CHP",0.15340000000000001,0.99749999999999994,0.1530165,null,0]
[null,null,"LIXA EM FOLHA PARA FERRO, NUMERO 150","UN",0.3,2.8689999999999998,0.86069999999999991,null,0]
[null,null,"PINTOR COM ENCARGOS COMPLEMENTARES","H",0.29859999999999998,23.027999999999999,6.8761607999999992,null,0]
[null,null,null,null,null,"","",null,0]
["SF-01128",{"$f":"INDEX(Orçamentária!A:B,MATCH(Composições!A4004,Orçamentária!A:A,0),2)","v":"Selagem ou resselagem de juntas em pavimentação de concreto armado"},null,{"$f":"TRIM(INDEX(Orçamentária!D:D,MATCH(Composições!A4004,Orçamentária!A:A,0),1))","v":"m"},null,"","",null,0]
[null,null,null,null,null,"","",null,0]
[null,null,"SERVENTE COM ENCARGOS COMPLEMENTARES","h",{"$f":"ROUND(4/74.7,4)","v":5.3499999999999999E-2},16.311500000000002,0.87266525000000006,{"$f":"SUM(G4006:G4011)","v":7.0871462999999997},0]
[null,null,"Compressor de ar portátil de 71 PCM - 15 kW","CHP",{"$f":"ROUND(1/74.7,4)","v":1.34E-2},0,0,null,0]
[null,null,"Serra para corte de concreto e asfalto - 10 kW","CHP",{"$f":"ROUND(1/74.7,4)","v":1.34E-2},0,0,null,0]
[null,null,"Cordão de polietileno expandido","m",1,0,0,null,0]
[null,null,"Disco diamantado - D = 350 mm","UN",3.3E-3,0,0,null,0]
[null,null,"SELANTE A BASE DE ALCATRAO E POLIURETANO PARA JUNTAS HORIZONTAIS","kg",0.1181,52.6205,6.2144810499999998,null,0]
[null,null,null,null,null,"","",null,0]
["SF-01129",{"$f":"INDEX(Orçamentária!A:B,MATCH(Composições!A4013,Orçamentária!A:A,0),2)","v":"Pavimentação em elementos intertravados de concreto"},null,{"$f":"TRIM(INDEX(Orçamentária!D:D,MATCH(Composições!A4013,Orçamentária!A:A,0),1))","v":"m2"},null,"","",null,0]
[null,null,null,null,null,"","",null,0]
[null,null,"AREIA MEDIA - POSTO JAZIDA/FORNECEDOR (RETIRADO NA JAZIDA, SEM TRANSPORTE)","M3",5.6800000000000003E-2,93.8125,5.3285499999999999,{"$f":"SUM(G4015:G4025)","v":49.471773038840006},0]
[null,null,"PO DE PEDRA (POSTO PEDREIRA/FORNECEDOR, SEM FRETE)","M3",3.5999999999999999E-3,98.771499999999989,0.35557739999999993,null,0]
[null,null,"BLOQUETE/PISO DE CONCRETO - MODELO BLOCO PISOGRAMA/CONCREGRAMA 2 FUROS, DIMENSOES APROX. DE 35 CM X 15 CM E ESPESSURA DE 7 CM (+/- 1 CM), COR NATURAL","M2",1.0042,37.667499999999997,37.825703499999996,null,0]
[null,null,"CALCETEIRO COM ENCARGOS COMPLEMENTARES","H",9.7000000000000003E-2,20.766999999999999,2.0143990000000001,null,0]
[null,null,"SERVENTE COM ENCARGOS COMPLEMENTARES","H",9.7000000000000003E-2,16.311500000000002,1.5822155000000002,null,0]
[null,null,"PLACA VIBRATÓRIA REVERSÍVEL COM MOTOR 4 TEMPOS A GASOLINA, FORÇA CENTRÍFUGA DE 25 KN (2500 KGF), POTÊNCIA 5,5 CV - CHP DIURNO. AF_08/2015","CHP",4.1000000000000003E-3,7.4005000000000001,3.0342050000000002E-2,null,0]
[null,null,"PLACA VIBRATÓRIA REVERSÍVEL COM MOTOR 4 TEMPOS A GASOLINA, FORÇA CENTRÍFUGA DE 25 KN (2500 KGF), POTÊNCIA 5,5 CV - CHI DIURNO. AF_08/2015","CHI",4.4400000000000002E-2,0.71249999999999991,3.1634999999999996E-2,null,0]
[null,null,"CORTADORA DE PISO COM MOTOR 4 TEMPOS A GASOLINA, POTÊNCIA DE 13 HP, COM DISCO DE CORTE DIAMANTADO SEGMENTADO PARA CONCRETO, DIÂMETRO DE 350 MM, FURO DE 1\" (14 X 1\") - CHP DIURNO. AF_08/2015","CHP",3.7000000000000002E-3,15.655999999999999,5.7927199999999998E-2,null,0]
[null,null,"CORTADORA DE PISO COM MOTOR 4 TEMPOS A GASOLINA, POTÊNCIA DE 13 HP, COM DISCO DE CORTE DIAMANTADO SEGMENTADO PARA CONCRETO, DIÂMETRO DE 350 MM, FURO DE 1\" (14 X 1\") - CHI DIURNO. AF_08/2015","CHI",4.48E-2,0.71249999999999991,3.1919999999999997E-2,null,0]
[null,null,"CARGA, MANOBRA E DESCARGA DE SOLOS E MATERIAIS GRANULARES EM CAMINHÃO BASCULANTE 6 M³ - CARGA COM PÁ CARREGADEIRA (CAÇAMBA DE 1,7 A 2,8 M³ / 128 HP) E DESCARGA LIVRE (UNIDADE: M3). AF_07/2020","m3",{"$f":"1*(E4015+E4016)","v":6.0400000000000002E-2},4.9035180999999994,{"$f":"IF(ISNUMBER(F4024),E4024*F4024,\"\")","v":0.29617249324},null,0]
[null,null,"TRANSPORTE COM CAMINHÃO BASCULANTE DE 6 M3, EM VIA URBANA PAVIMENTADA, DMT ATÉ 30 KM (UNIDADE: M3xKM). AF_01/2018","M3xKM",{"$f":"20*(E4015+E4016)","v":1.208},1.5871944499999999,1.9173308955999999,null,0]
[null,null,null,null,null,"","",null,0]
[null,null,"Obs: considerando fornecedor de areia e brita a 20 km do Senado Federal",null,null,"","",null,0]
[null,null,null,null,null,"","",null,0]
["SF-01130",{"$f":"INDEX(Orçamentária!A:B,MATCH(Composições!A4029,Orçamentária!A:A,0),2)","v":"Pavimentação com Asfalto Pré-Misturado a Frio (PMF)"},null,{"$f":"TRIM(INDEX(Orçamentária!D:D,MATCH(Composições!A4029,Orçamentária!A:A,0),1))","v":"m3"},null,"","",null,2]
[null,null,null,null,null,"","",null,2]
[null,null,"SERVENTE COM ENCARGOS COMPLEMENTARES","H",0.4,16.311500000000002,6.5246000000000013,{"$f":"SUM(G4031:G4052)","v":598.05308857399984},2]
[null,null,"ROLO COMPACTADOR DE PNEUS, ESTATICO, PRESSAO VARIAVEL, POTENCIA 110 HP, PESO SEM/COM LASTRO 10,8/27 T, LARGURA DE ROLAGEM 2,30 M - CHI DIURNO. AF_06/2017","CHI",6.0000000000000001E-3,45.923000000000002,0.27553800000000001,null,2]
[null,null,"ROLO COMPACTADOR DE PNEUS, ESTATICO, PRESSAO VARIAVEL, POTENCIA 110 HP, PESO SEM/COM LASTRO 10,8/27 T, LARGURA DE ROLAGEM 2,30 M - CHP DIURNO. AF_06/2017","CHP",1.0699999999999999E-2,113.06899999999999,1.2098382999999999,null,2]
[null,null,"ROLO COMPACTADOR VIBRATORIO TANDEM, ACO LISO, POTENCIA 125 HP, PESO SEM/COM LASTRO 10,20/11,65 T, LARGURA DE TRABALHO 1,73 M - CHP DIURNO. AF_11/2016","CHP",6.1999999999999998E-3,121.372,0.75250640000000002,null,2]
[null,null,"ROLO COMPACTADOR VIBRATORIO TANDEM, ACO LISO, POTENCIA 125 HP, PESO SEM/COM LASTRO 10,20/11,65 T, LARGURA DE TRABALHO 1,73 M - CHI DIURNO. AF_11/2016","CHI",1.0500000000000001E-2,43.110999999999997,0.4526655,null,2]
[null,null,"TRATOR DE PNEUS, POTÊNCIA 85 CV, TRAÇÃO 4X4, PESO COM LASTRO DE 4.675 KG - CHI DIURNO. AF_06/2014","CHI",1.2200000000000001E-2,25.849499999999999,0.31536390000000003,null,2]
[null,null,"TRATOR DE PNEUS, POTÊNCIA 85 CV, TRAÇÃO 4X4, PESO COM LASTRO DE 4.675 KG - CHP DIURNO. AF_06/2014","CHP",4.4999999999999997E-3,101.08949999999999,0.45490274999999991,null,2]
[null,null,"VASSOURA MECÂNICA REBOCÁVEL COM ESCOVA CILÍNDRICA, LARGURA ÚTIL DE VARRIMENTO DE 2,44 M - CHI DIURNO. AF_06/2014","CHI",1.2200000000000001E-2,2.1945000000000001,2.6772900000000002E-2,null,2]
[null,null,"VASSOURA MECÂNICA REBOCÁVEL COM ESCOVA CILÍNDRICA, LARGURA ÚTIL DE VARRIMENTO DE 2,44 M - CHP DIURNO. AF_06/2014","CHP",4.4999999999999997E-3,4.617,2.07765E-2,null,2]
[null,null,"VIBROACABADORA DE ASFALTO SOBRE ESTEIRAS, LARGURA DE PAVIMENTAÇÃO 1,90 M A 5,30 M, POTÊNCIA 105 HP CAPACIDADE 450 T/H - CHP DIURNO. AF_11/2014","CHP",1.67E-2,240.73,4.0201909999999996,null,2]
[null,null,"CAMINHÃO BASCULANTE 10 M3, TRUCADO, POTÊNCIA 230 CV, INCLUSIVE CAÇAMBA METÁLICA, COM DISTRIBUIDOR DE AGREGADOS ACOPLADO - CHP DIURNO. AF_02/2017","CHP",2.7199999999999998E-2,147.66799999999998,4.0165695999999995,null,2]
[null,null,"SERVENTE COM ENCARGOS COMPLEMENTARES","H",0.3,16.311500000000002,4.8934500000000005,null,2]
[null,null,"AREIA GROSSA - POSTO JAZIDA/FORNECEDOR (RETIRADO NA JAZIDA, SEM TRANSPORTE)","m3",0.18,113.6675,20.460149999999999,null,2]
[null,null,"PEDRA BRITADA N. 0, OU PEDRISCO (4,8 A 9,5 MM) POSTO PEDREIRA/FORNECEDOR, SEM FRETE","m3",1.26,132.11649999999997,166.46678999999997,null,2]
[null,null,"EMULSAO ASFALTICA CATIONICA RL-1C PARA USO EM PAVIMENTACAO ASFALTICA (COLETADO CAIXA NA ANP ACRESCIDO DE ICMS)","T",0.14000000000000001,2199.5729999999999,307.94022000000001,null,2]
[null,null,"GRUPO GERADOR ESTACIONÁRIO, POTÊNCIA 150 KVA, MOTOR A DIESEL- CHP DIURNO. AF_03/2016","CHP",0.05,97.270499999999998,4.8635250000000001,null,2]
[null,null,"PÁ CARREGADEIRA SOBRE RODAS, POTÊNCIA 197 HP, CAPACIDADE DA CAÇAMBA 2,5 A 3,5 M3, PESO OPERACIONAL 18338 KG - CHP DIURNO. AF_06/2014","CHP",2.1000000000000001E-2,125.99849999999999,2.6459684999999999,null,2]
[null,null,"PÁ CARREGADEIRA SOBRE RODAS, POTÊNCIA 197 HP, CAPACIDADE DA CAÇAMBA 2,5 A 3,5 M3, PESO OPERACIONAL 18338 KG - CHI DIURNO. AF_06/2014","CHI",2.9000000000000001E-2,51.186,1.484394,null,2]
[null,null,"USINA DE ASFALTO À FRIO, CAPACIDADE DE 40 A 60 TON/HORA, ELÉTRICA POTÊNCIA 30 CV - CHP DIURNO. AF_03/2016","CHP",0.05,110.523,5.5261500000000003,null,2]
[null,null,"TANQUE DE ASFALTO ESTACIONÁRIO COM SERPENTINA, CAPACIDADE 30.000 L - CHP DIURNO. AF_06/2014","CHP",0.1,129.30450000000002,12.930450000000002,null,2]
[null,null,"CARGA, MANOBRA E DESCARGA DE SOLOS E MATERIAIS GRANULARES EM CAMINHÃO BASCULANTE 6 M³ - CARGA COM PÁ CARREGADEIRA (CAÇAMBA DE 1,7 A 2,8 M³ / 128 HP) E DESCARGA LIVRE (UNIDADE: M3). AF_07/2020","m3",{"$f":"1*(E4043+E4044)","v":1.44},4.9035180999999994,7.0610660639999994,null,2]
[null,null,"TRANSPORTE COM CAMINHÃO BASCULANTE DE 6 M3, EM VIA URBANA PAVIMENTADA, DMT ATÉ 30 KM (UNIDADE: M3xKM). AF_01/2018","M3xKM",{"$f":"20*(E4044+E4043)","v":28.799999999999997},1.5871944499999999,45.71120015999999,null,2]
[null,null,null,null,null,"","",null,2]
[null,null,"Obs: considerando fornecedor de areia e brita a 20 km do Senado Federal",null,null,"","",null,2]
[null,null,null,null,null,"","",null,2]
["SF-01131",{"$f":"INDEX(Orçamentária!A:B,MATCH(Composições!A4056,Orçamentária!A:A,0),2)","v":"Pavimentação asfáltica com CBUQ para aplicação a frio (remendo)"},null,{"$f":"TRIM(INDEX(Orçamentária!D:D,MATCH(Composições!A4056,Orçamentária!A:A,0),1))","v":"m3"},null,"","",null,0]
[null,null,null,null,null,"","",null,0]
[null,null,"SERVENTE COM ENCARGOS COMPLEMENTARES","H",{"$f":"6/0.5","v":12},16.311500000000002,195.73800000000003,{"$f":"SUM(G4058:G4061)","v":195.73800000000003},0]
[null,null,"Compactador manual de placa vibratória - 3 kW - CHP","CHP",{"$f":"0.2/0.5","v":0.4},0,0,null,0]
[null,null,"Compactador manual de placa vibratória - 3 kW - CHI","CHI",{"$f":"0.8/0.5","v":1.6},0,0,null,0]
[null,null,"Asfalto a frio ensacado","kg",2500,"","",null,0]
[null,null,null,null,null,"","",null,0]
["SF-01132",{"$f":"INDEX(Orçamentária!A:B,MATCH(Composições!A4063,Orçamentária!A:A,0),2)","v":"Pintura para sinalização e demarcação viária horizontal"},null,{"$f":"TRIM(INDEX(Orçamentária!D:D,MATCH(Composições!A4063,Orçamentária!A:A,0),1))","v":"m2"},null,"","",null,0]
[null,null,null,null,null,"","",null,0]
[null,null,"SOLVENTE DILUENTE A BASE DE AGUARRAS","L",0.13,10.773,1.40049,{"$f":"SUM(G4065:G4071)","v":15.210291350000002},0]
[null,null,"CAMINHÃO TOCO, PBT 16.000 KG, CARGA ÚTIL MÁX. 10.685 KG, DIST. ENTRE EIXOS 4,8 M, POTÊNCIA 189 CV, INCLUSIVE CARROCERIA FIXA ABERTA DE MADEIRA P/ TRANSPORTE GERAL DE CARGA SECA, DIMEN. APROX. 2,5 X 7,00 X 0,50 M - CHP DIURNO. AF_06/2014","CHP",3.3E-3,107.673,0.3553209,null,0]
[null,null,"TINTA A BASE DE RESINA ACRILICA, PARA SINALIZACAO HORIZONTAL VIARIA (NBR 11862)","L",0.6,13.974500000000001,8.3847000000000005,null,0]
[null,null,"TINTA ACRILICA PREMIUM PARA PISO","L",0.03,13.233499999999999,0.39700499999999994,null,0]
[null,null,"MICROESFERAS DE VIDRO PARA SINALIZACAO HORIZONTAL VIARIA, TIPO I-B (PREMIX) - NBR 16184","KG",0.4,9.5284999999999993,3.8113999999999999,null,0]
[null,null,"SERVENTE COM ENCARGOS COMPLEMENTARES","H",3.3300000000000003E-2,16.311500000000002,0.5431729500000001,null,0]
[null,null,"MÁQUINA DEMARCADORA DE FAIXA DE TRÁFEGO À FRIO, AUTOPROPELIDA, POTÊNCIA 38 HP - CHP DIURNO. AF_07/2016","CHP",3.3E-3,96.424999999999997,0.3182025,null,0]
[null,null,null,null,null,"","",null,0]
["SF-01133",{"$f":"INDEX(Orçamentária!A:B,MATCH(Composições!A4073,Orçamentária!A:A,0),2)","v":"Telha metálica trapezoidal galvanizada - GR-40"},null,{"$f":"TRIM(INDEX(Orçamentária!D:D,MATCH(Composições!A4073,Orçamentária!A:A,0),1))","v":"m2"},null,"","",null,0]
[null,null,null,null,null,"","",null,0]
[null,null,"TELHA TRAPEZOIDAL EM ACO ZINCADO, SEM PINTURA, ALTURA DE APROXIMADAMENTE 40 MM, ESPESSURA DE 0,50 MM E LARGURA UTIL DE 980 MM","M2",1.1659999999999999,41.780999999999992,48.71664599999999,{"$f":"SUM(G4075:G4080)","v":56.997780799999994},0]
[null,null,"HASTE RETA PARA GANCHO DE FERRO GALVANIZADO, COM ROSCA 1/4 \" X 30 CM PARA FIXACAO DE TELHA METALICA, INCLUI PORCA E ARRUELAS DE VEDACAO","CJ",4.1500000000000004,1.0924999999999998,4.5338749999999992,null,0]
[null,null,"SERVENTE COM ENCARGOS COMPLEMENTARES","H",9.7000000000000003E-2,16.311500000000002,1.5822155000000002,null,0]
[null,null,"TELHADISTA COM ENCARGOS COMPLEMENTARES","H",9.0999999999999998E-2,23.360499999999998,2.1258054999999998,null,0]
[null,null,"GUINCHO ELÉTRICO DE COLUNA, CAPACIDADE 400 KG, COM MOTO FREIO, MOTOR TRIFÁSICO DE 1,25 CV - CHP DIURNO. AF_03/2016","CHP",8.9999999999999998E-4,18.239999999999998,1.6415999999999997E-2,null,0]
[null,null,"GUINCHO ELÉTRICO DE COLUNA, CAPACIDADE 400 KG, COM MOTO FREIO, MOTOR TRIFÁSICO DE 1,25 CV - CHI DIURNO. AF_03/2016","CHI",1.2999999999999999E-3,17.556000000000001,2.2822800000000001E-2,null,0]
[null,null,null,null,null,"","",null,0]
["SF-01134",{"$f":"INDEX(Orçamentária!A:B,MATCH(Composições!A4082,Orçamentária!A:A,0),2)","v":"Cumeeira para telha metálica trapezoidal galvanizada - GR-40"},null,{"$f":"TRIM(INDEX(Orçamentária!D:D,MATCH(Composições!A4082,Orçamentária!A:A,0),1))","v":"m"},null,"","",null,0]
[null,null,null,null,null,"","",null,0]
[null,null,"HASTE RETA PARA GANCHO DE FERRO GALVANIZADO, COM ROSCA 1/4 \" X 30 CM PARA FIXACAO DE TELHA METALICA, INCLUI PORCA E ARRUELAS DE VEDACAO","CJ",4.1500000000000004,1.0924999999999998,4.5338749999999992,{"$f":"SUM(G4084:G4089)","v":7.2047220999999997},0]
[null,null,"Cumeeira metálica galvanizada GR 40 com espessura de 0,43 mm.","m",1.0289999999999999,"","",null,0]
[null,null,"SERVENTE COM ENCARGOS COMPLEMENTARES","H",7.2999999999999995E-2,16.311500000000002,1.1907395000000001,null,0]
[null,null,"TELHADISTA COM ENCARGOS COMPLEMENTARES","H",0.06,23.360499999999998,1.4016299999999999,null,0]
[null,null,"GUINCHO ELÉTRICO DE COLUNA, CAPACIDADE 400 KG, COM MOTO FREIO, MOTOR TRIFÁSICO DE 1,25 CV - CHP DIURNO. AF_03/2016","CHP",1.8E-3,18.239999999999998,{"$f":"IF(ISNUMBER(F4088),E4088*F4088,\"\")","v":3.2831999999999993E-2},null,0]
[null,null,"GUINCHO ELÉTRICO DE COLUNA, CAPACIDADE 400 KG, COM MOTO FREIO, MOTOR TRIFÁSICO DE 1,25 CV - CHI DIURNO. AF_03/2016","CHI",2.5999999999999999E-3,17.556000000000001,4.5645600000000001E-2,null,0]
[null,null,null,null,null,"","",null,0]
["SF-01135",{"$f":"INDEX(Orçamentária!A:B,MATCH(Composições!A4091,Orçamentária!A:A,0),2)","v":"Telha metálica trapezoidal galvanizada - GR-25"},null,{"$f":"TRIM(INDEX(Orçamentária!D:D,MATCH(Composições!A4091,Orçamentária!A:A,0),1))","v":"m2"},null,"","",null,0]
[null,null,null,null,null,"","",null,0]
[null,null,"Telha metálica trapezoidal galvanizada GR 25 com espessura de 0,43 mm, com largura de 1020 mm e comprimento de 5 metros.","M2",1.1659999999999999,"","",{"$f":"SUM(G4093:G4098)","v":8.2811347999999985},0]
[null,null,"HASTE RETA PARA GANCHO DE FERRO GALVANIZADO, COM ROSCA 1/4 \" X 30 CM PARA FIXACAO DE TELHA METALICA, INCLUI PORCA E ARRUELAS DE VEDACAO","CJ",4.1500000000000004,1.0924999999999998,4.5338749999999992,null,0]
[null,null,"SERVENTE COM ENCARGOS COMPLEMENTARES","H",9.7000000000000003E-2,16.311500000000002,1.5822155000000002,null,0]
[null,null,"TELHADISTA COM ENCARGOS COMPLEMENTARES","H",9.0999999999999998E-2,23.360499999999998,2.1258054999999998,null,0]
[null,null,"GUINCHO ELÉTRICO DE COLUNA, CAPACIDADE 400 KG, COM MOTO FREIO, MOTOR TRIFÁSICO DE 1,25 CV - CHP DIURNO. AF_03/2016","CHP",8.9999999999999998E-4,18.239999999999998,1.6415999999999997E-2,null,0]
[null,null,"GUINCHO ELÉTRICO DE COLUNA, CAPACIDADE 400 KG, COM MOTO FREIO, MOTOR TRIFÁSICO DE 1,25 CV - CHI DIURNO. AF_03/2016","CHI",1.2999999999999999E-3,17.556000000000001,2.2822800000000001E-2,null,0]
[null,null,null,null,null,"","",null,0]
["SF-01136",{"$f":"INDEX(Orçamentária!A:B,MATCH(Composições!A4100,Orçamentária!A:A,0),2)","v":"Cumeeira para telha metálica trapezoidal galvanizada - GR-25"},null,{"$f":"TRIM(INDEX(Orçamentária!D:D,MATCH(Composições!A4100,Orçamentária!A:A,0),1))","v":"m"},null,"","",null,0]
[null,null,null,null,null,"","",null,0]
[null,null,"HASTE RETA PARA GANCHO DE FERRO GALVANIZADO, COM ROSCA 1/4 \" X 30 CM PARA FIXACAO DE TELHA METALICA, INCLUI PORCA E ARRUELAS DE VEDACAO","CJ",4.1500000000000004,1.0924999999999998,4.5338749999999992,{"$f":"SUM(G4102:G4107)","v":7.2047220999999997},0]
[null,null,"Cumeeira metálica galvanizada GR 25 com espessura de 0,43 mm.","m",1.0289999999999999,"","",null,0]
[null,null,"SERVENTE COM ENCARGOS COMPLEMENTARES","H",7.2999999999999995E-2,16.311500000000002,1.1907395000000001,null,0]
[null,null,"TELHADISTA COM ENCARGOS COMPLEMENTARES","H",0.06,23.360499999999998,1.4016299999999999,null,0]
[null,null,"GUINCHO ELÉTRICO DE COLUNA, CAPACIDADE 400 KG, COM MOTO FREIO, MOTOR TRIFÁSICO DE 1,25 CV - CHP DIURNO. AF_03/2016","CHP",1.8E-3,18.239999999999998,3.2831999999999993E-2,null,0]
[null,null,"GUINCHO ELÉTRICO DE COLUNA, CAPACIDADE 400 KG, COM MOTO FREIO, MOTOR TRIFÁSICO DE 1,25 CV - CHI DIURNO. AF_03/2016","CHI",2.5999999999999999E-3,17.556000000000001,4.5645600000000001E-2,null,0]
[null,null,null,null,null,"","",null,0]
["SF-01137",{"$f":"INDEX(Orçamentária!A:B,MATCH(Composições!A4109,Orçamentária!A:A,0),2)","v":"Telha de fibrocimento modulada - espessura 8mm"},null,{"$f":"TRIM(INDEX(Orçamentária!D:D,MATCH(Composições!A4109,Orçamentária!A:A,0),1))","v":"m2"},null,"","",null,0]
[null,null,null,null,null,"","",null,0]
[null,null,"TELHADISTA COM ENCARGOS COMPLEMENTARES","h",0.3,23.360499999999998,7.0081499999999997,{"$f":"SUM(G4111:G4117)","v":16.79505},0]
[null,null,"SERVENTE COM ENCARGOS COMPLEMENTARES","h",0.6,16.311500000000002,9.786900000000001,null,0]
[null,null,"Conjunto de vedação elástica para furo Ø 8 mm","UN",1.1100000000000001,0,0,null,0]
[null,null,"Telha estrutural de fibrocimento ondulada esp. 8 mm largura útil 102 cm","m2",1.24,0,0,null,0]
[null,null,"Calço plástico para fixação de telha de fibrocimento tipo modulada e onda 50","UN",1.1100000000000001,0,0,null,0]
[null,null,"Fixador de aba telha de fibrocimento simples modulada","UN",1,0,0,null,0]
[null,null,"Parafuso rosca soberba galvanizado Ø 8 mm x 165 mm","UN",1.1100000000000001,0,0,null,0]
[null,null,null,null,null,"","",null,0]
["SF-01138",{"$f":"INDEX(Orçamentária!A:B,MATCH(Composições!A4119,Orçamentária!A:A,0),2)","v":"Cumeeira articulada ABA SUPERIOR de fibrocimento para telha modulada - espessura 6 mm"},null,{"$f":"TRIM(INDEX(Orçamentária!D:D,MATCH(Composições!A4119,Orçamentária!A:A,0),1))","v":"m"},null,"","",null,0]
[null,null,null,null,null,"","",null,0]
[null,null,"TELHADISTA COM ENCARGOS COMPLEMENTARES","h",{"$f":"0.12/2","v":0.06},23.360499999999998,1.4016299999999999,{"$f":"SUM(G4121:G4125)","v":2.3803200000000002},0]
[null,null,"SERVENTE COM ENCARGOS COMPLEMENTARES","h",{"$f":"0.12/2","v":0.06},16.311500000000002,0.97869000000000006,null,0]
[null,null,"Conjunto de vedação elástica para furo Ø 8 mm","UN",{"$f":"4.12/2","v":2.06},0,0,null,0]
[null,null,"Cumeeira articulada superior para telha de fibrocimento modulada ou onda 50","UN",2.06,0,0,null,0]
[null,null,"Parafuso rosca soberba galvanizado Ø 8 mm x 165 mm","UN",{"$f":"4.12/2","v":2.06},0,0,null,0]
[null,null,null,null,null,"","",null,0]
["SF-01139",{"$f":"INDEX(Orçamentária!A:B,MATCH(Composições!A4127,Orçamentária!A:A,0),2)","v":"Cumeeira articulada ABA INFERIOR de fibrocimento para telha modulada - espessura 6 mm"},null,{"$f":"TRIM(INDEX(Orçamentária!D:D,MATCH(Composições!A4127,Orçamentária!A:A,0),1))","v":"m"},null,"","",null,0]
[null,null,null,null,null,"","",null,0]
[null,null,"TELHADISTA COM ENCARGOS COMPLEMENTARES","h",{"$f":"0.12/2","v":0.06},23.360499999999998,1.4016299999999999,{"$f":"SUM(G4129:G4133)","v":2.3803200000000002},0]
[null,null,"SERVENTE COM ENCARGOS COMPLEMENTARES","h",{"$f":"0.12/2","v":0.06},16.311500000000002,0.97869000000000006,null,0]
[null,null,"Conjunto de vedação elástica para furo Ø 8 mm","UN",{"$f":"4.12/2","v":2.06},0,0,null,0]
[null,null,"Cumeeira articulada inferior para telha de fibrocimento tipo modulada ou onda 50","UN",2.06,0,0,null,0]
[null,null,"Parafuso rosca soberba galvanizado Ø 8 mm x 165 mm","UN",{"$f":"4.12/2","v":2.06},0,0,null,0]
[null,null,null,null,null,"","",null,0]
["SF-01140",{"$f":"INDEX(Orçamentária!A:B,MATCH(Composições!A4135,Orçamentária!A:A,0),2)","v":"Telha de fibrocimento ondulada - espessura 6mm"},null,{"$f":"TRIM(INDEX(Orçamentária!D:D,MATCH(Composições!A4135,Orçamentária!A:A,0),1))","v":"m2"},null,"","",null,0]
[null,null,null,null,null,"","",null,0]
[null,null,"CONJUNTO ARRUELAS DE VEDACAO 5/16\" PARA TELHA FIBROCIMENTO (UMA ARRUELA METALICA E UMA ARRUELA PVC - CONICAS)","CJ",1.27,0.14249999999999999,0.180975,{"$f":"SUM(G4137:G4143)","v":32.6473789},0]
[null,null,"PARAFUSO ZINCADO ROSCA SOBERBA, CABECA SEXTAVADA, 5/16 \" X 250 MM, PARA FIXACAO DE TELHA EM MADEIRA","UN",1.27,2.2229999999999999,2.82321,null,0]
[null,null,"TELHA DE FIBROCIMENTO ONDULADA E = 6 MM, DE 2,44 X 1,10 M (SEM AMIANTO)","M2",1.2749999999999999,19.056999999999999,24.297674999999998,null,0]
[null,null,"SERVENTE COM ENCARGOS COMPLEMENTARES","H",0.15,16.311500000000002,2.4467250000000003,null,0]
[null,null,"TELHADISTA COM ENCARGOS COMPLEMENTARES","H",0.115,23.360499999999998,2.6864574999999999,null,0]
[null,null,"GUINCHO ELÉTRICO DE COLUNA, CAPACIDADE 400 KG, COM MOTO FREIO, MOTOR TRIFÁSICO DE 1,25 CV - CHP DIURNO. AF_03/2016","CHP",5.0000000000000001E-3,18.239999999999998,9.1199999999999989E-2,null,0]
[null,null,"GUINCHO ELÉTRICO DE COLUNA, CAPACIDADE 400 KG, COM MOTO FREIO, MOTOR TRIFÁSICO DE 1,25 CV - CHI DIURNO. AF_03/2016","CHI",6.8999999999999999E-3,17.556000000000001,0.12113640000000001,null,0]
[null,null,null,null,null,"","",null,0]
["SF-01141",{"$f":"INDEX(Orçamentária!A:B,MATCH(Composições!A4145,Orçamentária!A:A,0),2)","v":"Cumeeira UNIVERSAL para telha de fibrocimento ondulada - espessura 6 mm"},null,{"$f":"TRIM(INDEX(Orçamentária!D:D,MATCH(Composições!A4145,Orçamentária!A:A,0),1))","v":"m"},null,"","",null,0]
[null,null,null,null,null,"","",null,0]
[null,null,"CONJUNTO ARRUELAS DE VEDACAO 5/16\" PARA TELHA FIBROCIMENTO (UMA ARRUELA METALICA E UMA ARRUELA PVC - CONICAS)","CJ",4.2,0.14249999999999999,0.59849999999999992,{"$f":"SUM(G4147:G4153)","v":40.456346599999989},0]
[null,null,"PARAFUSO ZINCADO ROSCA SOBERBA, CABECA SEXTAVADA, 5/16 \" X 250 MM, PARA FIXACAO DE TELHA EM MADEIRA","UN",4.2,2.2229999999999999,9.3366000000000007,null,0]
[null,null,"CUMEEIRA UNIVERSAL PARA TELHA ONDULADA DE FIBROCIMENTO, E = 6 MM, ABA 210 MM, COMPRIMENTO 1100 MM (SEM AMIANTO)","UN",1.0289999999999999,27.065499999999997,27.850399499999995,null,0]
[null,null,"SERVENTE COM ENCARGOS COMPLEMENTARES","H",7.2999999999999995E-2,16.311500000000002,1.1907395000000001,null,0]
[null,null,"TELHADISTA COM ENCARGOS COMPLEMENTARES","H",0.06,23.360499999999998,1.4016299999999999,null,0]
[null,null,"GUINCHO ELÉTRICO DE COLUNA, CAPACIDADE 400 KG, COM MOTO FREIO, MOTOR TRIFÁSICO DE 1,25 CV - CHP DIURNO. AF_03/2016","CHP",1.8E-3,18.239999999999998,{"$f":"IF(ISNUMBER(F4152),E4152*F4152,\"\")","v":3.2831999999999993E-2},null,0]
[null,null,"GUINCHO ELÉTRICO DE COLUNA, CAPACIDADE 400 KG, COM MOTO FREIO, MOTOR TRIFÁSICO DE 1,25 CV - CHI DIURNO. AF_03/2016","CHI",2.5999999999999999E-3,17.556000000000001,4.5645600000000001E-2,null,0]
[null,null,null,null,null,"","",null,0]
["SF-01142",{"$f":"INDEX(Orçamentária!A:B,MATCH(Composições!A4155,Orçamentária!A:A,0),2)","v":"Cumeeira TIPO SHED para telha de fibrocimento ondulada - espessura 6 mm"},null,{"$f":"TRIM(INDEX(Orçamentária!D:D,MATCH(Composições!A4155,Orçamentária!A:A,0),1))","v":"m"},null,"","",null,0]
[null,null,null,null,null,"","",null,0]
[null,null,"CONJUNTO ARRUELAS DE VEDACAO 5/16\" PARA TELHA FIBROCIMENTO (UMA ARRUELA METALICA E UMA ARRUELA PVC - CONICAS)","CJ",4.2,0.14249999999999999,0.59849999999999992,{"$f":"SUM(G4157:G4163)","v":38.780442099999995},0]
[null,null,"PARAFUSO ZINCADO ROSCA SOBERBA, CABECA SEXTAVADA, 5/16 \" X 250 MM, PARA FIXACAO DE TELHA EM MADEIRA","UN",4.2,2.2229999999999999,9.3366000000000007,null,0]
[null,null,"CUMEEIRA SHED PARA TELHA ONDULADA DE FIBROCIMENTO, E = 6 MM, ABA 280 MM, COMPRIMENTO 1100 MM (SEM AMIANTO)","UN",1.0289999999999999,26.153500000000001,26.911951499999997,null,0]
[null,null,"SERVENTE COM ENCARGOS COMPLEMENTARES","H",5.5E-2,16.311500000000002,0.89713250000000011,null,0]
[null,null,"TELHADISTA COM ENCARGOS COMPLEMENTARES","H",4.1000000000000002E-2,23.360499999999998,0.95778049999999992,null,0]
[null,null,"GUINCHO ELÉTRICO DE COLUNA, CAPACIDADE 400 KG, COM MOTO FREIO, MOTOR TRIFÁSICO DE 1,25 CV - CHP DIURNO. AF_03/2016","CHP",1.8E-3,18.239999999999998,3.2831999999999993E-2,null,0]
[null,null,"GUINCHO ELÉTRICO DE COLUNA, CAPACIDADE 400 KG, COM MOTO FREIO, MOTOR TRIFÁSICO DE 1,25 CV - CHI DIURNO. AF_03/2016","CHI",2.5999999999999999E-3,17.556000000000001,4.5645600000000001E-2,null,0]
[null,null,null,null,null,"","",null,0]
["SF-01143",{"$f":"INDEX(Orçamentária!A:B,MATCH(Composições!A4165,Orçamentária!A:A,0),2)","v":"Telha de fibrocimento - Canalete 49 Eternit"},null,{"$f":"TRIM(INDEX(Orçamentária!D:D,MATCH(Composições!A4165,Orçamentária!A:A,0),1))","v":"m2"},null,"","",null,0]
[null,null,null,null,null,"","",null,0]
[null,null,"TELHADISTA COM ENCARGOS COMPLEMENTARES","h",0.15,23.360499999999998,3.5040749999999998,{"$f":"SUM(G4167:G4171)","v":5.9508000000000001},0]
[null,null,"SERVENTE COM ENCARGOS COMPLEMENTARES","h",0.15,16.311500000000002,2.4467250000000003,null,0]
[null,null,"Conjunto de vedação elástica para furo Ø 8 mm","UN",4.12,0,0,null,0]
[null,null,"Telha estrutural de fibrocimento esp. 8 mm largura útil 49 cm","m2",1.06,0,0,null,0]
[null,null,"Parafuso rosca soberba galvanizado Ø 8 mm x 250 mm","UN",4.12,0,0,null,0]
[null,null,null,null,null,"","",null,0]
["SF-01147",{"$f":"INDEX(Orçamentária!A:B,MATCH(Composições!A4173,Orçamentária!A:A,0),2)","v":"Escada tipo marinheiro COM proteção"},null,{"$f":"TRIM(INDEX(Orçamentária!D:D,MATCH(Composições!A4173,Orçamentária!A:A,0),1))","v":"m"},null,"","",null,0]
[null,null,null,null,null,"","",null,0]
[null,null,"ACO CA-50, 10,0 MM, VERGALHAO","KG",2.8,5.5385,15.5078,{"$f":"SUM(G4175:G4187)","v":229.15138777571826},0]
[null,null,"FUNDO ANTICORROSIVO PARA METAIS FERROSOS (ZARCAO)","L",2.5000000000000001E-2,26.448,0.66120000000000001,null,0]
[null,null,"ARMADOR COM ENCARGOS COMPLEMENTARES","H",0.35,21.973499999999998,7.6907249999999987,null,0]
[null,null,"PEDREIRO COM ENCARGOS COMPLEMENTARES","H",1.1000000000000001,22.087499999999999,24.296250000000001,null,0]
[null,null,"SERVENTE COM ENCARGOS COMPLEMENTARES","H",1.1299999999999999,16.311500000000002,18.431995000000001,null,0]
[null,null,"ARGAMASSA TRAÇO 1:3 (EM VOLUME DE CIMENTO E AREIA MÉDIA ÚMIDA), PREPARO MANUAL. AF_08/2019","M3",3.5000000000000001E-3,495.02793591949995,1.7325977757182498,null,0]
[null,null,"ACO CA-50, 10,0 MM, VERGALHAO","KG",3,5.5385,16.615500000000001,null,0]
[null,null,"CANTONEIRA ACO ABAS IGUAIS (QUALQUER BITOLA), ESPESSURA ENTRE 1/8\" E 1/4\"","KG",15,4.8449999999999998,72.674999999999997,null,0]
[null,null,"PEDREIRO COM ENCARGOS COMPLEMENTARES","H",0.4,22.087499999999999,8.8349999999999991,null,0]
[null,null,"SERVENTE COM ENCARGOS COMPLEMENTARES","H",0.8,16.311500000000002,13.049200000000003,null,0]
[null,null,"Soldador com encargos complementares","H",2,22.600499999999997,45.200999999999993,null,0]
[null,null,"ELETRODO REVESTIDO AWS - E7018, DIAMETRO IGUAL A 4,00 MM","KG",0.2,16.985999999999997,3.3971999999999998,null,0]
[null,null,"FUNDO ANTICORROSIVO PARA METAIS FERROSOS (ZARCAO)","L",0.04,26.448,1.05792,null,0]
[null,null,null,null,null,"","",null,0]
["SF-01148",{"$f":"INDEX(Orçamentária!A:B,MATCH(Composições!A4189,Orçamentária!A:A,0),2)","v":"Escada tipo marinheiro SEM proteção"},null,{"$f":"TRIM(INDEX(Orçamentária!D:D,MATCH(Composições!A4189,Orçamentária!A:A,0),1))","v":"m"},null,"","",null,0]
[null,null,null,null,null,"","",null,0]
[null,null,"ACO CA-50, 10,0 MM, VERGALHAO","KG",2.8,5.5385,15.5078,{"$f":"SUM(G4191:G4196)","v":68.320567775718246},0]
[null,null,"FUNDO ANTICORROSIVO PARA METAIS FERROSOS (ZARCAO)","L",2.5000000000000001E-2,26.448,0.66120000000000001,null,0]
[null,null,"ARMADOR COM ENCARGOS COMPLEMENTARES","H",0.35,21.973499999999998,7.6907249999999987,null,0]
[null,null,"PEDREIRO COM ENCARGOS COMPLEMENTARES","H",1.1000000000000001,22.087499999999999,24.296250000000001,null,0]
[null,null,"SERVENTE COM ENCARGOS COMPLEMENTARES","H",1.1299999999999999,16.311500000000002,18.431995000000001,null,0]
[null,null,"ARGAMASSA TRAÇO 1:3 (EM VOLUME DE CIMENTO E AREIA MÉDIA ÚMIDA), PREPARO MANUAL. AF_08/2019","M3",3.5000000000000001E-3,495.02793591949995,1.7325977757182498,null,0]
[null,null,null,null,null,"","",null,0]
["SF-01149",{"$f":"INDEX(Orçamentária!A:B,MATCH(Composições!A4198,Orçamentária!A:A,0),2)","v":"Limpeza e Preparação do Substrato para Impermeabilização"},null,{"$f":"TRIM(INDEX(Orçamentária!D:D,MATCH(Composições!A4198,Orçamentária!A:A,0),1))","v":"m2"},null,"","",null,0]
[null,null,null,null,null,"","",null,0]
[null,null,"SERVENTE COM ENCARGOS COMPLEMENTARES","h",0.11,16.311500000000002,1.7942650000000002,{"$f":"SUM(G4200:G4202)","v":1.7942650000000002},0]
[null,null,"Lava-jato água fria pressão 1700 psi","loc/un/h",0.22,0,0,null,0]
[null,null,"Solução limpadora diluída em água","L",0.4,0,0,null,0]
[null,null,null,null,null,"","",null,0]
["SF-01150",{"$f":"INDEX(Orçamentária!A:B,MATCH(Composições!A4204,Orçamentária!A:A,0),2)","v":"Substituição de Coletores de Águas Pluviais"},null,{"$f":"TRIM(INDEX(Orçamentária!D:D,MATCH(Composições!A4204,Orçamentária!A:A,0),1))","v":"un"},null,"","",null,0]
[null,null,null,null,null,"","",null,0]
[null,null,"ANEL BORRACHA, DN 150 MM, PARA TUBO SERIE REFORCADA ESGOTO PREDIAL","UN",1,10.45,10.45,{"$f":"SUM(G4206:G4220)","v":174.69530049999997},0]
[null,null,"REDUCAO EXCENTRICA PVC, SERIE R, DN 150 X 100 MM, PARA ESGOTO PREDIAL","UN",1,39.225499999999997,39.225499999999997,null,0]
[null,null,"PASTA LUBRIFICANTE PARA TUBOS E CONEXOES COM JUNTA ELASTICA (USO EM PVC, ACO, POLIETILENO E OUTROS) ( DE *400* G)","UN",7.0000000000000007E-2,25.355499999999999,1.774885,null,0]
[null,null,"AUXILIAR DE ENCANADOR OU BOMBEIRO HIDRÁULICO COM ENCARGOS COMPLEMENTARES","H",0.11,16.891000000000002,1.8580100000000002,null,0]
[null,null,"ENCANADOR OU BOMBEIRO HIDRÁULICO COM ENCARGOS COMPLEMENTARES","H",0.11,21.622,2.3784200000000002,null,0]
[null,null,"ADESIVO PLASTICO PARA PVC, FRASCO COM 850 GR","UN",6.1999999999999998E-3,69.254999999999995,0.42938099999999996,null,0]
[null,null,"TUBO PVC, SERIE R, DN 150 MM, PARA ESGOTO OU AGUAS PLUVIAIS PREDIAL (NBR 5688)","M",{"$f":"1.04/2","v":0.52},57.275499999999994,29.783259999999999,null,0]
[null,null,"SOLUCAO LIMPADORA PARA PVC, FRASCO COM 1000 CM3","UN",1.0200000000000001E-2,60.134999999999998,0.61337700000000006,null,0]
[null,null,"LIXA D'AGUA EM FOLHA, GRAO 100","UN",3.6999999999999998E-2,1.748,6.4675999999999997E-2,null,0]
[null,null,"AUXILIAR DE ENCANADOR OU BOMBEIRO HIDRÁULICO COM ENCARGOS COMPLEMENTARES","H",0.18,16.891000000000002,3.0403800000000003,null,0]
[null,null,"ENCANADOR OU BOMBEIRO HIDRÁULICO COM ENCARGOS COMPLEMENTARES","H",0.18,21.622,{"$f":"IF(ISNUMBER(F4216),E4216*F4216,\"\")","v":3.8919599999999996},null,0]
[null,null,"PEDREIRO COM ENCARGOS COMPLEMENTARES","H",1,22.087499999999999,22.087499999999999,null,0]
[null,null,"ADESIVO ESTRUTURAL A BASE DE RESINA EPOXI, BICOMPONENTE, PASTOSO (TIXOTROPICO)","KG",{"$f":"ROUND(1.8*(PI()*(0.25-0.15)*0.1)*10,4)","v":0.5655},32.812999999999995,18.555751499999996,null,0]
[null,null,"SELANTE ELASTICO MONOCOMPONENTE A BASE DE POLIURETANO (PU) PARA JUNTAS DIVERSAS","310ml",0.2,24.823499999999999,4.9647000000000006,null,0]
[null,null,"RALO FOFO SEMIESFERICO, 150 MM, PARA LAJES/ CALHAS","UN",1,35.577500000000001,35.577500000000001,null,0]
[null,null,null,null,null,null,null,null,0]
[null,null,"Obs 1: Considerando consumo do adesivo estrutural 1,8 kg / m² / mm.",null,null,null,null,null,0]
[null,null,null,null,null,"",{"$f":"IF(ISNUMBER(F4223),E4223*F4223,\"\")","v":""},null,0]
["SF-01151",{"$f":"INDEX(Orçamentária!A:B,MATCH(Composições!A4224,Orçamentária!A:A,0),2)","v":"Tratamento de Tubulação Passante para Impermeabilização"},null,{"$f":"TRIM(INDEX(Orçamentária!D:D,MATCH(Composições!A4224,Orçamentária!A:A,0),1))","v":"un"},null,"","",null,0]
[null,null,null,null,null,"","",null,0]
[null,null,"IMPERMEABILIZADOR COM ENCARGOS COMPLEMENTARES","H",0.5,22.087499999999999,11.043749999999999,{"$f":"SUM(G4226:G4228)","v":34.564201499999996},0]
[null,null,"ADESIVO ESTRUTURAL A BASE DE RESINA EPOXI, BICOMPONENTE, PASTOSO (TIXOTROPICO)","KG",{"$f":"ROUND(1.8*(PI()*(0.25-0.15)*0.1)*10,4)","v":0.5655},32.812999999999995,18.555751499999996,null,0]
[null,null,"SELANTE ELASTICO MONOCOMPONENTE A BASE DE POLIURETANO (PU) PARA JUNTAS DIVERSAS","310ml",0.2,24.823499999999999,4.9647000000000006,null,0]
[null,null,null,null,null,null,null,null,0]
[null,null,"Obs 1: Considerando consumo do adesivo estrutural 1,8 kg / m² / mm.",null,null,null,null,null,0]
[null,null,null,null,null,"",{"$f":"IF(ISNUMBER(F4231),E4231*F4231,\"\")","v":""},null,0]
["SF-01152",{"$f":"INDEX(Orçamentária!A:B,MATCH(Composições!A4232,Orçamentária!A:A,0),2)","v":"Regularização de substrato para Impermeabilização - 3cm"},null,{"$f":"TRIM(INDEX(Orçamentária!D:D,MATCH(Composições!A4232,Orçamentária!A:A,0),1))","v":"m2"},null,"","",null,0]
[null,null,null,null,null,"","",null,0]
[null,null,"CIMENTO PORTLAND COMPOSTO CP II-32","KG",0.5,0.44649999999999995,0.22324999999999998,{"$f":"SUM(G4234:G4238)","v":35.184471117011604},0]
[null,null,"ADITIVO ADESIVO LIQUIDO PARA ARGAMASSAS DE REVESTIMENTOS CIMENTICIOS","L",0.435,11.371499999999999,4.9466025,null,0]
[null,null,"ARGAMASSA TRAÇO 1:4 (EM VOLUME DE CIMENTO E AREIA MÉDIA ÚMIDA) PARA CONTRAPISO, PREPARO MECÂNICO COM BETONEIRA 400 L. AF_08/2019","M3",4.3099999999999999E-2,464.834016636,20.034346117011602,null,0]
[null,null,"PEDREIRO COM ENCARGOS COMPLEMENTARES","H",0.33,22.087499999999999,7.288875,null,0]
[null,null,"SERVENTE COM ENCARGOS COMPLEMENTARES","H",0.16500000000000001,16.311500000000002,2.6913975000000003,null,0]
[null,null,null,null,null,"","",null,0]
["SF-01153",{"$f":"INDEX(Orçamentária!A:B,MATCH(Composições!A4240,Orçamentária!A:A,0),2)","v":"Regularização de substrato para Impermeabilização - 6cm"},null,{"$f":"TRIM(INDEX(Orçamentária!D:D,MATCH(Composições!A4240,Orçamentária!A:A,0),1))","v":"m2"},null,"","",null,0]
[null,null,null,null,null,"","",null,0]
[null,null,"PEDREIRO COM ENCARGOS COMPLEMENTARES","h",0.38,22.087499999999999,8.3932500000000001,{"$f":"SUM(G4242:G4244)","v":42.136405999639607},0]
[null,null,"SERVENTE COM ENCARGOS COMPLEMENTARES","h",0.185,16.311500000000002,3.0176275000000006,null,0]
[null,null,"ARGAMASSA TRAÇO 1:4 (EM VOLUME DE CIMENTO E AREIA MÉDIA ÚMIDA) PARA CONTRAPISO, PREPARO MECÂNICO COM BETONEIRA 400 L. AF_08/2019","M3",6.6100000000000006E-2,464.834016636,30.725528499639601,null,0]
[null,null,null,null,null,"","",null,0]
["SF-01154",{"$f":"INDEX(Orçamentária!A:B,MATCH(Composições!A4246,Orçamentária!A:A,0),2)","v":"Camada Separadora para Impermeabilização"},null,{"$f":"TRIM(INDEX(Orçamentária!D:D,MATCH(Composições!A4246,Orçamentária!A:A,0),1))","v":"m2"},null,"","",null,0]
[null,null,null,null,null,"","",null,0]
[null,null,"SERVENTE COM ENCARGOS COMPLEMENTARES","H",0.01,16.311500000000002,0.16311500000000004,{"$f":"SUM(G4248:G4249)","v":5.3358650000000001},0]
[null,null,"GEOTEXTIL NAO TECIDO AGULHADO DE FILAMENTOS CONTINUOS 100% POLIESTER, RESITENCIA A TRACAO = 10 KN/M","m2",1.1000000000000001,4.7024999999999997,5.1727499999999997,null,0]
[null,null,null,null,null,"","",null,0]
["SF-01155",{"$f":"INDEX(Orçamentária!A:B,MATCH(Composições!A4251,Orçamentária!A:A,0),2)","v":"Camada de Proteção Térmica para Impermeabilização"},null,{"$f":"TRIM(INDEX(Orçamentária!D:D,MATCH(Composições!A4251,Orçamentária!A:A,0),1))","v":"m2"},null,"","",null,0]
[null,null,null,null,null,"","",null,0]
[null,null,"SERVENTE COM ENCARGOS COMPLEMENTARES","H",0.05,16.311500000000002,0.81557500000000016,{"$f":"SUM(G4253:G4254)","v":7.4988250000000001},0]
[null,null,"POLIESTIRENO EXPANDIDO/EPS (ISOPOR), TIPO 2F, PLACA, ISOLAMENTO TERMOACUSTICO, E = 20 MM, 1000 X 500 MM","m2",1.05,6.3650000000000002,6.6832500000000001,null,0]
[null,null,null,null,null,"","",null,0]
["SF-01156",{"$f":"INDEX(Orçamentária!A:B,MATCH(Composições!A4256,Orçamentária!A:A,0),2)","v":"Camada de Amortecimento para Impermeabilização"},null,{"$f":"TRIM(INDEX(Orçamentária!D:D,MATCH(Composições!A4256,Orçamentária!A:A,0),1))","v":"m2"},null,"","",null,0]
[null,null,null,null,null,"","",null,0]
[null,null,"PEDREIRO COM ENCARGOS COMPLEMENTARES","h",0.28999999999999998,22.087499999999999,6.4053749999999994,{"$f":"SUM(G4258:G4260)","v":22.635717598846},0]
[null,null,"SERVENTE COM ENCARGOS COMPLEMENTARES","h",0.14499999999999999,16.311500000000002,2.3651675000000001,null,0]
[null,null,"ARGAMASSA TRAÇO 1:2:8 (EM VOLUME DE CIMENTO, CAL E AREIA MÉDIA ÚMIDA) PARA EMBOÇO/MASSA ÚNICA/ASSENTAMENTO DE ALVENARIA DE VEDAÇÃO, PREPARO MECÂNICO COM BETONEIRA 400 L. AF_08/2019","M3",3.1E-2,447.26371286599993,13.865175098845999,null,0]
[null,null,null,null,null,"","",null,0]
["SF-01157",{"$f":"INDEX(Orçamentária!A:B,MATCH(Composições!A4262,Orçamentária!A:A,0),2)","v":"Camada de Proteção Mecânica em Placas de Impermeabilização"},null,{"$f":"TRIM(INDEX(Orçamentária!D:D,MATCH(Composições!A4262,Orçamentária!A:A,0),1))","v":"m2"},null,"","",null,0]
[null,null,null,null,null,"","",null,0]
[null,null,"CAMADA SEPARADORA DE FILME DE POLIETILENO 20 A 25 MICRA","M2",1.04,1.292,1.34368,{"$f":"SUM(G4264:G4268)","v":66.574257951749999},0]
[null,null,"ARGAMASSA TRAÇO 1:3 (EM VOLUME DE CIMENTO E AREIA MÉDIA ÚMIDA) PARA CONTRAPISO, PREPARO MANUAL. AF_08/2019","M3",4.3999999999999997E-2,604.75221481249991,26.609097451749996,null,0]
[null,null,"PEDREIRO COM ENCARGOS COMPLEMENTARES","H",0.89900000000000002,22.087499999999999,19.856662499999999,null,0]
[null,null,"SERVENTE COM ENCARGOS COMPLEMENTARES","H",0.182,16.311500000000002,2.9686930000000005,null,0]
[null,null,"MANTA LIQUIDA DE BASE ASFALTICA MODIFICADA COM A ADICAO DE ELASTOMEROS DILUIDOS EM SOLVENTE ORGANICO, APLICACAO A FRIO (MEMBRANA IMPERMEABILIZANTE ASFASTICA)","KG",{"$f":"0.15*2.5*(6/2)","v":1.125},14.040999999999999,15.796124999999998,null,0]
[null,null,null,null,null,"","",null,0]
["SF-01158",{"$f":"INDEX(Orçamentária!A:B,MATCH(Composições!A4270,Orçamentária!A:A,0),2)","v":"Pintura Inibidora de Raízes em Estrutura Impermeabilizada"},null,{"$f":"TRIM(INDEX(Orçamentária!D:D,MATCH(Composições!A4270,Orçamentária!A:A,0),1))","v":"m2"},null,"","",null,0]
[null,null,null,null,null,"","",null,0]
[null,null,"Pintura inibidora de raízes","L",1,"","",{"$f":"SUM(G4272:G4274)","v":11.80185},0]
[null,null,"PINTOR COM ENCARGOS COMPLEMENTARES","H",0.3,23.027999999999999,6.9083999999999994,null,0]
[null,null,"SERVENTE COM ENCARGOS COMPLEMENTARES","H",0.3,16.311500000000002,4.8934500000000005,null,0]
[null,null,null,null,null,"","",null,0]
["SF-01159",{"$f":"INDEX(Orçamentária!A:B,MATCH(Composições!A4276,Orçamentária!A:A,0),2)","v":"Camada Drenante para Impermeabilização"},null,{"$f":"TRIM(INDEX(Orçamentária!D:D,MATCH(Composições!A4276,Orçamentária!A:A,0),1))","v":"m2"},null,"","",null,0]
[null,null,null,null,null,"","",null,0]
[null,null,"SERVENTE COM ENCARGOS COMPLEMENTARES","H",0.02,16.311500000000002,0.32623000000000008,{"$f":"SUM(G4278:G4280)","v":5.4989799999999995},0]
[null,null,"Geocomposto Drenante industrializado formado por estrutura drenante de pelo menos 10 mm","m2",1.05,"","",null,0]
[null,null,"GEOTEXTIL NAO TECIDO AGULHADO DE FILAMENTOS CONTINUOS 100% POLIESTER, RESITENCIA A TRACAO = 10 KN/M","m2",1.1000000000000001,4.7024999999999997,5.1727499999999997,null,0]
[null,null,null,null,null,"","",null,0]
["SF-01160",{"$f":"INDEX(Orçamentária!A:B,MATCH(Composições!A4282,Orçamentária!A:A,0),2)","v":"Calha em Chapa de Aço Galvanizado nº 24"},null,{"$f":"TRIM(INDEX(Orçamentária!D:D,MATCH(Composições!A4282,Orçamentária!A:A,0),1))","v":"m2"},null,"","",null,0]
[null,null,null,null,null,"","",null,0]
[null,null,"SELANTE ELASTICO MONOCOMPONENTE A BASE DE POLIURETANO (PU) PARA JUNTAS DIVERSAS","310ML",0.161,24.823499999999999,3.9965834999999998,{"$f":"SUM(G4284:G4292)","v":104.71401505},0]
[null,null,"PREGO DE ACO POLIDO COM CABECA 18 X 27 (2 1/2 X 10)","KG",2.5000000000000001E-2,11.399999999999999,0.28499999999999998,null,0]
[null,null,"REBITE DE ALUMINIO VAZADO DE REPUXO, 3,2 X 8 MM (1KG = 1025 UNIDADES)","KG",4.8999999999999998E-3,46.977499999999999,0.23018975,null,0]
[null,null,"SOLDA EM BARRA DE ESTANHO-CHUMBO 50/50","KG",0.18,82.659499999999994,14.878709999999998,null,0]
[null,null,"CALHA QUADRADA DE CHAPA DE ACO GALVANIZADA NUM 24, CORTE 100 CM","M",1.05,58.9,61.844999999999999,null,0]
[null,null,"SERVENTE COM ENCARGOS COMPLEMENTARES","H",0.63300000000000001,16.311500000000002,10.325179500000001,null,0]
[null,null,"TELHADISTA COM ENCARGOS COMPLEMENTARES","H",0.53900000000000003,23.360499999999998,12.591309499999999,null,0]
[null,null,"GUINCHO ELÉTRICO DE COLUNA, CAPACIDADE 400 KG, COM MOTO FREIO, MOTOR TRIFÁSICO DE 1,25 CV - CHP DIURNO. AF_03/2016","CHP",1.32E-2,18.239999999999998,0.24076799999999998,null,0]
[null,null,"GUINCHO ELÉTRICO DE COLUNA, CAPACIDADE 400 KG, COM MOTO FREIO, MOTOR TRIFÁSICO DE 1,25 CV - CHI DIURNO. AF_03/2016","CHI",1.83E-2,17.556000000000001,0.32127480000000003,null,0]
[null,null,null,null,null,"","",null,0]
["SF-01161",{"$f":"INDEX(Orçamentária!A:B,MATCH(Composições!A4294,Orçamentária!A:A,0),2)","v":"Rufo em Chapa de Aço Galvanizado nº 24"},null,{"$f":"TRIM(INDEX(Orçamentária!D:D,MATCH(Composições!A4294,Orçamentária!A:A,0),1))","v":"m2"},null,"","",null,0]
[null,null,null,null,null,"",{"$f":"IF(ISNUMBER(F4295),E4295*F4295,\"\")","v":""},null,0]
[null,null,"SELANTE ELASTICO MONOCOMPONENTE A BASE DE POLIURETANO (PU) PARA JUNTAS DIVERSAS","310ML",{"$f":"0.198*2","v":0.39600000000000002},24.823499999999999,9.8301060000000007,{"$f":"SUM(G4296:G4304)","v":94.258006300000005},0]
[null,null,"PREGO DE ACO POLIDO COM CABECA 18 X 27 (2 1/2 X 10)","KG",{"$f":"0.006*2","v":1.2E-2},11.399999999999999,0.13679999999999998,null,0]
[null,null,"REBITE DE ALUMINIO VAZADO DE REPUXO, 3,2 X 8 MM (1KG = 1025 UNIDADES)","KG",{"$f":"0.0012*2","v":2.3999999999999998E-3},46.977499999999999,0.11274599999999999,null,0]
[null,null,"SOLDA EM BARRA DE ESTANHO-CHUMBO 50/50","KG",{"$f":"0.045*2","v":0.09},82.659499999999994,7.4393549999999991,null,0]
[null,null,"RUFO INTERNO/EXTERNO DE CHAPA DE ACO GALVANIZADA NUM 24, CORTE 25 CM","M",{"$f":"4*1.05","v":4.2},16.7105,70.184100000000001,null,0]
[null,null,"SERVENTE COM ENCARGOS COMPLEMENTARES","H",0.20699999999999999,16.311500000000002,3.3764805000000004,null,0]
[null,null,"TELHADISTA COM ENCARGOS COMPLEMENTARES","H",0.112,23.360499999999998,2.6163759999999998,null,0]
[null,null,"GUINCHO ELÉTRICO DE COLUNA, CAPACIDADE 400 KG, COM MOTO FREIO, MOTOR TRIFÁSICO DE 1,25 CV - CHP DIURNO. AF_03/2016","CHP",1.32E-2,18.239999999999998,0.24076799999999998,null,0]
[null,null,"GUINCHO ELÉTRICO DE COLUNA, CAPACIDADE 400 KG, COM MOTO FREIO, MOTOR TRIFÁSICO DE 1,25 CV - CHI DIURNO. AF_03/2016","CHI",1.83E-2,17.556000000000001,0.32127480000000003,null,0]
[null,null,null,null,null,"","",null,0]
["SF-01163",{"$f":"INDEX(Orçamentária!A:B,MATCH(Composições!A4306,Orçamentária!A:A,0),2)","v":"Chapim Pré-Moldado de Concreto Aparente"},null,{"$f":"TRIM(INDEX(Orçamentária!D:D,MATCH(Composições!A4306,Orçamentária!A:A,0),1))","v":"m"},null,"","",null,0]
[null,null,null,null,null,"","",null,0]
[null,null,"ARAME RECOZIDO 16 BWG, D = 1,65 MM (0,016 KG/M) OU 18 BWG, D = 1,25 MM (0,01 KG/M)","KG",0.02,14.154999999999999,0.28310000000000002,{"$f":"SUM(G4308:G4321)","v":94.429817923000002},0]
[null,null,"AREIA GROSSA - POSTO JAZIDA/FORNECEDOR (RETIRADO NA JAZIDA, SEM TRANSPORTE)","m3",0.04,113.6675,4.5467000000000004,null,0]
[null,null,"ARMADOR COM ENCARGOS COMPLEMENTARES","H",0.8,21.973499999999998,17.578799999999998,null,0]
[null,null,"ACO CA-50, 10,0 MM, OU 12,5 MM, OU 16,0 MM, OU 20,0 MM, DOBRADO E CORTADO","KG",1.35,5.51,7.4385000000000003,null,0]
[null,null,"Carpinteiro de formas com encargos complementares","H",0.7,21.878499999999999,15.314949999999998,null,0]
[null,null,"Chapa de madeira compensada resinada 1,10 x 2,20 m # 10 mm","m2",1,0,0,null,0]
[null,null,"BETONEIRA CAPACIDADE NOMINAL DE 600 L, CAPACIDADE DE MISTURA 360 L, MOTOR ELÉTRICO TRIFÁSICO POTÊNCIA DE 4 CV, SEM CARREGADOR - CHP DIURNO. AF_11/2014","CHP",0.02,3.0590000000000002,6.1180000000000005E-2,null,0]
[null,null,"CIMENTO PORTLAND COMPOSTO CP II-32","KG",17.36,0.44649999999999995,7.7512399999999992,null,0]
[null,null,"PEDRA BRITADA N. 0, OU PEDRISCO (4,8 A 9,5 MM) POSTO PEDREIRA/FORNECEDOR, SEM FRETE","m3",0.09,132.11649999999997,11.890484999999996,null,0]
[null,null,"PREGO DE ACO POLIDO COM CABECA 17 X 21 (2 X 11)","kg",0.02,11.589999999999998,0.23179999999999998,null,0]
[null,null,"PEDREIRO COM ENCARGOS COMPLEMENTARES","h",0.3,22.087499999999999,6.6262499999999998,null,0]
[null,null,"SERVENTE COM ENCARGOS COMPLEMENTARES","H",1.1000000000000001,16.311500000000002,17.942650000000004,null,0]
[null,null,"CARGA, MANOBRA E DESCARGA DE SOLOS E MATERIAIS GRANULARES EM CAMINHÃO BASCULANTE 6 M³ - CARGA COM PÁ CARREGADEIRA (CAÇAMBA DE 1,7 A 2,8 M³ / 128 HP) E DESCARGA LIVRE (UNIDADE: M3). AF_07/2020","m3",{"$f":"1*(E4309+E4316)","v":0.13},4.9035180999999994,0.63745735299999995,null,0]
[null,null,"TRANSPORTE COM CAMINHÃO BASCULANTE DE 6 M3, EM VIA URBANA PAVIMENTADA, DMT ATÉ 30 KM (UNIDADE: M3xKM). AF_01/2018","M3xKM",{"$f":"(E4309+E4316)*20","v":2.6},1.5871944499999999,4.1267055700000004,null,0]
[null,null,null,null,null,"","",null,0]
[null,null,"Obs: considerando fornecedor de areia e brita a 20 km do Senado Federal",null,null,"","",null,0]
[null,null,null,null,null,"","",null,0]
["SF-01164",{"$f":"INDEX(Orçamentária!A:B,MATCH(Composições!A4325,Orçamentária!A:A,0),2)","v":"Armação em tela de aço soldado nervurada"},null,{"$f":"TRIM(INDEX(Orçamentária!D:D,MATCH(Composições!A4325,Orçamentária!A:A,0),1))","v":"m2"},null,"","",null,0]
[null,null,null,null,null,"","",null,0]
[null,null,"TELA DE ACO SOLDADA NERVURADA, CA-60, Q-92, (1,48 KG/M2), DIAMETRO DO FIO = 4,2 MM, LARGURA = 2,45 X 60 M DE COMPRIMENTO, ESPACAMENTO DA MALHA = 15  X 15 CM","M2",{"$f":"ROUND(0.712*1.48,4)","v":1.0538000000000001},8.9489999999999998,9.4304562000000001,{"$f":"SUM(G4327:G4331)","v":11.341788749999999},0]
[null,null,"ESPACADOR / DISTANCIADOR CIRCULAR COM ENTRADA LATERAL, EM PLASTICO, PARA VERGALHAO *4,2 A 12,5* MM, COBRIMENTO 20 MM","UN",{"$f":"ROUND(1.382*1.48,4)","v":2.0453999999999999},0.13300000000000001,0.27203820000000001,null,0]
[null,null,"ARAME RECOZIDO 16 BWG, D = 1,65 MM (0,016 KG/M) OU 18 BWG, D = 1,25 MM (0,01 KG/M)","KG",{"$f":"ROUND(0.0105*1.48,4)","v":1.55E-2},14.154999999999999,0.2194025,null,0]
[null,null,"AJUDANTE DE ARMADOR COM ENCARGOS COMPLEMENTARES","H",{"$f":"ROUND(0.006*1.48,4)","v":8.8999999999999999E-3},17.081,0.15202089999999999,null,0]
[null,null,"ARMADOR COM ENCARGOS COMPLEMENTARES","H",{"$f":"ROUND(0.039*1.48,4)","v":5.7700000000000001E-2},21.973499999999998,1.2678709499999998,null,0]
[null,null,null,null,null,"","",null,0]
["SF-01165",{"$f":"INDEX(Orçamentária!A:B,MATCH(Composições!A4333,Orçamentária!A:A,0),2)","v":"Trama de aço composta por terças para telhados de até 2 águas"},null,{"$f":"TRIM(INDEX(Orçamentária!D:D,MATCH(Composições!A4333,Orçamentária!A:A,0),1))","v":"m2"},null,"","",null,0]
[null,null,null,null,null,"","",null,0]
[null,null,"PARAFUSO, COMUM, ASTM A307, SEXTAVADO, DIAMETRO 1/2\" (12,7 MM), COMPRIMENTO 1\" (25,4 MM)","CENTO",7.0000000000000001E-3,142.43350000000001,0.99703450000000005,{"$f":"SUM(G4335:G4340)","v":29.285889400000002},0]
[null,null,"PERFIL \"U\" ENRIJECIDO DE ACO GALVANIZADO, DOBRADO, 150 X 60 X 20 MM, E = 3,00 MM OU 200 X 75 X 25 MM, E = 3,75 MM","KG",4.3330000000000002,5.2344999999999997,22.681088500000001,null,0]
[null,null,"MONTADOR DE ESTRUTURA METÁLICA COM ENCARGOS COMPLEMENTARES","H",0.21299999999999999,16.852999999999998,3.5896889999999995,null,0]
[null,null,"SERVENTE COM ENCARGOS COMPLEMENTARES","H",0.106,16.311500000000002,1.7290190000000003,null,0]
[null,null,"GUINCHO ELÉTRICO DE COLUNA, CAPACIDADE 400 KG, COM MOTO FREIO, MOTOR TRIFÁSICO DE 1,25 CV - CHP DIURNO. AF_03/2016","CHP",6.7999999999999996E-3,18.239999999999998,0.12403199999999998,null,0]
[null,null,"GUINCHO ELÉTRICO DE COLUNA, CAPACIDADE 400 KG, COM MOTO FREIO, MOTOR TRIFÁSICO DE 1,25 CV - CHI DIURNO. AF_03/2016","CHI",9.4000000000000004E-3,17.556000000000001,0.16502640000000002,null,0]
[null,null,null,null,null,"","",null,0]
["SF-01166",{"$f":"INDEX(Orçamentária!A:B,MATCH(Composições!A4342,Orçamentária!A:A,0),2)","v":"Revestimento impermeabilizante bloqueador de umidade"},null,{"$f":"TRIM(INDEX(Orçamentária!D:D,MATCH(Composições!A4342,Orçamentária!A:A,0),1))","v":"m2"},null,"","",null,0]
[null,null,null,null,null,"","",null,0]
[null,null,"Ajudante de pintor com Encargos Complementares","H",0.1,18.515499999999999,1.85155,{"$f":"SUM(G4344:G4346)","v":6.4571500000000004},0]
[null,null,"PINTOR COM ENCARGOS COMPLEMENTARES","H",0.2,23.027999999999999,4.6055999999999999,null,0]
[null,null,"Revestimento impermabilizante bloqueador de umidade","L",{"$f":"2*3.6/75","v":9.6000000000000002E-2},"","",null,0]
[null,null,null,null,null,"","",null,0]
[null,null,"Obs: considerando rendimento informado na especificação técnica do produto indicado como referência comercial (Lata de 3,6L rende até 3 demãos, com 25 m²/demão).",null,null,"","",null,0]
[null,null,null,null,null,"","",null,0]
["SF-01167",{"$f":"INDEX(Orçamentária!A:B,MATCH(Composições!A4350,Orçamentária!A:A,0),2)","v":"Pintura com tinta refletiva aluminizada para impermeabilização"},null,{"$f":"TRIM(INDEX(Orçamentária!D:D,MATCH(Composições!A4350,Orçamentária!A:A,0),1))","v":"m2"},null,"","",null,0]
[null,null,null,null,null,"","",null,0]
[null,null,"Ajudante de pintor com Encargos Complementares","H",0.1,18.515499999999999,1.85155,{"$f":"SUM(G4352:G4354)","v":6.4571500000000004},0]
[null,null,"PINTOR COM ENCARGOS COMPLEMENTARES","H",0.2,23.027999999999999,4.6055999999999999,null,0]
[null,null,"Tinta aluminizada de base asfáltica","L",0.5,0,0,null,0]
[null,null,null,null,null,"","",null,0]
["SF-01168",{"$f":"INDEX(Orçamentária!A:B,MATCH(Composições!A4356,Orçamentária!A:A,0),2)","v":"Concreto leve com poliestireno expandido"},null,{"$f":"TRIM(INDEX(Orçamentária!D:D,MATCH(Composições!A4356,Orçamentária!A:A,0),1))","v":"m3"},null,"","",null,0]
[null,null,null,null,null,"","",null,0]
[null,null,"SERVENTE COM ENCARGOS COMPLEMENTARES","H",6.5,16.311500000000002,106.02475000000001,{"$f":"SUM(G4358:G4364)","v":717.33762424179986},0]
[null,null,"AREIA MEDIA - POSTO JAZIDA/FORNECEDOR (RETIRADO NA JAZIDA, SEM TRANSPORTE)","m3",0.35799999999999998,93.8125,{"$f":"IF(ISNUMBER(F4359),E4359*F4359,\"\")","v":33.584874999999997},null,0]
[null,null,"CIMENTO PORTLAND COMPOSTO CP II-32","KG",400,0.44649999999999995,178.6,null,0]
[null,null,"POLIESTIRENO EXPANDIDO/EPS (ISOPOR), PEROLAS, PARA CONCRETO LEVE","kg",10.5,36.726999999999997,385.63349999999997,null,0]
[null,null,"BETONEIRA CAPACIDADE NOMINAL DE 400 L, CAPACIDADE DE MISTURA 280 L, MOTOR ELÉTRICO TRIFÁSICO POTÊNCIA DE 2 CV, SEM CARREGADOR - CHP DIURNO. AF_10/2014","CHP",0.34300000000000003,1.0924999999999998,0.37472749999999994,null,0]
[null,null,"CARGA, MANOBRA E DESCARGA DE SOLOS E MATERIAIS GRANULARES EM CAMINHÃO BASCULANTE 6 M³ - CARGA COM PÁ CARREGADEIRA (CAÇAMBA DE 1,7 A 2,8 M³ / 128 HP) E DESCARGA LIVRE (UNIDADE: M3). AF_07/2020","m3",{"$f":"1*E4359","v":0.35799999999999998},4.9035180999999994,1.7554594797999998,null,0]
[null,null,"TRANSPORTE COM CAMINHÃO BASCULANTE DE 6 M3, EM VIA URBANA PAVIMENTADA, DMT ATÉ 30 KM (UNIDADE: M3xKM). AF_01/2018","M3xKM",{"$f":"E4359*20","v":7.16},1.5871944499999999,11.364312262,null,0]
[null,null,null,null,null,"","",null,0]
[null,null,"Obs: considerando fornecedor de areia a 20 km do Senado Federal",null,null,"","",null,0]
[null,null,null,null,null,"","",null,0]
["SF-01169",{"$f":"INDEX(Orçamentária!A:B,MATCH(Composições!A4368,Orçamentária!A:A,0),2)","v":"Colagem da camada de proteção térmica de impermeabilização"},null,{"$f":"TRIM(INDEX(Orçamentária!D:D,MATCH(Composições!A4368,Orçamentária!A:A,0),1))","v":"m2"},null,"","",null,0]
[null,null,null,null,null,"","",null,0]
[null,null,"PRIMER PARA MANTA ASFALTICA A BASE DE ASFALTO MODIFICADO DILUIDO EM SOLVENTE, APLICACAO A FRIO","L",0.35,11.950999999999999,4.1828499999999993,{"$f":"SUM(G4370:G4371)","v":5.8293424999999992},0]
[null,null,"AJUDANTE ESPECIALIZADO COM ENCARGOS COMPLEMENTARES","H",8.5000000000000006E-2,19.3705,1.6464925000000001,null,0]
[null,null,null,null,null,"","",null,0]
[null,null,"Obs: Adotou-se o consumo de 350 mL/m², conforme recomendação do fabricante do produto para aplicação homogênea.",null,null,"","",null,0]
[null,null,"http://vedacit.com.br/produtos/primer-eco-vedacit",null,null,"","",null,0]
[null,null,null,null,null,"","",null,0]
["SF-01170",{"$f":"INDEX(Orçamentária!A:B,MATCH(Composições!A4376,Orçamentária!A:A,0),2)","v":"Impermeabilização com Membrana de Poliuretano"},null,{"$f":"TRIM(INDEX(Orçamentária!D:D,MATCH(Composições!A4376,Orçamentária!A:A,0),1))","v":"m2"},null,"","",null,0]
[null,null,null,null,null,"","",null,0]
[null,null,"MEMBRANA IMPERMEABILIZANTE A BASE DE POLIURETANO","KG",2,43.063499999999998,86.126999999999995,{"$f":"SUM(G4378:G4380)","v":98.50021799999999},0]
[null,null,"AJUDANTE ESPECIALIZADO COM ENCARGOS COMPLEMENTARES","H",9.6000000000000002E-2,19.3705,1.8595680000000001,null,0]
[null,null,"IMPERMEABILIZADOR COM ENCARGOS COMPLEMENTARES","H",0.47599999999999998,22.087499999999999,10.513649999999998,null,0]
[null,null,null,null,null,"","",null,0]
["SF-01171",{"$f":"INDEX(Orçamentária!A:B,MATCH(Composições!A4382,Orçamentária!A:A,0),2)","v":"Impermeabilização com Manta Asfáltica"},null,{"$f":"TRIM(INDEX(Orçamentária!D:D,MATCH(Composições!A4382,Orçamentária!A:A,0),1))","v":"m2"},null,"","",null,0]
[null,null,null,null,null,"","",null,0]
[null,null,"PRIMER PARA MANTA ASFALTICA A BASE DE ASFALTO MODIFICADO DILUIDO EM SOLVENTE, APLICACAO A FRIO","L",0.61499999999999999,11.950999999999999,7.3498649999999994,{"$f":"SUM(G4384:G4388)","v":79.372765999999999},0]
[null,null,"MANTA ASFALTICA ELASTOMERICA EM POLIESTER 4 MM, TIPO III, CLASSE B, ACABAMENTO PP (NBR 9952)","M2",1.125,40.945,46.063124999999999,null,0]
[null,null,"GAS DE COZINHA - GLP","KG",0.26,5.0064999999999991,1.3016899999999998,null,0]
[null,null,"AJUDANTE ESPECIALIZADO COM ENCARGOS COMPLEMENTARES","H",0.192,19.3705,3.7191360000000002,null,0]
[null,null,"IMPERMEABILIZADOR COM ENCARGOS COMPLEMENTARES","H",0.94799999999999995,22.087499999999999,20.938949999999998,null,0]
[null,null,null,null,null,"","",null,0]
["SF-01172",{"$f":"INDEX(Orçamentária!A:B,MATCH(Composições!A4390,Orçamentária!A:A,0),2)","v":"Impermeabilização com manta asfáltica aluminizada"},null,{"$f":"TRIM(INDEX(Orçamentária!D:D,MATCH(Composições!A4390,Orçamentária!A:A,0),1))","v":"m2"},null,"","",null,0]
[null,null,null,null,null,"","",null,0]
[null,null,"PRIMER PARA MANTA ASFALTICA A BASE DE ASFALTO MODIFICADO DILUIDO EM SOLVENTE, APLICACAO A FRIO","L",0.61499999999999999,11.950999999999999,7.3498649999999994,{"$f":"SUM(G4392:G4396)","v":33.309640999999999},0]
[null,null,"Manta asfáltica aluminizada","M2",1.125,0,0,null,0]
[null,null,"GAS DE COZINHA - GLP","KG",0.26,5.0064999999999991,1.3016899999999998,null,0]
[null,null,"AJUDANTE ESPECIALIZADO COM ENCARGOS COMPLEMENTARES","H",0.192,19.3705,3.7191360000000002,null,0]
[null,null,"IMPERMEABILIZADOR COM ENCARGOS COMPLEMENTARES","H",0.94799999999999995,22.087499999999999,20.938949999999998,null,0]
[null,null,null,null,null,"","",null,0]
["SF-01173",{"$f":"INDEX(Orçamentária!A:B,MATCH(Composições!A4398,Orçamentária!A:A,0),2)","v":"Impermeabilização com manta elastomérica de etileno-propileno-dieno-monômero (EPDM)"},null,{"$f":"TRIM(INDEX(Orçamentária!D:D,MATCH(Composições!A4398,Orçamentária!A:A,0),1))","v":"m2"},null,"","",null,0]
[null,null,null,null,null,"","",null,0]
[null,null,"IMPERMEABILIZADOR COM ENCARGOS COMPLEMENTARES","H",0.5,22.087499999999999,11.043749999999999,{"$f":"SUM(G4400:G4406)","v":20.728999999999999},0]
[null,null,"AJUDANTE ESPECIALIZADO COM ENCARGOS COMPLEMENTARES","H",0.5,19.3705,9.6852499999999999,null,0]
[null,null,"Emulsão hidro-asfáltica","KG",0.8,0,0,null,0]
[null,null,"Tinta betuminosa","L",0.6,0,0,null,0]
[null,null,"Manta butílica # 0,8 mm","m2",1.1000000000000001,0,0,null,0]
[null,null,"Fita de caldeação para manta butilíca largura 50 mm # 3 mm","m",2,0,0,null,0]
[null,null,"Adesivo auto vulcanizante para manta butilíca","L",0.2,0,0,null,0]
[null,null,null,null,null,"","",null,0]
["SF-01174",{"$f":"INDEX(Orçamentária!A:B,MATCH(Composições!A4408,Orçamentária!A:A,0),2)","v":"Impermeabilização com membrana acrílica"},null,{"$f":"TRIM(INDEX(Orçamentária!D:D,MATCH(Composições!A4408,Orçamentária!A:A,0),1))","v":"m2"},null,"","",null,0]
[null,null,null,null,null,"","",null,0]
[null,null,"MEMBRANA IMPERMEABILIZANTE ACRILICA MONOCOMPONENTE","KG",1.2,16.672499999999999,20.006999999999998,{"$f":"SUM(G4410:G4412)","v":35.039923499999993},0]
[null,null,"AJUDANTE ESPECIALIZADO COM ENCARGOS COMPLEMENTARES","H",0.11700000000000001,19.3705,2.2663485000000003,null,0]
[null,null,"IMPERMEABILIZADOR COM ENCARGOS COMPLEMENTARES","H",0.57799999999999996,22.087499999999999,12.766574999999998,null,0]
[null,null,null,null,null,"","",null,0]
["SF-01175",{"$f":"INDEX(Orçamentária!A:B,MATCH(Composições!A4414,Orçamentária!A:A,0),2)","v":"Asfalto elastomérico para colagem de manta asfáltica"},null,{"$f":"TRIM(INDEX(Orçamentária!D:D,MATCH(Composições!A4414,Orçamentária!A:A,0),1))","v":"m2"},null,"","",null,0]
[null,null,null,null,null,"","",null,0]
[null,null,"Asfalto elastomérico","KG",3,"","",{"$f":"SUM(G4416:G4417)","v":4.4174999999999995},0]
[null,null,"IMPERMEABILIZADOR COM ENCARGOS COMPLEMENTARES","H",0.2,22.087499999999999,4.4174999999999995,null,0]
[null,null,null,null,null,"","",null,0]
[null,null,"*Adotou-se o consumo de 2 kg/m², valor intermediário da recomendação do fabricante do produto.",null,null,"","",null,0]
[null,null,"http://www.denverimper.com.br/files/produtos/0000001-0000500/122/e5fe48d2b8810574e94921c5fb6cea0c.pdf",null,null,"","",null,0]
[null,null,null,null,null,"","",null,0]
["SF-01176",{"$f":"INDEX(Orçamentária!A:B,MATCH(Composições!A4422,Orçamentária!A:A,0),2)","v":"Impermeabilização com manta dupla (com maçarico)"},null,{"$f":"TRIM(INDEX(Orçamentária!D:D,MATCH(Composições!A4422,Orçamentária!A:A,0),1))","v":"m2"},null,"","",null,0]
[null,null,null,null,null,"",{"$f":"IF(ISNUMBER(F4423),E4423*F4423,\"\")","v":""},null,0]
[null,null,"PRIMER PARA MANTA ASFALTICA A BASE DE ASFALTO MODIFICADO DILUIDO EM SOLVENTE, APLICACAO A FRIO","L",0.61499999999999999,11.950999999999999,7.3498649999999994,{"$f":"SUM(G4424:G4429)","v":129.2848065},0]
[null,null,"MANTA ASFALTICA ELASTOMERICA EM POLIESTER 3 MM, TIPO III, CLASSE B, ACABAMENTO PP (NBR 9952)","M2",1.125,33.344999999999999,37.513125000000002,null,0]
[null,null,"MANTA ASFALTICA ELASTOMERICA EM POLIESTER 4 MM, TIPO III, CLASSE B, ACABAMENTO PP (NBR 9952)","M2",1.125,40.945,46.063124999999999,null,0]
[null,null,"GAS DE COZINHA - GLP","KG",0.52,5.0064999999999991,2.6033799999999996,null,0]
[null,null,"AJUDANTE ESPECIALIZADO COM ENCARGOS COMPLEMENTARES","H",0.27800000000000002,19.3705,5.3849990000000005,null,0]
[null,null,"IMPERMEABILIZADOR COM ENCARGOS COMPLEMENTARES","H",1.375,22.087499999999999,30.370312499999997,null,0]
[null,null,null,null,null,"","",null,0]
["SF-01177",{"$f":"INDEX(Orçamentária!A:B,MATCH(Composições!A4431,Orçamentária!A:A,0),2)","v":"Impermeabilização com manta dupla (com asfalto elastomérico)"},null,{"$f":"TRIM(INDEX(Orçamentária!D:D,MATCH(Composições!A4431,Orçamentária!A:A,0),1))","v":"m2"},null,"","",null,0]
[null,null,null,null,null,"","",null,0]
[null,null,"PRIMER PARA MANTA ASFALTICA A BASE DE ASFALTO MODIFICADO DILUIDO EM SOLVENTE, APLICACAO A FRIO","L",0.61499999999999999,11.950999999999999,7.3498649999999994,{"$f":"SUM(G4433:G4438)","v":132.06642550000001},0]
[null,null,"MANTA ASFALTICA ELASTOMERICA EM POLIESTER 3 MM, TIPO III, CLASSE B, ACABAMENTO PP (NBR 9952)","M2",1.125,33.344999999999999,37.513125000000002,null,0]
[null,null,"MANTA ASFALTICA ELASTOMERICA EM POLIESTER 4 MM, TIPO III, CLASSE B, ACABAMENTO PP (NBR 9952)","M2",1.125,40.945,46.063124999999999,null,0]
[null,null,"Asfalto elastomérico","KG",2,"","",null,0]
[null,null,"AJUDANTE ESPECIALIZADO COM ENCARGOS COMPLEMENTARES","H",{"$f":"0.278*2","v":0.55600000000000005},19.3705,10.769998000000001,null,0]
[null,null,"IMPERMEABILIZADOR COM ENCARGOS COMPLEMENTARES","H",1.375,22.087499999999999,30.370312499999997,null,0]
[null,null,null,null,null,"","",null,0]
[null,null,"*Adotou-se o consumo de 2 kg/m², valor intermediário da recomendação do fabricante do produto.",null,null,"","",null,0]
[null,null,"http://www.denverimper.com.br/files/produtos/0000001-0000500/122/e5fe48d2b8810574e94921c5fb6cea0c.pdf",null,null,"","",null,0]
[null,null,null,null,null,"","",null,0]
["SF-01179",{"$f":"INDEX(Orçamentária!A:B,MATCH(Composições!A4443,Orçamentária!A:A,0),2)","v":"Aditivo Incorporador de Ar"},null,{"$f":"TRIM(INDEX(Orçamentária!D:D,MATCH(Composições!A4443,Orçamentária!A:A,0),1))","v":"kg"},null,"","",null,0]
[null,null,null,null,null,"","",null,0]
[null,null,"ADITIVO LIQUIDO INCORPORADOR DE AR PARA CONCRETO E ARGAMASSA, LIQUIDO E ISENTO DE CLORETOS","L",1.01,5.13,5.1813000000000002,{"$f":"SUM(G4445:G4445)","v":5.1813000000000002},0]
[null,null,null,null,null,"","",null,0]
[null,null,"Obs: considerando 1,01 L/kg, conforme especificado na ficha técnica do produto indicado como referência comercial.",null,null,"","",null,0]
[null,null,null,null,null,"","",null,0]
["SF-01180",{"$f":"INDEX(Orçamentária!A:B,MATCH(Composições!A4449,Orçamentária!A:A,0),2)","v":"Brita Nº 2"},null,{"$f":"TRIM(INDEX(Orçamentária!D:D,MATCH(Composições!A4449,Orçamentária!A:A,0),1))","v":"m3"},null,"","",null,0]
[null,null,null,null,null,"","",null,0]
[null,null,"PEDRA BRITADA N. 2 (19 A 38 MM) POSTO PEDREIRA/FORNECEDOR, SEM FRETE","m3",1,103.474,103.474,{"$f":"SUM(G4451:G4453)","v":140.1214071},0]
[null,null,"CARGA, MANOBRA E DESCARGA DE SOLOS E MATERIAIS GRANULARES EM CAMINHÃO BASCULANTE 6 M³ - CARGA COM PÁ CARREGADEIRA (CAÇAMBA DE 1,7 A 2,8 M³ / 128 HP) E DESCARGA LIVRE (UNIDADE: M3). AF_07/2020","m3",{"$f":"1*E4451","v":1},4.9035180999999994,4.9035180999999994,null,0]
[null,null,"TRANSPORTE COM CAMINHÃO BASCULANTE DE 6 M3, EM VIA URBANA PAVIMENTADA, DMT ATÉ 30 KM (UNIDADE: M3xKM). AF_01/2018","M3xKM",{"$f":"E4451*20","v":20},1.5871944499999999,31.743888999999999,null,0]
[null,null,null,null,null,"","",null,0]
[null,null,"Obs: considerando fornecedor de brita a 20 km do Senado Federal",null,null,"","",null,0]
[null,null,null,null,null,"","",null,0]
["SF-01232",{"$f":"INDEX(Orçamentária!A:B,MATCH(Composições!A4457,Orçamentária!A:A,0),2)","v":"Carpete aveludado azul royal - fornecimento e instalação"},null,{"$f":"TRIM(INDEX(Orçamentária!D:D,MATCH(Composições!A4457,Orçamentária!A:A,0),1))","v":"m2"},null,"","",null,0]
[null,null,null,null,null,"","",null,0]
[null,null,"PEDREIRO COM ENCARGOS COMPLEMENTARES","H",0.1,22.087499999999999,2.2087499999999998,{"$f":"SUM(G4459:G4466)","v":12.189450000000001},0]
[null,null,"SERVENTE COM ENCARGOS COMPLEMENTARES","H",0.1,16.311500000000002,1.6311500000000003,null,0]
[null,null,"Cola de contato a base d'água","KG",0.1,"","",null,0]
[null,null,"Carpete aveludado azul royal, para uso comercial, adequado para tráfego pesado, conforme especificações técnicas.","m2",1.1000000000000001,"","",null,0]
[null,null,"PEDREIRO COM ENCARGOS COMPLEMENTARES","H",0.2,22.087499999999999,4.4174999999999995,null,0]
[null,null,"SERVENTE COM ENCARGOS COMPLEMENTARES","H",0.2,16.311500000000002,3.2623000000000006,null,0]
[null,null,"CIMENTO PORTLAND COMPOSTO CP II-32","KG",1.5,0.44649999999999995,0.66974999999999996,null,0]
[null,null,"Adjuvante para argamassa base PVA","KG",{"$f":"ROUND(E4465*0.1,2)","v":0.15},"","",null,0]
[null,null,null,null,null,"","",null,0]
["SF-01233",{"$f":"INDEX(Orçamentária!A:B,MATCH(Composições!A4468,Orçamentária!A:A,0),2)","v":"Demolição de revestimento de piso têxtil (carpete)"},null,{"$f":"TRIM(INDEX(Orçamentária!D:D,MATCH(Composições!A4468,Orçamentária!A:A,0),1))","v":"m2"},null,"","",null,0]
[null,null,null,null,null,"","",null,0]
[null,null,"PEDREIRO COM ENCARGOS COMPLEMENTARES","H",0.01,22.087499999999999,0.22087499999999999,{"$f":"SUM(G4470:G4471)","v":1.8520250000000003},0]
[null,null,"SERVENTE COM ENCARGOS COMPLEMENTARES","H",0.1,16.311500000000002,1.6311500000000003,null,0]
[null,null,null,null,null,"","",null,0]
["SF-01235",{"$f":"INDEX(Orçamentária!A:B,MATCH(Composições!A4473,Orçamentária!A:A,0),2)","v":"Bancada em granito cinza andorinha polido - 2,40 m x 0,60 m"},null,{"$f":"TRIM(INDEX(Orçamentária!D:D,MATCH(Composições!A4473,Orçamentária!A:A,0),1))","v":"un"},null,"","",null,0]
[null,null,null,null,null,"","",null,0]
[null,null,"MASSA PLASTICA PARA MARMORE/GRANITO","KG",{"$f":"0.5228*2.4/1.5","v":0.83648},27.293499999999998,22.830466879999999,{"$f":"SUM(G4475:G4481)","v":873.69893397999977},0]
[null,null,"BUCHA DE NYLON SEM ABA S10, COM PARAFUSO DE 6,10 X 65 MM EM ACO ZINCADO COM ROSCA SOBERBA, CABECA CHATA E FENDA PHILLIPS","UN",9,0.874,7.8659999999999997,null,0]
[null,null,"GRANITO PARA BANCADA, POLIDO, TIPO ANDORINHA/ QUARTZ/ CASTELO/ CORUMBA OU OUTROS EQUIVALENTES DA REGIAO, E=  *2,5* CM","M2",{"$f":"1.005*2.4/1.5","v":1.6079999999999997},473.2045,760.91283599999986,null,0]
[null,null,"REJUNTE EPOXI, QUALQUER COR","KG",{"$f":"0.0211*2.4/1.5","v":3.3759999999999998E-2},52.8675,1.7848067999999999,null,0]
[null,null,"SUPORTE MAO-FRANCESA EM ACO, ABAS IGUAIS 40 CM, CAPACIDADE MINIMA 70 KG, BRANCO","UN",3,12.2455,36.736499999999999,null,0]
[null,null,"MARMORISTA/GRANITEIRO COM ENCARGOS COMPLEMENTARES","H",1.4944,18.420500000000001,27.5275952,null,0]
[null,null,"SERVENTE COM ENCARGOS COMPLEMENTARES","H",0.98340000000000005,16.311500000000002,16.040729100000004,null,0]
[null,null,null,null,null,"","",null,0]
["SF-01236",{"$f":"INDEX(Orçamentária!A:B,MATCH(Composições!A4483,Orçamentária!A:A,0),2)","v":"Bancada em granito cinza andorinha polido - 2,50 m x 0,60 m"},null,{"$f":"TRIM(INDEX(Orçamentária!D:D,MATCH(Composições!A4483,Orçamentária!A:A,0),1))","v":"un"},null,"","",null,0]
[null,null,null,null,null,"","",null,0]
[null,null,"MASSA PLASTICA PARA MARMORE/GRANITO","KG",{"$f":"0.5228*2.5/1.5","v":0.8713333333333334},27.293499999999998,23.781736333333335,{"$f":"SUM(G4485:G4491)","v":906.42927188333317},0]
[null,null,"BUCHA DE NYLON SEM ABA S10, COM PARAFUSO DE 6,10 X 65 MM EM ACO ZINCADO COM ROSCA SOBERBA, CABECA CHATA E FENDA PHILLIPS","UN",9,0.874,7.8659999999999997,null,0]
[null,null,"GRANITO PARA BANCADA, POLIDO, TIPO ANDORINHA/ QUARTZ/ CASTELO/ CORUMBA OU OUTROS EQUIVALENTES DA REGIAO, E=  *2,5* CM","M2",{"$f":"1.005*2.5/1.5","v":1.6749999999999998},473.2045,{"$f":"IF(ISNUMBER(F4487),E4487*F4487,\"\")","v":792.61753749999991},null,0]
[null,null,"REJUNTE EPOXI, QUALQUER COR","KG",{"$f":"0.0211*2.5/1.5","v":3.5166666666666672E-2},52.8675,1.8591737500000003,null,0]
[null,null,"SUPORTE MAO-FRANCESA EM ACO, ABAS IGUAIS 40 CM, CAPACIDADE MINIMA 70 KG, BRANCO","UN",3,12.2455,36.736499999999999,null,0]
[null,null,"MARMORISTA/GRANITEIRO COM ENCARGOS COMPLEMENTARES","H",1.4944,18.420500000000001,27.5275952,null,0]
[null,null,"SERVENTE COM ENCARGOS COMPLEMENTARES","H",0.98340000000000005,16.311500000000002,16.040729100000004,null,0]
[null,null,null,null,null,"","",null,0]
["SF-01240",{"$f":"INDEX(Orçamentária!A:B,MATCH(Composições!A4493,Orçamentária!A:A,0),2)","v":"Batedor/limitador inferior para box de correr"},null,{"$f":"TRIM(INDEX(Orçamentária!D:D,MATCH(Composições!A4493,Orçamentária!A:A,0),1))","v":"un"},null,"","",null,0]
[null,null,null,null,null,"","",null,0]
[null,null,"Vidraceiro com encargos complementares","h",0.15,20.539000000000001,3.0808500000000003,{"$f":"SUM(G4495:G4496)","v":3.0808500000000003},0]
[null,null,"Batedor/limitador inferior para box de correr, em material polimérico sintético","un",1,"","",null,0]
[null,null,null,null,null,"","",null,0]
["SF-01241",{"$f":"INDEX(Orçamentária!A:B,MATCH(Composições!A4498,Orçamentária!A:A,0),2)","v":"Batedor/amortecedor lateral para box de correr"},null,{"$f":"TRIM(INDEX(Orçamentária!D:D,MATCH(Composições!A4498,Orçamentária!A:A,0),1))","v":"un"},null,"","",null,0]
[null,null,null,null,null,"","",null,0]
[null,null,"Vidraceiro com encargos complementares","h",0.15,20.539000000000001,3.0808500000000003,{"$f":"SUM(G4500:G4501)","v":3.0808500000000003},0]
[null,null,"Batedor/amortecedor lateral de borracha para box de correr.","un",1,"","",null,0]
[null,null,null,null,null,"","",null,0]
["SF-01242",{"$f":"INDEX(Orçamentária!A:B,MATCH(Composições!A4503,Orçamentária!A:A,0),2)","v":"Batedor/limitador superior para box de correr"},null,{"$f":"TRIM(INDEX(Orçamentária!D:D,MATCH(Composições!A4503,Orçamentária!A:A,0),1))","v":"un"},null,"","",null,0]
[null,null,null,null,null,"","",null,0]
[null,null,"Vidraceiro com encargos complementares","h",0.15,20.539000000000001,3.0808500000000003,{"$f":"SUM(G4505:G4506)","v":3.0808500000000003},0]
[null,null,"Batedor/limitador superior para roldana de box de correr, em material polimérico sintético","un",1,"","",null,0]
[null,null,null,null,null,"","",null,0]
["SF-01243",{"$f":"INDEX(Orçamentária!A:B,MATCH(Composições!A4508,Orçamentária!A:A,0),2)","v":"Perfil cadeirinha em alumínio com encaixe para escova de vedação para vidro temperado 8mm"},null,{"$f":"TRIM(INDEX(Orçamentária!D:D,MATCH(Composições!A4508,Orçamentária!A:A,0),1))","v":"m"},null,"","",null,0]
[null,null,null,null,null,"","",null,0]
[null,null,"Vidraceiro com encargos complementares","h",0.2,20.539000000000001,4.1078000000000001,{"$f":"SUM(G4510:G4511)","v":7.7383009999999999},0]
[null,null,"PERFIL DE ALUMINIO ANODIZADO","kg",0.126,28.813499999999998,3.6305009999999998,null,0]
[null,null,null,null,null,null,null,null,0]
[null,null,"Ref.: AL Indústria Ref.: AL-63",null,null,null,null,null,0]
[null,null,"Fonte: http://www.alpuxadores.com.br/baixar/catalogo.pdf",null,null,"",{"$f":"IF(ISNUMBER(F4514),E4514*F4514,\"\")","v":""},null,0]
[null,null,null,null,null,null,null,null,0]
["SF-01244",{"$f":"INDEX(Orçamentária!A:B,MATCH(Composições!A4516,Orçamentária!A:A,0),2)","v":"Perfil em alumínio para acabamento de trilho superior - Vidro temperado 8mm"},null,{"$f":"TRIM(INDEX(Orçamentária!D:D,MATCH(Composições!A4516,Orçamentária!A:A,0),1))","v":"m"},null,"",{"$f":"IF(ISNUMBER(F4516),E4516*F4516,\"\")","v":""},null,0]
[null,null,null,null,null,"",{"$f":"IF(ISNUMBER(F4517),E4517*F4517,\"\")","v":""},null,0]
[null,null,"Vidraceiro com encargos complementares","h",0.2,20.539000000000001,{"$f":"IF(ISNUMBER(F4518),E4518*F4518,\"\")","v":4.1078000000000001},{"$f":"SUM(G4518:G4519)","v":10.590837499999999},0]
[null,null,"PERFIL DE ALUMINIO ANODIZADO","kg",0.22500000000000001,28.813499999999998,{"$f":"IF(ISNUMBER(F4519),E4519*F4519,\"\")","v":6.4830375},null,0]
[null,null,null,null,null,null,null,null,0]
[null,null,"Ref.: AL Indústria Ref.: AL-BX-02",null,null,null,null,null,0]
[null,null,"Fonte: http://www.alpuxadores.com.br/baixar/catalogo.pdf",null,null,null,null,null,0]
[null,null,null,null,null,"",{"$f":"IF(ISNUMBER(F4523),E4523*F4523,\"\")","v":""},null,0]
["SF-01245",{"$f":"INDEX(Orçamentária!A:B,MATCH(Composições!A4524,Orçamentária!A:A,0),2)","v":"Capa do Perfil Guia Inferior “Click” - Vidro temperado 8mm"},null,{"$f":"TRIM(INDEX(Orçamentária!D:D,MATCH(Composições!A4524,Orçamentária!A:A,0),1))","v":"m"},null,"",{"$f":"IF(ISNUMBER(F4524),E4524*F4524,\"\")","v":""},null,0]
[null,null,null,null,null,"",{"$f":"IF(ISNUMBER(F4525),E4525*F4525,\"\")","v":""},null,0]
[null,null,"Vidraceiro com encargos complementares","h",0.15,20.539000000000001,{"$f":"IF(ISNUMBER(F4526),E4526*F4526,\"\")","v":3.0808500000000003},{"$f":"SUM(G4526:G4527)","v":4.6655925000000007},0]
[null,null,"PERFIL DE ALUMINIO ANODIZADO","kg",5.5E-2,28.813499999999998,{"$f":"IF(ISNUMBER(F4527),E4527*F4527,\"\")","v":1.5847424999999999},null,0]
[null,null,null,null,null,null,null,null,0]
[null,null,"Ref.: AL Indústria Ref.: AL-BX-07",null,null,null,null,null,0]
[null,null,"Fonte: http://www.alpuxadores.com.br/baixar/catalogo.pdf",null,null,null,null,null,0]
[null,null,null,null,null,"",{"$f":"IF(ISNUMBER(F4531),E4531*F4531,\"\")","v":""},null,0]
["SF-01246",{"$f":"INDEX(Orçamentária!A:B,MATCH(Composições!A4532,Orçamentária!A:A,0),2)","v":"Perfil guia inferior de alumínio para porta de giro em vidro temperado 8mm"},null,{"$f":"TRIM(INDEX(Orçamentária!D:D,MATCH(Composições!A4532,Orçamentária!A:A,0),1))","v":"m"},null,"",{"$f":"IF(ISNUMBER(F4532),E4532*F4532,\"\")","v":""},null,0]
[null,null,null,null,null,"",{"$f":"IF(ISNUMBER(F4533),E4533*F4533,\"\")","v":""},null,0]
[null,null,"Vidraceiro com encargos complementares","h",0.3,20.539000000000001,{"$f":"IF(ISNUMBER(F4534),E4534*F4534,\"\")","v":6.1617000000000006},{"$f":"SUM(G4534:G4535)","v":12.154907999999999},0]
[null,null,"PERFIL DE ALUMINIO ANODIZADO","kg",0.20799999999999999,28.813499999999998,{"$f":"IF(ISNUMBER(F4535),E4535*F4535,\"\")","v":5.9932079999999992},null,0]
[null,null,null,null,null,null,null,null,0]
[null,null,"Ref.: AL Indústria Ref.: AL-BX-08",null,null,null,null,null,0]
[null,null,"Fonte: http://www.alpuxadores.com.br/baixar/catalogo.pdf",null,null,null,null,null,0]
[null,null,null,null,null,"",{"$f":"IF(ISNUMBER(F4539),E4539*F4539,\"\")","v":""},null,0]
["SF-01247",{"$f":"INDEX(Orçamentária!A:B,MATCH(Composições!A4540,Orçamentária!A:A,0),2)","v":"Perfil guia inferior de alumínio para porta de correr em vidro temperado 8mm"},null,{"$f":"TRIM(INDEX(Orçamentária!D:D,MATCH(Composições!A4540,Orçamentária!A:A,0),1))","v":"m"},null,"",{"$f":"IF(ISNUMBER(F4540),E4540*F4540,\"\")","v":""},null,0]
[null,null,null,null,null,"",{"$f":"IF(ISNUMBER(F4541),E4541*F4541,\"\")","v":""},null,0]
[null,null,"Vidraceiro com encargos complementares","h",0.3,20.539000000000001,{"$f":"IF(ISNUMBER(F4542),E4542*F4542,\"\")","v":6.1617000000000006},{"$f":"SUM(G4542:G4543)","v":13.6243965},0]
[null,null,"PERFIL DE ALUMINIO ANODIZADO","kg",0.25900000000000001,28.813499999999998,{"$f":"IF(ISNUMBER(F4543),E4543*F4543,\"\")","v":7.4626964999999998},null,0]
[null,null,null,null,null,null,null,null,0]
[null,null,"Ref.: AL Indústria Ref.: AL-BX-03",null,null,null,null,null,0]
[null,null,"Fonte: http://www.alpuxadores.com.br/baixar/catalogo.pdf",null,null,null,null,null,0]
[null,null,null,null,null,"",{"$f":"IF(ISNUMBER(F4547),E4547*F4547,\"\")","v":""},null,0]
["SF-01248",{"$f":"INDEX(Orçamentária!A:B,MATCH(Composições!A4548,Orçamentária!A:A,0),2)","v":"Trilho superior em alumínio 53,8mm x 49,6mm, para vidro temperado"},null,{"$f":"TRIM(INDEX(Orçamentária!D:D,MATCH(Composições!A4548,Orçamentária!A:A,0),1))","v":"m"},null,"",{"$f":"IF(ISNUMBER(F4548),E4548*F4548,\"\")","v":""},null,0]
[null,null,null,null,null,"",{"$f":"IF(ISNUMBER(F4549),E4549*F4549,\"\")","v":""},null,0]
[null,null,"Vidraceiro com encargos complementares","h",0.3,20.539000000000001,{"$f":"IF(ISNUMBER(F4550),E4550*F4550,\"\")","v":6.1617000000000006},{"$f":"SUM(G4550:G4551)","v":21.605736},0]
[null,null,"PERFIL DE ALUMINIO ANODIZADO","kg",0.53600000000000003,28.813499999999998,{"$f":"IF(ISNUMBER(F4551),E4551*F4551,\"\")","v":15.444036000000001},null,0]
[null,null,null,null,null,null,null,null,0]
[null,null,"Ref.: AL Indústria Ref.: AL-BX-01",null,null,null,null,null,0]
[null,null,"Fonte: http://www.alpuxadores.com.br/baixar/catalogo.pdf",null,null,null,null,null,0]
[null,null,null,null,null,"",{"$f":"IF(ISNUMBER(F4555),E4555*F4555,\"\")","v":""},null,0]
["SF-01249",{"$f":"INDEX(Orçamentária!A:B,MATCH(Composições!A4556,Orçamentária!A:A,0),2)","v":"Perfil em alumínio, tipo U - 10,5 x 20mm - para box de vidro temperado 8mm"},null,{"$f":"TRIM(INDEX(Orçamentária!D:D,MATCH(Composições!A4556,Orçamentária!A:A,0),1))","v":"m"},null,"",{"$f":"IF(ISNUMBER(F4556),E4556*F4556,\"\")","v":""},null,0]
[null,null,null,null,null,"",{"$f":"IF(ISNUMBER(F4557),E4557*F4557,\"\")","v":""},null,0]
[null,null,"Vidraceiro com encargos complementares","h",0.2,20.539000000000001,{"$f":"IF(ISNUMBER(F4558),E4558*F4558,\"\")","v":4.1078000000000001},{"$f":"SUM(G4558:G4559)","v":7.1332174999999998},0]
[null,null,"PERFIL DE ALUMINIO ANODIZADO","kg",0.105,28.813499999999998,{"$f":"IF(ISNUMBER(F4559),E4559*F4559,\"\")","v":3.0254174999999996},null,0]
[null,null,null,null,null,null,null,null,0]
[null,null,"Ref.: AL Indústria Ref.: AL-BX-05",null,null,null,null,null,0]
[null,null,"Fonte: http://www.alpuxadores.com.br/baixar/catalogo.pdf",null,null,null,null,null,0]
[null,null,null,null,null,"",{"$f":"IF(ISNUMBER(F4563),E4563*F4563,\"\")","v":""},null,0]
["SF-01250",{"$f":"INDEX(Orçamentária!A:B,MATCH(Composições!A4564,Orçamentária!A:A,0),2)","v":"Perfil em alumínio , tipo U –  14 x 20mm - para box de vidro temperado 8mm"},null,{"$f":"TRIM(INDEX(Orçamentária!D:D,MATCH(Composições!A4564,Orçamentária!A:A,0),1))","v":"m"},null,"",{"$f":"IF(ISNUMBER(F4564),E4564*F4564,\"\")","v":""},null,0]
[null,null,null,null,null,"",{"$f":"IF(ISNUMBER(F4565),E4565*F4565,\"\")","v":""},null,0]
[null,null,"Vidraceiro com encargos complementares","h",0.2,20.539000000000001,{"$f":"IF(ISNUMBER(F4566),E4566*F4566,\"\")","v":4.1078000000000001},{"$f":"SUM(G4566:G4567)","v":7.5366064999999995},0]
[null,null,"PERFIL DE ALUMINIO ANODIZADO","kg",0.11899999999999999,28.813499999999998,{"$f":"IF(ISNUMBER(F4567),E4567*F4567,\"\")","v":3.4288064999999994},null,0]
[null,null,null,null,null,null,null,null,0]
[null,null,"Ref.: AL Indústria Ref.: AL-BX-06",null,null,null,null,null,0]
[null,null,"Fonte: http://www.alpuxadores.com.br/baixar/catalogo.pdf",null,null,null,null,null,0]
[null,null,null,null,null,"",{"$f":"IF(ISNUMBER(F4571),E4571*F4571,\"\")","v":""},null,0]
["SF-01251",{"$f":"INDEX(Orçamentária!A:B,MATCH(Composições!A4572,Orçamentária!A:A,0),2)","v":"Bacia convencional – Linha Residencial"},null,{"$f":"TRIM(INDEX(Orçamentária!D:D,MATCH(Composições!A4572,Orçamentária!A:A,0),1))","v":"un"},null,"","",null,0]
[null,null,null,null,null,"","",null,0]
[null,null,"Bacia Sanitária convencional branca ref: Deca Vogue Plus P.5.17 ou equivalente","UN",1,"","",{"$f":"SUM(G4574:G4580)","v":57.570805599999986},0]
[null,null,"Tubo de ligação para bacia sanitária em PVC, com acabamento cromado, ajustável ou não. Ref.: DECA 1968C ou equivalente","un",1,"","",null,0]
[null,null,"Parafuso niquelado com acabamento cromado para fixar peca sanitaria, inclui porca cega, arruela e bucha de nylon tamanho S-10","UN",2,17.270999999999997,34.541999999999994,null,0]
[null,null,"Vedacao PVC, 100 mm, para saida vaso sanitario","un",1,1.9284999999999997,1.9284999999999997,null,0]
[null,null,"Rejunte epoxi, qualquer cor","kg",8.8099999999999998E-2,52.8675,4.6576267499999995,null,0]
[null,null,"Encanador ou Bombeiro Hidráulico com Encargos Complementares","h",0.49680000000000002,21.622,10.7418096,null,0]
[null,null,"Servente com Encargos Complementares","h",0.34949999999999998,16.311500000000002,5.7008692500000002,null,0]
[null,null,null,null,null,"","",null,0]
["SF-01252",{"$f":"INDEX(Orçamentária!A:B,MATCH(Composições!A4582,Orçamentária!A:A,0),2)","v":"Bidê 3 furos - Linha Residencial"},null,{"$f":"TRIM(INDEX(Orçamentária!D:D,MATCH(Composições!A4582,Orçamentária!A:A,0),1))","v":"un"},null,"","",null,0]
[null,null,null,null,null,"","",null,0]
[null,null,"Bidê 3 furos branco ref: Deca Vogue Plus B.5.17 ou equivalente","UN",1,"","",{"$f":"SUM(G4584:G4588)","v":55.642305599999986},0]
[null,null,"Parafuso niquelado com acabamento cromado para fixar peca sanitaria, inclui porca cega, arruela e bucha de nylon tamanho S-10","UN",2,17.270999999999997,34.541999999999994,null,0]
[null,null,"Rejunte epoxi, qualquer cor","kg",8.8099999999999998E-2,52.8675,4.6576267499999995,null,0]
[null,null,"Encanador ou Bombeiro Hidráulico com Encargos Complementares","h",0.49680000000000002,21.622,10.7418096,null,0]
[null,null,"Servente com Encargos Complementares","h",0.34949999999999998,16.311500000000002,5.7008692500000002,null,0]
[null,null,null,null,null,"","",null,0]
["SF-01255",{"$f":"INDEX(Orçamentária!A:B,MATCH(Composições!A4590,Orçamentária!A:A,0),2)","v":"Chuveiro de metal com tubo de parede – Linha Residencial"},null,{"$f":"TRIM(INDEX(Orçamentária!D:D,MATCH(Composições!A4590,Orçamentária!A:A,0),1))","v":"un"},null,"","",null,0]
[null,null,null,null,null,"","",null,0]
[null,null,"Chuveiro de metal cromado com tubo de parede, crivo regulável e restritor de vazão. Ref.: Deca Aspen 1967.C.CT ou equivalente","UN",1,"","",{"$f":"SUM(G4592:G4595)","v":12.023001449999999},0]
[null,null,"FITA VEDA ROSCA EM ROLOS DE 18 MM X 10 M (L X C)","UN",2.1000000000000001E-2,3.306,6.9426000000000002E-2,null,0]
[null,null,"ENCANADOR OU BOMBEIRO HIDRÁULICO COM ENCARGOS COMPLEMENTARES","H",0.44669999999999999,21.622,9.6585473999999998,null,0]
[null,null,"SERVENTE COM ENCARGOS COMPLEMENTARES","H",0.14069999999999999,16.311500000000002,2.29502805,null,0]
[null,null,null,null,null,"","",null,0]
["SF-01256",{"$f":"INDEX(Orçamentária!A:B,MATCH(Composições!A4597,Orçamentária!A:A,0),2)","v":"Misturador para bidê – Linha Residencial"},null,{"$f":"TRIM(INDEX(Orçamentária!D:D,MATCH(Composições!A4597,Orçamentária!A:A,0),1))","v":"un"},null,"","",null,0]
[null,null,null,null,null,"","",null,0]
[null,null,"FITA VEDA ROSCA EM ROLOS DE 18 MM X 10 M (L X C)","UN",4.2000000000000003E-2,3.306,0.138852,{"$f":"SUM(G4599:G4602)","v":12.5378036},0]
[null,null,"Misturador para bidê, ref: Deca Aspen 1895.C35 ou equivalente","UN",1,"","",null,0]
[null,null,"ENCANADOR OU BOMBEIRO HIDRÁULICO COM ENCARGOS COMPLEMENTARES","H",0.46329999999999999,21.622,10.0174726,null,0]
[null,null,"SERVENTE COM ENCARGOS COMPLEMENTARES","H",0.14599999999999999,16.311500000000002,2.3814790000000001,null,0]
[null,null,null,null,null,"","",null,0]
["SF-01257",{"$f":"INDEX(Orçamentária!A:B,MATCH(Composições!A4604,Orçamentária!A:A,0),2)","v":"Misturador de mesa para cozinha bica móvel – Linha Residencial"},null,{"$f":"TRIM(INDEX(Orçamentária!D:D,MATCH(Composições!A4604,Orçamentária!A:A,0),1))","v":"un"},null,"","",null,0]
[null,null,null,null,null,"","",null,0]
[null,null,"FITA VEDA ROSCA EM ROLOS DE 18 MM X 10 M (L X C)","UN",4.2000000000000003E-2,3.306,0.138852,{"$f":"SUM(G4606:G4609)","v":6.2030382999999993},0]
[null,null,"Misturador de mesa para cozinha, bica móvel, cromado. Ref.: Deca Aspen 1256.C35 ou equivalente","UN",1,"","",null,0]
[null,null,"ENCANADOR OU BOMBEIRO HIDRÁULICO COM ENCARGOS COMPLEMENTARES","H",0.2266,21.622,4.8995451999999995,null,0]
[null,null,"SERVENTE COM ENCARGOS COMPLEMENTARES","H",7.1400000000000005E-2,16.311500000000002,1.1646411000000003,null,0]
[null,null,null,null,null,"","",null,0]
["SF-01258",{"$f":"INDEX(Orçamentária!A:B,MATCH(Composições!A4611,Orçamentária!A:A,0),2)","v":"Misturador de mesa para lavatório bica alta – Linha Residencial"},null,{"$f":"TRIM(INDEX(Orçamentária!D:D,MATCH(Composições!A4611,Orçamentária!A:A,0),1))","v":"un"},null,"","",null,0]
[null,null,null,null,null,"","",null,0]
[null,null,"FITA VEDA ROSCA EM ROLOS DE 18 MM X 10 M (L X C)","UN",4.2000000000000003E-2,3.306,0.138852,{"$f":"SUM(G4613:G4616)","v":12.5378036},0]
[null,null,"Misturador para lavatório de mesa bica alta, cromado. Ref.: Deca Aspen 1877.C35 ou equivalente","UN",1,"","",null,0]
[null,null,"ENCANADOR OU BOMBEIRO HIDRÁULICO COM ENCARGOS COMPLEMENTARES","H",0.46329999999999999,21.622,10.0174726,null,0]
[null,null,"SERVENTE COM ENCARGOS COMPLEMENTARES","H",0.14599999999999999,16.311500000000002,2.3814790000000001,null,0]
[null,null,null,null,null,"","",null,0]
["SF-01259",{"$f":"INDEX(Orçamentária!A:B,MATCH(Composições!A4618,Orçamentária!A:A,0),2)","v":"Misturador de parede para cozinha bica móvel – Linha Residencial"},null,{"$f":"TRIM(INDEX(Orçamentária!D:D,MATCH(Composições!A4618,Orçamentária!A:A,0),1))","v":"un"},null,"","",null,0]
[null,null,null,null,null,"","",null,0]
[null,null,"FITA VEDA ROSCA EM ROLOS DE 18 MM X 10 M (L X C)","UN",4.2000000000000003E-2,3.306,0.138852,{"$f":"SUM(G4620:G4623)","v":6.2030382999999993},0]
[null,null,"Misturador de parede para cozinha, cromada. Ref.: Deca Aspen 1258.C35 ou equivalente","UN",1,"","",null,0]
[null,null,"ENCANADOR OU BOMBEIRO HIDRÁULICO COM ENCARGOS COMPLEMENTARES","H",0.2266,21.622,4.8995451999999995,null,0]
[null,null,"SERVENTE COM ENCARGOS COMPLEMENTARES","H",7.1400000000000005E-2,16.311500000000002,1.1646411000000003,null,0]
[null,null,null,null,null,"","",null,0]
["SF-01260",{"$f":"INDEX(Orçamentária!A:B,MATCH(Composições!A4625,Orçamentária!A:A,0),2)","v":"Dobradiça automática vidro/vidro para box de vidro temperado"},null,{"$f":"TRIM(INDEX(Orçamentária!D:D,MATCH(Composições!A4625,Orçamentária!A:A,0),1))","v":"un"},null,"","",null,0]
[null,null,null,null,null,"","",null,0]
[null,null,"Vidraceiro com encargos complementares","h",0.3,20.539000000000001,6.1617000000000006,{"$f":"SUM(G4627:G4628)","v":6.1617000000000006},0]
[null,null,"Dobradiça metálica automática para vidro/vidro, utilizada em Box de vidro temperado, com porta de abrir. Ref.: Santa Marina, 1129.","un",1,"","",null,0]
[null,null,null,null,null,"","",null,0]
["SF-01261",{"$f":"INDEX(Orçamentária!A:B,MATCH(Composições!A4630,Orçamentária!A:A,0),2)","v":"Luminária tipo arandela – Linha Residencial"},null,{"$f":"TRIM(INDEX(Orçamentária!D:D,MATCH(Composições!A4630,Orçamentária!A:A,0),1))","v":"un"},null,"","",null,0]
[null,null,null,null,null,"","",null,0]
[null,null,"Luminária tipo arandela, de sobrepor, dimensões (em mm) 250 x 250 x 73, base E27. Ref.: Taschibra-Arandela Embaú; Bronzearte - Bambu","un ",1,"","",{"$f":"SUM(G4632:G4635)","v":13.9617928},0]
[null,null,"Lâmpada fluorescente compacta, 23W, ref: OSRAM Duluxstar DST STICK 23 W/865 220V E27","un ",1,"","",null,0]
[null,null,"Auxiliar de eletricista com encargos complementares","h",0.19719999999999999,17.366,3.4245751999999996,null,0]
[null,null,"Eletricista com encargos complementares","h",0.47320000000000001,22.268000000000001,{"$f":"IF(ISNUMBER(F4635),E4635*F4635,\"\")","v":10.5372176},null,0]
[null,null,null,null,null,"","",null,0]
["SF-01262",{"$f":"INDEX(Orçamentária!A:B,MATCH(Composições!A4637,Orçamentária!A:A,0),2)","v":"Tê misturador de transição 1/2” ou 3/4” – Linha Residencial"},null,{"$f":"TRIM(INDEX(Orçamentária!D:D,MATCH(Composições!A4637,Orçamentária!A:A,0),1))","v":"un"},null,"","",null,0]
[null,null,null,null,null,"","",null,0]
[null,null,"ADESIVO PARA TUBOS CPVC, *75* G","UN",1.2E-2,19.427499999999998,0.23312999999999998,{"$f":"SUM(G4639:G4642)","v":29.245008999999996},0]
[null,null,"TE MISTURADOR DE TRANSICAO, CPVC, COM ROSCA, 22 MM X 3/4\", PARA AGUA QUENTE","UN",1,21.963999999999999,21.963999999999999,null,0]
[null,null,"AUXILIAR DE ENCANADOR OU BOMBEIRO HIDRÁULICO COM ENCARGOS COMPLEMENTARES","H",0.183,16.891000000000002,3.0910530000000001,null,0]
[null,null,"ENCANADOR OU BOMBEIRO HIDRÁULICO COM ENCARGOS COMPLEMENTARES","H",0.183,21.622,3.956826,null,0]
[null,null,null,null,null,"","",null,0]
["SF-01263",{"$f":"INDEX(Orçamentária!A:B,MATCH(Composições!A4644,Orçamentária!A:A,0),2)","v":"Base para válvula de descarga 1 1/2”"},null,{"$f":"TRIM(INDEX(Orçamentária!D:D,MATCH(Composições!A4644,Orçamentária!A:A,0),1))","v":"un"},null,"","",null,0]
[null,null,null,null,null,"","",null,0]
[null,null,"FITA VEDA ROSCA EM ROLOS DE 18 MM X 50 M (L X C)","UN",1.9E-2,12.188499999999999,0.2315815,{"$f":"SUM(G4646:G4649)","v":24.540987100000002},0]
[null,null,"Base de válvula de descarga 1 1/2”","UN",1,"","",null,0]
[null,null,"AUXILIAR DE ENCANADOR OU BOMBEIRO HIDRÁULICO COM ENCARGOS COMPLEMENTARES","H",{"$f":"ROUND(0.789*0.8,4)","v":0.63119999999999998},16.891000000000002,10.661599200000001,null,0]
[null,null,"ENCANADOR OU BOMBEIRO HIDRÁULICO COM ENCARGOS COMPLEMENTARES","H",{"$f":"ROUND(0.789*0.8,4)","v":0.63119999999999998},21.622,13.6478064,null,0]
[null,null,null,null,null,"","",null,0]
["SF-01264",{"$f":"INDEX(Orçamentária!A:B,MATCH(Composições!A4651,Orçamentária!A:A,0),2)","v":"Base para válvula de descarga 1 1/4”"},null,{"$f":"TRIM(INDEX(Orçamentária!D:D,MATCH(Composições!A4651,Orçamentária!A:A,0),1))","v":"un"},null,"","",null,0]
[null,null,null,null,null,"","",null,0]
[null,null,"FITA VEDA ROSCA EM ROLOS DE 18 MM X 50 M (L X C)","UN",1.9E-2,12.188499999999999,0.2315815,{"$f":"SUM(G4653:G4656)","v":24.540987100000002},0]
[null,null,"Base de válvula de descarga 1 1/4”","UN",1,"","",null,0]
[null,null,"AUXILIAR DE ENCANADOR OU BOMBEIRO HIDRÁULICO COM ENCARGOS COMPLEMENTARES","H",{"$f":"ROUND(0.789*0.8,4)","v":0.63119999999999998},16.891000000000002,10.661599200000001,null,0]
[null,null,"ENCANADOR OU BOMBEIRO HIDRÁULICO COM ENCARGOS COMPLEMENTARES","H",{"$f":"ROUND(0.789*0.8,4)","v":0.63119999999999998},21.622,13.6478064,null,0]
[null,null,null,null,null,"","",null,0]
["SF-01265",{"$f":"INDEX(Orçamentária!A:B,MATCH(Composições!A4658,Orçamentária!A:A,0),2)","v":"Anel de Vedação para bacia sanitária"},null,{"$f":"TRIM(INDEX(Orçamentária!D:D,MATCH(Composições!A4658,Orçamentária!A:A,0),1))","v":"un"},null,"","",null,0]
[null,null,null,null,null,"","",null,0]
[null,null,"Vedacao PVC, 100 mm, para saida vaso sanitario","un",1,1.9284999999999997,1.9284999999999997,{"$f":"SUM(G4660:G4661)","v":4.0907},0]
[null,null,"ENCANADOR OU BOMBEIRO HIDRÁULICO COM ENCARGOS COMPLEMENTARES","H",0.1,21.622,2.1621999999999999,null,0]
[null,null,null,null,null,"","",null,0]
["SF-01266",{"$f":"INDEX(Orçamentária!A:B,MATCH(Composições!A4663,Orçamentária!A:A,0),2)","v":"Folha de porta em madeira e MDF 2,10x0,60m"},null,{"$f":"TRIM(INDEX(Orçamentária!D:D,MATCH(Composições!A4663,Orçamentária!A:A,0),1))","v":"un"},null,"","",null,0]
[null,null,null,null,null,"","",null,0]
[null,null,"PORTA DE MADEIRA, FOLHA MEDIA (NBR 15930) DE 60 X 210 CM, E = 35 MM, NUCLEO SARRAFEADO, CAPA FRISADA EM HDF, ACABAMENTO MELAMINICO EM PADRAO MADEIRA","UN",1,179.50249999999997,179.50249999999997,{"$f":"SUM(G4665:G4667)","v":210.34459959999998},0]
[null,null,"CARPINTEIRO DE ESQUADRIA COM ENCARGOS COMPLEMENTARES","H",{"$f":"ROUND(1.282*0.8,4)","v":1.0256000000000001},21.916499999999999,22.4775624,null,0]
[null,null,"SERVENTE COM ENCARGOS COMPLEMENTARES","H",{"$f":"ROUND(0.641*0.8,4)","v":0.51280000000000003},16.311500000000002,8.3645372000000009,null,0]
[null,null,null,null,null,"","",null,0]
["SF-01267",{"$f":"INDEX(Orçamentária!A:B,MATCH(Composições!A4669,Orçamentária!A:A,0),2)","v":"Folha de porta em madeira e MDF 2,10x0,70m"},null,{"$f":"TRIM(INDEX(Orçamentária!D:D,MATCH(Composições!A4669,Orçamentária!A:A,0),1))","v":"un"},null,"","",null,0]
[null,null,null,null,null,"","",null,0]
[null,null,"PORTA DE MADEIRA, FOLHA MEDIA (NBR 15930) DE 70 X 210 CM, E = 35 MM, NUCLEO SARRAFEADO, CAPA FRISADA EM HDF, ACABAMENTO MELAMINICO EM PADRAO MADEIRA","UN",1,193.31549999999999,193.31549999999999,{"$f":"SUM(G4671:G4673)","v":227.33322920000001},0]
[null,null,"CARPINTEIRO DE ESQUADRIA COM ENCARGOS COMPLEMENTARES","H",{"$f":"ROUND(1.414*0.8,4)","v":1.1312},21.916499999999999,24.7919448,null,0]
[null,null,"SERVENTE COM ENCARGOS COMPLEMENTARES","H",{"$f":"ROUND(0.707*0.8,4)","v":0.56559999999999999},16.311500000000002,9.225784400000002,null,0]
[null,null,null,null,null,"","",null,0]
["SF-01268",{"$f":"INDEX(Orçamentária!A:B,MATCH(Composições!A4675,Orçamentária!A:A,0),2)","v":"Folha de porta em madeira e MDF 2,10x0,80m"},null,{"$f":"TRIM(INDEX(Orçamentária!D:D,MATCH(Composições!A4675,Orçamentária!A:A,0),1))","v":"un"},null,"","",null,0]
[null,null,null,null,null,"","",null,0]
[null,null,"PORTA DE MADEIRA, FOLHA MEDIA (NBR 15930) DE 80 X 210 CM, E = 35 MM, NUCLEO SARRAFEADO, CAPA FRISADA EM HDF, ACABAMENTO MELAMINICO EM PADRAO MADEIRA","UN",1,234.74499999999998,234.74499999999998,{"$f":"SUM(G4677:G4679)","v":271.93835879999995},0]
[null,null,"CARPINTEIRO DE ESQUADRIA COM ENCARGOS COMPLEMENTARES","H",{"$f":"ROUND(1.546*0.8,4)","v":1.2367999999999999},21.916499999999999,27.106327199999996,null,0]
[null,null,"SERVENTE COM ENCARGOS COMPLEMENTARES","H",{"$f":"ROUND(0.773*0.8,4)","v":0.61839999999999995},16.311500000000002,10.087031600000001,null,0]
[null,null,null,null,null,"","",null,0]
["SF-01269",{"$f":"INDEX(Orçamentária!A:B,MATCH(Composições!A4681,Orçamentária!A:A,0),2)","v":"Folha de porta em madeira e MDF 2,10x0,90m"},null,{"$f":"TRIM(INDEX(Orçamentária!D:D,MATCH(Composições!A4681,Orçamentária!A:A,0),1))","v":"un"},null,"","",null,0]
[null,null,null,null,null,"","",null,0]
[null,null,"PORTA DE MADEIRA, FOLHA MEDIA (NBR 15930) DE 90 X 210 CM, E = 35 MM, NUCLEO SARRAFEADO, CAPA LISA EM HDF, ACABAMENTO EM LAMINADO NATURAL PARA VERNIZ","UN",1,213.89249999999998,213.89249999999998,{"$f":"SUM(G4683:G4685)","v":254.26148839999999},0]
[null,null,"CARPINTEIRO DE ESQUADRIA COM ENCARGOS COMPLEMENTARES","H",{"$f":"ROUND(1.678*0.8,4)","v":1.3424},21.916499999999999,29.420709599999999,null,0]
[null,null,"SERVENTE COM ENCARGOS COMPLEMENTARES","H",{"$f":"ROUND(0.839*0.8,4)","v":0.67120000000000002},16.311500000000002,10.948278800000002,null,0]
[null,null,null,null,null,"","",null,0]
["SF-01270",{"$f":"INDEX(Orçamentária!A:B,MATCH(Composições!A4687,Orçamentária!A:A,0),2)","v":"Remoção de boiler"},null,{"$f":"TRIM(INDEX(Orçamentária!D:D,MATCH(Composições!A4687,Orçamentária!A:A,0),1))","v":"un"},null,"","",null,0]
[null,null,null,null,null,"","",null,0]
[null,null,"AUXILIAR DE ENCANADOR OU BOMBEIRO HIDRÁULICO COM ENCARGOS COMPLEMENTARES","H",{"$f":"4*0.3","v":1.2},16.891000000000002,20.269200000000001,{"$f":"SUM(G4689:G4692)","v":69.995999999999995},0]
[null,null,"ENCANADOR OU BOMBEIRO HIDRÁULICO COM ENCARGOS COMPLEMENTARES","H",{"$f":"4*0.3","v":1.2},21.622,25.946400000000001,null,0]
[null,null,"Auxiliar de eletricista com encargos complementares","H",{"$f":"2*0.3","v":0.6},17.366,10.419599999999999,null,0]
[null,null,"Eletricista com encargos complementares","H",{"$f":"2*0.3","v":0.6},22.268000000000001,13.360799999999999,null,0]
[null,null,null,null,null,"","",null,0]
["SF-01271",{"$f":"INDEX(Orçamentária!A:B,MATCH(Composições!A4694,Orçamentária!A:A,0),2)","v":"Remoção de tacos de madeira"},null,{"$f":"TRIM(INDEX(Orçamentária!D:D,MATCH(Composições!A4694,Orçamentária!A:A,0),1))","v":"m2"},null,"","",null,0]
[null,null,null,null,null,"","",null,0]
[null,null,"CARPINTEIRO DE ESQUADRIA COM ENCARGOS COMPLEMENTARES","H",0.12,21.916499999999999,2.6299799999999998,{"$f":"SUM(G4696:G4697)","v":24.79158},0]
[null,null,"AJUDANTE DE CARPINTEIRO COM ENCARGOS COMPLEMENTARES","H",1.2,18.468,22.1616,null,0]
[null,null,null,null,null,"","",null,0]
["SF-01272",{"$f":"INDEX(Orçamentária!A:B,MATCH(Composições!A4699,Orçamentária!A:A,0),2)","v":"Cerâmica 30x60cm - Glacier White - Portobello – Linha Residencial"},null,{"$f":"TRIM(INDEX(Orçamentária!D:D,MATCH(Composições!A4699,Orçamentária!A:A,0),1))","v":"m2"},null,"",{"$f":"IF(ISNUMBER(F4699),E4699*F4699,\"\")","v":""},null,0]
[null,null,null,null,null,"","",null,0]
[null,null,"Cerâmica 30x60xm Glacier White (26109E) – Linha White Home – Portobello, ou similar","m2",1.08,"","",{"$f":"SUM(G4701:G4705)","v":25.792880000000004},0]
[null,null,"Argamassa colante AC II","kg",6.14,0.78849999999999998,4.8413899999999996,null,0]
[null,null,"Rejunte cimenticio, qualquer cor","kg",0.22,2.508,0.55176000000000003,null,0]
[null,null,"Azulejista ou ladrilhista com encargos complementares","h",0.66,22.011500000000002,14.527590000000002,null,0]
[null,null,"Servente com Encargos Complementares","h",0.36,16.311500000000002,5.8721400000000008,null,0]
[null,null,null,null,null,"","",null,0]
["SF-01273",{"$f":"INDEX(Orçamentária!A:B,MATCH(Composições!A4707,Orçamentária!A:A,0),2)","v":"Instalação de tacos de madeira reaproveitados"},null,{"$f":"TRIM(INDEX(Orçamentária!D:D,MATCH(Composições!A4707,Orçamentária!A:A,0),1))","v":"m2"},null,"","",null,0]
[null,null,null,null,null,"","",null,0]
[null,null,"COLA BRANCA BASE PVA","L",0.57499999999999996,16.891000000000002,9.7123249999999999,{"$f":"SUM(G4709:G4711)","v":28.331636249999995},0]
[null,null,"SERVENTE COM ENCARGOS COMPLEMENTARES","H",0.2399,16.311500000000002,3.9131288500000005,null,0]
[null,null,"TAQUEADOR OU TAQUEIRO COM ENCARGOS COMPLEMENTARES","H",0.57589999999999997,25.535999999999998,14.706182399999998,null,0]
[null,null,null,null,null,"","",null,0]
["SF-01278",{"$f":"INDEX(Orçamentária!A:B,MATCH(Composições!A4713,Orçamentária!A:A,0),2)","v":"Instalação de cortinas reaproveitadas"},null,{"$f":"TRIM(INDEX(Orçamentária!D:D,MATCH(Composições!A4713,Orçamentária!A:A,0),1))","v":"m"},null,"","",null,0]
[null,null,null,null,null,"","",null,0]
[null,null,"AJUDANTE ESPECIALIZADO COM ENCARGOS COMPLEMENTARES","H",0.5,19.3705,9.6852499999999999,{"$f":"SUM(G4715:G4715)","v":9.6852499999999999},0]
[null,null,null,null,null,"","",null,0]
["SF-01279",{"$f":"INDEX(Orçamentária!A:B,MATCH(Composições!A4717,Orçamentária!A:A,0),2)","v":"Tubo CPVC soldável 22mm – Linha Residencial"},null,{"$f":"TRIM(INDEX(Orçamentária!D:D,MATCH(Composições!A4717,Orçamentária!A:A,0),1))","v":"m"},null,"","",null,0]
[null,null,null,null,null,"","",null,0]
[null,null,"TUBO CPVC, SOLDAVEL, 22 MM, AGUA QUENTE PREDIAL (NBR 15884)","M",1.0609999999999999,12.3405,13.093270499999999,{"$f":"SUM(G4719:G4721)","v":26.1491775},0]
[null,null,"AUXILIAR DE ENCANADOR OU BOMBEIRO HIDRÁULICO COM ENCARGOS COMPLEMENTARES","H",0.33900000000000002,16.891000000000002,5.7260490000000006,null,0]
[null,null,"ENCANADOR OU BOMBEIRO HIDRÁULICO COM ENCARGOS COMPLEMENTARES","H",0.33900000000000002,21.622,7.3298580000000007,null,0]
[null,null,null,null,null,"","",null,0]
["SF-01280",{"$f":"INDEX(Orçamentária!A:B,MATCH(Composições!A4723,Orçamentária!A:A,0),2)","v":"Tubo CPVC soldável 28mm – Linha Residencial"},null,{"$f":"TRIM(INDEX(Orçamentária!D:D,MATCH(Composições!A4723,Orçamentária!A:A,0),1))","v":"m"},null,"","",null,0]
[null,null,null,null,null,"","",null,0]
[null,null,"TUBO CPVC, SOLDAVEL, 28 MM, AGUA QUENTE PREDIAL (NBR 15884)","M",1.0609999999999999,19.817,21.025836999999999,{"$f":"SUM(G4725:G4727)","v":36.431037000000003},0]
[null,null,"AUXILIAR DE ENCANADOR OU BOMBEIRO HIDRÁULICO COM ENCARGOS COMPLEMENTARES","H",0.4,16.891000000000002,6.7564000000000011,null,0]
[null,null,"ENCANADOR OU BOMBEIRO HIDRÁULICO COM ENCARGOS COMPLEMENTARES","H",0.4,21.622,8.6487999999999996,null,0]
[null,null,null,null,null,"","",null,0]
["SF-01281",{"$f":"INDEX(Orçamentária!A:B,MATCH(Composições!A4729,Orçamentária!A:A,0),2)","v":"Instalação de bidê reaproveitado"},null,{"$f":"TRIM(INDEX(Orçamentária!D:D,MATCH(Composições!A4729,Orçamentária!A:A,0),1))","v":"un"},null,"","",null,0]
[null,null,null,null,null,"","",null,0]
[null,null,"Parafuso niquelado com acabamento cromado para fixar peca sanitaria, inclui porca cega, arruela e bucha de nylon tamanho S-10","UN",2,17.270999999999997,34.541999999999994,{"$f":"SUM(G4731:G4734)","v":55.642305599999986},0]
[null,null,"Rejunte epoxi, qualquer cor","kg",8.8099999999999998E-2,52.8675,4.6576267499999995,null,0]
[null,null,"Encanador ou Bombeiro Hidráulico com Encargos Complementares","h",0.49680000000000002,21.622,10.7418096,null,0]
[null,null,"Servente com Encargos Complementares","h",0.34949999999999998,16.311500000000002,5.7008692500000002,null,0]
[null,null,null,null,null,"","",null,0]
["SF-01282",{"$f":"INDEX(Orçamentária!A:B,MATCH(Composições!A4736,Orçamentária!A:A,0),2)","v":"Aquecedor elétrico para pia – Linha Residencial"},null,{"$f":"TRIM(INDEX(Orçamentária!D:D,MATCH(Composições!A4736,Orçamentária!A:A,0),1))","v":"un"},null,"","",null,0]
[null,null,null,null,null,"","",null,0]
[null,null,"ENCANADOR OU BOMBEIRO HIDRÁULICO COM ENCARGOS COMPLEMENTARES","H",0.5,21.622,10.811,{"$f":"SUM(G4738:G4741)","v":19.371071900000004},0]
[null,null,"AUXILIAR DE ENCANADOR OU BOMBEIRO HIDRÁULICO COM ENCARGOS COMPLEMENTARES","H",0.5,16.891000000000002,8.4455000000000009,null,0]
[null,null,"FITA VEDA ROSCA EM ROLOS DE 18 MM X 50 M (L X C)","UN",{"$f":"0.47/50","v":9.3999999999999986E-3},12.188499999999999,0.11457189999999998,null,0]
[null,null,"Aquecedor elétrico individual automático, 5000W, 220V","UN",1,"","",null,0]
[null,null,null,null,null,"","",null,0]
["SF-01283",{"$f":"INDEX(Orçamentária!A:B,MATCH(Composições!A4743,Orçamentária!A:A,0),2)","v":"Chuveiro elétrico – Linha Residencial"},null,{"$f":"TRIM(INDEX(Orçamentária!D:D,MATCH(Composições!A4743,Orçamentária!A:A,0),1))","v":"un"},null,"","",null,0]
[null,null,null,null,null,"","",null,0]
[null,null,"Chuveiro elétrico 7800W, 220V. Ref: Lorenzetti Acqua Storm Ultra","UN",1,"","",{"$f":"SUM(G4745:G4748)","v":12.023001449999999},0]
[null,null,"FITA VEDA ROSCA EM ROLOS DE 18 MM X 10 M (L X C)","UN",2.1000000000000001E-2,3.306,6.9426000000000002E-2,null,0]
[null,null,"ENCANADOR OU BOMBEIRO HIDRÁULICO COM ENCARGOS COMPLEMENTARES","H",0.44669999999999999,21.622,9.6585473999999998,null,0]
[null,null,"SERVENTE COM ENCARGOS COMPLEMENTARES","H",0.14069999999999999,16.311500000000002,2.29502805,null,0]
[null,null,null,null,null,"","",null,0]
["SF-01284",{"$f":"INDEX(Orçamentária!A:B,MATCH(Composições!A4750,Orçamentária!A:A,0),2)","v":"Instalação de boiler reaproveitado"},null,{"$f":"TRIM(INDEX(Orçamentária!D:D,MATCH(Composições!A4750,Orçamentária!A:A,0),1))","v":"un"},null,"","",null,0]
[null,null,null,null,null,"","",null,0]
[null,null,"AUXILIAR DE ENCANADOR OU BOMBEIRO HIDRÁULICO COM ENCARGOS COMPLEMENTARES","H",4,16.891000000000002,67.564000000000007,{"$f":"SUM(G4752:G4756)","v":233.71672000000001},0]
[null,null,"ENCANADOR OU BOMBEIRO HIDRÁULICO COM ENCARGOS COMPLEMENTARES","H",4,21.622,86.488,null,0]
[null,null,"Auxiliar de eletricista com encargos complementares","H",2,17.366,34.731999999999999,null,0]
[null,null,"Eletricista com encargos complementares","H",2,22.268000000000001,44.536000000000001,null,0]
[null,null,"FITA VEDA ROSCA EM ROLOS DE 18 MM X 10 M (L X C)","UN",{"$f":"1.2/10","v":0.12},3.306,0.39672000000000002,null,0]
[null,null,null,null,null,"","",null,0]
["SF-01285",{"$f":"INDEX(Orçamentária!A:B,MATCH(Composições!A4758,Orçamentária!A:A,0),2)","v":"Prateleira – Linha Residencial"},null,{"$f":"TRIM(INDEX(Orçamentária!D:D,MATCH(Composições!A4758,Orçamentária!A:A,0),1))","v":"un"},null,"","",null,0]
[null,null,null,null,null,"","",null,0]
[null,null,"Prateleira com base em resina, com acabamento cromado. Ref: Deca Flex 2031.C.FLX ou equivalente","un ",1,"","",{"$f":"SUM(G4760:G4762)","v":16.9208414},0]
[null,null,"Encanador ou Bombeiro Hidráulico com Encargos Complementares","h",0.63229999999999997,21.622,13.6715906,null,0]
[null,null,"Servente com Encargos Complementares","h",0.19919999999999999,16.311500000000002,3.2492508000000004,null,0]
[null,null,null,null,null,"",{"$f":"IF(ISNUMBER(F4763),E4763*F4763,\"\")","v":""},null,0]
["SF-01286",{"$f":"INDEX(Orçamentária!A:B,MATCH(Composições!A4764,Orçamentária!A:A,0),2)","v":"Saboneteira – Linha Residencial"},null,{"$f":"TRIM(INDEX(Orçamentária!D:D,MATCH(Composições!A4764,Orçamentária!A:A,0),1))","v":"un"},null,"","",null,0]
[null,null,null,null,null,"","",null,0]
[null,null,"Saboneteira com base em resina de alta resistência com espessura com acabamento cromado. Ref: Deca Flex 2010.C.FLX ou equivalente","un ",1,"","",{"$f":"SUM(G4766:G4768)","v":8.4615018000000006},0]
[null,null,"Encanador ou Bombeiro Hidráulico com Encargos Complementares","h",0.31619999999999998,21.622,6.8368763999999995,null,0]
[null,null,"Servente com Encargos Complementares","h",9.9599999999999994E-2,16.311500000000002,1.6246254000000002,null,0]
[null,null,null,null,null,"","",null,0]
["SF-01287",{"$f":"INDEX(Orçamentária!A:B,MATCH(Composições!A4770,Orçamentária!A:A,0),2)","v":"Módulo campainha eletrônica – Linha Residencial"},null,{"$f":"TRIM(INDEX(Orçamentária!D:D,MATCH(Composições!A4770,Orçamentária!A:A,0),1))","v":"un"},null,"","",null,0]
[null,null,null,null,null,"","",null,0]
[null,null,"Campainha eletrônica de dois tons, 70 dB,  220V","un",1,"","",{"$f":"SUM(G4772:G4774)","v":13.911534},0]
[null,null,"Auxiliar de eletricista com encargos complementares","h",0.35099999999999998,17.366,6.0954659999999992,null,0]
[null,null,"Eletricista com encargos complementares","h",0.35099999999999998,22.268000000000001,7.8160679999999996,null,0]
[null,null,null,null,null,"","",null,0]
["SF-01288",{"$f":"INDEX(Orçamentária!A:B,MATCH(Composições!A4776,Orçamentária!A:A,0),2)","v":"Módulo pulsador – Linha Residencial"},null,{"$f":"TRIM(INDEX(Orçamentária!D:D,MATCH(Composições!A4776,Orçamentária!A:A,0),1))","v":"un"},null,"","",null,0]
[null,null,null,null,null,"","",null,0]
[null,null,"PULSADOR CAMPAINHA 10A, 250V (APENAS MODULO)","UN",1,5.1964999999999995,5.1964999999999995,{"$f":"SUM(G4778:G4780)","v":14.114149999999999},0]
[null,null,"Auxiliar de eletricista com encargos complementares","h",0.22500000000000001,17.366,3.9073500000000001,null,0]
[null,null,"Eletricista com encargos complementares","h",0.22500000000000001,22.268000000000001,5.0103,null,0]
[null,null,null,null,null,"","",null,0]
["SF-01289",{"$f":"INDEX(Orçamentária!A:B,MATCH(Composições!A4782,Orçamentária!A:A,0),2)","v":"Luminária redonda de sobrepor (plafond) – Linha Residencial"},null,{"$f":"TRIM(INDEX(Orçamentária!D:D,MATCH(Composições!A4782,Orçamentária!A:A,0),1))","v":"un"},null,"","",null,0]
[null,null,null,null,null,"","",null,0]
[null,null,"LUMINARIA PLAFON REDONDO COM VIDRO FOSCO DIAMETRO *30* CM, PARA 2 LAMPADAS, BASE E27, POTENCIA MAXIMA 40/60 W (NAO INCLUI LAMPADAS)","UN",1,39.909499999999994,39.909499999999994,{"$f":"SUM(G4784:G4787)","v":80.655573799999985},0]
[null,null,"LAMPADA FLUORESCENTE COMPACTA 2U BRANCA 15 W, BASE E27 (127/220 V)","UN",2,10.164999999999999,20.329999999999998,null,0]
[null,null,"Auxiliar de eletricista com encargos complementares","h",0.2883,17.366,5.0066177999999999,null,0]
[null,null,"Eletricista com encargos complementares","h",0.69199999999999995,22.268000000000001,15.409455999999999,null,0]
[null,null,null,null,null,"","",null,0]
["SF-01295",{"$f":"INDEX(Orçamentária!A:B,MATCH(Composições!A4789,Orçamentária!A:A,0),2)","v":"Bandeira de porta, em madeira e MDF"},null,{"$f":"TRIM(INDEX(Orçamentária!D:D,MATCH(Composições!A4789,Orçamentária!A:A,0),1))","v":"m²"},null,"","",null,0]
[null,null,null,null,null,"","",null,0]
[null,null,"PORTA DE MADEIRA, FOLHA MEDIA (NBR 15930) DE 80 X 210 CM, E = 35 MM, NUCLEO SARRAFEADO, CAPA FRISADA EM HDF, ACABAMENTO MELAMINICO EM PADRAO MADEIRA","UN",{"$f":"1/(0.8*2.1)","v":0.59523809523809523},234.74499999999998,139.72916666666666,{"$f":"SUM(G4791:G4794)","v":180.01335711666667},0]
[null,null,"CANTONEIRA ALUMINIO ABAS IGUAIS 1 \", E = 3 /16 \"","M",{"$f":"1/0.8","v":1.25},14.515999999999998,18.144999999999996,null,0]
[null,null,"CARPINTEIRO DE ESQUADRIA COM ENCARGOS COMPLEMENTARES","H",{"$f":"ROUND(1.546*0.8/(2.1*0.8),4)","v":0.73619999999999997},21.916499999999999,16.134927299999998,null,0]
[null,null,"SERVENTE COM ENCARGOS COMPLEMENTARES","H",{"$f":"ROUND(0.773*0.8/(2.1*0.8),4)","v":0.36809999999999998},16.311500000000002,6.0042631500000008,null,0]
[null,null,null,null,null,"","",null,0]
["SF-01296",{"$f":"INDEX(Orçamentária!A:B,MATCH(Composições!A4796,Orçamentária!A:A,0),2)","v":"Bandeira de porta, em madeira pintada"},null,{"$f":"TRIM(INDEX(Orçamentária!D:D,MATCH(Composições!A4796,Orçamentária!A:A,0),1))","v":"m²"},null,"","",null,0]
[null,null,null,null,null,"","",null,0]
[null,null,"PORTA DE MADEIRA, FOLHA MEDIA (NBR 15930) DE 80 X 210 CM, E = 35 MM, NUCLEO SARRAFEADO, CAPA LISA EM HDF, ACABAMENTO EM LAMINADO NATURAL PARA VERNIZ","UN",{"$f":"1/(0.8*2.1)","v":0.59523809523809523},232.80699999999999,138.57559523809522,{"$f":"SUM(G4798:G4805)","v":193.64843568809519},0]
[null,null,"CANTONEIRA ALUMINIO ABAS IGUAIS 1 \", E = 3 /16 \"","M",{"$f":"1/0.8","v":1.25},14.515999999999998,18.144999999999996,null,0]
[null,null,"CARPINTEIRO DE ESQUADRIA COM ENCARGOS COMPLEMENTARES","H",{"$f":"ROUND(1.546*0.8/(0.8*2.1),4)","v":0.73619999999999997},21.916499999999999,16.134927299999998,null,0]
[null,null,"SERVENTE COM ENCARGOS COMPLEMENTARES","H",{"$f":"ROUND(0.773*0.8/(0.8*2.1),4)","v":0.36809999999999998},16.311500000000002,6.0042631500000008,null,0]
[null,null,"Lixa em folha para parede ou madeira, numero 120 (cor vermelha)","un",1,0.68399999999999994,0.68399999999999994,null,0]
[null,null,"Verniz a base de água para madeira","L",0.108,"","",null,0]
[null,null,"Pintor com encargos complementares","h",0.4,23.027999999999999,9.2111999999999998,null,0]
[null,null,"Servente com Encargos Complementares","h",0.3,16.311500000000002,4.8934500000000005,null,0]
[null,null,null,null,null,null,null,null,0]
[null,null,"Obs: considerando rendimento informado na especificação técnica de produto equivalente da Suvinil (Lata de 3,6L rende até 100 m²/demão).",null,null,null,null,null,0]
[null,null,null,null,null,"",{"$f":"IF(ISNUMBER(F4808),E4808*F4808,\"\")","v":""},null,0]
["SF-01310",{"$f":"INDEX(Orçamentária!A:B,MATCH(Composições!A4809,Orçamentária!A:A,0),2)","v":"Cambota elastomérica de 8”"},null,{"$f":"TRIM(INDEX(Orçamentária!D:D,MATCH(Composições!A4809,Orçamentária!A:A,0),1))","v":"un"},null,"","",null,0]
[null,null,null,null,null,"","",null,0]
[null,null,"AUXILIAR DE ENCANADOR OU BOMBEIRO HIDRÁULICO COM ENCARGOS COMPLEMENTARES","H",0.93,16.891000000000002,15.708630000000003,{"$f":"SUM(G4811:G4813)","v":35.817090000000007},0]
[null,null,"ENCANADOR OU BOMBEIRO HIDRÁULICO COM ENCARGOS COMPLEMENTARES","H",0.93,21.622,20.108460000000001,null,0]
[null,null,"Cambota elastomérica de 8\" para suporte de tubulação industrial","UN",1,"","",null,0]
[null,null,null,null,null,"","",null,0]
["SF-01311",{"$f":"INDEX(Orçamentária!A:B,MATCH(Composições!A4815,Orçamentária!A:A,0),2)","v":"Curva raio curto 45° em aço carbono para solda de topo DN 125 (5\" NPS)"},null,{"$f":"TRIM(INDEX(Orçamentária!D:D,MATCH(Composições!A4815,Orçamentária!A:A,0),1))","v":"un"},null,"","",null,0]
[null,null,null,null,null,"","",null,0]
[null,null,"ELETRODO REVESTIDO AWS - E6013, DIAMETRO IGUAL A 2,50 MM","KG",{"$f":"ROUND(0.089*1.3,4)","v":0.1157},16.311500000000002,1.8872405500000002,{"$f":"SUM(G4817:G4821)","v":75.773462050000006},0]
[null,null,"Curva raio curto 45° em aço carbono para solda de topo, SCH 40, DN 125 (5\" NPS)","UN",1,"","",null,0]
[null,null,"AUXILIAR DE ENCANADOR OU BOMBEIRO HIDRÁULICO COM ENCARGOS COMPLEMENTARES","H",{"$f":"ROUND(0.93*1.3,4)","v":1.2090000000000001},16.891000000000002,20.421219000000004,null,0]
[null,null,"ENCANADOR OU BOMBEIRO HIDRÁULICO COM ENCARGOS COMPLEMENTARES","H",{"$f":"ROUND(0.93*1.3,4)","v":1.2090000000000001},21.622,26.140998,null,0]
[null,null,"SOLDADOR COM ENCARGOS COMPLEMENTARES","H",{"$f":"ROUND(0.93*1.3,4)","v":1.2090000000000001},22.600499999999997,27.324004499999997,null,0]
[null,null,null,null,null,"","",null,0]
["SF-01312",{"$f":"INDEX(Orçamentária!A:B,MATCH(Composições!A4823,Orçamentária!A:A,0),2)","v":"Curva raio curto 90° em aço carbono para solda de topo DN 125 (5\" NPS)"},null,{"$f":"TRIM(INDEX(Orçamentária!D:D,MATCH(Composições!A4823,Orçamentária!A:A,0),1))","v":"un"},null,"","",null,0]
[null,null,null,null,null,"","",null,0]
[null,null,"ELETRODO REVESTIDO AWS - E6013, DIAMETRO IGUAL A 2,50 MM","KG",{"$f":"ROUND(0.089*1.3,4)","v":0.1157},16.311500000000002,1.8872405500000002,{"$f":"SUM(G4825:G4829)","v":75.773462050000006},0]
[null,null,"Curva raio curto 90° em aço carbono para solda de topo, SCH 40, DN 125 (5\" NPS)","UN",1,"","",null,0]
[null,null,"AUXILIAR DE ENCANADOR OU BOMBEIRO HIDRÁULICO COM ENCARGOS COMPLEMENTARES","H",{"$f":"ROUND(0.93*1.3,4)","v":1.2090000000000001},16.891000000000002,20.421219000000004,null,0]
[null,null,"ENCANADOR OU BOMBEIRO HIDRÁULICO COM ENCARGOS COMPLEMENTARES","H",{"$f":"ROUND(0.93*1.3,4)","v":1.2090000000000001},21.622,26.140998,null,0]
[null,null,"SOLDADOR COM ENCARGOS COMPLEMENTARES","H",{"$f":"ROUND(0.93*1.3,4)","v":1.2090000000000001},22.600499999999997,27.324004499999997,null,0]
[null,null,null,null,null,"","",null,0]
["SF-01313",{"$f":"INDEX(Orçamentária!A:B,MATCH(Composições!A4831,Orçamentária!A:A,0),2)","v":"Curva raio longo 90° em aço carbono para solda de topo DN 125 (5\" NPS)"},null,{"$f":"TRIM(INDEX(Orçamentária!D:D,MATCH(Composições!A4831,Orçamentária!A:A,0),1))","v":"un"},null,"","",null,0]
[null,null,null,null,null,"","",null,0]
[null,null,"ELETRODO REVESTIDO AWS - E6013, DIAMETRO IGUAL A 2,50 MM","KG",{"$f":"ROUND(0.089*1.3,4)","v":0.1157},16.311500000000002,1.8872405500000002,{"$f":"SUM(G4833:G4837)","v":75.773462050000006},0]
[null,null,"Curva raio longo 90° em aço carbono para solda de topo, SCH 40, DN 125 (5\" NPS)","UN",1,"","",null,0]
[null,null,"AUXILIAR DE ENCANADOR OU BOMBEIRO HIDRÁULICO COM ENCARGOS COMPLEMENTARES","H",{"$f":"ROUND(0.93*1.3,4)","v":1.2090000000000001},16.891000000000002,20.421219000000004,null,0]
[null,null,"ENCANADOR OU BOMBEIRO HIDRÁULICO COM ENCARGOS COMPLEMENTARES","H",{"$f":"ROUND(0.93*1.3,4)","v":1.2090000000000001},21.622,26.140998,null,0]
[null,null,"SOLDADOR COM ENCARGOS COMPLEMENTARES","H",{"$f":"ROUND(0.93*1.3,4)","v":1.2090000000000001},22.600499999999997,27.324004499999997,null,0]
[null,null,null,null,null,"","",null,0]
["SF-01314",{"$f":"INDEX(Orçamentária!A:B,MATCH(Composições!A4839,Orçamentária!A:A,0),2)","v":"Curva raio longo 90° em aço carbono para solda de topo DN 200 (8\" NPS)"},null,{"$f":"TRIM(INDEX(Orçamentária!D:D,MATCH(Composições!A4839,Orçamentária!A:A,0),1))","v":"un"},null,"","",null,0]
[null,null,null,null,null,"",{"$f":"IF(ISNUMBER(F4840),E4840*F4840,\"\")","v":""},null,0]
[null,null,"ELETRODO REVESTIDO AWS - E6013, DIAMETRO IGUAL A 2,50 MM","KG",{"$f":"ROUND(0.089*1.5,4)","v":0.13350000000000001},16.311500000000002,2.1775852500000004,{"$f":"SUM(G4841:G4845)","v":87.430917749999992},0]
[null,null,"Curva raio longo 90° em aço carbono para solda de topo, SCH 40, DN 200 (8\" NPS)","UN",1,"","",null,0]
[null,null,"AUXILIAR DE ENCANADOR OU BOMBEIRO HIDRÁULICO COM ENCARGOS COMPLEMENTARES","H",{"$f":"ROUND(0.93*1.5,4)","v":1.395},16.891000000000002,23.562945000000003,null,0]
[null,null,"ENCANADOR OU BOMBEIRO HIDRÁULICO COM ENCARGOS COMPLEMENTARES","H",{"$f":"ROUND(0.93*1.5,4)","v":1.395},21.622,30.162690000000001,null,0]
[null,null,"SOLDADOR COM ENCARGOS COMPLEMENTARES","H",{"$f":"ROUND(0.93*1.5,4)","v":1.395},22.600499999999997,31.527697499999995,null,0]
[null,null,null,null,null,"","",null,0]
["SF-01315",{"$f":"INDEX(Orçamentária!A:B,MATCH(Composições!A4847,Orçamentária!A:A,0),2)","v":"Eliminador de ar para líquidos DN 20 (3/4\" NPS)"},null,{"$f":"TRIM(INDEX(Orçamentária!D:D,MATCH(Composições!A4847,Orçamentária!A:A,0),1))","v":"un"},null,"","",null,0]
[null,null,null,null,null,"","",null,0]
[null,null,"Eliminador de ar para líquidos com pressão máxima de operação de 10,5 kgf/cm2 (150 psi), DN 20 (3/4\" NPS), conexão roscada","UN",1,"","",{"$f":"SUM(G4849:G4851)","v":15.097096000000002},0]
[null,null,"AUXILIAR DE ENCANADOR OU BOMBEIRO HIDRÁULICO COM ENCARGOS COMPLEMENTARES","H",0.39200000000000002,16.891000000000002,6.6212720000000012,null,0]
[null,null,"ENCANADOR OU BOMBEIRO HIDRÁULICO COM ENCARGOS COMPLEMENTARES","H",0.39200000000000002,21.622,8.4758240000000011,null,0]
[null,null,null,null,null,"","",null,0]
["SF-01316",{"$f":"INDEX(Orçamentária!A:B,MATCH(Composições!A4853,Orçamentária!A:A,0),2)","v":"Flange de pescoço, aço carbono, classe 150, DN 125 (5\" NPS)"},null,{"$f":"TRIM(INDEX(Orçamentária!D:D,MATCH(Composições!A4853,Orçamentária!A:A,0),1))","v":"un"},null,"","",null,0]
[null,null,null,null,null,"","",null,0]
[null,null,"ELETRODO REVESTIDO AWS - E6013, DIAMETRO IGUAL A 2,50 MM","KG",{"$f":"ROUND(0.089*1.3,4)","v":0.1157},16.311500000000002,1.8872405500000002,{"$f":"SUM(G4855:G4859)","v":75.773462050000006},0]
[null,null,"Flange de pescoço em aço carbono, classe 150, DN 125 (5\" NPS)","UN",1,"","",null,0]
[null,null,"AUXILIAR DE ENCANADOR OU BOMBEIRO HIDRÁULICO COM ENCARGOS COMPLEMENTARES","H",{"$f":"ROUND(0.93*1.3,4)","v":1.2090000000000001},16.891000000000002,20.421219000000004,null,0]
[null,null,"ENCANADOR OU BOMBEIRO HIDRÁULICO COM ENCARGOS COMPLEMENTARES","H",{"$f":"ROUND(0.93*1.3,4)","v":1.2090000000000001},21.622,26.140998,null,0]
[null,null,"SOLDADOR COM ENCARGOS COMPLEMENTARES","H",{"$f":"ROUND(0.93*1.3,4)","v":1.2090000000000001},22.600499999999997,27.324004499999997,null,0]
[null,null,null,null,null,"","",null,0]
["SF-01317",{"$f":"INDEX(Orçamentária!A:B,MATCH(Composições!A4861,Orçamentária!A:A,0),2)","v":"Isolamento elastomérico para tubulações de ferro de 5”"},null,{"$f":"TRIM(INDEX(Orçamentária!D:D,MATCH(Composições!A4861,Orçamentária!A:A,0),1))","v":"m"},null,"","",null,0]
[null,null,null,null,null,"","",null,0]
[null,null,"isolamento elastomérico em formato de tubo ou coquilha de espessura M, próprio para tubulações de ferro de diâmetro nominal 5”. Ref.: AF/Armaflex M-48, K-Flex ST","m",1.0210999999999999,"","",{"$f":"SUM(G4863:G4865)","v":3.6972480000000005},0]
[null,null,"AUXILIAR DE ENCANADOR OU BOMBEIRO HIDRÁULICO COM ENCARGOS COMPLEMENTARES","H",{"$f":"5*0.064*0.3","v":9.6000000000000002E-2},16.891000000000002,1.6215360000000003,null,0]
[null,null,"ENCANADOR OU BOMBEIRO HIDRÁULICO COM ENCARGOS COMPLEMENTARES","H",{"$f":"5*0.064*0.3","v":9.6000000000000002E-2},21.622,2.0757120000000002,null,0]
[null,null,null,null,null,"","",null,0]
["SF-01318",{"$f":"INDEX(Orçamentária!A:B,MATCH(Composições!A4867,Orçamentária!A:A,0),2)","v":"Meia luva em aço carbono DN 15 (1/2\" NPS)"},null,{"$f":"TRIM(INDEX(Orçamentária!D:D,MATCH(Composições!A4867,Orçamentária!A:A,0),1))","v":"un"},null,"","",null,0]
[null,null,null,null,null,"","",null,0]
[null,null,"ELETRODO REVESTIDO AWS - E6013, DIAMETRO IGUAL A 2,50 MM","KG",8.9999999999999993E-3,16.311500000000002,0.1468035,{"$f":"SUM(G4869:G4873)","v":7.1137424999999999},0]
[null,null,"Meia luva em aço carbono, classe 3000 lbs, rosca BSP ou NPT, DN 15 (1/2\" NPS)","UN",1,"","",null,0]
[null,null,"AUXILIAR DE ENCANADOR OU BOMBEIRO HIDRÁULICO COM ENCARGOS COMPLEMENTARES","H",0.114,16.891000000000002,1.9255740000000003,null,0]
[null,null,"ENCANADOR OU BOMBEIRO HIDRÁULICO COM ENCARGOS COMPLEMENTARES","H",0.114,21.622,{"$f":"IF(ISNUMBER(F4872),E4872*F4872,\"\")","v":2.4649079999999999},null,0]
[null,null,"SOLDADOR COM ENCARGOS COMPLEMENTARES","H",0.114,22.600499999999997,2.5764569999999996,null,0]
[null,null,null,null,null,"","",null,0]
["SF-01319",{"$f":"INDEX(Orçamentária!A:B,MATCH(Composições!A4875,Orçamentária!A:A,0),2)","v":"Redução concêntrica em aço carbono para solda de topo DN 200 (8\" NPS) × DN 125 (5\" NPS)"},null,{"$f":"TRIM(INDEX(Orçamentária!D:D,MATCH(Composições!A4875,Orçamentária!A:A,0),1))","v":"un"},null,"","",null,0]
[null,null,null,null,null,"","",null,0]
[null,null,"ELETRODO REVESTIDO AWS - E6013, DIAMETRO IGUAL A 2,50 MM","KG",{"$f":"ROUND(0.089*1.3,4)","v":0.1157},16.311500000000002,1.8872405500000002,{"$f":"SUM(G4877:G4881)","v":51.14472155},0]
[null,null,"Redução concêntrica em aço carbono para solda de topo, SCH 40, diâmetro DN 200 (8\" NPS) × DN 125 (5\" NPS)","UN",1,"","",null,0]
[null,null,"AUXILIAR DE ENCANADOR OU BOMBEIRO HIDRÁULICO COM ENCARGOS COMPLEMENTARES","H",{"$f":"ROUND(0.62*1.3,4)","v":0.80600000000000005},16.891000000000002,13.614146000000002,null,0]
[null,null,"ENCANADOR OU BOMBEIRO HIDRÁULICO COM ENCARGOS COMPLEMENTARES","H",{"$f":"ROUND(0.62*1.3,4)","v":0.80600000000000005},21.622,17.427332,null,0]
[null,null,"SOLDADOR COM ENCARGOS COMPLEMENTARES","H",{"$f":"ROUND(0.62*1.3,4)","v":0.80600000000000005},22.600499999999997,18.216002999999997,null,0]
[null,null,null,null,null,"","",null,0]
["SF-01325",{"$f":"INDEX(Orçamentária!A:B,MATCH(Composições!A4883,Orçamentária!A:A,0),2)","v":"Tê em aço carbono para solda de topo DN 200 (8\" NPS)"},null,{"$f":"TRIM(INDEX(Orçamentária!D:D,MATCH(Composições!A4883,Orçamentária!A:A,0),1))","v":"un"},null,"","",null,0]
[null,null,null,null,null,"","",null,0]
[null,null,"ELETRODO REVESTIDO AWS - E6013, DIAMETRO IGUAL A 2,50 MM","KG",{"$f":"ROUND(0.133*1.3,4)","v":0.1729},16.311500000000002,2.8202583500000005,{"$f":"SUM(G4885:G4889)","v":79.248801449999988},0]
[null,null,"Tê em aço carbono para solda de topo, SCH 40, diâmetro DN 200 (8\" NPS)","UN",1,"","",null,0]
[null,null,"AUXILIAR DE ENCANADOR OU BOMBEIRO HIDRÁULICO COM ENCARGOS COMPLEMENTARES","H",{"$f":"ROUND(0.962*1.3,4)","v":1.2505999999999999},16.891000000000002,21.1238846,null,0]
[null,null,"ENCANADOR OU BOMBEIRO HIDRÁULICO COM ENCARGOS COMPLEMENTARES","H",{"$f":"ROUND(0.962*1.3,4)","v":1.2505999999999999},21.622,27.040473199999997,null,0]
[null,null,"SOLDADOR COM ENCARGOS COMPLEMENTARES","H",{"$f":"ROUND(0.962*1.3,4)","v":1.2505999999999999},22.600499999999997,28.264185299999994,null,0]
[null,null,null,null,null,"","",null,0]
["SF-01326",{"$f":"INDEX(Orçamentária!A:B,MATCH(Composições!A4891,Orçamentária!A:A,0),2)","v":"Tubo de aço-carbono preto DN 125 (5\" NPS)"},null,{"$f":"TRIM(INDEX(Orçamentária!D:D,MATCH(Composições!A4891,Orçamentária!A:A,0),1))","v":"m"},null,"","",null,0]
[null,null,null,null,null,"","",null,0]
[null,null,"ESCAVADEIRA HIDRÁULICA SOBRE ESTEIRAS, CAÇAMBA 0,80 M3, PESO OPERACIONAL 17 T, POTENCIA BRUTA 111 HP - CHP DIURNO. AF_06/2014","CHP",2.1100000000000001E-2,116.79299999999999,2.4643322999999997,{"$f":"SUM(G4893:G4899)","v":277.34646369999996},0]
[null,null,"ESCAVADEIRA HIDRÁULICA SOBRE ESTEIRAS, CAÇAMBA 0,80 M3, PESO OPERACIONAL 17 T, POTENCIA BRUTA 111 HP - CHI DIURNO. AF_06/2014","CHI",4.0300000000000002E-2,49.523499999999999,1.99579705,null,0]
[null,null,"ELETRODO REVESTIDO AWS - E7018, DIAMETRO IGUAL A 4,00 MM","KG",{"$f":"ROUND(0.1875*0.6,4)","v":0.1125},16.985999999999997,1.9109249999999998,null,0]
[null,null,"ASSENTADOR DE TUBOS COM ENCARGOS COMPLEMENTARES","H",6.5600000000000006E-2,17.251999999999999,1.1317311999999999,null,0]
[null,null,"SERVENTE COM ENCARGOS COMPLEMENTARES","H",6.5600000000000006E-2,16.311500000000002,1.0700344000000002,null,0]
[null,null,"SOLDADOR COM ENCARGOS COMPLEMENTARES","H",{"$f":"ROUND(0.4792*0.6,4)","v":0.28749999999999998},22.600499999999997,6.4976437499999982,null,0]
[null,null,"TUBO ACO CARBONO SEM COSTURA 5\", E= *6,55 MM, SCHEDULE 40, *21,75* KG/M","M",1,262.27599999999995,262.27599999999995,null,0]
[null,null,null,null,null,"","",null,0]
["SF-01327",{"$f":"INDEX(Orçamentária!A:B,MATCH(Composições!A4901,Orçamentária!A:A,0),2)","v":"Tubo de aço-carbono preto DN 200 (8\" NPS)"},null,{"$f":"TRIM(INDEX(Orçamentária!D:D,MATCH(Composições!A4901,Orçamentária!A:A,0),1))","v":"m"},null,"","",null,0]
[null,null,null,null,null,"","",null,0]
[null,null,"ESCAVADEIRA HIDRÁULICA SOBRE ESTEIRAS, CAÇAMBA 0,80 M3, PESO OPERACIONAL 17 T, POTENCIA BRUTA 111 HP - CHP DIURNO. AF_06/2014","CHP",2.1100000000000001E-2,116.79299999999999,2.4643322999999997,{"$f":"SUM(G4903:G4909)","v":462.40832664999999},0]
[null,null,"ESCAVADEIRA HIDRÁULICA SOBRE ESTEIRAS, CAÇAMBA 0,80 M3, PESO OPERACIONAL 17 T, POTENCIA BRUTA 111 HP - CHI DIURNO. AF_06/2014","CHI",4.0300000000000002E-2,49.523499999999999,{"$f":"IF(ISNUMBER(F4904),E4904*F4904,\"\")","v":1.99579705},null,0]
[null,null,"ELETRODO REVESTIDO AWS - E7018, DIAMETRO IGUAL A 4,00 MM","KG",{"$f":"ROUND(0.1875*0.8,4)","v":0.15},16.985999999999997,2.5478999999999994,null,0]
[null,null,"ASSENTADOR DE TUBOS COM ENCARGOS COMPLEMENTARES","H",6.5600000000000006E-2,17.251999999999999,1.1317311999999999,null,0]
[null,null,"SERVENTE COM ENCARGOS COMPLEMENTARES","H",6.5600000000000006E-2,16.311500000000002,1.0700344000000002,null,0]
[null,null,"SOLDADOR COM ENCARGOS COMPLEMENTARES","H",{"$f":"ROUND(0.4792*0.8,4)","v":0.38340000000000002},22.600499999999997,8.6650316999999983,null,0]
[null,null,"TUBO ACO CARBONO SEM COSTURA 8\", E= *8,18 MM, SCHEDULE 40, *42,55 KG/M","M",1,444.5335,444.5335,null,0]
[null,null,null,null,null,"","",null,0]
["SF-01328",{"$f":"INDEX(Orçamentária!A:B,MATCH(Composições!A4911,Orçamentária!A:A,0),2)","v":"Válvula de esfera em bronze 1/2”"},null,{"$f":"TRIM(INDEX(Orçamentária!D:D,MATCH(Composições!A4911,Orçamentária!A:A,0),1))","v":"un"},null,"","",null,0]
[null,null,null,null,null,"","",null,0]
[null,null,"FITA VEDA ROSCA EM ROLOS DE 18 MM X 50 M (L X C)","UN",9.4999999999999998E-3,12.188499999999999,0.11579075,{"$f":"SUM(G4913:G4916)","v":68.960609250000005},0]
[null,null,"VALVULA DE ESFERA BRUTA EM BRONZE, BITOLA 1/2 \" (REF 1552-B)","UN",1,39.016500000000001,39.016500000000001,null,0]
[null,null,"AUXILIAR DE ENCANADOR OU BOMBEIRO HIDRÁULICO COM ENCARGOS COMPLEMENTARES","H",0.77449999999999997,16.891000000000002,13.082079500000001,null,0]
[null,null,"ENCANADOR OU BOMBEIRO HIDRÁULICO COM ENCARGOS COMPLEMENTARES","H",0.77449999999999997,21.622,16.746238999999999,null,0]
[null,null,null,null,null,"","",null,0]
["SF-01329",{"$f":"INDEX(Orçamentária!A:B,MATCH(Composições!A4918,Orçamentária!A:A,0),2)","v":"Válvula gaveta com flange DN 125 (5\" NPS)"},null,{"$f":"TRIM(INDEX(Orçamentária!D:D,MATCH(Composições!A4918,Orçamentária!A:A,0),1))","v":"un"},null,"","",null,0]
[null,null,null,null,null,"","",null,0]
[null,null,"FITA VEDA ROSCA EM ROLOS DE 18 MM X 50 M (L X C)","UN",5.7000000000000002E-2,12.188499999999999,0.69474449999999999,{"$f":"SUM(G4920:G4923)","v":33.315255499999999},0]
[null,null,"Válvula gaveta com flange DN 125 (5\" NPS)","UN",1,"","",null,0]
[null,null,"AUXILIAR DE ENCANADOR OU BOMBEIRO HIDRÁULICO COM ENCARGOS COMPLEMENTARES","H",0.84699999999999998,16.891000000000002,14.306677000000001,null,0]
[null,null,"ENCANADOR OU BOMBEIRO HIDRÁULICO COM ENCARGOS COMPLEMENTARES","H",0.84699999999999998,21.622,18.313834,null,0]
[null,null,null,null,null,"","",null,0]
["SF-01331",{"$f":"INDEX(Orçamentária!A:B,MATCH(Composições!A4925,Orçamentária!A:A,0),2)","v":"Cabo de fibra óptica monomodo 12 fibras"},null,{"$f":"TRIM(INDEX(Orçamentária!D:D,MATCH(Composições!A4925,Orçamentária!A:A,0),1))","v":"m"},null,"","",null,4500]
[null,null,null,null,null,"","",null,4500]
[null,null,"Cabo constituído por 12 fibras ópticas do tipo monomodo (9/125μm)","m",1.05,9.69,10.1745,{"$f":"SUM(G4927:G4929)","v":12.9924774},4500]
[null,null,"AUXILIAR DE ELETRICISTA COM ENCARGOS COMPLEMENTARES","H",7.1099999999999997E-2,17.366,1.2347226,null,4500]
[null,null,"ELETRICISTA COM ENCARGOS COMPLEMENTARES","H",7.1099999999999997E-2,22.268000000000001,1.5832548,null,4500]
[null,null,null,null,null,"","",null,4500]
["SF-01332",{"$f":"INDEX(Orçamentária!A:B,MATCH(Composições!A4931,Orçamentária!A:A,0),2)","v":"Cabo de fibra óptica monomodo 144 fibras"},null,{"$f":"TRIM(INDEX(Orçamentária!D:D,MATCH(Composições!A4931,Orçamentária!A:A,0),1))","v":"m"},null,"","",null,4800]
[null,null,null,null,null,"","",null,4800]
[null,null,"Cabo constituído por 144 fibras ópticas do tipo monomodo (9/125μm)","m",1.05,47.29,49.654499999999999,{"$f":"SUM(G4933:G4935)","v":55.155699199999994},4800]
[null,null,"AUXILIAR DE ELETRICISTA COM ENCARGOS COMPLEMENTARES","H",0.13880000000000001,17.366,2.4104008000000001,null,4800]
[null,null,"ELETRICISTA COM ENCARGOS COMPLEMENTARES","H",0.13880000000000001,22.268000000000001,3.0907984000000002,null,4800]
[null,null,null,null,null,"",{"$f":"IF(ISNUMBER(F4936),E4936*F4936,\"\")","v":""},null,4800]
["SF-01333",{"$f":"INDEX(Orçamentária!A:B,MATCH(Composições!A4937,Orçamentária!A:A,0),2)","v":"Caixa de passagem em alumínio 300x300x120mm"},null,{"$f":"TRIM(INDEX(Orçamentária!D:D,MATCH(Composições!A4937,Orçamentária!A:A,0),1))","v":"un"},null,"","",null,14]
[null,null,null,null,null,"","",null,14]
[null,null,"Eletricista com encargos complementares","h",0.34599999999999997,22.268000000000001,7.7047279999999994,{"$f":"SUM(G4939:G4941)","v":52.602506999999996},14]
[null,null,"Servente com Encargos Complementares","h",0.34599999999999997,16.311500000000002,5.6437790000000003,null,14]
[null,null,"CAIXA DE PASSAGEM METALICA DE SOBREPOR COM TAMPA PARAFUSADA, DIMENSOES 30 X 30 X 10 CM","un",1,39.253999999999998,39.253999999999998,null,14]
[null,null,null,null,null,"","",null,14]
["SF-01334",{"$f":"INDEX(Orçamentária!A:B,MATCH(Composições!A4943,Orçamentária!A:A,0),2)","v":"Caixa de Passagem Subterrânea 1600x2000mm"},null,{"$f":"TRIM(INDEX(Orçamentária!D:D,MATCH(Composições!A4943,Orçamentária!A:A,0),1))","v":"un"},null,"","",null,27]
[null,null,null,null,null,"","",null,27]
[null,null,"ACO CA-50, 6,3 MM, VERGALHAO","KG",{"$f":"ROUND(22.81*1.3,4)","v":29.652999999999999},5.8425000000000002,173.24765249999999,{"$f":"SUM(G4945:G4956)","v":1568.9920207759606},27]
[null,null,"ARAME RECOZIDO 16 BWG, D = 1,65 MM (0,016 KG/M) OU 18 BWG, D = 1,25 MM (0,01 KG/M)","KG",{"$f":"ROUND(0.684*1.3,4)","v":0.88919999999999999},14.154999999999999,12.586625999999999,null,27]
[null,null,"ALVENARIA DE VEDAÇÃO DE BLOCOS VAZADOS DE CONCRETO DE 9X19X39CM (ESPESSURA 9CM) DE PAREDES COM ÁREA LÍQUIDA MENOR QUE 6M² SEM VÃOS E ARGAMASSA DE ASSENTAMENTO COM PREPARO EM BETONEIRA. AF_06/2014","M2",{"$f":"ROUND(7.02*1.3,4)","v":9.1259999999999994},50.421593645400002,460.14746360792037,null,27]
[null,null,"EMBOÇO, PARA RECEBIMENTO DE CERÂMICA, EM ARGAMASSA TRAÇO 1:2:8, PREPARO MECÂNICO COM BETONEIRA 400L, APLICADO MANUALMENTE EM FACES INTERNAS DE PAREDES, PARA AMBIENTE COM ÁREA MENOR QUE 5M2, ESPESSURA DE 10MM, COM EXECUÇÃO DE TALISCAS. AF_06/2014","M2",{"$f":"ROUND(6.5*1.3,4)","v":8.4499999999999993},22.394811861025001,189.23616022566125,null,27]
[null,null,"CHAPISCO APLICADO EM ALVENARIAS E ESTRUTURAS DE CONCRETO INTERNAS, COM COLHER DE PEDREIRO.  ARGAMASSA TRAÇO 1:3 COM PREPARO EM BETONEIRA 400L. AF_06/2014","M2",{"$f":"ROUND(6.5*1.3,4)","v":8.4499999999999993},3.3669497481199997,28.450725371613995,null,27]
[null,null,"ARMADOR COM ENCARGOS COMPLEMENTARES","H",{"$f":"ROUND(0.9*1.3,4)","v":1.17},21.973499999999998,25.708994999999994,null,27]
[null,null,"PEDREIRO COM ENCARGOS COMPLEMENTARES","H",{"$f":"ROUND(5.62*1.3,4)","v":7.306},22.087499999999999,161.371275,null,27]
[null,null,"SERVENTE COM ENCARGOS COMPLEMENTARES","H",{"$f":"ROUND(5.62*1.3,4)","v":7.306},16.311500000000002,119.17181900000001,null,27]
[null,null,"MONTAGEM E DESMONTAGEM DE FÔRMA DE PILARES RETANGULARES E ESTRUTURAS SIMILARES COM ÁREA MÉDIA DAS SEÇÕES MAIOR QUE 0,25 M², PÉ-DIREITO SIMPLES, EM MADEIRA SERRADA, 2 UTILIZAÇÕES. AF_12/2015","M2",{"$f":"ROUND(0.47*1.3,4)","v":0.61099999999999999},131.06818668500003,80.082662064535015,null,27]
[null,null,"CONCRETO MAGRO PARA LASTRO, TRAÇO 1:4,5:4,5 (CIMENTO/ AREIA MÉDIA/ BRITA 1)  - PREPARO MECÂNICO COM BETONEIRA 400 L. AF_07/2016","M3",{"$f":"ROUND(0.218*1.3,4)","v":0.28339999999999999},347.13778060925,98.378847024661439,null,27]
[null,null,"CONCRETO FCK = 15MPA, TRAÇO 1:3,4:3,5 (CIMENTO/ AREIA MÉDIA/ BRITA 1)  - PREPARO MECÂNICO COM BETONEIRA 600 L. AF_07/2016","M3",{"$f":"ROUND(0.169*1.3,4)","v":0.21970000000000001},366.01423070764997,80.413326486470694,null,27]
[null,null,"CONCRETO FCK = 20MPA, TRAÇO 1:2,7:3 (CIMENTO/ AREIA MÉDIA/ BRITA 1)  - PREPARO MECÂNICO COM BETONEIRA 600 L. AF_07/2016","M3",{"$f":"ROUND(0.2808*1.3,4)","v":0.36499999999999999},384.09991368520002,140.196468495098,null,27]
[null,null,null,null,null,"","",null,27]
["SF-01335",{"$f":"INDEX(Orçamentária!A:B,MATCH(Composições!A4958,Orçamentária!A:A,0),2)","v":"Projeto Executivo de Rede de Telecomunicações Backbone"},null,{"$f":"TRIM(INDEX(Orçamentária!D:D,MATCH(Composições!A4958,Orçamentária!A:A,0),1))","v":"un"},null,"","",null,1]
[null,null,null,null,null,"","",null,1]
[null,null,"Engenheiro Civil Pleno com encargos complementares","h",40,95.123499999999993,3804.9399999999996,{"$f":"SUM(G4960:G4964)","v":5017.9499999999989},1]
[null,null,"DESENHISTA PROJETISTA COM ENCARGOS COMPLEMENTARES","h",{"$f":"E4960/2","v":20},23.997,479.94,null,1]
[null,null,"TOPOGRAFO COM ENCARGOS COMPLEMENTARES","h",20,17.251999999999999,345.03999999999996,null,1]
[null,null,"AUXILIAR DE TOPÓGRAFO COM ENCARGOS COMPLEMENTARES","h",20,7.7044999999999995,154.08999999999997,null,1]
[null,null,"Anotação de Responsabilidade Técnica","un",1,233.94,233.94,null,1]
[null,null,null,null,null,"","",null,1]
["SF-01336",{"$f":"INDEX(Orçamentária!A:B,MATCH(Composições!A4966,Orçamentária!A:A,0),2)","v":"Eletroduto PEAD 2”"},null,{"$f":"TRIM(INDEX(Orçamentária!D:D,MATCH(Composições!A4966,Orçamentária!A:A,0),1))","v":"m"},null,"","",null,6300]
[null,null,null,null,null,"","",null,6300]
[null,null,"ELETRODUTO/DUTO PEAD FLEXIVEL PAREDE SIMPLES, CORRUGACAO HELICOIDAL, COR PRETA, SEM ROSCA, DE 2\",  PARA CABEAMENTO SUBTERRANEO (NBR 15715)","M",1.1000000000000001,5.2249999999999996,{"$f":"IF(ISNUMBER(F4968),E4968*F4968,\"\")","v":5.7475000000000005},{"$f":"SUM(G4968:G4970)","v":9.9090699999999998},6300]
[null,null,"AUXILIAR DE ELETRICISTA COM ENCARGOS COMPLEMENTARES","H",0.105,17.366,1.8234299999999999,null,6300]
[null,null,"ELETRICISTA COM ENCARGOS COMPLEMENTARES","H",0.105,22.268000000000001,2.3381400000000001,null,6300]
[null,null,null,null,null,"","",null,6300]
["SF-01339",{"$f":"INDEX(Orçamentária!A:B,MATCH(Composições!A4972,Orçamentária!A:A,0),2)","v":"Tampa em Ferro Fundido - Circular DN-600 mm Classe 400"},null,{"$f":"TRIM(INDEX(Orçamentária!D:D,MATCH(Composições!A4972,Orçamentária!A:A,0),1))","v":"un"},null,"","",null,27]
[null,null,null,null,null,"","",null,27]
[null,null,"TAMPAO FOFO ARTICULADO, CLASSE D400 CARGA MAX 40 T, REDONDO TAMPA *600 MM, REDE PLUVIAL/ESGOTO","UN",1,479.23699999999997,479.23699999999997,{"$f":"SUM(G4974:G4977)","v":538.56904412927145},27]
[null,null,"ARGAMASSA TRAÇO 1:4 (EM VOLUME DE CIMENTO E AREIA GROSSA ÚMIDA) PARA CHAPISCO CONVENCIONAL, PREPARO MECÂNICO COM BETONEIRA 400 L. AF_08/2019","M3",4.4999999999999997E-3,385.232028727,1.7335441292714999,null,27]
[null,null,"PEDREIRO COM ENCARGOS COMPLEMENTARES","H",1.5,22.087499999999999,33.131249999999994,null,27]
[null,null,"SERVENTE COM ENCARGOS COMPLEMENTARES","H",1.5,16.311500000000002,24.467250000000003,null,27]
[null,null,null,null,null,"","",null,27]

{"sheet":"Comp.Aux1","index":1,"n_rows":426,"n_cols":8,"rows_kept":426,"cut":false,"hidden":false,"merged":[[309,0,322,0],[323,0,336,0],[337,0,348,0],[349,0,355,0],[356,0,362,0],[214,0,218,0],[219,0,223,0],[238,0,251,0],[252,0,265,0],[266,0,275,0],[197,0,201,0],[202,0,205,0],[206,0,213,0],[153,0,166,0],[167,0,178,0],[105,0,110,0],[111,0,116,0],[117,0,122,0],[123,0,128,0],[191,0,196,0],[179,0,184,0],[185,0,190,0],[129,0,134,0],[135,0,140,0],[141,0,146,0],[147,0,152,0],[60,0,67,0],[68,0,77,0],[78,0,84,0],[85,0,94,0],[95,0,104,0],[284,0,294,0],[295,0,302,0],[303,0,308,0],[224,0,237,0],[276,0,283,0],[47,0,59,0],[5,0,14,0],[15,0,19,0],[20,0,25,0],[26,0,36,0],[37,0,46,0],[414,0,425,0],[402,0,413,0],[363,0,370,0],[371,0,376,0],[377,0,382,0],[383,0,391,0],[392,0,401,0]]}
[{"$f":"Composições!A1","v":"Execução de infraestrutura e lançamento de fibra óptica para interligação entre os datacenters da Câmara dos Deputados e Senado Federal"}]
["COMPOSIÇÕES DE CUSTO UNITÁRIO AUXILIARES DE 1º NÍVEL"]
[{"$f":"Composições!A3","v":"Data: dezembro de 2020"}]
[]
["DESCRIÇÃO","DISCRIMINAÇÃO DA COMPOSIÇÃO","UNIDADE","COEFICIENTE","CUSTO UNITÁRIO","CUSTO TOTAL ","TOTAL","QTD"]
["ARGAMASSA TRAÇO 1:3 (EM VOLUME DE CIMENTO E AREIA MÉDIA ÚMIDA), PREPARO MANUAL. AF_08/2019","","M3",null,"",{"$f":"IF(ISNUMBER(E6),E6*$D6,\"\")","v":""},null,0]
[null,"",null,null,"","",null,0]
[null,"Areia media - posto jazida/fornecedor (retirado na jazida, sem transporte)","M3",1.07,93.8125,100.37937500000001,{"$f":"SUM(F8:F12)","v":495.02793591950001},0]
[null,"Cimento Portland composto CP II-32","KG",482.96,0.44649999999999995,215.64163999999997,null,0]
[null,"Servente com encargos complementares","H",8.57,16.311500000000002,139.78955500000004,null,0]
[null,"CARGA, MANOBRA E DESCARGA DE SOLOS E MATERIAIS GRANULARES EM CAMINHÃO BASCULANTE 6 M³ - CARGA COM PÁ CARREGADEIRA (CAÇAMBA DE 1,7 A 2,8 M³ / 128 HP) E DESCARGA LIVRE (UNIDADE: M3). AF_07/2020","M3",{"$f":"ROUND(1*D8,4)","v":1.07},4.9078548499999988,5.2514046894999993,null,0]
[null,"TRANSPORTE COM CAMINHÃO BASCULANTE DE 6 M³, EM VIA URBANA PAVIMENTADA, DMT ATÉ 30 KM (UNIDADE: M3XKM). AF_07/2020","M3xKM",{"$f":"ROUND(D8*20,4)","v":21.4},1.5871944499999999,33.965961229999998,null,0]
[null,null,null,null,"","",null,0]
[null,"Obs.: Considerando fornecedor de areia a 20 km do Senado Federal.",null,null,"","",null,0]
[null,"",null,null,"","",null,0]
["Fixação utilizando parafuso e bucha de nylon, somente mão de obra. af_10/2016","","UN",null,"","",null,0]
[null,"",null,null,"","",null,0]
[null,"Auxiliar de encanador ou bombeiro hidráulico com encargos complementares","H",2.2700000000000001E-2,16.891000000000002,0.38342570000000009,{"$f":"SUM(F18:F19)","v":3.8883519},0]
[null,"Encanador ou bombeiro hidráulico com encargos complementares","H",0.16209999999999999,21.622,3.5049261999999999,null,0]
[null,"",null,null,"","",null,0]
["Fixação de tubos horizontais de PVC, CPVC ou cobre diâmetros menores ou iguais a 40 mm ou eletrocalhas até 150mm de largura, com abraçadeira metálica rígida tipo d 1/2\u0094, fixada em perfilado em laje. af_05/2015","","M",null,"","",null,0]
[null,"",null,null,"","",null,0]
[null,"Abracadeira em aco para amarracao de eletrodutos, tipo D, com 1/2\" e parafuso de fixacao","UN",0.65,1.0355000000000001,0.67307500000000009,{"$f":"SUM(F23:F25)","v":2.3339030000000003},0]
[null,"Auxiliar de encanador ou bombeiro hidráulico com encargos complementares","H",0.01,16.891000000000002,0.16891000000000003,null,0]
[null,"Encanador ou bombeiro hidráulico com encargos complementares","H",6.9000000000000006E-2,21.622,1.4919180000000001,null,0]
[null,"",null,null,"","",null,0]
["FABRICAÇÃO DE FÔRMA PARA VIGAS, EM CHAPA DE MADEIRA COMPENSADA RESINADA, E = 17 MM. AF_09/2020","","M2",null,"","",null,0]
[null,"",null,null,"","",null,0]
[null,"Chapa de madeira compensada resinada para forma de concreto, de *2,2 x 1,1* m, e = 17 mm","M2",1.1459999999999999,28.385999999999999,32.530355999999998,{"$f":"SUM(F29:F36)","v":76.607049999999987},0]
[null,"PONTALETE DE MADEIRA NAO APARELHADA *7,5 X 7,5* CM (3 X 3 \") PINUS, MISTA OU EQUIVALENTE DA REGIAO","M",0.16600000000000001,4.9209999999999994,0.81688599999999989,null,0]
[null,"SARRAFO DE MADEIRA NAO APARELHADA *2,5 X 7,5* CM (1 X 3 \") PINUS, MISTA OU EQUIVALENTE DA REGIAO","M",6.952,1.7195,11.953964000000001,null,0]
[null,"Prego de aco polido com cabeca 17 x 21 (2 x 11)","KG",0.159,11.589999999999998,1.8428099999999996,null,0]
[null,"Ajudante de carpinteiro com encargos complementares","H",0.20200000000000001,18.468,3.7305360000000003,null,0]
[null,"Carpinteiro de formas com encargos complementares","H",1.012,21.878499999999999,22.141041999999999,null,0]
[null,"Serra circular de bancada com motor elétrico potência de 5HP, com coifa para disco 10\" - CHP diurno. af_08/2015","CHP",0.05,19.151999999999997,0.9575999999999999,null,0]
[null,"Serra circular de bancada com motor elétrico potência de 5HP, com coifa para disco 10\" - CHI diurno. af_08/2015","CHI",0.152,17.327999999999999,2.6338559999999998,null,0]
[null,"",null,null,"","",null,0]
["FABRICAÇÃO DE ESCORAS DE VIGA DO TIPO GARFO, EM MADEIRA. AF_09/2020","","M",null,"","",null,0]
[null,"",null,null,"","",null,0]
[null,"CHAPA DE MADEIRA COMPENSADA PLASTIFICADA PARA FORMA DE CONCRETO, DE 2,20 x 1,10 M, E = 18 MM","M2",0.13600000000000001,36.726999999999997,4.994872,{"$f":"SUM(F40:F46)","v":21.366972499999999},0]
[null,"PONTALETE DE MADEIRA NAO APARELHADA *7,5 X 7,5* CM (3 X 3 \") PINUS, MISTA OU EQUIVALENTE DA REGIAO","M",2.3420000000000001,4.9209999999999994,11.524982,null,0]
[null,"PREGO DE ACO POLIDO COM CABECA 17 X 21 (2 X 11)","KG",1.2E-2,11.589999999999998,0.13907999999999998,null,0]
[null,"AJUDANTE DE CARPINTEIRO COM ENCARGOS COMPLEMENTARES","H",3.2000000000000001E-2,18.468,0.59097600000000006,null,0]
[null,"CARPINTEIRO DE FORMAS COM ENCARGOS COMPLEMENTARES","H",0.161,21.878499999999999,3.5224384999999998,null,0]
[null,"SERRA CIRCULAR DE BANCADA COM MOTOR ELÉTRICO POTÊNCIA DE 5HP, COM COIFA PARA DISCO 10\" - CHP DIURNO. AF_08/2015","CHP",2.1999999999999999E-2,19.151999999999997,0.42134399999999994,null,0]
[null,"SERRA CIRCULAR DE BANCADA COM MOTOR ELÉTRICO POTÊNCIA DE 5HP, COM COIFA PARA DISCO 10\" - CHI DIURNO. AF_08/2015","CHI",0.01,17.327999999999999,0.17327999999999999,null,0]
[null,"",null,null,"","",null,0]
["ARGAMASSA TRAÇO 1:2:8 (EM VOLUME DE CIMENTO, CAL E AREIA MÉDIA ÚMIDA) PARA EMBOÇO/MASSA ÚNICA/ASSENTAMENTO DE ALVENARIA DE VEDAÇÃO, PREPARO MECÂNICO COM BETONEIRA 400 L. AF_08/2019","","M3",null,"","",null,0]
[null,"",null,null,"","",null,0]
[null,"Areia media - posto jazida/fornecedor (retirado na jazida, sem transporte)","M3",1.1599999999999999,93.8125,108.82249999999999,{"$f":"SUM(F50:F57)","v":447.26371286600005},0]
[null,"Cal hidratada CH-I para argamassas","KG",174.1,0.76,132.316,null,0]
[null,"Cimento Portland composto CP II-32","KG",195.86,0.44649999999999995,87.451489999999993,null,0]
[null,"Operador de betoneira estacionária/misturador com encargos complementares","H",4.5,16.5015,74.256749999999997,null,0]
[null,"Betoneira capacidade nominal de 400 L, capacidade de mistura 280 L, motor elétrico trifásico potência de 2 cv, sem carregador - CHP diurno. af_10/2014","CHP",1.05,1.0924999999999998,1.147125,null,0]
[null,"Betoneira capacidade nominal de 400 L, capacidade de mistura 280 L, motor elétrico trifásico potência de 2 cv, sem carregador - CHI diurno. af_10/2014","CHI",3.45,0.2185,0.75382500000000008,null,0]
[null,"CARGA, MANOBRA E DESCARGA DE SOLOS E MATERIAIS GRANULARES EM CAMINHÃO BASCULANTE 6 M³ - CARGA COM PÁ CARREGADEIRA (CAÇAMBA DE 1,7 A 2,8 M³ / 128 HP) E DESCARGA LIVRE (UNIDADE: M3). AF_07/2020","M3",{"$f":"ROUND(1*D50,4)","v":1.1599999999999999},4.9078548499999988,5.6931116259999985,null,0]
[null,"TRANSPORTE COM CAMINHÃO BASCULANTE DE 6 M³, EM VIA URBANA PAVIMENTADA, DMT ATÉ 30 KM (UNIDADE: M3XKM). AF_07/2020","M3xKM",{"$f":"ROUND(D50*20,4)","v":23.2},1.5871944499999999,36.822911239999996,null,0]
[null,null,null,null,"","",null,0]
[null,"Obs.: Considerando fornecedor de areia a 20 km do Senado Federal.",null,null,"","",null,0]
[null,"",null,null,"","",null,0]
["Contrapiso em argamassa traço 1:4 (cimento e areia), preparo mecânico com betoneira 400 l, aplicado em áreas secas sobre laje, aderido, espessura 3cm. AF_06/2014","","M2",null,"","",null,0]
[null,"",null,null,"","",null,0]
[null,"Cimento Portland composto CP II-32","KG",0.5,0.44649999999999995,0.22324999999999998,{"$f":"SUM(F63:F67)","v":35.18423302675},0]
[null,"Aditivo adesivo liquido para argamassas de revestimentos cimenticios","L",0.435,11.371499999999999,4.9466025,null,0]
[null,"ARGAMASSA TRAÇO 1:4 (EM VOLUME DE CIMENTO E AREIA MÉDIA ÚMIDA) PARA CONTRAPISO, PREPARO MECÂNICO COM BETONEIRA 400 L. AF_08/2019","M3",4.3099999999999999E-2,464.82849250000004,20.034108026750001,null,0]
[null,"Pedreiro com encargos complementares","H",0.33,22.087499999999999,7.288875,null,0]
[null,"Servente com encargos complementares","H",0.16500000000000001,16.311500000000002,2.6913975000000003,null,0]
[null,"",null,null,"","",null,0]
["ARGAMASSA TRAÇO 1:3 (EM VOLUME DE CIMENTO E AREIA GROSSA ÚMIDA) PARA CHAPISCO CONVENCIONAL, PREPARO MANUAL. AF_08/2019","","M3",null,"","",null,0]
[null,"",null,null,"",{"$f":"IF(ISNUMBER(E70),E70*$D70,\"\")","v":""},null,0]
[null,"Areia grossa - posto jazida/fornecedor (retirado na jazida, sem transporte)","M3",0.94,113.6675,106.84744999999999,{"$f":"SUM(F71:F75)","v":509.75711421900002},0]
[null,"Cimento Portland composto CP II-32","KG",422.63,0.44649999999999995,188.70429499999997,null,0]
[null,"Servente com encargos complementares","H",11.02,16.311500000000002,179.75273000000001,null,0]
[null,"CARGA, MANOBRA E DESCARGA DE SOLOS E MATERIAIS GRANULARES EM CAMINHÃO BASCULANTE 6 M³ - CARGA COM PÁ CARREGADEIRA (CAÇAMBA DE 1,7 A 2,8 M³ / 128 HP) E DESCARGA LIVRE (UNIDADE: M3). AF_07/2020","M3",{"$f":"ROUND(1*D71,4)","v":0.94},4.9078548499999988,4.613383558999999,null,0]
[null,"TRANSPORTE COM CAMINHÃO BASCULANTE DE 6 M³, EM VIA URBANA PAVIMENTADA, DMT ATÉ 30 KM (UNIDADE: M3XKM). AF_07/2020","M3xKM",{"$f":"ROUND(D71*20,4)","v":18.8},1.5871944499999999,29.839255659999999,null,0]
[null,null,null,null,"","",null,0]
[null,"Obs.: Considerando fornecedor de areia a 20 km do Senado Federal.",null,null,"","",null,0]
[null,"",null,null,"","",null,0]
["ARGAMASSA INDUSTRIALIZADA PARA CHAPISCO COLANTE, PREPARO COM MISTURADOR DE EIXO HORIZONTAL DE 300 KG. AF_08/2019","","M3",null,"","",null,0]
[null,"",null,null,"","",null,0]
[null,"Argamassa industrializada para chapisco colante","KG",1981.23,0.874,1731.59502,{"$f":"SUM(F81:F84)","v":1814.8611900000001},0]
[null,"Operador de betoneira estacionária/misturador com encargos complementares","H",4.72,16.5015,77.887079999999997,null,0]
[null,"Misturador de argamassa, eixo horizontal, capacidade de mistura 300 kg, motor elétrico potência 5 cv - CHP diurno. af_06/2014","CHP",1.1000000000000001,2.9830000000000001,3.2813000000000003,null,0]
[null,"Misturador de argamassa, eixo horizontal, capacidade de mistura 300 kg, motor elétrico potência 5 cv - CHI diurno. af_06/2014","CHI",3.62,0.57950000000000002,2.0977900000000003,null,0]
[null,"",null,null,"","",null,0]
["ARGAMASSA TRAÇO 1:4 (EM VOLUME DE CIMENTO E AREIA MÉDIA ÚMIDA) PARA CONTRAPISO, PREPARO MANUAL. AF_08/2019","","M3",null,"","",null,0]
[null,"",null,null,"","",null,0]
[null,"Areia media - posto jazida/fornecedor (retirado na jazida, sem transporte)","M3",1.35,93.8125,126.64687500000001,{"$f":"SUM(F88:F92)","v":558.84942919749994},0]
[null,"Cimento Portland composto CP II-32","KG",454.58,0.44649999999999995,202.96996999999996,null,0]
[null,"Servente com encargos complementares","H",11.02,16.311500000000002,179.75273000000001,null,0]
[null,"CARGA, MANOBRA E DESCARGA DE SOLOS E MATERIAIS GRANULARES EM CAMINHÃO BASCULANTE 6 M³ - CARGA COM PÁ CARREGADEIRA (CAÇAMBA DE 1,7 A 2,8 M³ / 128 HP) E DESCARGA LIVRE (UNIDADE: M3). AF_07/2020","M3",{"$f":"ROUND(1*D88,4)","v":1.35},4.9078548499999988,6.6256040474999987,null,0]
[null,"TRANSPORTE COM CAMINHÃO BASCULANTE DE 6 M³, EM VIA URBANA PAVIMENTADA, DMT ATÉ 30 KM (UNIDADE: M3XKM). AF_07/2020","M3xKM",{"$f":"ROUND(D88*20,4)","v":27},1.5871944499999999,42.854250149999999,null,0]
[null,null,null,null,"","",null,0]
[null,"Obs.: Considerando fornecedor de areia a 20 km do Senado Federal.",null,null,"","",null,0]
[null,"",null,null,"","",null,0]
["ARGAMASSA TRAÇO 1:4 (EM VOLUME DE CIMENTO E AREIA MÉDIA ÚMIDA), PREPARO MANUAL. AF_08/2019","","M3",null,"","",null,0]
[null,"",null,null,"","",null,0]
[null,"Areia media - posto jazida/fornecedor (retirado na jazida, sem transporte)","M3",1.1499999999999999,93.8125,107.88437499999999,{"$f":"SUM(F98:F102)","v":459.18582542750005},0]
[null,"Cimento Portland composto CP II-32","KG",389.54,0.44649999999999995,173.92961,null,0]
[null,"Servente com encargos complementares","H",8.2899999999999991,16.311500000000002,135.22233500000002,null,0]
[null,"CARGA, MANOBRA E DESCARGA DE SOLOS E MATERIAIS GRANULARES EM CAMINHÃO BASCULANTE 6 M³ - CARGA COM PÁ CARREGADEIRA (CAÇAMBA DE 1,7 A 2,8 M³ / 128 HP) E DESCARGA LIVRE (UNIDADE: M3). AF_07/2020","M3",{"$f":"ROUND(1*D98,4)","v":1.1499999999999999},4.9078548499999988,5.6440330774999978,null,0]
[null,"TRANSPORTE COM CAMINHÃO BASCULANTE DE 6 M³, EM VIA URBANA PAVIMENTADA, DMT ATÉ 30 KM (UNIDADE: M3XKM). AF_07/2020","M3xKM",{"$f":"ROUND(D98*20,4)","v":23},1.5871944499999999,36.505472349999998,null,0]
[null,null,null,null,"","",null,0]
[null,"Obs.: Considerando fornecedor de areia a 20 km do Senado Federal.",null,null,"","",null,0]
[null,"",null,null,"","",null,0]
["Fixação de tubos verticais de PPR diâmetros menores ou iguais a 40 mm com abraçadeira metálica rígida tipo D 1/2\", fixada em perfilado em alvenaria. af_05/2015","","M",null,"","",null,0]
[null,"",null,null,"","",null,0]
[null,"Abracadeira em aco para amarracao de eletrodutos, tipo D, com 1/2\" e parafuso de fixacao","UN",0.33300000000000002,1.0355000000000001,0.34482150000000006,{"$f":"SUM(F108:F110)","v":1.1860465000000002},0]
[null,"Auxiliar de encanador ou bombeiro hidráulico com encargos complementares","H",5.0000000000000001E-3,16.891000000000002,8.4455000000000016E-2,null,0]
[null,"Encanador ou bombeiro hidráulico com encargos complementares","H",3.5000000000000003E-2,21.622,0.75677000000000005,null,0]
[null,"",null,null,"","",null,0]
["Luva de emenda para eletroduto, aço galvanizado, DN 20 mm (3/4''), aparente, instalada em parede - fornecimento e instalação. af_11/2016_p","","UN",null,"","",null,0]
[null,"",null,null,"","",null,0]
[null,"Luva para eletroduto, em aco galvanizado eletrolitico, diametro de 20 mm (3/4\")","UN",1,1.3584999999999998,1.3584999999999998,{"$f":"SUM(F114:F116)","v":8.5996318000000009},0]
[null,"Auxiliar de eletricista com encargos complementares","H",0.1827,17.366,3.1727682000000001,null,0]
[null,"Eletricista com encargos complementares","H",0.1827,22.268000000000001,4.0683636000000005,null,0]
[null,"",null,null,"","",null,0]
["Luva de emenda para eletroduto, aço galvanizado, DN 25 mm (1''), aparente, instalada em parede - fornecimento e instalação. af_11/2016_p","","UN",null,"","",null,0]
[null,"",null,null,"","",null,0]
[null,"Luva para eletroduto, em aco galvanizado eletrolitico, diametro de 25 mm (1\")","UN",1,1.577,1.577,{"$f":"SUM(F120:F122)","v":9.6345922000000002},0]
[null,"Auxiliar de eletricista com encargos complementares","H",0.20330000000000001,17.366,3.5305078000000001,null,0]
[null,"Eletricista com encargos complementares","H",0.20330000000000001,22.268000000000001,4.5270844000000006,null,0]
[null,"",null,null,"","",null,0]
["Luva de emenda para eletroduto, aço galvanizado, DN 32 mm (1 1/4''), aparente, instalada em parede - fornecimento e instalação. af_11/2016_p","","UN",null,"","",null,0]
[null,"",null,null,"","",null,0]
[null,"Luva para eletroduto, em aco galvanizado eletrolitico, diametro de 32 mm (1 1/4\")","UN",1,2.8025000000000002,2.8025000000000002,{"$f":"SUM(F126:F128)","v":12.0055148},0]
[null,"Auxiliar de eletricista com encargos complementares","H",0.23219999999999999,17.366,4.0323851999999993,null,0]
[null,"Eletricista com encargos complementares","H",0.23219999999999999,22.268000000000001,5.1706295999999998,null,0]
[null,"",null,null,"","",null,0]
["Luva de emenda para eletroduto, aço galvanizado, DN 40 mm (1 1/2''), aparente, instalada em parede - fornecimento e instalação. af_11/2016_p","","UN",null,"","",null,0]
[null,"",null,null,"","",null,0]
[null,"Luva para eletroduto, em aco galvanizado eletrolitico, diametro de 40 mm (1 1/2\")","UN",1,4.0564999999999998,4.0564999999999998,{"$f":"SUM(F132:F134)","v":14.563473399999999},0]
[null,"Auxiliar de eletricista com encargos complementares","H",0.2651,17.366,4.6037265999999999,null,0]
[null,"Eletricista com encargos complementares","H",0.2651,22.268000000000001,{"$f":"IF(ISNUMBER(E134),E134*$D134,\"\")","v":5.9032467999999998},null,0]
[null,"",null,null,"","",null,0]
["Luva de emenda para eletroduto, aço galvanizado, DN 50 mm (2''), aparente, instalada em parede - fornecimento e instalação. af_11/2016_p","","UN",null,"","",null,143.98560000000001]
[null,"",null,null,"","",null,143.98560000000001]
[null,"Luva para eletroduto, em aco galvanizado eletrolitico, diametro de 50 mm (2\")","UN",1,5.6619999999999999,5.6619999999999999,{"$f":"SUM(F138:F140)","v":16.168973399999999},143.98560000000001]
[null,"Auxiliar de eletricista com encargos complementares","H",0.2651,17.366,4.6037265999999999,null,143.98560000000001]
[null,"Eletricista com encargos complementares","H",0.2651,22.268000000000001,5.9032467999999998,null,143.98560000000001]
[null,"",null,null,"","",null,143.98560000000001]
["Fixação de tubos verticais de PPR diâmetros maiores que 40 mm e menores ou iguais a 75 mm com abraçadeira metálica rígida tipo D 1 1/2\", fixada em perfilado em alvenaria. af_05/2015","","M",null,"","",null,0]
[null,"",null,null,"","",null,0]
[null,"Abracadeira em aco para amarracao de eletrodutos, tipo D, com 1 1/2\" e parafuso de fixacao","UN",0.33300000000000002,2.1280000000000001,0.70862400000000003,{"$f":"SUM(F144:F146)","v":2.3093170000000001},0]
[null,"Auxiliar de encanador ou bombeiro hidráulico com encargos complementares","H",8.9999999999999993E-3,16.891000000000002,0.15201900000000002,null,0]
[null,"Encanador ou bombeiro hidráulico com encargos complementares","H",6.7000000000000004E-2,21.622,1.448674,null,0]
[null,"",null,null,"","",null,0]
["Fixação de tubos verticais de PPR diâmetros maiores que 40 mm e menores ou iguais a 75 mm com abraçadeira metálica rígida tipo D 2\", fixada em perfilado em alvenaria. af_05/2015","","M",null,"","",null,864]
[null,"",null,null,"","",null,864]
[null,"Abracadeira em aco para amarracao de eletrodutos, tipo D, com 2\" e parafuso de fixacao","UN",0.33300000000000002,2.3559999999999999,0.78454800000000002,{"$f":"SUM(F150:F152)","v":2.3852410000000002},864]
[null,"Auxiliar de encanador ou bombeiro hidráulico com encargos complementares","H",8.9999999999999993E-3,16.891000000000002,0.15201900000000002,null,864]
[null,"Encanador ou bombeiro hidráulico com encargos complementares","H",6.7000000000000004E-2,21.622,1.448674,null,864]
[null,"",null,null,"","",null,864]
["ARGAMASSA TRAÇO 1:2:9 (EM VOLUME DE CIMENTO, CAL E AREIA MÉDIA ÚMIDA) PARA EMBOÇO/MASSA ÚNICA/ASSENTAMENTO DE ALVENARIA DE VEDAÇÃO, PREPARO MECÂNICO COM BETONEIRA 600 L. AF_08/2019","","M3",null,"","",null,0]
[null,"",null,null,"","",null,0]
[null,"Areia media - posto jazida/fornecedor (retirado na jazida, sem transporte)","M3",1.18,93.8125,110.69874999999999,{"$f":"SUM(F156:F164)","v":430.92999774299994},0]
[null,"Cal hidratada CH-I para argamassas","KG",157.44,0.76,119.6544,null,0]
[null,"Cimento Portland composto CP II-32","KG",177.12,0.44649999999999995,79.08408,null,0]
[null,"Servente com encargos complementares","H",0.79,16.311500000000002,12.886085000000003,null,0]
[null,"Operador de betoneira estacionária/misturador com encargos complementares","H",3.65,16.5015,60.230474999999998,null,0]
[null,"Betoneira capacidade nominal de 600 L, capacidade de mistura 360 L, motor elétrico trifásico potência de 4 cv, sem carregador - CHP diurno. af_11/2014","CHP",0.85,3.0590000000000002,2.6001500000000002,null,0]
[null,"Betoneira capacidade nominal de 600 L, capacidade de mistura 360 L, motor elétrico trifásico potência de 4 cv, sem carregador - CHI diurno. af_11/2014","CHI",2.8,0.90249999999999997,2.5269999999999997,null,0]
[null,"CARGA, MANOBRA E DESCARGA DE SOLOS E MATERIAIS GRANULARES EM CAMINHÃO BASCULANTE 6 M³ - CARGA COM PÁ CARREGADEIRA (CAÇAMBA DE 1,7 A 2,8 M³ / 128 HP) E DESCARGA LIVRE (UNIDADE: M3). AF_07/2020","M3",{"$f":"ROUND(1*D156,4)","v":1.18},4.9078548499999988,5.7912687229999982,null,0]
[null,"TRANSPORTE COM CAMINHÃO BASCULANTE DE 6 M³, EM VIA URBANA PAVIMENTADA, DMT ATÉ 30 KM (UNIDADE: M3XKM). AF_07/2020","M3xKM",{"$f":"ROUND(D156*20,4)","v":23.6},1.5871944499999999,37.45778902,null,0]
[null,null,null,null,"","",null,0]
[null,"Obs.: Considerando fornecedor de areia a 20 km do Senado Federal.",null,null,"","",null,0]
[null,null,null,null,"","",null,0]
["ARGAMASSA TRAÇO 1:4 (EM VOLUME DE CIMENTO E AREIA MÉDIA ÚMIDA) PARA CONTRAPISO, PREPARO MECÂNICO COM BETONEIRA 400 L. AF_08/2019","","M3",null,"","",null,0]
[null,"",null,null,"","",null,0]
[null,"Areia media - posto jazida/fornecedor (retirado na jazida, sem transporte)","M3",1.36,93.8125,127.58500000000001,{"$f":"SUM(F170:F176)","v":464.834016636},0]
[null,"Cimento Portland composto CP II-32","KG",459.85,0.44649999999999995,205.323025,null,0]
[null,"Operador de betoneira estacionária/misturador com encargos complementares","H",4.8499999999999996,16.5015,80.032274999999998,null,0]
[null,"Betoneira capacidade nominal de 400 L, capacidade de mistura 280 L, motor elétrico trifásico potência de 2 cv, sem carregador - CHP diurno. af_10/2014","CHP",1.1299999999999999,1.0924999999999998,1.2345249999999997,null,0]
[null,"Betoneira capacidade nominal de 400 L, capacidade de mistura 280 L, motor elétrico trifásico potência de 2 cv, sem carregador - CHI diurno. af_10/2014","CHI",3.72,0.2185,0.81281999999999999,null,0]
[null,"CARGA, MANOBRA E DESCARGA DE SOLOS E MATERIAIS GRANULARES EM CAMINHÃO BASCULANTE 6 M³ - CARGA COM PÁ CARREGADEIRA (CAÇAMBA DE 1,7 A 2,8 M³ / 128 HP) E DESCARGA LIVRE (UNIDADE: M3). AF_07/2020","M3",{"$f":"ROUND(1*D170,4)","v":1.36},4.9078548499999988,6.6746825959999985,null,0]
[null,"TRANSPORTE COM CAMINHÃO BASCULANTE DE 6 M³, EM VIA URBANA PAVIMENTADA, DMT ATÉ 30 KM (UNIDADE: M3XKM). AF_07/2020","M3xKM",{"$f":"ROUND(D170*20,4)","v":27.2},1.5871944499999999,43.171689039999997,null,0]
[null,null,null,null,"","",null,0]
[null,"Obs.: Considerando fornecedor de areia a 20 km do Senado Federal.",null,null,"","",null,0]
[null,null,null,null,"","",null,0]
["UMIDIFICAÇÃO DE MATERIAL PARA VALAS COM CAMINHÃO PIPA 10000L. AF_11/2016","","M3",null,"","",null,1380]
[null,"",null,null,"","",null,1380]
[null,"CAMINHÃO PIPA 10.000 L TRUCADO, PESO BRUTO TOTAL 23.000 KG, CARGA ÚTIL MÁXIMA 15.935 KG, DISTÂNCIA ENTRE EIXOS 4,8 M, POTÊNCIA 230 CV, INCLUSIVE TANQUE DE AÇO PARA TRANSPORTE DE ÁGUA - CHP DIURNO. AF_06/2014","CHP",6.0000000000000001E-3,164.578,0.98746800000000001,{"$f":"SUM(F182:F184)","v":1.2363300000000002},1380]
[null,"CAMINHÃO PIPA 10.000 L TRUCADO, PESO BRUTO TOTAL 23.000 KG, CARGA ÚTIL MÁXIMA 15.935 KG, DISTÂNCIA ENTRE EIXOS 4,8 M, POTÊNCIA 230 CV, INCLUSIVE TANQUE DE AÇO PARA TRANSPORTE DE ÁGUA - CHI DIURNO. AF_06/2014","CHI",3.0000000000000001E-3,34.019500000000001,0.10205850000000001,null,1380]
[null,"SERVENTE COM ENCARGOS COMPLEMENTARES","H",8.9999999999999993E-3,16.311500000000002,0.1468035,null,1380]
[null,null,null,null,"","",null,1380]
["CORTE E DOBRA DE AÇO CA-50, DIÂMETRO DE 8,0 MM, UTILIZADO EM ESTRUTURAS DIVERSAS, EXCETO LAJES. AF_12/2015","","KG",null,"","",null,0]
[null,"",null,null,"","",null,0]
[null,"ACO CA-50, 8,0 MM, VERGALHAO","KG",1.1100000000000001,5.8709999999999996,6.5168100000000004,{"$f":"SUM(F188:F190)","v":7.0636755999999998},0]
[null,"AJUDANTE DE ARMADOR COM ENCARGOS COMPLEMENTARES","H",3.2000000000000002E-3,17.081,5.4659199999999998E-2,null,0]
[null,"ARMADOR COM ENCARGOS COMPLEMENTARES","H",2.24E-2,21.973499999999998,0.49220639999999993,null,0]
[null,"",null,null,"","",null,0]
["CORTE E DOBRA DE AÇO CA-50, DIÂMETRO DE 12,5 MM, UTILIZADO EM ESTRUTURAS DIVERSAS, EXCETO LAJES. AF_12/2015","","KG",null,"","",null,0]
[null,"",null,null,"","",null,0]
[null,"ACO CA-50, 12,5 MM OU 16,0 MM, VERGALHAO","KG",1.1100000000000001,4.7974999999999994,5.3252249999999997,{"$f":"SUM(F194:F196)","v":5.4961205},0]
[null,"AJUDANTE DE ARMADOR COM ENCARGOS COMPLEMENTARES","H",1E-3,17.081,1.7080999999999999E-2,null,0]
[null,"ARMADOR COM ENCARGOS COMPLEMENTARES","H",7.0000000000000001E-3,21.973499999999998,0.15381449999999999,null,0]
[null,"",null,null,"","",null,0]
["CORTE E DOBRA DE AÇO CA-50, DIÂMETRO DE 20,0 MM, UTILIZADO EM ESTRUTURAS DIVERSAS, EXCETO LAJES. AF_12/2015","","KG",null,"",{"$f":"IF(ISNUMBER(E198),E198*$D198,\"\")","v":""},null,0]
[null,"",null,null,"","",null,0]
[null,"ACO CA-50, 20,0 MM OU 25,0 MM, VERGALHAO","KG",1.1399999999999999,5.5289999999999999,6.3030599999999994,{"$f":"SUM(F200:F201)","v":6.3470069999999996},0]
[null,"ARMADOR COM ENCARGOS COMPLEMENTARES","H",2E-3,21.973499999999998,4.3947E-2,null,0]
[null,"",null,null,"","",null,0]
["TRANSPORTE HORIZONTAL MANUAL, DE TUBO DE AÇO CARBONO LEVE OU MÉDIO, PRETO OU GALVANIZADO, COM DIÂMETRO MAIOR QUE 32 MM E MENOR OU IGUAL A 65 MM (UNIDADE: MXKM). AF_07/2019","","MXKM",null,"","",null,0]
[null,"",null,null,"","",null,0]
[null,"SERVENTE COM ENCARGOS COMPLEMENTARES","H",0.61180000000000001,16.311500000000002,9.9793757000000021,{"$f":"SUM(F205:F205)","v":9.9793757000000021},0]
[null,"",null,null,"","",null,0]
["LANÇAMENTO COM USO DE BALDES, ADENSAMENTO E ACABAMENTO DE CONCRETO EM ESTRUTURAS. AF_12/2015","","M3",null,"","",null,0]
[null,"",null,null,"","",null,0]
[null,"Carpinteiro de formas com encargos complementares","h",1.8460000000000001,21.878499999999999,40.387711000000003,{"$f":"SUM(F209:F213)","v":172.792745},0]
[null,"Pedreiro com Encargos Complementares","h",1.8460000000000001,22.087499999999999,40.773524999999999,null,0]
[null,"Servente com Encargos Complementares","h",{"$f":"5.538","v":5.5380000000000003},16.311500000000002,90.33308700000002,null,0]
[null,"Vibrador de imersão, diâmetro de ponteira 45mm, motor elétrico trifásico potência de 2 CV - CHP diurno. AF_06/2015","chp",0.67200000000000004,1.3015000000000001,0.87460800000000016,null,0]
[null,"Vibrador de imersão, diâmetro de ponteira 45mm, motor elétrico trifásico potência de 2 CV - CHI diurno. AF_06/2015","chi",1.1739999999999999,0.36099999999999999,0.42381399999999997,null,0]
[null,null,null,null,"","",null,0]
["TRANSPORTE COM CAMINHÃO BASCULANTE DE 6 M³, EM VIA URBANA PAVIMENTADA, DMT ATÉ 30 KM (UNIDADE: M3XKM). AF_07/2020","","M3xKM",null,"","",null,57.599999999999994]
[null,"",null,null,"","",null,57.599999999999994]
[null,"CAMINHÃO BASCULANTE 6 M3 TOCO, PESO BRUTO TOTAL 16.000 KG, CARGA ÚTIL MÁXIMA 11.130 KG, DISTÂNCIA ENTRE EIXOS 5,36 M, POTÊNCIA 185 CV, INCLUSIVE CAÇAMBA METÁLICA - CHP DIURNO. AF_06/2014","CHP",1.3899999999999999E-2,100.21549999999999,1.3929954499999997,{"$f":"SUM(F217:F218)","v":1.5871944499999997},57.599999999999994]
[null,"CAMINHÃO BASCULANTE 6 M3 TOCO, PESO BRUTO TOTAL 16.000 KG, CARGA ÚTIL MÁXIMA 11.130 KG, DISTÂNCIA ENTRE EIXOS 5,36 M, POTÊNCIA 185 CV, INCLUSIVE CAÇAMBA METÁLICA - CHI DIURNO. AF_06/2014","CHI",6.0000000000000001E-3,32.366500000000002,0.19419900000000001,null,57.599999999999994]
[null,"",null,null,"","",null,57.599999999999994]
["TRANSPORTE COM CAMINHÃO BASCULANTE DE 6 M³, EM VIA URBANA PAVIMENTADA, DMT ATÉ 30 KM (UNIDADE: TXKM). AF_07/2020","","TxKM",null,"","",null,0.8]
[null,"",null,null,"","",null,0.8]
[null,"CAMINHÃO BASCULANTE 6 M3 TOCO, PESO BRUTO TOTAL 16.000 KG, CARGA ÚTIL MÁXIMA 11.130 KG, DISTÂNCIA ENTRE EIXOS 5,36 M, POTÊNCIA 185 CV, INCLUSIVE CAÇAMBA METÁLICA - CHP DIURNO. AF_06/2014","CHP",9.2999999999999992E-3,100.21549999999999,0.93200414999999981,{"$f":"SUM(F222:F223)","v":1.0614701499999999},0.8]
[null,"CAMINHÃO BASCULANTE 6 M3 TOCO, PESO BRUTO TOTAL 16.000 KG, CARGA ÚTIL MÁXIMA 11.130 KG, DISTÂNCIA ENTRE EIXOS 5,36 M, POTÊNCIA 185 CV, INCLUSIVE CAÇAMBA METÁLICA - CHI DIURNO. AF_06/2014","CHI",4.0000000000000001E-3,32.366500000000002,0.129466,null,0.8]
[null,"",null,null,"","",null,0.8]
["CONCRETO FCK = 20MPA, TRAÇO 1:2,7:3 (CIMENTO/ AREIA MÉDIA/ BRITA 1)  - PREPARO MECÂNICO COM BETONEIRA 600 L. AF_07/2016","","M3",null,"","",null,9.8550000000000004]
[null,"",null,null,"","",null,9.8550000000000004]
[null,"AREIA MEDIA - POSTO JAZIDA/FORNECEDOR (RETIRADO NA JAZIDA, SEM TRANSPORTE)","M3",0.76100000000000001,93.8125,71.391312499999998,{"$f":"SUM(F227:F235)","v":384.09991368520002},9.8550000000000004]
[null,"CIMENTO PORTLAND COMPOSTO CP II-32","KG",325.16000000000003,0.44649999999999995,145.18394000000001,null,9.8550000000000004]
[null,"PEDRA BRITADA N. 1 (9,5 a 19 MM) POSTO PEDREIRA/FORNECEDOR, SEM FRETE","M3",0.59099999999999997,103.48350000000001,61.158748500000002,null,9.8550000000000004]
[null,"SERVENTE COM ENCARGOS COMPLEMENTARES","H",2.0299999999999998,16.311500000000002,33.112345000000005,null,9.8550000000000004]
[null,"OPERADOR DE BETONEIRA ESTACIONÁRIA/MISTURADOR COM ENCARGOS COMPLEMENTARES","H",1.28,16.5015,21.121919999999999,null,9.8550000000000004]
[null,"BETONEIRA CAPACIDADE NOMINAL DE 600 L, CAPACIDADE DE MISTURA 360 L, MOTOR ELÉTRICO TRIFÁSICO POTÊNCIA DE 4 CV, SEM CARREGADOR - CHP DIURNO. AF_11/2014","CHP",0.66,3.0590000000000002,2.0189400000000002,null,9.8550000000000004]
[null,"BETONEIRA CAPACIDADE NOMINAL DE 600 L, CAPACIDADE DE MISTURA 360 L, MOTOR ELÉTRICO TRIFÁSICO POTÊNCIA DE 4 CV, SEM CARREGADOR - CHI DIURNO. AF_11/2014","CHI",0.62,0.90249999999999997,0.55954999999999999,null,9.8550000000000004]
[null,"CARGA, MANOBRA E DESCARGA DE SOLOS E MATERIAIS GRANULARES EM CAMINHÃO BASCULANTE 6 M³ - CARGA COM PÁ CARREGADEIRA (CAÇAMBA DE 1,7 A 2,8 M³ / 128 HP) E DESCARGA LIVRE (UNIDADE: M3). AF_07/2020","M3",{"$f":"ROUND(1*(D227+D229),4)","v":1.3520000000000001},4.9078548499999988,6.6354197571999984,null,9.8550000000000004]
[null,"TRANSPORTE COM CAMINHÃO BASCULANTE DE 6 M³, EM VIA URBANA PAVIMENTADA, DMT ATÉ 30 KM (UNIDADE: M3XKM). AF_07/2020","M3xKM",{"$f":"ROUND((D227+D229)*20,4)","v":27.04},1.5871944499999999,42.917737927999994,null,9.8550000000000004]
[null,null,null,null,"","",null,9.8550000000000004]
[null,"Obs.: Considerando fornecedor de areia e brita a 20 km do Senado Federal.",null,null,"","",null,9.8550000000000004]
[null,"",null,null,"","",null,9.8550000000000004]
["CONCRETO MAGRO PARA LASTRO, TRAÇO 1:4,5:4,5 (CIMENTO/ AREIA MÉDIA/ BRITA 1)  - PREPARO MECÂNICO COM BETONEIRA 400 L. AF_07/2016","","M3",null,"","",null,7.6517999999999997]
[null,"",null,null,"","",null,7.6517999999999997]
[null,"AREIA MEDIA - POSTO JAZIDA/FORNECEDOR (RETIRADO NA JAZIDA, SEM TRANSPORTE)","M3",0.82699999999999996,93.8125,77.5829375,{"$f":"SUM(F241:F249)","v":347.13778060925},7.6517999999999997]
[null,"CIMENTO PORTLAND COMPOSTO CP II-32","KG",212.02,0.44649999999999995,94.666929999999994,null,7.6517999999999997]
[null,"PEDRA BRITADA N. 1 (9,5 a 19 MM) POSTO PEDREIRA/FORNECEDOR, SEM FRETE","M3",0.57799999999999996,103.48350000000001,59.813462999999999,null,7.6517999999999997]
[null,"SERVENTE COM ENCARGOS COMPLEMENTARES","H",2.34,16.311500000000002,38.168910000000004,null,7.6517999999999997]
[null,"OPERADOR DE BETONEIRA ESTACIONÁRIA/MISTURADOR COM ENCARGOS COMPLEMENTARES","H",1.48,16.5015,24.422219999999999,null,7.6517999999999997]
[null,"BETONEIRA CAPACIDADE NOMINAL DE 400 L, CAPACIDADE DE MISTURA 280 L, MOTOR ELÉTRICO TRIFÁSICO POTÊNCIA DE 2 CV, SEM CARREGADOR - CHP DIURNO. AF_10/2014","CHP",0.76,1.0924999999999998,0.83029999999999982,null,7.6517999999999997]
[null,"BETONEIRA CAPACIDADE NOMINAL DE 400 L, CAPACIDADE DE MISTURA 280 L, MOTOR ELÉTRICO TRIFÁSICO POTÊNCIA DE 2 CV, SEM CARREGADOR - CHI DIURNO. AF_10/2014","CHI",0.72,0.2185,0.15731999999999999,null,7.6517999999999997]
[null,"CARGA, MANOBRA E DESCARGA DE SOLOS E MATERIAIS GRANULARES EM CAMINHÃO BASCULANTE 6 M³ - CARGA COM PÁ CARREGADEIRA (CAÇAMBA DE 1,7 A 2,8 M³ / 128 HP) E DESCARGA LIVRE (UNIDADE: M3). AF_07/2020","M3",{"$f":"ROUND(1*(D241+D243),4)","v":1.405},4.9078548499999988,6.8955360642499981,null,7.6517999999999997]
[null,"TRANSPORTE COM CAMINHÃO BASCULANTE DE 6 M³, EM VIA URBANA PAVIMENTADA, DMT ATÉ 30 KM (UNIDADE: M3XKM). AF_07/2020","M3xKM",{"$f":"ROUND((D241+D243)*20,4)","v":28.1},1.5871944499999999,44.600164045,null,7.6517999999999997]
[null,null,null,null,"","",null,7.6517999999999997]
[null,"Obs.: Considerando fornecedor de areia e brita a 20 km do Senado Federal.",null,null,"","",null,7.6517999999999997]
[null,"",null,null,"","",null,7.6517999999999997]
["GRAUTE FGK=25 MPA; TRAÇO 1:0,02:1,2:1,5 (CIMENTO/ CAL/ AREIA GROSSA/ BRITA 0) - PREPARO MECÂNICO COM BETONEIRA 400 L. AF_02/2015","","M3",null,"","",null,0]
[null,"",null,null,"","",null,0]
[null,"AREIA GROSSA - POSTO JAZIDA/FORNECEDOR (RETIRADO NA JAZIDA, SEM TRANSPORTE)","M3",0.51,113.6675,57.970425000000006,{"$f":"SUM(F255:F263)","v":421.24455604249999},0]
[null,"CAL HIDRATADA CH-I PARA ARGAMASSAS","KG",10.35,0.76,7.8659999999999997,null,0]
[null,"CIMENTO PORTLAND COMPOSTO CP II-32","KG",431.3,0.44649999999999995,192.57544999999999,null,0]
[null,"PEDRA BRITADA N. 0, OU PEDRISCO (4,8 A 9,5 MM) POSTO PEDREIRA/FORNECEDOR, SEM FRETE","M3",0.54,132.11649999999997,71.342909999999989,null,0]
[null,"OPERADOR DE BETONEIRA ESTACIONÁRIA/MISTURADOR COM ENCARGOS COMPLEMENTARES","H",3.12,16.5015,51.484680000000004,null,0]
[null,"BETONEIRA CAPACIDADE NOMINAL DE 400 L, CAPACIDADE DE MISTURA 280 L, MOTOR ELÉTRICO TRIFÁSICO POTÊNCIA DE 2 CV, SEM CARREGADOR - CHP DIURNO. AF_10/2014","CHP",0.96,1.0924999999999998,1.0487999999999997,null,0]
[null,"BETONEIRA CAPACIDADE NOMINAL DE 400 L, CAPACIDADE DE MISTURA 280 L, MOTOR ELÉTRICO TRIFÁSICO POTÊNCIA DE 2 CV, SEM CARREGADOR - CHI DIURNO. AF_10/2014","CHI",2.16,0.2185,0.47196000000000005,null,0]
[null,"CARGA, MANOBRA E DESCARGA DE SOLOS E MATERIAIS GRANULARES EM CAMINHÃO BASCULANTE 6 M³ - CARGA COM PÁ CARREGADEIRA (CAÇAMBA DE 1,7 A 2,8 M³ / 128 HP) E DESCARGA LIVRE (UNIDADE: M3). AF_07/2020","M3",{"$f":"ROUND(1*(D255+D258),4)","v":1.05},4.9078548499999988,{"$f":"IF(ISNUMBER(E262),E262*$D262,\"\")","v":5.1532475924999988},null,0]
[null,"TRANSPORTE COM CAMINHÃO BASCULANTE DE 6 M³, EM VIA URBANA PAVIMENTADA, DMT ATÉ 30 KM (UNIDADE: M3XKM). AF_07/2020","M3xKM",{"$f":"ROUND((D255+D258)*20,4)","v":21},1.5871944499999999,33.331083450000001,null,0]
[null,null,null,null,"","",null,0]
[null,"Obs.: Considerando fornecedor de areia e brita a 20 km do Senado Federal.",null,null,"","",null,0]
[null,null,null,null,"","",null,0]
["ARGAMASSA TRAÇO 1:3 (EM VOLUME DE CIMENTO E AREIA MÉDIA ÚMIDA) PARA CONTRAPISO, PREPARO MANUAL. AF_08/2019","","M3",null,"","",null,0]
[null,"",null,null,"","",null,0]
[null,"Areia media - posto jazida/fornecedor (retirado na jazida, sem transporte)","M3",1.25,93.8125,117.265625,{"$f":"SUM(F269:F273)","v":604.75221481250003},0]
[null,"Cimento Portland composto CP II-32","KG",563.59,0.44649999999999995,251.64293499999999,null,0]
[null,"Servente com encargos complementares","H",11.65,16.311500000000002,190.02897500000003,null,0]
[null,"CARGA, MANOBRA E DESCARGA DE SOLOS E MATERIAIS GRANULARES EM CAMINHÃO BASCULANTE 6 M³ - CARGA COM PÁ CARREGADEIRA (CAÇAMBA DE 1,7 A 2,8 M³ / 128 HP) E DESCARGA LIVRE (UNIDADE: M3). AF_07/2020","M3",{"$f":"ROUND(1*(D269),4)","v":1.25},4.9078548499999988,6.1348185624999987,null,0]
[null,"TRANSPORTE COM CAMINHÃO BASCULANTE DE 6 M³, EM VIA URBANA PAVIMENTADA, DMT ATÉ 30 KM (UNIDADE: M3XKM). AF_07/2020","M3xKM",{"$f":"ROUND(D269*20,4)","v":25},1.5871944499999999,39.679861249999995,null,0]
[null,null,null,null,"","",null,0]
[null,"Obs.: Considerando fornecedor de areia a 20 km do Senado Federal.",null,null,"","",null,0]
[null,"",null,null,"","",null,0]
["BATENTE PARA PORTA DE MADEIRA, PADRÃO MÉDIO - FORNECIMENTO E MONTAGEM. AF_12/2019","","un",null,"","",null,0]
[null,"",null,null,"","",null,0]
[null,"BATENTE/ PORTAL/ ADUELA/ MARCO MACICO, E= *3 CM, L= *13 CM, *60 CM A 120* CM X *210 CM,  EM CEDRINHO/ ANGELIM COMERCIAL/ EUCALIPTO/ CURUPIXA/ PEROBA/ CUMARU OU EQUIVALENTE DA REGIAO (NAO INCLUI ALIZARES)","JG",1,173.88799999999998,173.88799999999998,{"$f":"SUM(F279:F283)","v":256.54202800000002},0]
[null,"PREGO DE ACO POLIDO COM CABECA 12 X 12","KG",1.0999999999999999E-2,15.275999999999998,0.16803599999999996,null,0]
[null,"PREGO DE ACO POLIDO COM CABECA 18 X 30 (2 3/4 X 10)","KG",2.4E-2,11.589999999999998,0.27815999999999996,null,0]
[null,"CARPINTEIRO DE ESQUADRIA COM ENCARGOS COMPLEMENTARES","H",2.7410000000000001,21.916499999999999,60.073126500000001,null,0]
[null,"SERVENTE COM ENCARGOS COMPLEMENTARES","H",1.357,16.311500000000002,22.134705500000003,null,0]
[null,null,null,null,"","",null,0]
["ARGAMASSA TRAÇO 1:0,5:4,5 (EM VOLUME DE CIMENTO, CAL E AREIA MÉDIA ÚMIDA) PARA ASSENTAMENTO DE ALVENARIA, PREPARO MANUAL. AF_08/2019","","M3",null,"","",null,0]
[null,"",null,null,"","",null,0]
[null,"Areia media - posto jazida/fornecedor (retirado na jazida, sem transporte)","M3",1.07,93.8125,100.37937500000001,{"$f":"SUM(F287:F292)","v":552.38513591949993},0]
[null,"CAL HIDRATADA CH-I PARA ARGAMASSAS","KG",75.47,0.76,57.357199999999999,null,0]
[null,"Cimento Portland composto CP II-32","KG",482.96,0.44649999999999995,215.64163999999997,null,0]
[null,"Servente com encargos complementares","H",8.57,16.311500000000002,139.78955500000004,null,0]
[null,"CARGA, MANOBRA E DESCARGA DE SOLOS E MATERIAIS GRANULARES EM CAMINHÃO BASCULANTE 6 M³ - CARGA COM PÁ CARREGADEIRA (CAÇAMBA DE 1,7 A 2,8 M³ / 128 HP) E DESCARGA LIVRE (UNIDADE: M3). AF_07/2020","M3",{"$f":"ROUND(1*D287,4)","v":1.07},4.9078548499999988,5.2514046894999993,null,0]
[null,"TRANSPORTE COM CAMINHÃO BASCULANTE DE 6 M³, EM VIA URBANA PAVIMENTADA, DMT ATÉ 30 KM (UNIDADE: M3XKM). AF_07/2020","M3xKM",{"$f":"ROUND(D287*20,4)","v":21.4},1.5871944499999999,33.965961229999998,null,0]
[null,null,null,null,"","",null,0]
[null,"Obs.: Considerando fornecedor de areia a 20 km do Senado Federal.",null,null,"","",null,0]
[null,"",null,null,"","",null,0]
["ARMAÇÃO DE LAJE DE UMA ESTRUTURA CONVENCIONAL DE CONCRETO ARMADO EM UMA EDIFICAÇÃO TÉRREA OU SOBRADO UTILIZANDO AÇO CA-60 DE 4,2 MM - MONTAGEM. AF_12/2015","","KG",null,"","",null,0]
[null,"",null,null,"","",null,0]
[null,"ESPACADOR / DISTANCIADOR CIRCULAR COM ENTRADA LATERAL, EM PLASTICO, PARA VERGALHAO *4,2 A 12,5* MM, COBRIMENTO 20 MM","UN",2.8159999999999998,0.13300000000000001,0.37452799999999997,{"$f":"SUM(F298:F302)","v":13.298893249999997},0]
[null,"ARAME RECOZIDO 16 BWG, D = 1,65 MM (0,016 KG/M) OU 18 BWG, D = 1,25 MM (0,01 KG/M)","KG",2.5000000000000001E-2,14.154999999999999,0.353875,null,0]
[null,"AJUDANTE DE ARMADOR COM ENCARGOS COMPLEMENTARES","H",3.1E-2,17.081,0.52951099999999995,null,0]
[null,"ARMADOR COM ENCARGOS COMPLEMENTARES","H",0.18959999999999999,21.973499999999998,4.166175599999999,null,0]
[null,"CORTE E DOBRA DE AÇO CA-60, DIÂMETRO DE 4,2 MM, UTILIZADO EM LAJE. AF_12/2015","KG",1,7.8748036499999987,7.8748036499999987,null,0]
[null,null,null,null,"","",null,0]
["CORTE E DOBRA DE AÇO CA-60, DIÂMETRO DE 4,2 MM, UTILIZADO EM LAJE. AF_12/2015","","KG",null,"","",null,0]
[null,"",null,null,"","",null,0]
[null,"ACO CA-60, 4,2 MM, OU 5,0 MM, OU 6,0 MM, OU 7,0 MM, VERGALHAO","KG",1.07,5.2344999999999997,5.6009149999999996,{"$f":"SUM(F306:F308)","v":7.8748036499999987},0]
[null,"AJUDANTE DE ARMADOR COM ENCARGOS COMPLEMENTARES","H",1.3100000000000001E-2,17.081,0.22376109999999999,null,0]
[null,"ARMADOR COM ENCARGOS COMPLEMENTARES","H",9.3299999999999994E-2,21.973499999999998,2.0501275499999996,null,0]
[null,"",null,null,"","",null,0]
["CONCRETO FCK = 15MPA, TRAÇO 1:3,4:3,5 (CIMENTO/ AREIA MÉDIA/ BRITA 1)  - PREPARO MECÂNICO COM BETONEIRA 600 L. AF_07/2016","","M3",null,"","",null,5.9319000000000006]
[null,"",null,null,"","",null,5.9319000000000006]
[null,"AREIA MEDIA - POSTO JAZIDA/FORNECEDOR (RETIRADO NA JAZIDA, SEM TRANSPORTE)","M3",0.80800000000000005,93.8125,75.8005,{"$f":"SUM(F312:F320)","v":366.01423070764997},5.9319000000000006]
[null,"CIMENTO PORTLAND COMPOSTO CP II-32","KG",274.06,0.44649999999999995,122.36778999999999,null,5.9319000000000006]
[null,"PEDRA BRITADA N. 1 (9,5 a 19 MM) POSTO PEDREIRA/FORNECEDOR, SEM FRETE","M3",0.58099999999999996,103.48350000000001,60.1239135,null,5.9319000000000006]
[null,"SERVENTE COM ENCARGOS COMPLEMENTARES","H",2.0299999999999998,16.311500000000002,33.112345000000005,null,5.9319000000000006]
[null,"OPERADOR DE BETONEIRA ESTACIONÁRIA/MISTURADOR COM ENCARGOS COMPLEMENTARES","H",1.28,16.5015,21.121919999999999,null,5.9319000000000006]
[null,"BETONEIRA CAPACIDADE NOMINAL DE 600 L, CAPACIDADE DE MISTURA 360 L, MOTOR ELÉTRICO TRIFÁSICO POTÊNCIA DE 4 CV, SEM CARREGADOR - CHP DIURNO. AF_11/2014","CHP",0.66,3.0590000000000002,2.0189400000000002,null,5.9319000000000006]
[null,"BETONEIRA CAPACIDADE NOMINAL DE 600 L, CAPACIDADE DE MISTURA 360 L, MOTOR ELÉTRICO TRIFÁSICO POTÊNCIA DE 4 CV, SEM CARREGADOR - CHI DIURNO. AF_11/2014","CHI",0.62,0.90249999999999997,0.55954999999999999,null,5.9319000000000006]
[null,"CARGA, MANOBRA E DESCARGA DE SOLOS E MATERIAIS GRANULARES EM CAMINHÃO BASCULANTE 6 M³ - CARGA COM PÁ CARREGADEIRA (CAÇAMBA DE 1,7 A 2,8 M³ / 128 HP) E DESCARGA LIVRE (UNIDADE: M3). AF_07/2020","M3",{"$f":"ROUND(1*(D312+D314),4)","v":1.389},4.9078548499999988,6.817010386649998,null,5.9319000000000006]
[null,"TRANSPORTE COM CAMINHÃO BASCULANTE DE 6 M³, EM VIA URBANA PAVIMENTADA, DMT ATÉ 30 KM (UNIDADE: M3XKM). AF_07/2020","M3xKM",{"$f":"ROUND((D312+D314)*20,4)","v":27.78},1.5871944499999999,44.092261821000001,null,5.9319000000000006]
[null,null,null,null,"","",null,5.9319000000000006]
[null,"Obs.: Considerando fornecedor de areia e brita a 20 km do Senado Federal.",null,null,"","",null,5.9319000000000006]
[null,"",null,null,"","",null,5.9319000000000006]
["CONCRETO MAGRO PARA LASTRO, TRAÇO 1:4,5:4,5 (CIMENTO/ AREIA MÉDIA/ BRITA 1)  - PREPARO MECÂNICO COM BETONEIRA 600 L. AF_07/2016","","M3",null,"","",null,0]
[null,"",null,null,"","",null,0]
[null,"AREIA MEDIA - POSTO JAZIDA/FORNECEDOR (RETIRADO NA JAZIDA, SEM TRANSPORTE)","M3",0.83199999999999996,93.8125,{"$f":"IF(ISNUMBER(E326),E326*$D326,\"\")","v":78.051999999999992},{"$f":"SUM(F326:F334)","v":344.4719828039},0]
[null,"CIMENTO PORTLAND COMPOSTO CP II-32","KG",213.45,0.44649999999999995,95.305424999999985,null,0]
[null,"PEDRA BRITADA N. 1 (9,5 a 19 MM) POSTO PEDREIRA/FORNECEDOR, SEM FRETE","M3",0.58199999999999996,103.48350000000001,60.227396999999996,null,0]
[null,"SERVENTE COM ENCARGOS COMPLEMENTARES","H",2.11,16.311500000000002,34.417265,null,0]
[null,"OPERADOR DE BETONEIRA ESTACIONÁRIA/MISTURADOR COM ENCARGOS COMPLEMENTARES","H",1.33,16.5015,21.946995000000001,null,0]
[null,"BETONEIRA CAPACIDADE NOMINAL DE 600 L, CAPACIDADE DE MISTURA 360 L, MOTOR ELÉTRICO TRIFÁSICO POTÊNCIA DE 4 CV, SEM CARREGADOR - CHP DIURNO. AF_11/2014","CHP",0.69,3.0590000000000002,2.1107100000000001,null,0]
[null,"BETONEIRA CAPACIDADE NOMINAL DE 600 L, CAPACIDADE DE MISTURA 360 L, MOTOR ELÉTRICO TRIFÁSICO POTÊNCIA DE 4 CV, SEM CARREGADOR - CHI DIURNO. AF_11/2014","CHI",0.65,0.90249999999999997,0.58662499999999995,null,0]
[null,"CARGA, MANOBRA E DESCARGA DE SOLOS E MATERIAIS GRANULARES EM CAMINHÃO BASCULANTE 6 M³ - CARGA COM PÁ CARREGADEIRA (CAÇAMBA DE 1,7 A 2,8 M³ / 128 HP) E DESCARGA LIVRE (UNIDADE: M3). AF_07/2020","M3",{"$f":"ROUND(1*(D326+D328),4)","v":1.4139999999999999},4.9078548499999988,6.939706757899998,null,0]
[null,"TRANSPORTE COM CAMINHÃO BASCULANTE DE 6 M³, EM VIA URBANA PAVIMENTADA, DMT ATÉ 30 KM (UNIDADE: M3XKM). AF_07/2020","M3xKM",{"$f":"ROUND((D326+D328)*20,4)","v":28.28},1.5871944499999999,44.885859046,null,0]
[null,null,null,null,"","",null,0]
[null,"Obs.: Considerando fornecedor de areia e brita a 20 km do Senado Federal.",null,null,"","",null,0]
[null,"",null,null,"","",null,0]
["ARGAMASSA TRAÇO 1:4 (EM VOLUME DE CIMENTO E AREIA GROSSA ÚMIDA) PARA CHAPISCO CONVENCIONAL, PREPARO MECÂNICO COM BETONEIRA 400 L. AF_08/2019","","M3",null,"","",null,0.1215]
[null,"",null,null,"","",null,0.1215]
[null,"AREIA GROSSA - POSTO JAZIDA/FORNECEDOR (RETIRADO NA JAZIDA, SEM TRANSPORTE)","M3",1.02,113.6675,115.94085000000001,{"$f":"SUM(F340:F346)","v":385.23202872699994},0.1215]
[null,"CIMENTO PORTLAND COMPOSTO CP II-32","KG",343.52,0.44649999999999995,153.38167999999999,null,0.1215]
[null,"OPERADOR DE BETONEIRA ESTACIONÁRIA/MISTURADOR COM ENCARGOS COMPLEMENTARES","H",4.6399999999999997,16.5015,76.566959999999995,null,0.1215]
[null,"BETONEIRA CAPACIDADE NOMINAL DE 400 L, CAPACIDADE DE MISTURA 280 L, MOTOR ELÉTRICO TRIFÁSICO POTÊNCIA DE 2 CV, SEM CARREGADOR - CHP DIURNO. AF_10/2014","CHP",1.08,1.0924999999999998,1.1798999999999999,null,0.1215]
[null,"BETONEIRA CAPACIDADE NOMINAL DE 400 L, CAPACIDADE DE MISTURA 280 L, MOTOR ELÉTRICO TRIFÁSICO POTÊNCIA DE 2 CV, SEM CARREGADOR - CHI DIURNO. AF_10/2014","CHI",3.56,0.2185,0.77786,null,0.1215]
[null,"CARGA, MANOBRA E DESCARGA DE SOLOS E MATERIAIS GRANULARES EM CAMINHÃO BASCULANTE 6 M³ - CARGA COM PÁ CARREGADEIRA (CAÇAMBA DE 1,7 A 2,8 M³ / 128 HP) E DESCARGA LIVRE (UNIDADE: M3). AF_07/2020","M3",{"$f":"ROUND(1*(D340),4)","v":1.02},4.9078548499999988,5.0060119469999984,null,0.1215]
[null,"TRANSPORTE COM CAMINHÃO BASCULANTE DE 6 M³, EM VIA URBANA PAVIMENTADA, DMT ATÉ 30 KM (UNIDADE: M3XKM). AF_07/2020","M3xKM",{"$f":"ROUND(D340*20,4)","v":20.399999999999999},1.5871944499999999,32.378766779999999,null,0.1215]
[null,null,null,null,"","",null,0.1215]
[null,"Obs.: Considerando fornecedor de areia a 20 km do Senado Federal.",null,null,"","",null,0.1215]
[null,"",null,null,"","",null,0.1215]
["CARGA, MANOBRA E DESCARGA DE SOLOS E MATERIAIS GRANULARES EM CAMINHÃO BASCULANTE 6 M³ - CARGA COM PÁ CARREGADEIRA (CAÇAMBA DE 1,7 A 2,8 M³ / 128 HP) E DESCARGA LIVRE (UNIDADE: M3). AF_07/2020","","M3",null,"","",null,2.88]
[null,"",null,null,"","",null,2.88]
[null,"PÁ CARREGADEIRA SOBRE RODAS, POTÊNCIA LÍQUIDA 128 HP, CAPACIDADE DA CAÇAMBA 1,7 A 2,8 M3, PESO OPERACIONAL 11632 KG - CHP DIURNO. AF_06/2014","CHP",8.3000000000000001E-3,112.48949999999999,0.93366284999999993,{"$f":"SUM(F352:F355)","v":4.9035180999999994},2.88]
[null,"PÁ CARREGADEIRA SOBRE RODAS, POTÊNCIA LÍQUIDA 128 HP, CAPACIDADE DA CAÇAMBA 1,7 A 2,8 M3, PESO OPERACIONAL 11632 KG - CHI DIURNO. AF_06/2014","CHI",1.5100000000000001E-2,42.189499999999995,0.63706144999999992,null,2.88]
[null,"CAMINHÃO BASCULANTE 6 M3 TOCO, PESO BRUTO TOTAL 16.000 KG, CARGA ÚTIL MÁXIMA 11.130 KG, DISTÂNCIA ENTRE EIXOS 5,36 M, POTÊNCIA 185 CV, INCLUSIVE CAÇAMBA METÁLICA - CHP DIURNO. AF_06/2014","CHP",2.6700000000000002E-2,100.21549999999999,2.67575385,null,2.88]
[null,"CAMINHÃO BASCULANTE 6 M3 TOCO, PESO BRUTO TOTAL 16.000 KG, CARGA ÚTIL MÁXIMA 11.130 KG, DISTÂNCIA ENTRE EIXOS 5,36 M, POTÊNCIA 185 CV, INCLUSIVE CAÇAMBA METÁLICA - CHI DIURNO. AF_06/2014","CHI",2.0299999999999999E-2,32.366500000000002,0.65703995000000004,null,2.88]
[null,"",null,null,"","",null,2.88]
["CARGA, MANOBRAS E DESCARGA DE AREIA, BRITA, PEDRA DE MAO E SOLOS COM CAMINHAO BASCULANTE 6 M3 (DESCARGA LIVRE)","","T",null,"","",null,4.7999999999999994E-2]
[null,"",null,null,"","",null,4.7999999999999994E-2]
[null,"PÁ CARREGADEIRA SOBRE RODAS, POTÊNCIA LÍQUIDA 128 HP, CAPACIDADE DA CAÇAMBA 1,7 A 2,8 M3, PESO OPERACIONAL 11632 KG - CHP DIURNO. AF_06/2014","CHP",5.5599999999999998E-3,112.48949999999999,0.62544161999999992,{"$f":"SUM(F359:F362)","v":3.2723392199999997},4.7999999999999994E-2]
[null,"PÁ CARREGADEIRA SOBRE RODAS, POTÊNCIA LÍQUIDA 128 HP, CAPACIDADE DA CAÇAMBA 1,7 A 2,8 M3, PESO OPERACIONAL 11632 KG - CHI DIURNO. AF_06/2014","CHI",1.01E-2,42.189499999999995,0.42611394999999996,null,4.7999999999999994E-2]
[null,"CAMINHÃO BASCULANTE 6 M3 TOCO, PESO BRUTO TOTAL 16.000 KG, CARGA ÚTIL MÁXIMA 11.130 KG, DISTÂNCIA ENTRE EIXOS 5,36 M, POTÊNCIA 185 CV, INCLUSIVE CAÇAMBA METÁLICA - CHP DIURNO. AF_06/2014","CHP",1.78E-2,100.21549999999999,1.7838358999999999,null,4.7999999999999994E-2]
[null,"CAMINHÃO BASCULANTE 6 M3 TOCO, PESO BRUTO TOTAL 16.000 KG, CARGA ÚTIL MÁXIMA 11.130 KG, DISTÂNCIA ENTRE EIXOS 5,36 M, POTÊNCIA 185 CV, INCLUSIVE CAÇAMBA METÁLICA - CHI DIURNO. AF_06/2014","CHI",1.35E-2,32.366500000000002,0.43694775000000002,null,4.7999999999999994E-2]
[null,"",null,null,"","",null,4.7999999999999994E-2]
["MONTAGEM E DESMONTAGEM DE FÔRMA DE PILARES RETANGULARES E ESTRUTURAS SIMILARES COM ÁREA MÉDIA DAS SEÇÕES MAIOR QUE 0,25 M², PÉ-DIREITO SIMPLES, EM MADEIRA SERRADA, 2 UTILIZAÇÕES. AF_12/2015","","M2",null,"","",null,16.497]
[null,"",null,null,"","",null,16.497]
[null,"DESMOLDANTE PROTETOR PARA FORMAS DE MADEIRA, DE BASE OLEOSA EMULSIONADA EM AGUA","L",1.7000000000000001E-2,4.9685000000000006,8.4464500000000012E-2,{"$f":"SUM(F366:F370)","v":131.06818668500003},16.497]
[null,"PREGO DE ACO POLIDO COM CABECA DUPLA 17 X 27 (2 1/2 X 11)","KG",2.7E-2,14.307,0.38628899999999999,null,16.497]
[null,"AJUDANTE DE CARPINTEIRO COM ENCARGOS COMPLEMENTARES","H",0.48899999999999999,18.468,9.0308519999999994,null,16.497]
[null,"CARPINTEIRO DE FORMAS COM ENCARGOS COMPLEMENTARES","H",2.6680000000000001,21.878499999999999,58.371838000000004,null,16.497]
[null,"FABRICAÇÃO DE FÔRMA PARA PILARES E ESTRUTURAS SIMILARES, EM MADEIRA SERRADA, E=25 MM. AF_12/2015","M2",0.53,119.23536450000002,63.194743185000014,null,16.497]
[null,"",null,null,"","",null,16.497]
["CHAPISCO APLICADO EM ALVENARIAS E ESTRUTURAS DE CONCRETO INTERNAS, COM COLHER DE PEDREIRO.  ARGAMASSA TRAÇO 1:3 COM PREPARO EM BETONEIRA 400L. AF_06/2014","","M2",null,"","",null,228.14999999999998]
[null,"",null,null,"","",null,228.14999999999998]
[null,"ARGAMASSA TRAÇO 1:3 (EM VOLUME DE CIMENTO E AREIA GROSSA ÚMIDA) PARA CHAPISCO CONVENCIONAL, PREPARO MECÂNICO COM BETONEIRA 400 L. AF_08/2019","M3",4.1999999999999997E-3,406.34386860000001,1.7066442481199999,{"$f":"SUM(F374:F376)","v":3.3669497481199997},228.14999999999998]
[null,"PEDREIRO COM ENCARGOS COMPLEMENTARES","H",7.0000000000000007E-2,22.087499999999999,1.546125,null,228.14999999999998]
[null,"SERVENTE COM ENCARGOS COMPLEMENTARES","H",7.0000000000000001E-3,16.311500000000002,0.11418050000000002,null,228.14999999999998]
[null,null,null,null,null,null,null,228.14999999999998]
["EMBOÇO, PARA RECEBIMENTO DE CERÂMICA, EM ARGAMASSA TRAÇO 1:2:8, PREPARO MECÂNICO COM BETONEIRA 400L, APLICADO MANUALMENTE EM FACES INTERNAS DE PAREDES, PARA AMBIENTE COM ÁREA MENOR QUE 5M2, ESPESSURA DE 10MM, COM EXECUÇÃO DE TALISCAS. AF_06/2014","","M2",null,"",{"$f":"IF(ISNUMBER(E378),E378*$D378,\"\")","v":""},null,228.14999999999998]
[null,"",null,null,"",{"$f":"IF(ISNUMBER(E379),E379*$D379,\"\")","v":""},null,228.14999999999998]
[null,"ARGAMASSA TRAÇO 1:2:8 (EM VOLUME DE CIMENTO, CAL E AREIA MÉDIA ÚMIDA) PARA EMBOÇO/MASSA ÚNICA/ASSENTAMENTO DE ALVENARIA DE VEDAÇÃO, PREPARO MECÂNICO COM BETONEIRA 400 L. AF_08/2019","M3",2.1299999999999999E-2,446.50428924999994,{"$f":"IF(ISNUMBER(E380),E380*$D380,\"\")","v":9.5105413610249983},{"$f":"SUM(F380:F382)","v":22.394811861024998},228.14999999999998]
[null,"PEDREIRO COM ENCARGOS COMPLEMENTARES","H",0.46,22.087499999999999,{"$f":"IF(ISNUMBER(E381),E381*$D381,\"\")","v":10.16025},null,228.14999999999998]
[null,"SERVENTE COM ENCARGOS COMPLEMENTARES","H",0.16700000000000001,16.311500000000002,{"$f":"IF(ISNUMBER(E382),E382*$D382,\"\")","v":2.7240205000000004},null,228.14999999999998]
[null,null,null,null,null,null,null,228.14999999999998]
["ALVENARIA DE VEDAÇÃO DE BLOCOS VAZADOS DE CONCRETO DE 9X19X39CM (ESPESSURA 9CM) DE PAREDES COM ÁREA LÍQUIDA MENOR QUE 6M² SEM VÃOS E ARGAMASSA DE ASSENTAMENTO COM PREPARO EM BETONEIRA. AF_06/2014","","M2",null,"",{"$f":"IF(ISNUMBER(E384),E384*$D384,\"\")","v":""},null,246.40199999999999]
[null,"",null,null,"","",null,246.40199999999999]
[null,"BLOCO DE VEDACAO DE CONCRETO, 9 X 19 X 39 CM (CLASSE C - NBR 6136)","UN",13.5,1.71,23.085000000000001,{"$f":"SUM(F386:F391)","v":50.421593645400002},246.40199999999999]
[null,"TELA DE ACO SOLDADA GALVANIZADA/ZINCADA PARA ALVENARIA, FIO D = *1,20 A 1,70* MM, MALHA 15 X 15 MM, (C X L) *50 X 7,5* CM","M",0.78500000000000003,1.6909999999999998,1.3274349999999999,null,246.40199999999999]
[null,"PINO DE ACO COM FURO, HASTE = 27 MM (ACAO DIRETA)","CENTO",9.4000000000000004E-3,32.423500000000004,0.30478090000000008,null,246.40199999999999]
[null,"ARGAMASSA TRAÇO 1:2:8 (EM VOLUME DE CIMENTO, CAL E AREIA MÉDIA ÚMIDA) PARA EMBOÇO/MASSA ÚNICA/ASSENTAMENTO DE ALVENARIA DE VEDAÇÃO, PREPARO MECÂNICO COM BETONEIRA 400 L. AF_08/2019","M3",8.8000000000000005E-3,446.50428924999994,3.9292377453999996,null,246.40199999999999]
[null,"PEDREIRO COM ENCARGOS COMPLEMENTARES","H",0.72,22.087499999999999,15.902999999999999,null,246.40199999999999]
[null,"SERVENTE COM ENCARGOS COMPLEMENTARES","H",0.36,16.311500000000002,5.8721400000000008,null,246.40199999999999]
[null,"",null,null,"","",null,246.40199999999999]
["FABRICAÇÃO DE FÔRMA PARA PILARES E ESTRUTURAS SIMILARES, EM MADEIRA SERRADA, E=25 MM. AF_09/2020","","M2",null,"",{"$f":"IF(ISNUMBER(E393),ROUND(E393*$D393,2),\"\")","v":""},null,0]
[null,"",null,null,"","",null,0]
[null,"SARRAFO DE MADEIRA NAO APARELHADA *2,5 X 7,5* CM (1 X 3 \") PINUS, MISTA OU EQUIVALENTE DA REGIAO","M",4.4320000000000004,1.7195,7.62,{"$f":"SUM(F395:F401)","v":119.23},0]
[null,"PREGO DE ACO POLIDO COM CABECA 17 X 21 (2 X 11)","KG",8.5999999999999993E-2,11.589999999999998,1,null,0]
[null,"TABUA DE MADEIRA NAO APARELHADA *2,5 X 30* CM, CEDRINHO OU EQUIVALENTE DA REGIAO","M",6.53,13.746499999999999,89.76,null,0]
[null,"AJUDANTE DE CARPINTEIRO COM ENCARGOS COMPLEMENTARES","H",0.14299999999999999,18.468,2.64,null,0]
[null,"CARPINTEIRO DE FORMAS COM ENCARGOS COMPLEMENTARES","H",0.71499999999999997,21.878499999999999,15.64,null,0]
[null,"SERRA CIRCULAR DE BANCADA COM MOTOR ELÉTRICO POTÊNCIA DE 5HP, COM COIFA PARA DISCO 10\" - CHP DIURNO. AF_08/2015","CHP",0.05,19.151999999999997,{"$f":"IF(ISNUMBER(E400),ROUND(E400*$D400,2),\"\")","v":0.96},null,0]
[null,"SERRA CIRCULAR DE BANCADA COM MOTOR ELÉTRICO POTÊNCIA DE 5HP, COM COIFA PARA DISCO 10\" - CHI DIURNO. AF_08/2015","CHI",9.2999999999999999E-2,17.327999999999999,{"$f":"IF(ISNUMBER(E401),ROUND(E401*$D401,2),\"\")","v":1.61},null,0]
[null,null,null,null,"",{"$f":"IF(ISNUMBER(E402),ROUND(E402*$D402,2),\"\")","v":""},null,0]
["ARGAMASSA TRAÇO 1:3 (EM VOLUME DE CIMENTO E AREIA GROSSA ÚMIDA) PARA CHAPISCO CONVENCIONAL, PREPARO MECÂNICO COM BETONEIRA 400 L. AF_08/2019","","M3",null,"","",null,0]
[null,"",null,null,"","",null,0]
[null,"AREIA GROSSA - POSTO JAZIDA/FORNECEDOR (RETIRADO NA JAZIDA, SEM TRANSPORTE)","M3",0.95,113.6675,107.98,{"$f":"SUM(F405:F413)","v":406.3391566575001},0]
[null,"CIMENTO PORTLAND COMPOSTO CP II-32","KG",426.49,0.44649999999999995,190.43,null,0]
[null,"OPERADOR DE BETONEIRA ESTACIONÁRIA/MISTURADOR COM ENCARGOS COMPLEMENTARES","H",4.32,16.5015,71.290000000000006,null,0]
[null,"BETONEIRA CAPACIDADE NOMINAL DE 400 L, CAPACIDADE DE MISTURA 280 L, MOTOR ELÉTRICO TRIFÁSICO POTÊNCIA DE 2 CV, SEM CARREGADOR - CHP DIURNO. AF_10/2014","CHP",1.01,1.0924999999999998,1.1000000000000001,null,0]
[null,"BETONEIRA CAPACIDADE NOMINAL DE 400 L, CAPACIDADE DE MISTURA 280 L, MOTOR ELÉTRICO TRIFÁSICO POTÊNCIA DE 2 CV, SEM CARREGADOR - CHI DIURNO. AF_10/2014","CHI",3.31,0.2185,0.72,null,0]
[null,"CARGA, MANOBRA E DESCARGA DE SOLOS E MATERIAIS GRANULARES EM CAMINHÃO BASCULANTE 6 M³ - CARGA COM PÁ CARREGADEIRA (CAÇAMBA DE 1,7 A 2,8 M³ / 128 HP) E DESCARGA LIVRE (UNIDADE: M3). AF_07/2020","M3",{"$f":"ROUND(1*(D405),4)","v":0.95},4.9078548499999988,{"$f":"IF(ISNUMBER(E410),E410*$D410,\"\")","v":4.6624621074999988},null,0]
[null,"TRANSPORTE COM CAMINHÃO BASCULANTE DE 6 M³, EM VIA URBANA PAVIMENTADA, DMT ATÉ 30 KM (UNIDADE: M3XKM). AF_07/2020","M3xKM",{"$f":"ROUND(D405*20,4)","v":19},1.5871944499999999,{"$f":"IF(ISNUMBER(E411),E411*$D411,\"\")","v":30.156694549999997},null,0]
[null,null,null,null,"",{"$f":"IF(ISNUMBER(E412),ROUND(E412*$D412,2),\"\")","v":""},null,0]
[null,"Obs.: Considerando fornecedor de areia a 20 km do Senado Federal.",null,null,"","",null,0]
[null,null,null,null,"","",null,0]
["ARGAMASSA TRAÇO 1:3 (EM VOLUME DE CIMENTO E AREIA MÉDIA ÚMIDA) PARA CONTRAPISO, PREPARO MECÂNICO COM BETONEIRA 400 L. AF_08/2019","","M3",null,"","",null,0]
[null,"",null,null,"","",null,0]
[null,"AREIA GROSSA - POSTO JAZIDA/FORNECEDOR (RETIRADO NA JAZIDA, SEM TRANSPORTE)","M3",1.27,113.6675,144.36000000000001,{"$f":"SUM(F417:F425)","v":521.83771468949999},0]
[null,"CIMENTO PORTLAND COMPOSTO CP II-32","KG",573.61,0.44649999999999995,256.12,null,0]
[null,"OPERADOR DE BETONEIRA ESTACIONÁRIA/MISTURADOR COM ENCARGOS COMPLEMENTARES","H",4.42,16.5015,72.94,null,0]
[null,"BETONEIRA CAPACIDADE NOMINAL DE 400 L, CAPACIDADE DE MISTURA 280 L, MOTOR ELÉTRICO TRIFÁSICO POTÊNCIA DE 2 CV, SEM CARREGADOR - CHP DIURNO. AF_10/2014","CHP",1.03,1.0924999999999998,1.1299999999999999,null,0]
[null,"BETONEIRA CAPACIDADE NOMINAL DE 400 L, CAPACIDADE DE MISTURA 280 L, MOTOR ELÉTRICO TRIFÁSICO POTÊNCIA DE 2 CV, SEM CARREGADOR - CHI DIURNO. AF_10/2014","CHI",3.39,0.2185,0.74,null,0]
[null,"CARGA, MANOBRA E DESCARGA DE SOLOS E MATERIAIS GRANULARES EM CAMINHÃO BASCULANTE 6 M³ - CARGA COM PÁ CARREGADEIRA (CAÇAMBA DE 1,7 A 2,8 M³ / 128 HP) E DESCARGA LIVRE (UNIDADE: M3). AF_07/2020","M3",{"$f":"ROUND(1*(D417),4)","v":1.27},4.9078548499999988,{"$f":"IF(ISNUMBER(E422),E422*$D422,\"\")","v":6.2329756594999983},null,0]
[null,"TRANSPORTE COM CAMINHÃO BASCULANTE DE 6 M³, EM VIA URBANA PAVIMENTADA, DMT ATÉ 30 KM (UNIDADE: M3XKM). AF_07/2020","M3xKM",{"$f":"ROUND(D417*20,4)","v":25.4},1.5871944499999999,{"$f":"IF(ISNUMBER(E423),E423*$D423,\"\")","v":40.314739029999998},null,0]
[null,null,null,null,"",{"$f":"IF(ISNUMBER(E424),ROUND(E424*$D424,2),\"\")","v":""},null,0]
[null,"Obs.: Considerando fornecedor de areia a 20 km do Senado Federal.",null,null,"",{"$f":"IF(ISNUMBER(E425),ROUND(E425*$D425,2),\"\")","v":""},null,0]
[null,null,null,null,"",{"$f":"IF(ISNUMBER(E426),ROUND(E426*$D426,2),\"\")","v":""},null,0]

{"sheet":"Comp.Aux2","index":2,"n_rows":83,"n_cols":8,"rows_kept":83,"cut":false,"hidden":false,"merged":[[49,0,65,0],[66,0,82,0],[5,0,9,0],[10,0,15,0],[16,0,22,0],[23,0,38,0],[39,0,48,0]]}
[{"$f":"Composições!A1","v":"Execução de infraestrutura e lançamento de fibra óptica para interligação entre os datacenters da Câmara dos Deputados e Senado Federal"}]
["COMPOSIÇÕES DE CUSTO UNITÁRIO AUXILIARES DE 2º NÍVEL"]
[{"$f":"Composições!A3","v":"Data: dezembro de 2020"}]
[]
["DESCRIÇÃO","DISCRIMINAÇÃO DA COMPOSIÇÃO","UNIDADE","COEFICIENTE","CUSTO UNITÁRIO","CUSTO TOTAL ","TOTAL","QTD"]
["TRANSPORTE COM CAMINHÃO BASCULANTE DE 6 M³, EM VIA URBANA PAVIMENTADA, DMT ATÉ 30 KM (UNIDADE: M3XKM). AF_07/2020","","M3xKM",null,"",{"$f":"IF(ISNUMBER(E6),ROUND(E6*$D6,2),\"\")","v":""},null,648.76156200000003]
[null,"",null,null,"","",null,648.76156200000003]
[null,"CAMINHÃO BASCULANTE 6 M3 TOCO, PESO BRUTO TOTAL 16.000 KG, CARGA ÚTIL MÁXIMA 11.130 KG, DISTÂNCIA ENTRE EIXOS 5,36 M, POTÊNCIA 185 CV, INCLUSIVE CAÇAMBA METÁLICA - CHP DIURNO. AF_06/2014","CHP",1.3899999999999999E-2,100.21549999999999,1.39,{"$f":"SUM(F8:F9)","v":1.5799999999999998},648.76156200000003]
[null,"CAMINHÃO BASCULANTE 6 M3 TOCO, PESO BRUTO TOTAL 16.000 KG, CARGA ÚTIL MÁXIMA 11.130 KG, DISTÂNCIA ENTRE EIXOS 5,36 M, POTÊNCIA 185 CV, INCLUSIVE CAÇAMBA METÁLICA - CHI DIURNO. AF_06/2014","CHI",6.0000000000000001E-3,32.366500000000002,0.19,null,648.76156200000003]
[null,"",null,null,"","",null,648.76156200000003]
["CORTE E DOBRA DE AÇO CA-60, DIÂMETRO DE 4,2 MM, UTILIZADO EM LAJE. AF_12/2015","","KG",null,"","",null,0]
[null,"",null,null,"","",null,0]
[null,"ACO CA-60, 4,2 MM, OU 5,0 MM, OU 6,0 MM, OU 7,0 MM, VERGALHAO","KG",1.07,5.2344999999999997,5.6,{"$f":"SUM(F13:F15)","v":7.8699999999999992},0]
[null,"AJUDANTE DE ARMADOR COM ENCARGOS COMPLEMENTARES","H",1.3100000000000001E-2,17.081,0.22,null,0]
[null,"ARMADOR COM ENCARGOS COMPLEMENTARES","H",9.3299999999999994E-2,21.973499999999998,2.0499999999999998,null,0]
[null,"",null,null,"","",null,0]
["CARGA, MANOBRA E DESCARGA DE SOLOS E MATERIAIS GRANULARES EM CAMINHÃO BASCULANTE 6 M³ - CARGA COM PÁ CARREGADEIRA (CAÇAMBA DE 1,7 A 2,8 M³ / 128 HP) E DESCARGA LIVRE (UNIDADE: M3). AF_07/2020","","M3",null,"","",null,32.438078100000006]
[null,"",null,null,"","",null,32.438078100000006]
[null,"CAMINHÃO BASCULANTE 6 M3, PESO BRUTO TOTAL 16.000 KG, CARGA ÚTIL MÁXIMA 13.071 KG, DISTÂNCIA ENTRE EIXOS 4,80 M, POTÊNCIA 230 CV INCLUSIVE CAÇAMBA METÁLICA - CHP DIURNO. AF_06/2014","CHP",8.3000000000000001E-3,113.01199999999999,0.94,{"$f":"SUM(F19:F22)","v":4.9098552499999997},32.438078100000006]
[null,"PÁ CARREGADEIRA SOBRE RODAS, POTÊNCIA LÍQUIDA 128 HP, CAPACIDADE DA CAÇAMBA 1,7 A 2,8 M3, PESO OPERACIONAL 11632 KG - CHI DIURNO. AF_06/2014","CHI",1.5100000000000001E-2,42.189499999999995,{"$f":"IF(ISNUMBER(E20),E20*$D20,\"\")","v":0.63706144999999992},null,32.438078100000006]
[null,"CAMINHÃO BASCULANTE 6 M3 TOCO, PESO BRUTO TOTAL 16.000 KG, CARGA ÚTIL MÁXIMA 11.130 KG, DISTÂNCIA ENTRE EIXOS 5,36 M, POTÊNCIA 185 CV, INCLUSIVE CAÇAMBA METÁLICA - CHP DIURNO. AF_06/2014","CHP",2.6700000000000002E-2,100.21549999999999,{"$f":"IF(ISNUMBER(E21),E21*$D21,\"\")","v":2.67575385},null,32.438078100000006]
[null,"CAMINHÃO BASCULANTE 6 M3 TOCO, PESO BRUTO TOTAL 16.000 KG, CARGA ÚTIL MÁXIMA 11.130 KG, DISTÂNCIA ENTRE EIXOS 5,36 M, POTÊNCIA 185 CV, INCLUSIVE CAÇAMBA METÁLICA - CHI DIURNO. AF_06/2014","CHI",2.0299999999999999E-2,32.366500000000002,{"$f":"IF(ISNUMBER(E22),E22*$D22,\"\")","v":0.65703995000000004},null,32.438078100000006]
[null,"",null,null,"",{"$f":"IF(ISNUMBER(E23),ROUND(E23*$D23,2),\"\")","v":""},null,32.438078100000006]
["ARGAMASSA TRAÇO 1:4 (EM VOLUME DE CIMENTO E AREIA MÉDIA ÚMIDA) PARA CONTRAPISO, PREPARO MECÂNICO COM BETONEIRA 400 L. AF_08/2019","","M3",null,"","",null,0]
[null,"",null,null,"","",null,0]
[null,"Areia media - posto jazida/fornecedor (retirado na jazida, sem transporte)","M3",1.36,93.8125,127.59,{"$f":"SUM(F26:F36)","v":464.81715414999991},0]
[null,"Cimento Portland composto CP II-32","KG",459.85,0.44649999999999995,205.32,null,0]
[null,"Operador de betoneira estacionária/misturador com encargos complementares","H",4.8499999999999996,16.5015,80.03,null,0]
[null,"Betoneira capacidade nominal de 400 L, capacidade de mistura 280 L, motor elétrico trifásico potência de 2 cv, sem carregador - CHP diurno. af_10/2014","CHP",1.1299999999999999,1.0924999999999998,1.23,null,0]
[null,"Betoneira capacidade nominal de 400 L, capacidade de mistura 280 L, motor elétrico trifásico potência de 2 cv, sem carregador - CHI diurno. af_10/2014","CHI",3.72,0.2185,0.81,null,0]
[null,"PÁ CARREGADEIRA SOBRE RODAS, POTÊNCIA LÍQUIDA 128 HP, CAPACIDADE DA CAÇAMBA 1,7 A 2,8 M3, PESO OPERACIONAL 11632 KG - CHP DIURNO. AF_06/2014","CHP",{"$f":"ROUND(0.0083*D26,4)","v":1.1299999999999999E-2},112.48949999999999,{"$f":"IF(ISNUMBER(E31),E31*$D31,\"\")","v":1.2711313499999999},null,0]
[null,"PÁ CARREGADEIRA SOBRE RODAS, POTÊNCIA LÍQUIDA 128 HP, CAPACIDADE DA CAÇAMBA 1,7 A 2,8 M3, PESO OPERACIONAL 11632 KG - CHI DIURNO. AF_06/2014","CHI",{"$f":"ROUND(0.0151*D26,4)","v":2.0500000000000001E-2},42.189499999999995,{"$f":"IF(ISNUMBER(E32),E32*$D32,\"\")","v":0.86488474999999998},null,0]
[null,"CAMINHÃO BASCULANTE 6 M3 TOCO, PESO BRUTO TOTAL 16.000 KG, CARGA ÚTIL MÁXIMA 11.130 KG, DISTÂNCIA ENTRE EIXOS 5,36 M, POTÊNCIA 185 CV, INCLUSIVE CAÇAMBA METÁLICA - CHP DIURNO. AF_06/2014","CHP",{"$f":"ROUND(0.0267*D26,4)","v":3.6299999999999999E-2},100.21549999999999,{"$f":"IF(ISNUMBER(E33),E33*$D33,\"\")","v":3.6378226499999995},null,0]
[null,"CAMINHÃO BASCULANTE 6 M3 TOCO, PESO BRUTO TOTAL 16.000 KG, CARGA ÚTIL MÁXIMA 11.130 KG, DISTÂNCIA ENTRE EIXOS 5,36 M, POTÊNCIA 185 CV, INCLUSIVE CAÇAMBA METÁLICA - CHI DIURNO. AF_06/2014","CHI",{"$f":"ROUND(0.0203*D26,4)","v":2.76E-2},32.366500000000002,{"$f":"IF(ISNUMBER(E34),E34*$D34,\"\")","v":0.89331540000000009},null,0]
[null,"CAMINHÃO BASCULANTE 6 M3 TOCO, PESO BRUTO TOTAL 16.000 KG, CARGA ÚTIL MÁXIMA 11.130 KG, DISTÂNCIA ENTRE EIXOS 5,36 M, POTÊNCIA 185 CV, INCLUSIVE CAÇAMBA METÁLICA - CHP DIURNO. AF_06/2014","CHP",{"$f":"ROUND(0.0139*20*D26,4)","v":0.37809999999999999},100.21549999999999,{"$f":"IF(ISNUMBER(E35),ROUND(E35*$D35,2),\"\")","v":37.89},null,0]
[null,"CAMINHÃO BASCULANTE 6 M3 TOCO, PESO BRUTO TOTAL 16.000 KG, CARGA ÚTIL MÁXIMA 11.130 KG, DISTÂNCIA ENTRE EIXOS 5,36 M, POTÊNCIA 185 CV, INCLUSIVE CAÇAMBA METÁLICA - CHI DIURNO. AF_06/2014","CHI",{"$f":"ROUND(0.006*20*D26,4)","v":0.16320000000000001},32.366500000000002,5.28,null,0]
[null,null,null,null,"","",null,0]
[null,"Obs.: Considerando fornecedor de areia a 20 km do Senado Federal.",null,null,"","",null,0]
[null,"Obs.2: Inclusão de composições (abertas) Sinapi 100973 e 97914.",null,null,"","",null,0]
["FABRICAÇÃO DE FÔRMA PARA PILARES E ESTRUTURAS SIMILARES, EM MADEIRA SERRADA, E=25 MM. AF_09/2020","","M2",null,"","",null,8.7434100000000008]
[null,"",null,null,"","",null,8.7434100000000008]
[null,"SARRAFO *2,5 X 7,5* CM EM PINUS, MISTA OU EQUIVALENTE DA REGIAO - BRUTA","M",4.4320000000000004,1.7195,7.62,{"$f":"SUM(F42:F48)","v":119.23},8.7434100000000008]
[null,"PREGO DE ACO POLIDO COM CABECA 17 X 21 (2 X 11)","KG",8.5999999999999993E-2,11.589999999999998,1,null,8.7434100000000008]
[null,"TABUA DE MADEIRA NAO APARELHADA *2,5 X 30* CM, CEDRINHO OU EQUIVALENTE DA REGIAO","M",6.53,13.746499999999999,89.76,null,8.7434100000000008]
[null,"AJUDANTE DE CARPINTEIRO COM ENCARGOS COMPLEMENTARES","H",0.14299999999999999,18.468,2.64,null,8.7434100000000008]
[null,"CARPINTEIRO DE FORMAS COM ENCARGOS COMPLEMENTARES","H",0.71499999999999997,21.878499999999999,15.64,null,8.7434100000000008]
[null,"SERRA CIRCULAR DE BANCADA COM MOTOR ELÉTRICO POTÊNCIA DE 5HP, COM COIFA PARA DISCO 10\" - CHP DIURNO. AF_08/2015","CHP",0.05,19.151999999999997,0.96,null,8.7434100000000008]
[null,"SERRA CIRCULAR DE BANCADA COM MOTOR ELÉTRICO POTÊNCIA DE 5HP, COM COIFA PARA DISCO 10\" - CHI DIURNO. AF_08/2015","CHI",9.2999999999999999E-2,17.327999999999999,1.61,null,8.7434100000000008]
[null,null,null,null,"","",null,8.7434100000000008]
["ARGAMASSA TRAÇO 1:3 (EM VOLUME DE CIMENTO E AREIA GROSSA ÚMIDA) PARA CHAPISCO CONVENCIONAL, PREPARO MECÂNICO COM BETONEIRA 400 L. AF_08/2019","","M3",null,"","",null,0.9582299999999998]
[null,"",null,null,"","",null,0.9582299999999998]
[null,"AREIA GROSSA - POSTO JAZIDA/FORNECEDOR (RETIRADO NA JAZIDA, SEM TRANSPORTE)","M3",0.95,113.6675,107.98,{"$f":"SUM(F52:F65)","v":406.34212405000011},0.9582299999999998]
[null,"CIMENTO PORTLAND COMPOSTO CP II-32","KG",426.49,0.44649999999999995,190.43,null,0.9582299999999998]
[null,"OPERADOR DE BETONEIRA ESTACIONÁRIA/MISTURADOR COM ENCARGOS COMPLEMENTARES","H",4.32,16.5015,71.290000000000006,null,0.9582299999999998]
[null,"BETONEIRA CAPACIDADE NOMINAL DE 400 L, CAPACIDADE DE MISTURA 280 L, MOTOR ELÉTRICO TRIFÁSICO POTÊNCIA DE 2 CV, SEM CARREGADOR - CHP DIURNO. AF_10/2014","CHP",1.01,1.0924999999999998,1.1000000000000001,null,0.9582299999999998]
[null,"BETONEIRA CAPACIDADE NOMINAL DE 400 L, CAPACIDADE DE MISTURA 280 L, MOTOR ELÉTRICO TRIFÁSICO POTÊNCIA DE 2 CV, SEM CARREGADOR - CHI DIURNO. AF_10/2014","CHI",3.31,0.2185,0.72,null,0.9582299999999998]
[null,"PÁ CARREGADEIRA SOBRE RODAS, POTÊNCIA LÍQUIDA 128 HP, CAPACIDADE DA CAÇAMBA 1,7 A 2,8 M3, PESO OPERACIONAL 11632 KG - CHP DIURNO. AF_06/2014","CHP",{"$f":"ROUND(0.0083*D52,4)","v":7.9000000000000008E-3},112.48949999999999,{"$f":"IF(ISNUMBER(E57),E57*$D57,\"\")","v":0.88866705000000001},null,0.9582299999999998]
[null,"PÁ CARREGADEIRA SOBRE RODAS, POTÊNCIA LÍQUIDA 128 HP, CAPACIDADE DA CAÇAMBA 1,7 A 2,8 M3, PESO OPERACIONAL 11632 KG - CHI DIURNO. AF_06/2014","CHI",{"$f":"ROUND(0.0151*D52,4)","v":1.43E-2},42.189499999999995,{"$f":"IF(ISNUMBER(E58),E58*$D58,\"\")","v":0.60330984999999993},null,0.9582299999999998]
[null,"CAMINHÃO BASCULANTE 6 M3 TOCO, PESO BRUTO TOTAL 16.000 KG, CARGA ÚTIL MÁXIMA 11.130 KG, DISTÂNCIA ENTRE EIXOS 5,36 M, POTÊNCIA 185 CV, INCLUSIVE CAÇAMBA METÁLICA - CHP DIURNO. AF_06/2014","CHP",{"$f":"ROUND(0.0267*D52,4)","v":2.5399999999999999E-2},100.21549999999999,{"$f":"IF(ISNUMBER(E59),E59*$D59,\"\")","v":2.5454736999999996},null,0.9582299999999998]
[null,"CAMINHÃO BASCULANTE 6 M3 TOCO, PESO BRUTO TOTAL 16.000 KG, CARGA ÚTIL MÁXIMA 11.130 KG, DISTÂNCIA ENTRE EIXOS 5,36 M, POTÊNCIA 185 CV, INCLUSIVE CAÇAMBA METÁLICA - CHI DIURNO. AF_06/2014","CHI",{"$f":"ROUND(0.0203*D52,4)","v":1.9300000000000001E-2},32.366500000000002,{"$f":"IF(ISNUMBER(E60),E60*$D60,\"\")","v":0.62467345000000007},null,0.9582299999999998]
[null,"CAMINHÃO BASCULANTE 6 M3 TOCO, PESO BRUTO TOTAL 16.000 KG, CARGA ÚTIL MÁXIMA 11.130 KG, DISTÂNCIA ENTRE EIXOS 5,36 M, POTÊNCIA 185 CV, INCLUSIVE CAÇAMBA METÁLICA - CHP DIURNO. AF_06/2014","CHP",{"$f":"ROUND(0.0139*20*D52,4)","v":0.2641},100.21549999999999,{"$f":"IF(ISNUMBER(E61),ROUND(E61*$D61,2),\"\")","v":26.47},null,0.9582299999999998]
[null,"CAMINHÃO BASCULANTE 6 M3 TOCO, PESO BRUTO TOTAL 16.000 KG, CARGA ÚTIL MÁXIMA 11.130 KG, DISTÂNCIA ENTRE EIXOS 5,36 M, POTÊNCIA 185 CV, INCLUSIVE CAÇAMBA METÁLICA - CHI DIURNO. AF_06/2014","CHI",{"$f":"ROUND(0.006*20*D52,4)","v":0.114},32.366500000000002,{"$f":"IF(ISNUMBER(E62),ROUND(E62*$D62,2),\"\")","v":3.69},null,0.9582299999999998]
[null,null,null,null,"",{"$f":"IF(ISNUMBER(E63),ROUND(E63*$D63,2),\"\")","v":""},null,0.9582299999999998]
[null,"Obs.: Considerando fornecedor de areia a 20 km do Senado Federal.",null,null,"",{"$f":"IF(ISNUMBER(E64),ROUND(E64*$D64,2),\"\")","v":""},null,0.9582299999999998]
[null,"Obs.2: Inclusão de composições (abertas) Sinapi 100973 e 97914.",null,null,"",{"$f":"IF(ISNUMBER(E65),ROUND(E65*$D65,2),\"\")","v":""},null,0.9582299999999998]
[null,null,null,null,"",{"$f":"IF(ISNUMBER(E66),ROUND(E66*$D66,2),\"\")","v":""},null,0.9582299999999998]
["ARGAMASSA TRAÇO 1:3 (EM VOLUME DE CIMENTO E AREIA GROSSA ÚMIDA) PARA CHAPISCO CONVENCIONAL, PREPARO MECÂNICO COM BETONEIRA 400 L. AF_08/2019","","M3",null,"","",null,7.0279325999999998]
[null,"",null,null,"","",null,7.0279325999999998]
[null,"AREIA MEDIA - POSTO JAZIDA/FORNECEDOR (RETIRADO NA JAZIDA, SEM TRANSPORTE)","M3",1.1599999999999999,93.8125,108.82,{"$f":"SUM(F69:F82)","v":446.51550869999994},7.0279325999999998]
[null,"CAL HIDRATADA CH-I PARA ARGAMASSAS","KG",174.1,0.76,132.32,null,7.0279325999999998]
[null,"CIMENTO PORTLAND COMPOSTO CP II-32","KG",195.86,0.44649999999999995,87.45,null,7.0279325999999998]
[null,"OPERADOR DE BETONEIRA ESTACIONÁRIA/MISTURADOR COM ENCARGOS COMPLEMENTARES","H",4.5,16.5015,74.260000000000005,null,7.0279325999999998]
[null,"BETONEIRA CAPACIDADE NOMINAL DE 400 L, CAPACIDADE DE MISTURA 280 L, MOTOR ELÉTRICO TRIFÁSICO POTÊNCIA DE 2 CV, SEM CARREGADOR - CHP DIURNO. AF_10/2014","CHP",1.05,1.0924999999999998,1.1499999999999999,null,7.0279325999999998]
[null,"PÁ CARREGADEIRA SOBRE RODAS, POTÊNCIA LÍQUIDA 128 HP, CAPACIDADE DA CAÇAMBA 1,7 A 2,8 M3, PESO OPERACIONAL 11632 KG - CHP DIURNO. AF_06/2014","CHP",{"$f":"ROUND(0.0083*D69,4)","v":9.5999999999999992E-3},112.48949999999999,{"$f":"IF(ISNUMBER(E74),E74*$D74,\"\")","v":1.0798991999999998},null,7.0279325999999998]
[null,"PÁ CARREGADEIRA SOBRE RODAS, POTÊNCIA LÍQUIDA 128 HP, CAPACIDADE DA CAÇAMBA 1,7 A 2,8 M3, PESO OPERACIONAL 11632 KG - CHI DIURNO. AF_06/2014","CHI",{"$f":"ROUND(0.0151*D69,4)","v":1.7500000000000002E-2},42.189499999999995,{"$f":"IF(ISNUMBER(E75),E75*$D75,\"\")","v":0.73831625000000001},null,7.0279325999999998]
[null,"CAMINHÃO BASCULANTE 6 M3 TOCO, PESO BRUTO TOTAL 16.000 KG, CARGA ÚTIL MÁXIMA 11.130 KG, DISTÂNCIA ENTRE EIXOS 5,36 M, POTÊNCIA 185 CV, INCLUSIVE CAÇAMBA METÁLICA - CHP DIURNO. AF_06/2014","CHP",{"$f":"ROUND(0.0267*D69,4)","v":3.1E-2},100.21549999999999,{"$f":"IF(ISNUMBER(E76),E76*$D76,\"\")","v":3.1066804999999995},null,7.0279325999999998]
[null,"CAMINHÃO BASCULANTE 6 M3 TOCO, PESO BRUTO TOTAL 16.000 KG, CARGA ÚTIL MÁXIMA 11.130 KG, DISTÂNCIA ENTRE EIXOS 5,36 M, POTÊNCIA 185 CV, INCLUSIVE CAÇAMBA METÁLICA - CHI DIURNO. AF_06/2014","CHI",{"$f":"ROUND(0.0203*D69,4)","v":2.35E-2},32.366500000000002,{"$f":"IF(ISNUMBER(E77),E77*$D77,\"\")","v":0.76061275000000006},null,7.0279325999999998]
[null,"CAMINHÃO BASCULANTE 6 M3 TOCO, PESO BRUTO TOTAL 16.000 KG, CARGA ÚTIL MÁXIMA 11.130 KG, DISTÂNCIA ENTRE EIXOS 5,36 M, POTÊNCIA 185 CV, INCLUSIVE CAÇAMBA METÁLICA - CHP DIURNO. AF_06/2014","CHP",{"$f":"ROUND(0.0139*20*D69,4)","v":0.32250000000000001},100.21549999999999,{"$f":"IF(ISNUMBER(E78),ROUND(E78*$D78,2),\"\")","v":32.32},null,7.0279325999999998]
[null,"CAMINHÃO BASCULANTE 6 M3 TOCO, PESO BRUTO TOTAL 16.000 KG, CARGA ÚTIL MÁXIMA 11.130 KG, DISTÂNCIA ENTRE EIXOS 5,36 M, POTÊNCIA 185 CV, INCLUSIVE CAÇAMBA METÁLICA - CHI DIURNO. AF_06/2014","CHI",{"$f":"ROUND(0.006*20*D69,4)","v":0.13919999999999999},32.366500000000002,4.51,null,7.0279325999999998]
[null,null,null,null,"","",null,7.0279325999999998]
[null,"Obs.: Considerando fornecedor de areia a 20 km do Senado Federal.",null,null,"","",null,7.0279325999999998]
[null,"Obs.2: Inclusão de composições (abertas) Sinapi 100973 e 97914.",null,null,"","",null,7.0279325999999998]
[null,null,null,null,"","",null,7.0279325999999998]

{"sheet":"Orçamentária","index":3,"n_rows":1347,"n_cols":10,"rows_kept":1347,"cut":false,"hidden":false,"merged":[]}
["Execução de infraestrutura e lançamento de fibra óptica para interligação entre os datacenters da Câmara dos Deputados e Senado Federal"]
["PLANILHA ORÇAMENTÁRIA"]
["Data: dezembro de 2020"]
[null,null,null,null,null,null,null,null,"Não desonerado","Data-base SINAPI"]
["ITEM","DESCRIÇÃO","TIPO","UNIDADE","QUANTIDADE","CUSTO UNITÁRIO","CUSTO DIRETO","BDI (%)","PREÇO UNITÁRIO COM BDI","CUSTO TOTAL"]
["SF-00001","Engenheiro(a) /Arquiteto(a) júnior","Mão-de-Obra","hh",176,{"$f":"OFFSET(INDEX(Composições!A:J,MATCH(Orçamentária!A6,Composições!A:A,0),8),2,0)","v":83.447999999999993},{"$f":"IF(ISNUMBER(F6),ROUND(E6*F6,2),\"\")","v":14686.85},{"$f":"BDI!$B$17","v":0.191},{"$f":"IF(ISNUMBER(F6),ROUND(F6*(1+H6),2),\"\")","v":99.39},{"$f":"IF(ISNUMBER(F6),ROUND(I6*E6,2),\"\")","v":17492.64}]
["SF-00002","Mestre de obras","Mão-de-Obra","hh",0,{"$f":"OFFSET(INDEX(Composições!A:J,MATCH(Orçamentária!A7,Composições!A:A,0),8),2,0)","v":26.248499999999996},{"$f":"IF(ISNUMBER(F7),ROUND(E7*F7,2),\"\")","v":0},{"$f":"IF(A7<>\"\",IF(AND(#REF!=\"Padrão\",$I$4=#REF!),BDI!$B$17,IF(AND(#REF!=\"Padrão\",$I$4=#REF!),BDI!$C$17,IF(AND(#REF!=\"Diferenciado\",$I$4=#REF!),BDI!$G$17,IF(AND(#REF!=\"Diferenciado\",$I$4=#REF!),BDI!$H$17,IF(#REF!=\"ZERO\",0))))),\"\")","v":{"$error":"#REF!"}},{"$f":"IF(ISNUMBER(F7),ROUND(F7*(1+H7),2),\"\")","v":{"$error":"#REF!"}},{"$f":"IF(ISNUMBER(F7),ROUND(I7*E7,2),\"\")","v":{"$error":"#REF!"}}]
["SF-00003","Planejamento físico-financeiro","Serviço (Mat + MO)","un",1,{"$f":"OFFSET(INDEX(Composições!A:J,MATCH(Orçamentária!A8,Composições!A:A,0),8),2,0)","v":1516.9599999999998},1516.96,{"$f":"BDI!$B$17","v":0.191},1806.7,1806.7]
["SF-00004","Projetos de segurança do trabalho","Serviço (Mat + MO)","un",1,{"$f":"OFFSET(INDEX(Composições!A:J,MATCH(Orçamentária!A9,Composições!A:A,0),8),2,0)","v":2136.41},2136.41,{"$f":"BDI!$B$17","v":0.191},2544.46,2544.46]
["SF-00005","Demolição de alvenarias","Serviço (Mat + MO)","m3",0,{"$f":"OFFSET(INDEX(Composições!A:J,MATCH(Orçamentária!A10,Composições!A:A,0),8),2,0)","v":42.890662700000007},0,{"$f":"IF(A10<>\"\",IF(AND(#REF!=\"Padrão\",$I$4=#REF!),BDI!$B$17,IF(AND(#REF!=\"Padrão\",$I$4=#REF!),BDI!$C$17,IF(AND(#REF!=\"Diferenciado\",$I$4=#REF!),BDI!$G$17,IF(AND(#REF!=\"Diferenciado\",$I$4=#REF!),BDI!$H$17,IF(#REF!=\"ZERO\",0))))),\"\")","v":{"$error":"#REF!"}},{"$error":"#REF!"},{"$error":"#REF!"}]
["SF-00006","Demolição de concreto simples","Serviço (Mat + MO)","m3",0,{"$f":"OFFSET(INDEX(Composições!A:J,MATCH(Orçamentária!A11,Composições!A:A,0),8),2,0)","v":240.76325000000003},0,{"$f":"IF(A11<>\"\",IF(AND(#REF!=\"Padrão\",$I$4=#REF!),BDI!$B$17,IF(AND(#REF!=\"Padrão\",$I$4=#REF!),BDI!$C$17,IF(AND(#REF!=\"Diferenciado\",$I$4=#REF!),BDI!$G$17,IF(AND(#REF!=\"Diferenciado\",$I$4=#REF!),BDI!$H$17,IF(#REF!=\"ZERO\",0))))),\"\")","v":{"$error":"#REF!"}},{"$error":"#REF!"},{"$error":"#REF!"}]
["SF-00007","Demolição de contrapiso","Serviço (Mat + MO)","m2",0,{"$f":"OFFSET(INDEX(Composições!A:J,MATCH(Orçamentária!A12,Composições!A:A,0),8),2,0)","v":11.418050000000001},0,{"$f":"IF(A12<>\"\",IF(AND(#REF!=\"Padrão\",$I$4=#REF!),BDI!$B$17,IF(AND(#REF!=\"Padrão\",$I$4=#REF!),BDI!$C$17,IF(AND(#REF!=\"Diferenciado\",$I$4=#REF!),BDI!$G$17,IF(AND(#REF!=\"Diferenciado\",$I$4=#REF!),BDI!$H$17,IF(#REF!=\"ZERO\",0))))),\"\")","v":{"$error":"#REF!"}},{"$error":"#REF!"},{"$error":"#REF!"}]
["SF-00008","Demolição de fechamento ou parede em gesso acartonado","Serviço (Mat + MO)","m2",0,{"$f":"OFFSET(INDEX(Composições!A:J,MATCH(Orçamentária!A13,Composições!A:A,0),8),2,0)","v":5.79771415},0,{"$f":"IF(A13<>\"\",IF(AND(#REF!=\"Padrão\",$I$4=#REF!),BDI!$B$17,IF(AND(#REF!=\"Padrão\",$I$4=#REF!),BDI!$C$17,IF(AND(#REF!=\"Diferenciado\",$I$4=#REF!),BDI!$G$17,IF(AND(#REF!=\"Diferenciado\",$I$4=#REF!),BDI!$H$17,IF(#REF!=\"ZERO\",0))))),\"\")","v":{"$error":"#REF!"}},{"$error":"#REF!"},{"$error":"#REF!"}]
["SF-00009","Demolição de forro de gesso","Serviço (Mat + MO)","m2",0,{"$f":"OFFSET(INDEX(Composições!A:J,MATCH(Orçamentária!A14,Composições!A:A,0),8),2,0)","v":1.26180045},0,{"$f":"IF(A14<>\"\",IF(AND(#REF!=\"Padrão\",$I$4=#REF!),BDI!$B$17,IF(AND(#REF!=\"Padrão\",$I$4=#REF!),BDI!$C$17,IF(AND(#REF!=\"Diferenciado\",$I$4=#REF!),BDI!$G$17,IF(AND(#REF!=\"Diferenciado\",$I$4=#REF!),BDI!$H$17,IF(#REF!=\"ZERO\",0))))),\"\")","v":{"$error":"#REF!"}},{"$error":"#REF!"},{"$error":"#REF!"}]
["SF-00010","Demolição de infraestrutura elétrica (eletrodutos, eletrocalhas, cabos)","Serviço (Mat + MO)","m",0,{"$f":"OFFSET(INDEX(Composições!A:J,MATCH(Orçamentária!A15,Composições!A:A,0),8),2,0)","v":2.6021450000000002},0,{"$f":"IF(A15<>\"\",IF(AND(#REF!=\"Padrão\",$I$4=#REF!),BDI!$B$17,IF(AND(#REF!=\"Padrão\",$I$4=#REF!),BDI!$C$17,IF(AND(#REF!=\"Diferenciado\",$I$4=#REF!),BDI!$G$17,IF(AND(#REF!=\"Diferenciado\",$I$4=#REF!),BDI!$H$17,IF(#REF!=\"ZERO\",0))))),\"\")","v":{"$error":"#REF!"}},{"$error":"#REF!"},{"$error":"#REF!"}]
["SF-00011","Demolição de revestimento cerâmico, granito, mármore ou granitina","Serviço (Mat + MO)","m2",0,{"$f":"OFFSET(INDEX(Composições!A:J,MATCH(Orçamentária!A16,Composições!A:A,0),8),2,0)","v":9.4729934},0,{"$f":"IF(A16<>\"\",IF(AND(#REF!=\"Padrão\",$I$4=#REF!),BDI!$B$17,IF(AND(#REF!=\"Padrão\",$I$4=#REF!),BDI!$C$17,IF(AND(#REF!=\"Diferenciado\",$I$4=#REF!),BDI!$G$17,IF(AND(#REF!=\"Diferenciado\",$I$4=#REF!),BDI!$H$17,IF(#REF!=\"ZERO\",0))))),\"\")","v":{"$error":"#REF!"}},{"$error":"#REF!"},{"$error":"#REF!"}]
["SF-00012","Demolição de revestimento em argamassa","Serviço (Mat + MO)","m2",0,{"$f":"OFFSET(INDEX(Composições!A:J,MATCH(Orçamentária!A17,Composições!A:A,0),8),2,0)","v":2.54367345},0,{"$f":"IF(A17<>\"\",IF(AND(#REF!=\"Padrão\",$I$4=#REF!),BDI!$B$17,IF(AND(#REF!=\"Padrão\",$I$4=#REF!),BDI!$C$17,IF(AND(#REF!=\"Diferenciado\",$I$4=#REF!),BDI!$G$17,IF(AND(#REF!=\"Diferenciado\",$I$4=#REF!),BDI!$H$17,IF(#REF!=\"ZERO\",0))))),\"\")","v":{"$error":"#REF!"}},{"$error":"#REF!"},{"$error":"#REF!"}]
["SF-00013","Demolição de tubulação hidrossanitária embutida com conexões e acessórios","Serviço (Mat + MO)","m",0,{"$f":"OFFSET(INDEX(Composições!A:J,MATCH(Orçamentária!A18,Composições!A:A,0),8),2,0)","v":0.38187720000000003},0,{"$f":"IF(A18<>\"\",IF(AND(#REF!=\"Padrão\",$I$4=#REF!),BDI!$B$17,IF(AND(#REF!=\"Padrão\",$I$4=#REF!),BDI!$C$17,IF(AND(#REF!=\"Diferenciado\",$I$4=#REF!),BDI!$G$17,IF(AND(#REF!=\"Diferenciado\",$I$4=#REF!),BDI!$H$17,IF(#REF!=\"ZERO\",0))))),\"\")","v":{"$error":"#REF!"}},{"$error":"#REF!"},{"$error":"#REF!"}]
["SF-00014","Demolição em concreto armado","Serviço (Mat + MO)","m3",10,{"$f":"OFFSET(INDEX(Composições!A:J,MATCH(Orçamentária!A19,Composições!A:A,0),8),2,0)","v":216.3409388},2163.41,{"$f":"BDI!$B$17","v":0.191},257.66000000000003,2576.6]
["SF-00015","Locação de caçambas","Locação","un",0,"","",{"$f":"IF(A20<>\"\",IF(AND(#REF!=\"Padrão\",$I$4=#REF!),BDI!$B$17,IF(AND(#REF!=\"Padrão\",$I$4=#REF!),BDI!$C$17,IF(AND(#REF!=\"Diferenciado\",$I$4=#REF!),BDI!$G$17,IF(AND(#REF!=\"Diferenciado\",$I$4=#REF!),BDI!$H$17,IF(#REF!=\"ZERO\",0))))),\"\")","v":{"$error":"#REF!"}},"",""]
["SF-00016","Remoção de armários","Serviço (Mat + MO)","m2",0,{"$f":"OFFSET(INDEX(Composições!A:J,MATCH(Orçamentária!A21,Composições!A:A,0),8),2,0)","v":13.379799999999999},0,{"$f":"IF(A21<>\"\",IF(AND(#REF!=\"Padrão\",$I$4=#REF!),BDI!$B$17,IF(AND(#REF!=\"Padrão\",$I$4=#REF!),BDI!$C$17,IF(AND(#REF!=\"Diferenciado\",$I$4=#REF!),BDI!$G$17,IF(AND(#REF!=\"Diferenciado\",$I$4=#REF!),BDI!$H$17,IF(#REF!=\"ZERO\",0))))),\"\")","v":{"$error":"#REF!"}},{"$error":"#REF!"},{"$error":"#REF!"}]
["SF-00017","Remoção de bancadas","Serviço (Mat + MO)","m2",0,{"$f":"OFFSET(INDEX(Composições!A:J,MATCH(Orçamentária!A22,Composições!A:A,0),8),2,0)","v":19.624625000000002},0,{"$f":"IF(A22<>\"\",IF(AND(#REF!=\"Padrão\",$I$4=#REF!),BDI!$B$17,IF(AND(#REF!=\"Padrão\",$I$4=#REF!),BDI!$C$17,IF(AND(#REF!=\"Diferenciado\",$I$4=#REF!),BDI!$G$17,IF(AND(#REF!=\"Diferenciado\",$I$4=#REF!),BDI!$H$17,IF(#REF!=\"ZERO\",0))))),\"\")","v":{"$error":"#REF!"}},{"$error":"#REF!"},{"$error":"#REF!"}]
["SF-00018","Remoção de batentes de madeira","Serviço (Mat + MO)","un",0,{"$f":"OFFSET(INDEX(Composições!A:J,MATCH(Orçamentária!A23,Composições!A:A,0),8),2,0)","v":7.408100000000001},0,{"$f":"IF(A23<>\"\",IF(AND(#REF!=\"Padrão\",$I$4=#REF!),BDI!$B$17,IF(AND(#REF!=\"Padrão\",$I$4=#REF!),BDI!$C$17,IF(AND(#REF!=\"Diferenciado\",$I$4=#REF!),BDI!$G$17,IF(AND(#REF!=\"Diferenciado\",$I$4=#REF!),BDI!$H$17,IF(#REF!=\"ZERO\",0))))),\"\")","v":{"$error":"#REF!"}},{"$error":"#REF!"},{"$error":"#REF!"}]
["SF-00019","Remoção de canaleta em alumínio","Serviço (Mat + MO)","m",0,{"$f":"OFFSET(INDEX(Composições!A:J,MATCH(Orçamentária!A24,Composições!A:A,0),8),2,0)","v":4.1168250000000013},0,{"$f":"IF(A24<>\"\",IF(AND(#REF!=\"Padrão\",$I$4=#REF!),BDI!$B$17,IF(AND(#REF!=\"Padrão\",$I$4=#REF!),BDI!$C$17,IF(AND(#REF!=\"Diferenciado\",$I$4=#REF!),BDI!$G$17,IF(AND(#REF!=\"Diferenciado\",$I$4=#REF!),BDI!$H$17,IF(#REF!=\"ZERO\",0))))),\"\")","v":{"$error":"#REF!"}},{"$error":"#REF!"},{"$error":"#REF!"}]
["SF-00020","Remoção de carpete","Serviço (Mat + MO)","m2",0,{"$f":"OFFSET(INDEX(Composições!A:J,MATCH(Orçamentária!A25,Composições!A:A,0),8),2,0)","v":1.8520250000000003},0,{"$f":"IF(A25<>\"\",IF(AND(#REF!=\"Padrão\",$I$4=#REF!),BDI!$B$17,IF(AND(#REF!=\"Padrão\",$I$4=#REF!),BDI!$C$17,IF(AND(#REF!=\"Diferenciado\",$I$4=#REF!),BDI!$G$17,IF(AND(#REF!=\"Diferenciado\",$I$4=#REF!),BDI!$H$17,IF(#REF!=\"ZERO\",0))))),\"\")","v":{"$error":"#REF!"}},{"$error":"#REF!"},{"$error":"#REF!"}]
["SF-00021","Remoção de cortinas","Serviço (Mat + MO)","m",0,{"$f":"OFFSET(INDEX(Composições!A:J,MATCH(Orçamentária!A26,Composições!A:A,0),8),2,0)","v":3.2290623499999995},0,{"$f":"IF(A26<>\"\",IF(AND(#REF!=\"Padrão\",$I$4=#REF!),BDI!$B$17,IF(AND(#REF!=\"Padrão\",$I$4=#REF!),BDI!$C$17,IF(AND(#REF!=\"Diferenciado\",$I$4=#REF!),BDI!$G$17,IF(AND(#REF!=\"Diferenciado\",$I$4=#REF!),BDI!$H$17,IF(#REF!=\"ZERO\",0))))),\"\")","v":{"$error":"#REF!"}},{"$error":"#REF!"},{"$error":"#REF!"}]
["SF-00022","Remoção de difusores, grelhas e acessórios de climatização","Serviço (Mat + MO)","un",0,{"$f":"OFFSET(INDEX(Composições!A:J,MATCH(Orçamentária!A27,Composições!A:A,0),8),2,0)","v":20.269200000000001},0,{"$f":"IF(A27<>\"\",IF(AND(#REF!=\"Padrão\",$I$4=#REF!),BDI!$B$17,IF(AND(#REF!=\"Padrão\",$I$4=#REF!),BDI!$C$17,IF(AND(#REF!=\"Diferenciado\",$I$4=#REF!),BDI!$G$17,IF(AND(#REF!=\"Diferenciado\",$I$4=#REF!),BDI!$H$17,IF(#REF!=\"ZERO\",0))))),\"\")","v":{"$error":"#REF!"}},{"$error":"#REF!"},{"$error":"#REF!"}]
["SF-00023","Remoção de divisória de mármore ou granito","Serviço (Mat + MO)","m2",0,{"$f":"OFFSET(INDEX(Composições!A:J,MATCH(Orçamentária!A28,Composições!A:A,0),8),2,0)","v":30.626100000000001},0,{"$f":"IF(A28<>\"\",IF(AND(#REF!=\"Padrão\",$I$4=#REF!),BDI!$B$17,IF(AND(#REF!=\"Padrão\",$I$4=#REF!),BDI!$C$17,IF(AND(#REF!=\"Diferenciado\",$I$4=#REF!),BDI!$G$17,IF(AND(#REF!=\"Diferenciado\",$I$4=#REF!),BDI!$H$17,IF(#REF!=\"ZERO\",0))))),\"\")","v":{"$error":"#REF!"}},{"$error":"#REF!"},{"$error":"#REF!"}]
["SF-00024","Remoção de divisórias de MDF e gesso acartonado","Serviço (Mat + MO)","m2",0,{"$f":"OFFSET(INDEX(Composições!A:J,MATCH(Orçamentária!A29,Composições!A:A,0),8),2,0)","v":26.299799999999998},0,{"$f":"IF(A29<>\"\",IF(AND(#REF!=\"Padrão\",$I$4=#REF!),BDI!$B$17,IF(AND(#REF!=\"Padrão\",$I$4=#REF!),BDI!$C$17,IF(AND(#REF!=\"Diferenciado\",$I$4=#REF!),BDI!$G$17,IF(AND(#REF!=\"Diferenciado\",$I$4=#REF!),BDI!$H$17,IF(#REF!=\"ZERO\",0))))),\"\")","v":{"$error":"#REF!"}},{"$error":"#REF!"},{"$error":"#REF!"}]
["SF-00025","Remoção de dutos/tubulações","Serviço (Mat + MO)","m",0,{"$f":"OFFSET(INDEX(Composições!A:J,MATCH(Orçamentária!A30,Composições!A:A,0),8),2,0)","v":8.6773000000000007},0,{"$f":"IF(A30<>\"\",IF(AND(#REF!=\"Padrão\",$I$4=#REF!),BDI!$B$17,IF(AND(#REF!=\"Padrão\",$I$4=#REF!),BDI!$C$17,IF(AND(#REF!=\"Diferenciado\",$I$4=#REF!),BDI!$G$17,IF(AND(#REF!=\"Diferenciado\",$I$4=#REF!),BDI!$H$17,IF(#REF!=\"ZERO\",0))))),\"\")","v":{"$error":"#REF!"}},{"$error":"#REF!"},{"$error":"#REF!"}]
["SF-00026","Remoção de esquadrias metálicas","Serviço (Mat + MO)","m2",0,{"$f":"OFFSET(INDEX(Composições!A:J,MATCH(Orçamentária!A31,Composições!A:A,0),8),2,0)","v":9.2601250000000004},0,{"$f":"IF(A31<>\"\",IF(AND(#REF!=\"Padrão\",$I$4=#REF!),BDI!$B$17,IF(AND(#REF!=\"Padrão\",$I$4=#REF!),BDI!$C$17,IF(AND(#REF!=\"Diferenciado\",$I$4=#REF!),BDI!$G$17,IF(AND(#REF!=\"Diferenciado\",$I$4=#REF!),BDI!$H$17,IF(#REF!=\"ZERO\",0))))),\"\")","v":{"$error":"#REF!"}},{"$error":"#REF!"},{"$error":"#REF!"}]
["SF-00027","Remoção de exaustor","Serviço (Mat + MO)","un",0,{"$f":"OFFSET(INDEX(Composições!A:J,MATCH(Orçamentária!A32,Composições!A:A,0),8),2,0)","v":6.6803999999999997},0,{"$f":"IF(A32<>\"\",IF(AND(#REF!=\"Padrão\",$I$4=#REF!),BDI!$B$17,IF(AND(#REF!=\"Padrão\",$I$4=#REF!),BDI!$C$17,IF(AND(#REF!=\"Diferenciado\",$I$4=#REF!),BDI!$G$17,IF(AND(#REF!=\"Diferenciado\",$I$4=#REF!),BDI!$H$17,IF(#REF!=\"ZERO\",0))))),\"\")","v":{"$error":"#REF!"}},{"$error":"#REF!"},{"$error":"#REF!"}]
["SF-00028","Remoção de fechadura/puxador de porta","Serviço (Mat + MO)","un",0,{"$f":"OFFSET(INDEX(Composições!A:J,MATCH(Orçamentária!A33,Composições!A:A,0),8),2,0)","v":5.4791249999999998},0,{"$f":"IF(A33<>\"\",IF(AND(#REF!=\"Padrão\",$I$4=#REF!),BDI!$B$17,IF(AND(#REF!=\"Padrão\",$I$4=#REF!),BDI!$C$17,IF(AND(#REF!=\"Diferenciado\",$I$4=#REF!),BDI!$G$17,IF(AND(#REF!=\"Diferenciado\",$I$4=#REF!),BDI!$H$17,IF(#REF!=\"ZERO\",0))))),\"\")","v":{"$error":"#REF!"}},{"$error":"#REF!"},{"$error":"#REF!"}]
["SF-00029","Remoção de folha de porta e dobradiças","Serviço (Mat + MO)","un",0,{"$f":"OFFSET(INDEX(Composições!A:J,MATCH(Orçamentária!A34,Composições!A:A,0),8),2,0)","v":7.1161355500000001},0,{"$f":"IF(A34<>\"\",IF(AND(#REF!=\"Padrão\",$I$4=#REF!),BDI!$B$17,IF(AND(#REF!=\"Padrão\",$I$4=#REF!),BDI!$C$17,IF(AND(#REF!=\"Diferenciado\",$I$4=#REF!),BDI!$G$17,IF(AND(#REF!=\"Diferenciado\",$I$4=#REF!),BDI!$H$17,IF(#REF!=\"ZERO\",0))))),\"\")","v":{"$error":"#REF!"}},{"$error":"#REF!"},{"$error":"#REF!"}]
["SF-00030","Remoção de laminado melamínico (LDAP), em PVC ou vinílico","Serviço (Mat + MO)","m2",0,{"$f":"OFFSET(INDEX(Composições!A:J,MATCH(Orçamentária!A35,Composições!A:A,0),8),2,0)","v":16.668225000000003},0,{"$f":"IF(A35<>\"\",IF(AND(#REF!=\"Padrão\",$I$4=#REF!),BDI!$B$17,IF(AND(#REF!=\"Padrão\",$I$4=#REF!),BDI!$C$17,IF(AND(#REF!=\"Diferenciado\",$I$4=#REF!),BDI!$G$17,IF(AND(#REF!=\"Diferenciado\",$I$4=#REF!),BDI!$H$17,IF(#REF!=\"ZERO\",0))))),\"\")","v":{"$error":"#REF!"}},{"$error":"#REF!"},{"$error":"#REF!"}]
["SF-00031","Remoção de louças","Serviço (Mat + MO)","un",0,{"$f":"OFFSET(INDEX(Composições!A:J,MATCH(Orçamentária!A36,Composições!A:A,0),8),2,0)","v":9.4188662000000001},0,{"$f":"IF(A36<>\"\",IF(AND(#REF!=\"Padrão\",$I$4=#REF!),BDI!$B$17,IF(AND(#REF!=\"Padrão\",$I$4=#REF!),BDI!$C$17,IF(AND(#REF!=\"Diferenciado\",$I$4=#REF!),BDI!$G$17,IF(AND(#REF!=\"Diferenciado\",$I$4=#REF!),BDI!$H$17,IF(#REF!=\"ZERO\",0))))),\"\")","v":{"$error":"#REF!"}},{"$error":"#REF!"},{"$error":"#REF!"}]
["SF-00032","Remoção de luminária","Serviço (Mat + MO)","un",0,{"$f":"OFFSET(INDEX(Composições!A:J,MATCH(Orçamentária!A37,Composições!A:A,0),8),2,0)","v":4.9654362499999998},0,{"$f":"IF(A37<>\"\",IF(AND(#REF!=\"Padrão\",$I$4=#REF!),BDI!$B$17,IF(AND(#REF!=\"Padrão\",$I$4=#REF!),BDI!$C$17,IF(AND(#REF!=\"Diferenciado\",$I$4=#REF!),BDI!$G$17,IF(AND(#REF!=\"Diferenciado\",$I$4=#REF!),BDI!$H$17,IF(#REF!=\"ZERO\",0))))),\"\")","v":{"$error":"#REF!"}},{"$error":"#REF!"},{"$error":"#REF!"}]
["SF-00033","Remoção de metais e acessórios","Serviço (Mat + MO)","un",0,{"$f":"OFFSET(INDEX(Composições!A:J,MATCH(Orçamentária!A38,Composições!A:A,0),8),2,0)","v":6.8683271000000001},0,{"$f":"IF(A38<>\"\",IF(AND(#REF!=\"Padrão\",$I$4=#REF!),BDI!$B$17,IF(AND(#REF!=\"Padrão\",$I$4=#REF!),BDI!$C$17,IF(AND(#REF!=\"Diferenciado\",$I$4=#REF!),BDI!$G$17,IF(AND(#REF!=\"Diferenciado\",$I$4=#REF!),BDI!$H$17,IF(#REF!=\"ZERO\",0))))),\"\")","v":{"$error":"#REF!"}},{"$error":"#REF!"},{"$error":"#REF!"}]
["SF-00034","Remoção de painéis de vidro temperado","Serviço (Mat + MO)","m2",0,{"$f":"OFFSET(INDEX(Composições!A:J,MATCH(Orçamentária!A39,Composições!A:A,0),8),2,0)","v":13.43965},0,{"$f":"IF(A39<>\"\",IF(AND(#REF!=\"Padrão\",$I$4=#REF!),BDI!$B$17,IF(AND(#REF!=\"Padrão\",$I$4=#REF!),BDI!$C$17,IF(AND(#REF!=\"Diferenciado\",$I$4=#REF!),BDI!$G$17,IF(AND(#REF!=\"Diferenciado\",$I$4=#REF!),BDI!$H$17,IF(#REF!=\"ZERO\",0))))),\"\")","v":{"$error":"#REF!"}},{"$error":"#REF!"},{"$error":"#REF!"}]
["SF-00035","Remoção de película","Serviço (Mat + MO)","m2",0,{"$f":"OFFSET(INDEX(Composições!A:J,MATCH(Orçamentária!A40,Composições!A:A,0),8),2,0)","v":8.2156000000000002},0,{"$f":"IF(A40<>\"\",IF(AND(#REF!=\"Padrão\",$I$4=#REF!),BDI!$B$17,IF(AND(#REF!=\"Padrão\",$I$4=#REF!),BDI!$C$17,IF(AND(#REF!=\"Diferenciado\",$I$4=#REF!),BDI!$G$17,IF(AND(#REF!=\"Diferenciado\",$I$4=#REF!),BDI!$H$17,IF(#REF!=\"ZERO\",0))))),\"\")","v":{"$error":"#REF!"}},{"$error":"#REF!"},{"$error":"#REF!"}]
["SF-00036","Remoção de persianas","Serviço (Mat + MO)","m",0,{"$f":"OFFSET(INDEX(Composições!A:J,MATCH(Orçamentária!A41,Composições!A:A,0),8),2,0)","v":3.2290623499999995},0,{"$f":"IF(A41<>\"\",IF(AND(#REF!=\"Padrão\",$I$4=#REF!),BDI!$B$17,IF(AND(#REF!=\"Padrão\",$I$4=#REF!),BDI!$C$17,IF(AND(#REF!=\"Diferenciado\",$I$4=#REF!),BDI!$G$17,IF(AND(#REF!=\"Diferenciado\",$I$4=#REF!),BDI!$H$17,IF(#REF!=\"ZERO\",0))))),\"\")","v":{"$error":"#REF!"}},{"$error":"#REF!"},{"$error":"#REF!"}]
["SF-00037","Remoção de pintura ou textura","Serviço (Mat + MO)","m2",0,{"$f":"OFFSET(INDEX(Composições!A:J,MATCH(Orçamentária!A42,Composições!A:A,0),8),2,0)","v":6.5246000000000013},0,{"$f":"IF(A42<>\"\",IF(AND(#REF!=\"Padrão\",$I$4=#REF!),BDI!$B$17,IF(AND(#REF!=\"Padrão\",$I$4=#REF!),BDI!$C$17,IF(AND(#REF!=\"Diferenciado\",$I$4=#REF!),BDI!$G$17,IF(AND(#REF!=\"Diferenciado\",$I$4=#REF!),BDI!$H$17,IF(#REF!=\"ZERO\",0))))),\"\")","v":{"$error":"#REF!"}},{"$error":"#REF!"},{"$error":"#REF!"}]
["SF-00038","Remoção de placas de forro","Serviço (Mat + MO)","m2",0,{"$f":"OFFSET(INDEX(Composições!A:J,MATCH(Orçamentária!A43,Composições!A:A,0),8),2,0)","v":3.7854013500000003},0,{"$f":"IF(A43<>\"\",IF(AND(#REF!=\"Padrão\",$I$4=#REF!),BDI!$B$17,IF(AND(#REF!=\"Padrão\",$I$4=#REF!),BDI!$C$17,IF(AND(#REF!=\"Diferenciado\",$I$4=#REF!),BDI!$G$17,IF(AND(#REF!=\"Diferenciado\",$I$4=#REF!),BDI!$H$17,IF(#REF!=\"ZERO\",0))))),\"\")","v":{"$error":"#REF!"}},{"$error":"#REF!"},{"$error":"#REF!"}]
["SF-00039","Remoção de quadros de elétricos ou de telecomunicações","Serviço (Mat + MO)","un",0,{"$f":"OFFSET(INDEX(Composições!A:J,MATCH(Orçamentária!A44,Composições!A:A,0),8),2,0)","v":58.216000000000001},0,{"$f":"IF(A44<>\"\",IF(AND(#REF!=\"Padrão\",$I$4=#REF!),BDI!$B$17,IF(AND(#REF!=\"Padrão\",$I$4=#REF!),BDI!$C$17,IF(AND(#REF!=\"Diferenciado\",$I$4=#REF!),BDI!$G$17,IF(AND(#REF!=\"Diferenciado\",$I$4=#REF!),BDI!$H$17,IF(#REF!=\"ZERO\",0))))),\"\")","v":{"$error":"#REF!"}},{"$error":"#REF!"},{"$error":"#REF!"}]
["SF-00040","Remoção de revestimento acústico","Serviço (Mat + MO)","m2",0,{"$f":"OFFSET(INDEX(Composições!A:J,MATCH(Orçamentária!A45,Composições!A:A,0),8),2,0)","v":3.2623000000000006},0,{"$f":"IF(A45<>\"\",IF(AND(#REF!=\"Padrão\",$I$4=#REF!),BDI!$B$17,IF(AND(#REF!=\"Padrão\",$I$4=#REF!),BDI!$C$17,IF(AND(#REF!=\"Diferenciado\",$I$4=#REF!),BDI!$G$17,IF(AND(#REF!=\"Diferenciado\",$I$4=#REF!),BDI!$H$17,IF(#REF!=\"ZERO\",0))))),\"\")","v":{"$error":"#REF!"}},{"$error":"#REF!"},{"$error":"#REF!"}]
["SF-00041","Remoção de rodapé/rodabanca de mármore ou granito","Serviço (Mat + MO)","m",0,{"$f":"OFFSET(INDEX(Composições!A:J,MATCH(Orçamentária!A46,Composições!A:A,0),8),2,0)","v":1.4256251000000002},0,{"$f":"IF(A46<>\"\",IF(AND(#REF!=\"Padrão\",$I$4=#REF!),BDI!$B$17,IF(AND(#REF!=\"Padrão\",$I$4=#REF!),BDI!$C$17,IF(AND(#REF!=\"Diferenciado\",$I$4=#REF!),BDI!$G$17,IF(AND(#REF!=\"Diferenciado\",$I$4=#REF!),BDI!$H$17,IF(#REF!=\"ZERO\",0))))),\"\")","v":{"$error":"#REF!"}},{"$error":"#REF!"},{"$error":"#REF!"}]
["SF-00042","Remoção de rodapés de madeira","Serviço (Mat + MO)","m2",0,{"$f":"OFFSET(INDEX(Composições!A:J,MATCH(Orçamentária!A47,Composições!A:A,0),8),2,0)","v":5.8774125000000002},0,{"$f":"IF(A47<>\"\",IF(AND(#REF!=\"Padrão\",$I$4=#REF!),BDI!$B$17,IF(AND(#REF!=\"Padrão\",$I$4=#REF!),BDI!$C$17,IF(AND(#REF!=\"Diferenciado\",$I$4=#REF!),BDI!$G$17,IF(AND(#REF!=\"Diferenciado\",$I$4=#REF!),BDI!$H$17,IF(#REF!=\"ZERO\",0))))),\"\")","v":{"$error":"#REF!"}},{"$error":"#REF!"},{"$error":"#REF!"}]
["SF-00043","Remoção de soleira de mármore ou granito","Serviço (Mat + MO)","m",0,{"$f":"OFFSET(INDEX(Composições!A:J,MATCH(Orçamentária!A48,Composições!A:A,0),8),2,0)","v":8.971325000000002},0,{"$f":"IF(A48<>\"\",IF(AND(#REF!=\"Padrão\",$I$4=#REF!),BDI!$B$17,IF(AND(#REF!=\"Padrão\",$I$4=#REF!),BDI!$C$17,IF(AND(#REF!=\"Diferenciado\",$I$4=#REF!),BDI!$G$17,IF(AND(#REF!=\"Diferenciado\",$I$4=#REF!),BDI!$H$17,IF(#REF!=\"ZERO\",0))))),\"\")","v":{"$error":"#REF!"}},{"$error":"#REF!"},{"$error":"#REF!"}]
["SF-00044","Remoção de split/fancolete/ACJ (equipamento unitário)","Serviço (Mat + MO)","un",0,{"$f":"OFFSET(INDEX(Composições!A:J,MATCH(Orçamentária!A49,Composições!A:A,0),8),2,0)","v":40.536500000000004},0,{"$f":"IF(A49<>\"\",IF(AND(#REF!=\"Padrão\",$I$4=#REF!),BDI!$B$17,IF(AND(#REF!=\"Padrão\",$I$4=#REF!),BDI!$C$17,IF(AND(#REF!=\"Diferenciado\",$I$4=#REF!),BDI!$G$17,IF(AND(#REF!=\"Diferenciado\",$I$4=#REF!),BDI!$H$17,IF(#REF!=\"ZERO\",0))))),\"\")","v":{"$error":"#REF!"}},{"$error":"#REF!"},{"$error":"#REF!"}]
["SF-00045","Remoção de vidro comum / espelho","Serviço (Mat + MO)","m2",0,{"$f":"OFFSET(INDEX(Composições!A:J,MATCH(Orçamentária!A50,Composições!A:A,0),8),2,0)","v":13.5318},0,{"$f":"IF(A50<>\"\",IF(AND(#REF!=\"Padrão\",$I$4=#REF!),BDI!$B$17,IF(AND(#REF!=\"Padrão\",$I$4=#REF!),BDI!$C$17,IF(AND(#REF!=\"Diferenciado\",$I$4=#REF!),BDI!$G$17,IF(AND(#REF!=\"Diferenciado\",$I$4=#REF!),BDI!$H$17,IF(#REF!=\"ZERO\",0))))),\"\")","v":{"$error":"#REF!"}},{"$error":"#REF!"},{"$error":"#REF!"}]
["SF-00046","Retirada de entulhos","Serviço (Mat + MO)","m3",0,{"$f":"OFFSET(INDEX(Composições!A:J,MATCH(Orçamentária!A51,Composições!A:A,0),8),2,0)","v":16.311500000000002},0,{"$f":"IF(A51<>\"\",IF(AND(#REF!=\"Padrão\",$I$4=#REF!),BDI!$B$17,IF(AND(#REF!=\"Padrão\",$I$4=#REF!),BDI!$C$17,IF(AND(#REF!=\"Diferenciado\",$I$4=#REF!),BDI!$G$17,IF(AND(#REF!=\"Diferenciado\",$I$4=#REF!),BDI!$H$17,IF(#REF!=\"ZERO\",0))))),\"\")","v":{"$error":"#REF!"}},{"$error":"#REF!"},{"$error":"#REF!"}]
["SF-00047","Absorvedor de energia para linha de vida","Serviço (Mat + MO)","un",0,"","",{"$f":"IF(A52<>\"\",IF(AND(#REF!=\"Padrão\",$I$4=#REF!),BDI!$B$17,IF(AND(#REF!=\"Padrão\",$I$4=#REF!),BDI!$C$17,IF(AND(#REF!=\"Diferenciado\",$I$4=#REF!),BDI!$G$17,IF(AND(#REF!=\"Diferenciado\",$I$4=#REF!),BDI!$H$17,IF(#REF!=\"ZERO\",0))))),\"\")","v":{"$error":"#REF!"}},"",""]
["SF-00048","Andaime fachadeiro","Locação","m2 x mês",0,{"$f":"OFFSET(INDEX(Composições!A:J,MATCH(Orçamentária!A53,Composições!A:A,0),8),2,0)","v":3.7905000000000002},0,{"$f":"IF(A53<>\"\",IF(AND(#REF!=\"Padrão\",$I$4=#REF!),BDI!$B$17,IF(AND(#REF!=\"Padrão\",$I$4=#REF!),BDI!$C$17,IF(AND(#REF!=\"Diferenciado\",$I$4=#REF!),BDI!$G$17,IF(AND(#REF!=\"Diferenciado\",$I$4=#REF!),BDI!$H$17,IF(#REF!=\"ZERO\",0))))),\"\")","v":{"$error":"#REF!"}},{"$error":"#REF!"},{"$error":"#REF!"}]
["SF-00049","Andaime tubular (aluguel/mês)","Locação","m x mês",0,{"$f":"OFFSET(INDEX(Composições!A:J,MATCH(Orçamentária!A54,Composições!A:A,0),8),2,0)","v":11.399999999999999},0,{"$f":"IF(A54<>\"\",IF(AND(#REF!=\"Padrão\",$I$4=#REF!),BDI!$B$17,IF(AND(#REF!=\"Padrão\",$I$4=#REF!),BDI!$C$17,IF(AND(#REF!=\"Diferenciado\",$I$4=#REF!),BDI!$G$17,IF(AND(#REF!=\"Diferenciado\",$I$4=#REF!),BDI!$H$17,IF(#REF!=\"ZERO\",0))))),\"\")","v":{"$error":"#REF!"}},{"$error":"#REF!"},{"$error":"#REF!"}]
["SF-00050","Cabo de aço com 8 mm de diâmetro galvanizado para linha de vida","Serviço (Mat + MO)","m",0,"","",{"$f":"IF(A55<>\"\",IF(AND(#REF!=\"Padrão\",$I$4=#REF!),BDI!$B$17,IF(AND(#REF!=\"Padrão\",$I$4=#REF!),BDI!$C$17,IF(AND(#REF!=\"Diferenciado\",$I$4=#REF!),BDI!$G$17,IF(AND(#REF!=\"Diferenciado\",$I$4=#REF!),BDI!$H$17,IF(#REF!=\"ZERO\",0))))),\"\")","v":{"$error":"#REF!"}},"",""]
["SF-00051","Corda de poliamida 12 mm tipo bombeiro, para trabalho em altura","Serviço (Mat + MO)","m",0,{"$f":"OFFSET(INDEX(Composições!A:J,MATCH(Orçamentária!A56,Composições!A:A,0),8),2,0)","v":4.6630750000000001},0,{"$f":"IF(A56<>\"\",IF(AND(#REF!=\"Padrão\",$I$4=#REF!),BDI!$B$17,IF(AND(#REF!=\"Padrão\",$I$4=#REF!),BDI!$C$17,IF(AND(#REF!=\"Diferenciado\",$I$4=#REF!),BDI!$G$17,IF(AND(#REF!=\"Diferenciado\",$I$4=#REF!),BDI!$H$17,IF(#REF!=\"ZERO\",0))))),\"\")","v":{"$error":"#REF!"}},{"$error":"#REF!"},{"$error":"#REF!"}]
["SF-00052","Ensaio de ponto de ancoragem existente","Serviço (Mat + MO)","un",0,"","",{"$f":"IF(A57<>\"\",IF(AND(#REF!=\"Padrão\",$I$4=#REF!),BDI!$B$17,IF(AND(#REF!=\"Padrão\",$I$4=#REF!),BDI!$C$17,IF(AND(#REF!=\"Diferenciado\",$I$4=#REF!),BDI!$G$17,IF(AND(#REF!=\"Diferenciado\",$I$4=#REF!),BDI!$H$17,IF(#REF!=\"ZERO\",0))))),\"\")","v":{"$error":"#REF!"}},"",""]
["SF-00053","Escadas de acesso para andaime tubular","Locação","m x mês",0,"","",{"$f":"IF(A58<>\"\",IF(AND(#REF!=\"Padrão\",$I$4=#REF!),BDI!$B$17,IF(AND(#REF!=\"Padrão\",$I$4=#REF!),BDI!$C$17,IF(AND(#REF!=\"Diferenciado\",$I$4=#REF!),BDI!$G$17,IF(AND(#REF!=\"Diferenciado\",$I$4=#REF!),BDI!$H$17,IF(#REF!=\"ZERO\",0))))),\"\")","v":{"$error":"#REF!"}},"",""]
["SF-00054","Esticador de cabo de aço","Serviço (Mat + MO)","un",0,"","",{"$f":"IF(A59<>\"\",IF(AND(#REF!=\"Padrão\",$I$4=#REF!),BDI!$B$17,IF(AND(#REF!=\"Padrão\",$I$4=#REF!),BDI!$C$17,IF(AND(#REF!=\"Diferenciado\",$I$4=#REF!),BDI!$G$17,IF(AND(#REF!=\"Diferenciado\",$I$4=#REF!),BDI!$H$17,IF(#REF!=\"ZERO\",0))))),\"\")","v":{"$error":"#REF!"}},"",""]
["SF-00055","Guarda-corpo com rodapé para andaime tubular","Locação","m x mês",0,"","",{"$f":"IF(A60<>\"\",IF(AND(#REF!=\"Padrão\",$I$4=#REF!),BDI!$B$17,IF(AND(#REF!=\"Padrão\",$I$4=#REF!),BDI!$C$17,IF(AND(#REF!=\"Diferenciado\",$I$4=#REF!),BDI!$G$17,IF(AND(#REF!=\"Diferenciado\",$I$4=#REF!),BDI!$H$17,IF(#REF!=\"ZERO\",0))))),\"\")","v":{"$error":"#REF!"}},"",""]
["SF-00056","Indicador de tensão","Serviço (Mat + MO)","un",0,"","",{"$f":"IF(A61<>\"\",IF(AND(#REF!=\"Padrão\",$I$4=#REF!),BDI!$B$17,IF(AND(#REF!=\"Padrão\",$I$4=#REF!),BDI!$C$17,IF(AND(#REF!=\"Diferenciado\",$I$4=#REF!),BDI!$G$17,IF(AND(#REF!=\"Diferenciado\",$I$4=#REF!),BDI!$H$17,IF(#REF!=\"ZERO\",0))))),\"\")","v":{"$error":"#REF!"}},"",""]
["SF-00057","Isolamento de obra com tela plástica com malha de 5mm e estrutura de madeira pontaleteada","Serviço (Mat + MO)","m2",0,{"$f":"OFFSET(INDEX(Composições!A:J,MATCH(Orçamentária!A62,Composições!A:A,0),8),2,0)","v":19.443649999999998},0,{"$f":"IF(A62<>\"\",IF(AND(#REF!=\"Padrão\",$I$4=#REF!),BDI!$B$17,IF(AND(#REF!=\"Padrão\",$I$4=#REF!),BDI!$C$17,IF(AND(#REF!=\"Diferenciado\",$I$4=#REF!),BDI!$G$17,IF(AND(#REF!=\"Diferenciado\",$I$4=#REF!),BDI!$H$17,IF(#REF!=\"ZERO\",0))))),\"\")","v":{"$error":"#REF!"}},{"$error":"#REF!"},{"$error":"#REF!"}]
["SF-00058","Suporte intermediário curvo para linha de vida","Serviço (Mat + MO)","un",0,"","",{"$f":"IF(A63<>\"\",IF(AND(#REF!=\"Padrão\",$I$4=#REF!),BDI!$B$17,IF(AND(#REF!=\"Padrão\",$I$4=#REF!),BDI!$C$17,IF(AND(#REF!=\"Diferenciado\",$I$4=#REF!),BDI!$G$17,IF(AND(#REF!=\"Diferenciado\",$I$4=#REF!),BDI!$H$17,IF(#REF!=\"ZERO\",0))))),\"\")","v":{"$error":"#REF!"}},"",""]
["SF-00059","Kit de linha de vida para escada de marinheiro","Serviço (Mat + MO)","un",0,"","",{"$f":"IF(A64<>\"\",IF(AND(#REF!=\"Padrão\",$I$4=#REF!),BDI!$B$17,IF(AND(#REF!=\"Padrão\",$I$4=#REF!),BDI!$C$17,IF(AND(#REF!=\"Diferenciado\",$I$4=#REF!),BDI!$G$17,IF(AND(#REF!=\"Diferenciado\",$I$4=#REF!),BDI!$H$17,IF(#REF!=\"ZERO\",0))))),\"\")","v":{"$error":"#REF!"}},"",""]
["SF-00060","Kit para montagem de dois olhais","Serviço (Mat + MO)","un",0,"","",{"$f":"IF(A65<>\"\",IF(AND(#REF!=\"Padrão\",$I$4=#REF!),BDI!$B$17,IF(AND(#REF!=\"Padrão\",$I$4=#REF!),BDI!$C$17,IF(AND(#REF!=\"Diferenciado\",$I$4=#REF!),BDI!$G$17,IF(AND(#REF!=\"Diferenciado\",$I$4=#REF!),BDI!$H$17,IF(#REF!=\"ZERO\",0))))),\"\")","v":{"$error":"#REF!"}},"",""]
["SF-00061","Manilha com travamento por porca e cupilha","Serviço (Mat + MO)","un",0,"","",{"$f":"IF(A66<>\"\",IF(AND(#REF!=\"Padrão\",$I$4=#REF!),BDI!$B$17,IF(AND(#REF!=\"Padrão\",$I$4=#REF!),BDI!$C$17,IF(AND(#REF!=\"Diferenciado\",$I$4=#REF!),BDI!$G$17,IF(AND(#REF!=\"Diferenciado\",$I$4=#REF!),BDI!$H$17,IF(#REF!=\"ZERO\",0))))),\"\")","v":{"$error":"#REF!"}},"",""]
["SF-00062","Pilar de ancoragem para linha de vida","Serviço (Mat + MO)","un",0,"","",{"$f":"IF(A67<>\"\",IF(AND(#REF!=\"Padrão\",$I$4=#REF!),BDI!$B$17,IF(AND(#REF!=\"Padrão\",$I$4=#REF!),BDI!$C$17,IF(AND(#REF!=\"Diferenciado\",$I$4=#REF!),BDI!$G$17,IF(AND(#REF!=\"Diferenciado\",$I$4=#REF!),BDI!$H$17,IF(#REF!=\"ZERO\",0))))),\"\")","v":{"$error":"#REF!"}},"",""]
["SF-00063","Piso metálico para andaime tubular","Locação","m2 x mês",0,"","",{"$f":"IF(A68<>\"\",IF(AND(#REF!=\"Padrão\",$I$4=#REF!),BDI!$B$17,IF(AND(#REF!=\"Padrão\",$I$4=#REF!),BDI!$C$17,IF(AND(#REF!=\"Diferenciado\",$I$4=#REF!),BDI!$G$17,IF(AND(#REF!=\"Diferenciado\",$I$4=#REF!),BDI!$H$17,IF(#REF!=\"ZERO\",0))))),\"\")","v":{"$error":"#REF!"}},"",""]
["SF-00064","Placa de ancoragem para extremidade","Serviço (Mat + MO)","un",0,"","",{"$f":"IF(A69<>\"\",IF(AND(#REF!=\"Padrão\",$I$4=#REF!),BDI!$B$17,IF(AND(#REF!=\"Padrão\",$I$4=#REF!),BDI!$C$17,IF(AND(#REF!=\"Diferenciado\",$I$4=#REF!),BDI!$G$17,IF(AND(#REF!=\"Diferenciado\",$I$4=#REF!),BDI!$H$17,IF(#REF!=\"ZERO\",0))))),\"\")","v":{"$error":"#REF!"}},"",""]
["SF-00065","Placa de ancoragem para montagem no pilar","Serviço (Mat + MO)","un",0,"","",{"$f":"IF(A70<>\"\",IF(AND(#REF!=\"Padrão\",$I$4=#REF!),BDI!$B$17,IF(AND(#REF!=\"Padrão\",$I$4=#REF!),BDI!$C$17,IF(AND(#REF!=\"Diferenciado\",$I$4=#REF!),BDI!$G$17,IF(AND(#REF!=\"Diferenciado\",$I$4=#REF!),BDI!$H$17,IF(#REF!=\"ZERO\",0))))),\"\")","v":{"$error":"#REF!"}},"",""]
["SF-00066","Ponto de ancoragem","Serviço (Mat + MO)","un",0,"",{"$f":"IF(ISNUMBER(F71),ROUND(E71*F71,2),\"\")","v":""},{"$f":"IF(A71<>\"\",IF(AND(#REF!=\"Padrão\",$I$4=#REF!),BDI!$B$17,IF(AND(#REF!=\"Padrão\",$I$4=#REF!),BDI!$C$17,IF(AND(#REF!=\"Diferenciado\",$I$4=#REF!),BDI!$G$17,IF(AND(#REF!=\"Diferenciado\",$I$4=#REF!),BDI!$H$17,IF(#REF!=\"ZERO\",0))))),\"\")","v":{"$error":"#REF!"}},{"$f":"IF(ISNUMBER(F71),ROUND(F71*(1+H71),2),\"\")","v":""},{"$f":"IF(ISNUMBER(F71),ROUND(I71*E71,2),\"\")","v":""}]
["SF-00067","Sapatas e rodízios para andaime tubular","Locação","conj x mês",0,"","",{"$f":"IF(A72<>\"\",IF(AND(#REF!=\"Padrão\",$I$4=#REF!),BDI!$B$17,IF(AND(#REF!=\"Padrão\",$I$4=#REF!),BDI!$C$17,IF(AND(#REF!=\"Diferenciado\",$I$4=#REF!),BDI!$G$17,IF(AND(#REF!=\"Diferenciado\",$I$4=#REF!),BDI!$H$17,IF(#REF!=\"ZERO\",0))))),\"\")","v":{"$error":"#REF!"}},"",""]
["SF-00068","Sistema Guarda-corpo-Rodapé (GcR) metálico","Locação","m x mês",0,"","",{"$f":"IF(A73<>\"\",IF(AND(#REF!=\"Padrão\",$I$4=#REF!),BDI!$B$17,IF(AND(#REF!=\"Padrão\",$I$4=#REF!),BDI!$C$17,IF(AND(#REF!=\"Diferenciado\",$I$4=#REF!),BDI!$G$17,IF(AND(#REF!=\"Diferenciado\",$I$4=#REF!),BDI!$H$17,IF(#REF!=\"ZERO\",0))))),\"\")","v":{"$error":"#REF!"}},"",""]
["SF-00069","Suporte intermediário para linha de vida","Serviço (Mat + MO)","un",0,"","",{"$f":"IF(A74<>\"\",IF(AND(#REF!=\"Padrão\",$I$4=#REF!),BDI!$B$17,IF(AND(#REF!=\"Padrão\",$I$4=#REF!),BDI!$C$17,IF(AND(#REF!=\"Diferenciado\",$I$4=#REF!),BDI!$G$17,IF(AND(#REF!=\"Diferenciado\",$I$4=#REF!),BDI!$H$17,IF(#REF!=\"ZERO\",0))))),\"\")","v":{"$error":"#REF!"}},"",""]
["SF-00070","Tapume","Serviço (Mat + MO)","m2",0,{"$f":"OFFSET(INDEX(Composições!A:J,MATCH(Orçamentária!A75,Composições!A:A,0),8),2,0)","v":55.573916999999994},0,{"$f":"IF(A75<>\"\",IF(AND(#REF!=\"Padrão\",$I$4=#REF!),BDI!$B$17,IF(AND(#REF!=\"Padrão\",$I$4=#REF!),BDI!$C$17,IF(AND(#REF!=\"Diferenciado\",$I$4=#REF!),BDI!$G$17,IF(AND(#REF!=\"Diferenciado\",$I$4=#REF!),BDI!$H$17,IF(#REF!=\"ZERO\",0))))),\"\")","v":{"$error":"#REF!"}},{"$error":"#REF!"},{"$error":"#REF!"}]
["SF-00071","Trole para linha de vida horizontal","Serviço (Mat + MO)","un",0,"","",{"$f":"IF(A76<>\"\",IF(AND(#REF!=\"Padrão\",$I$4=#REF!),BDI!$B$17,IF(AND(#REF!=\"Padrão\",$I$4=#REF!),BDI!$C$17,IF(AND(#REF!=\"Diferenciado\",$I$4=#REF!),BDI!$G$17,IF(AND(#REF!=\"Diferenciado\",$I$4=#REF!),BDI!$H$17,IF(#REF!=\"ZERO\",0))))),\"\")","v":{"$error":"#REF!"}},"",""]
["SF-00072","Trole para travaqueda retrátil","Serviço (Mat + MO)","un",0,"","",{"$f":"IF(A77<>\"\",IF(AND(#REF!=\"Padrão\",$I$4=#REF!),BDI!$B$17,IF(AND(#REF!=\"Padrão\",$I$4=#REF!),BDI!$C$17,IF(AND(#REF!=\"Diferenciado\",$I$4=#REF!),BDI!$G$17,IF(AND(#REF!=\"Diferenciado\",$I$4=#REF!),BDI!$H$17,IF(#REF!=\"ZERO\",0))))),\"\")","v":{"$error":"#REF!"}},"",""]
["SF-00073","Limpeza final de obra","Serviço (Mat + MO)","m2",0,{"$f":"OFFSET(INDEX(Composições!A:J,MATCH(Orçamentária!A78,Composições!A:A,0),8),2,0)","v":1.9900030000000002},0,{"$f":"IF(A78<>\"\",IF(AND(#REF!=\"Padrão\",$I$4=#REF!),BDI!$B$17,IF(AND(#REF!=\"Padrão\",$I$4=#REF!),BDI!$C$17,IF(AND(#REF!=\"Diferenciado\",$I$4=#REF!),BDI!$G$17,IF(AND(#REF!=\"Diferenciado\",$I$4=#REF!),BDI!$H$17,IF(#REF!=\"ZERO\",0))))),\"\")","v":{"$error":"#REF!"}},{"$error":"#REF!"},{"$error":"#REF!"}]
["SF-00074","Abertura/fechamento rasgo em alvenaria","Serviço (Mat + MO)","m",0,{"$f":"OFFSET(INDEX(Composições!A:J,MATCH(Orçamentária!A79,Composições!A:A,0),8),2,0)","v":16.268622807758501},0,{"$f":"IF(A79<>\"\",IF(AND(#REF!=\"Padrão\",$I$4=#REF!),BDI!$B$17,IF(AND(#REF!=\"Padrão\",$I$4=#REF!),BDI!$C$17,IF(AND(#REF!=\"Diferenciado\",$I$4=#REF!),BDI!$G$17,IF(AND(#REF!=\"Diferenciado\",$I$4=#REF!),BDI!$H$17,IF(#REF!=\"ZERO\",0))))),\"\")","v":{"$error":"#REF!"}},{"$error":"#REF!"},{"$error":"#REF!"}]
["SF-00075","Furo em concreto de até 75mm de diâmetro","Serviço (Mat + MO)","un",0,{"$f":"OFFSET(INDEX(Composições!A:J,MATCH(Orçamentária!A80,Composições!A:A,0),8),2,0)","v":81.449000499999997},0,{"$f":"IF(A80<>\"\",IF(AND(#REF!=\"Padrão\",$I$4=#REF!),BDI!$B$17,IF(AND(#REF!=\"Padrão\",$I$4=#REF!),BDI!$C$17,IF(AND(#REF!=\"Diferenciado\",$I$4=#REF!),BDI!$G$17,IF(AND(#REF!=\"Diferenciado\",$I$4=#REF!),BDI!$H$17,IF(#REF!=\"ZERO\",0))))),\"\")","v":{"$error":"#REF!"}},{"$error":"#REF!"},{"$error":"#REF!"}]
["SF-00076","Furo em concreto para diâmetros maiores que 75mm","Serviço (Mat + MO)","un",0,{"$f":"OFFSET(INDEX(Composições!A:J,MATCH(Orçamentária!A81,Composições!A:A,0),8),2,0)","v":104.02793549999998},0,{"$f":"IF(A81<>\"\",IF(AND(#REF!=\"Padrão\",$I$4=#REF!),BDI!$B$17,IF(AND(#REF!=\"Padrão\",$I$4=#REF!),BDI!$C$17,IF(AND(#REF!=\"Diferenciado\",$I$4=#REF!),BDI!$G$17,IF(AND(#REF!=\"Diferenciado\",$I$4=#REF!),BDI!$H$17,IF(#REF!=\"ZERO\",0))))),\"\")","v":{"$error":"#REF!"}},{"$error":"#REF!"},{"$error":"#REF!"}]
["SF-00077","Concreto virado em betoneira, fck = 15 MPa","Serviço (Mat + MO)","m3",0,{"$f":"OFFSET(INDEX(Composições!A:J,MATCH(Orçamentária!A82,Composições!A:A,0),8),2,0)","v":544.11849042640006},0,{"$f":"IF(A82<>\"\",IF(AND(#REF!=\"Padrão\",$I$4=#REF!),BDI!$B$17,IF(AND(#REF!=\"Padrão\",$I$4=#REF!),BDI!$C$17,IF(AND(#REF!=\"Diferenciado\",$I$4=#REF!),BDI!$G$17,IF(AND(#REF!=\"Diferenciado\",$I$4=#REF!),BDI!$H$17,IF(#REF!=\"ZERO\",0))))),\"\")","v":{"$error":"#REF!"}},{"$error":"#REF!"},{"$error":"#REF!"}]
["SF-00078","Concreto virado em betoneira, fck = 25MPa","Serviço (Mat + MO)","m3",0,{"$f":"OFFSET(INDEX(Composições!A:J,MATCH(Orçamentária!A83,Composições!A:A,0),8),2,0)","v":574.88684074360003},0,{"$f":"IF(A83<>\"\",IF(AND(#REF!=\"Padrão\",$I$4=#REF!),BDI!$B$17,IF(AND(#REF!=\"Padrão\",$I$4=#REF!),BDI!$C$17,IF(AND(#REF!=\"Diferenciado\",$I$4=#REF!),BDI!$G$17,IF(AND(#REF!=\"Diferenciado\",$I$4=#REF!),BDI!$H$17,IF(#REF!=\"ZERO\",0))))),\"\")","v":{"$error":"#REF!"}},{"$error":"#REF!"},{"$error":"#REF!"}]
["SF-00079","Escoramento metálico","Locação","m2 x mês",0,{"$f":"OFFSET(INDEX(Composições!A:J,MATCH(Orçamentária!A84,Composições!A:A,0),8),2,0)","v":13.539874999999999},0,{"$f":"IF(A84<>\"\",IF(AND(#REF!=\"Padrão\",$I$4=#REF!),BDI!$B$17,IF(AND(#REF!=\"Padrão\",$I$4=#REF!),BDI!$C$17,IF(AND(#REF!=\"Diferenciado\",$I$4=#REF!),BDI!$G$17,IF(AND(#REF!=\"Diferenciado\",$I$4=#REF!),BDI!$H$17,IF(#REF!=\"ZERO\",0))))),\"\")","v":{"$error":"#REF!"}},{"$error":"#REF!"},{"$error":"#REF!"}]
["SF-00080","Estrutura metálica em aço","Serviço (Mat + MO)","kg",0,{"$f":"OFFSET(INDEX(Composições!A:J,MATCH(Orçamentária!A85,Composições!A:A,0),8),2,0)","v":11.210854999999999},0,{"$f":"IF(A85<>\"\",IF(AND(#REF!=\"Padrão\",$I$4=#REF!),BDI!$B$17,IF(AND(#REF!=\"Padrão\",$I$4=#REF!),BDI!$C$17,IF(AND(#REF!=\"Diferenciado\",$I$4=#REF!),BDI!$G$17,IF(AND(#REF!=\"Diferenciado\",$I$4=#REF!),BDI!$H$17,IF(#REF!=\"ZERO\",0))))),\"\")","v":{"$error":"#REF!"}},{"$error":"#REF!"},{"$error":"#REF!"}]
["SF-00081","Forma para estruturas de concreto","Serviço (Mat + MO)","m2",0,{"$f":"OFFSET(INDEX(Composições!A:J,MATCH(Orçamentária!A86,Composições!A:A,0),8),2,0)","v":119.87395810999999},0,{"$f":"IF(A86<>\"\",IF(AND(#REF!=\"Padrão\",$I$4=#REF!),BDI!$B$17,IF(AND(#REF!=\"Padrão\",$I$4=#REF!),BDI!$C$17,IF(AND(#REF!=\"Diferenciado\",$I$4=#REF!),BDI!$G$17,IF(AND(#REF!=\"Diferenciado\",$I$4=#REF!),BDI!$H$17,IF(#REF!=\"ZERO\",0))))),\"\")","v":{"$error":"#REF!"}},{"$error":"#REF!"},{"$error":"#REF!"}]
["SF-00082","Verga/contraverga/cinta em bloco de concreto canaleta 11,5 x 19 x 39 cm","Serviço (Mat + MO)","m",0,{"$f":"OFFSET(INDEX(Composições!A:J,MATCH(Orçamentária!A87,Composições!A:A,0),8),2,0)","v":19.523378142000002},0,{"$f":"IF(A87<>\"\",IF(AND(#REF!=\"Padrão\",$I$4=#REF!),BDI!$B$17,IF(AND(#REF!=\"Padrão\",$I$4=#REF!),BDI!$C$17,IF(AND(#REF!=\"Diferenciado\",$I$4=#REF!),BDI!$G$17,IF(AND(#REF!=\"Diferenciado\",$I$4=#REF!),BDI!$H$17,IF(#REF!=\"ZERO\",0))))),\"\")","v":{"$error":"#REF!"}},{"$error":"#REF!"},{"$error":"#REF!"}]
["SF-00083","Impermeabilização de superfície com revestimento bicomponente semi flexível","Serviço (Mat + MO)","m2",0,{"$f":"OFFSET(INDEX(Composições!A:J,MATCH(Orçamentária!A88,Composições!A:A,0),8),2,0)","v":21.442564000000001},0,{"$f":"IF(A88<>\"\",IF(AND(#REF!=\"Padrão\",$I$4=#REF!),BDI!$B$17,IF(AND(#REF!=\"Padrão\",$I$4=#REF!),BDI!$C$17,IF(AND(#REF!=\"Diferenciado\",$I$4=#REF!),BDI!$G$17,IF(AND(#REF!=\"Diferenciado\",$I$4=#REF!),BDI!$H$17,IF(#REF!=\"ZERO\",0))))),\"\")","v":{"$error":"#REF!"}},{"$error":"#REF!"},{"$error":"#REF!"}]
["SF-00084","Alvenaria de vedação","Serviço (Mat + MO)","m2",0,{"$f":"OFFSET(INDEX(Composições!A:J,MATCH(Orçamentária!A89,Composições!A:A,0),8),2,0)","v":68.554339186086807},0,{"$f":"IF(A89<>\"\",IF(AND(#REF!=\"Padrão\",$I$4=#REF!),BDI!$B$17,IF(AND(#REF!=\"Padrão\",$I$4=#REF!),BDI!$C$17,IF(AND(#REF!=\"Diferenciado\",$I$4=#REF!),BDI!$G$17,IF(AND(#REF!=\"Diferenciado\",$I$4=#REF!),BDI!$H$17,IF(#REF!=\"ZERO\",0))))),\"\")","v":{"$error":"#REF!"}},{"$error":"#REF!"},{"$error":"#REF!"}]
["SF-00085","Fechamento ou shaft em gesso acartonado tipo drywall","Serviço (Mat + MO)","m2",0,{"$f":"OFFSET(INDEX(Composições!A:J,MATCH(Orçamentária!A90,Composições!A:A,0),8),2,0)","v":38.498479249999995},0,{"$f":"IF(A90<>\"\",IF(AND(#REF!=\"Padrão\",$I$4=#REF!),BDI!$B$17,IF(AND(#REF!=\"Padrão\",$I$4=#REF!),BDI!$C$17,IF(AND(#REF!=\"Diferenciado\",$I$4=#REF!),BDI!$G$17,IF(AND(#REF!=\"Diferenciado\",$I$4=#REF!),BDI!$H$17,IF(#REF!=\"ZERO\",0))))),\"\")","v":{"$error":"#REF!"}},{"$error":"#REF!"},{"$error":"#REF!"}]
["SF-00086","Fixação (encunhamento) de Alvenaria de Vedação","Serviço (Mat + MO)","m",0,{"$f":"OFFSET(INDEX(Composições!A:J,MATCH(Orçamentária!A91,Composições!A:A,0),8),2,0)","v":23.2085424882636},0,{"$f":"IF(A91<>\"\",IF(AND(#REF!=\"Padrão\",$I$4=#REF!),BDI!$B$17,IF(AND(#REF!=\"Padrão\",$I$4=#REF!),BDI!$C$17,IF(AND(#REF!=\"Diferenciado\",$I$4=#REF!),BDI!$G$17,IF(AND(#REF!=\"Diferenciado\",$I$4=#REF!),BDI!$H$17,IF(#REF!=\"ZERO\",0))))),\"\")","v":{"$error":"#REF!"}},{"$error":"#REF!"},{"$error":"#REF!"}]
["SF-00087","Parede em gesso acartonado (drywall)","Serviço (Mat + MO)","m2",0,{"$f":"OFFSET(INDEX(Composições!A:J,MATCH(Orçamentária!A92,Composições!A:A,0),8),2,0)","v":57.304791350000002},0,{"$f":"IF(A92<>\"\",IF(AND(#REF!=\"Padrão\",$I$4=#REF!),BDI!$B$17,IF(AND(#REF!=\"Padrão\",$I$4=#REF!),BDI!$C$17,IF(AND(#REF!=\"Diferenciado\",$I$4=#REF!),BDI!$G$17,IF(AND(#REF!=\"Diferenciado\",$I$4=#REF!),BDI!$H$17,IF(#REF!=\"ZERO\",0))))),\"\")","v":{"$error":"#REF!"}},{"$error":"#REF!"},{"$error":"#REF!"}]
["SF-00088","Reparos superficiais em painéis de gesso acartonado","Serviço (Mat + MO)","m2",0,{"$f":"OFFSET(INDEX(Composições!A:J,MATCH(Orçamentária!A93,Composições!A:A,0),8),2,0)","v":4.4973969},0,{"$f":"IF(A93<>\"\",IF(AND(#REF!=\"Padrão\",$I$4=#REF!),BDI!$B$17,IF(AND(#REF!=\"Padrão\",$I$4=#REF!),BDI!$C$17,IF(AND(#REF!=\"Diferenciado\",$I$4=#REF!),BDI!$G$17,IF(AND(#REF!=\"Diferenciado\",$I$4=#REF!),BDI!$H$17,IF(#REF!=\"ZERO\",0))))),\"\")","v":{"$error":"#REF!"}},{"$error":"#REF!"},{"$error":"#REF!"}]
["SF-00089","Sóculo h=10 cm","Serviço (Mat + MO)","m2",0,{"$f":"OFFSET(INDEX(Composições!A:J,MATCH(Orçamentária!A94,Composições!A:A,0),8),2,0)","v":73.678813597852184},0,{"$f":"IF(A94<>\"\",IF(AND(#REF!=\"Padrão\",$I$4=#REF!),BDI!$B$17,IF(AND(#REF!=\"Padrão\",$I$4=#REF!),BDI!$C$17,IF(AND(#REF!=\"Diferenciado\",$I$4=#REF!),BDI!$G$17,IF(AND(#REF!=\"Diferenciado\",$I$4=#REF!),BDI!$H$17,IF(#REF!=\"ZERO\",0))))),\"\")","v":{"$error":"#REF!"}},{"$error":"#REF!"},{"$error":"#REF!"}]
["SF-00090","Chapisco colante industrializado em vigas e pilares","Serviço (Mat + MO)","m2",0,{"$f":"OFFSET(INDEX(Composições!A:J,MATCH(Orçamentária!A95,Composições!A:A,0),8),2,0)","v":9.1518854580000006},0,{"$f":"IF(A95<>\"\",IF(AND(#REF!=\"Padrão\",$I$4=#REF!),BDI!$B$17,IF(AND(#REF!=\"Padrão\",$I$4=#REF!),BDI!$C$17,IF(AND(#REF!=\"Diferenciado\",$I$4=#REF!),BDI!$G$17,IF(AND(#REF!=\"Diferenciado\",$I$4=#REF!),BDI!$H$17,IF(#REF!=\"ZERO\",0))))),\"\")","v":{"$error":"#REF!"}},{"$error":"#REF!"},{"$error":"#REF!"}]
["SF-00091","Chapisco com argamassa traço 1:3","Serviço (Mat + MO)","m2",0,{"$f":"OFFSET(INDEX(Composições!A:J,MATCH(Orçamentária!A96,Composições!A:A,0),8),2,0)","v":3.8012853797197996},0,{"$f":"IF(A96<>\"\",IF(AND(#REF!=\"Padrão\",$I$4=#REF!),BDI!$B$17,IF(AND(#REF!=\"Padrão\",$I$4=#REF!),BDI!$C$17,IF(AND(#REF!=\"Diferenciado\",$I$4=#REF!),BDI!$G$17,IF(AND(#REF!=\"Diferenciado\",$I$4=#REF!),BDI!$H$17,IF(#REF!=\"ZERO\",0))))),\"\")","v":{"$error":"#REF!"}},{"$error":"#REF!"},{"$error":"#REF!"}]
["SF-00092","Gesso cola","Serviço (Mat + MO)","m2",0,{"$f":"OFFSET(INDEX(Composições!A:J,MATCH(Orçamentária!A97,Composições!A:A,0),8),2,0)","v":10.09432},0,{"$f":"IF(A97<>\"\",IF(AND(#REF!=\"Padrão\",$I$4=#REF!),BDI!$B$17,IF(AND(#REF!=\"Padrão\",$I$4=#REF!),BDI!$C$17,IF(AND(#REF!=\"Diferenciado\",$I$4=#REF!),BDI!$G$17,IF(AND(#REF!=\"Diferenciado\",$I$4=#REF!),BDI!$H$17,IF(#REF!=\"ZERO\",0))))),\"\")","v":{"$error":"#REF!"}},{"$error":"#REF!"},{"$error":"#REF!"}]
["SF-00093","Reboco com argamassa industrializada e=2,0 cm","Serviço (Mat + MO)","m2",0,{"$f":"OFFSET(INDEX(Composições!A:J,MATCH(Orçamentária!A98,Composições!A:A,0),8),2,0)","v":33.777977700000001},0,{"$f":"IF(A98<>\"\",IF(AND(#REF!=\"Padrão\",$I$4=#REF!),BDI!$B$17,IF(AND(#REF!=\"Padrão\",$I$4=#REF!),BDI!$C$17,IF(AND(#REF!=\"Diferenciado\",$I$4=#REF!),BDI!$G$17,IF(AND(#REF!=\"Diferenciado\",$I$4=#REF!),BDI!$H$17,IF(#REF!=\"ZERO\",0))))),\"\")","v":{"$error":"#REF!"}},{"$error":"#REF!"},{"$error":"#REF!"}]
["SF-00094","Regularização com argamassa industrializada e=0,5 cm","Serviço (Mat + MO)","m2",0,{"$f":"OFFSET(INDEX(Composições!A:J,MATCH(Orçamentária!A99,Composições!A:A,0),8),2,0)","v":11.680281825},0,{"$f":"IF(A99<>\"\",IF(AND(#REF!=\"Padrão\",$I$4=#REF!),BDI!$B$17,IF(AND(#REF!=\"Padrão\",$I$4=#REF!),BDI!$C$17,IF(AND(#REF!=\"Diferenciado\",$I$4=#REF!),BDI!$G$17,IF(AND(#REF!=\"Diferenciado\",$I$4=#REF!),BDI!$H$17,IF(#REF!=\"ZERO\",0))))),\"\")","v":{"$error":"#REF!"}},{"$error":"#REF!"},{"$error":"#REF!"}]
["SF-00095","Tratamento de trincas superficiais","Serviço (Mat + MO)","m",0,{"$f":"OFFSET(INDEX(Composições!A:J,MATCH(Orçamentária!A100,Composições!A:A,0),8),2,0)","v":19.4923869},0,{"$f":"IF(A100<>\"\",IF(AND(#REF!=\"Padrão\",$I$4=#REF!),BDI!$B$17,IF(AND(#REF!=\"Padrão\",$I$4=#REF!),BDI!$C$17,IF(AND(#REF!=\"Diferenciado\",$I$4=#REF!),BDI!$G$17,IF(AND(#REF!=\"Diferenciado\",$I$4=#REF!),BDI!$H$17,IF(#REF!=\"ZERO\",0))))),\"\")","v":{"$error":"#REF!"}},{"$error":"#REF!"},{"$error":"#REF!"}]
["SF-00096","Aplicação de fundo selador base água","Serviço (Mat + MO)","m2",0,{"$f":"OFFSET(INDEX(Composições!A:J,MATCH(Orçamentária!A101,Composições!A:A,0),8),2,0)","v":2.8813784999999998},0,{"$f":"IF(A101<>\"\",IF(AND(#REF!=\"Padrão\",$I$4=#REF!),BDI!$B$17,IF(AND(#REF!=\"Padrão\",$I$4=#REF!),BDI!$C$17,IF(AND(#REF!=\"Diferenciado\",$I$4=#REF!),BDI!$G$17,IF(AND(#REF!=\"Diferenciado\",$I$4=#REF!),BDI!$H$17,IF(#REF!=\"ZERO\",0))))),\"\")","v":{"$error":"#REF!"}},{"$error":"#REF!"},{"$error":"#REF!"}]
["SF-00097","Fundo anticorrosivo e de aderência (base água)","Serviço (Mat + MO)","m2",0,{"$f":"OFFSET(INDEX(Composições!A:J,MATCH(Orçamentária!A102,Composições!A:A,0),8),2,0)","v":9.8974343999999999},0,{"$f":"IF(A102<>\"\",IF(AND(#REF!=\"Padrão\",$I$4=#REF!),BDI!$B$17,IF(AND(#REF!=\"Padrão\",$I$4=#REF!),BDI!$C$17,IF(AND(#REF!=\"Diferenciado\",$I$4=#REF!),BDI!$G$17,IF(AND(#REF!=\"Diferenciado\",$I$4=#REF!),BDI!$H$17,IF(#REF!=\"ZERO\",0))))),\"\")","v":{"$error":"#REF!"}},{"$error":"#REF!"},{"$error":"#REF!"}]
["SF-00098","Massa acrílica","Serviço (Mat + MO)","m2",0,{"$f":"OFFSET(INDEX(Composições!A:J,MATCH(Orçamentária!A103,Composições!A:A,0),8),2,0)","v":16.765324499999998},0,{"$f":"IF(A103<>\"\",IF(AND(#REF!=\"Padrão\",$I$4=#REF!),BDI!$B$17,IF(AND(#REF!=\"Padrão\",$I$4=#REF!),BDI!$C$17,IF(AND(#REF!=\"Diferenciado\",$I$4=#REF!),BDI!$G$17,IF(AND(#REF!=\"Diferenciado\",$I$4=#REF!),BDI!$H$17,IF(#REF!=\"ZERO\",0))))),\"\")","v":{"$error":"#REF!"}},{"$error":"#REF!"},{"$error":"#REF!"}]
["SF-00099","Massa corrida","Serviço (Mat + MO)","m2",0,{"$f":"OFFSET(INDEX(Composições!A:J,MATCH(Orçamentária!A104,Composições!A:A,0),8),2,0)","v":12.940539000000001},0,{"$f":"IF(A104<>\"\",IF(AND(#REF!=\"Padrão\",$I$4=#REF!),BDI!$B$17,IF(AND(#REF!=\"Padrão\",$I$4=#REF!),BDI!$C$17,IF(AND(#REF!=\"Diferenciado\",$I$4=#REF!),BDI!$G$17,IF(AND(#REF!=\"Diferenciado\",$I$4=#REF!),BDI!$H$17,IF(#REF!=\"ZERO\",0))))),\"\")","v":{"$error":"#REF!"}},{"$error":"#REF!"},{"$error":"#REF!"}]
["SF-00100","Pintura com tinta látex acrílica Premium (paredes)","Serviço (Mat + MO)","m2",0,{"$f":"OFFSET(INDEX(Composições!A:J,MATCH(Orçamentária!A105,Composições!A:A,0),8),2,0)","v":11.9776095},0,{"$f":"IF(A105<>\"\",IF(AND(#REF!=\"Padrão\",$I$4=#REF!),BDI!$B$17,IF(AND(#REF!=\"Padrão\",$I$4=#REF!),BDI!$C$17,IF(AND(#REF!=\"Diferenciado\",$I$4=#REF!),BDI!$G$17,IF(AND(#REF!=\"Diferenciado\",$I$4=#REF!),BDI!$H$17,IF(#REF!=\"ZERO\",0))))),\"\")","v":{"$error":"#REF!"}},{"$error":"#REF!"},{"$error":"#REF!"}]
["SF-00101","Pintura em verniz sintético","Serviço (Mat + MO)","m2",0,{"$f":"OFFSET(INDEX(Composições!A:J,MATCH(Orçamentária!A106,Composições!A:A,0),8),2,0)","v":14.788650000000001},0,{"$f":"IF(A106<>\"\",IF(AND(#REF!=\"Padrão\",$I$4=#REF!),BDI!$B$17,IF(AND(#REF!=\"Padrão\",$I$4=#REF!),BDI!$C$17,IF(AND(#REF!=\"Diferenciado\",$I$4=#REF!),BDI!$G$17,IF(AND(#REF!=\"Diferenciado\",$I$4=#REF!),BDI!$H$17,IF(#REF!=\"ZERO\",0))))),\"\")","v":{"$error":"#REF!"}},{"$error":"#REF!"},{"$error":"#REF!"}]
["SF-00102","Pintura esmalte acetinado (metais e madeiras)","Serviço (Mat + MO)","m2",0,{"$f":"OFFSET(INDEX(Composições!A:J,MATCH(Orçamentária!A107,Composições!A:A,0),8),2,0)","v":12.747100000000001},0,{"$f":"IF(A107<>\"\",IF(AND(#REF!=\"Padrão\",$I$4=#REF!),BDI!$B$17,IF(AND(#REF!=\"Padrão\",$I$4=#REF!),BDI!$C$17,IF(AND(#REF!=\"Diferenciado\",$I$4=#REF!),BDI!$G$17,IF(AND(#REF!=\"Diferenciado\",$I$4=#REF!),BDI!$H$17,IF(#REF!=\"ZERO\",0))))),\"\")","v":{"$error":"#REF!"}},{"$error":"#REF!"},{"$error":"#REF!"}]
["SF-00103","Pintura tinta látex acrílica standard (tetos)","Serviço (Mat + MO)","m2",0,{"$f":"OFFSET(INDEX(Composições!A:J,MATCH(Orçamentária!A108,Composições!A:A,0),8),2,0)","v":13.616435499999998},0,{"$f":"IF(A108<>\"\",IF(AND(#REF!=\"Padrão\",$I$4=#REF!),BDI!$B$17,IF(AND(#REF!=\"Padrão\",$I$4=#REF!),BDI!$C$17,IF(AND(#REF!=\"Diferenciado\",$I$4=#REF!),BDI!$G$17,IF(AND(#REF!=\"Diferenciado\",$I$4=#REF!),BDI!$H$17,IF(#REF!=\"ZERO\",0))))),\"\")","v":{"$error":"#REF!"}},{"$error":"#REF!"},{"$error":"#REF!"}]
["SF-00104","Cerâmica para revestimento de superfícies internas ou externas – Linha Administrativa","Serviço (Mat + MO)","m2",0,{"$f":"OFFSET(INDEX(Composições!A:J,MATCH(Orçamentária!A109,Composições!A:A,0),8),2,0)","v":64.668019999999999},0,{"$f":"IF(A109<>\"\",IF(AND(#REF!=\"Padrão\",$I$4=#REF!),BDI!$B$17,IF(AND(#REF!=\"Padrão\",$I$4=#REF!),BDI!$C$17,IF(AND(#REF!=\"Diferenciado\",$I$4=#REF!),BDI!$G$17,IF(AND(#REF!=\"Diferenciado\",$I$4=#REF!),BDI!$H$17,IF(#REF!=\"ZERO\",0))))),\"\")","v":{"$error":"#REF!"}},{"$error":"#REF!"},{"$error":"#REF!"}]
["SF-00105","Contrapiso em argamassa","Serviço (Mat + MO)","m2",0,{"$f":"OFFSET(INDEX(Composições!A:J,MATCH(Orçamentária!A110,Composições!A:A,0),8),2,0)","v":45.676442247467499},0,{"$f":"IF(A110<>\"\",IF(AND(#REF!=\"Padrão\",$I$4=#REF!),BDI!$B$17,IF(AND(#REF!=\"Padrão\",$I$4=#REF!),BDI!$C$17,IF(AND(#REF!=\"Diferenciado\",$I$4=#REF!),BDI!$G$17,IF(AND(#REF!=\"Diferenciado\",$I$4=#REF!),BDI!$H$17,IF(#REF!=\"ZERO\",0))))),\"\")","v":{"$error":"#REF!"}},{"$error":"#REF!"},{"$error":"#REF!"}]
["SF-00106","Contrapiso em argamassa (e=2cm) ou Regularização de contrapiso existente","Serviço (Mat + MO)","m2",0,{"$f":"OFFSET(INDEX(Composições!A:J,MATCH(Orçamentária!A111,Composições!A:A,0),8),2,0)","v":31.264727305122499},0,{"$f":"IF(A111<>\"\",IF(AND(#REF!=\"Padrão\",$I$4=#REF!),BDI!$B$17,IF(AND(#REF!=\"Padrão\",$I$4=#REF!),BDI!$C$17,IF(AND(#REF!=\"Diferenciado\",$I$4=#REF!),BDI!$G$17,IF(AND(#REF!=\"Diferenciado\",$I$4=#REF!),BDI!$H$17,IF(#REF!=\"ZERO\",0))))),\"\")","v":{"$error":"#REF!"}},{"$error":"#REF!"},{"$error":"#REF!"}]
["SF-00107","Granito cinza andorinha para piso","Serviço (Mat + MO)","m2",0,{"$f":"OFFSET(INDEX(Composições!A:J,MATCH(Orçamentária!A112,Composições!A:A,0),8),2,0)","v":43.224525},0,{"$f":"IF(A112<>\"\",IF(AND(#REF!=\"Padrão\",$I$4=#REF!),BDI!$B$17,IF(AND(#REF!=\"Padrão\",$I$4=#REF!),BDI!$C$17,IF(AND(#REF!=\"Diferenciado\",$I$4=#REF!),BDI!$G$17,IF(AND(#REF!=\"Diferenciado\",$I$4=#REF!),BDI!$H$17,IF(#REF!=\"ZERO\",0))))),\"\")","v":{"$error":"#REF!"}},{"$error":"#REF!"},{"$error":"#REF!"}]
["SF-00108","Granito Cinza Andorinha para rodapé","Serviço (Mat + MO)","m2",0,{"$f":"OFFSET(INDEX(Composições!A:J,MATCH(Orçamentária!A113,Composições!A:A,0),8),2,0)","v":93.847099000000014},0,{"$f":"IF(A113<>\"\",IF(AND(#REF!=\"Padrão\",$I$4=#REF!),BDI!$B$17,IF(AND(#REF!=\"Padrão\",$I$4=#REF!),BDI!$C$17,IF(AND(#REF!=\"Diferenciado\",$I$4=#REF!),BDI!$G$17,IF(AND(#REF!=\"Diferenciado\",$I$4=#REF!),BDI!$H$17,IF(#REF!=\"ZERO\",0))))),\"\")","v":{"$error":"#REF!"}},{"$error":"#REF!"},{"$error":"#REF!"}]
["SF-00109","Granito Cinza Andorinha para soleira e peitoril","Serviço (Mat + MO)","m2",0,{"$f":"OFFSET(INDEX(Composições!A:J,MATCH(Orçamentária!A114,Composições!A:A,0),8),2,0)","v":108.13556735000002},0,{"$f":"IF(A114<>\"\",IF(AND(#REF!=\"Padrão\",$I$4=#REF!),BDI!$B$17,IF(AND(#REF!=\"Padrão\",$I$4=#REF!),BDI!$C$17,IF(AND(#REF!=\"Diferenciado\",$I$4=#REF!),BDI!$G$17,IF(AND(#REF!=\"Diferenciado\",$I$4=#REF!),BDI!$H$17,IF(#REF!=\"ZERO\",0))))),\"\")","v":{"$error":"#REF!"}},{"$error":"#REF!"},{"$error":"#REF!"}]
["SF-00110","Granito Preto São Gabriel para piso","Serviço (Mat + MO)","m2",0,{"$f":"OFFSET(INDEX(Composições!A:J,MATCH(Orçamentária!A115,Composições!A:A,0),8),2,0)","v":43.224525},0,{"$f":"IF(A115<>\"\",IF(AND(#REF!=\"Padrão\",$I$4=#REF!),BDI!$B$17,IF(AND(#REF!=\"Padrão\",$I$4=#REF!),BDI!$C$17,IF(AND(#REF!=\"Diferenciado\",$I$4=#REF!),BDI!$G$17,IF(AND(#REF!=\"Diferenciado\",$I$4=#REF!),BDI!$H$17,IF(#REF!=\"ZERO\",0))))),\"\")","v":{"$error":"#REF!"}},{"$error":"#REF!"},{"$error":"#REF!"}]
["SF-00111","Granito Preto São Gabriel para rodapé","Serviço (Mat + MO)","m2",0,{"$f":"OFFSET(INDEX(Composições!A:J,MATCH(Orçamentária!A116,Composições!A:A,0),8),2,0)","v":93.847099000000014},0,{"$f":"IF(A116<>\"\",IF(AND(#REF!=\"Padrão\",$I$4=#REF!),BDI!$B$17,IF(AND(#REF!=\"Padrão\",$I$4=#REF!),BDI!$C$17,IF(AND(#REF!=\"Diferenciado\",$I$4=#REF!),BDI!$G$17,IF(AND(#REF!=\"Diferenciado\",$I$4=#REF!),BDI!$H$17,IF(#REF!=\"ZERO\",0))))),\"\")","v":{"$error":"#REF!"}},{"$error":"#REF!"},{"$error":"#REF!"}]
["SF-00112","Granito Preto São Gabriel para soleira e peitoril","Serviço (Mat + MO)","m2",0,{"$f":"OFFSET(INDEX(Composições!A:J,MATCH(Orçamentária!A117,Composições!A:A,0),8),2,0)","v":108.13556735000002},0,{"$f":"IF(A117<>\"\",IF(AND(#REF!=\"Padrão\",$I$4=#REF!),BDI!$B$17,IF(AND(#REF!=\"Padrão\",$I$4=#REF!),BDI!$C$17,IF(AND(#REF!=\"Diferenciado\",$I$4=#REF!),BDI!$G$17,IF(AND(#REF!=\"Diferenciado\",$I$4=#REF!),BDI!$H$17,IF(#REF!=\"ZERO\",0))))),\"\")","v":{"$error":"#REF!"}},{"$error":"#REF!"},{"$error":"#REF!"}]
["SF-00113","Instalação de rodapé de madeira reaproveitado","Serviço (Mat + MO)","m",0,{"$f":"OFFSET(INDEX(Composições!A:J,MATCH(Orçamentária!A118,Composições!A:A,0),8),2,0)","v":12.432604399999999},0,{"$f":"IF(A118<>\"\",IF(AND(#REF!=\"Padrão\",$I$4=#REF!),BDI!$B$17,IF(AND(#REF!=\"Padrão\",$I$4=#REF!),BDI!$C$17,IF(AND(#REF!=\"Diferenciado\",$I$4=#REF!),BDI!$G$17,IF(AND(#REF!=\"Diferenciado\",$I$4=#REF!),BDI!$H$17,IF(#REF!=\"ZERO\",0))))),\"\")","v":{"$error":"#REF!"}},{"$error":"#REF!"},{"$error":"#REF!"}]
["SF-00114","Mármore Bege Bahia para piso e parede","Serviço (Mat + MO)","m2",0,{"$f":"OFFSET(INDEX(Composições!A:J,MATCH(Orçamentária!A119,Composições!A:A,0),8),2,0)","v":43.224525},0,{"$f":"IF(A119<>\"\",IF(AND(#REF!=\"Padrão\",$I$4=#REF!),BDI!$B$17,IF(AND(#REF!=\"Padrão\",$I$4=#REF!),BDI!$C$17,IF(AND(#REF!=\"Diferenciado\",$I$4=#REF!),BDI!$G$17,IF(AND(#REF!=\"Diferenciado\",$I$4=#REF!),BDI!$H$17,IF(#REF!=\"ZERO\",0))))),\"\")","v":{"$error":"#REF!"}},{"$error":"#REF!"},{"$error":"#REF!"}]
["SF-00115","Mármore Branco Especial para piso e parede","Serviço (Mat + MO)","m2",0,{"$f":"OFFSET(INDEX(Composições!A:J,MATCH(Orçamentária!A120,Composições!A:A,0),8),2,0)","v":43.224525},0,{"$f":"IF(A120<>\"\",IF(AND(#REF!=\"Padrão\",$I$4=#REF!),BDI!$B$17,IF(AND(#REF!=\"Padrão\",$I$4=#REF!),BDI!$C$17,IF(AND(#REF!=\"Diferenciado\",$I$4=#REF!),BDI!$G$17,IF(AND(#REF!=\"Diferenciado\",$I$4=#REF!),BDI!$H$17,IF(#REF!=\"ZERO\",0))))),\"\")","v":{"$error":"#REF!"}},{"$error":"#REF!"},{"$error":"#REF!"}]
["SF-00116","Rodapé de madeira","Serviço (Mat + MO)","m",0,{"$f":"OFFSET(INDEX(Composições!A:J,MATCH(Orçamentária!A121,Composições!A:A,0),8),2,0)","v":22.392926899999999},0,{"$f":"IF(A121<>\"\",IF(AND(#REF!=\"Padrão\",$I$4=#REF!),BDI!$B$17,IF(AND(#REF!=\"Padrão\",$I$4=#REF!),BDI!$C$17,IF(AND(#REF!=\"Diferenciado\",$I$4=#REF!),BDI!$G$17,IF(AND(#REF!=\"Diferenciado\",$I$4=#REF!),BDI!$H$17,IF(#REF!=\"ZERO\",0))))),\"\")","v":{"$error":"#REF!"}},{"$error":"#REF!"},{"$error":"#REF!"}]
["SF-00117","Acabamento abaulado em placas de granito ou mármore reaproveitadas","Serviço (Mat + MO)","m",0,{"$f":"OFFSET(INDEX(Composições!A:J,MATCH(Orçamentária!A122,Composições!A:A,0),8),2,0)","v":36.841000000000001},0,{"$f":"IF(A122<>\"\",IF(AND(#REF!=\"Padrão\",$I$4=#REF!),BDI!$B$17,IF(AND(#REF!=\"Padrão\",$I$4=#REF!),BDI!$C$17,IF(AND(#REF!=\"Diferenciado\",$I$4=#REF!),BDI!$G$17,IF(AND(#REF!=\"Diferenciado\",$I$4=#REF!),BDI!$H$17,IF(#REF!=\"ZERO\",0))))),\"\")","v":{"$error":"#REF!"}},{"$error":"#REF!"},{"$error":"#REF!"}]
["SF-00118","Acabamento em meia esquadria em placas de granito ou mármore reaproveitadas","Serviço (Mat + MO)","m",0,{"$f":"OFFSET(INDEX(Composições!A:J,MATCH(Orçamentária!A123,Composições!A:A,0),8),2,0)","v":32.235875},0,{"$f":"IF(A123<>\"\",IF(AND(#REF!=\"Padrão\",$I$4=#REF!),BDI!$B$17,IF(AND(#REF!=\"Padrão\",$I$4=#REF!),BDI!$C$17,IF(AND(#REF!=\"Diferenciado\",$I$4=#REF!),BDI!$G$17,IF(AND(#REF!=\"Diferenciado\",$I$4=#REF!),BDI!$H$17,IF(#REF!=\"ZERO\",0))))),\"\")","v":{"$error":"#REF!"}},{"$error":"#REF!"},{"$error":"#REF!"}]
["SF-00119","Acabamento reto em placas de granito ou mármore reaproveitadas","Serviço (Mat + MO)","m",0,{"$f":"OFFSET(INDEX(Composições!A:J,MATCH(Orçamentária!A124,Composições!A:A,0),8),2,0)","v":18.420500000000001},0,{"$f":"IF(A124<>\"\",IF(AND(#REF!=\"Padrão\",$I$4=#REF!),BDI!$B$17,IF(AND(#REF!=\"Padrão\",$I$4=#REF!),BDI!$C$17,IF(AND(#REF!=\"Diferenciado\",$I$4=#REF!),BDI!$G$17,IF(AND(#REF!=\"Diferenciado\",$I$4=#REF!),BDI!$H$17,IF(#REF!=\"ZERO\",0))))),\"\")","v":{"$error":"#REF!"}},{"$error":"#REF!"},{"$error":"#REF!"}]
["SF-00120","Corte de peça de granito ou mármore reaproveitada","Serviço (Mat + MO)","m",0,{"$f":"OFFSET(INDEX(Composições!A:J,MATCH(Orçamentária!A125,Composições!A:A,0),8),2,0)","v":23.025625000000002},0,{"$f":"IF(A125<>\"\",IF(AND(#REF!=\"Padrão\",$I$4=#REF!),BDI!$B$17,IF(AND(#REF!=\"Padrão\",$I$4=#REF!),BDI!$C$17,IF(AND(#REF!=\"Diferenciado\",$I$4=#REF!),BDI!$G$17,IF(AND(#REF!=\"Diferenciado\",$I$4=#REF!),BDI!$H$17,IF(#REF!=\"ZERO\",0))))),\"\")","v":{"$error":"#REF!"}},{"$error":"#REF!"},{"$error":"#REF!"}]
["SF-00121","Corte em placas de granito ou mármore reaproveitadas, para instalação de cubas","Serviço (Mat + MO)","un",0,{"$f":"OFFSET(INDEX(Composições!A:J,MATCH(Orçamentária!A126,Composições!A:A,0),8),2,0)","v":76.80749999999999},0,{"$f":"IF(A126<>\"\",IF(AND(#REF!=\"Padrão\",$I$4=#REF!),BDI!$B$17,IF(AND(#REF!=\"Padrão\",$I$4=#REF!),BDI!$C$17,IF(AND(#REF!=\"Diferenciado\",$I$4=#REF!),BDI!$G$17,IF(AND(#REF!=\"Diferenciado\",$I$4=#REF!),BDI!$H$17,IF(#REF!=\"ZERO\",0))))),\"\")","v":{"$error":"#REF!"}},{"$error":"#REF!"},{"$error":"#REF!"}]
["SF-00122","Furo em placas de granito ou mármore reaproveitadas, para instalação de torneira ou misturador","Serviço (Mat + MO)","un",0,{"$f":"OFFSET(INDEX(Composições!A:J,MATCH(Orçamentária!A127,Composições!A:A,0),8),2,0)","v":11.513999999999999},0,{"$f":"IF(A127<>\"\",IF(AND(#REF!=\"Padrão\",$I$4=#REF!),BDI!$B$17,IF(AND(#REF!=\"Padrão\",$I$4=#REF!),BDI!$C$17,IF(AND(#REF!=\"Diferenciado\",$I$4=#REF!),BDI!$G$17,IF(AND(#REF!=\"Diferenciado\",$I$4=#REF!),BDI!$H$17,IF(#REF!=\"ZERO\",0))))),\"\")","v":{"$error":"#REF!"}},{"$error":"#REF!"},{"$error":"#REF!"}]
["SF-00123","Granito Cinza Andorinha 20mm para rodabancada","Serviço (Mat + MO)","m2",0,{"$f":"OFFSET(INDEX(Composições!A:J,MATCH(Orçamentária!A128,Composições!A:A,0),8),2,0)","v":62.564162350000004},0,{"$f":"IF(A128<>\"\",IF(AND(#REF!=\"Padrão\",$I$4=#REF!),BDI!$B$17,IF(AND(#REF!=\"Padrão\",$I$4=#REF!),BDI!$C$17,IF(AND(#REF!=\"Diferenciado\",$I$4=#REF!),BDI!$G$17,IF(AND(#REF!=\"Diferenciado\",$I$4=#REF!),BDI!$H$17,IF(#REF!=\"ZERO\",0))))),\"\")","v":{"$error":"#REF!"}},{"$error":"#REF!"},{"$error":"#REF!"}]
["SF-00124","Granito Cinza Andorinha 20mm para bancadas","Serviço (Mat + MO)","m2",0,{"$f":"OFFSET(INDEX(Composições!A:J,MATCH(Orçamentária!A129,Composições!A:A,0),8),2,0)","v":98.539513799999995},0,{"$f":"IF(A129<>\"\",IF(AND(#REF!=\"Padrão\",$I$4=#REF!),BDI!$B$17,IF(AND(#REF!=\"Padrão\",$I$4=#REF!),BDI!$C$17,IF(AND(#REF!=\"Diferenciado\",$I$4=#REF!),BDI!$G$17,IF(AND(#REF!=\"Diferenciado\",$I$4=#REF!),BDI!$H$17,IF(#REF!=\"ZERO\",0))))),\"\")","v":{"$error":"#REF!"}},{"$error":"#REF!"},{"$error":"#REF!"}]
["SF-00125","Granito Cinza Andorinha 20mm para divisória","Serviço (Mat + MO)","m2",0,{"$f":"OFFSET(INDEX(Composições!A:J,MATCH(Orçamentária!A130,Composições!A:A,0),8),2,0)","v":129.31216322391074},0,{"$f":"IF(A130<>\"\",IF(AND(#REF!=\"Padrão\",$I$4=#REF!),BDI!$B$17,IF(AND(#REF!=\"Padrão\",$I$4=#REF!),BDI!$C$17,IF(AND(#REF!=\"Diferenciado\",$I$4=#REF!),BDI!$G$17,IF(AND(#REF!=\"Diferenciado\",$I$4=#REF!),BDI!$H$17,IF(#REF!=\"ZERO\",0))))),\"\")","v":{"$error":"#REF!"}},{"$error":"#REF!"},{"$error":"#REF!"}]
["SF-00126","Granito Preto São Gabriel 20mm para rodabancada","Serviço (Mat + MO)","m2",0,{"$f":"OFFSET(INDEX(Composições!A:J,MATCH(Orçamentária!A131,Composições!A:A,0),8),2,0)","v":62.564162350000004},0,{"$f":"IF(A131<>\"\",IF(AND(#REF!=\"Padrão\",$I$4=#REF!),BDI!$B$17,IF(AND(#REF!=\"Padrão\",$I$4=#REF!),BDI!$C$17,IF(AND(#REF!=\"Diferenciado\",$I$4=#REF!),BDI!$G$17,IF(AND(#REF!=\"Diferenciado\",$I$4=#REF!),BDI!$H$17,IF(#REF!=\"ZERO\",0))))),\"\")","v":{"$error":"#REF!"}},{"$error":"#REF!"},{"$error":"#REF!"}]
["SF-00127","Granito Preto São Gabriel 20mm para bancadas","Serviço (Mat + MO)","m2",0,{"$f":"OFFSET(INDEX(Composições!A:J,MATCH(Orçamentária!A132,Composições!A:A,0),8),2,0)","v":98.539513799999995},0,{"$f":"IF(A132<>\"\",IF(AND(#REF!=\"Padrão\",$I$4=#REF!),BDI!$B$17,IF(AND(#REF!=\"Padrão\",$I$4=#REF!),BDI!$C$17,IF(AND(#REF!=\"Diferenciado\",$I$4=#REF!),BDI!$G$17,IF(AND(#REF!=\"Diferenciado\",$I$4=#REF!),BDI!$H$17,IF(#REF!=\"ZERO\",0))))),\"\")","v":{"$error":"#REF!"}},{"$error":"#REF!"},{"$error":"#REF!"}]
["SF-00128","Instalação de bancada de granito ou mármore reaproveitada","Serviço (Mat + MO)","m2",0,{"$f":"OFFSET(INDEX(Composições!A:J,MATCH(Orçamentária!A133,Composições!A:A,0),8),2,0)","v":98.539513799999995},0,{"$f":"IF(A133<>\"\",IF(AND(#REF!=\"Padrão\",$I$4=#REF!),BDI!$B$17,IF(AND(#REF!=\"Padrão\",$I$4=#REF!),BDI!$C$17,IF(AND(#REF!=\"Diferenciado\",$I$4=#REF!),BDI!$G$17,IF(AND(#REF!=\"Diferenciado\",$I$4=#REF!),BDI!$H$17,IF(#REF!=\"ZERO\",0))))),\"\")","v":{"$error":"#REF!"}},{"$error":"#REF!"},{"$error":"#REF!"}]
["SF-00129","Instalação de rodapé reaproveitado, de mármore ou granito","Serviço (Mat + MO)","m2",0,{"$f":"OFFSET(INDEX(Composições!A:J,MATCH(Orçamentária!A134,Composições!A:A,0),8),2,0)","v":9.3847099000000007},0,{"$f":"IF(A134<>\"\",IF(AND(#REF!=\"Padrão\",$I$4=#REF!),BDI!$B$17,IF(AND(#REF!=\"Padrão\",$I$4=#REF!),BDI!$C$17,IF(AND(#REF!=\"Diferenciado\",$I$4=#REF!),BDI!$G$17,IF(AND(#REF!=\"Diferenciado\",$I$4=#REF!),BDI!$H$17,IF(#REF!=\"ZERO\",0))))),\"\")","v":{"$error":"#REF!"}},{"$error":"#REF!"},{"$error":"#REF!"}]
["SF-00130","Instalação de soleira ou peitoril, de mármore ou granito, reaproveitados","Serviço (Mat + MO)","m2",0,{"$f":"OFFSET(INDEX(Composições!A:J,MATCH(Orçamentária!A135,Composições!A:A,0),8),2,0)","v":42.873405000000005},{"$f":"IF(ISNUMBER(F135),ROUND(E135*F135,2),\"\")","v":0},{"$f":"IF(A135<>\"\",IF(AND(#REF!=\"Padrão\",$I$4=#REF!),BDI!$B$17,IF(AND(#REF!=\"Padrão\",$I$4=#REF!),BDI!$C$17,IF(AND(#REF!=\"Diferenciado\",$I$4=#REF!),BDI!$G$17,IF(AND(#REF!=\"Diferenciado\",$I$4=#REF!),BDI!$H$17,IF(#REF!=\"ZERO\",0))))),\"\")","v":{"$error":"#REF!"}},{"$f":"IF(ISNUMBER(F135),ROUND(F135*(1+H135),2),\"\")","v":{"$error":"#REF!"}},{"$f":"IF(ISNUMBER(F135),ROUND(I135*E135,2),\"\")","v":{"$error":"#REF!"}}]
["SF-00131","Mármore Branco Especial 20mm para rodabancada","Serviço (Mat + MO)","m2",0,{"$f":"OFFSET(INDEX(Composições!A:J,MATCH(Orçamentária!A136,Composições!A:A,0),8),2,0)","v":43.224525},0,{"$f":"IF(A136<>\"\",IF(AND(#REF!=\"Padrão\",$I$4=#REF!),BDI!$B$17,IF(AND(#REF!=\"Padrão\",$I$4=#REF!),BDI!$C$17,IF(AND(#REF!=\"Diferenciado\",$I$4=#REF!),BDI!$G$17,IF(AND(#REF!=\"Diferenciado\",$I$4=#REF!),BDI!$H$17,IF(#REF!=\"ZERO\",0))))),\"\")","v":{"$error":"#REF!"}},{"$error":"#REF!"},{"$error":"#REF!"}]
["SF-00132","Divisória em gesso acartonado revestido - Painel liso cego - Ed. Anexo I","Serviço (Mat + MO)","m2",0,"","",{"$f":"IF(A137<>\"\",IF(AND(#REF!=\"Padrão\",$I$4=#REF!),BDI!$B$17,IF(AND(#REF!=\"Padrão\",$I$4=#REF!),BDI!$C$17,IF(AND(#REF!=\"Diferenciado\",$I$4=#REF!),BDI!$G$17,IF(AND(#REF!=\"Diferenciado\",$I$4=#REF!),BDI!$H$17,IF(#REF!=\"ZERO\",0))))),\"\")","v":{"$error":"#REF!"}},"",""]
["SF-00133","Divisória em gesso acartonado revestido - Painel liso, painel de vidro e bandeira – ed. Anexo I","Serviço (Mat + MO)","m2",0,"","",{"$f":"IF(A138<>\"\",IF(AND(#REF!=\"Padrão\",$I$4=#REF!),BDI!$B$17,IF(AND(#REF!=\"Padrão\",$I$4=#REF!),BDI!$C$17,IF(AND(#REF!=\"Diferenciado\",$I$4=#REF!),BDI!$G$17,IF(AND(#REF!=\"Diferenciado\",$I$4=#REF!),BDI!$H$17,IF(#REF!=\"ZERO\",0))))),\"\")","v":{"$error":"#REF!"}},"",""]
["SF-00134","Divisória MDF com painel liso cego e bandeira","Serviço (Mat + MO)","m2",0,"","",{"$f":"IF(A139<>\"\",IF(AND(#REF!=\"Padrão\",$I$4=#REF!),BDI!$B$17,IF(AND(#REF!=\"Padrão\",$I$4=#REF!),BDI!$C$17,IF(AND(#REF!=\"Diferenciado\",$I$4=#REF!),BDI!$G$17,IF(AND(#REF!=\"Diferenciado\",$I$4=#REF!),BDI!$H$17,IF(#REF!=\"ZERO\",0))))),\"\")","v":{"$error":"#REF!"}},"",""]
["SF-00135","Divisória MDF com painel liso, painel de vidro e bandeira","Serviço (Mat + MO)","m2",0,"","",{"$f":"IF(A140<>\"\",IF(AND(#REF!=\"Padrão\",$I$4=#REF!),BDI!$B$17,IF(AND(#REF!=\"Padrão\",$I$4=#REF!),BDI!$C$17,IF(AND(#REF!=\"Diferenciado\",$I$4=#REF!),BDI!$G$17,IF(AND(#REF!=\"Diferenciado\",$I$4=#REF!),BDI!$H$17,IF(#REF!=\"ZERO\",0))))),\"\")","v":{"$error":"#REF!"}},"",""]
["SF-00136","Divisória MDF com painel paginado cego e bandeira - Interlegis","Serviço (Mat + MO)","m2",0,"","",{"$f":"IF(A141<>\"\",IF(AND(#REF!=\"Padrão\",$I$4=#REF!),BDI!$B$17,IF(AND(#REF!=\"Padrão\",$I$4=#REF!),BDI!$C$17,IF(AND(#REF!=\"Diferenciado\",$I$4=#REF!),BDI!$G$17,IF(AND(#REF!=\"Diferenciado\",$I$4=#REF!),BDI!$H$17,IF(#REF!=\"ZERO\",0))))),\"\")","v":{"$error":"#REF!"}},"",""]
["SF-00137","Divisória MDF com painel paginado, painel de vidro e bandeira - Interlegis","Serviço (Mat + MO)","m2",0,"","",{"$f":"IF(A142<>\"\",IF(AND(#REF!=\"Padrão\",$I$4=#REF!),BDI!$B$17,IF(AND(#REF!=\"Padrão\",$I$4=#REF!),BDI!$C$17,IF(AND(#REF!=\"Diferenciado\",$I$4=#REF!),BDI!$G$17,IF(AND(#REF!=\"Diferenciado\",$I$4=#REF!),BDI!$H$17,IF(#REF!=\"ZERO\",0))))),\"\")","v":{"$error":"#REF!"}},"",""]
["SF-00138","Instalação de divisória e porta de divisória com dobradiça reaproveitadas","Serviço (Mat + MO)","m2",0,{"$f":"OFFSET(INDEX(Composições!A:J,MATCH(Orçamentária!A143,Composições!A:A,0),8),2,0)","v":0.95},0,{"$f":"IF(A143<>\"\",IF(AND(#REF!=\"Padrão\",$I$4=#REF!),BDI!$B$17,IF(AND(#REF!=\"Padrão\",$I$4=#REF!),BDI!$C$17,IF(AND(#REF!=\"Diferenciado\",$I$4=#REF!),BDI!$G$17,IF(AND(#REF!=\"Diferenciado\",$I$4=#REF!),BDI!$H$17,IF(#REF!=\"ZERO\",0))))),\"\")","v":{"$error":"#REF!"}},{"$error":"#REF!"},{"$error":"#REF!"}]
["SF-00139","Alçapão em forro de gesso acartonado","Serviço (Mat + MO)","m2",0,{"$f":"OFFSET(INDEX(Composições!A:J,MATCH(Orçamentária!A144,Composições!A:A,0),8),2,0)","v":50.241700000000002},0,{"$f":"IF(A144<>\"\",IF(AND(#REF!=\"Padrão\",$I$4=#REF!),BDI!$B$17,IF(AND(#REF!=\"Padrão\",$I$4=#REF!),BDI!$C$17,IF(AND(#REF!=\"Diferenciado\",$I$4=#REF!),BDI!$G$17,IF(AND(#REF!=\"Diferenciado\",$I$4=#REF!),BDI!$H$17,IF(#REF!=\"ZERO\",0))))),\"\")","v":{"$error":"#REF!"}},{"$error":"#REF!"},{"$error":"#REF!"}]
["SF-00140","Forro de PVC em réguas de 100 x 6000mm","Serviço (Mat + MO)","m2",0,{"$f":"OFFSET(INDEX(Composições!A:J,MATCH(Orçamentária!A145,Composições!A:A,0),8),2,0)","v":42.9376763},0,{"$f":"IF(A145<>\"\",IF(AND(#REF!=\"Padrão\",$I$4=#REF!),BDI!$B$17,IF(AND(#REF!=\"Padrão\",$I$4=#REF!),BDI!$C$17,IF(AND(#REF!=\"Diferenciado\",$I$4=#REF!),BDI!$G$17,IF(AND(#REF!=\"Diferenciado\",$I$4=#REF!),BDI!$H$17,IF(#REF!=\"ZERO\",0))))),\"\")","v":{"$error":"#REF!"}},{"$error":"#REF!"},{"$error":"#REF!"}]
["SF-00141","Forro de PVC em réguas de 100 x 6000mm, sem estrutura","Serviço (Mat + MO)","m2",0,{"$f":"OFFSET(INDEX(Composições!A:J,MATCH(Orçamentária!A146,Composições!A:A,0),8),2,0)","v":20.614030999999997},0,{"$f":"IF(A146<>\"\",IF(AND(#REF!=\"Padrão\",$I$4=#REF!),BDI!$B$17,IF(AND(#REF!=\"Padrão\",$I$4=#REF!),BDI!$C$17,IF(AND(#REF!=\"Diferenciado\",$I$4=#REF!),BDI!$G$17,IF(AND(#REF!=\"Diferenciado\",$I$4=#REF!),BDI!$H$17,IF(#REF!=\"ZERO\",0))))),\"\")","v":{"$error":"#REF!"}},{"$error":"#REF!"},{"$error":"#REF!"}]
["SF-00142","Forro de PVC modular em placas","Serviço (Mat + MO)","m2",0,{"$f":"OFFSET(INDEX(Composições!A:J,MATCH(Orçamentária!A147,Composições!A:A,0),8),2,0)","v":25.243736299999995},0,{"$f":"IF(A147<>\"\",IF(AND(#REF!=\"Padrão\",$I$4=#REF!),BDI!$B$17,IF(AND(#REF!=\"Padrão\",$I$4=#REF!),BDI!$C$17,IF(AND(#REF!=\"Diferenciado\",$I$4=#REF!),BDI!$G$17,IF(AND(#REF!=\"Diferenciado\",$I$4=#REF!),BDI!$H$17,IF(#REF!=\"ZERO\",0))))),\"\")","v":{"$error":"#REF!"}},{"$error":"#REF!"},{"$error":"#REF!"}]
["SF-00143","Forro em chapas metálicas","Serviço (Mat + MO)","m2",0,{"$f":"OFFSET(INDEX(Composições!A:J,MATCH(Orçamentária!A148,Composições!A:A,0),8),2,0)","v":17.161749999999998},0,{"$f":"IF(A148<>\"\",IF(AND(#REF!=\"Padrão\",$I$4=#REF!),BDI!$B$17,IF(AND(#REF!=\"Padrão\",$I$4=#REF!),BDI!$C$17,IF(AND(#REF!=\"Diferenciado\",$I$4=#REF!),BDI!$G$17,IF(AND(#REF!=\"Diferenciado\",$I$4=#REF!),BDI!$H$17,IF(#REF!=\"ZERO\",0))))),\"\")","v":{"$error":"#REF!"}},{"$error":"#REF!"},{"$error":"#REF!"}]
["SF-00144","Forro em gesso acartonado monolítico","Serviço (Mat + MO)","m2",0,{"$f":"OFFSET(INDEX(Composições!A:J,MATCH(Orçamentária!A149,Composições!A:A,0),8),2,0)","v":45.495431599999996},0,{"$f":"IF(A149<>\"\",IF(AND(#REF!=\"Padrão\",$I$4=#REF!),BDI!$B$17,IF(AND(#REF!=\"Padrão\",$I$4=#REF!),BDI!$C$17,IF(AND(#REF!=\"Diferenciado\",$I$4=#REF!),BDI!$G$17,IF(AND(#REF!=\"Diferenciado\",$I$4=#REF!),BDI!$H$17,IF(#REF!=\"ZERO\",0))))),\"\")","v":{"$error":"#REF!"}},{"$error":"#REF!"},{"$error":"#REF!"}]
["SF-00145","Forro em gesso acartonado monolítico, sem estrutura","Serviço (Mat + MO)","m2",0,{"$f":"OFFSET(INDEX(Composições!A:J,MATCH(Orçamentária!A150,Composições!A:A,0),8),2,0)","v":30.258007299999999},0,{"$f":"IF(A150<>\"\",IF(AND(#REF!=\"Padrão\",$I$4=#REF!),BDI!$B$17,IF(AND(#REF!=\"Padrão\",$I$4=#REF!),BDI!$C$17,IF(AND(#REF!=\"Diferenciado\",$I$4=#REF!),BDI!$G$17,IF(AND(#REF!=\"Diferenciado\",$I$4=#REF!),BDI!$H$17,IF(#REF!=\"ZERO\",0))))),\"\")","v":{"$error":"#REF!"}},{"$error":"#REF!"},{"$error":"#REF!"}]
["SF-00146","Forro mineral modulado","Serviço (Mat + MO)","m2",0,{"$f":"OFFSET(INDEX(Composições!A:J,MATCH(Orçamentária!A151,Composições!A:A,0),8),2,0)","v":98.381999999999991},0,{"$f":"IF(A151<>\"\",IF(AND(#REF!=\"Padrão\",$I$4=#REF!),BDI!$B$17,IF(AND(#REF!=\"Padrão\",$I$4=#REF!),BDI!$C$17,IF(AND(#REF!=\"Diferenciado\",$I$4=#REF!),BDI!$G$17,IF(AND(#REF!=\"Diferenciado\",$I$4=#REF!),BDI!$H$17,IF(#REF!=\"ZERO\",0))))),\"\")","v":{"$error":"#REF!"}},{"$error":"#REF!"},{"$error":"#REF!"}]
["SF-00147","Forro mineral modulado, sem estrutura","Serviço (Mat + MO)","m2",0,{"$f":"OFFSET(INDEX(Composições!A:J,MATCH(Orçamentária!A152,Composições!A:A,0),8),2,0)","v":27.727649999999997},0,{"$f":"IF(A152<>\"\",IF(AND(#REF!=\"Padrão\",$I$4=#REF!),BDI!$B$17,IF(AND(#REF!=\"Padrão\",$I$4=#REF!),BDI!$C$17,IF(AND(#REF!=\"Diferenciado\",$I$4=#REF!),BDI!$G$17,IF(AND(#REF!=\"Diferenciado\",$I$4=#REF!),BDI!$H$17,IF(#REF!=\"ZERO\",0))))),\"\")","v":{"$error":"#REF!"}},{"$error":"#REF!"},{"$error":"#REF!"}]
["SF-00148","Instalação de forro de PVC reaproveitado","Serviço (Mat + MO)","m2",0,{"$f":"OFFSET(INDEX(Composições!A:J,MATCH(Orçamentária!A153,Composições!A:A,0),8),2,0)","v":2.5245793999999995},0,{"$f":"IF(A153<>\"\",IF(AND(#REF!=\"Padrão\",$I$4=#REF!),BDI!$B$17,IF(AND(#REF!=\"Padrão\",$I$4=#REF!),BDI!$C$17,IF(AND(#REF!=\"Diferenciado\",$I$4=#REF!),BDI!$G$17,IF(AND(#REF!=\"Diferenciado\",$I$4=#REF!),BDI!$H$17,IF(#REF!=\"ZERO\",0))))),\"\")","v":{"$error":"#REF!"}},{"$error":"#REF!"},{"$error":"#REF!"}]
["SF-00149","Instalação de forro mineral reaproveitado","Serviço (Mat + MO)","m2",0,{"$f":"OFFSET(INDEX(Composições!A:J,MATCH(Orçamentária!A154,Composições!A:A,0),8),2,0)","v":43.468199999999996},0,{"$f":"IF(A154<>\"\",IF(AND(#REF!=\"Padrão\",$I$4=#REF!),BDI!$B$17,IF(AND(#REF!=\"Padrão\",$I$4=#REF!),BDI!$C$17,IF(AND(#REF!=\"Diferenciado\",$I$4=#REF!),BDI!$G$17,IF(AND(#REF!=\"Diferenciado\",$I$4=#REF!),BDI!$H$17,IF(#REF!=\"ZERO\",0))))),\"\")","v":{"$error":"#REF!"}},{"$error":"#REF!"},{"$error":"#REF!"}]
["SF-00150","Tabica metálica em forro de gesso acartonado","Serviço (Mat + MO)","m",0,{"$f":"OFFSET(INDEX(Composições!A:J,MATCH(Orçamentária!A155,Composições!A:A,0),8),2,0)","v":8.9376398999999989},0,{"$f":"IF(A155<>\"\",IF(AND(#REF!=\"Padrão\",$I$4=#REF!),BDI!$B$17,IF(AND(#REF!=\"Padrão\",$I$4=#REF!),BDI!$C$17,IF(AND(#REF!=\"Diferenciado\",$I$4=#REF!),BDI!$G$17,IF(AND(#REF!=\"Diferenciado\",$I$4=#REF!),BDI!$H$17,IF(#REF!=\"ZERO\",0))))),\"\")","v":{"$error":"#REF!"}},{"$error":"#REF!"},{"$error":"#REF!"}]
["SF-00151","Instalação de revestimento de piso têxtil (carpete) reaproveitado","Serviço (Mat + MO)","m2",0,{"$f":"OFFSET(INDEX(Composições!A:J,MATCH(Orçamentária!A156,Composições!A:A,0),8),2,0)","v":6.2994500000000002},0,{"$f":"IF(A156<>\"\",IF(AND(#REF!=\"Padrão\",$I$4=#REF!),BDI!$B$17,IF(AND(#REF!=\"Padrão\",$I$4=#REF!),BDI!$C$17,IF(AND(#REF!=\"Diferenciado\",$I$4=#REF!),BDI!$G$17,IF(AND(#REF!=\"Diferenciado\",$I$4=#REF!),BDI!$H$17,IF(#REF!=\"ZERO\",0))))),\"\")","v":{"$error":"#REF!"}},{"$error":"#REF!"},{"$error":"#REF!"}]
["SF-00152","Baguetes metálicos","Serviço (Mat + MO)","m",0,{"$f":"OFFSET(INDEX(Composições!A:J,MATCH(Orçamentária!A157,Composições!A:A,0),8),2,0)","v":5.1347500000000004},0,{"$f":"IF(A157<>\"\",IF(AND(#REF!=\"Padrão\",$I$4=#REF!),BDI!$B$17,IF(AND(#REF!=\"Padrão\",$I$4=#REF!),BDI!$C$17,IF(AND(#REF!=\"Diferenciado\",$I$4=#REF!),BDI!$G$17,IF(AND(#REF!=\"Diferenciado\",$I$4=#REF!),BDI!$H$17,IF(#REF!=\"ZERO\",0))))),\"\")","v":{"$error":"#REF!"}},{"$error":"#REF!"},{"$error":"#REF!"}]
["SF-00153","Cordão de massa de vidraceiro","Serviço (Mat + MO)","m",0,{"$f":"OFFSET(INDEX(Composições!A:J,MATCH(Orçamentária!A158,Composições!A:A,0),8),2,0)","v":18.707875000000001},0,{"$f":"IF(A158<>\"\",IF(AND(#REF!=\"Padrão\",$I$4=#REF!),BDI!$B$17,IF(AND(#REF!=\"Padrão\",$I$4=#REF!),BDI!$C$17,IF(AND(#REF!=\"Diferenciado\",$I$4=#REF!),BDI!$G$17,IF(AND(#REF!=\"Diferenciado\",$I$4=#REF!),BDI!$H$17,IF(#REF!=\"ZERO\",0))))),\"\")","v":{"$error":"#REF!"}},{"$error":"#REF!"},{"$error":"#REF!"}]
["SF-00154","Espelho cristal, e=5 mm","Serviço (Mat + MO)","m2",0,{"$f":"OFFSET(INDEX(Composições!A:J,MATCH(Orçamentária!A159,Composições!A:A,0),8),2,0)","v":61.624600000000001},0,{"$f":"IF(A159<>\"\",IF(AND(#REF!=\"Padrão\",$I$4=#REF!),BDI!$B$17,IF(AND(#REF!=\"Padrão\",$I$4=#REF!),BDI!$C$17,IF(AND(#REF!=\"Diferenciado\",$I$4=#REF!),BDI!$G$17,IF(AND(#REF!=\"Diferenciado\",$I$4=#REF!),BDI!$H$17,IF(#REF!=\"ZERO\",0))))),\"\")","v":{"$error":"#REF!"}},{"$error":"#REF!"},{"$error":"#REF!"}]
["SF-00155","Instalação de vidro reaproveitado","Serviço (Mat + MO)","m2",0,{"$f":"OFFSET(INDEX(Composições!A:J,MATCH(Orçamentária!A160,Composições!A:A,0),8),2,0)","v":28.210725000000004},0,{"$f":"IF(A160<>\"\",IF(AND(#REF!=\"Padrão\",$I$4=#REF!),BDI!$B$17,IF(AND(#REF!=\"Padrão\",$I$4=#REF!),BDI!$C$17,IF(AND(#REF!=\"Diferenciado\",$I$4=#REF!),BDI!$G$17,IF(AND(#REF!=\"Diferenciado\",$I$4=#REF!),BDI!$H$17,IF(#REF!=\"ZERO\",0))))),\"\")","v":{"$error":"#REF!"}},{"$error":"#REF!"},{"$error":"#REF!"}]
["SF-00156","Substituição da calafetação com selante","Serviço (Mat + MO)","m",0,{"$f":"OFFSET(INDEX(Composições!A:J,MATCH(Orçamentária!A161,Composições!A:A,0),8),2,0)","v":19.81566145},0,{"$f":"IF(A161<>\"\",IF(AND(#REF!=\"Padrão\",$I$4=#REF!),BDI!$B$17,IF(AND(#REF!=\"Padrão\",$I$4=#REF!),BDI!$C$17,IF(AND(#REF!=\"Diferenciado\",$I$4=#REF!),BDI!$G$17,IF(AND(#REF!=\"Diferenciado\",$I$4=#REF!),BDI!$H$17,IF(#REF!=\"ZERO\",0))))),\"\")","v":{"$error":"#REF!"}},{"$error":"#REF!"},{"$error":"#REF!"}]
["SF-00157","Vidro liso comum transparente 4mm","Serviço (Mat + MO)","m2",0,{"$f":"OFFSET(INDEX(Composições!A:J,MATCH(Orçamentária!A162,Composições!A:A,0),8),2,0)","v":142.60972500000003},0,{"$f":"IF(A162<>\"\",IF(AND(#REF!=\"Padrão\",$I$4=#REF!),BDI!$B$17,IF(AND(#REF!=\"Padrão\",$I$4=#REF!),BDI!$C$17,IF(AND(#REF!=\"Diferenciado\",$I$4=#REF!),BDI!$G$17,IF(AND(#REF!=\"Diferenciado\",$I$4=#REF!),BDI!$H$17,IF(#REF!=\"ZERO\",0))))),\"\")","v":{"$error":"#REF!"}},{"$error":"#REF!"},{"$error":"#REF!"}]
["SF-00158","Vidro liso comum transparente 6mm","Serviço (Mat + MO)","m2",0,{"$f":"OFFSET(INDEX(Composições!A:J,MATCH(Orçamentária!A163,Composições!A:A,0),8),2,0)","v":200.40629999999999},0,{"$f":"IF(A163<>\"\",IF(AND(#REF!=\"Padrão\",$I$4=#REF!),BDI!$B$17,IF(AND(#REF!=\"Padrão\",$I$4=#REF!),BDI!$C$17,IF(AND(#REF!=\"Diferenciado\",$I$4=#REF!),BDI!$G$17,IF(AND(#REF!=\"Diferenciado\",$I$4=#REF!),BDI!$H$17,IF(#REF!=\"ZERO\",0))))),\"\")","v":{"$error":"#REF!"}},{"$error":"#REF!"},{"$error":"#REF!"}]
["SF-00159","Instalação de painéis de vidro temperado reaproveitados","Serviço (Mat + MO)","m2",0,{"$f":"OFFSET(INDEX(Composições!A:J,MATCH(Orçamentária!A164,Composições!A:A,0),8),2,0)","v":40.535550000000008},0,{"$f":"IF(A164<>\"\",IF(AND(#REF!=\"Padrão\",$I$4=#REF!),BDI!$B$17,IF(AND(#REF!=\"Padrão\",$I$4=#REF!),BDI!$C$17,IF(AND(#REF!=\"Diferenciado\",$I$4=#REF!),BDI!$G$17,IF(AND(#REF!=\"Diferenciado\",$I$4=#REF!),BDI!$H$17,IF(#REF!=\"ZERO\",0))))),\"\")","v":{"$error":"#REF!"}},{"$error":"#REF!"},{"$error":"#REF!"}]
["SF-00160","Mola hidráulica de piso","Serviço (Mat + MO)","un",0,{"$f":"OFFSET(INDEX(Composições!A:J,MATCH(Orçamentária!A165,Composições!A:A,0),8),2,0)","v":20.297700000000003},0,{"$f":"IF(A165<>\"\",IF(AND(#REF!=\"Padrão\",$I$4=#REF!),BDI!$B$17,IF(AND(#REF!=\"Padrão\",$I$4=#REF!),BDI!$C$17,IF(AND(#REF!=\"Diferenciado\",$I$4=#REF!),BDI!$G$17,IF(AND(#REF!=\"Diferenciado\",$I$4=#REF!),BDI!$H$17,IF(#REF!=\"ZERO\",0))))),\"\")","v":{"$error":"#REF!"}},{"$error":"#REF!"},{"$error":"#REF!"}]
["SF-00161","Instalação de persianas reaproveitadas","Serviço (Mat + MO)","m",0,{"$f":"OFFSET(INDEX(Composições!A:J,MATCH(Orçamentária!A166,Composições!A:A,0),8),2,0)","v":6.4561876499999995},0,{"$f":"IF(A166<>\"\",IF(AND(#REF!=\"Padrão\",$I$4=#REF!),BDI!$B$17,IF(AND(#REF!=\"Padrão\",$I$4=#REF!),BDI!$C$17,IF(AND(#REF!=\"Diferenciado\",$I$4=#REF!),BDI!$G$17,IF(AND(#REF!=\"Diferenciado\",$I$4=#REF!),BDI!$H$17,IF(#REF!=\"ZERO\",0))))),\"\")","v":{"$error":"#REF!"}},{"$error":"#REF!"},{"$error":"#REF!"}]
["SF-00162","Persiana vertical em alumínio 90 mm, cor verde claro","Serviço (Mat + MO)","m2",0,"","",{"$f":"IF(A167<>\"\",IF(AND(#REF!=\"Padrão\",$I$4=#REF!),BDI!$B$17,IF(AND(#REF!=\"Padrão\",$I$4=#REF!),BDI!$C$17,IF(AND(#REF!=\"Diferenciado\",$I$4=#REF!),BDI!$G$17,IF(AND(#REF!=\"Diferenciado\",$I$4=#REF!),BDI!$H$17,IF(#REF!=\"ZERO\",0))))),\"\")","v":{"$error":"#REF!"}},"",""]
["SF-00163","Persiana vertical em tecido Juta Resinado sem blecaute de 90mm, cor bege","Serviço (Mat + MO)","m2",0,"","",{"$f":"IF(A168<>\"\",IF(AND(#REF!=\"Padrão\",$I$4=#REF!),BDI!$B$17,IF(AND(#REF!=\"Padrão\",$I$4=#REF!),BDI!$C$17,IF(AND(#REF!=\"Diferenciado\",$I$4=#REF!),BDI!$G$17,IF(AND(#REF!=\"Diferenciado\",$I$4=#REF!),BDI!$H$17,IF(#REF!=\"ZERO\",0))))),\"\")","v":{"$error":"#REF!"}},"",""]
["SF-00164","Persiana vertical em tecido sintético sem blecaute de 90mm, cores verde escuro ou branca","Serviço (Mat + MO)","m2",0,"","",{"$f":"IF(A169<>\"\",IF(AND(#REF!=\"Padrão\",$I$4=#REF!),BDI!$B$17,IF(AND(#REF!=\"Padrão\",$I$4=#REF!),BDI!$C$17,IF(AND(#REF!=\"Diferenciado\",$I$4=#REF!),BDI!$G$17,IF(AND(#REF!=\"Diferenciado\",$I$4=#REF!),BDI!$H$17,IF(#REF!=\"ZERO\",0))))),\"\")","v":{"$error":"#REF!"}},"",""]
["SF-00165","Película jateada","Serviço (Mat + MO)","m2",0,"","",{"$f":"IF(A170<>\"\",IF(AND(#REF!=\"Padrão\",$I$4=#REF!),BDI!$B$17,IF(AND(#REF!=\"Padrão\",$I$4=#REF!),BDI!$C$17,IF(AND(#REF!=\"Diferenciado\",$I$4=#REF!),BDI!$G$17,IF(AND(#REF!=\"Diferenciado\",$I$4=#REF!),BDI!$H$17,IF(#REF!=\"ZERO\",0))))),\"\")","v":{"$error":"#REF!"}},"",""]
["SF-00166","Tubo de ligação para bacia sanitária","Serviço (Mat + MO)","un",0,{"$f":"OFFSET(INDEX(Composições!A:J,MATCH(Orçamentária!A171,Composições!A:A,0),8),2,0)","v":6.2528999999999995},0,{"$f":"IF(A171<>\"\",IF(AND(#REF!=\"Padrão\",$I$4=#REF!),BDI!$B$17,IF(AND(#REF!=\"Padrão\",$I$4=#REF!),BDI!$C$17,IF(AND(#REF!=\"Diferenciado\",$I$4=#REF!),BDI!$G$17,IF(AND(#REF!=\"Diferenciado\",$I$4=#REF!),BDI!$H$17,IF(#REF!=\"ZERO\",0))))),\"\")","v":{"$error":"#REF!"}},{"$error":"#REF!"},{"$error":"#REF!"}]
["SF-00167","Tubo PVC esgoto ou aguas pluviais predial DN 100mm","Serviço (Mat + MO)","m",0,{"$f":"OFFSET(INDEX(Composições!A:J,MATCH(Orçamentária!A172,Composições!A:A,0),8),2,0)","v":53.888446000000002},0,{"$f":"IF(A172<>\"\",IF(AND(#REF!=\"Padrão\",$I$4=#REF!),BDI!$B$17,IF(AND(#REF!=\"Padrão\",$I$4=#REF!),BDI!$C$17,IF(AND(#REF!=\"Diferenciado\",$I$4=#REF!),BDI!$G$17,IF(AND(#REF!=\"Diferenciado\",$I$4=#REF!),BDI!$H$17,IF(#REF!=\"ZERO\",0))))),\"\")","v":{"$error":"#REF!"}},{"$error":"#REF!"},{"$error":"#REF!"}]
["SF-00168","Tubo PVC esgoto ou aguas pluviais predial DN 40mm","Serviço (Mat + MO)","m",0,{"$f":"OFFSET(INDEX(Composições!A:J,MATCH(Orçamentária!A173,Composições!A:A,0),8),2,0)","v":16.655000999999999},0,{"$f":"IF(A173<>\"\",IF(AND(#REF!=\"Padrão\",$I$4=#REF!),BDI!$B$17,IF(AND(#REF!=\"Padrão\",$I$4=#REF!),BDI!$C$17,IF(AND(#REF!=\"Diferenciado\",$I$4=#REF!),BDI!$G$17,IF(AND(#REF!=\"Diferenciado\",$I$4=#REF!),BDI!$H$17,IF(#REF!=\"ZERO\",0))))),\"\")","v":{"$error":"#REF!"}},{"$error":"#REF!"},{"$error":"#REF!"}]
["SF-00169","Tubo PVC esgoto ou aguas pluviais predial DN 50mm","Serviço (Mat + MO)","m",0,{"$f":"OFFSET(INDEX(Composições!A:J,MATCH(Orçamentária!A174,Composições!A:A,0),8),2,0)","v":22.964435500000004},0,{"$f":"IF(A174<>\"\",IF(AND(#REF!=\"Padrão\",$I$4=#REF!),BDI!$B$17,IF(AND(#REF!=\"Padrão\",$I$4=#REF!),BDI!$C$17,IF(AND(#REF!=\"Diferenciado\",$I$4=#REF!),BDI!$G$17,IF(AND(#REF!=\"Diferenciado\",$I$4=#REF!),BDI!$H$17,IF(#REF!=\"ZERO\",0))))),\"\")","v":{"$error":"#REF!"}},{"$error":"#REF!"},{"$error":"#REF!"}]
["SF-00170","Tubo PVC esgoto ou aguas pluviais predial DN 75mm","Serviço (Mat + MO)","m",0,{"$f":"OFFSET(INDEX(Composições!A:J,MATCH(Orçamentária!A175,Composições!A:A,0),8),2,0)","v":34.198537000000002},0,{"$f":"IF(A175<>\"\",IF(AND(#REF!=\"Padrão\",$I$4=#REF!),BDI!$B$17,IF(AND(#REF!=\"Padrão\",$I$4=#REF!),BDI!$C$17,IF(AND(#REF!=\"Diferenciado\",$I$4=#REF!),BDI!$G$17,IF(AND(#REF!=\"Diferenciado\",$I$4=#REF!),BDI!$H$17,IF(#REF!=\"ZERO\",0))))),\"\")","v":{"$error":"#REF!"}},{"$error":"#REF!"},{"$error":"#REF!"}]
["SF-00171","Tubo PVC soldável agua fria DN 25mm","Serviço (Mat + MO)","m",0,{"$f":"OFFSET(INDEX(Composições!A:J,MATCH(Orçamentária!A176,Composições!A:A,0),8),2,0)","v":3.8920454999999996},0,{"$f":"IF(A176<>\"\",IF(AND(#REF!=\"Padrão\",$I$4=#REF!),BDI!$B$17,IF(AND(#REF!=\"Padrão\",$I$4=#REF!),BDI!$C$17,IF(AND(#REF!=\"Diferenciado\",$I$4=#REF!),BDI!$G$17,IF(AND(#REF!=\"Diferenciado\",$I$4=#REF!),BDI!$H$17,IF(#REF!=\"ZERO\",0))))),\"\")","v":{"$error":"#REF!"}},{"$error":"#REF!"},{"$error":"#REF!"}]
["SF-00172","Tubo PVC soldável agua fria DN 32mm","Serviço (Mat + MO)","m",0,{"$f":"OFFSET(INDEX(Composições!A:J,MATCH(Orçamentária!A177,Composições!A:A,0),8),2,0)","v":8.1282949999999996},0,{"$f":"IF(A177<>\"\",IF(AND(#REF!=\"Padrão\",$I$4=#REF!),BDI!$B$17,IF(AND(#REF!=\"Padrão\",$I$4=#REF!),BDI!$C$17,IF(AND(#REF!=\"Diferenciado\",$I$4=#REF!),BDI!$G$17,IF(AND(#REF!=\"Diferenciado\",$I$4=#REF!),BDI!$H$17,IF(#REF!=\"ZERO\",0))))),\"\")","v":{"$error":"#REF!"}},{"$error":"#REF!"},{"$error":"#REF!"}]
["SF-00173","Tubo PVC soldável agua fria DN 40mm","Serviço (Mat + MO)","m",0,{"$f":"OFFSET(INDEX(Composições!A:J,MATCH(Orçamentária!A178,Composições!A:A,0),8),2,0)","v":11.642724999999999},0,{"$f":"IF(A178<>\"\",IF(AND(#REF!=\"Padrão\",$I$4=#REF!),BDI!$B$17,IF(AND(#REF!=\"Padrão\",$I$4=#REF!),BDI!$C$17,IF(AND(#REF!=\"Diferenciado\",$I$4=#REF!),BDI!$G$17,IF(AND(#REF!=\"Diferenciado\",$I$4=#REF!),BDI!$H$17,IF(#REF!=\"ZERO\",0))))),\"\")","v":{"$error":"#REF!"}},{"$error":"#REF!"},{"$error":"#REF!"}]
["SF-00174","Tubo PVC soldável agua fria DN 50mm","Serviço (Mat + MO)","m",0,{"$f":"OFFSET(INDEX(Composições!A:J,MATCH(Orçamentária!A179,Composições!A:A,0),8),2,0)","v":13.401108499999999},0,{"$f":"IF(A179<>\"\",IF(AND(#REF!=\"Padrão\",$I$4=#REF!),BDI!$B$17,IF(AND(#REF!=\"Padrão\",$I$4=#REF!),BDI!$C$17,IF(AND(#REF!=\"Diferenciado\",$I$4=#REF!),BDI!$G$17,IF(AND(#REF!=\"Diferenciado\",$I$4=#REF!),BDI!$H$17,IF(#REF!=\"ZERO\",0))))),\"\")","v":{"$error":"#REF!"}},{"$error":"#REF!"},{"$error":"#REF!"}]
["SF-00175","Base registro gaveta 3/4\"","Serviço (Mat + MO)","un",0,{"$f":"OFFSET(INDEX(Composições!A:J,MATCH(Orçamentária!A180,Composições!A:A,0),8),2,0)","v":10.529980500000001},0,{"$f":"IF(A180<>\"\",IF(AND(#REF!=\"Padrão\",$I$4=#REF!),BDI!$B$17,IF(AND(#REF!=\"Padrão\",$I$4=#REF!),BDI!$C$17,IF(AND(#REF!=\"Diferenciado\",$I$4=#REF!),BDI!$G$17,IF(AND(#REF!=\"Diferenciado\",$I$4=#REF!),BDI!$H$17,IF(#REF!=\"ZERO\",0))))),\"\")","v":{"$error":"#REF!"}},{"$error":"#REF!"},{"$error":"#REF!"}]
["SF-00176","Caixa sifonada de PVC DN 150mm","Serviço (Mat + MO)","un",0,{"$f":"OFFSET(INDEX(Composições!A:J,MATCH(Orçamentária!A181,Composições!A:A,0),8),2,0)","v":58.257752500000002},0,{"$f":"IF(A181<>\"\",IF(AND(#REF!=\"Padrão\",$I$4=#REF!),BDI!$B$17,IF(AND(#REF!=\"Padrão\",$I$4=#REF!),BDI!$C$17,IF(AND(#REF!=\"Diferenciado\",$I$4=#REF!),BDI!$G$17,IF(AND(#REF!=\"Diferenciado\",$I$4=#REF!),BDI!$H$17,IF(#REF!=\"ZERO\",0))))),\"\")","v":{"$error":"#REF!"}},{"$error":"#REF!"},{"$error":"#REF!"}]
["SF-00177","Caixa sifonada de PVC DN 250mm","Serviço (Mat + MO)","un",0,{"$f":"OFFSET(INDEX(Composições!A:J,MATCH(Orçamentária!A182,Composições!A:A,0),8),2,0)","v":99.278752499999982},0,{"$f":"IF(A182<>\"\",IF(AND(#REF!=\"Padrão\",$I$4=#REF!),BDI!$B$17,IF(AND(#REF!=\"Padrão\",$I$4=#REF!),BDI!$C$17,IF(AND(#REF!=\"Diferenciado\",$I$4=#REF!),BDI!$G$17,IF(AND(#REF!=\"Diferenciado\",$I$4=#REF!),BDI!$H$17,IF(#REF!=\"ZERO\",0))))),\"\")","v":{"$error":"#REF!"}},{"$error":"#REF!"},{"$error":"#REF!"}]
["SF-00178","Grelha quadrada para ralo 10x10cm","Serviço (Mat + MO)","un",0,{"$f":"OFFSET(INDEX(Composições!A:J,MATCH(Orçamentária!A183,Composições!A:A,0),8),2,0)","v":2.4467250000000003},0,{"$f":"IF(A183<>\"\",IF(AND(#REF!=\"Padrão\",$I$4=#REF!),BDI!$B$17,IF(AND(#REF!=\"Padrão\",$I$4=#REF!),BDI!$C$17,IF(AND(#REF!=\"Diferenciado\",$I$4=#REF!),BDI!$G$17,IF(AND(#REF!=\"Diferenciado\",$I$4=#REF!),BDI!$H$17,IF(#REF!=\"ZERO\",0))))),\"\")","v":{"$error":"#REF!"}},{"$error":"#REF!"},{"$error":"#REF!"}]
["SF-00179","Grelha quadrada para ralo 15x15cm","Serviço (Mat + MO)","un",0,{"$f":"OFFSET(INDEX(Composições!A:J,MATCH(Orçamentária!A184,Composições!A:A,0),8),2,0)","v":2.4467250000000003},0,{"$f":"IF(A184<>\"\",IF(AND(#REF!=\"Padrão\",$I$4=#REF!),BDI!$B$17,IF(AND(#REF!=\"Padrão\",$I$4=#REF!),BDI!$C$17,IF(AND(#REF!=\"Diferenciado\",$I$4=#REF!),BDI!$G$17,IF(AND(#REF!=\"Diferenciado\",$I$4=#REF!),BDI!$H$17,IF(#REF!=\"ZERO\",0))))),\"\")","v":{"$error":"#REF!"}},{"$error":"#REF!"},{"$error":"#REF!"}]
["SF-00180","Ralo seco PVC DN 100x40mm","Serviço (Mat + MO)","un",0,{"$f":"OFFSET(INDEX(Composições!A:J,MATCH(Orçamentária!A185,Composições!A:A,0),8),2,0)","v":9.6149879999999985},0,{"$f":"IF(A185<>\"\",IF(AND(#REF!=\"Padrão\",$I$4=#REF!),BDI!$B$17,IF(AND(#REF!=\"Padrão\",$I$4=#REF!),BDI!$C$17,IF(AND(#REF!=\"Diferenciado\",$I$4=#REF!),BDI!$G$17,IF(AND(#REF!=\"Diferenciado\",$I$4=#REF!),BDI!$H$17,IF(#REF!=\"ZERO\",0))))),\"\")","v":{"$error":"#REF!"}},{"$error":"#REF!"},{"$error":"#REF!"}]
["SF-00181","Assento para bacia convencional – Linha Administrativa","Serviço (Mat + MO)","un",0,{"$f":"OFFSET(INDEX(Composições!A:J,MATCH(Orçamentária!A186,Composições!A:A,0),8),2,0)","v":1.6311500000000003},0,{"$f":"IF(A186<>\"\",IF(AND(#REF!=\"Padrão\",$I$4=#REF!),BDI!$B$17,IF(AND(#REF!=\"Padrão\",$I$4=#REF!),BDI!$C$17,IF(AND(#REF!=\"Diferenciado\",$I$4=#REF!),BDI!$G$17,IF(AND(#REF!=\"Diferenciado\",$I$4=#REF!),BDI!$H$17,IF(#REF!=\"ZERO\",0))))),\"\")","v":{"$error":"#REF!"}},{"$error":"#REF!"},{"$error":"#REF!"}]
["SF-00182","Bacia convencional – Linha Administrativa","Serviço (Mat + MO)","un",0,{"$f":"OFFSET(INDEX(Composições!A:J,MATCH(Orçamentária!A187,Composições!A:A,0),8),2,0)","v":175.02972519999997},0,{"$f":"IF(A187<>\"\",IF(AND(#REF!=\"Padrão\",$I$4=#REF!),BDI!$B$17,IF(AND(#REF!=\"Padrão\",$I$4=#REF!),BDI!$C$17,IF(AND(#REF!=\"Diferenciado\",$I$4=#REF!),BDI!$G$17,IF(AND(#REF!=\"Diferenciado\",$I$4=#REF!),BDI!$H$17,IF(#REF!=\"ZERO\",0))))),\"\")","v":{"$error":"#REF!"}},{"$error":"#REF!"},{"$error":"#REF!"}]
["SF-00183","Bacia convencional com saída horizontal","Serviço (Mat + MO)","un",0,{"$f":"OFFSET(INDEX(Composições!A:J,MATCH(Orçamentária!A188,Composições!A:A,0),8),2,0)","v":57.609725199999986},0,{"$f":"IF(A188<>\"\",IF(AND(#REF!=\"Padrão\",$I$4=#REF!),BDI!$B$17,IF(AND(#REF!=\"Padrão\",$I$4=#REF!),BDI!$C$17,IF(AND(#REF!=\"Diferenciado\",$I$4=#REF!),BDI!$G$17,IF(AND(#REF!=\"Diferenciado\",$I$4=#REF!),BDI!$H$17,IF(#REF!=\"ZERO\",0))))),\"\")","v":{"$error":"#REF!"}},{"$error":"#REF!"},{"$error":"#REF!"}]
["SF-00184","Cuba oval de embutir","Serviço (Mat + MO)","un",0,{"$f":"OFFSET(INDEX(Composições!A:J,MATCH(Orçamentária!A189,Composições!A:A,0),8),2,0)","v":34.313477500000005},0,{"$f":"IF(A189<>\"\",IF(AND(#REF!=\"Padrão\",$I$4=#REF!),BDI!$B$17,IF(AND(#REF!=\"Padrão\",$I$4=#REF!),BDI!$C$17,IF(AND(#REF!=\"Diferenciado\",$I$4=#REF!),BDI!$G$17,IF(AND(#REF!=\"Diferenciado\",$I$4=#REF!),BDI!$H$17,IF(#REF!=\"ZERO\",0))))),\"\")","v":{"$error":"#REF!"}},{"$error":"#REF!"},{"$error":"#REF!"}]
["SF-00185","Cuba retangular em aço inox – Linha Administrativa","Serviço (Mat + MO)","un",0,{"$f":"OFFSET(INDEX(Composições!A:J,MATCH(Orçamentária!A190,Composições!A:A,0),8),2,0)","v":19.364283199999996},0,{"$f":"IF(A190<>\"\",IF(AND(#REF!=\"Padrão\",$I$4=#REF!),BDI!$B$17,IF(AND(#REF!=\"Padrão\",$I$4=#REF!),BDI!$C$17,IF(AND(#REF!=\"Diferenciado\",$I$4=#REF!),BDI!$G$17,IF(AND(#REF!=\"Diferenciado\",$I$4=#REF!),BDI!$H$17,IF(#REF!=\"ZERO\",0))))),\"\")","v":{"$error":"#REF!"}},{"$error":"#REF!"},{"$error":"#REF!"}]
["SF-00186","Cuba semiencaixe quadrada com mesa","Serviço (Mat + MO)","un",0,{"$f":"OFFSET(INDEX(Composições!A:J,MATCH(Orçamentária!A191,Composições!A:A,0),8),2,0)","v":34.313477500000005},0,{"$f":"IF(A191<>\"\",IF(AND(#REF!=\"Padrão\",$I$4=#REF!),BDI!$B$17,IF(AND(#REF!=\"Padrão\",$I$4=#REF!),BDI!$C$17,IF(AND(#REF!=\"Diferenciado\",$I$4=#REF!),BDI!$G$17,IF(AND(#REF!=\"Diferenciado\",$I$4=#REF!),BDI!$H$17,IF(#REF!=\"ZERO\",0))))),\"\")","v":{"$error":"#REF!"}},{"$error":"#REF!"},{"$error":"#REF!"}]
["SF-00187","Instalação de lavatório reaproveitado","Serviço (Mat + MO)","un",0,{"$f":"OFFSET(INDEX(Composições!A:J,MATCH(Orçamentária!A192,Composições!A:A,0),8),2,0)","v":38.663234899999992},0,{"$f":"IF(A192<>\"\",IF(AND(#REF!=\"Padrão\",$I$4=#REF!),BDI!$B$17,IF(AND(#REF!=\"Padrão\",$I$4=#REF!),BDI!$C$17,IF(AND(#REF!=\"Diferenciado\",$I$4=#REF!),BDI!$G$17,IF(AND(#REF!=\"Diferenciado\",$I$4=#REF!),BDI!$H$17,IF(#REF!=\"ZERO\",0))))),\"\")","v":{"$error":"#REF!"}},{"$error":"#REF!"},{"$error":"#REF!"}]
["SF-00188","Instalação de mictório reaproveitado","Serviço (Mat + MO)","un",0,{"$f":"OFFSET(INDEX(Composições!A:J,MATCH(Orçamentária!A193,Composições!A:A,0),8),2,0)","v":39.234496499999999},0,{"$f":"IF(A193<>\"\",IF(AND(#REF!=\"Padrão\",$I$4=#REF!),BDI!$B$17,IF(AND(#REF!=\"Padrão\",$I$4=#REF!),BDI!$C$17,IF(AND(#REF!=\"Diferenciado\",$I$4=#REF!),BDI!$G$17,IF(AND(#REF!=\"Diferenciado\",$I$4=#REF!),BDI!$H$17,IF(#REF!=\"ZERO\",0))))),\"\")","v":{"$error":"#REF!"}},{"$error":"#REF!"},{"$error":"#REF!"}]
["SF-00189","Instalação de vaso sanitário reaproveitado","Serviço (Mat + MO)","un",0,{"$f":"OFFSET(INDEX(Composições!A:J,MATCH(Orçamentária!A194,Composições!A:A,0),8),2,0)","v":57.570805599999986},0,{"$f":"IF(A194<>\"\",IF(AND(#REF!=\"Padrão\",$I$4=#REF!),BDI!$B$17,IF(AND(#REF!=\"Padrão\",$I$4=#REF!),BDI!$C$17,IF(AND(#REF!=\"Diferenciado\",$I$4=#REF!),BDI!$G$17,IF(AND(#REF!=\"Diferenciado\",$I$4=#REF!),BDI!$H$17,IF(#REF!=\"ZERO\",0))))),\"\")","v":{"$error":"#REF!"}},{"$error":"#REF!"},{"$error":"#REF!"}]
["SF-00190","Lavatório suspenso","Serviço (Mat + MO)","un",0,{"$f":"OFFSET(INDEX(Composições!A:J,MATCH(Orçamentária!A195,Composições!A:A,0),8),2,0)","v":115.2902349},0,{"$f":"IF(A195<>\"\",IF(AND(#REF!=\"Padrão\",$I$4=#REF!),BDI!$B$17,IF(AND(#REF!=\"Padrão\",$I$4=#REF!),BDI!$C$17,IF(AND(#REF!=\"Diferenciado\",$I$4=#REF!),BDI!$G$17,IF(AND(#REF!=\"Diferenciado\",$I$4=#REF!),BDI!$H$17,IF(#REF!=\"ZERO\",0))))),\"\")","v":{"$error":"#REF!"}},{"$error":"#REF!"},{"$error":"#REF!"}]
["SF-00191","Mictório – Linha Administrativa","Serviço (Mat + MO)","un",0,{"$f":"OFFSET(INDEX(Composições!A:J,MATCH(Orçamentária!A196,Composições!A:A,0),8),2,0)","v":306.20475049999999},0,{"$f":"IF(A196<>\"\",IF(AND(#REF!=\"Padrão\",$I$4=#REF!),BDI!$B$17,IF(AND(#REF!=\"Padrão\",$I$4=#REF!),BDI!$C$17,IF(AND(#REF!=\"Diferenciado\",$I$4=#REF!),BDI!$G$17,IF(AND(#REF!=\"Diferenciado\",$I$4=#REF!),BDI!$H$17,IF(#REF!=\"ZERO\",0))))),\"\")","v":{"$error":"#REF!"}},{"$error":"#REF!"},{"$error":"#REF!"}]
["SF-00192","Tanque 38 litros – Linha Administrativa","Serviço (Mat + MO)","un",0,{"$f":"OFFSET(INDEX(Composições!A:J,MATCH(Orçamentária!A197,Composições!A:A,0),8),2,0)","v":76.693032599999995},0,{"$f":"IF(A197<>\"\",IF(AND(#REF!=\"Padrão\",$I$4=#REF!),BDI!$B$17,IF(AND(#REF!=\"Padrão\",$I$4=#REF!),BDI!$C$17,IF(AND(#REF!=\"Diferenciado\",$I$4=#REF!),BDI!$G$17,IF(AND(#REF!=\"Diferenciado\",$I$4=#REF!),BDI!$H$17,IF(#REF!=\"ZERO\",0))))),\"\")","v":{"$error":"#REF!"}},{"$error":"#REF!"},{"$error":"#REF!"}]
["SF-00193","Acabamento para registro GD – Linha Administrativa","Serviço (Mat + MO)","un",0,{"$f":"OFFSET(INDEX(Composições!A:J,MATCH(Orçamentária!A198,Composições!A:A,0),8),2,0)","v":1.72976},0,{"$f":"IF(A198<>\"\",IF(AND(#REF!=\"Padrão\",$I$4=#REF!),BDI!$B$17,IF(AND(#REF!=\"Padrão\",$I$4=#REF!),BDI!$C$17,IF(AND(#REF!=\"Diferenciado\",$I$4=#REF!),BDI!$G$17,IF(AND(#REF!=\"Diferenciado\",$I$4=#REF!),BDI!$H$17,IF(#REF!=\"ZERO\",0))))),\"\")","v":{"$error":"#REF!"}},{"$error":"#REF!"},{"$error":"#REF!"}]
["SF-00194","Acabamento para registro PQ – Linha Administrativa","Serviço (Mat + MO)","un",0,{"$f":"OFFSET(INDEX(Composições!A:J,MATCH(Orçamentária!A199,Composições!A:A,0),8),2,0)","v":1.72976},{"$f":"IF(ISNUMBER(F199),ROUND(E199*F199,2),\"\")","v":0},{"$f":"IF(A199<>\"\",IF(AND(#REF!=\"Padrão\",$I$4=#REF!),BDI!$B$17,IF(AND(#REF!=\"Padrão\",$I$4=#REF!),BDI!$C$17,IF(AND(#REF!=\"Diferenciado\",$I$4=#REF!),BDI!$G$17,IF(AND(#REF!=\"Diferenciado\",$I$4=#REF!),BDI!$H$17,IF(#REF!=\"ZERO\",0))))),\"\")","v":{"$error":"#REF!"}},{"$f":"IF(ISNUMBER(F199),ROUND(F199*(1+H199),2),\"\")","v":{"$error":"#REF!"}},{"$f":"IF(ISNUMBER(F199),ROUND(I199*E199,2),\"\")","v":{"$error":"#REF!"}}]
["SF-00195","Ducha higiênica – Linha Administrativa","Serviço (Mat + MO)","un",0,{"$f":"OFFSET(INDEX(Composições!A:J,MATCH(Orçamentária!A200,Composições!A:A,0),8),2,0)","v":19.256500000000003},0,{"$f":"IF(A200<>\"\",IF(AND(#REF!=\"Padrão\",$I$4=#REF!),BDI!$B$17,IF(AND(#REF!=\"Padrão\",$I$4=#REF!),BDI!$C$17,IF(AND(#REF!=\"Diferenciado\",$I$4=#REF!),BDI!$G$17,IF(AND(#REF!=\"Diferenciado\",$I$4=#REF!),BDI!$H$17,IF(#REF!=\"ZERO\",0))))),\"\")","v":{"$error":"#REF!"}},{"$error":"#REF!"},{"$error":"#REF!"}]
["SF-00196","Instalação de metais e acessórios reaproveitados","Serviço (Mat + MO)","un",0,{"$f":"OFFSET(INDEX(Composições!A:J,MATCH(Orçamentária!A201,Composições!A:A,0),8),2,0)","v":3.8883519},0,{"$f":"IF(A201<>\"\",IF(AND(#REF!=\"Padrão\",$I$4=#REF!),BDI!$B$17,IF(AND(#REF!=\"Padrão\",$I$4=#REF!),BDI!$C$17,IF(AND(#REF!=\"Diferenciado\",$I$4=#REF!),BDI!$G$17,IF(AND(#REF!=\"Diferenciado\",$I$4=#REF!),BDI!$H$17,IF(#REF!=\"ZERO\",0))))),\"\")","v":{"$error":"#REF!"}},{"$error":"#REF!"},{"$error":"#REF!"}]
["SF-00197","Ligação flexível 1/2” x 40 cm – Linha Administrativa","Serviço (Mat + MO)","un",0,{"$f":"OFFSET(INDEX(Composições!A:J,MATCH(Orçamentária!A202,Composições!A:A,0),8),2,0)","v":31.448229999999999},0,{"$f":"IF(A202<>\"\",IF(AND(#REF!=\"Padrão\",$I$4=#REF!),BDI!$B$17,IF(AND(#REF!=\"Padrão\",$I$4=#REF!),BDI!$C$17,IF(AND(#REF!=\"Diferenciado\",$I$4=#REF!),BDI!$G$17,IF(AND(#REF!=\"Diferenciado\",$I$4=#REF!),BDI!$H$17,IF(#REF!=\"ZERO\",0))))),\"\")","v":{"$error":"#REF!"}},{"$error":"#REF!"},{"$error":"#REF!"}]
["SF-00198","Sifão articulado para cozinha – Linha Administrativa","Serviço (Mat + MO)","un",0,{"$f":"OFFSET(INDEX(Composições!A:J,MATCH(Orçamentária!A203,Composições!A:A,0),8),2,0)","v":7.4272653000000002},0,{"$f":"IF(A203<>\"\",IF(AND(#REF!=\"Padrão\",$I$4=#REF!),BDI!$B$17,IF(AND(#REF!=\"Padrão\",$I$4=#REF!),BDI!$C$17,IF(AND(#REF!=\"Diferenciado\",$I$4=#REF!),BDI!$G$17,IF(AND(#REF!=\"Diferenciado\",$I$4=#REF!),BDI!$H$17,IF(#REF!=\"ZERO\",0))))),\"\")","v":{"$error":"#REF!"}},{"$error":"#REF!"},{"$error":"#REF!"}]
["SF-00199","Sifão para lavatório 1 1/2\"","Serviço (Mat + MO)","un",0,{"$f":"OFFSET(INDEX(Composições!A:J,MATCH(Orçamentária!A204,Composições!A:A,0),8),2,0)","v":116.37927500000001},0,{"$f":"IF(A204<>\"\",IF(AND(#REF!=\"Padrão\",$I$4=#REF!),BDI!$B$17,IF(AND(#REF!=\"Padrão\",$I$4=#REF!),BDI!$C$17,IF(AND(#REF!=\"Diferenciado\",$I$4=#REF!),BDI!$G$17,IF(AND(#REF!=\"Diferenciado\",$I$4=#REF!),BDI!$H$17,IF(#REF!=\"ZERO\",0))))),\"\")","v":{"$error":"#REF!"}},{"$error":"#REF!"},{"$error":"#REF!"}]
["SF-00200","Sifão para tanque – Linha Administrativa","Serviço (Mat + MO)","un",0,{"$f":"OFFSET(INDEX(Composições!A:J,MATCH(Orçamentária!A205,Composições!A:A,0),8),2,0)","v":122.76676529999999},0,{"$f":"IF(A205<>\"\",IF(AND(#REF!=\"Padrão\",$I$4=#REF!),BDI!$B$17,IF(AND(#REF!=\"Padrão\",$I$4=#REF!),BDI!$C$17,IF(AND(#REF!=\"Diferenciado\",$I$4=#REF!),BDI!$G$17,IF(AND(#REF!=\"Diferenciado\",$I$4=#REF!),BDI!$H$17,IF(#REF!=\"ZERO\",0))))),\"\")","v":{"$error":"#REF!"}},{"$error":"#REF!"},{"$error":"#REF!"}]
["SF-00201","Torneira de mesa para cozinha bica móvel – Linha Administrativa","Serviço (Mat + MO)","un",0,{"$f":"OFFSET(INDEX(Composições!A:J,MATCH(Orçamentária!A206,Composições!A:A,0),8),2,0)","v":4.5301671499999996},0,{"$f":"IF(A206<>\"\",IF(AND(#REF!=\"Padrão\",$I$4=#REF!),BDI!$B$17,IF(AND(#REF!=\"Padrão\",$I$4=#REF!),BDI!$C$17,IF(AND(#REF!=\"Diferenciado\",$I$4=#REF!),BDI!$G$17,IF(AND(#REF!=\"Diferenciado\",$I$4=#REF!),BDI!$H$17,IF(#REF!=\"ZERO\",0))))),\"\")","v":{"$error":"#REF!"}},{"$error":"#REF!"},{"$error":"#REF!"}]
["SF-00202","Torneira de mesa para cozinha bica móvel com arejador – Linha Administrativa","Serviço (Mat + MO)","un",0,{"$f":"OFFSET(INDEX(Composições!A:J,MATCH(Orçamentária!A207,Composições!A:A,0),8),2,0)","v":4.5301671499999996},0,{"$f":"IF(A207<>\"\",IF(AND(#REF!=\"Padrão\",$I$4=#REF!),BDI!$B$17,IF(AND(#REF!=\"Padrão\",$I$4=#REF!),BDI!$C$17,IF(AND(#REF!=\"Diferenciado\",$I$4=#REF!),BDI!$G$17,IF(AND(#REF!=\"Diferenciado\",$I$4=#REF!),BDI!$H$17,IF(#REF!=\"ZERO\",0))))),\"\")","v":{"$error":"#REF!"}},{"$error":"#REF!"},{"$error":"#REF!"}]
["SF-00203","Torneira de mesa para lavatório – Linha Acessibilidade","Serviço (Mat + MO)","un",0,{"$f":"OFFSET(INDEX(Composições!A:J,MATCH(Orçamentária!A208,Composições!A:A,0),8),2,0)","v":2.6393764500000003},0,{"$f":"IF(A208<>\"\",IF(AND(#REF!=\"Padrão\",$I$4=#REF!),BDI!$B$17,IF(AND(#REF!=\"Padrão\",$I$4=#REF!),BDI!$C$17,IF(AND(#REF!=\"Diferenciado\",$I$4=#REF!),BDI!$G$17,IF(AND(#REF!=\"Diferenciado\",$I$4=#REF!),BDI!$H$17,IF(#REF!=\"ZERO\",0))))),\"\")","v":{"$error":"#REF!"}},{"$error":"#REF!"},{"$error":"#REF!"}]
["SF-00204","Torneira de mesa para lavatório bica alta – Linha Administrativa","Serviço (Mat + MO)","un",0,{"$f":"OFFSET(INDEX(Composições!A:J,MATCH(Orçamentária!A209,Composições!A:A,0),8),2,0)","v":2.6393764500000003},0,{"$f":"IF(A209<>\"\",IF(AND(#REF!=\"Padrão\",$I$4=#REF!),BDI!$B$17,IF(AND(#REF!=\"Padrão\",$I$4=#REF!),BDI!$C$17,IF(AND(#REF!=\"Diferenciado\",$I$4=#REF!),BDI!$G$17,IF(AND(#REF!=\"Diferenciado\",$I$4=#REF!),BDI!$H$17,IF(#REF!=\"ZERO\",0))))),\"\")","v":{"$error":"#REF!"}},{"$error":"#REF!"},{"$error":"#REF!"}]
["SF-00205","Torneira de mesa para lavatório bica baixa – Linha Administrativa","Serviço (Mat + MO)","un",0,{"$f":"OFFSET(INDEX(Composições!A:J,MATCH(Orçamentária!A210,Composições!A:A,0),8),2,0)","v":2.6393764500000003},0,{"$f":"IF(A210<>\"\",IF(AND(#REF!=\"Padrão\",$I$4=#REF!),BDI!$B$17,IF(AND(#REF!=\"Padrão\",$I$4=#REF!),BDI!$C$17,IF(AND(#REF!=\"Diferenciado\",$I$4=#REF!),BDI!$G$17,IF(AND(#REF!=\"Diferenciado\",$I$4=#REF!),BDI!$H$17,IF(#REF!=\"ZERO\",0))))),\"\")","v":{"$error":"#REF!"}},{"$error":"#REF!"},{"$error":"#REF!"}]
["SF-00206","Torneira de mesa para lavatório com fechamento automático – Linha Administrativa","Serviço (Mat + MO)","un",0,{"$f":"OFFSET(INDEX(Composições!A:J,MATCH(Orçamentária!A211,Composições!A:A,0),8),2,0)","v":148.64487645},0,{"$f":"IF(A211<>\"\",IF(AND(#REF!=\"Padrão\",$I$4=#REF!),BDI!$B$17,IF(AND(#REF!=\"Padrão\",$I$4=#REF!),BDI!$C$17,IF(AND(#REF!=\"Diferenciado\",$I$4=#REF!),BDI!$G$17,IF(AND(#REF!=\"Diferenciado\",$I$4=#REF!),BDI!$H$17,IF(#REF!=\"ZERO\",0))))),\"\")","v":{"$error":"#REF!"}},{"$error":"#REF!"},{"$error":"#REF!"}]
["SF-00207","Torneira de parede para cozinha bica móvel – Linha Administrativa","Serviço (Mat + MO)","un",0,{"$f":"OFFSET(INDEX(Composições!A:J,MATCH(Orçamentária!A212,Composições!A:A,0),8),2,0)","v":3.1848588500000004},0,{"$f":"IF(A212<>\"\",IF(AND(#REF!=\"Padrão\",$I$4=#REF!),BDI!$B$17,IF(AND(#REF!=\"Padrão\",$I$4=#REF!),BDI!$C$17,IF(AND(#REF!=\"Diferenciado\",$I$4=#REF!),BDI!$G$17,IF(AND(#REF!=\"Diferenciado\",$I$4=#REF!),BDI!$H$17,IF(#REF!=\"ZERO\",0))))),\"\")","v":{"$error":"#REF!"}},{"$error":"#REF!"},{"$error":"#REF!"}]
["SF-00208","Torneira de parede para tanque – Linha Administrativa","Serviço (Mat + MO)","un",0,{"$f":"OFFSET(INDEX(Composições!A:J,MATCH(Orçamentária!A213,Composições!A:A,0),8),2,0)","v":56.106864149999993},0,{"$f":"IF(A213<>\"\",IF(AND(#REF!=\"Padrão\",$I$4=#REF!),BDI!$B$17,IF(AND(#REF!=\"Padrão\",$I$4=#REF!),BDI!$C$17,IF(AND(#REF!=\"Diferenciado\",$I$4=#REF!),BDI!$G$17,IF(AND(#REF!=\"Diferenciado\",$I$4=#REF!),BDI!$H$17,IF(#REF!=\"ZERO\",0))))),\"\")","v":{"$error":"#REF!"}},{"$error":"#REF!"},{"$error":"#REF!"}]
["SF-00209","Válvula de descarga 1 1/2\" – Linha Acessibilidade","Serviço (Mat + MO)","un",0,{"$f":"OFFSET(INDEX(Composições!A:J,MATCH(Orçamentária!A214,Composições!A:A,0),8),2,0)","v":30.618338500000007},0,{"$f":"IF(A214<>\"\",IF(AND(#REF!=\"Padrão\",$I$4=#REF!),BDI!$B$17,IF(AND(#REF!=\"Padrão\",$I$4=#REF!),BDI!$C$17,IF(AND(#REF!=\"Diferenciado\",$I$4=#REF!),BDI!$G$17,IF(AND(#REF!=\"Diferenciado\",$I$4=#REF!),BDI!$H$17,IF(#REF!=\"ZERO\",0))))),\"\")","v":{"$error":"#REF!"}},{"$error":"#REF!"},{"$error":"#REF!"}]
["SF-00210","Válvula de descarga 1 1/2\" – Linha Administrativa","Serviço (Mat + MO)","un",0,{"$f":"OFFSET(INDEX(Composições!A:J,MATCH(Orçamentária!A215,Composições!A:A,0),8),2,0)","v":202.94833849999998},0,{"$f":"IF(A215<>\"\",IF(AND(#REF!=\"Padrão\",$I$4=#REF!),BDI!$B$17,IF(AND(#REF!=\"Padrão\",$I$4=#REF!),BDI!$C$17,IF(AND(#REF!=\"Diferenciado\",$I$4=#REF!),BDI!$G$17,IF(AND(#REF!=\"Diferenciado\",$I$4=#REF!),BDI!$H$17,IF(#REF!=\"ZERO\",0))))),\"\")","v":{"$error":"#REF!"}},{"$error":"#REF!"},{"$error":"#REF!"}]
["SF-00211","Válvula de descarga 1 1/4\" – Linha Acessibilidade","Serviço (Mat + MO)","un",0,{"$f":"OFFSET(INDEX(Composições!A:J,MATCH(Orçamentária!A216,Composições!A:A,0),8),2,0)","v":30.618338500000007},0,{"$f":"IF(A216<>\"\",IF(AND(#REF!=\"Padrão\",$I$4=#REF!),BDI!$B$17,IF(AND(#REF!=\"Padrão\",$I$4=#REF!),BDI!$C$17,IF(AND(#REF!=\"Diferenciado\",$I$4=#REF!),BDI!$G$17,IF(AND(#REF!=\"Diferenciado\",$I$4=#REF!),BDI!$H$17,IF(#REF!=\"ZERO\",0))))),\"\")","v":{"$error":"#REF!"}},{"$error":"#REF!"},{"$error":"#REF!"}]
["SF-00212","Válvula de descarga 1 1/4\" – Linha Administrativa","Serviço (Mat + MO)","un",0,{"$f":"OFFSET(INDEX(Composições!A:J,MATCH(Orçamentária!A217,Composições!A:A,0),8),2,0)","v":170.22083850000001},0,{"$f":"IF(A217<>\"\",IF(AND(#REF!=\"Padrão\",$I$4=#REF!),BDI!$B$17,IF(AND(#REF!=\"Padrão\",$I$4=#REF!),BDI!$C$17,IF(AND(#REF!=\"Diferenciado\",$I$4=#REF!),BDI!$G$17,IF(AND(#REF!=\"Diferenciado\",$I$4=#REF!),BDI!$H$17,IF(#REF!=\"ZERO\",0))))),\"\")","v":{"$error":"#REF!"}},{"$error":"#REF!"},{"$error":"#REF!"}]
["SF-00213","Válvula de escoamento para lavatório – Linha Administrativa","Serviço (Mat + MO)","un",0,{"$f":"OFFSET(INDEX(Composições!A:J,MATCH(Orçamentária!A218,Composições!A:A,0),8),2,0)","v":32.041786200000004},0,{"$f":"IF(A218<>\"\",IF(AND(#REF!=\"Padrão\",$I$4=#REF!),BDI!$B$17,IF(AND(#REF!=\"Padrão\",$I$4=#REF!),BDI!$C$17,IF(AND(#REF!=\"Diferenciado\",$I$4=#REF!),BDI!$G$17,IF(AND(#REF!=\"Diferenciado\",$I$4=#REF!),BDI!$H$17,IF(#REF!=\"ZERO\",0))))),\"\")","v":{"$error":"#REF!"}},{"$error":"#REF!"},{"$error":"#REF!"}]
["SF-00214","Válvula de escoamento para tanque – Linha Administrativa","Serviço (Mat + MO)","un",0,{"$f":"OFFSET(INDEX(Composições!A:J,MATCH(Orçamentária!A219,Composições!A:A,0),8),2,0)","v":23.166475800000001},0,{"$f":"IF(A219<>\"\",IF(AND(#REF!=\"Padrão\",$I$4=#REF!),BDI!$B$17,IF(AND(#REF!=\"Padrão\",$I$4=#REF!),BDI!$C$17,IF(AND(#REF!=\"Diferenciado\",$I$4=#REF!),BDI!$G$17,IF(AND(#REF!=\"Diferenciado\",$I$4=#REF!),BDI!$H$17,IF(#REF!=\"ZERO\",0))))),\"\")","v":{"$error":"#REF!"}},{"$error":"#REF!"},{"$error":"#REF!"}]
["SF-00215","Válvula descarga para mictório – Linha Administrativa","Serviço (Mat + MO)","un",0,{"$f":"OFFSET(INDEX(Composições!A:J,MATCH(Orçamentária!A220,Composições!A:A,0),8),2,0)","v":178.96083850000002},0,{"$f":"IF(A220<>\"\",IF(AND(#REF!=\"Padrão\",$I$4=#REF!),BDI!$B$17,IF(AND(#REF!=\"Padrão\",$I$4=#REF!),BDI!$C$17,IF(AND(#REF!=\"Diferenciado\",$I$4=#REF!),BDI!$G$17,IF(AND(#REF!=\"Diferenciado\",$I$4=#REF!),BDI!$H$17,IF(#REF!=\"ZERO\",0))))),\"\")","v":{"$error":"#REF!"}},{"$error":"#REF!"},{"$error":"#REF!"}]
["SF-00216","Alarme de emergência para sanitários PNE","Serviço (Mat + MO)","un",0,{"$f":"OFFSET(INDEX(Composições!A:J,MATCH(Orçamentária!A221,Composições!A:A,0),8),2,0)","v":11.49386},0,{"$f":"IF(A221<>\"\",IF(AND(#REF!=\"Padrão\",$I$4=#REF!),BDI!$B$17,IF(AND(#REF!=\"Padrão\",$I$4=#REF!),BDI!$C$17,IF(AND(#REF!=\"Diferenciado\",$I$4=#REF!),BDI!$G$17,IF(AND(#REF!=\"Diferenciado\",$I$4=#REF!),BDI!$H$17,IF(#REF!=\"ZERO\",0))))),\"\")","v":{"$error":"#REF!"}},{"$error":"#REF!"},{"$error":"#REF!"}]
["SF-00217","Barra de apoio 40cm – Linha Acessibilidade","Serviço (Mat + MO)","un",0,{"$f":"OFFSET(INDEX(Composições!A:J,MATCH(Orçamentária!A222,Composições!A:A,0),8),2,0)","v":41.305999999999997},0,{"$f":"IF(A222<>\"\",IF(AND(#REF!=\"Padrão\",$I$4=#REF!),BDI!$B$17,IF(AND(#REF!=\"Padrão\",$I$4=#REF!),BDI!$C$17,IF(AND(#REF!=\"Diferenciado\",$I$4=#REF!),BDI!$G$17,IF(AND(#REF!=\"Diferenciado\",$I$4=#REF!),BDI!$H$17,IF(#REF!=\"ZERO\",0))))),\"\")","v":{"$error":"#REF!"}},{"$error":"#REF!"},{"$error":"#REF!"}]
["SF-00218","Barra de apoio 70cm – Linha Acessibilidade","Serviço (Mat + MO)","un",0,{"$f":"OFFSET(INDEX(Composições!A:J,MATCH(Orçamentária!A223,Composições!A:A,0),8),2,0)","v":41.305999999999997},0,{"$f":"IF(A223<>\"\",IF(AND(#REF!=\"Padrão\",$I$4=#REF!),BDI!$B$17,IF(AND(#REF!=\"Padrão\",$I$4=#REF!),BDI!$C$17,IF(AND(#REF!=\"Diferenciado\",$I$4=#REF!),BDI!$G$17,IF(AND(#REF!=\"Diferenciado\",$I$4=#REF!),BDI!$H$17,IF(#REF!=\"ZERO\",0))))),\"\")","v":{"$error":"#REF!"}},{"$error":"#REF!"},{"$error":"#REF!"}]
["SF-00219","Barra de apoio 80cm – Linha Acessibilidade","Serviço (Mat + MO)","un",0,{"$f":"OFFSET(INDEX(Composições!A:J,MATCH(Orçamentária!A224,Composições!A:A,0),8),2,0)","v":41.305999999999997},0,{"$f":"IF(A224<>\"\",IF(AND(#REF!=\"Padrão\",$I$4=#REF!),BDI!$B$17,IF(AND(#REF!=\"Padrão\",$I$4=#REF!),BDI!$C$17,IF(AND(#REF!=\"Diferenciado\",$I$4=#REF!),BDI!$G$17,IF(AND(#REF!=\"Diferenciado\",$I$4=#REF!),BDI!$H$17,IF(#REF!=\"ZERO\",0))))),\"\")","v":{"$error":"#REF!"}},{"$error":"#REF!"},{"$error":"#REF!"}]
["SF-00220","Barra de apoio lateral fixa 30cm – Linha Acessibilidade","Serviço (Mat + MO)","un",0,{"$f":"OFFSET(INDEX(Composições!A:J,MATCH(Orçamentária!A225,Composições!A:A,0),8),2,0)","v":41.305999999999997},0,{"$f":"IF(A225<>\"\",IF(AND(#REF!=\"Padrão\",$I$4=#REF!),BDI!$B$17,IF(AND(#REF!=\"Padrão\",$I$4=#REF!),BDI!$C$17,IF(AND(#REF!=\"Diferenciado\",$I$4=#REF!),BDI!$G$17,IF(AND(#REF!=\"Diferenciado\",$I$4=#REF!),BDI!$H$17,IF(#REF!=\"ZERO\",0))))),\"\")","v":{"$error":"#REF!"}},{"$error":"#REF!"},{"$error":"#REF!"}]
["SF-00221","Lavatório suspenso – Linha Acessibilidade","Serviço (Mat + MO)","un",0,{"$f":"OFFSET(INDEX(Composições!A:J,MATCH(Orçamentária!A226,Composições!A:A,0),8),2,0)","v":38.663234899999992},0,{"$f":"IF(A226<>\"\",IF(AND(#REF!=\"Padrão\",$I$4=#REF!),BDI!$B$17,IF(AND(#REF!=\"Padrão\",$I$4=#REF!),BDI!$C$17,IF(AND(#REF!=\"Diferenciado\",$I$4=#REF!),BDI!$G$17,IF(AND(#REF!=\"Diferenciado\",$I$4=#REF!),BDI!$H$17,IF(#REF!=\"ZERO\",0))))),\"\")","v":{"$error":"#REF!"}},{"$error":"#REF!"},{"$error":"#REF!"}]
["SF-00222","Lavatório suspenso com Coluna – Linha Acessibilidade","Serviço (Mat + MO)","un",0,{"$f":"OFFSET(INDEX(Composições!A:J,MATCH(Orçamentária!A227,Composições!A:A,0),8),2,0)","v":123.75751744999999},0,{"$f":"IF(A227<>\"\",IF(AND(#REF!=\"Padrão\",$I$4=#REF!),BDI!$B$17,IF(AND(#REF!=\"Padrão\",$I$4=#REF!),BDI!$C$17,IF(AND(#REF!=\"Diferenciado\",$I$4=#REF!),BDI!$G$17,IF(AND(#REF!=\"Diferenciado\",$I$4=#REF!),BDI!$H$17,IF(#REF!=\"ZERO\",0))))),\"\")","v":{"$error":"#REF!"}},{"$error":"#REF!"},{"$error":"#REF!"}]
["SF-00223","Cabide – Linha Administrativa","Serviço (Mat + MO)","un",0,{"$f":"OFFSET(INDEX(Composições!A:J,MATCH(Orçamentária!A228,Composições!A:A,0),8),2,0)","v":3.8883519},0,{"$f":"IF(A228<>\"\",IF(AND(#REF!=\"Padrão\",$I$4=#REF!),BDI!$B$17,IF(AND(#REF!=\"Padrão\",$I$4=#REF!),BDI!$C$17,IF(AND(#REF!=\"Diferenciado\",$I$4=#REF!),BDI!$G$17,IF(AND(#REF!=\"Diferenciado\",$I$4=#REF!),BDI!$H$17,IF(#REF!=\"ZERO\",0))))),\"\")","v":{"$error":"#REF!"}},{"$error":"#REF!"},{"$error":"#REF!"}]
["SF-00224","Papeleira – Linha Administrativa","Serviço (Mat + MO)","un",0,{"$f":"OFFSET(INDEX(Composições!A:J,MATCH(Orçamentária!A229,Composições!A:A,0),8),2,0)","v":8.4615018000000006},0,{"$f":"IF(A229<>\"\",IF(AND(#REF!=\"Padrão\",$I$4=#REF!),BDI!$B$17,IF(AND(#REF!=\"Padrão\",$I$4=#REF!),BDI!$C$17,IF(AND(#REF!=\"Diferenciado\",$I$4=#REF!),BDI!$G$17,IF(AND(#REF!=\"Diferenciado\",$I$4=#REF!),BDI!$H$17,IF(#REF!=\"ZERO\",0))))),\"\")","v":{"$error":"#REF!"}},{"$error":"#REF!"},{"$error":"#REF!"}]
["SF-00225","Porta toalha argola – Linha Administrativa","Serviço (Mat + MO)","un",0,{"$f":"OFFSET(INDEX(Composições!A:J,MATCH(Orçamentária!A230,Composições!A:A,0),8),2,0)","v":8.4615018000000006},0,{"$f":"IF(A230<>\"\",IF(AND(#REF!=\"Padrão\",$I$4=#REF!),BDI!$B$17,IF(AND(#REF!=\"Padrão\",$I$4=#REF!),BDI!$C$17,IF(AND(#REF!=\"Diferenciado\",$I$4=#REF!),BDI!$G$17,IF(AND(#REF!=\"Diferenciado\",$I$4=#REF!),BDI!$H$17,IF(#REF!=\"ZERO\",0))))),\"\")","v":{"$error":"#REF!"}},{"$error":"#REF!"},{"$error":"#REF!"}]
["SF-00226","Porta toalha barra – Linha Administrativa","Serviço (Mat + MO)","un",0,{"$f":"OFFSET(INDEX(Composições!A:J,MATCH(Orçamentária!A231,Composições!A:A,0),8),2,0)","v":16.9208414},0,{"$f":"IF(A231<>\"\",IF(AND(#REF!=\"Padrão\",$I$4=#REF!),BDI!$B$17,IF(AND(#REF!=\"Padrão\",$I$4=#REF!),BDI!$C$17,IF(AND(#REF!=\"Diferenciado\",$I$4=#REF!),BDI!$G$17,IF(AND(#REF!=\"Diferenciado\",$I$4=#REF!),BDI!$H$17,IF(#REF!=\"ZERO\",0))))),\"\")","v":{"$error":"#REF!"}},{"$error":"#REF!"},{"$error":"#REF!"}]
["SF-00227","Caixa 4x2 de embutir para alvenaria","Serviço (Mat + MO)","un",0,{"$f":"OFFSET(INDEX(Composições!A:J,MATCH(Orçamentária!A232,Composições!A:A,0),8),2,0)","v":7.8549551423275492},0,{"$f":"IF(A232<>\"\",IF(AND(#REF!=\"Padrão\",$I$4=#REF!),BDI!$B$17,IF(AND(#REF!=\"Padrão\",$I$4=#REF!),BDI!$C$17,IF(AND(#REF!=\"Diferenciado\",$I$4=#REF!),BDI!$G$17,IF(AND(#REF!=\"Diferenciado\",$I$4=#REF!),BDI!$H$17,IF(#REF!=\"ZERO\",0))))),\"\")","v":{"$error":"#REF!"}},{"$error":"#REF!"},{"$error":"#REF!"}]
["SF-00228","Caixa 4x2 para drywall","Serviço (Mat + MO)","un",0,{"$f":"OFFSET(INDEX(Composições!A:J,MATCH(Orçamentária!A233,Composições!A:A,0),8),2,0)","v":5.7469299999999999},0,{"$f":"IF(A233<>\"\",IF(AND(#REF!=\"Padrão\",$I$4=#REF!),BDI!$B$17,IF(AND(#REF!=\"Padrão\",$I$4=#REF!),BDI!$C$17,IF(AND(#REF!=\"Diferenciado\",$I$4=#REF!),BDI!$G$17,IF(AND(#REF!=\"Diferenciado\",$I$4=#REF!),BDI!$H$17,IF(#REF!=\"ZERO\",0))))),\"\")","v":{"$error":"#REF!"}},{"$error":"#REF!"},{"$error":"#REF!"}]
["SF-00229","Caixa 4x4 de embutir para alvenaria","Serviço (Mat + MO)","un",0,{"$f":"OFFSET(INDEX(Composições!A:J,MATCH(Orçamentária!A234,Composições!A:A,0),8),2,0)","v":10.469777523103401},0,{"$f":"IF(A234<>\"\",IF(AND(#REF!=\"Padrão\",$I$4=#REF!),BDI!$B$17,IF(AND(#REF!=\"Padrão\",$I$4=#REF!),BDI!$C$17,IF(AND(#REF!=\"Diferenciado\",$I$4=#REF!),BDI!$G$17,IF(AND(#REF!=\"Diferenciado\",$I$4=#REF!),BDI!$H$17,IF(#REF!=\"ZERO\",0))))),\"\")","v":{"$error":"#REF!"}},{"$error":"#REF!"},{"$error":"#REF!"}]
["SF-00230","Caixa 4x4 para drywall","Serviço (Mat + MO)","un",0,{"$f":"OFFSET(INDEX(Composições!A:J,MATCH(Orçamentária!A235,Composições!A:A,0),8),2,0)","v":6.579244000000001},0,{"$f":"IF(A235<>\"\",IF(AND(#REF!=\"Padrão\",$I$4=#REF!),BDI!$B$17,IF(AND(#REF!=\"Padrão\",$I$4=#REF!),BDI!$C$17,IF(AND(#REF!=\"Diferenciado\",$I$4=#REF!),BDI!$G$17,IF(AND(#REF!=\"Diferenciado\",$I$4=#REF!),BDI!$H$17,IF(#REF!=\"ZERO\",0))))),\"\")","v":{"$error":"#REF!"}},{"$error":"#REF!"},{"$error":"#REF!"}]
["SF-00231","Caixa de passagem em alumínio 100x100x50mm","Serviço (Mat + MO)","un",0,{"$f":"OFFSET(INDEX(Composições!A:J,MATCH(Orçamentária!A236,Composições!A:A,0),8),2,0)","v":13.713363999999999},0,{"$f":"IF(A236<>\"\",IF(AND(#REF!=\"Padrão\",$I$4=#REF!),BDI!$B$17,IF(AND(#REF!=\"Padrão\",$I$4=#REF!),BDI!$C$17,IF(AND(#REF!=\"Diferenciado\",$I$4=#REF!),BDI!$G$17,IF(AND(#REF!=\"Diferenciado\",$I$4=#REF!),BDI!$H$17,IF(#REF!=\"ZERO\",0))))),\"\")","v":{"$error":"#REF!"}},{"$error":"#REF!"},{"$error":"#REF!"}]
["SF-00232","Caixa de passagem em alumínio 200x200x100mm","Serviço (Mat + MO)","un",0,{"$f":"OFFSET(INDEX(Composições!A:J,MATCH(Orçamentária!A237,Composições!A:A,0),8),2,0)","v":13.713363999999999},0,{"$f":"IF(A237<>\"\",IF(AND(#REF!=\"Padrão\",$I$4=#REF!),BDI!$B$17,IF(AND(#REF!=\"Padrão\",$I$4=#REF!),BDI!$C$17,IF(AND(#REF!=\"Diferenciado\",$I$4=#REF!),BDI!$G$17,IF(AND(#REF!=\"Diferenciado\",$I$4=#REF!),BDI!$H$17,IF(#REF!=\"ZERO\",0))))),\"\")","v":{"$error":"#REF!"}},{"$error":"#REF!"},{"$error":"#REF!"}]
["SF-00233","Caixa de passagem em PVC 150x150x75mm","Serviço (Mat + MO)","un",0,{"$f":"OFFSET(INDEX(Composições!A:J,MATCH(Orçamentária!A238,Composições!A:A,0),8),2,0)","v":45.278006999999995},0,{"$f":"IF(A238<>\"\",IF(AND(#REF!=\"Padrão\",$I$4=#REF!),BDI!$B$17,IF(AND(#REF!=\"Padrão\",$I$4=#REF!),BDI!$C$17,IF(AND(#REF!=\"Diferenciado\",$I$4=#REF!),BDI!$G$17,IF(AND(#REF!=\"Diferenciado\",$I$4=#REF!),BDI!$H$17,IF(#REF!=\"ZERO\",0))))),\"\")","v":{"$error":"#REF!"}},{"$error":"#REF!"},{"$error":"#REF!"}]
["SF-00234","Caixa para piso elevado","Serviço (Mat + MO)","un",0,{"$f":"OFFSET(INDEX(Composições!A:J,MATCH(Orçamentária!A239,Composições!A:A,0),8),2,0)","v":13.713363999999999},0,{"$f":"IF(A239<>\"\",IF(AND(#REF!=\"Padrão\",$I$4=#REF!),BDI!$B$17,IF(AND(#REF!=\"Padrão\",$I$4=#REF!),BDI!$C$17,IF(AND(#REF!=\"Diferenciado\",$I$4=#REF!),BDI!$G$17,IF(AND(#REF!=\"Diferenciado\",$I$4=#REF!),BDI!$H$17,IF(#REF!=\"ZERO\",0))))),\"\")","v":{"$error":"#REF!"}},{"$error":"#REF!"},{"$error":"#REF!"}]
["SF-00235","Canaleta em alumínio aparente 73mmx25mm","Serviço (Mat + MO)","m",0,{"$f":"OFFSET(INDEX(Composições!A:J,MATCH(Orçamentária!A240,Composições!A:A,0),8),2,0)","v":7.1341199999999994},0,{"$f":"IF(A240<>\"\",IF(AND(#REF!=\"Padrão\",$I$4=#REF!),BDI!$B$17,IF(AND(#REF!=\"Padrão\",$I$4=#REF!),BDI!$C$17,IF(AND(#REF!=\"Diferenciado\",$I$4=#REF!),BDI!$G$17,IF(AND(#REF!=\"Diferenciado\",$I$4=#REF!),BDI!$H$17,IF(#REF!=\"ZERO\",0))))),\"\")","v":{"$error":"#REF!"}},{"$error":"#REF!"},{"$error":"#REF!"}]
["SF-00236","Condulete de alumínio de 1’’","Serviço (Mat + MO)","un",0,{"$f":"OFFSET(INDEX(Composições!A:J,MATCH(Orçamentária!A241,Composições!A:A,0),8),2,0)","v":33.094408999999999},0,{"$f":"IF(A241<>\"\",IF(AND(#REF!=\"Padrão\",$I$4=#REF!),BDI!$B$17,IF(AND(#REF!=\"Padrão\",$I$4=#REF!),BDI!$C$17,IF(AND(#REF!=\"Diferenciado\",$I$4=#REF!),BDI!$G$17,IF(AND(#REF!=\"Diferenciado\",$I$4=#REF!),BDI!$H$17,IF(#REF!=\"ZERO\",0))))),\"\")","v":{"$error":"#REF!"}},{"$error":"#REF!"},{"$error":"#REF!"}]
["SF-00237","Eletrocalha 100x50 mm","Serviço (Mat + MO)","m",0,{"$f":"OFFSET(INDEX(Composições!A:J,MATCH(Orçamentária!A242,Composições!A:A,0),8),2,0)","v":18.748052399999999},0,{"$f":"IF(A242<>\"\",IF(AND(#REF!=\"Padrão\",$I$4=#REF!),BDI!$B$17,IF(AND(#REF!=\"Padrão\",$I$4=#REF!),BDI!$C$17,IF(AND(#REF!=\"Diferenciado\",$I$4=#REF!),BDI!$G$17,IF(AND(#REF!=\"Diferenciado\",$I$4=#REF!),BDI!$H$17,IF(#REF!=\"ZERO\",0))))),\"\")","v":{"$error":"#REF!"}},{"$error":"#REF!"},{"$error":"#REF!"}]
["SF-00238","Eletrocalha 200x100 mm","Serviço (Mat + MO)","m",0,{"$f":"OFFSET(INDEX(Composições!A:J,MATCH(Orçamentária!A243,Composições!A:A,0),8),2,0)","v":24.997167600000001},0,{"$f":"IF(A243<>\"\",IF(AND(#REF!=\"Padrão\",$I$4=#REF!),BDI!$B$17,IF(AND(#REF!=\"Padrão\",$I$4=#REF!),BDI!$C$17,IF(AND(#REF!=\"Diferenciado\",$I$4=#REF!),BDI!$G$17,IF(AND(#REF!=\"Diferenciado\",$I$4=#REF!),BDI!$H$17,IF(#REF!=\"ZERO\",0))))),\"\")","v":{"$error":"#REF!"}},{"$error":"#REF!"},{"$error":"#REF!"}]
["SF-00239","Eletrocalha 200x50 mm","Serviço (Mat + MO)","m",0,{"$f":"OFFSET(INDEX(Composições!A:J,MATCH(Orçamentária!A244,Composições!A:A,0),8),2,0)","v":21.033767600000001},0,{"$f":"IF(A244<>\"\",IF(AND(#REF!=\"Padrão\",$I$4=#REF!),BDI!$B$17,IF(AND(#REF!=\"Padrão\",$I$4=#REF!),BDI!$C$17,IF(AND(#REF!=\"Diferenciado\",$I$4=#REF!),BDI!$G$17,IF(AND(#REF!=\"Diferenciado\",$I$4=#REF!),BDI!$H$17,IF(#REF!=\"ZERO\",0))))),\"\")","v":{"$error":"#REF!"}},{"$error":"#REF!"},{"$error":"#REF!"}]
["SF-00240","Eletrocalha 300x100 mm","Serviço (Mat + MO)","m",0,{"$f":"OFFSET(INDEX(Composições!A:J,MATCH(Orçamentária!A245,Composições!A:A,0),8),2,0)","v":26.978867600000005},0,{"$f":"IF(A245<>\"\",IF(AND(#REF!=\"Padrão\",$I$4=#REF!),BDI!$B$17,IF(AND(#REF!=\"Padrão\",$I$4=#REF!),BDI!$C$17,IF(AND(#REF!=\"Diferenciado\",$I$4=#REF!),BDI!$G$17,IF(AND(#REF!=\"Diferenciado\",$I$4=#REF!),BDI!$H$17,IF(#REF!=\"ZERO\",0))))),\"\")","v":{"$error":"#REF!"}},{"$error":"#REF!"},{"$error":"#REF!"}]
["SF-00241","Eletrocalha 300x50 mm","Serviço (Mat + MO)","m",0,{"$f":"OFFSET(INDEX(Composições!A:J,MATCH(Orçamentária!A246,Composições!A:A,0),8),2,0)","v":23.015467600000004},0,{"$f":"IF(A246<>\"\",IF(AND(#REF!=\"Padrão\",$I$4=#REF!),BDI!$B$17,IF(AND(#REF!=\"Padrão\",$I$4=#REF!),BDI!$C$17,IF(AND(#REF!=\"Diferenciado\",$I$4=#REF!),BDI!$G$17,IF(AND(#REF!=\"Diferenciado\",$I$4=#REF!),BDI!$H$17,IF(#REF!=\"ZERO\",0))))),\"\")","v":{"$error":"#REF!"}},{"$error":"#REF!"},{"$error":"#REF!"}]
["SF-00242","Eletrocalha 400x50 mm","Serviço (Mat + MO)","m",0,{"$f":"OFFSET(INDEX(Composições!A:J,MATCH(Orçamentária!A247,Composições!A:A,0),8),2,0)","v":23.015467600000004},0,{"$f":"IF(A247<>\"\",IF(AND(#REF!=\"Padrão\",$I$4=#REF!),BDI!$B$17,IF(AND(#REF!=\"Padrão\",$I$4=#REF!),BDI!$C$17,IF(AND(#REF!=\"Diferenciado\",$I$4=#REF!),BDI!$G$17,IF(AND(#REF!=\"Diferenciado\",$I$4=#REF!),BDI!$H$17,IF(#REF!=\"ZERO\",0))))),\"\")","v":{"$error":"#REF!"}},{"$error":"#REF!"},{"$error":"#REF!"}]
["SF-00243","Eletrocalha 50x50 mm","Serviço (Mat + MO)","m",0,{"$f":"OFFSET(INDEX(Composições!A:J,MATCH(Orçamentária!A248,Composições!A:A,0),8),2,0)","v":18.748052399999999},0,{"$f":"IF(A248<>\"\",IF(AND(#REF!=\"Padrão\",$I$4=#REF!),BDI!$B$17,IF(AND(#REF!=\"Padrão\",$I$4=#REF!),BDI!$C$17,IF(AND(#REF!=\"Diferenciado\",$I$4=#REF!),BDI!$G$17,IF(AND(#REF!=\"Diferenciado\",$I$4=#REF!),BDI!$H$17,IF(#REF!=\"ZERO\",0))))),\"\")","v":{"$error":"#REF!"}},{"$error":"#REF!"},{"$error":"#REF!"}]
["SF-00244","Eletroduto de aço galvanizado de 1 1/2\"","Serviço (Mat + MO)","m",0,{"$f":"OFFSET(INDEX(Composições!A:J,MATCH(Orçamentária!A249,Composições!A:A,0),8),2,0)","v":18.406850084220004},0,{"$f":"IF(A249<>\"\",IF(AND(#REF!=\"Padrão\",$I$4=#REF!),BDI!$B$17,IF(AND(#REF!=\"Padrão\",$I$4=#REF!),BDI!$C$17,IF(AND(#REF!=\"Diferenciado\",$I$4=#REF!),BDI!$G$17,IF(AND(#REF!=\"Diferenciado\",$I$4=#REF!),BDI!$H$17,IF(#REF!=\"ZERO\",0))))),\"\")","v":{"$error":"#REF!"}},{"$error":"#REF!"},{"$error":"#REF!"}]
["SF-00245","Eletroduto de aço galvanizado de 1 1/4\"","Serviço (Mat + MO)","m",0,{"$f":"OFFSET(INDEX(Composições!A:J,MATCH(Orçamentária!A250,Composições!A:A,0),8),2,0)","v":16.163129082840001},0,{"$f":"IF(A250<>\"\",IF(AND(#REF!=\"Padrão\",$I$4=#REF!),BDI!$B$17,IF(AND(#REF!=\"Padrão\",$I$4=#REF!),BDI!$C$17,IF(AND(#REF!=\"Diferenciado\",$I$4=#REF!),BDI!$G$17,IF(AND(#REF!=\"Diferenciado\",$I$4=#REF!),BDI!$H$17,IF(#REF!=\"ZERO\",0))))),\"\")","v":{"$error":"#REF!"}},{"$error":"#REF!"},{"$error":"#REF!"}]
["SF-00246","Eletroduto de aço galvanizado de 1\"","Serviço (Mat + MO)","m",0,{"$f":"OFFSET(INDEX(Composições!A:J,MATCH(Orçamentária!A251,Composições!A:A,0),8),2,0)","v":14.156136780260002},0,{"$f":"IF(A251<>\"\",IF(AND(#REF!=\"Padrão\",$I$4=#REF!),BDI!$B$17,IF(AND(#REF!=\"Padrão\",$I$4=#REF!),BDI!$C$17,IF(AND(#REF!=\"Diferenciado\",$I$4=#REF!),BDI!$G$17,IF(AND(#REF!=\"Diferenciado\",$I$4=#REF!),BDI!$H$17,IF(#REF!=\"ZERO\",0))))),\"\")","v":{"$error":"#REF!"}},{"$error":"#REF!"},{"$error":"#REF!"}]
["SF-00247","Eletroduto de aço galvanizado de 2\"","Serviço (Mat + MO)","m",432,{"$f":"OFFSET(INDEX(Composições!A:J,MATCH(Orçamentária!A252,Composições!A:A,0),8),2,0)","v":48.203027234219995},20823.71,{"$f":"BDI!$B$17","v":0.191},57.41,24801.119999999999]
["SF-00248","Eletroduto de aço galvanizado de 3/4\"","Serviço (Mat + MO)","m",0,{"$f":"OFFSET(INDEX(Composições!A:J,MATCH(Orçamentária!A253,Composições!A:A,0),8),2,0)","v":12.943199878939998},0,{"$f":"IF(A253<>\"\",IF(AND(#REF!=\"Padrão\",$I$4=#REF!),BDI!$B$17,IF(AND(#REF!=\"Padrão\",$I$4=#REF!),BDI!$C$17,IF(AND(#REF!=\"Diferenciado\",$I$4=#REF!),BDI!$G$17,IF(AND(#REF!=\"Diferenciado\",$I$4=#REF!),BDI!$H$17,IF(#REF!=\"ZERO\",0))))),\"\")","v":{"$error":"#REF!"}},{"$error":"#REF!"},{"$error":"#REF!"}]
["SF-00249","Eletroduto de PVC Corrugado Reforçado 1'' (DE 32mm)","Serviço (Mat + MO)","m",0,{"$f":"OFFSET(INDEX(Composições!A:J,MATCH(Orçamentária!A254,Composições!A:A,0),8),2,0)","v":11.178213},0,{"$f":"IF(A254<>\"\",IF(AND(#REF!=\"Padrão\",$I$4=#REF!),BDI!$B$17,IF(AND(#REF!=\"Padrão\",$I$4=#REF!),BDI!$C$17,IF(AND(#REF!=\"Diferenciado\",$I$4=#REF!),BDI!$G$17,IF(AND(#REF!=\"Diferenciado\",$I$4=#REF!),BDI!$H$17,IF(#REF!=\"ZERO\",0))))),\"\")","v":{"$error":"#REF!"}},{"$error":"#REF!"},{"$error":"#REF!"}]
["SF-00250","Eletroduto de PVC Corrugado Reforçado 3/4'' (DE 25mm)","Serviço (Mat + MO)","m",0,{"$f":"OFFSET(INDEX(Composições!A:J,MATCH(Orçamentária!A255,Composições!A:A,0),8),2,0)","v":7.8461830000000008},0,{"$f":"IF(A255<>\"\",IF(AND(#REF!=\"Padrão\",$I$4=#REF!),BDI!$B$17,IF(AND(#REF!=\"Padrão\",$I$4=#REF!),BDI!$C$17,IF(AND(#REF!=\"Diferenciado\",$I$4=#REF!),BDI!$G$17,IF(AND(#REF!=\"Diferenciado\",$I$4=#REF!),BDI!$H$17,IF(#REF!=\"ZERO\",0))))),\"\")","v":{"$error":"#REF!"}},{"$error":"#REF!"},{"$error":"#REF!"}]
["SF-00251","Eletroduto flexível metálico com capa de PVC 1’’","Serviço (Mat + MO)","m",0,{"$f":"OFFSET(INDEX(Composições!A:J,MATCH(Orçamentária!A256,Composições!A:A,0),8),2,0)","v":16.098548000000001},0,{"$f":"IF(A256<>\"\",IF(AND(#REF!=\"Padrão\",$I$4=#REF!),BDI!$B$17,IF(AND(#REF!=\"Padrão\",$I$4=#REF!),BDI!$C$17,IF(AND(#REF!=\"Diferenciado\",$I$4=#REF!),BDI!$G$17,IF(AND(#REF!=\"Diferenciado\",$I$4=#REF!),BDI!$H$17,IF(#REF!=\"ZERO\",0))))),\"\")","v":{"$error":"#REF!"}},{"$error":"#REF!"},{"$error":"#REF!"}]
["SF-00252","Eletroduto flexível metálico com capa de PVC 3/4\"","Serviço (Mat + MO)","m",0,{"$f":"OFFSET(INDEX(Composições!A:J,MATCH(Orçamentária!A257,Composições!A:A,0),8),2,0)","v":12.491987000000002},0,{"$f":"IF(A257<>\"\",IF(AND(#REF!=\"Padrão\",$I$4=#REF!),BDI!$B$17,IF(AND(#REF!=\"Padrão\",$I$4=#REF!),BDI!$C$17,IF(AND(#REF!=\"Diferenciado\",$I$4=#REF!),BDI!$G$17,IF(AND(#REF!=\"Diferenciado\",$I$4=#REF!),BDI!$H$17,IF(#REF!=\"ZERO\",0))))),\"\")","v":{"$error":"#REF!"}},{"$error":"#REF!"},{"$error":"#REF!"}]
["SF-00253","Perfilado 38x38mm","Serviço (Mat + MO)","m",0,{"$f":"OFFSET(INDEX(Composições!A:J,MATCH(Orçamentária!A258,Composições!A:A,0),8),2,0)","v":18.442532400000001},0,{"$f":"IF(A258<>\"\",IF(AND(#REF!=\"Padrão\",$I$4=#REF!),BDI!$B$17,IF(AND(#REF!=\"Padrão\",$I$4=#REF!),BDI!$C$17,IF(AND(#REF!=\"Diferenciado\",$I$4=#REF!),BDI!$G$17,IF(AND(#REF!=\"Diferenciado\",$I$4=#REF!),BDI!$H$17,IF(#REF!=\"ZERO\",0))))),\"\")","v":{"$error":"#REF!"}},{"$error":"#REF!"},{"$error":"#REF!"}]
["SF-00254","Espelho 4x2","Serviço (Mat + MO)","un",0,{"$f":"OFFSET(INDEX(Composições!A:J,MATCH(Orçamentária!A259,Composições!A:A,0),8),2,0)","v":5.9400839999999997},0,{"$f":"IF(A259<>\"\",IF(AND(#REF!=\"Padrão\",$I$4=#REF!),BDI!$B$17,IF(AND(#REF!=\"Padrão\",$I$4=#REF!),BDI!$C$17,IF(AND(#REF!=\"Diferenciado\",$I$4=#REF!),BDI!$G$17,IF(AND(#REF!=\"Diferenciado\",$I$4=#REF!),BDI!$H$17,IF(#REF!=\"ZERO\",0))))),\"\")","v":{"$error":"#REF!"}},{"$error":"#REF!"},{"$error":"#REF!"}]
["SF-00255","Espelho 4x4","Serviço (Mat + MO)","un",0,{"$f":"OFFSET(INDEX(Composições!A:J,MATCH(Orçamentária!A260,Composições!A:A,0),8),2,0)","v":9.8873719999999992},0,{"$f":"IF(A260<>\"\",IF(AND(#REF!=\"Padrão\",$I$4=#REF!),BDI!$B$17,IF(AND(#REF!=\"Padrão\",$I$4=#REF!),BDI!$C$17,IF(AND(#REF!=\"Diferenciado\",$I$4=#REF!),BDI!$G$17,IF(AND(#REF!=\"Diferenciado\",$I$4=#REF!),BDI!$H$17,IF(#REF!=\"ZERO\",0))))),\"\")","v":{"$error":"#REF!"}},{"$error":"#REF!"},{"$error":"#REF!"}]
["SF-00256","Espelho cego redondo","Serviço (Mat + MO)","un",0,{"$f":"OFFSET(INDEX(Composições!A:J,MATCH(Orçamentária!A261,Composições!A:A,0),8),2,0)","v":4.5483720000000005},0,{"$f":"IF(A261<>\"\",IF(AND(#REF!=\"Padrão\",$I$4=#REF!),BDI!$B$17,IF(AND(#REF!=\"Padrão\",$I$4=#REF!),BDI!$C$17,IF(AND(#REF!=\"Diferenciado\",$I$4=#REF!),BDI!$G$17,IF(AND(#REF!=\"Diferenciado\",$I$4=#REF!),BDI!$H$17,IF(#REF!=\"ZERO\",0))))),\"\")","v":{"$error":"#REF!"}},{"$error":"#REF!"},{"$error":"#REF!"}]
["SF-00257","Interruptor para condulete","Serviço (Mat + MO)","un",0,{"$f":"OFFSET(INDEX(Composições!A:J,MATCH(Orçamentária!A262,Composições!A:A,0),8),2,0)","v":5.9451000000000001},0,{"$f":"IF(A262<>\"\",IF(AND(#REF!=\"Padrão\",$I$4=#REF!),BDI!$B$17,IF(AND(#REF!=\"Padrão\",$I$4=#REF!),BDI!$C$17,IF(AND(#REF!=\"Diferenciado\",$I$4=#REF!),BDI!$G$17,IF(AND(#REF!=\"Diferenciado\",$I$4=#REF!),BDI!$H$17,IF(#REF!=\"ZERO\",0))))),\"\")","v":{"$error":"#REF!"}},{"$error":"#REF!"},{"$error":"#REF!"}]
["SF-00258","Módulo cego","Serviço (Mat + MO)","un",0,{"$f":"OFFSET(INDEX(Composições!A:J,MATCH(Orçamentária!A263,Composições!A:A,0),8),2,0)","v":2.2268000000000003},{"$f":"IF(ISNUMBER(F263),ROUND(E263*F263,2),\"\")","v":0},{"$f":"IF(A263<>\"\",IF(AND(#REF!=\"Padrão\",$I$4=#REF!),BDI!$B$17,IF(AND(#REF!=\"Padrão\",$I$4=#REF!),BDI!$C$17,IF(AND(#REF!=\"Diferenciado\",$I$4=#REF!),BDI!$G$17,IF(AND(#REF!=\"Diferenciado\",$I$4=#REF!),BDI!$H$17,IF(#REF!=\"ZERO\",0))))),\"\")","v":{"$error":"#REF!"}},{"$f":"IF(ISNUMBER(F263),ROUND(F263*(1+H263),2),\"\")","v":{"$error":"#REF!"}},{"$f":"IF(ISNUMBER(F263),ROUND(I263*E263,2),\"\")","v":{"$error":"#REF!"}}]
["SF-00259","Módulo interruptor paralelo","Serviço (Mat + MO)","un",0,{"$f":"OFFSET(INDEX(Composições!A:J,MATCH(Orçamentária!A264,Composições!A:A,0),8),2,0)","v":20.282271999999999},0,{"$f":"IF(A264<>\"\",IF(AND(#REF!=\"Padrão\",$I$4=#REF!),BDI!$B$17,IF(AND(#REF!=\"Padrão\",$I$4=#REF!),BDI!$C$17,IF(AND(#REF!=\"Diferenciado\",$I$4=#REF!),BDI!$G$17,IF(AND(#REF!=\"Diferenciado\",$I$4=#REF!),BDI!$H$17,IF(#REF!=\"ZERO\",0))))),\"\")","v":{"$error":"#REF!"}},{"$error":"#REF!"},{"$error":"#REF!"}]
["SF-00260","Módulo interruptor simples","Serviço (Mat + MO)","un",0,{"$f":"OFFSET(INDEX(Composições!A:J,MATCH(Orçamentária!A265,Composições!A:A,0),8),2,0)","v":15.12115},0,{"$f":"IF(A265<>\"\",IF(AND(#REF!=\"Padrão\",$I$4=#REF!),BDI!$B$17,IF(AND(#REF!=\"Padrão\",$I$4=#REF!),BDI!$C$17,IF(AND(#REF!=\"Diferenciado\",$I$4=#REF!),BDI!$G$17,IF(AND(#REF!=\"Diferenciado\",$I$4=#REF!),BDI!$H$17,IF(#REF!=\"ZERO\",0))))),\"\")","v":{"$error":"#REF!"}},{"$error":"#REF!"},{"$error":"#REF!"}]
["SF-00261","Módulo para saída de fio","Serviço (Mat + MO)","un",0,{"$f":"OFFSET(INDEX(Composições!A:J,MATCH(Orçamentária!A266,Composições!A:A,0),8),2,0)","v":2.2268000000000003},0,{"$f":"IF(A266<>\"\",IF(AND(#REF!=\"Padrão\",$I$4=#REF!),BDI!$B$17,IF(AND(#REF!=\"Padrão\",$I$4=#REF!),BDI!$C$17,IF(AND(#REF!=\"Diferenciado\",$I$4=#REF!),BDI!$G$17,IF(AND(#REF!=\"Diferenciado\",$I$4=#REF!),BDI!$H$17,IF(#REF!=\"ZERO\",0))))),\"\")","v":{"$error":"#REF!"}},{"$error":"#REF!"},{"$error":"#REF!"}]
["SF-00262","Módulo sensor de presença","Serviço (Mat + MO)","un",0,{"$f":"OFFSET(INDEX(Composições!A:J,MATCH(Orçamentária!A267,Composições!A:A,0),8),2,0)","v":12.207272},0,{"$f":"IF(A267<>\"\",IF(AND(#REF!=\"Padrão\",$I$4=#REF!),BDI!$B$17,IF(AND(#REF!=\"Padrão\",$I$4=#REF!),BDI!$C$17,IF(AND(#REF!=\"Diferenciado\",$I$4=#REF!),BDI!$G$17,IF(AND(#REF!=\"Diferenciado\",$I$4=#REF!),BDI!$H$17,IF(#REF!=\"ZERO\",0))))),\"\")","v":{"$error":"#REF!"}},{"$error":"#REF!"},{"$error":"#REF!"}]
["SF-00263","Módulo tomada 10 A","Serviço (Mat + MO)","un",0,{"$f":"OFFSET(INDEX(Composições!A:J,MATCH(Orçamentária!A268,Composições!A:A,0),8),2,0)","v":16.372489999999999},0,{"$f":"IF(A268<>\"\",IF(AND(#REF!=\"Padrão\",$I$4=#REF!),BDI!$B$17,IF(AND(#REF!=\"Padrão\",$I$4=#REF!),BDI!$C$17,IF(AND(#REF!=\"Diferenciado\",$I$4=#REF!),BDI!$G$17,IF(AND(#REF!=\"Diferenciado\",$I$4=#REF!),BDI!$H$17,IF(#REF!=\"ZERO\",0))))),\"\")","v":{"$error":"#REF!"}},{"$error":"#REF!"},{"$error":"#REF!"}]
["SF-00264","Módulo tomada 20 A","Serviço (Mat + MO)","un",0,{"$f":"OFFSET(INDEX(Composições!A:J,MATCH(Orçamentária!A269,Composições!A:A,0),8),2,0)","v":18.338990000000003},0,{"$f":"IF(A269<>\"\",IF(AND(#REF!=\"Padrão\",$I$4=#REF!),BDI!$B$17,IF(AND(#REF!=\"Padrão\",$I$4=#REF!),BDI!$C$17,IF(AND(#REF!=\"Diferenciado\",$I$4=#REF!),BDI!$G$17,IF(AND(#REF!=\"Diferenciado\",$I$4=#REF!),BDI!$H$17,IF(#REF!=\"ZERO\",0))))),\"\")","v":{"$error":"#REF!"}},{"$error":"#REF!"},{"$error":"#REF!"}]
["SF-00265","Porta equipamentos para canaleta de alumínio aparente","Serviço (Mat + MO)","un",0,{"$f":"OFFSET(INDEX(Composições!A:J,MATCH(Orçamentária!A270,Composições!A:A,0),8),2,0)","v":6.9359500000000001},0,{"$f":"IF(A270<>\"\",IF(AND(#REF!=\"Padrão\",$I$4=#REF!),BDI!$B$17,IF(AND(#REF!=\"Padrão\",$I$4=#REF!),BDI!$C$17,IF(AND(#REF!=\"Diferenciado\",$I$4=#REF!),BDI!$G$17,IF(AND(#REF!=\"Diferenciado\",$I$4=#REF!),BDI!$H$17,IF(#REF!=\"ZERO\",0))))),\"\")","v":{"$error":"#REF!"}},{"$error":"#REF!"},{"$error":"#REF!"}]
["SF-00266","Tampa cega metálica para caixas de piso 4x2","Serviço (Mat + MO)","un",0,{"$f":"OFFSET(INDEX(Composições!A:J,MATCH(Orçamentária!A271,Composições!A:A,0),8),2,0)","v":1.7366000000000001},0,{"$f":"IF(A271<>\"\",IF(AND(#REF!=\"Padrão\",$I$4=#REF!),BDI!$B$17,IF(AND(#REF!=\"Padrão\",$I$4=#REF!),BDI!$C$17,IF(AND(#REF!=\"Diferenciado\",$I$4=#REF!),BDI!$G$17,IF(AND(#REF!=\"Diferenciado\",$I$4=#REF!),BDI!$H$17,IF(#REF!=\"ZERO\",0))))),\"\")","v":{"$error":"#REF!"}},{"$error":"#REF!"},{"$error":"#REF!"}]
["SF-00267","Tampa cega metálica para caixas de piso 4x4","Serviço (Mat + MO)","un",0,{"$f":"OFFSET(INDEX(Composições!A:J,MATCH(Orçamentária!A272,Composições!A:A,0),8),2,0)","v":1.7366000000000001},0,{"$f":"IF(A272<>\"\",IF(AND(#REF!=\"Padrão\",$I$4=#REF!),BDI!$B$17,IF(AND(#REF!=\"Padrão\",$I$4=#REF!),BDI!$C$17,IF(AND(#REF!=\"Diferenciado\",$I$4=#REF!),BDI!$G$17,IF(AND(#REF!=\"Diferenciado\",$I$4=#REF!),BDI!$H$17,IF(#REF!=\"ZERO\",0))))),\"\")","v":{"$error":"#REF!"}},{"$error":"#REF!"},{"$error":"#REF!"}]
["SF-00268","Tampa cega para condulete","Serviço (Mat + MO)","un",0,{"$f":"OFFSET(INDEX(Composições!A:J,MATCH(Orçamentária!A273,Composições!A:A,0),8),2,0)","v":2.6048999999999998},0,{"$f":"IF(A273<>\"\",IF(AND(#REF!=\"Padrão\",$I$4=#REF!),BDI!$B$17,IF(AND(#REF!=\"Padrão\",$I$4=#REF!),BDI!$C$17,IF(AND(#REF!=\"Diferenciado\",$I$4=#REF!),BDI!$G$17,IF(AND(#REF!=\"Diferenciado\",$I$4=#REF!),BDI!$H$17,IF(#REF!=\"ZERO\",0))))),\"\")","v":{"$error":"#REF!"}},{"$error":"#REF!"},{"$error":"#REF!"}]
["SF-00269","Tampa RJ45 dupla para condulete","Serviço (Mat + MO)","un",0,{"$f":"OFFSET(INDEX(Composições!A:J,MATCH(Orçamentária!A274,Composições!A:A,0),8),2,0)","v":5.9451000000000001},0,{"$f":"IF(A274<>\"\",IF(AND(#REF!=\"Padrão\",$I$4=#REF!),BDI!$B$17,IF(AND(#REF!=\"Padrão\",$I$4=#REF!),BDI!$C$17,IF(AND(#REF!=\"Diferenciado\",$I$4=#REF!),BDI!$G$17,IF(AND(#REF!=\"Diferenciado\",$I$4=#REF!),BDI!$H$17,IF(#REF!=\"ZERO\",0))))),\"\")","v":{"$error":"#REF!"}},{"$error":"#REF!"},{"$error":"#REF!"}]
["SF-00270","Tomada para condulete","Serviço (Mat + MO)","un",0,{"$f":"OFFSET(INDEX(Composições!A:J,MATCH(Orçamentária!A275,Composições!A:A,0),8),2,0)","v":12.207272},0,{"$f":"IF(A275<>\"\",IF(AND(#REF!=\"Padrão\",$I$4=#REF!),BDI!$B$17,IF(AND(#REF!=\"Padrão\",$I$4=#REF!),BDI!$C$17,IF(AND(#REF!=\"Diferenciado\",$I$4=#REF!),BDI!$G$17,IF(AND(#REF!=\"Diferenciado\",$I$4=#REF!),BDI!$H$17,IF(#REF!=\"ZERO\",0))))),\"\")","v":{"$error":"#REF!"}},{"$error":"#REF!"},{"$error":"#REF!"}]
["SF-00271","Tomada para perfilado e eletrocalha","Serviço (Mat + MO)","un",0,{"$f":"OFFSET(INDEX(Composições!A:J,MATCH(Orçamentária!A276,Composições!A:A,0),8),2,0)","v":25.762100000000004},0,{"$f":"IF(A276<>\"\",IF(AND(#REF!=\"Padrão\",$I$4=#REF!),BDI!$B$17,IF(AND(#REF!=\"Padrão\",$I$4=#REF!),BDI!$C$17,IF(AND(#REF!=\"Diferenciado\",$I$4=#REF!),BDI!$G$17,IF(AND(#REF!=\"Diferenciado\",$I$4=#REF!),BDI!$H$17,IF(#REF!=\"ZERO\",0))))),\"\")","v":{"$error":"#REF!"}},{"$error":"#REF!"},{"$error":"#REF!"}]
["SF-00272","Bloco autônomo de emergência","Serviço (Mat + MO)","un",0,{"$f":"OFFSET(INDEX(Composições!A:J,MATCH(Orçamentária!A277,Composições!A:A,0),8),2,0)","v":5.2960828000000006},0,{"$f":"IF(A277<>\"\",IF(AND(#REF!=\"Padrão\",$I$4=#REF!),BDI!$B$17,IF(AND(#REF!=\"Padrão\",$I$4=#REF!),BDI!$C$17,IF(AND(#REF!=\"Diferenciado\",$I$4=#REF!),BDI!$G$17,IF(AND(#REF!=\"Diferenciado\",$I$4=#REF!),BDI!$H$17,IF(#REF!=\"ZERO\",0))))),\"\")","v":{"$error":"#REF!"}},{"$error":"#REF!"},{"$error":"#REF!"}]
["SF-00273","Instalação de luminária reaproveitada","Serviço (Mat + MO)","un",0,{"$f":"OFFSET(INDEX(Composições!A:J,MATCH(Orçamentária!A278,Composições!A:A,0),8),2,0)","v":10.477534800000001},0,{"$f":"IF(A278<>\"\",IF(AND(#REF!=\"Padrão\",$I$4=#REF!),BDI!$B$17,IF(AND(#REF!=\"Padrão\",$I$4=#REF!),BDI!$C$17,IF(AND(#REF!=\"Diferenciado\",$I$4=#REF!),BDI!$G$17,IF(AND(#REF!=\"Diferenciado\",$I$4=#REF!),BDI!$H$17,IF(#REF!=\"ZERO\",0))))),\"\")","v":{"$error":"#REF!"}},{"$error":"#REF!"},{"$error":"#REF!"}]
["SF-00274","Luminária 2x14 W de embutir","Serviço (Mat + MO)","un",0,{"$f":"OFFSET(INDEX(Composições!A:J,MATCH(Orçamentária!A279,Composições!A:A,0),8),2,0)","v":10.477534800000001},0,{"$f":"IF(A279<>\"\",IF(AND(#REF!=\"Padrão\",$I$4=#REF!),BDI!$B$17,IF(AND(#REF!=\"Padrão\",$I$4=#REF!),BDI!$C$17,IF(AND(#REF!=\"Diferenciado\",$I$4=#REF!),BDI!$G$17,IF(AND(#REF!=\"Diferenciado\",$I$4=#REF!),BDI!$H$17,IF(#REF!=\"ZERO\",0))))),\"\")","v":{"$error":"#REF!"}},{"$error":"#REF!"},{"$error":"#REF!"}]
["SF-00275","Luminária 2x14 W de sobrepor","Serviço (Mat + MO)","un",0,{"$f":"OFFSET(INDEX(Composições!A:J,MATCH(Orçamentária!A280,Composições!A:A,0),8),2,0)","v":12.226967399999999},0,{"$f":"IF(A280<>\"\",IF(AND(#REF!=\"Padrão\",$I$4=#REF!),BDI!$B$17,IF(AND(#REF!=\"Padrão\",$I$4=#REF!),BDI!$C$17,IF(AND(#REF!=\"Diferenciado\",$I$4=#REF!),BDI!$G$17,IF(AND(#REF!=\"Diferenciado\",$I$4=#REF!),BDI!$H$17,IF(#REF!=\"ZERO\",0))))),\"\")","v":{"$error":"#REF!"}},{"$error":"#REF!"},{"$error":"#REF!"}]
["SF-00276","Luminária 2x28 W de embutir","Serviço (Mat + MO)","un",0,{"$f":"OFFSET(INDEX(Composições!A:J,MATCH(Orçamentária!A281,Composições!A:A,0),8),2,0)","v":10.477534800000001},0,{"$f":"IF(A281<>\"\",IF(AND(#REF!=\"Padrão\",$I$4=#REF!),BDI!$B$17,IF(AND(#REF!=\"Padrão\",$I$4=#REF!),BDI!$C$17,IF(AND(#REF!=\"Diferenciado\",$I$4=#REF!),BDI!$G$17,IF(AND(#REF!=\"Diferenciado\",$I$4=#REF!),BDI!$H$17,IF(#REF!=\"ZERO\",0))))),\"\")","v":{"$error":"#REF!"}},{"$error":"#REF!"},{"$error":"#REF!"}]
["SF-00277","Luminária 2x28 W de sobrepor","Serviço (Mat + MO)","un",0,{"$f":"OFFSET(INDEX(Composições!A:J,MATCH(Orçamentária!A282,Composições!A:A,0),8),2,0)","v":12.226967399999999},0,{"$f":"IF(A282<>\"\",IF(AND(#REF!=\"Padrão\",$I$4=#REF!),BDI!$B$17,IF(AND(#REF!=\"Padrão\",$I$4=#REF!),BDI!$C$17,IF(AND(#REF!=\"Diferenciado\",$I$4=#REF!),BDI!$G$17,IF(AND(#REF!=\"Diferenciado\",$I$4=#REF!),BDI!$H$17,IF(#REF!=\"ZERO\",0))))),\"\")","v":{"$error":"#REF!"}},{"$error":"#REF!"},{"$error":"#REF!"}]
["SF-00278","Condutor 10mm²","Serviço (Mat + MO)","m",0,{"$f":"OFFSET(INDEX(Composições!A:J,MATCH(Orçamentária!A283,Composições!A:A,0),8),2,0)","v":0.39280599999999999},0,{"$f":"IF(A283<>\"\",IF(AND(#REF!=\"Padrão\",$I$4=#REF!),BDI!$B$17,IF(AND(#REF!=\"Padrão\",$I$4=#REF!),BDI!$C$17,IF(AND(#REF!=\"Diferenciado\",$I$4=#REF!),BDI!$G$17,IF(AND(#REF!=\"Diferenciado\",$I$4=#REF!),BDI!$H$17,IF(#REF!=\"ZERO\",0))))),\"\")","v":{"$error":"#REF!"}},{"$error":"#REF!"},{"$error":"#REF!"}]
["SF-00279","Condutor 16mm²","Serviço (Mat + MO)","m",0,{"$f":"OFFSET(INDEX(Composições!A:J,MATCH(Orçamentária!A284,Composições!A:A,0),8),2,0)","v":0.551342},0,{"$f":"IF(A284<>\"\",IF(AND(#REF!=\"Padrão\",$I$4=#REF!),BDI!$B$17,IF(AND(#REF!=\"Padrão\",$I$4=#REF!),BDI!$C$17,IF(AND(#REF!=\"Diferenciado\",$I$4=#REF!),BDI!$G$17,IF(AND(#REF!=\"Diferenciado\",$I$4=#REF!),BDI!$H$17,IF(#REF!=\"ZERO\",0))))),\"\")","v":{"$error":"#REF!"}},{"$error":"#REF!"},{"$error":"#REF!"}]
["SF-00280","Condutor 2,5 mm²","Serviço (Mat + MO)","m",0,{"$f":"OFFSET(INDEX(Composições!A:J,MATCH(Orçamentária!A285,Composições!A:A,0),8),2,0)","v":1.2215099999999999},0,{"$f":"IF(A285<>\"\",IF(AND(#REF!=\"Padrão\",$I$4=#REF!),BDI!$B$17,IF(AND(#REF!=\"Padrão\",$I$4=#REF!),BDI!$C$17,IF(AND(#REF!=\"Diferenciado\",$I$4=#REF!),BDI!$G$17,IF(AND(#REF!=\"Diferenciado\",$I$4=#REF!),BDI!$H$17,IF(#REF!=\"ZERO\",0))))),\"\")","v":{"$error":"#REF!"}},{"$error":"#REF!"},{"$error":"#REF!"}]
["SF-00281","Condutor 3x2,5 mm²","Serviço (Mat + MO)","m",0,{"$f":"OFFSET(INDEX(Composições!A:J,MATCH(Orçamentária!A286,Composições!A:A,0),8),2,0)","v":2.093458},0,{"$f":"IF(A286<>\"\",IF(AND(#REF!=\"Padrão\",$I$4=#REF!),BDI!$B$17,IF(AND(#REF!=\"Padrão\",$I$4=#REF!),BDI!$C$17,IF(AND(#REF!=\"Diferenciado\",$I$4=#REF!),BDI!$G$17,IF(AND(#REF!=\"Diferenciado\",$I$4=#REF!),BDI!$H$17,IF(#REF!=\"ZERO\",0))))),\"\")","v":{"$error":"#REF!"}},{"$error":"#REF!"},{"$error":"#REF!"}]
["SF-00282","Condutor 4 mm²","Serviço (Mat + MO)","m",0,{"$f":"OFFSET(INDEX(Composições!A:J,MATCH(Orçamentária!A287,Composições!A:A,0),8),2,0)","v":1.61785},0,{"$f":"IF(A287<>\"\",IF(AND(#REF!=\"Padrão\",$I$4=#REF!),BDI!$B$17,IF(AND(#REF!=\"Padrão\",$I$4=#REF!),BDI!$C$17,IF(AND(#REF!=\"Diferenciado\",$I$4=#REF!),BDI!$G$17,IF(AND(#REF!=\"Diferenciado\",$I$4=#REF!),BDI!$H$17,IF(#REF!=\"ZERO\",0))))),\"\")","v":{"$error":"#REF!"}},{"$error":"#REF!"},{"$error":"#REF!"}]
["SF-00283","Condutor 4x2,5 mm²","Serviço (Mat + MO)","m",0,{"$f":"OFFSET(INDEX(Composições!A:J,MATCH(Orçamentária!A288,Composições!A:A,0),8),2,0)","v":0.39280599999999999},0,{"$f":"IF(A288<>\"\",IF(AND(#REF!=\"Padrão\",$I$4=#REF!),BDI!$B$17,IF(AND(#REF!=\"Padrão\",$I$4=#REF!),BDI!$C$17,IF(AND(#REF!=\"Diferenciado\",$I$4=#REF!),BDI!$G$17,IF(AND(#REF!=\"Diferenciado\",$I$4=#REF!),BDI!$H$17,IF(#REF!=\"ZERO\",0))))),\"\")","v":{"$error":"#REF!"}},{"$error":"#REF!"},{"$error":"#REF!"}]
["SF-00284","Condutor 6 mm²","Serviço (Mat + MO)","m",0,{"$f":"OFFSET(INDEX(Composições!A:J,MATCH(Orçamentária!A289,Composições!A:A,0),8),2,0)","v":2.093458},0,{"$f":"IF(A289<>\"\",IF(AND(#REF!=\"Padrão\",$I$4=#REF!),BDI!$B$17,IF(AND(#REF!=\"Padrão\",$I$4=#REF!),BDI!$C$17,IF(AND(#REF!=\"Diferenciado\",$I$4=#REF!),BDI!$G$17,IF(AND(#REF!=\"Diferenciado\",$I$4=#REF!),BDI!$H$17,IF(#REF!=\"ZERO\",0))))),\"\")","v":{"$error":"#REF!"}},{"$error":"#REF!"},{"$error":"#REF!"}]
["SF-00285","Quadro elétrico TTA","Serviço (Mat + MO)","un",0,{"$f":"OFFSET(INDEX(Composições!A:J,MATCH(Orçamentária!A290,Composições!A:A,0),8),2,0)","v":138.71899999999999},0,{"$f":"IF(A290<>\"\",IF(AND(#REF!=\"Padrão\",$I$4=#REF!),BDI!$B$17,IF(AND(#REF!=\"Padrão\",$I$4=#REF!),BDI!$C$17,IF(AND(#REF!=\"Diferenciado\",$I$4=#REF!),BDI!$G$17,IF(AND(#REF!=\"Diferenciado\",$I$4=#REF!),BDI!$H$17,IF(#REF!=\"ZERO\",0))))),\"\")","v":{"$error":"#REF!"}},{"$error":"#REF!"},{"$error":"#REF!"}]
["SF-00286","Ar-condicionado do tipo split piso-teto inverter 54.000BTU/h","Serviço (Mat + MO)","un",0,"","",{"$f":"IF(A291<>\"\",IF(AND(#REF!=\"Padrão\",$I$4=#REF!),BDI!$B$17,IF(AND(#REF!=\"Padrão\",$I$4=#REF!),BDI!$C$17,IF(AND(#REF!=\"Diferenciado\",$I$4=#REF!),BDI!$G$17,IF(AND(#REF!=\"Diferenciado\",$I$4=#REF!),BDI!$H$17,IF(#REF!=\"ZERO\",0))))),\"\")","v":{"$error":"#REF!"}},"",""]
["SF-00287","Ar-condicionado fancolete hidrônico dutado 2,5 TR","Serviço (Mat + MO)","un",0,"","",{"$f":"IF(A292<>\"\",IF(AND(#REF!=\"Padrão\",$I$4=#REF!),BDI!$B$17,IF(AND(#REF!=\"Padrão\",$I$4=#REF!),BDI!$C$17,IF(AND(#REF!=\"Diferenciado\",$I$4=#REF!),BDI!$G$17,IF(AND(#REF!=\"Diferenciado\",$I$4=#REF!),BDI!$H$17,IF(#REF!=\"ZERO\",0))))),\"\")","v":{"$error":"#REF!"}},"",""]
["SF-00288","Ar-condicionado fancolete hidrônico dutado 4,5 TR","Serviço (Mat + MO)","un",0,"","",{"$f":"IF(A293<>\"\",IF(AND(#REF!=\"Padrão\",$I$4=#REF!),BDI!$B$17,IF(AND(#REF!=\"Padrão\",$I$4=#REF!),BDI!$C$17,IF(AND(#REF!=\"Diferenciado\",$I$4=#REF!),BDI!$G$17,IF(AND(#REF!=\"Diferenciado\",$I$4=#REF!),BDI!$H$17,IF(#REF!=\"ZERO\",0))))),\"\")","v":{"$error":"#REF!"}},"",""]
["SF-00289","Ar-condicionado fancolete hidrônico hi-wall 1,4 TR","Serviço (Mat + MO)","un",0,"","",{"$f":"IF(A294<>\"\",IF(AND(#REF!=\"Padrão\",$I$4=#REF!),BDI!$B$17,IF(AND(#REF!=\"Padrão\",$I$4=#REF!),BDI!$C$17,IF(AND(#REF!=\"Diferenciado\",$I$4=#REF!),BDI!$G$17,IF(AND(#REF!=\"Diferenciado\",$I$4=#REF!),BDI!$H$17,IF(#REF!=\"ZERO\",0))))),\"\")","v":{"$error":"#REF!"}},"",""]
["SF-00290","Ar-condicionado split dutado inverter 30.000 BTU/h","Serviço (Mat + MO)","un",0,"","",{"$f":"IF(A295<>\"\",IF(AND(#REF!=\"Padrão\",$I$4=#REF!),BDI!$B$17,IF(AND(#REF!=\"Padrão\",$I$4=#REF!),BDI!$C$17,IF(AND(#REF!=\"Diferenciado\",$I$4=#REF!),BDI!$G$17,IF(AND(#REF!=\"Diferenciado\",$I$4=#REF!),BDI!$H$17,IF(#REF!=\"ZERO\",0))))),\"\")","v":{"$error":"#REF!"}},"",""]
["SF-00291","Ar-condicionado split hi-wall inverter 12.000 BTU/h","Serviço (Mat + MO)","un",0,"","",{"$f":"IF(A296<>\"\",IF(AND(#REF!=\"Padrão\",$I$4=#REF!),BDI!$B$17,IF(AND(#REF!=\"Padrão\",$I$4=#REF!),BDI!$C$17,IF(AND(#REF!=\"Diferenciado\",$I$4=#REF!),BDI!$G$17,IF(AND(#REF!=\"Diferenciado\",$I$4=#REF!),BDI!$H$17,IF(#REF!=\"ZERO\",0))))),\"\")","v":{"$error":"#REF!"}},"",""]
["SF-00292","Ar-condicionado split hi-wall inverter 22.000 BTU/h","Serviço (Mat + MO)","un",0,"","",{"$f":"IF(A297<>\"\",IF(AND(#REF!=\"Padrão\",$I$4=#REF!),BDI!$B$17,IF(AND(#REF!=\"Padrão\",$I$4=#REF!),BDI!$C$17,IF(AND(#REF!=\"Diferenciado\",$I$4=#REF!),BDI!$G$17,IF(AND(#REF!=\"Diferenciado\",$I$4=#REF!),BDI!$H$17,IF(#REF!=\"ZERO\",0))))),\"\")","v":{"$error":"#REF!"}},"",""]
["SF-00293","Instalação de fancolete reaproveitado","Serviço (Mat + MO)","un",0,{"$f":"OFFSET(INDEX(Composições!A:J,MATCH(Orçamentária!A298,Composições!A:A,0),8),2,0)","v":81.073000000000008},0,{"$f":"IF(A298<>\"\",IF(AND(#REF!=\"Padrão\",$I$4=#REF!),BDI!$B$17,IF(AND(#REF!=\"Padrão\",$I$4=#REF!),BDI!$C$17,IF(AND(#REF!=\"Diferenciado\",$I$4=#REF!),BDI!$G$17,IF(AND(#REF!=\"Diferenciado\",$I$4=#REF!),BDI!$H$17,IF(#REF!=\"ZERO\",0))))),\"\")","v":{"$error":"#REF!"}},{"$error":"#REF!"},{"$error":"#REF!"}]
["SF-00294","Instalação de split reaproveitado","Serviço (Mat + MO)","un",0,{"$f":"OFFSET(INDEX(Composições!A:J,MATCH(Orçamentária!A299,Composições!A:A,0),8),2,0)","v":121.6095},0,{"$f":"IF(A299<>\"\",IF(AND(#REF!=\"Padrão\",$I$4=#REF!),BDI!$B$17,IF(AND(#REF!=\"Padrão\",$I$4=#REF!),BDI!$C$17,IF(AND(#REF!=\"Diferenciado\",$I$4=#REF!),BDI!$G$17,IF(AND(#REF!=\"Diferenciado\",$I$4=#REF!),BDI!$H$17,IF(#REF!=\"ZERO\",0))))),\"\")","v":{"$error":"#REF!"}},{"$error":"#REF!"},{"$error":"#REF!"}]
["SF-00295","Exaustor axial 340 m3/h","Serviço (Mat + MO)","un",0,{"$f":"OFFSET(INDEX(Composições!A:J,MATCH(Orçamentária!A300,Composições!A:A,0),8),2,0)","v":39.634},0,{"$f":"IF(A300<>\"\",IF(AND(#REF!=\"Padrão\",$I$4=#REF!),BDI!$B$17,IF(AND(#REF!=\"Padrão\",$I$4=#REF!),BDI!$C$17,IF(AND(#REF!=\"Diferenciado\",$I$4=#REF!),BDI!$G$17,IF(AND(#REF!=\"Diferenciado\",$I$4=#REF!),BDI!$H$17,IF(#REF!=\"ZERO\",0))))),\"\")","v":{"$error":"#REF!"}},{"$error":"#REF!"},{"$error":"#REF!"}]
["SF-00296","Exaustor axial 865 m3/h","Serviço (Mat + MO)","un",0,{"$f":"OFFSET(INDEX(Composições!A:J,MATCH(Orçamentária!A301,Composições!A:A,0),8),2,0)","v":39.634},0,{"$f":"IF(A301<>\"\",IF(AND(#REF!=\"Padrão\",$I$4=#REF!),BDI!$B$17,IF(AND(#REF!=\"Padrão\",$I$4=#REF!),BDI!$C$17,IF(AND(#REF!=\"Diferenciado\",$I$4=#REF!),BDI!$G$17,IF(AND(#REF!=\"Diferenciado\",$I$4=#REF!),BDI!$H$17,IF(#REF!=\"ZERO\",0))))),\"\")","v":{"$error":"#REF!"}},{"$error":"#REF!"},{"$error":"#REF!"}]
["SF-00297","Duto chapa galvanizada # 22","Serviço (Mat + MO)","m2",0,{"$f":"OFFSET(INDEX(Composições!A:J,MATCH(Orçamentária!A302,Composições!A:A,0),8),2,0)","v":202.23782399999999},0,{"$f":"IF(A302<>\"\",IF(AND(#REF!=\"Padrão\",$I$4=#REF!),BDI!$B$17,IF(AND(#REF!=\"Padrão\",$I$4=#REF!),BDI!$C$17,IF(AND(#REF!=\"Diferenciado\",$I$4=#REF!),BDI!$G$17,IF(AND(#REF!=\"Diferenciado\",$I$4=#REF!),BDI!$H$17,IF(#REF!=\"ZERO\",0))))),\"\")","v":{"$error":"#REF!"}},{"$error":"#REF!"},{"$error":"#REF!"}]
["SF-00298","Duto flexível 6”","Serviço (Mat + MO)","m",0,{"$f":"OFFSET(INDEX(Composições!A:J,MATCH(Orçamentária!A303,Composições!A:A,0),8),2,0)","v":15.751000000000001},0,{"$f":"IF(A303<>\"\",IF(AND(#REF!=\"Padrão\",$I$4=#REF!),BDI!$B$17,IF(AND(#REF!=\"Padrão\",$I$4=#REF!),BDI!$C$17,IF(AND(#REF!=\"Diferenciado\",$I$4=#REF!),BDI!$G$17,IF(AND(#REF!=\"Diferenciado\",$I$4=#REF!),BDI!$H$17,IF(#REF!=\"ZERO\",0))))),\"\")","v":{"$error":"#REF!"}},{"$error":"#REF!"},{"$error":"#REF!"}]
["SF-00299","Duto flexível 8”","Serviço (Mat + MO)","m",0,{"$f":"OFFSET(INDEX(Composições!A:J,MATCH(Orçamentária!A304,Composições!A:A,0),8),2,0)","v":15.751000000000001},0,{"$f":"IF(A304<>\"\",IF(AND(#REF!=\"Padrão\",$I$4=#REF!),BDI!$B$17,IF(AND(#REF!=\"Padrão\",$I$4=#REF!),BDI!$C$17,IF(AND(#REF!=\"Diferenciado\",$I$4=#REF!),BDI!$G$17,IF(AND(#REF!=\"Diferenciado\",$I$4=#REF!),BDI!$H$17,IF(#REF!=\"ZERO\",0))))),\"\")","v":{"$error":"#REF!"}},{"$error":"#REF!"},{"$error":"#REF!"}]
["SF-00300","Difusor de ar quadrado 360x360 mm","Serviço (Mat + MO)","un",0,{"$f":"OFFSET(INDEX(Composições!A:J,MATCH(Orçamentária!A305,Composições!A:A,0),8),2,0)","v":101.34125},0,{"$f":"IF(A305<>\"\",IF(AND(#REF!=\"Padrão\",$I$4=#REF!),BDI!$B$17,IF(AND(#REF!=\"Padrão\",$I$4=#REF!),BDI!$C$17,IF(AND(#REF!=\"Diferenciado\",$I$4=#REF!),BDI!$G$17,IF(AND(#REF!=\"Diferenciado\",$I$4=#REF!),BDI!$H$17,IF(#REF!=\"ZERO\",0))))),\"\")","v":{"$error":"#REF!"}},{"$error":"#REF!"},{"$error":"#REF!"}]
["SF-00301","Difusor de ar quadrado com caixa plenum AK6 360x360 mm","Serviço (Mat + MO)","un",0,{"$f":"OFFSET(INDEX(Composições!A:J,MATCH(Orçamentária!A306,Composições!A:A,0),8),2,0)","v":101.34125},0,{"$f":"IF(A306<>\"\",IF(AND(#REF!=\"Padrão\",$I$4=#REF!),BDI!$B$17,IF(AND(#REF!=\"Padrão\",$I$4=#REF!),BDI!$C$17,IF(AND(#REF!=\"Diferenciado\",$I$4=#REF!),BDI!$G$17,IF(AND(#REF!=\"Diferenciado\",$I$4=#REF!),BDI!$H$17,IF(#REF!=\"ZERO\",0))))),\"\")","v":{"$error":"#REF!"}},{"$error":"#REF!"},{"$error":"#REF!"}]
["SF-00302","Difusor de ar quadrado para insuflamento em duas direções perpendiculares 376x376 mm","Serviço (Mat + MO)","un",0,{"$f":"OFFSET(INDEX(Composições!A:J,MATCH(Orçamentária!A307,Composições!A:A,0),8),2,0)","v":101.34125},0,{"$f":"IF(A307<>\"\",IF(AND(#REF!=\"Padrão\",$I$4=#REF!),BDI!$B$17,IF(AND(#REF!=\"Padrão\",$I$4=#REF!),BDI!$C$17,IF(AND(#REF!=\"Diferenciado\",$I$4=#REF!),BDI!$G$17,IF(AND(#REF!=\"Diferenciado\",$I$4=#REF!),BDI!$H$17,IF(#REF!=\"ZERO\",0))))),\"\")","v":{"$error":"#REF!"}},{"$error":"#REF!"},{"$error":"#REF!"}]
["SF-00303","Difusor de ar retangular para insuflamento em duas direções 371x208 mm","Serviço (Mat + MO)","un",0,{"$f":"OFFSET(INDEX(Composições!A:J,MATCH(Orçamentária!A308,Composições!A:A,0),8),2,0)","v":101.34125},0,{"$f":"IF(A308<>\"\",IF(AND(#REF!=\"Padrão\",$I$4=#REF!),BDI!$B$17,IF(AND(#REF!=\"Padrão\",$I$4=#REF!),BDI!$C$17,IF(AND(#REF!=\"Diferenciado\",$I$4=#REF!),BDI!$G$17,IF(AND(#REF!=\"Diferenciado\",$I$4=#REF!),BDI!$H$17,IF(#REF!=\"ZERO\",0))))),\"\")","v":{"$error":"#REF!"}},{"$error":"#REF!"},{"$error":"#REF!"}]
["SF-00304","Difusor de ar retangular para insuflamento em três direções 264x432 mm","Serviço (Mat + MO)","un",0,{"$f":"OFFSET(INDEX(Composições!A:J,MATCH(Orçamentária!A309,Composições!A:A,0),8),2,0)","v":101.34125},0,{"$f":"IF(A309<>\"\",IF(AND(#REF!=\"Padrão\",$I$4=#REF!),BDI!$B$17,IF(AND(#REF!=\"Padrão\",$I$4=#REF!),BDI!$C$17,IF(AND(#REF!=\"Diferenciado\",$I$4=#REF!),BDI!$G$17,IF(AND(#REF!=\"Diferenciado\",$I$4=#REF!),BDI!$H$17,IF(#REF!=\"ZERO\",0))))),\"\")","v":{"$error":"#REF!"}},{"$error":"#REF!"},{"$error":"#REF!"}]
["SF-00305","Difusor de ar retangular para insuflamento em três direções 320x562 mm","Serviço (Mat + MO)","un",0,{"$f":"OFFSET(INDEX(Composições!A:J,MATCH(Orçamentária!A310,Composições!A:A,0),8),2,0)","v":101.34125},0,{"$f":"IF(A310<>\"\",IF(AND(#REF!=\"Padrão\",$I$4=#REF!),BDI!$B$17,IF(AND(#REF!=\"Padrão\",$I$4=#REF!),BDI!$C$17,IF(AND(#REF!=\"Diferenciado\",$I$4=#REF!),BDI!$G$17,IF(AND(#REF!=\"Diferenciado\",$I$4=#REF!),BDI!$H$17,IF(#REF!=\"ZERO\",0))))),\"\")","v":{"$error":"#REF!"}},{"$error":"#REF!"},{"$error":"#REF!"}]
["SF-00306","Difusor de ar retangular para insuflamento em três direções 371x208 mm","Serviço (Mat + MO)","un",0,{"$f":"OFFSET(INDEX(Composições!A:J,MATCH(Orçamentária!A311,Composições!A:A,0),8),2,0)","v":101.34125},0,{"$f":"IF(A311<>\"\",IF(AND(#REF!=\"Padrão\",$I$4=#REF!),BDI!$B$17,IF(AND(#REF!=\"Padrão\",$I$4=#REF!),BDI!$C$17,IF(AND(#REF!=\"Diferenciado\",$I$4=#REF!),BDI!$G$17,IF(AND(#REF!=\"Diferenciado\",$I$4=#REF!),BDI!$H$17,IF(#REF!=\"ZERO\",0))))),\"\")","v":{"$error":"#REF!"}},{"$error":"#REF!"},{"$error":"#REF!"}]
["SF-00307","Difusor de ar retangular para insuflamento em uma direção 371x208 mm","Serviço (Mat + MO)","un",0,{"$f":"OFFSET(INDEX(Composições!A:J,MATCH(Orçamentária!A312,Composições!A:A,0),8),2,0)","v":101.34125},0,{"$f":"IF(A312<>\"\",IF(AND(#REF!=\"Padrão\",$I$4=#REF!),BDI!$B$17,IF(AND(#REF!=\"Padrão\",$I$4=#REF!),BDI!$C$17,IF(AND(#REF!=\"Diferenciado\",$I$4=#REF!),BDI!$G$17,IF(AND(#REF!=\"Diferenciado\",$I$4=#REF!),BDI!$H$17,IF(#REF!=\"ZERO\",0))))),\"\")","v":{"$error":"#REF!"}},{"$error":"#REF!"},{"$error":"#REF!"}]
["SF-00308","Grelha para retorno retangular 425x225 mm","Serviço (Mat + MO)","un",0,{"$f":"OFFSET(INDEX(Composições!A:J,MATCH(Orçamentária!A313,Composições!A:A,0),8),2,0)","v":141.87774999999999},0,{"$f":"IF(A313<>\"\",IF(AND(#REF!=\"Padrão\",$I$4=#REF!),BDI!$B$17,IF(AND(#REF!=\"Padrão\",$I$4=#REF!),BDI!$C$17,IF(AND(#REF!=\"Diferenciado\",$I$4=#REF!),BDI!$G$17,IF(AND(#REF!=\"Diferenciado\",$I$4=#REF!),BDI!$H$17,IF(#REF!=\"ZERO\",0))))),\"\")","v":{"$error":"#REF!"}},{"$error":"#REF!"},{"$error":"#REF!"}]
["SF-00309","Grelha para retorno retangular 525x325 mm","Serviço (Mat + MO)","un",0,{"$f":"OFFSET(INDEX(Composições!A:J,MATCH(Orçamentária!A314,Composições!A:A,0),8),2,0)","v":141.87774999999999},0,{"$f":"IF(A314<>\"\",IF(AND(#REF!=\"Padrão\",$I$4=#REF!),BDI!$B$17,IF(AND(#REF!=\"Padrão\",$I$4=#REF!),BDI!$C$17,IF(AND(#REF!=\"Diferenciado\",$I$4=#REF!),BDI!$G$17,IF(AND(#REF!=\"Diferenciado\",$I$4=#REF!),BDI!$H$17,IF(#REF!=\"ZERO\",0))))),\"\")","v":{"$error":"#REF!"}},{"$error":"#REF!"},{"$error":"#REF!"}]
["SF-00310","Instalação de difusores, grelhas e acessórios de climatização reaproveitados","Serviço (Mat + MO)","un",0,{"$f":"OFFSET(INDEX(Composições!A:J,MATCH(Orçamentária!A315,Composições!A:A,0),8),2,0)","v":101.34125},0,{"$f":"IF(A315<>\"\",IF(AND(#REF!=\"Padrão\",$I$4=#REF!),BDI!$B$17,IF(AND(#REF!=\"Padrão\",$I$4=#REF!),BDI!$C$17,IF(AND(#REF!=\"Diferenciado\",$I$4=#REF!),BDI!$G$17,IF(AND(#REF!=\"Diferenciado\",$I$4=#REF!),BDI!$H$17,IF(#REF!=\"ZERO\",0))))),\"\")","v":{"$error":"#REF!"}},{"$error":"#REF!"},{"$error":"#REF!"}]
["SF-00311","Instalação de exaustor reaproveitado","Serviço (Mat + MO)","un",0,{"$f":"OFFSET(INDEX(Composições!A:J,MATCH(Orçamentária!A316,Composições!A:A,0),8),2,0)","v":39.634},0,{"$f":"IF(A316<>\"\",IF(AND(#REF!=\"Padrão\",$I$4=#REF!),BDI!$B$17,IF(AND(#REF!=\"Padrão\",$I$4=#REF!),BDI!$C$17,IF(AND(#REF!=\"Diferenciado\",$I$4=#REF!),BDI!$G$17,IF(AND(#REF!=\"Diferenciado\",$I$4=#REF!),BDI!$H$17,IF(#REF!=\"ZERO\",0))))),\"\")","v":{"$error":"#REF!"}},{"$error":"#REF!"},{"$error":"#REF!"}]
["SF-00312","Preparação para instalação de difusores/grelhas de ar em portas","Serviço (Mat + MO)","un",0,{"$f":"OFFSET(INDEX(Composições!A:J,MATCH(Orçamentária!A317,Composições!A:A,0),8),2,0)","v":30.552},0,{"$f":"IF(A317<>\"\",IF(AND(#REF!=\"Padrão\",$I$4=#REF!),BDI!$B$17,IF(AND(#REF!=\"Padrão\",$I$4=#REF!),BDI!$C$17,IF(AND(#REF!=\"Diferenciado\",$I$4=#REF!),BDI!$G$17,IF(AND(#REF!=\"Diferenciado\",$I$4=#REF!),BDI!$H$17,IF(#REF!=\"ZERO\",0))))),\"\")","v":{"$error":"#REF!"}},{"$error":"#REF!"},{"$error":"#REF!"}]
["SF-00313","Bomba para condensado de ar-condicionado para instalação oculta","Serviço (Mat + MO)","un",0,{"$f":"OFFSET(INDEX(Composições!A:J,MATCH(Orçamentária!A318,Composições!A:A,0),8),2,0)","v":39.634},0,{"$f":"IF(A318<>\"\",IF(AND(#REF!=\"Padrão\",$I$4=#REF!),BDI!$B$17,IF(AND(#REF!=\"Padrão\",$I$4=#REF!),BDI!$C$17,IF(AND(#REF!=\"Diferenciado\",$I$4=#REF!),BDI!$G$17,IF(AND(#REF!=\"Diferenciado\",$I$4=#REF!),BDI!$H$17,IF(#REF!=\"ZERO\",0))))),\"\")","v":{"$error":"#REF!"}},{"$error":"#REF!"},{"$error":"#REF!"}]
["SF-00314","Fita aluminizada para refrigeração 48 mm","Serviço (Mat + MO)","m",0,{"$f":"OFFSET(INDEX(Composições!A:J,MATCH(Orçamentária!A319,Composições!A:A,0),8),2,0)","v":0.87352500000000011},0,{"$f":"IF(A319<>\"\",IF(AND(#REF!=\"Padrão\",$I$4=#REF!),BDI!$B$17,IF(AND(#REF!=\"Padrão\",$I$4=#REF!),BDI!$C$17,IF(AND(#REF!=\"Diferenciado\",$I$4=#REF!),BDI!$G$17,IF(AND(#REF!=\"Diferenciado\",$I$4=#REF!),BDI!$H$17,IF(#REF!=\"ZERO\",0))))),\"\")","v":{"$error":"#REF!"}},{"$error":"#REF!"},{"$error":"#REF!"}]
["SF-00315","Fita PVC 100 mm para acabamento em refrigeração","Serviço (Mat + MO)","m",0,{"$f":"OFFSET(INDEX(Composições!A:J,MATCH(Orçamentária!A320,Composições!A:A,0),8),2,0)","v":0.87352500000000011},0,{"$f":"IF(A320<>\"\",IF(AND(#REF!=\"Padrão\",$I$4=#REF!),BDI!$B$17,IF(AND(#REF!=\"Padrão\",$I$4=#REF!),BDI!$C$17,IF(AND(#REF!=\"Diferenciado\",$I$4=#REF!),BDI!$G$17,IF(AND(#REF!=\"Diferenciado\",$I$4=#REF!),BDI!$H$17,IF(#REF!=\"ZERO\",0))))),\"\")","v":{"$error":"#REF!"}},{"$error":"#REF!"},{"$error":"#REF!"}]
["SF-00316","Mangueira emborrachada 3/4\" para água gelada","Serviço (Mat + MO)","m",0,{"$f":"OFFSET(INDEX(Composições!A:J,MATCH(Orçamentária!A321,Composições!A:A,0),8),2,0)","v":0.87352500000000011},0,{"$f":"IF(A321<>\"\",IF(AND(#REF!=\"Padrão\",$I$4=#REF!),BDI!$B$17,IF(AND(#REF!=\"Padrão\",$I$4=#REF!),BDI!$C$17,IF(AND(#REF!=\"Diferenciado\",$I$4=#REF!),BDI!$G$17,IF(AND(#REF!=\"Diferenciado\",$I$4=#REF!),BDI!$H$17,IF(#REF!=\"ZERO\",0))))),\"\")","v":{"$error":"#REF!"}},{"$error":"#REF!"},{"$error":"#REF!"}]
["SF-00317","Suporte para unidade condensadora de aparelho split","Serviço (Mat + MO)","un",0,{"$f":"OFFSET(INDEX(Composições!A:J,MATCH(Orçamentária!A322,Composições!A:A,0),8),2,0)","v":33.930646499999995},0,{"$f":"IF(A322<>\"\",IF(AND(#REF!=\"Padrão\",$I$4=#REF!),BDI!$B$17,IF(AND(#REF!=\"Padrão\",$I$4=#REF!),BDI!$C$17,IF(AND(#REF!=\"Diferenciado\",$I$4=#REF!),BDI!$G$17,IF(AND(#REF!=\"Diferenciado\",$I$4=#REF!),BDI!$H$17,IF(#REF!=\"ZERO\",0))))),\"\")","v":{"$error":"#REF!"}},{"$error":"#REF!"},{"$error":"#REF!"}]
["SF-00318","Suporte para unidade evaporadora de aparelho split ou fancolete","Serviço (Mat + MO)","un",0,{"$f":"OFFSET(INDEX(Composições!A:J,MATCH(Orçamentária!A323,Composições!A:A,0),8),2,0)","v":33.930646499999995},0,{"$f":"IF(A323<>\"\",IF(AND(#REF!=\"Padrão\",$I$4=#REF!),BDI!$B$17,IF(AND(#REF!=\"Padrão\",$I$4=#REF!),BDI!$C$17,IF(AND(#REF!=\"Diferenciado\",$I$4=#REF!),BDI!$G$17,IF(AND(#REF!=\"Diferenciado\",$I$4=#REF!),BDI!$H$17,IF(#REF!=\"ZERO\",0))))),\"\")","v":{"$error":"#REF!"}},{"$error":"#REF!"},{"$error":"#REF!"}]
["SF-00319","Filtro em Y 1\"","Serviço (Mat + MO)","un",0,{"$f":"OFFSET(INDEX(Composições!A:J,MATCH(Orçamentária!A324,Composições!A:A,0),8),2,0)","v":29.94410925},0,{"$f":"IF(A324<>\"\",IF(AND(#REF!=\"Padrão\",$I$4=#REF!),BDI!$B$17,IF(AND(#REF!=\"Padrão\",$I$4=#REF!),BDI!$C$17,IF(AND(#REF!=\"Diferenciado\",$I$4=#REF!),BDI!$G$17,IF(AND(#REF!=\"Diferenciado\",$I$4=#REF!),BDI!$H$17,IF(#REF!=\"ZERO\",0))))),\"\")","v":{"$error":"#REF!"}},{"$error":"#REF!"},{"$error":"#REF!"}]
["SF-00320","Filtro em Y 3/4\"","Serviço (Mat + MO)","un",0,{"$f":"OFFSET(INDEX(Composições!A:J,MATCH(Orçamentária!A325,Composições!A:A,0),8),2,0)","v":29.94410925},0,{"$f":"IF(A325<>\"\",IF(AND(#REF!=\"Padrão\",$I$4=#REF!),BDI!$B$17,IF(AND(#REF!=\"Padrão\",$I$4=#REF!),BDI!$C$17,IF(AND(#REF!=\"Diferenciado\",$I$4=#REF!),BDI!$G$17,IF(AND(#REF!=\"Diferenciado\",$I$4=#REF!),BDI!$H$17,IF(#REF!=\"ZERO\",0))))),\"\")","v":{"$error":"#REF!"}},{"$error":"#REF!"},{"$error":"#REF!"}]
["SF-00321","Válvula de balanceamento e controle independente da pressão (PIBCV) 2 vias 1\"","Serviço (Mat + MO)","un",0,{"$f":"OFFSET(INDEX(Composições!A:J,MATCH(Orçamentária!A326,Composições!A:A,0),8),2,0)","v":29.94410925},0,{"$f":"IF(A326<>\"\",IF(AND(#REF!=\"Padrão\",$I$4=#REF!),BDI!$B$17,IF(AND(#REF!=\"Padrão\",$I$4=#REF!),BDI!$C$17,IF(AND(#REF!=\"Diferenciado\",$I$4=#REF!),BDI!$G$17,IF(AND(#REF!=\"Diferenciado\",$I$4=#REF!),BDI!$H$17,IF(#REF!=\"ZERO\",0))))),\"\")","v":{"$error":"#REF!"}},{"$error":"#REF!"},{"$error":"#REF!"}]
["SF-00322","Válvula de balanceamento e controle independente da pressão (PIBCV) 2 vias 3/4\"","Serviço (Mat + MO)","un",0,{"$f":"OFFSET(INDEX(Composições!A:J,MATCH(Orçamentária!A327,Composições!A:A,0),8),2,0)","v":29.94410925},{"$f":"IF(ISNUMBER(F327),ROUND(E327*F327,2),\"\")","v":0},{"$f":"IF(A327<>\"\",IF(AND(#REF!=\"Padrão\",$I$4=#REF!),BDI!$B$17,IF(AND(#REF!=\"Padrão\",$I$4=#REF!),BDI!$C$17,IF(AND(#REF!=\"Diferenciado\",$I$4=#REF!),BDI!$G$17,IF(AND(#REF!=\"Diferenciado\",$I$4=#REF!),BDI!$H$17,IF(#REF!=\"ZERO\",0))))),\"\")","v":{"$error":"#REF!"}},{"$f":"IF(ISNUMBER(F327),ROUND(F327*(1+H327),2),\"\")","v":{"$error":"#REF!"}},{"$f":"IF(ISNUMBER(F327),ROUND(I327*E327,2),\"\")","v":{"$error":"#REF!"}}]
["SF-00323","Válvula de esfera em bronze 1 1/2\"","Serviço (Mat + MO)","un",0,{"$f":"OFFSET(INDEX(Composições!A:J,MATCH(Orçamentária!A328,Composições!A:A,0),8),2,0)","v":139.81133850000001},0,{"$f":"IF(A328<>\"\",IF(AND(#REF!=\"Padrão\",$I$4=#REF!),BDI!$B$17,IF(AND(#REF!=\"Padrão\",$I$4=#REF!),BDI!$C$17,IF(AND(#REF!=\"Diferenciado\",$I$4=#REF!),BDI!$G$17,IF(AND(#REF!=\"Diferenciado\",$I$4=#REF!),BDI!$H$17,IF(#REF!=\"ZERO\",0))))),\"\")","v":{"$error":"#REF!"}},{"$error":"#REF!"},{"$error":"#REF!"}]
["SF-00324","Válvula de esfera em bronze 1 1/4\"","Serviço (Mat + MO)","un",0,{"$f":"OFFSET(INDEX(Composições!A:J,MATCH(Orçamentária!A329,Composições!A:A,0),8),2,0)","v":121.2293385},0,{"$f":"IF(A329<>\"\",IF(AND(#REF!=\"Padrão\",$I$4=#REF!),BDI!$B$17,IF(AND(#REF!=\"Padrão\",$I$4=#REF!),BDI!$C$17,IF(AND(#REF!=\"Diferenciado\",$I$4=#REF!),BDI!$G$17,IF(AND(#REF!=\"Diferenciado\",$I$4=#REF!),BDI!$H$17,IF(#REF!=\"ZERO\",0))))),\"\")","v":{"$error":"#REF!"}},{"$error":"#REF!"},{"$error":"#REF!"}]
["SF-00325","Válvula de esfera em bronze 1\"","Serviço (Mat + MO)","un",0,{"$f":"OFFSET(INDEX(Composições!A:J,MATCH(Orçamentária!A330,Composições!A:A,0),8),2,0)","v":90.734609250000005},0,{"$f":"IF(A330<>\"\",IF(AND(#REF!=\"Padrão\",$I$4=#REF!),BDI!$B$17,IF(AND(#REF!=\"Padrão\",$I$4=#REF!),BDI!$C$17,IF(AND(#REF!=\"Diferenciado\",$I$4=#REF!),BDI!$G$17,IF(AND(#REF!=\"Diferenciado\",$I$4=#REF!),BDI!$H$17,IF(#REF!=\"ZERO\",0))))),\"\")","v":{"$error":"#REF!"}},{"$error":"#REF!"},{"$error":"#REF!"}]
["SF-00326","Válvula de esfera em bronze 3/4\"","Serviço (Mat + MO)","un",0,{"$f":"OFFSET(INDEX(Composições!A:J,MATCH(Orçamentária!A331,Composições!A:A,0),8),2,0)","v":74.974109249999998},0,{"$f":"IF(A331<>\"\",IF(AND(#REF!=\"Padrão\",$I$4=#REF!),BDI!$B$17,IF(AND(#REF!=\"Padrão\",$I$4=#REF!),BDI!$C$17,IF(AND(#REF!=\"Diferenciado\",$I$4=#REF!),BDI!$G$17,IF(AND(#REF!=\"Diferenciado\",$I$4=#REF!),BDI!$H$17,IF(#REF!=\"ZERO\",0))))),\"\")","v":{"$error":"#REF!"}},{"$error":"#REF!"},{"$error":"#REF!"}]
["SF-00327","Isolamento elastomérico em formato de prancha autoadesiva","Serviço (Mat + MO)","m2",0,{"$f":"OFFSET(INDEX(Composições!A:J,MATCH(Orçamentária!A332,Composições!A:A,0),8),2,0)","v":3.8513000000000002},0,{"$f":"IF(A332<>\"\",IF(AND(#REF!=\"Padrão\",$I$4=#REF!),BDI!$B$17,IF(AND(#REF!=\"Padrão\",$I$4=#REF!),BDI!$C$17,IF(AND(#REF!=\"Diferenciado\",$I$4=#REF!),BDI!$G$17,IF(AND(#REF!=\"Diferenciado\",$I$4=#REF!),BDI!$H$17,IF(#REF!=\"ZERO\",0))))),\"\")","v":{"$error":"#REF!"}},{"$error":"#REF!"},{"$error":"#REF!"}]
["SF-00328","Isolamento elastomérico para tubulações de cobre de 1 1/8\" / tubulações de ferro de 3/4\"","Serviço (Mat + MO)","m",0,{"$f":"OFFSET(INDEX(Composições!A:J,MATCH(Orçamentária!A333,Composições!A:A,0),8),2,0)","v":0.73944959999999993},0,{"$f":"IF(A333<>\"\",IF(AND(#REF!=\"Padrão\",$I$4=#REF!),BDI!$B$17,IF(AND(#REF!=\"Padrão\",$I$4=#REF!),BDI!$C$17,IF(AND(#REF!=\"Diferenciado\",$I$4=#REF!),BDI!$G$17,IF(AND(#REF!=\"Diferenciado\",$I$4=#REF!),BDI!$H$17,IF(#REF!=\"ZERO\",0))))),\"\")","v":{"$error":"#REF!"}},{"$error":"#REF!"},{"$error":"#REF!"}]
["SF-00329","Isolamento elastomérico para tubulações de cobre de 1/2\"","Serviço (Mat + MO)","m",0,{"$f":"OFFSET(INDEX(Composições!A:J,MATCH(Orçamentária!A334,Composições!A:A,0),8),2,0)","v":0.70478790000000002},0,{"$f":"IF(A334<>\"\",IF(AND(#REF!=\"Padrão\",$I$4=#REF!),BDI!$B$17,IF(AND(#REF!=\"Padrão\",$I$4=#REF!),BDI!$C$17,IF(AND(#REF!=\"Diferenciado\",$I$4=#REF!),BDI!$G$17,IF(AND(#REF!=\"Diferenciado\",$I$4=#REF!),BDI!$H$17,IF(#REF!=\"ZERO\",0))))),\"\")","v":{"$error":"#REF!"}},{"$error":"#REF!"},{"$error":"#REF!"}]
["SF-00330","Isolamento elastomérico para tubulações de cobre de 1/4\"","Serviço (Mat + MO)","m",0,{"$f":"OFFSET(INDEX(Composições!A:J,MATCH(Orçamentária!A335,Composições!A:A,0),8),2,0)","v":0.60080279999999997},0,{"$f":"IF(A335<>\"\",IF(AND(#REF!=\"Padrão\",$I$4=#REF!),BDI!$B$17,IF(AND(#REF!=\"Padrão\",$I$4=#REF!),BDI!$C$17,IF(AND(#REF!=\"Diferenciado\",$I$4=#REF!),BDI!$G$17,IF(AND(#REF!=\"Diferenciado\",$I$4=#REF!),BDI!$H$17,IF(#REF!=\"ZERO\",0))))),\"\")","v":{"$error":"#REF!"}},{"$error":"#REF!"},{"$error":"#REF!"}]
["SF-00331","Isolamento elastomérico para tubulações de cobre de 3/4\"","Serviço (Mat + MO)","m",0,{"$f":"OFFSET(INDEX(Composições!A:J,MATCH(Orçamentária!A336,Composições!A:A,0),8),2,0)","v":0.73944959999999993},0,{"$f":"IF(A336<>\"\",IF(AND(#REF!=\"Padrão\",$I$4=#REF!),BDI!$B$17,IF(AND(#REF!=\"Padrão\",$I$4=#REF!),BDI!$C$17,IF(AND(#REF!=\"Diferenciado\",$I$4=#REF!),BDI!$G$17,IF(AND(#REF!=\"Diferenciado\",$I$4=#REF!),BDI!$H$17,IF(#REF!=\"ZERO\",0))))),\"\")","v":{"$error":"#REF!"}},{"$error":"#REF!"},{"$error":"#REF!"}]
["SF-00332","Isolamento elastomérico para tubulações de cobre de 3/8\"","Serviço (Mat + MO)","m",0,{"$f":"OFFSET(INDEX(Composições!A:J,MATCH(Orçamentária!A337,Composições!A:A,0),8),2,0)","v":0.65857230000000011},0,{"$f":"IF(A337<>\"\",IF(AND(#REF!=\"Padrão\",$I$4=#REF!),BDI!$B$17,IF(AND(#REF!=\"Padrão\",$I$4=#REF!),BDI!$C$17,IF(AND(#REF!=\"Diferenciado\",$I$4=#REF!),BDI!$G$17,IF(AND(#REF!=\"Diferenciado\",$I$4=#REF!),BDI!$H$17,IF(#REF!=\"ZERO\",0))))),\"\")","v":{"$error":"#REF!"}},{"$error":"#REF!"},{"$error":"#REF!"}]
["SF-00333","Isolamento elastomérico para tubulações de cobre de 5/8\"","Serviço (Mat + MO)","m",0,{"$f":"OFFSET(INDEX(Composições!A:J,MATCH(Orçamentária!A338,Composições!A:A,0),8),2,0)","v":0.73944959999999993},0,{"$f":"IF(A338<>\"\",IF(AND(#REF!=\"Padrão\",$I$4=#REF!),BDI!$B$17,IF(AND(#REF!=\"Padrão\",$I$4=#REF!),BDI!$C$17,IF(AND(#REF!=\"Diferenciado\",$I$4=#REF!),BDI!$G$17,IF(AND(#REF!=\"Diferenciado\",$I$4=#REF!),BDI!$H$17,IF(#REF!=\"ZERO\",0))))),\"\")","v":{"$error":"#REF!"}},{"$error":"#REF!"},{"$error":"#REF!"}]
["SF-00334","Isolamento elastomérico para tubulações de cobre de 7/8\" / tubulações de ferro de 1/2\"","Serviço (Mat + MO)","m",0,{"$f":"OFFSET(INDEX(Composições!A:J,MATCH(Orçamentária!A339,Composições!A:A,0),8),2,0)","v":0.73944959999999993},0,{"$f":"IF(A339<>\"\",IF(AND(#REF!=\"Padrão\",$I$4=#REF!),BDI!$B$17,IF(AND(#REF!=\"Padrão\",$I$4=#REF!),BDI!$C$17,IF(AND(#REF!=\"Diferenciado\",$I$4=#REF!),BDI!$G$17,IF(AND(#REF!=\"Diferenciado\",$I$4=#REF!),BDI!$H$17,IF(#REF!=\"ZERO\",0))))),\"\")","v":{"$error":"#REF!"}},{"$error":"#REF!"},{"$error":"#REF!"}]
["SF-00335","Isolamento elastomérico para tubulações de cobre de 1\"","Serviço (Mat + MO)","m",0,{"$f":"OFFSET(INDEX(Composições!A:J,MATCH(Orçamentária!A340,Composições!A:A,0),8),2,0)","v":0.73944959999999993},0,{"$f":"IF(A340<>\"\",IF(AND(#REF!=\"Padrão\",$I$4=#REF!),BDI!$B$17,IF(AND(#REF!=\"Padrão\",$I$4=#REF!),BDI!$C$17,IF(AND(#REF!=\"Diferenciado\",$I$4=#REF!),BDI!$G$17,IF(AND(#REF!=\"Diferenciado\",$I$4=#REF!),BDI!$H$17,IF(#REF!=\"ZERO\",0))))),\"\")","v":{"$error":"#REF!"}},{"$error":"#REF!"},{"$error":"#REF!"}]
["SF-00336","Isolamento elastomérico para tubulações de ferro de 1 1/2\"","Serviço (Mat + MO)","m",0,{"$f":"OFFSET(INDEX(Composições!A:J,MATCH(Orçamentária!A341,Composições!A:A,0),8),2,0)","v":0.73944959999999993},0,{"$f":"IF(A341<>\"\",IF(AND(#REF!=\"Padrão\",$I$4=#REF!),BDI!$B$17,IF(AND(#REF!=\"Padrão\",$I$4=#REF!),BDI!$C$17,IF(AND(#REF!=\"Diferenciado\",$I$4=#REF!),BDI!$G$17,IF(AND(#REF!=\"Diferenciado\",$I$4=#REF!),BDI!$H$17,IF(#REF!=\"ZERO\",0))))),\"\")","v":{"$error":"#REF!"}},{"$error":"#REF!"},{"$error":"#REF!"}]
["SF-00337","Isolamento elastomérico para tubulações de ferro de 1 1/4\"","Serviço (Mat + MO)","m",0,{"$f":"OFFSET(INDEX(Composições!A:J,MATCH(Orçamentária!A342,Composições!A:A,0),8),2,0)","v":0.73944959999999993},0,{"$f":"IF(A342<>\"\",IF(AND(#REF!=\"Padrão\",$I$4=#REF!),BDI!$B$17,IF(AND(#REF!=\"Padrão\",$I$4=#REF!),BDI!$C$17,IF(AND(#REF!=\"Diferenciado\",$I$4=#REF!),BDI!$G$17,IF(AND(#REF!=\"Diferenciado\",$I$4=#REF!),BDI!$H$17,IF(#REF!=\"ZERO\",0))))),\"\")","v":{"$error":"#REF!"}},{"$error":"#REF!"},{"$error":"#REF!"}]
["SF-00338","Isolamento elastomérico para tubulações de ferro de 1\"","Serviço (Mat + MO)","m",0,{"$f":"OFFSET(INDEX(Composições!A:J,MATCH(Orçamentária!A343,Composições!A:A,0),8),2,0)","v":0.73944959999999993},0,{"$f":"IF(A343<>\"\",IF(AND(#REF!=\"Padrão\",$I$4=#REF!),BDI!$B$17,IF(AND(#REF!=\"Padrão\",$I$4=#REF!),BDI!$C$17,IF(AND(#REF!=\"Diferenciado\",$I$4=#REF!),BDI!$G$17,IF(AND(#REF!=\"Diferenciado\",$I$4=#REF!),BDI!$H$17,IF(#REF!=\"ZERO\",0))))),\"\")","v":{"$error":"#REF!"}},{"$error":"#REF!"},{"$error":"#REF!"}]
["SF-00339","Proteção mecânica em alumínio","Serviço (Mat + MO)","m2",0,{"$f":"OFFSET(INDEX(Composições!A:J,MATCH(Orçamentária!A344,Composições!A:A,0),8),2,0)","v":7.7026000000000003},0,{"$f":"IF(A344<>\"\",IF(AND(#REF!=\"Padrão\",$I$4=#REF!),BDI!$B$17,IF(AND(#REF!=\"Padrão\",$I$4=#REF!),BDI!$C$17,IF(AND(#REF!=\"Diferenciado\",$I$4=#REF!),BDI!$G$17,IF(AND(#REF!=\"Diferenciado\",$I$4=#REF!),BDI!$H$17,IF(#REF!=\"ZERO\",0))))),\"\")","v":{"$error":"#REF!"}},{"$error":"#REF!"},{"$error":"#REF!"}]
["SF-00340","Tubo de aço-carbono galvanizado 1 1/2\"","Serviço (Mat + MO)","m",0,{"$f":"OFFSET(INDEX(Composições!A:J,MATCH(Orçamentária!A345,Composições!A:A,0),8),2,0)","v":58.940051999999994},0,{"$f":"IF(A345<>\"\",IF(AND(#REF!=\"Padrão\",$I$4=#REF!),BDI!$B$17,IF(AND(#REF!=\"Padrão\",$I$4=#REF!),BDI!$C$17,IF(AND(#REF!=\"Diferenciado\",$I$4=#REF!),BDI!$G$17,IF(AND(#REF!=\"Diferenciado\",$I$4=#REF!),BDI!$H$17,IF(#REF!=\"ZERO\",0))))),\"\")","v":{"$error":"#REF!"}},{"$error":"#REF!"},{"$error":"#REF!"}]
["SF-00341","Tubo de aço-carbono galvanizado 1 1/4\"","Serviço (Mat + MO)","m",0,{"$f":"OFFSET(INDEX(Composições!A:J,MATCH(Orçamentária!A346,Composições!A:A,0),8),2,0)","v":54.356872000000003},0,{"$f":"IF(A346<>\"\",IF(AND(#REF!=\"Padrão\",$I$4=#REF!),BDI!$B$17,IF(AND(#REF!=\"Padrão\",$I$4=#REF!),BDI!$C$17,IF(AND(#REF!=\"Diferenciado\",$I$4=#REF!),BDI!$G$17,IF(AND(#REF!=\"Diferenciado\",$I$4=#REF!),BDI!$H$17,IF(#REF!=\"ZERO\",0))))),\"\")","v":{"$error":"#REF!"}},{"$error":"#REF!"},{"$error":"#REF!"}]
["SF-00342","Tubo de aço-carbono galvanizado 1\"","Serviço (Mat + MO)","m",0,{"$f":"OFFSET(INDEX(Composições!A:J,MATCH(Orçamentária!A347,Composições!A:A,0),8),2,0)","v":44.099845500000001},0,{"$f":"IF(A347<>\"\",IF(AND(#REF!=\"Padrão\",$I$4=#REF!),BDI!$B$17,IF(AND(#REF!=\"Padrão\",$I$4=#REF!),BDI!$C$17,IF(AND(#REF!=\"Diferenciado\",$I$4=#REF!),BDI!$G$17,IF(AND(#REF!=\"Diferenciado\",$I$4=#REF!),BDI!$H$17,IF(#REF!=\"ZERO\",0))))),\"\")","v":{"$error":"#REF!"}},{"$error":"#REF!"},{"$error":"#REF!"}]
["SF-00343","Tubo de aço-carbono galvanizado 3/4\"","Serviço (Mat + MO)","m",0,{"$f":"OFFSET(INDEX(Composições!A:J,MATCH(Orçamentária!A348,Composições!A:A,0),8),2,0)","v":40.457630999999992},0,{"$f":"IF(A348<>\"\",IF(AND(#REF!=\"Padrão\",$I$4=#REF!),BDI!$B$17,IF(AND(#REF!=\"Padrão\",$I$4=#REF!),BDI!$C$17,IF(AND(#REF!=\"Diferenciado\",$I$4=#REF!),BDI!$G$17,IF(AND(#REF!=\"Diferenciado\",$I$4=#REF!),BDI!$H$17,IF(#REF!=\"ZERO\",0))))),\"\")","v":{"$error":"#REF!"}},{"$error":"#REF!"},{"$error":"#REF!"}]
["SF-00344","Tubo de cobre de 1/2\"","Serviço (Mat + MO)","m",0,{"$f":"OFFSET(INDEX(Composições!A:J,MATCH(Orçamentária!A349,Composições!A:A,0),8),2,0)","v":29.193783099999994},0,{"$f":"IF(A349<>\"\",IF(AND(#REF!=\"Padrão\",$I$4=#REF!),BDI!$B$17,IF(AND(#REF!=\"Padrão\",$I$4=#REF!),BDI!$C$17,IF(AND(#REF!=\"Diferenciado\",$I$4=#REF!),BDI!$G$17,IF(AND(#REF!=\"Diferenciado\",$I$4=#REF!),BDI!$H$17,IF(#REF!=\"ZERO\",0))))),\"\")","v":{"$error":"#REF!"}},{"$error":"#REF!"},{"$error":"#REF!"}]
["SF-00345","Tubo de cobre de 1/4\"","Serviço (Mat + MO)","m",0,{"$f":"OFFSET(INDEX(Composições!A:J,MATCH(Orçamentária!A350,Composições!A:A,0),8),2,0)","v":14.604185649999996},0,{"$f":"IF(A350<>\"\",IF(AND(#REF!=\"Padrão\",$I$4=#REF!),BDI!$B$17,IF(AND(#REF!=\"Padrão\",$I$4=#REF!),BDI!$C$17,IF(AND(#REF!=\"Diferenciado\",$I$4=#REF!),BDI!$G$17,IF(AND(#REF!=\"Diferenciado\",$I$4=#REF!),BDI!$H$17,IF(#REF!=\"ZERO\",0))))),\"\")","v":{"$error":"#REF!"}},{"$error":"#REF!"},{"$error":"#REF!"}]
["SF-00346","Tubo de cobre de 3/4\"","Serviço (Mat + MO)","m",0,{"$f":"OFFSET(INDEX(Composições!A:J,MATCH(Orçamentária!A351,Composições!A:A,0),8),2,0)","v":43.17540524999999},0,{"$f":"IF(A351<>\"\",IF(AND(#REF!=\"Padrão\",$I$4=#REF!),BDI!$B$17,IF(AND(#REF!=\"Padrão\",$I$4=#REF!),BDI!$C$17,IF(AND(#REF!=\"Diferenciado\",$I$4=#REF!),BDI!$G$17,IF(AND(#REF!=\"Diferenciado\",$I$4=#REF!),BDI!$H$17,IF(#REF!=\"ZERO\",0))))),\"\")","v":{"$error":"#REF!"}},{"$error":"#REF!"},{"$error":"#REF!"}]
["SF-00347","Tubo de cobre de 3/8\"","Serviço (Mat + MO)","m",0,{"$f":"OFFSET(INDEX(Composições!A:J,MATCH(Orçamentária!A352,Composições!A:A,0),8),2,0)","v":21.849411},0,{"$f":"IF(A352<>\"\",IF(AND(#REF!=\"Padrão\",$I$4=#REF!),BDI!$B$17,IF(AND(#REF!=\"Padrão\",$I$4=#REF!),BDI!$C$17,IF(AND(#REF!=\"Diferenciado\",$I$4=#REF!),BDI!$G$17,IF(AND(#REF!=\"Diferenciado\",$I$4=#REF!),BDI!$H$17,IF(#REF!=\"ZERO\",0))))),\"\")","v":{"$error":"#REF!"}},{"$error":"#REF!"},{"$error":"#REF!"}]
["SF-00348","Tubo de cobre de 5/8\"","Serviço (Mat + MO)","m",0,{"$f":"OFFSET(INDEX(Composições!A:J,MATCH(Orçamentária!A353,Composições!A:A,0),8),2,0)","v":35.997072249999995},0,{"$f":"IF(A353<>\"\",IF(AND(#REF!=\"Padrão\",$I$4=#REF!),BDI!$B$17,IF(AND(#REF!=\"Padrão\",$I$4=#REF!),BDI!$C$17,IF(AND(#REF!=\"Diferenciado\",$I$4=#REF!),BDI!$G$17,IF(AND(#REF!=\"Diferenciado\",$I$4=#REF!),BDI!$H$17,IF(#REF!=\"ZERO\",0))))),\"\")","v":{"$error":"#REF!"}},{"$error":"#REF!"},{"$error":"#REF!"}]
["SF-00349","Tubo de cobre de 7/8\"","Serviço (Mat + MO)","m",0,{"$f":"OFFSET(INDEX(Composições!A:J,MATCH(Orçamentária!A354,Composições!A:A,0),8),2,0)","v":1.7253824},0,{"$f":"IF(A354<>\"\",IF(AND(#REF!=\"Padrão\",$I$4=#REF!),BDI!$B$17,IF(AND(#REF!=\"Padrão\",$I$4=#REF!),BDI!$C$17,IF(AND(#REF!=\"Diferenciado\",$I$4=#REF!),BDI!$G$17,IF(AND(#REF!=\"Diferenciado\",$I$4=#REF!),BDI!$H$17,IF(#REF!=\"ZERO\",0))))),\"\")","v":{"$error":"#REF!"}},{"$error":"#REF!"},{"$error":"#REF!"}]
["SF-00350","Tubo de cobre de 1\"","Serviço (Mat + MO)","m",0,{"$f":"OFFSET(INDEX(Composições!A:J,MATCH(Orçamentária!A355,Composições!A:A,0),8),2,0)","v":1.7253824},0,{"$f":"IF(A355<>\"\",IF(AND(#REF!=\"Padrão\",$I$4=#REF!),BDI!$B$17,IF(AND(#REF!=\"Padrão\",$I$4=#REF!),BDI!$C$17,IF(AND(#REF!=\"Diferenciado\",$I$4=#REF!),BDI!$G$17,IF(AND(#REF!=\"Diferenciado\",$I$4=#REF!),BDI!$H$17,IF(#REF!=\"ZERO\",0))))),\"\")","v":{"$error":"#REF!"}},{"$error":"#REF!"},{"$error":"#REF!"}]
["SF-00351","Tubo de cobre de 1 1/8\"","Serviço (Mat + MO)","m",0,{"$f":"OFFSET(INDEX(Composições!A:J,MATCH(Orçamentária!A356,Composições!A:A,0),8),2,0)","v":1.7253824},0,{"$f":"IF(A356<>\"\",IF(AND(#REF!=\"Padrão\",$I$4=#REF!),BDI!$B$17,IF(AND(#REF!=\"Padrão\",$I$4=#REF!),BDI!$C$17,IF(AND(#REF!=\"Diferenciado\",$I$4=#REF!),BDI!$G$17,IF(AND(#REF!=\"Diferenciado\",$I$4=#REF!),BDI!$H$17,IF(#REF!=\"ZERO\",0))))),\"\")","v":{"$error":"#REF!"}},{"$error":"#REF!"},{"$error":"#REF!"}]
["SF-00352","Armário em MDF laminado com porta e prateleiras","Serviço (Mat + MO)","m2",0,"","",{"$f":"IF(A357<>\"\",IF(AND(#REF!=\"Padrão\",$I$4=#REF!),BDI!$B$17,IF(AND(#REF!=\"Padrão\",$I$4=#REF!),BDI!$C$17,IF(AND(#REF!=\"Diferenciado\",$I$4=#REF!),BDI!$G$17,IF(AND(#REF!=\"Diferenciado\",$I$4=#REF!),BDI!$H$17,IF(#REF!=\"ZERO\",0))))),\"\")","v":{"$error":"#REF!"}},"",""]
["SF-00353","Armários em MDF laminado com porta e gavetas","Serviço (Mat + MO)","m2",0,"","",{"$f":"IF(A358<>\"\",IF(AND(#REF!=\"Padrão\",$I$4=#REF!),BDI!$B$17,IF(AND(#REF!=\"Padrão\",$I$4=#REF!),BDI!$C$17,IF(AND(#REF!=\"Diferenciado\",$I$4=#REF!),BDI!$G$17,IF(AND(#REF!=\"Diferenciado\",$I$4=#REF!),BDI!$H$17,IF(#REF!=\"ZERO\",0))))),\"\")","v":{"$error":"#REF!"}},"",""]
["SF-00354","Instalação de armários reaproveitados","Serviço (Mat + MO)","m2",0,{"$f":"OFFSET(INDEX(Composições!A:J,MATCH(Orçamentária!A359,Composições!A:A,0),8),2,0)","v":98.256599999999992},0,{"$f":"IF(A359<>\"\",IF(AND(#REF!=\"Padrão\",$I$4=#REF!),BDI!$B$17,IF(AND(#REF!=\"Padrão\",$I$4=#REF!),BDI!$C$17,IF(AND(#REF!=\"Diferenciado\",$I$4=#REF!),BDI!$G$17,IF(AND(#REF!=\"Diferenciado\",$I$4=#REF!),BDI!$H$17,IF(#REF!=\"ZERO\",0))))),\"\")","v":{"$error":"#REF!"}},{"$error":"#REF!"},{"$error":"#REF!"}]
["SF-00355","Mesa/tampo de MDF, fixada em parede com mão-francesa","Serviço (Mat + MO)","m2",0,{"$f":"OFFSET(INDEX(Composições!A:J,MATCH(Orçamentária!A360,Composições!A:A,0),8),2,0)","v":157.10149999999999},0,{"$f":"IF(A360<>\"\",IF(AND(#REF!=\"Padrão\",$I$4=#REF!),BDI!$B$17,IF(AND(#REF!=\"Padrão\",$I$4=#REF!),BDI!$C$17,IF(AND(#REF!=\"Diferenciado\",$I$4=#REF!),BDI!$G$17,IF(AND(#REF!=\"Diferenciado\",$I$4=#REF!),BDI!$H$17,IF(#REF!=\"ZERO\",0))))),\"\")","v":{"$error":"#REF!"}},{"$error":"#REF!"},{"$error":"#REF!"}]
["SF-00356","Painel para TV de 120 x 180 cm","Serviço (Mat + MO)","un",0,{"$f":"OFFSET(INDEX(Composições!A:J,MATCH(Orçamentária!A361,Composições!A:A,0),8),2,0)","v":40.736000000000004},0,{"$f":"IF(A361<>\"\",IF(AND(#REF!=\"Padrão\",$I$4=#REF!),BDI!$B$17,IF(AND(#REF!=\"Padrão\",$I$4=#REF!),BDI!$C$17,IF(AND(#REF!=\"Diferenciado\",$I$4=#REF!),BDI!$G$17,IF(AND(#REF!=\"Diferenciado\",$I$4=#REF!),BDI!$H$17,IF(#REF!=\"ZERO\",0))))),\"\")","v":{"$error":"#REF!"}},{"$error":"#REF!"},{"$error":"#REF!"}]
["SF-00357","Painel para TV de 160 x 160 cm","Serviço (Mat + MO)","un",0,{"$f":"OFFSET(INDEX(Composições!A:J,MATCH(Orçamentária!A362,Composições!A:A,0),8),2,0)","v":40.736000000000004},0,{"$f":"IF(A362<>\"\",IF(AND(#REF!=\"Padrão\",$I$4=#REF!),BDI!$B$17,IF(AND(#REF!=\"Padrão\",$I$4=#REF!),BDI!$C$17,IF(AND(#REF!=\"Diferenciado\",$I$4=#REF!),BDI!$G$17,IF(AND(#REF!=\"Diferenciado\",$I$4=#REF!),BDI!$H$17,IF(#REF!=\"ZERO\",0))))),\"\")","v":{"$error":"#REF!"}},{"$error":"#REF!"},{"$error":"#REF!"}]
["SF-00358","Painel para TV de 90 x 120 cm","Serviço (Mat + MO)","un",0,{"$f":"OFFSET(INDEX(Composições!A:J,MATCH(Orçamentária!A363,Composições!A:A,0),8),2,0)","v":40.736000000000004},0,{"$f":"IF(A363<>\"\",IF(AND(#REF!=\"Padrão\",$I$4=#REF!),BDI!$B$17,IF(AND(#REF!=\"Padrão\",$I$4=#REF!),BDI!$C$17,IF(AND(#REF!=\"Diferenciado\",$I$4=#REF!),BDI!$G$17,IF(AND(#REF!=\"Diferenciado\",$I$4=#REF!),BDI!$H$17,IF(#REF!=\"ZERO\",0))))),\"\")","v":{"$error":"#REF!"}},{"$error":"#REF!"},{"$error":"#REF!"}]
["SF-00359","Batentes e guarnições em madeira, com verniz ou esmalte","Serviço (Mat + MO)","un",0,{"$f":"OFFSET(INDEX(Composições!A:J,MATCH(Orçamentária!A364,Composições!A:A,0),8),2,0)","v":241.69758449999998},0,{"$f":"IF(A364<>\"\",IF(AND(#REF!=\"Padrão\",$I$4=#REF!),BDI!$B$17,IF(AND(#REF!=\"Padrão\",$I$4=#REF!),BDI!$C$17,IF(AND(#REF!=\"Diferenciado\",$I$4=#REF!),BDI!$G$17,IF(AND(#REF!=\"Diferenciado\",$I$4=#REF!),BDI!$H$17,IF(#REF!=\"ZERO\",0))))),\"\")","v":{"$error":"#REF!"}},{"$error":"#REF!"},{"$error":"#REF!"}]
["SF-00360","Chapa de proteção para porta – Linha Acessibilidade","Serviço (Mat + MO)","m2",0,{"$f":"OFFSET(INDEX(Composições!A:J,MATCH(Orçamentária!A365,Composições!A:A,0),8),2,0)","v":11.57385},0,{"$f":"IF(A365<>\"\",IF(AND(#REF!=\"Padrão\",$I$4=#REF!),BDI!$B$17,IF(AND(#REF!=\"Padrão\",$I$4=#REF!),BDI!$C$17,IF(AND(#REF!=\"Diferenciado\",$I$4=#REF!),BDI!$G$17,IF(AND(#REF!=\"Diferenciado\",$I$4=#REF!),BDI!$H$17,IF(#REF!=\"ZERO\",0))))),\"\")","v":{"$error":"#REF!"}},{"$error":"#REF!"},{"$error":"#REF!"}]
["SF-00361","Folha de porta em madeira 2,10x0,60m, pintada","Serviço (Mat + MO)","un",0,{"$f":"OFFSET(INDEX(Composições!A:J,MATCH(Orçamentária!A366,Composições!A:A,0),8),2,0)","v":266.53599760000003},0,{"$f":"IF(A366<>\"\",IF(AND(#REF!=\"Padrão\",$I$4=#REF!),BDI!$B$17,IF(AND(#REF!=\"Padrão\",$I$4=#REF!),BDI!$C$17,IF(AND(#REF!=\"Diferenciado\",$I$4=#REF!),BDI!$G$17,IF(AND(#REF!=\"Diferenciado\",$I$4=#REF!),BDI!$H$17,IF(#REF!=\"ZERO\",0))))),\"\")","v":{"$error":"#REF!"}},{"$error":"#REF!"},{"$error":"#REF!"}]
["SF-00362","Folha de porta em madeira 2,10x0,70m, pintada","Serviço (Mat + MO)","un",0,{"$f":"OFFSET(INDEX(Composições!A:J,MATCH(Orçamentária!A367,Composições!A:A,0),8),2,0)","v":214.20136020000004},0,{"$f":"IF(A367<>\"\",IF(AND(#REF!=\"Padrão\",$I$4=#REF!),BDI!$B$17,IF(AND(#REF!=\"Padrão\",$I$4=#REF!),BDI!$C$17,IF(AND(#REF!=\"Diferenciado\",$I$4=#REF!),BDI!$G$17,IF(AND(#REF!=\"Diferenciado\",$I$4=#REF!),BDI!$H$17,IF(#REF!=\"ZERO\",0))))),\"\")","v":{"$error":"#REF!"}},{"$error":"#REF!"},{"$error":"#REF!"}]
["SF-00363","Folha de porta em madeira 2,10x0,80m, pintada","Serviço (Mat + MO)","un",0,{"$f":"OFFSET(INDEX(Composições!A:J,MATCH(Orçamentária!A368,Composições!A:A,0),8),2,0)","v":319.69022280000002},0,{"$f":"IF(A368<>\"\",IF(AND(#REF!=\"Padrão\",$I$4=#REF!),BDI!$B$17,IF(AND(#REF!=\"Padrão\",$I$4=#REF!),BDI!$C$17,IF(AND(#REF!=\"Diferenciado\",$I$4=#REF!),BDI!$G$17,IF(AND(#REF!=\"Diferenciado\",$I$4=#REF!),BDI!$H$17,IF(#REF!=\"ZERO\",0))))),\"\")","v":{"$error":"#REF!"}},{"$error":"#REF!"},{"$error":"#REF!"}]
["SF-00364","Folha de porta em madeira 2,10x0,90m, pintada","Serviço (Mat + MO)","un",0,{"$f":"OFFSET(INDEX(Composições!A:J,MATCH(Orçamentária!A369,Composições!A:A,0),8),2,0)","v":310.16258540000001},0,{"$f":"IF(A369<>\"\",IF(AND(#REF!=\"Padrão\",$I$4=#REF!),BDI!$B$17,IF(AND(#REF!=\"Padrão\",$I$4=#REF!),BDI!$C$17,IF(AND(#REF!=\"Diferenciado\",$I$4=#REF!),BDI!$G$17,IF(AND(#REF!=\"Diferenciado\",$I$4=#REF!),BDI!$H$17,IF(#REF!=\"ZERO\",0))))),\"\")","v":{"$error":"#REF!"}},{"$error":"#REF!"},{"$error":"#REF!"}]
["SF-00365","Folha de porta em madeira 2,10x1,0m, pintada","Serviço (Mat + MO)","un",0,{"$f":"OFFSET(INDEX(Composições!A:J,MATCH(Orçamentária!A370,Composições!A:A,0),8),2,0)","v":337.08381839999998},0,{"$f":"IF(A370<>\"\",IF(AND(#REF!=\"Padrão\",$I$4=#REF!),BDI!$B$17,IF(AND(#REF!=\"Padrão\",$I$4=#REF!),BDI!$C$17,IF(AND(#REF!=\"Diferenciado\",$I$4=#REF!),BDI!$G$17,IF(AND(#REF!=\"Diferenciado\",$I$4=#REF!),BDI!$H$17,IF(#REF!=\"ZERO\",0))))),\"\")","v":{"$error":"#REF!"}},{"$error":"#REF!"},{"$error":"#REF!"}]
["SF-00366","Instalação de batentes de madeira reaproveitados","Serviço (Mat + MO)","un",0,{"$f":"OFFSET(INDEX(Composições!A:J,MATCH(Orçamentária!A371,Composições!A:A,0),8),2,0)","v":82.654028000000011},0,{"$f":"IF(A371<>\"\",IF(AND(#REF!=\"Padrão\",$I$4=#REF!),BDI!$B$17,IF(AND(#REF!=\"Padrão\",$I$4=#REF!),BDI!$C$17,IF(AND(#REF!=\"Diferenciado\",$I$4=#REF!),BDI!$G$17,IF(AND(#REF!=\"Diferenciado\",$I$4=#REF!),BDI!$H$17,IF(#REF!=\"ZERO\",0))))),\"\")","v":{"$error":"#REF!"}},{"$error":"#REF!"},{"$error":"#REF!"}]
["SF-00367","Instalação de folhas de portas e dobradiças reaproveitadas","Serviço (Mat + MO)","un",0,{"$f":"OFFSET(INDEX(Composições!A:J,MATCH(Orçamentária!A372,Composições!A:A,0),8),2,0)","v":59.204627000000002},0,{"$f":"IF(A372<>\"\",IF(AND(#REF!=\"Padrão\",$I$4=#REF!),BDI!$B$17,IF(AND(#REF!=\"Padrão\",$I$4=#REF!),BDI!$C$17,IF(AND(#REF!=\"Diferenciado\",$I$4=#REF!),BDI!$G$17,IF(AND(#REF!=\"Diferenciado\",$I$4=#REF!),BDI!$H$17,IF(#REF!=\"ZERO\",0))))),\"\")","v":{"$error":"#REF!"}},{"$error":"#REF!"},{"$error":"#REF!"}]
["SF-00368","Dobradiça para porta","Serviço (Mat + MO)","un",0,{"$f":"OFFSET(INDEX(Composições!A:J,MATCH(Orçamentária!A373,Composições!A:A,0),8),2,0)","v":48.408180999999999},0,{"$f":"IF(A373<>\"\",IF(AND(#REF!=\"Padrão\",$I$4=#REF!),BDI!$B$17,IF(AND(#REF!=\"Padrão\",$I$4=#REF!),BDI!$C$17,IF(AND(#REF!=\"Diferenciado\",$I$4=#REF!),BDI!$G$17,IF(AND(#REF!=\"Diferenciado\",$I$4=#REF!),BDI!$H$17,IF(#REF!=\"ZERO\",0))))),\"\")","v":{"$error":"#REF!"}},{"$error":"#REF!"},{"$error":"#REF!"}]
["SF-00369","Fechadura para banheiro maçaneta em barra","Serviço (Mat + MO)","un",0,{"$f":"OFFSET(INDEX(Composições!A:J,MATCH(Orçamentária!A374,Composições!A:A,0),8),2,0)","v":23.0735715},0,{"$f":"IF(A374<>\"\",IF(AND(#REF!=\"Padrão\",$I$4=#REF!),BDI!$B$17,IF(AND(#REF!=\"Padrão\",$I$4=#REF!),BDI!$C$17,IF(AND(#REF!=\"Diferenciado\",$I$4=#REF!),BDI!$G$17,IF(AND(#REF!=\"Diferenciado\",$I$4=#REF!),BDI!$H$17,IF(#REF!=\"ZERO\",0))))),\"\")","v":{"$error":"#REF!"}},{"$error":"#REF!"},{"$error":"#REF!"}]
["SF-00370","Fechadura para porta externa maçaneta em barra","Serviço (Mat + MO)","un",0,{"$f":"OFFSET(INDEX(Composições!A:J,MATCH(Orçamentária!A375,Composições!A:A,0),8),2,0)","v":30.1323945},0,{"$f":"IF(A375<>\"\",IF(AND(#REF!=\"Padrão\",$I$4=#REF!),BDI!$B$17,IF(AND(#REF!=\"Padrão\",$I$4=#REF!),BDI!$C$17,IF(AND(#REF!=\"Diferenciado\",$I$4=#REF!),BDI!$G$17,IF(AND(#REF!=\"Diferenciado\",$I$4=#REF!),BDI!$H$17,IF(#REF!=\"ZERO\",0))))),\"\")","v":{"$error":"#REF!"}},{"$error":"#REF!"},{"$error":"#REF!"}]
["SF-00371","Fechadura para porta interna maçaneta tubular","Serviço (Mat + MO)","un",0,{"$f":"OFFSET(INDEX(Composições!A:J,MATCH(Orçamentária!A376,Composições!A:A,0),8),2,0)","v":30.1323945},0,{"$f":"IF(A376<>\"\",IF(AND(#REF!=\"Padrão\",$I$4=#REF!),BDI!$B$17,IF(AND(#REF!=\"Padrão\",$I$4=#REF!),BDI!$C$17,IF(AND(#REF!=\"Diferenciado\",$I$4=#REF!),BDI!$G$17,IF(AND(#REF!=\"Diferenciado\",$I$4=#REF!),BDI!$H$17,IF(#REF!=\"ZERO\",0))))),\"\")","v":{"$error":"#REF!"}},{"$error":"#REF!"},{"$error":"#REF!"}]
["SF-00372","Instalação de fechadura/puxador de porta reaproveitados","Serviço (Mat + MO)","un",0,{"$f":"OFFSET(INDEX(Composições!A:J,MATCH(Orçamentária!A377,Composições!A:A,0),8),2,0)","v":30.1323945},0,{"$f":"IF(A377<>\"\",IF(AND(#REF!=\"Padrão\",$I$4=#REF!),BDI!$B$17,IF(AND(#REF!=\"Padrão\",$I$4=#REF!),BDI!$C$17,IF(AND(#REF!=\"Diferenciado\",$I$4=#REF!),BDI!$G$17,IF(AND(#REF!=\"Diferenciado\",$I$4=#REF!),BDI!$H$17,IF(#REF!=\"ZERO\",0))))),\"\")","v":{"$error":"#REF!"}},{"$error":"#REF!"},{"$error":"#REF!"}]
["SF-00373","Mola hidráulica aérea","Serviço (Mat + MO)","un",0,{"$f":"OFFSET(INDEX(Composições!A:J,MATCH(Orçamentária!A378,Composições!A:A,0),8),2,0)","v":22.268000000000001},0,{"$f":"IF(A378<>\"\",IF(AND(#REF!=\"Padrão\",$I$4=#REF!),BDI!$B$17,IF(AND(#REF!=\"Padrão\",$I$4=#REF!),BDI!$C$17,IF(AND(#REF!=\"Diferenciado\",$I$4=#REF!),BDI!$G$17,IF(AND(#REF!=\"Diferenciado\",$I$4=#REF!),BDI!$H$17,IF(#REF!=\"ZERO\",0))))),\"\")","v":{"$error":"#REF!"}},{"$error":"#REF!"},{"$error":"#REF!"}]
["SF-00374","Pivô em latão com acabamento cromado para portas pivotantes","Serviço (Mat + MO)","un",0,{"$f":"OFFSET(INDEX(Composições!A:J,MATCH(Orçamentária!A379,Composições!A:A,0),8),2,0)","v":11.134},0,{"$f":"IF(A379<>\"\",IF(AND(#REF!=\"Padrão\",$I$4=#REF!),BDI!$B$17,IF(AND(#REF!=\"Padrão\",$I$4=#REF!),BDI!$C$17,IF(AND(#REF!=\"Diferenciado\",$I$4=#REF!),BDI!$G$17,IF(AND(#REF!=\"Diferenciado\",$I$4=#REF!),BDI!$H$17,IF(#REF!=\"ZERO\",0))))),\"\")","v":{"$error":"#REF!"}},{"$error":"#REF!"},{"$error":"#REF!"}]
["SF-00375","Cabo de dados tipo UTP, tipo LSZH, categoria 6","Serviço (Mat + MO)","m",0,{"$f":"OFFSET(INDEX(Composições!A:J,MATCH(Orçamentária!A380,Composições!A:A,0),8),2,0)","v":0.1109752},0,{"$f":"IF(A380<>\"\",IF(AND(#REF!=\"Padrão\",$I$4=#REF!),BDI!$B$17,IF(AND(#REF!=\"Padrão\",$I$4=#REF!),BDI!$C$17,IF(AND(#REF!=\"Diferenciado\",$I$4=#REF!),BDI!$G$17,IF(AND(#REF!=\"Diferenciado\",$I$4=#REF!),BDI!$H$17,IF(#REF!=\"ZERO\",0))))),\"\")","v":{"$error":"#REF!"}},{"$error":"#REF!"},{"$error":"#REF!"}]
["SF-00376","Módulo (tomada) de rede RJ45, categoria 6, com conectorização e certificação","Serviço (Mat + MO)","un",0,{"$f":"OFFSET(INDEX(Composições!A:J,MATCH(Orçamentária!A381,Composições!A:A,0),8),2,0)","v":16.345061600000001},0,{"$f":"IF(A381<>\"\",IF(AND(#REF!=\"Padrão\",$I$4=#REF!),BDI!$B$17,IF(AND(#REF!=\"Padrão\",$I$4=#REF!),BDI!$C$17,IF(AND(#REF!=\"Diferenciado\",$I$4=#REF!),BDI!$G$17,IF(AND(#REF!=\"Diferenciado\",$I$4=#REF!),BDI!$H$17,IF(#REF!=\"ZERO\",0))))),\"\")","v":{"$error":"#REF!"}},{"$error":"#REF!"},{"$error":"#REF!"}]
["SF-00377","Painel de distribuição (patch panel) de 24 portas, categoria 6","Serviço (Mat + MO)","un",0,{"$f":"OFFSET(INDEX(Composições!A:J,MATCH(Orçamentária!A382,Composições!A:A,0),8),2,0)","v":245.75854380000001},0,{"$f":"IF(A382<>\"\",IF(AND(#REF!=\"Padrão\",$I$4=#REF!),BDI!$B$17,IF(AND(#REF!=\"Padrão\",$I$4=#REF!),BDI!$C$17,IF(AND(#REF!=\"Diferenciado\",$I$4=#REF!),BDI!$G$17,IF(AND(#REF!=\"Diferenciado\",$I$4=#REF!),BDI!$H$17,IF(#REF!=\"ZERO\",0))))),\"\")","v":{"$error":"#REF!"}},{"$error":"#REF!"},{"$error":"#REF!"}]
["SF-00378","Cabo de telefonia tipo CCI 50x2","Serviço (Mat + MO)","m",0,{"$f":"OFFSET(INDEX(Composições!A:J,MATCH(Orçamentária!A383,Composições!A:A,0),8),2,0)","v":3.5779394},0,{"$f":"IF(A383<>\"\",IF(AND(#REF!=\"Padrão\",$I$4=#REF!),BDI!$B$17,IF(AND(#REF!=\"Padrão\",$I$4=#REF!),BDI!$C$17,IF(AND(#REF!=\"Diferenciado\",$I$4=#REF!),BDI!$G$17,IF(AND(#REF!=\"Diferenciado\",$I$4=#REF!),BDI!$H$17,IF(#REF!=\"ZERO\",0))))),\"\")","v":{"$error":"#REF!"}},{"$error":"#REF!"},{"$error":"#REF!"}]
["SF-00379","Módulo (tomada) de rede RJ45, para telefonia","Serviço (Mat + MO)","un",0,{"$f":"OFFSET(INDEX(Composições!A:J,MATCH(Orçamentária!A384,Composições!A:A,0),8),2,0)","v":37.223530799999999},0,{"$f":"IF(A384<>\"\",IF(AND(#REF!=\"Padrão\",$I$4=#REF!),BDI!$B$17,IF(AND(#REF!=\"Padrão\",$I$4=#REF!),BDI!$C$17,IF(AND(#REF!=\"Diferenciado\",$I$4=#REF!),BDI!$G$17,IF(AND(#REF!=\"Diferenciado\",$I$4=#REF!),BDI!$H$17,IF(#REF!=\"ZERO\",0))))),\"\")","v":{"$error":"#REF!"}},{"$error":"#REF!"},{"$error":"#REF!"}]
["SF-00380","Grelha para retorno para portas, divisórias e paredes 525x325 mm","Serviço (Mat + MO)","un",0,{"$f":"OFFSET(INDEX(Composições!A:J,MATCH(Orçamentária!A385,Composições!A:A,0),8),2,0)","v":141.87774999999999},0,{"$f":"IF(A385<>\"\",IF(AND(#REF!=\"Padrão\",$I$4=#REF!),BDI!$B$17,IF(AND(#REF!=\"Padrão\",$I$4=#REF!),BDI!$C$17,IF(AND(#REF!=\"Diferenciado\",$I$4=#REF!),BDI!$G$17,IF(AND(#REF!=\"Diferenciado\",$I$4=#REF!),BDI!$H$17,IF(#REF!=\"ZERO\",0))))),\"\")","v":{"$error":"#REF!"}},{"$error":"#REF!"},{"$error":"#REF!"}]
["SF-00381","Anilina","Material","kg",0,"","",{"$f":"IF(A386<>\"\",IF(AND(#REF!=\"Padrão\",$I$4=#REF!),BDI!$B$17,IF(AND(#REF!=\"Padrão\",$I$4=#REF!),BDI!$C$17,IF(AND(#REF!=\"Diferenciado\",$I$4=#REF!),BDI!$G$17,IF(AND(#REF!=\"Diferenciado\",$I$4=#REF!),BDI!$H$17,IF(#REF!=\"ZERO\",0))))),\"\")","v":{"$error":"#REF!"}},"",""]
["SF-00382","Seladora incolor","Material","Litro",0,"","",{"$f":"IF(A387<>\"\",IF(AND(#REF!=\"Padrão\",$I$4=#REF!),BDI!$B$17,IF(AND(#REF!=\"Padrão\",$I$4=#REF!),BDI!$C$17,IF(AND(#REF!=\"Diferenciado\",$I$4=#REF!),BDI!$G$17,IF(AND(#REF!=\"Diferenciado\",$I$4=#REF!),BDI!$H$17,IF(#REF!=\"ZERO\",0))))),\"\")","v":{"$error":"#REF!"}},"",""]
["SF-00383","Veladura","Material","900 ml",0,"","",{"$f":"IF(A388<>\"\",IF(AND(#REF!=\"Padrão\",$I$4=#REF!),BDI!$B$17,IF(AND(#REF!=\"Padrão\",$I$4=#REF!),BDI!$C$17,IF(AND(#REF!=\"Diferenciado\",$I$4=#REF!),BDI!$G$17,IF(AND(#REF!=\"Diferenciado\",$I$4=#REF!),BDI!$H$17,IF(#REF!=\"ZERO\",0))))),\"\")","v":{"$error":"#REF!"}},"",""]
["SF-00384","Massa para calafetar madeira","Material","kg",0,"","",{"$f":"IF(A389<>\"\",IF(AND(#REF!=\"Padrão\",$I$4=#REF!),BDI!$B$17,IF(AND(#REF!=\"Padrão\",$I$4=#REF!),BDI!$C$17,IF(AND(#REF!=\"Diferenciado\",$I$4=#REF!),BDI!$G$17,IF(AND(#REF!=\"Diferenciado\",$I$4=#REF!),BDI!$H$17,IF(#REF!=\"ZERO\",0))))),\"\")","v":{"$error":"#REF!"}},"",""]
["SF-00385","Removedor pastoso","Material","kg",0,"","",{"$f":"IF(A390<>\"\",IF(AND(#REF!=\"Padrão\",$I$4=#REF!),BDI!$B$17,IF(AND(#REF!=\"Padrão\",$I$4=#REF!),BDI!$C$17,IF(AND(#REF!=\"Diferenciado\",$I$4=#REF!),BDI!$G$17,IF(AND(#REF!=\"Diferenciado\",$I$4=#REF!),BDI!$H$17,IF(#REF!=\"ZERO\",0))))),\"\")","v":{"$error":"#REF!"}},"",""]
["SF-00386","Tingidor para madeira","Material","150 ml",0,"",{"$f":"IF(ISNUMBER(F391),ROUND(E391*F391,2),\"\")","v":""},{"$f":"IF(A391<>\"\",IF(AND(#REF!=\"Padrão\",$I$4=#REF!),BDI!$B$17,IF(AND(#REF!=\"Padrão\",$I$4=#REF!),BDI!$C$17,IF(AND(#REF!=\"Diferenciado\",$I$4=#REF!),BDI!$G$17,IF(AND(#REF!=\"Diferenciado\",$I$4=#REF!),BDI!$H$17,IF(#REF!=\"ZERO\",0))))),\"\")","v":{"$error":"#REF!"}},{"$f":"IF(ISNUMBER(F391),ROUND(F391*(1+H391),2),\"\")","v":""},{"$f":"IF(ISNUMBER(F391),ROUND(I391*E391,2),\"\")","v":""}]
["SF-00387","Thinner","Material","Litro",0,"","",{"$f":"IF(A392<>\"\",IF(AND(#REF!=\"Padrão\",$I$4=#REF!),BDI!$B$17,IF(AND(#REF!=\"Padrão\",$I$4=#REF!),BDI!$C$17,IF(AND(#REF!=\"Diferenciado\",$I$4=#REF!),BDI!$G$17,IF(AND(#REF!=\"Diferenciado\",$I$4=#REF!),BDI!$H$17,IF(#REF!=\"ZERO\",0))))),\"\")","v":{"$error":"#REF!"}},"",""]
["SF-00388","Goma Laca Indiana","Material","Kg",0,"","",{"$f":"IF(A393<>\"\",IF(AND(#REF!=\"Padrão\",$I$4=#REF!),BDI!$B$17,IF(AND(#REF!=\"Padrão\",$I$4=#REF!),BDI!$C$17,IF(AND(#REF!=\"Diferenciado\",$I$4=#REF!),BDI!$G$17,IF(AND(#REF!=\"Diferenciado\",$I$4=#REF!),BDI!$H$17,IF(#REF!=\"ZERO\",0))))),\"\")","v":{"$error":"#REF!"}},"",""]
["SF-00389","Cera em pasta para madeira","Material","kg",0,"","",{"$f":"IF(A394<>\"\",IF(AND(#REF!=\"Padrão\",$I$4=#REF!),BDI!$B$17,IF(AND(#REF!=\"Padrão\",$I$4=#REF!),BDI!$C$17,IF(AND(#REF!=\"Diferenciado\",$I$4=#REF!),BDI!$G$17,IF(AND(#REF!=\"Diferenciado\",$I$4=#REF!),BDI!$H$17,IF(#REF!=\"ZERO\",0))))),\"\")","v":{"$error":"#REF!"}},"",""]
["SF-00390","Fita de borda de 22 mm para encabeçamento","Material","m",0,"","",{"$f":"IF(A395<>\"\",IF(AND(#REF!=\"Padrão\",$I$4=#REF!),BDI!$B$17,IF(AND(#REF!=\"Padrão\",$I$4=#REF!),BDI!$C$17,IF(AND(#REF!=\"Diferenciado\",$I$4=#REF!),BDI!$G$17,IF(AND(#REF!=\"Diferenciado\",$I$4=#REF!),BDI!$H$17,IF(#REF!=\"ZERO\",0))))),\"\")","v":{"$error":"#REF!"}},"",""]
["SF-00391","Fita de borda de 35 mm para encabeçamento","Material","m",0,"","",{"$f":"IF(A396<>\"\",IF(AND(#REF!=\"Padrão\",$I$4=#REF!),BDI!$B$17,IF(AND(#REF!=\"Padrão\",$I$4=#REF!),BDI!$C$17,IF(AND(#REF!=\"Diferenciado\",$I$4=#REF!),BDI!$G$17,IF(AND(#REF!=\"Diferenciado\",$I$4=#REF!),BDI!$H$17,IF(#REF!=\"ZERO\",0))))),\"\")","v":{"$error":"#REF!"}},"",""]
["SF-00392","Fita de borda de 64 mm para encabeçamento","Material","m",0,"","",{"$f":"IF(A397<>\"\",IF(AND(#REF!=\"Padrão\",$I$4=#REF!),BDI!$B$17,IF(AND(#REF!=\"Padrão\",$I$4=#REF!),BDI!$C$17,IF(AND(#REF!=\"Diferenciado\",$I$4=#REF!),BDI!$G$17,IF(AND(#REF!=\"Diferenciado\",$I$4=#REF!),BDI!$H$17,IF(#REF!=\"ZERO\",0))))),\"\")","v":{"$error":"#REF!"}},"",""]
["SF-00393","Fita de borda de 45 mm para encabeçamento","Material","m",0,"","",{"$f":"IF(A398<>\"\",IF(AND(#REF!=\"Padrão\",$I$4=#REF!),BDI!$B$17,IF(AND(#REF!=\"Padrão\",$I$4=#REF!),BDI!$C$17,IF(AND(#REF!=\"Diferenciado\",$I$4=#REF!),BDI!$G$17,IF(AND(#REF!=\"Diferenciado\",$I$4=#REF!),BDI!$H$17,IF(#REF!=\"ZERO\",0))))),\"\")","v":{"$error":"#REF!"}},"",""]
["SF-00394","Suporte para prateleira redondo - 10mm x 15mm","Material","un",0,"","",{"$f":"IF(A399<>\"\",IF(AND(#REF!=\"Padrão\",$I$4=#REF!),BDI!$B$17,IF(AND(#REF!=\"Padrão\",$I$4=#REF!),BDI!$C$17,IF(AND(#REF!=\"Diferenciado\",$I$4=#REF!),BDI!$G$17,IF(AND(#REF!=\"Diferenciado\",$I$4=#REF!),BDI!$H$17,IF(#REF!=\"ZERO\",0))))),\"\")","v":{"$error":"#REF!"}},"",""]
["SF-00395","Rodízio Giratório com Freio - 2 Polegadas","Material","un",0,"","",{"$f":"IF(A400<>\"\",IF(AND(#REF!=\"Padrão\",$I$4=#REF!),BDI!$B$17,IF(AND(#REF!=\"Padrão\",$I$4=#REF!),BDI!$C$17,IF(AND(#REF!=\"Diferenciado\",$I$4=#REF!),BDI!$G$17,IF(AND(#REF!=\"Diferenciado\",$I$4=#REF!),BDI!$H$17,IF(#REF!=\"ZERO\",0))))),\"\")","v":{"$error":"#REF!"}},"",""]
["SF-00396","Rodízio fixo de 4 Polegadas","Material","un",0,"","",{"$f":"IF(A401<>\"\",IF(AND(#REF!=\"Padrão\",$I$4=#REF!),BDI!$B$17,IF(AND(#REF!=\"Padrão\",$I$4=#REF!),BDI!$C$17,IF(AND(#REF!=\"Diferenciado\",$I$4=#REF!),BDI!$G$17,IF(AND(#REF!=\"Diferenciado\",$I$4=#REF!),BDI!$H$17,IF(#REF!=\"ZERO\",0))))),\"\")","v":{"$error":"#REF!"}},"",""]
["SF-00397","Rodízio Giratório  Ref. 1500HC – Base de Pino com Bucha","Material","un",0,"","",{"$f":"IF(A402<>\"\",IF(AND(#REF!=\"Padrão\",$I$4=#REF!),BDI!$B$17,IF(AND(#REF!=\"Padrão\",$I$4=#REF!),BDI!$C$17,IF(AND(#REF!=\"Diferenciado\",$I$4=#REF!),BDI!$G$17,IF(AND(#REF!=\"Diferenciado\",$I$4=#REF!),BDI!$H$17,IF(#REF!=\"ZERO\",0))))),\"\")","v":{"$error":"#REF!"}},"",""]
["SF-00398","Cordão para Persiana Horizontal (metro)","Material","m",0,"","",{"$f":"IF(A403<>\"\",IF(AND(#REF!=\"Padrão\",$I$4=#REF!),BDI!$B$17,IF(AND(#REF!=\"Padrão\",$I$4=#REF!),BDI!$C$17,IF(AND(#REF!=\"Diferenciado\",$I$4=#REF!),BDI!$G$17,IF(AND(#REF!=\"Diferenciado\",$I$4=#REF!),BDI!$H$17,IF(#REF!=\"ZERO\",0))))),\"\")","v":{"$error":"#REF!"}},"",""]
["SF-00399","Cordão para Persiana Vertical (metro)","Material","m",0,"","",{"$f":"IF(A404<>\"\",IF(AND(#REF!=\"Padrão\",$I$4=#REF!),BDI!$B$17,IF(AND(#REF!=\"Padrão\",$I$4=#REF!),BDI!$C$17,IF(AND(#REF!=\"Diferenciado\",$I$4=#REF!),BDI!$G$17,IF(AND(#REF!=\"Diferenciado\",$I$4=#REF!),BDI!$H$17,IF(#REF!=\"ZERO\",0))))),\"\")","v":{"$error":"#REF!"}},"",""]
["SF-00400","Freio de Cordão de Persiana (travador de cordão) e acionador","Material","un",0,"","",{"$f":"IF(A405<>\"\",IF(AND(#REF!=\"Padrão\",$I$4=#REF!),BDI!$B$17,IF(AND(#REF!=\"Padrão\",$I$4=#REF!),BDI!$C$17,IF(AND(#REF!=\"Diferenciado\",$I$4=#REF!),BDI!$G$17,IF(AND(#REF!=\"Diferenciado\",$I$4=#REF!),BDI!$H$17,IF(#REF!=\"ZERO\",0))))),\"\")","v":{"$error":"#REF!"}},"",""]
["SF-00401","Corrente para persiana (com clip)","Material","m",0,"","",{"$f":"IF(A406<>\"\",IF(AND(#REF!=\"Padrão\",$I$4=#REF!),BDI!$B$17,IF(AND(#REF!=\"Padrão\",$I$4=#REF!),BDI!$C$17,IF(AND(#REF!=\"Diferenciado\",$I$4=#REF!),BDI!$G$17,IF(AND(#REF!=\"Diferenciado\",$I$4=#REF!),BDI!$H$17,IF(#REF!=\"ZERO\",0))))),\"\")","v":{"$error":"#REF!"}},"",""]
["SF-00402","Peso envelope para persiana","Material","un",0,"","",{"$f":"IF(A407<>\"\",IF(AND(#REF!=\"Padrão\",$I$4=#REF!),BDI!$B$17,IF(AND(#REF!=\"Padrão\",$I$4=#REF!),BDI!$C$17,IF(AND(#REF!=\"Diferenciado\",$I$4=#REF!),BDI!$G$17,IF(AND(#REF!=\"Diferenciado\",$I$4=#REF!),BDI!$H$17,IF(#REF!=\"ZERO\",0))))),\"\")","v":{"$error":"#REF!"}},"",""]
["SF-00403","Rodízio de Cortina Comum","Material","un",0,"","",{"$f":"IF(A408<>\"\",IF(AND(#REF!=\"Padrão\",$I$4=#REF!),BDI!$B$17,IF(AND(#REF!=\"Padrão\",$I$4=#REF!),BDI!$C$17,IF(AND(#REF!=\"Diferenciado\",$I$4=#REF!),BDI!$G$17,IF(AND(#REF!=\"Diferenciado\",$I$4=#REF!),BDI!$H$17,IF(#REF!=\"ZERO\",0))))),\"\")","v":{"$error":"#REF!"}},"",""]
["SF-00404","Cantoneira 2 furos - Cioba","Material","un",0,"","",{"$f":"IF(A409<>\"\",IF(AND(#REF!=\"Padrão\",$I$4=#REF!),BDI!$B$17,IF(AND(#REF!=\"Padrão\",$I$4=#REF!),BDI!$C$17,IF(AND(#REF!=\"Diferenciado\",$I$4=#REF!),BDI!$G$17,IF(AND(#REF!=\"Diferenciado\",$I$4=#REF!),BDI!$H$17,IF(#REF!=\"ZERO\",0))))),\"\")","v":{"$error":"#REF!"}},"",""]
["SF-00405","Dobradiça para porta com anel","Material","un",0,"","",{"$f":"IF(A410<>\"\",IF(AND(#REF!=\"Padrão\",$I$4=#REF!),BDI!$B$17,IF(AND(#REF!=\"Padrão\",$I$4=#REF!),BDI!$C$17,IF(AND(#REF!=\"Diferenciado\",$I$4=#REF!),BDI!$G$17,IF(AND(#REF!=\"Diferenciado\",$I$4=#REF!),BDI!$H$17,IF(#REF!=\"ZERO\",0))))),\"\")","v":{"$error":"#REF!"}},"",""]
["SF-00406","Dobradiça curva para porta de armário (com parafuso de fixação)","Material","un",0,"","",{"$f":"IF(A411<>\"\",IF(AND(#REF!=\"Padrão\",$I$4=#REF!),BDI!$B$17,IF(AND(#REF!=\"Padrão\",$I$4=#REF!),BDI!$C$17,IF(AND(#REF!=\"Diferenciado\",$I$4=#REF!),BDI!$G$17,IF(AND(#REF!=\"Diferenciado\",$I$4=#REF!),BDI!$H$17,IF(#REF!=\"ZERO\",0))))),\"\")","v":{"$error":"#REF!"}},"",""]
["SF-00407","Fechadura para porta externa maçaneta em barra (fornecimento)","Material","un",0,"","",{"$f":"IF(A412<>\"\",IF(AND(#REF!=\"Padrão\",$I$4=#REF!),BDI!$B$17,IF(AND(#REF!=\"Padrão\",$I$4=#REF!),BDI!$C$17,IF(AND(#REF!=\"Diferenciado\",$I$4=#REF!),BDI!$G$17,IF(AND(#REF!=\"Diferenciado\",$I$4=#REF!),BDI!$H$17,IF(#REF!=\"ZERO\",0))))),\"\")","v":{"$error":"#REF!"}},"",""]
["SF-00408","Fechadura para Porta Externa com Espelho - Millenio","Material","un",0,{"$f":"OFFSET(INDEX(Composições!A:J,MATCH(Orçamentária!A413,Composições!A:A,0),8),2,0)","v":56.904999999999994},0,{"$f":"IF(A413<>\"\",IF(AND(#REF!=\"Padrão\",$I$4=#REF!),BDI!$B$17,IF(AND(#REF!=\"Padrão\",$I$4=#REF!),BDI!$C$17,IF(AND(#REF!=\"Diferenciado\",$I$4=#REF!),BDI!$G$17,IF(AND(#REF!=\"Diferenciado\",$I$4=#REF!),BDI!$H$17,IF(#REF!=\"ZERO\",0))))),\"\")","v":{"$error":"#REF!"}},{"$error":"#REF!"},{"$error":"#REF!"}]
["SF-00409","Fechadura para Porta de Banheiro com Espelho - Millenio","Material","un",0,"","",{"$f":"IF(A414<>\"\",IF(AND(#REF!=\"Padrão\",$I$4=#REF!),BDI!$B$17,IF(AND(#REF!=\"Padrão\",$I$4=#REF!),BDI!$C$17,IF(AND(#REF!=\"Diferenciado\",$I$4=#REF!),BDI!$G$17,IF(AND(#REF!=\"Diferenciado\",$I$4=#REF!),BDI!$H$17,IF(#REF!=\"ZERO\",0))))),\"\")","v":{"$error":"#REF!"}},"",""]
["SF-00410","Fechadura para porta de divisória - Soprano","Material","un",0,"","",{"$f":"IF(A415<>\"\",IF(AND(#REF!=\"Padrão\",$I$4=#REF!),BDI!$B$17,IF(AND(#REF!=\"Padrão\",$I$4=#REF!),BDI!$C$17,IF(AND(#REF!=\"Diferenciado\",$I$4=#REF!),BDI!$G$17,IF(AND(#REF!=\"Diferenciado\",$I$4=#REF!),BDI!$H$17,IF(#REF!=\"ZERO\",0))))),\"\")","v":{"$error":"#REF!"}},"",""]
["SF-00411","Tarjeta Livre / Ocupado para portas de banheiro","Material","un",0,"","",{"$f":"IF(A416<>\"\",IF(AND(#REF!=\"Padrão\",$I$4=#REF!),BDI!$B$17,IF(AND(#REF!=\"Padrão\",$I$4=#REF!),BDI!$C$17,IF(AND(#REF!=\"Diferenciado\",$I$4=#REF!),BDI!$G$17,IF(AND(#REF!=\"Diferenciado\",$I$4=#REF!),BDI!$H$17,IF(#REF!=\"ZERO\",0))))),\"\")","v":{"$error":"#REF!"}},"",""]
["SF-00412","Fechadura tubular cilíndrica para porta de divisória","Material","un",0,"","",{"$f":"IF(A417<>\"\",IF(AND(#REF!=\"Padrão\",$I$4=#REF!),BDI!$B$17,IF(AND(#REF!=\"Padrão\",$I$4=#REF!),BDI!$C$17,IF(AND(#REF!=\"Diferenciado\",$I$4=#REF!),BDI!$G$17,IF(AND(#REF!=\"Diferenciado\",$I$4=#REF!),BDI!$H$17,IF(#REF!=\"ZERO\",0))))),\"\")","v":{"$error":"#REF!"}},"",""]
["SF-00413","Fechadura Cilíndrica para Armário","Material","un",0,"","",{"$f":"IF(A418<>\"\",IF(AND(#REF!=\"Padrão\",$I$4=#REF!),BDI!$B$17,IF(AND(#REF!=\"Padrão\",$I$4=#REF!),BDI!$C$17,IF(AND(#REF!=\"Diferenciado\",$I$4=#REF!),BDI!$G$17,IF(AND(#REF!=\"Diferenciado\",$I$4=#REF!),BDI!$H$17,IF(#REF!=\"ZERO\",0))))),\"\")","v":{"$error":"#REF!"}},"",""]
["SF-00414","Fechadura de embutir para armário e gaveta","Material","un",0,"","",{"$f":"IF(A419<>\"\",IF(AND(#REF!=\"Padrão\",$I$4=#REF!),BDI!$B$17,IF(AND(#REF!=\"Padrão\",$I$4=#REF!),BDI!$C$17,IF(AND(#REF!=\"Diferenciado\",$I$4=#REF!),BDI!$G$17,IF(AND(#REF!=\"Diferenciado\",$I$4=#REF!),BDI!$H$17,IF(#REF!=\"ZERO\",0))))),\"\")","v":{"$error":"#REF!"}},"",""]
["SF-00415","Fechadura de embutir para móveis – Fechamento Superior - Referência 861","Material","un",0,"","",{"$f":"IF(A420<>\"\",IF(AND(#REF!=\"Padrão\",$I$4=#REF!),BDI!$B$17,IF(AND(#REF!=\"Padrão\",$I$4=#REF!),BDI!$C$17,IF(AND(#REF!=\"Diferenciado\",$I$4=#REF!),BDI!$G$17,IF(AND(#REF!=\"Diferenciado\",$I$4=#REF!),BDI!$H$17,IF(#REF!=\"ZERO\",0))))),\"\")","v":{"$error":"#REF!"}},"",""]
["SF-00416","Fechadura de embutir para móveis – Fechamento lateral - Referência 871","Material","un",0,"","",{"$f":"IF(A421<>\"\",IF(AND(#REF!=\"Padrão\",$I$4=#REF!),BDI!$B$17,IF(AND(#REF!=\"Padrão\",$I$4=#REF!),BDI!$C$17,IF(AND(#REF!=\"Diferenciado\",$I$4=#REF!),BDI!$G$17,IF(AND(#REF!=\"Diferenciado\",$I$4=#REF!),BDI!$H$17,IF(#REF!=\"ZERO\",0))))),\"\")","v":{"$error":"#REF!"}},"",""]
["SF-00417","Fechadura para porta de correr (Bico de Papagaio)","Material","un",0,"","",{"$f":"IF(A422<>\"\",IF(AND(#REF!=\"Padrão\",$I$4=#REF!),BDI!$B$17,IF(AND(#REF!=\"Padrão\",$I$4=#REF!),BDI!$C$17,IF(AND(#REF!=\"Diferenciado\",$I$4=#REF!),BDI!$G$17,IF(AND(#REF!=\"Diferenciado\",$I$4=#REF!),BDI!$H$17,IF(#REF!=\"ZERO\",0))))),\"\")","v":{"$error":"#REF!"}},"",""]
["SF-00418","Fechadura para Gaveteiro","Material","un",0,"","",{"$f":"IF(A423<>\"\",IF(AND(#REF!=\"Padrão\",$I$4=#REF!),BDI!$B$17,IF(AND(#REF!=\"Padrão\",$I$4=#REF!),BDI!$C$17,IF(AND(#REF!=\"Diferenciado\",$I$4=#REF!),BDI!$G$17,IF(AND(#REF!=\"Diferenciado\",$I$4=#REF!),BDI!$H$17,IF(#REF!=\"ZERO\",0))))),\"\")","v":{"$error":"#REF!"}},"",""]
["SF-00419","Fechadura para porta de divisória – LaFonte","Material","un",0,"","",{"$f":"IF(A424<>\"\",IF(AND(#REF!=\"Padrão\",$I$4=#REF!),BDI!$B$17,IF(AND(#REF!=\"Padrão\",$I$4=#REF!),BDI!$C$17,IF(AND(#REF!=\"Diferenciado\",$I$4=#REF!),BDI!$G$17,IF(AND(#REF!=\"Diferenciado\",$I$4=#REF!),BDI!$H$17,IF(#REF!=\"ZERO\",0))))),\"\")","v":{"$error":"#REF!"}},"",""]
["SF-00420","Fechadura para Porta de divisória - Lockwell","Material","un",0,"","",{"$f":"IF(A425<>\"\",IF(AND(#REF!=\"Padrão\",$I$4=#REF!),BDI!$B$17,IF(AND(#REF!=\"Padrão\",$I$4=#REF!),BDI!$C$17,IF(AND(#REF!=\"Diferenciado\",$I$4=#REF!),BDI!$G$17,IF(AND(#REF!=\"Diferenciado\",$I$4=#REF!),BDI!$H$17,IF(#REF!=\"ZERO\",0))))),\"\")","v":{"$error":"#REF!"}},"",""]
["SF-00421","Fechadura para Vitrine de 140 mm","Material","un",0,"","",{"$f":"IF(A426<>\"\",IF(AND(#REF!=\"Padrão\",$I$4=#REF!),BDI!$B$17,IF(AND(#REF!=\"Padrão\",$I$4=#REF!),BDI!$C$17,IF(AND(#REF!=\"Diferenciado\",$I$4=#REF!),BDI!$G$17,IF(AND(#REF!=\"Diferenciado\",$I$4=#REF!),BDI!$H$17,IF(#REF!=\"ZERO\",0))))),\"\")","v":{"$error":"#REF!"}},"",""]
["SF-00422","Fecho para porta de armário – Tipo Gangorra – 75 mm","Material","un",0,"","",{"$f":"IF(A427<>\"\",IF(AND(#REF!=\"Padrão\",$I$4=#REF!),BDI!$B$17,IF(AND(#REF!=\"Padrão\",$I$4=#REF!),BDI!$C$17,IF(AND(#REF!=\"Diferenciado\",$I$4=#REF!),BDI!$G$17,IF(AND(#REF!=\"Diferenciado\",$I$4=#REF!),BDI!$H$17,IF(#REF!=\"ZERO\",0))))),\"\")","v":{"$error":"#REF!"}},"",""]
["SF-00423","Fecho para porta de armário – Tipo Gangorra – 130 mm","Material","un",0,"","",{"$f":"IF(A428<>\"\",IF(AND(#REF!=\"Padrão\",$I$4=#REF!),BDI!$B$17,IF(AND(#REF!=\"Padrão\",$I$4=#REF!),BDI!$C$17,IF(AND(#REF!=\"Diferenciado\",$I$4=#REF!),BDI!$G$17,IF(AND(#REF!=\"Diferenciado\",$I$4=#REF!),BDI!$H$17,IF(#REF!=\"ZERO\",0))))),\"\")","v":{"$error":"#REF!"}},"",""]
["SF-00424","Fecho de Pressão Tipo Roller","Material","un",0,"","",{"$f":"IF(A429<>\"\",IF(AND(#REF!=\"Padrão\",$I$4=#REF!),BDI!$B$17,IF(AND(#REF!=\"Padrão\",$I$4=#REF!),BDI!$C$17,IF(AND(#REF!=\"Diferenciado\",$I$4=#REF!),BDI!$G$17,IF(AND(#REF!=\"Diferenciado\",$I$4=#REF!),BDI!$H$17,IF(#REF!=\"ZERO\",0))))),\"\")","v":{"$error":"#REF!"}},"",""]
["SF-00425","Fecho Eletromagnético","Material","un",0,"","",{"$f":"IF(A430<>\"\",IF(AND(#REF!=\"Padrão\",$I$4=#REF!),BDI!$B$17,IF(AND(#REF!=\"Padrão\",$I$4=#REF!),BDI!$C$17,IF(AND(#REF!=\"Diferenciado\",$I$4=#REF!),BDI!$G$17,IF(AND(#REF!=\"Diferenciado\",$I$4=#REF!),BDI!$H$17,IF(#REF!=\"ZERO\",0))))),\"\")","v":{"$error":"#REF!"}},"",""]
["SF-00426","Acionador de Fechadura Elétrica","Material","un",0,"","",{"$f":"IF(A431<>\"\",IF(AND(#REF!=\"Padrão\",$I$4=#REF!),BDI!$B$17,IF(AND(#REF!=\"Padrão\",$I$4=#REF!),BDI!$C$17,IF(AND(#REF!=\"Diferenciado\",$I$4=#REF!),BDI!$G$17,IF(AND(#REF!=\"Diferenciado\",$I$4=#REF!),BDI!$H$17,IF(#REF!=\"ZERO\",0))))),\"\")","v":{"$error":"#REF!"}},"",""]
["SF-00427","Puxador em Botão côncavo de 25mm de diâmetro","Material","un",0,"","",{"$f":"IF(A432<>\"\",IF(AND(#REF!=\"Padrão\",$I$4=#REF!),BDI!$B$17,IF(AND(#REF!=\"Padrão\",$I$4=#REF!),BDI!$C$17,IF(AND(#REF!=\"Diferenciado\",$I$4=#REF!),BDI!$G$17,IF(AND(#REF!=\"Diferenciado\",$I$4=#REF!),BDI!$H$17,IF(#REF!=\"ZERO\",0))))),\"\")","v":{"$error":"#REF!"}},"",""]
["SF-00428","Puxador em botão convexo de 25mm de diâmetro","Material","un",0,"","",{"$f":"IF(A433<>\"\",IF(AND(#REF!=\"Padrão\",$I$4=#REF!),BDI!$B$17,IF(AND(#REF!=\"Padrão\",$I$4=#REF!),BDI!$C$17,IF(AND(#REF!=\"Diferenciado\",$I$4=#REF!),BDI!$G$17,IF(AND(#REF!=\"Diferenciado\",$I$4=#REF!),BDI!$H$17,IF(#REF!=\"ZERO\",0))))),\"\")","v":{"$error":"#REF!"}},"",""]
["SF-00429","Corrediça Simples de Roldanas - 250 mm a 300 mm","Material","par",0,"","",{"$f":"IF(A434<>\"\",IF(AND(#REF!=\"Padrão\",$I$4=#REF!),BDI!$B$17,IF(AND(#REF!=\"Padrão\",$I$4=#REF!),BDI!$C$17,IF(AND(#REF!=\"Diferenciado\",$I$4=#REF!),BDI!$G$17,IF(AND(#REF!=\"Diferenciado\",$I$4=#REF!),BDI!$H$17,IF(#REF!=\"ZERO\",0))))),\"\")","v":{"$error":"#REF!"}},"",""]
["SF-00430","Corrediça Simples de Roldanas - 350 mm a 400 mm","Material","par",0,"","",{"$f":"IF(A435<>\"\",IF(AND(#REF!=\"Padrão\",$I$4=#REF!),BDI!$B$17,IF(AND(#REF!=\"Padrão\",$I$4=#REF!),BDI!$C$17,IF(AND(#REF!=\"Diferenciado\",$I$4=#REF!),BDI!$G$17,IF(AND(#REF!=\"Diferenciado\",$I$4=#REF!),BDI!$H$17,IF(#REF!=\"ZERO\",0))))),\"\")","v":{"$error":"#REF!"}},"",""]
["SF-00431","Corrediça Simples de Roldanas - 450 mm a 500 mm","Material","par",0,"","",{"$f":"IF(A436<>\"\",IF(AND(#REF!=\"Padrão\",$I$4=#REF!),BDI!$B$17,IF(AND(#REF!=\"Padrão\",$I$4=#REF!),BDI!$C$17,IF(AND(#REF!=\"Diferenciado\",$I$4=#REF!),BDI!$G$17,IF(AND(#REF!=\"Diferenciado\",$I$4=#REF!),BDI!$H$17,IF(#REF!=\"ZERO\",0))))),\"\")","v":{"$error":"#REF!"}},"",""]
["SF-00432","Corrediça Simples de Roldanas - 550 mm","Material","par",0,"","",{"$f":"IF(A437<>\"\",IF(AND(#REF!=\"Padrão\",$I$4=#REF!),BDI!$B$17,IF(AND(#REF!=\"Padrão\",$I$4=#REF!),BDI!$C$17,IF(AND(#REF!=\"Diferenciado\",$I$4=#REF!),BDI!$G$17,IF(AND(#REF!=\"Diferenciado\",$I$4=#REF!),BDI!$H$17,IF(#REF!=\"ZERO\",0))))),\"\")","v":{"$error":"#REF!"}},"",""]
["SF-00433","Corrediça Telescópica - 300 mm","Material","par",0,"","",{"$f":"IF(A438<>\"\",IF(AND(#REF!=\"Padrão\",$I$4=#REF!),BDI!$B$17,IF(AND(#REF!=\"Padrão\",$I$4=#REF!),BDI!$C$17,IF(AND(#REF!=\"Diferenciado\",$I$4=#REF!),BDI!$G$17,IF(AND(#REF!=\"Diferenciado\",$I$4=#REF!),BDI!$H$17,IF(#REF!=\"ZERO\",0))))),\"\")","v":{"$error":"#REF!"}},"",""]
["SF-00434","Corrediça Telescópica - 400 mm; 450 mm; 500 mm","Material","par",0,"","",{"$f":"IF(A439<>\"\",IF(AND(#REF!=\"Padrão\",$I$4=#REF!),BDI!$B$17,IF(AND(#REF!=\"Padrão\",$I$4=#REF!),BDI!$C$17,IF(AND(#REF!=\"Diferenciado\",$I$4=#REF!),BDI!$G$17,IF(AND(#REF!=\"Diferenciado\",$I$4=#REF!),BDI!$H$17,IF(#REF!=\"ZERO\",0))))),\"\")","v":{"$error":"#REF!"}},"",""]
["SF-00435","Gancho de ferro com rosca – 17 x 50","Material","un",0,"","",{"$f":"IF(A440<>\"\",IF(AND(#REF!=\"Padrão\",$I$4=#REF!),BDI!$B$17,IF(AND(#REF!=\"Padrão\",$I$4=#REF!),BDI!$C$17,IF(AND(#REF!=\"Diferenciado\",$I$4=#REF!),BDI!$G$17,IF(AND(#REF!=\"Diferenciado\",$I$4=#REF!),BDI!$H$17,IF(#REF!=\"ZERO\",0))))),\"\")","v":{"$error":"#REF!"}},"",""]
["SF-00436","Gancho de ferro tipo \"pitão\" com rosca – 21 x 80","Material","un",0,"","",{"$f":"IF(A441<>\"\",IF(AND(#REF!=\"Padrão\",$I$4=#REF!),BDI!$B$17,IF(AND(#REF!=\"Padrão\",$I$4=#REF!),BDI!$C$17,IF(AND(#REF!=\"Diferenciado\",$I$4=#REF!),BDI!$G$17,IF(AND(#REF!=\"Diferenciado\",$I$4=#REF!),BDI!$H$17,IF(#REF!=\"ZERO\",0))))),\"\")","v":{"$error":"#REF!"}},"",""]
["SF-00437","Suporte triangular para quadro - nº 2","Material","un",0,"","",{"$f":"IF(A442<>\"\",IF(AND(#REF!=\"Padrão\",$I$4=#REF!),BDI!$B$17,IF(AND(#REF!=\"Padrão\",$I$4=#REF!),BDI!$C$17,IF(AND(#REF!=\"Diferenciado\",$I$4=#REF!),BDI!$G$17,IF(AND(#REF!=\"Diferenciado\",$I$4=#REF!),BDI!$H$17,IF(#REF!=\"ZERO\",0))))),\"\")","v":{"$error":"#REF!"}},"",""]
["SF-00438","Suporte triangular para quadro - nº 3","Material","un",0,"","",{"$f":"IF(A443<>\"\",IF(AND(#REF!=\"Padrão\",$I$4=#REF!),BDI!$B$17,IF(AND(#REF!=\"Padrão\",$I$4=#REF!),BDI!$C$17,IF(AND(#REF!=\"Diferenciado\",$I$4=#REF!),BDI!$G$17,IF(AND(#REF!=\"Diferenciado\",$I$4=#REF!),BDI!$H$17,IF(#REF!=\"ZERO\",0))))),\"\")","v":{"$error":"#REF!"}},"",""]
["SF-00439","Sapata niveladora para móveis com rosca 3/8\"","Material","un",0,"","",{"$f":"IF(A444<>\"\",IF(AND(#REF!=\"Padrão\",$I$4=#REF!),BDI!$B$17,IF(AND(#REF!=\"Padrão\",$I$4=#REF!),BDI!$C$17,IF(AND(#REF!=\"Diferenciado\",$I$4=#REF!),BDI!$G$17,IF(AND(#REF!=\"Diferenciado\",$I$4=#REF!),BDI!$H$17,IF(#REF!=\"ZERO\",0))))),\"\")","v":{"$error":"#REF!"}},"",""]
["SF-00440","Sapata niveladora para móveis com base de 40 mm","Material","un",0,"","",{"$f":"IF(A445<>\"\",IF(AND(#REF!=\"Padrão\",$I$4=#REF!),BDI!$B$17,IF(AND(#REF!=\"Padrão\",$I$4=#REF!),BDI!$C$17,IF(AND(#REF!=\"Diferenciado\",$I$4=#REF!),BDI!$G$17,IF(AND(#REF!=\"Diferenciado\",$I$4=#REF!),BDI!$H$17,IF(#REF!=\"ZERO\",0))))),\"\")","v":{"$error":"#REF!"}},"",""]
["SF-00441","Sapata niveladora para móveis com base de 60 mm","Material","un",0,"","",{"$f":"IF(A446<>\"\",IF(AND(#REF!=\"Padrão\",$I$4=#REF!),BDI!$B$17,IF(AND(#REF!=\"Padrão\",$I$4=#REF!),BDI!$C$17,IF(AND(#REF!=\"Diferenciado\",$I$4=#REF!),BDI!$G$17,IF(AND(#REF!=\"Diferenciado\",$I$4=#REF!),BDI!$H$17,IF(#REF!=\"ZERO\",0))))),\"\")","v":{"$error":"#REF!"}},"",""]
["SF-00442","Cabide duplo com gancho grande para banheiro","Material","un",0,"","",{"$f":"IF(A447<>\"\",IF(AND(#REF!=\"Padrão\",$I$4=#REF!),BDI!$B$17,IF(AND(#REF!=\"Padrão\",$I$4=#REF!),BDI!$C$17,IF(AND(#REF!=\"Diferenciado\",$I$4=#REF!),BDI!$G$17,IF(AND(#REF!=\"Diferenciado\",$I$4=#REF!),BDI!$H$17,IF(#REF!=\"ZERO\",0))))),\"\")","v":{"$error":"#REF!"}},"",""]
["SF-00443","Puxador alça 102mm","Material","un",0,"","",{"$f":"IF(A448<>\"\",IF(AND(#REF!=\"Padrão\",$I$4=#REF!),BDI!$B$17,IF(AND(#REF!=\"Padrão\",$I$4=#REF!),BDI!$C$17,IF(AND(#REF!=\"Diferenciado\",$I$4=#REF!),BDI!$G$17,IF(AND(#REF!=\"Diferenciado\",$I$4=#REF!),BDI!$H$17,IF(#REF!=\"ZERO\",0))))),\"\")","v":{"$error":"#REF!"}},"",""]
["SF-00444","Puxador tipo “C” em arco - 128mm","Material","un",0,"","",{"$f":"IF(A449<>\"\",IF(AND(#REF!=\"Padrão\",$I$4=#REF!),BDI!$B$17,IF(AND(#REF!=\"Padrão\",$I$4=#REF!),BDI!$C$17,IF(AND(#REF!=\"Diferenciado\",$I$4=#REF!),BDI!$G$17,IF(AND(#REF!=\"Diferenciado\",$I$4=#REF!),BDI!$H$17,IF(#REF!=\"ZERO\",0))))),\"\")","v":{"$error":"#REF!"}},"",""]
["SF-00445","Puxador tipo “C” em arco - 96mm","Material","un",0,"","",{"$f":"IF(A450<>\"\",IF(AND(#REF!=\"Padrão\",$I$4=#REF!),BDI!$B$17,IF(AND(#REF!=\"Padrão\",$I$4=#REF!),BDI!$C$17,IF(AND(#REF!=\"Diferenciado\",$I$4=#REF!),BDI!$G$17,IF(AND(#REF!=\"Diferenciado\",$I$4=#REF!),BDI!$H$17,IF(#REF!=\"ZERO\",0))))),\"\")","v":{"$error":"#REF!"}},"",""]
["SF-00446","Bucha para Gesso K 54","Material","un",0,"","",{"$f":"IF(A451<>\"\",IF(AND(#REF!=\"Padrão\",$I$4=#REF!),BDI!$B$17,IF(AND(#REF!=\"Padrão\",$I$4=#REF!),BDI!$C$17,IF(AND(#REF!=\"Diferenciado\",$I$4=#REF!),BDI!$G$17,IF(AND(#REF!=\"Diferenciado\",$I$4=#REF!),BDI!$H$17,IF(#REF!=\"ZERO\",0))))),\"\")","v":{"$error":"#REF!"}},"",""]
["SF-00447","Alavanca curva com argola para basculante com cavalete – Direita ou Esquerda","Material","un",0,"","",{"$f":"IF(A452<>\"\",IF(AND(#REF!=\"Padrão\",$I$4=#REF!),BDI!$B$17,IF(AND(#REF!=\"Padrão\",$I$4=#REF!),BDI!$C$17,IF(AND(#REF!=\"Diferenciado\",$I$4=#REF!),BDI!$G$17,IF(AND(#REF!=\"Diferenciado\",$I$4=#REF!),BDI!$H$17,IF(#REF!=\"ZERO\",0))))),\"\")","v":{"$error":"#REF!"}},"",""]
["SF-00448","Alavanca reta (chata) com argola para basculante com cavalete","Material","un",0,"","",{"$f":"IF(A453<>\"\",IF(AND(#REF!=\"Padrão\",$I$4=#REF!),BDI!$B$17,IF(AND(#REF!=\"Padrão\",$I$4=#REF!),BDI!$C$17,IF(AND(#REF!=\"Diferenciado\",$I$4=#REF!),BDI!$G$17,IF(AND(#REF!=\"Diferenciado\",$I$4=#REF!),BDI!$H$17,IF(#REF!=\"ZERO\",0))))),\"\")","v":{"$error":"#REF!"}},"",""]
["SF-00449","Fecho maximar alavanca 100mm cromado","Material","un",0,"","",{"$f":"IF(A454<>\"\",IF(AND(#REF!=\"Padrão\",$I$4=#REF!),BDI!$B$17,IF(AND(#REF!=\"Padrão\",$I$4=#REF!),BDI!$C$17,IF(AND(#REF!=\"Diferenciado\",$I$4=#REF!),BDI!$G$17,IF(AND(#REF!=\"Diferenciado\",$I$4=#REF!),BDI!$H$17,IF(#REF!=\"ZERO\",0))))),\"\")","v":{"$error":"#REF!"}},"",""]
["SF-00450","Gonzo com aba 1”","Material","un",0,"",{"$f":"IF(ISNUMBER(F455),ROUND(E455*F455,2),\"\")","v":""},{"$f":"IF(A455<>\"\",IF(AND(#REF!=\"Padrão\",$I$4=#REF!),BDI!$B$17,IF(AND(#REF!=\"Padrão\",$I$4=#REF!),BDI!$C$17,IF(AND(#REF!=\"Diferenciado\",$I$4=#REF!),BDI!$G$17,IF(AND(#REF!=\"Diferenciado\",$I$4=#REF!),BDI!$H$17,IF(#REF!=\"ZERO\",0))))),\"\")","v":{"$error":"#REF!"}},{"$f":"IF(ISNUMBER(F455),ROUND(F455*(1+H455),2),\"\")","v":""},{"$f":"IF(ISNUMBER(F455),ROUND(I455*E455,2),\"\")","v":""}]
["SF-00451","Gonzo com aba 3/4\"","Material","un",0,"","",{"$f":"IF(A456<>\"\",IF(AND(#REF!=\"Padrão\",$I$4=#REF!),BDI!$B$17,IF(AND(#REF!=\"Padrão\",$I$4=#REF!),BDI!$C$17,IF(AND(#REF!=\"Diferenciado\",$I$4=#REF!),BDI!$G$17,IF(AND(#REF!=\"Diferenciado\",$I$4=#REF!),BDI!$H$17,IF(#REF!=\"ZERO\",0))))),\"\")","v":{"$error":"#REF!"}},"",""]
["SF-00452","Gonzo com aba 7/8\"","Material","un",0,"","",{"$f":"IF(A457<>\"\",IF(AND(#REF!=\"Padrão\",$I$4=#REF!),BDI!$B$17,IF(AND(#REF!=\"Padrão\",$I$4=#REF!),BDI!$C$17,IF(AND(#REF!=\"Diferenciado\",$I$4=#REF!),BDI!$G$17,IF(AND(#REF!=\"Diferenciado\",$I$4=#REF!),BDI!$H$17,IF(#REF!=\"ZERO\",0))))),\"\")","v":{"$error":"#REF!"}},"",""]
["SF-00453","Gonzo sem aba 1\"","Material","un",0,"","",{"$f":"IF(A458<>\"\",IF(AND(#REF!=\"Padrão\",$I$4=#REF!),BDI!$B$17,IF(AND(#REF!=\"Padrão\",$I$4=#REF!),BDI!$C$17,IF(AND(#REF!=\"Diferenciado\",$I$4=#REF!),BDI!$G$17,IF(AND(#REF!=\"Diferenciado\",$I$4=#REF!),BDI!$H$17,IF(#REF!=\"ZERO\",0))))),\"\")","v":{"$error":"#REF!"}},"",""]
["SF-00454","Gonzo sem aba 3/4\"","Material","un",0,"","",{"$f":"IF(A459<>\"\",IF(AND(#REF!=\"Padrão\",$I$4=#REF!),BDI!$B$17,IF(AND(#REF!=\"Padrão\",$I$4=#REF!),BDI!$C$17,IF(AND(#REF!=\"Diferenciado\",$I$4=#REF!),BDI!$G$17,IF(AND(#REF!=\"Diferenciado\",$I$4=#REF!),BDI!$H$17,IF(#REF!=\"ZERO\",0))))),\"\")","v":{"$error":"#REF!"}},"",""]
["SF-00455","Gonzo sem aba 7/8\"","Material","un",0,"","",{"$f":"IF(A460<>\"\",IF(AND(#REF!=\"Padrão\",$I$4=#REF!),BDI!$B$17,IF(AND(#REF!=\"Padrão\",$I$4=#REF!),BDI!$C$17,IF(AND(#REF!=\"Diferenciado\",$I$4=#REF!),BDI!$G$17,IF(AND(#REF!=\"Diferenciado\",$I$4=#REF!),BDI!$H$17,IF(#REF!=\"ZERO\",0))))),\"\")","v":{"$error":"#REF!"}},"",""]
["SF-00456","Roldana em aço tipo Canal em (V) com eixo furado e 2 rolamentos (medidas: 2 1/2\" x 50mm ou 2 1/2\" x 70mm)","Material","un",0,"","",{"$f":"IF(A461<>\"\",IF(AND(#REF!=\"Padrão\",$I$4=#REF!),BDI!$B$17,IF(AND(#REF!=\"Padrão\",$I$4=#REF!),BDI!$C$17,IF(AND(#REF!=\"Diferenciado\",$I$4=#REF!),BDI!$G$17,IF(AND(#REF!=\"Diferenciado\",$I$4=#REF!),BDI!$H$17,IF(#REF!=\"ZERO\",0))))),\"\")","v":{"$error":"#REF!"}},"",""]
["SF-00457","Roldana em aço tipo Canal em (V) com eixo furado e 2 rolamentos  (medidas: 3” x 50mm ou 3 1/2\" x 50mm ou 3 1/2\" x 70mm)","Material","un",0,"","",{"$f":"IF(A462<>\"\",IF(AND(#REF!=\"Padrão\",$I$4=#REF!),BDI!$B$17,IF(AND(#REF!=\"Padrão\",$I$4=#REF!),BDI!$C$17,IF(AND(#REF!=\"Diferenciado\",$I$4=#REF!),BDI!$G$17,IF(AND(#REF!=\"Diferenciado\",$I$4=#REF!),BDI!$H$17,IF(#REF!=\"ZERO\",0))))),\"\")","v":{"$error":"#REF!"}},"",""]
["SF-00458","Mancal Pedestal","Material","un",0,"","",{"$f":"IF(A463<>\"\",IF(AND(#REF!=\"Padrão\",$I$4=#REF!),BDI!$B$17,IF(AND(#REF!=\"Padrão\",$I$4=#REF!),BDI!$C$17,IF(AND(#REF!=\"Diferenciado\",$I$4=#REF!),BDI!$G$17,IF(AND(#REF!=\"Diferenciado\",$I$4=#REF!),BDI!$H$17,IF(#REF!=\"ZERO\",0))))),\"\")","v":{"$error":"#REF!"}},"",""]
["SF-00459","Rolamento rígido de esfera","Material","un",0,"","",{"$f":"IF(A464<>\"\",IF(AND(#REF!=\"Padrão\",$I$4=#REF!),BDI!$B$17,IF(AND(#REF!=\"Padrão\",$I$4=#REF!),BDI!$C$17,IF(AND(#REF!=\"Diferenciado\",$I$4=#REF!),BDI!$G$17,IF(AND(#REF!=\"Diferenciado\",$I$4=#REF!),BDI!$H$17,IF(#REF!=\"ZERO\",0))))),\"\")","v":{"$error":"#REF!"}},"",""]
["SF-00460","Fixador trava porta de piso niquelado","Material","un",0,"","",{"$f":"IF(A465<>\"\",IF(AND(#REF!=\"Padrão\",$I$4=#REF!),BDI!$B$17,IF(AND(#REF!=\"Padrão\",$I$4=#REF!),BDI!$C$17,IF(AND(#REF!=\"Diferenciado\",$I$4=#REF!),BDI!$G$17,IF(AND(#REF!=\"Diferenciado\",$I$4=#REF!),BDI!$H$17,IF(#REF!=\"ZERO\",0))))),\"\")","v":{"$error":"#REF!"}},"",""]
["SF-00461","Batedor de porta cilíndrico de 25mmx25mm","Material","un",0,"","",{"$f":"IF(A466<>\"\",IF(AND(#REF!=\"Padrão\",$I$4=#REF!),BDI!$B$17,IF(AND(#REF!=\"Padrão\",$I$4=#REF!),BDI!$C$17,IF(AND(#REF!=\"Diferenciado\",$I$4=#REF!),BDI!$G$17,IF(AND(#REF!=\"Diferenciado\",$I$4=#REF!),BDI!$H$17,IF(#REF!=\"ZERO\",0))))),\"\")","v":{"$error":"#REF!"}},"",""]
["SF-00462","Porta cadeado de 4 1/2\"","Material","un",0,"","",{"$f":"IF(A467<>\"\",IF(AND(#REF!=\"Padrão\",$I$4=#REF!),BDI!$B$17,IF(AND(#REF!=\"Padrão\",$I$4=#REF!),BDI!$C$17,IF(AND(#REF!=\"Diferenciado\",$I$4=#REF!),BDI!$G$17,IF(AND(#REF!=\"Diferenciado\",$I$4=#REF!),BDI!$H$17,IF(#REF!=\"ZERO\",0))))),\"\")","v":{"$error":"#REF!"}},"",""]
["SF-00463","Porta Cadeado de 4”","Material","un",0,"","",{"$f":"IF(A468<>\"\",IF(AND(#REF!=\"Padrão\",$I$4=#REF!),BDI!$B$17,IF(AND(#REF!=\"Padrão\",$I$4=#REF!),BDI!$C$17,IF(AND(#REF!=\"Diferenciado\",$I$4=#REF!),BDI!$G$17,IF(AND(#REF!=\"Diferenciado\",$I$4=#REF!),BDI!$H$17,IF(#REF!=\"ZERO\",0))))),\"\")","v":{"$error":"#REF!"}},"",""]
["SF-00464","Suporte para mesa dobrável","Material","un",0,"","",{"$f":"IF(A469<>\"\",IF(AND(#REF!=\"Padrão\",$I$4=#REF!),BDI!$B$17,IF(AND(#REF!=\"Padrão\",$I$4=#REF!),BDI!$C$17,IF(AND(#REF!=\"Diferenciado\",$I$4=#REF!),BDI!$G$17,IF(AND(#REF!=\"Diferenciado\",$I$4=#REF!),BDI!$H$17,IF(#REF!=\"ZERO\",0))))),\"\")","v":{"$error":"#REF!"}},"",""]
["SF-00465","Suporte universal fixo de parede para TV","Material","un",0,"","",{"$f":"IF(A470<>\"\",IF(AND(#REF!=\"Padrão\",$I$4=#REF!),BDI!$B$17,IF(AND(#REF!=\"Padrão\",$I$4=#REF!),BDI!$C$17,IF(AND(#REF!=\"Diferenciado\",$I$4=#REF!),BDI!$G$17,IF(AND(#REF!=\"Diferenciado\",$I$4=#REF!),BDI!$H$17,IF(#REF!=\"ZERO\",0))))),\"\")","v":{"$error":"#REF!"}},"",""]
["SF-00466","Mola aérea hidráulica automática para portas","Material","un",0,"","",{"$f":"IF(A471<>\"\",IF(AND(#REF!=\"Padrão\",$I$4=#REF!),BDI!$B$17,IF(AND(#REF!=\"Padrão\",$I$4=#REF!),BDI!$C$17,IF(AND(#REF!=\"Diferenciado\",$I$4=#REF!),BDI!$G$17,IF(AND(#REF!=\"Diferenciado\",$I$4=#REF!),BDI!$H$17,IF(#REF!=\"ZERO\",0))))),\"\")","v":{"$error":"#REF!"}},"",""]
["SF-00467","Espuma Expansiva à base de poliuretano","Material","500 ml",0,{"$f":"OFFSET(INDEX(Composições!A:J,MATCH(Orçamentária!A472,Composições!A:A,0),8),2,0)","v":21.375},0,{"$f":"IF(A472<>\"\",IF(AND(#REF!=\"Padrão\",$I$4=#REF!),BDI!$B$17,IF(AND(#REF!=\"Padrão\",$I$4=#REF!),BDI!$C$17,IF(AND(#REF!=\"Diferenciado\",$I$4=#REF!),BDI!$G$17,IF(AND(#REF!=\"Diferenciado\",$I$4=#REF!),BDI!$H$17,IF(#REF!=\"ZERO\",0))))),\"\")","v":{"$error":"#REF!"}},{"$error":"#REF!"},{"$error":"#REF!"}]
["SF-00468","Adesivo de Contato à Base d’água","Material","kg",0,"","",{"$f":"IF(A473<>\"\",IF(AND(#REF!=\"Padrão\",$I$4=#REF!),BDI!$B$17,IF(AND(#REF!=\"Padrão\",$I$4=#REF!),BDI!$C$17,IF(AND(#REF!=\"Diferenciado\",$I$4=#REF!),BDI!$G$17,IF(AND(#REF!=\"Diferenciado\",$I$4=#REF!),BDI!$H$17,IF(#REF!=\"ZERO\",0))))),\"\")","v":{"$error":"#REF!"}},"",""]
["SF-00469","Adesivo de Contato de Alto Desempenho sem Toluol","Material","kg",0,"","",{"$f":"IF(A474<>\"\",IF(AND(#REF!=\"Padrão\",$I$4=#REF!),BDI!$B$17,IF(AND(#REF!=\"Padrão\",$I$4=#REF!),BDI!$C$17,IF(AND(#REF!=\"Diferenciado\",$I$4=#REF!),BDI!$G$17,IF(AND(#REF!=\"Diferenciado\",$I$4=#REF!),BDI!$H$17,IF(#REF!=\"ZERO\",0))))),\"\")","v":{"$error":"#REF!"}},"",""]
["SF-00470","Laminado fenólico melamínico texturizado - Azul Noturno","Material","m2",0,"","",{"$f":"IF(A475<>\"\",IF(AND(#REF!=\"Padrão\",$I$4=#REF!),BDI!$B$17,IF(AND(#REF!=\"Padrão\",$I$4=#REF!),BDI!$C$17,IF(AND(#REF!=\"Diferenciado\",$I$4=#REF!),BDI!$G$17,IF(AND(#REF!=\"Diferenciado\",$I$4=#REF!),BDI!$H$17,IF(#REF!=\"ZERO\",0))))),\"\")","v":{"$error":"#REF!"}},"",""]
["SF-00471","Laminado fenólico melamínico texturizado - Branco","Material","m2",0,"","",{"$f":"IF(A476<>\"\",IF(AND(#REF!=\"Padrão\",$I$4=#REF!),BDI!$B$17,IF(AND(#REF!=\"Padrão\",$I$4=#REF!),BDI!$C$17,IF(AND(#REF!=\"Diferenciado\",$I$4=#REF!),BDI!$G$17,IF(AND(#REF!=\"Diferenciado\",$I$4=#REF!),BDI!$H$17,IF(#REF!=\"ZERO\",0))))),\"\")","v":{"$error":"#REF!"}},"",""]
["SF-00472","Laminado fenólico melamínico texturizado - Ovo","Material","m2",0,"","",{"$f":"IF(A477<>\"\",IF(AND(#REF!=\"Padrão\",$I$4=#REF!),BDI!$B$17,IF(AND(#REF!=\"Padrão\",$I$4=#REF!),BDI!$C$17,IF(AND(#REF!=\"Diferenciado\",$I$4=#REF!),BDI!$G$17,IF(AND(#REF!=\"Diferenciado\",$I$4=#REF!),BDI!$H$17,IF(#REF!=\"ZERO\",0))))),\"\")","v":{"$error":"#REF!"}},"",""]
["SF-00473","Lâmina de Madeira - Mogno","Material","m2",0,"","",{"$f":"IF(A478<>\"\",IF(AND(#REF!=\"Padrão\",$I$4=#REF!),BDI!$B$17,IF(AND(#REF!=\"Padrão\",$I$4=#REF!),BDI!$C$17,IF(AND(#REF!=\"Diferenciado\",$I$4=#REF!),BDI!$G$17,IF(AND(#REF!=\"Diferenciado\",$I$4=#REF!),BDI!$H$17,IF(#REF!=\"ZERO\",0))))),\"\")","v":{"$error":"#REF!"}},"",""]
["SF-00474","Lâmina de Madeira - Marfim","Material","m2",0,"","",{"$f":"IF(A479<>\"\",IF(AND(#REF!=\"Padrão\",$I$4=#REF!),BDI!$B$17,IF(AND(#REF!=\"Padrão\",$I$4=#REF!),BDI!$C$17,IF(AND(#REF!=\"Diferenciado\",$I$4=#REF!),BDI!$G$17,IF(AND(#REF!=\"Diferenciado\",$I$4=#REF!),BDI!$H$17,IF(#REF!=\"ZERO\",0))))),\"\")","v":{"$error":"#REF!"}},"",""]
["SF-00475","Lâmina de Madeira - Cerejeira","Material","m2",0,"","",{"$f":"IF(A480<>\"\",IF(AND(#REF!=\"Padrão\",$I$4=#REF!),BDI!$B$17,IF(AND(#REF!=\"Padrão\",$I$4=#REF!),BDI!$C$17,IF(AND(#REF!=\"Diferenciado\",$I$4=#REF!),BDI!$G$17,IF(AND(#REF!=\"Diferenciado\",$I$4=#REF!),BDI!$H$17,IF(#REF!=\"ZERO\",0))))),\"\")","v":{"$error":"#REF!"}},"",""]
["SF-00476","Compensado laminado comum - 04 mm","Material","m2",0,"","",{"$f":"IF(A481<>\"\",IF(AND(#REF!=\"Padrão\",$I$4=#REF!),BDI!$B$17,IF(AND(#REF!=\"Padrão\",$I$4=#REF!),BDI!$C$17,IF(AND(#REF!=\"Diferenciado\",$I$4=#REF!),BDI!$G$17,IF(AND(#REF!=\"Diferenciado\",$I$4=#REF!),BDI!$H$17,IF(#REF!=\"ZERO\",0))))),\"\")","v":{"$error":"#REF!"}},"",""]
["SF-00477","Compensado laminado comum - 06 mm","Material","m2",0,"","",{"$f":"IF(A482<>\"\",IF(AND(#REF!=\"Padrão\",$I$4=#REF!),BDI!$B$17,IF(AND(#REF!=\"Padrão\",$I$4=#REF!),BDI!$C$17,IF(AND(#REF!=\"Diferenciado\",$I$4=#REF!),BDI!$G$17,IF(AND(#REF!=\"Diferenciado\",$I$4=#REF!),BDI!$H$17,IF(#REF!=\"ZERO\",0))))),\"\")","v":{"$error":"#REF!"}},"",""]
["SF-00478","Compensado laminado comum - 10 mm","Material","m2",0,"","",{"$f":"IF(A483<>\"\",IF(AND(#REF!=\"Padrão\",$I$4=#REF!),BDI!$B$17,IF(AND(#REF!=\"Padrão\",$I$4=#REF!),BDI!$C$17,IF(AND(#REF!=\"Diferenciado\",$I$4=#REF!),BDI!$G$17,IF(AND(#REF!=\"Diferenciado\",$I$4=#REF!),BDI!$H$17,IF(#REF!=\"ZERO\",0))))),\"\")","v":{"$error":"#REF!"}},"",""]
["SF-00479","Compensado laminado comum - 15 mm","Material","m2",0,"","",{"$f":"IF(A484<>\"\",IF(AND(#REF!=\"Padrão\",$I$4=#REF!),BDI!$B$17,IF(AND(#REF!=\"Padrão\",$I$4=#REF!),BDI!$C$17,IF(AND(#REF!=\"Diferenciado\",$I$4=#REF!),BDI!$G$17,IF(AND(#REF!=\"Diferenciado\",$I$4=#REF!),BDI!$H$17,IF(#REF!=\"ZERO\",0))))),\"\")","v":{"$error":"#REF!"}},"",""]
["SF-00480","Compensado laminado comum - 20 mm","Material","m2",0,"","",{"$f":"IF(A485<>\"\",IF(AND(#REF!=\"Padrão\",$I$4=#REF!),BDI!$B$17,IF(AND(#REF!=\"Padrão\",$I$4=#REF!),BDI!$C$17,IF(AND(#REF!=\"Diferenciado\",$I$4=#REF!),BDI!$G$17,IF(AND(#REF!=\"Diferenciado\",$I$4=#REF!),BDI!$H$17,IF(#REF!=\"ZERO\",0))))),\"\")","v":{"$error":"#REF!"}},"",""]
["SF-00481","Compensado Laminado de cerejeira em duas faces - 04 mm","Material","m2",0,"","",{"$f":"IF(A486<>\"\",IF(AND(#REF!=\"Padrão\",$I$4=#REF!),BDI!$B$17,IF(AND(#REF!=\"Padrão\",$I$4=#REF!),BDI!$C$17,IF(AND(#REF!=\"Diferenciado\",$I$4=#REF!),BDI!$G$17,IF(AND(#REF!=\"Diferenciado\",$I$4=#REF!),BDI!$H$17,IF(#REF!=\"ZERO\",0))))),\"\")","v":{"$error":"#REF!"}},"",""]
["SF-00482","Compensado Laminado de cerejeira em duas faces - 10 mm","Material","m2",0,"","",{"$f":"IF(A487<>\"\",IF(AND(#REF!=\"Padrão\",$I$4=#REF!),BDI!$B$17,IF(AND(#REF!=\"Padrão\",$I$4=#REF!),BDI!$C$17,IF(AND(#REF!=\"Diferenciado\",$I$4=#REF!),BDI!$G$17,IF(AND(#REF!=\"Diferenciado\",$I$4=#REF!),BDI!$H$17,IF(#REF!=\"ZERO\",0))))),\"\")","v":{"$error":"#REF!"}},"",""]
["SF-00483","Compensado Laminado de cerejeira em duas faces - 15 mm","Material","m2",0,"","",{"$f":"IF(A488<>\"\",IF(AND(#REF!=\"Padrão\",$I$4=#REF!),BDI!$B$17,IF(AND(#REF!=\"Padrão\",$I$4=#REF!),BDI!$C$17,IF(AND(#REF!=\"Diferenciado\",$I$4=#REF!),BDI!$G$17,IF(AND(#REF!=\"Diferenciado\",$I$4=#REF!),BDI!$H$17,IF(#REF!=\"ZERO\",0))))),\"\")","v":{"$error":"#REF!"}},"",""]
["SF-00484","Compensado Laminado de cerejeira em duas faces - 20 mm","Material","m2",0,"","",{"$f":"IF(A489<>\"\",IF(AND(#REF!=\"Padrão\",$I$4=#REF!),BDI!$B$17,IF(AND(#REF!=\"Padrão\",$I$4=#REF!),BDI!$C$17,IF(AND(#REF!=\"Diferenciado\",$I$4=#REF!),BDI!$G$17,IF(AND(#REF!=\"Diferenciado\",$I$4=#REF!),BDI!$H$17,IF(#REF!=\"ZERO\",0))))),\"\")","v":{"$error":"#REF!"}},"",""]
["SF-00485","Compensado Resinado – 10 mm","Material","m2",0,"","",{"$f":"IF(A490<>\"\",IF(AND(#REF!=\"Padrão\",$I$4=#REF!),BDI!$B$17,IF(AND(#REF!=\"Padrão\",$I$4=#REF!),BDI!$C$17,IF(AND(#REF!=\"Diferenciado\",$I$4=#REF!),BDI!$G$17,IF(AND(#REF!=\"Diferenciado\",$I$4=#REF!),BDI!$H$17,IF(#REF!=\"ZERO\",0))))),\"\")","v":{"$error":"#REF!"}},"",""]
["SF-00486","Tábua de madeira bruta certificada e aparelhada - Cedrinho","Material","m3",0,"","",{"$f":"IF(A491<>\"\",IF(AND(#REF!=\"Padrão\",$I$4=#REF!),BDI!$B$17,IF(AND(#REF!=\"Padrão\",$I$4=#REF!),BDI!$C$17,IF(AND(#REF!=\"Diferenciado\",$I$4=#REF!),BDI!$G$17,IF(AND(#REF!=\"Diferenciado\",$I$4=#REF!),BDI!$H$17,IF(#REF!=\"ZERO\",0))))),\"\")","v":{"$error":"#REF!"}},"",""]
["SF-00487","Tábua de madeira bruta certificada e aparelhada - Freijó","Material","m3",0,"","",{"$f":"IF(A492<>\"\",IF(AND(#REF!=\"Padrão\",$I$4=#REF!),BDI!$B$17,IF(AND(#REF!=\"Padrão\",$I$4=#REF!),BDI!$C$17,IF(AND(#REF!=\"Diferenciado\",$I$4=#REF!),BDI!$G$17,IF(AND(#REF!=\"Diferenciado\",$I$4=#REF!),BDI!$H$17,IF(#REF!=\"ZERO\",0))))),\"\")","v":{"$error":"#REF!"}},"",""]
["SF-00488","Tábua de madeira bruta certificada e aparelhada - Cedro","Material","m3",0,"","",{"$f":"IF(A493<>\"\",IF(AND(#REF!=\"Padrão\",$I$4=#REF!),BDI!$B$17,IF(AND(#REF!=\"Padrão\",$I$4=#REF!),BDI!$C$17,IF(AND(#REF!=\"Diferenciado\",$I$4=#REF!),BDI!$G$17,IF(AND(#REF!=\"Diferenciado\",$I$4=#REF!),BDI!$H$17,IF(#REF!=\"ZERO\",0))))),\"\")","v":{"$error":"#REF!"}},"",""]
["SF-00489","Tábua de Madeira bruta aparelhada - Pinus","Material","m3",0,"","",{"$f":"IF(A494<>\"\",IF(AND(#REF!=\"Padrão\",$I$4=#REF!),BDI!$B$17,IF(AND(#REF!=\"Padrão\",$I$4=#REF!),BDI!$C$17,IF(AND(#REF!=\"Diferenciado\",$I$4=#REF!),BDI!$G$17,IF(AND(#REF!=\"Diferenciado\",$I$4=#REF!),BDI!$H$17,IF(#REF!=\"ZERO\",0))))),\"\")","v":{"$error":"#REF!"}},"",""]
["SF-00490","Sarrafo De Madeira","Material","m",0,"","",{"$f":"IF(A495<>\"\",IF(AND(#REF!=\"Padrão\",$I$4=#REF!),BDI!$B$17,IF(AND(#REF!=\"Padrão\",$I$4=#REF!),BDI!$C$17,IF(AND(#REF!=\"Diferenciado\",$I$4=#REF!),BDI!$G$17,IF(AND(#REF!=\"Diferenciado\",$I$4=#REF!),BDI!$H$17,IF(#REF!=\"ZERO\",0))))),\"\")","v":{"$error":"#REF!"}},"",""]
["SF-00491","Caibro De Madeira","Material","m",0,"","",{"$f":"IF(A496<>\"\",IF(AND(#REF!=\"Padrão\",$I$4=#REF!),BDI!$B$17,IF(AND(#REF!=\"Padrão\",$I$4=#REF!),BDI!$C$17,IF(AND(#REF!=\"Diferenciado\",$I$4=#REF!),BDI!$G$17,IF(AND(#REF!=\"Diferenciado\",$I$4=#REF!),BDI!$H$17,IF(#REF!=\"ZERO\",0))))),\"\")","v":{"$error":"#REF!"}},"",""]
["SF-00492","Pontalete De Madeira","Material","m",0,"","",{"$f":"IF(A497<>\"\",IF(AND(#REF!=\"Padrão\",$I$4=#REF!),BDI!$B$17,IF(AND(#REF!=\"Padrão\",$I$4=#REF!),BDI!$C$17,IF(AND(#REF!=\"Diferenciado\",$I$4=#REF!),BDI!$G$17,IF(AND(#REF!=\"Diferenciado\",$I$4=#REF!),BDI!$H$17,IF(#REF!=\"ZERO\",0))))),\"\")","v":{"$error":"#REF!"}},"",""]
["SF-00493","Ripa De Madeira","Material","m",0,"","",{"$f":"IF(A498<>\"\",IF(AND(#REF!=\"Padrão\",$I$4=#REF!),BDI!$B$17,IF(AND(#REF!=\"Padrão\",$I$4=#REF!),BDI!$C$17,IF(AND(#REF!=\"Diferenciado\",$I$4=#REF!),BDI!$G$17,IF(AND(#REF!=\"Diferenciado\",$I$4=#REF!),BDI!$H$17,IF(#REF!=\"ZERO\",0))))),\"\")","v":{"$error":"#REF!"}},"",""]
["SF-00494","Painel de MDF Laminado – Branco - 06mm","Material","m2",0,"","",{"$f":"IF(A499<>\"\",IF(AND(#REF!=\"Padrão\",$I$4=#REF!),BDI!$B$17,IF(AND(#REF!=\"Padrão\",$I$4=#REF!),BDI!$C$17,IF(AND(#REF!=\"Diferenciado\",$I$4=#REF!),BDI!$G$17,IF(AND(#REF!=\"Diferenciado\",$I$4=#REF!),BDI!$H$17,IF(#REF!=\"ZERO\",0))))),\"\")","v":{"$error":"#REF!"}},"",""]
["SF-00495","Painel de MDF Laminado – Ovo - 06mm","Material","m2",0,"","",{"$f":"IF(A500<>\"\",IF(AND(#REF!=\"Padrão\",$I$4=#REF!),BDI!$B$17,IF(AND(#REF!=\"Padrão\",$I$4=#REF!),BDI!$C$17,IF(AND(#REF!=\"Diferenciado\",$I$4=#REF!),BDI!$G$17,IF(AND(#REF!=\"Diferenciado\",$I$4=#REF!),BDI!$H$17,IF(#REF!=\"ZERO\",0))))),\"\")","v":{"$error":"#REF!"}},"",""]
["SF-00496","Painel de MDF Laminado - Branco - 15mm","Material","m2",0,"","",{"$f":"IF(A501<>\"\",IF(AND(#REF!=\"Padrão\",$I$4=#REF!),BDI!$B$17,IF(AND(#REF!=\"Padrão\",$I$4=#REF!),BDI!$C$17,IF(AND(#REF!=\"Diferenciado\",$I$4=#REF!),BDI!$G$17,IF(AND(#REF!=\"Diferenciado\",$I$4=#REF!),BDI!$H$17,IF(#REF!=\"ZERO\",0))))),\"\")","v":{"$error":"#REF!"}},"",""]
["SF-00497","Painel de MDF Laminado – Ovo - 15mm","Material","m2",0,"","",{"$f":"IF(A502<>\"\",IF(AND(#REF!=\"Padrão\",$I$4=#REF!),BDI!$B$17,IF(AND(#REF!=\"Padrão\",$I$4=#REF!),BDI!$C$17,IF(AND(#REF!=\"Diferenciado\",$I$4=#REF!),BDI!$G$17,IF(AND(#REF!=\"Diferenciado\",$I$4=#REF!),BDI!$H$17,IF(#REF!=\"ZERO\",0))))),\"\")","v":{"$error":"#REF!"}},"",""]
["SF-00498","Painel de MDF Laminado – Branco - 18mm","Material","m2",0,"","",{"$f":"IF(A503<>\"\",IF(AND(#REF!=\"Padrão\",$I$4=#REF!),BDI!$B$17,IF(AND(#REF!=\"Padrão\",$I$4=#REF!),BDI!$C$17,IF(AND(#REF!=\"Diferenciado\",$I$4=#REF!),BDI!$G$17,IF(AND(#REF!=\"Diferenciado\",$I$4=#REF!),BDI!$H$17,IF(#REF!=\"ZERO\",0))))),\"\")","v":{"$error":"#REF!"}},"",""]
["SF-00499","Painel de MDF Laminado – Ovo - 18mm","Material","m2",0,"","",{"$f":"IF(A504<>\"\",IF(AND(#REF!=\"Padrão\",$I$4=#REF!),BDI!$B$17,IF(AND(#REF!=\"Padrão\",$I$4=#REF!),BDI!$C$17,IF(AND(#REF!=\"Diferenciado\",$I$4=#REF!),BDI!$G$17,IF(AND(#REF!=\"Diferenciado\",$I$4=#REF!),BDI!$H$17,IF(#REF!=\"ZERO\",0))))),\"\")","v":{"$error":"#REF!"}},"",""]
["SF-00500","Cantoneira laminada em aço abas iguais 1\" x 3/16\"","Material","m",0,"","",{"$f":"IF(A505<>\"\",IF(AND(#REF!=\"Padrão\",$I$4=#REF!),BDI!$B$17,IF(AND(#REF!=\"Padrão\",$I$4=#REF!),BDI!$C$17,IF(AND(#REF!=\"Diferenciado\",$I$4=#REF!),BDI!$G$17,IF(AND(#REF!=\"Diferenciado\",$I$4=#REF!),BDI!$H$17,IF(#REF!=\"ZERO\",0))))),\"\")","v":{"$error":"#REF!"}},"",""]
["SF-00501","Cantoneira laminada em aço abas iguais 1\"1/4 x 3/16\"","Material","m",0,"","",{"$f":"IF(A506<>\"\",IF(AND(#REF!=\"Padrão\",$I$4=#REF!),BDI!$B$17,IF(AND(#REF!=\"Padrão\",$I$4=#REF!),BDI!$C$17,IF(AND(#REF!=\"Diferenciado\",$I$4=#REF!),BDI!$G$17,IF(AND(#REF!=\"Diferenciado\",$I$4=#REF!),BDI!$H$17,IF(#REF!=\"ZERO\",0))))),\"\")","v":{"$error":"#REF!"}},"",""]
["SF-00502","Cantoneira laminada em aço abas iguais 2” x 1/8”","Material","m",0,"","",{"$f":"IF(A507<>\"\",IF(AND(#REF!=\"Padrão\",$I$4=#REF!),BDI!$B$17,IF(AND(#REF!=\"Padrão\",$I$4=#REF!),BDI!$C$17,IF(AND(#REF!=\"Diferenciado\",$I$4=#REF!),BDI!$G$17,IF(AND(#REF!=\"Diferenciado\",$I$4=#REF!),BDI!$H$17,IF(#REF!=\"ZERO\",0))))),\"\")","v":{"$error":"#REF!"}},"",""]
["SF-00503","Cantoneira laminada em aço abas Iguais 2” x 3/16”","Material","m",0,"","",{"$f":"IF(A508<>\"\",IF(AND(#REF!=\"Padrão\",$I$4=#REF!),BDI!$B$17,IF(AND(#REF!=\"Padrão\",$I$4=#REF!),BDI!$C$17,IF(AND(#REF!=\"Diferenciado\",$I$4=#REF!),BDI!$G$17,IF(AND(#REF!=\"Diferenciado\",$I$4=#REF!),BDI!$H$17,IF(#REF!=\"ZERO\",0))))),\"\")","v":{"$error":"#REF!"}},"",""]
["SF-00504","Cantoneira laminada em aço abas Iguais 5/8” x 1/8”","Material","m",0,"","",{"$f":"IF(A509<>\"\",IF(AND(#REF!=\"Padrão\",$I$4=#REF!),BDI!$B$17,IF(AND(#REF!=\"Padrão\",$I$4=#REF!),BDI!$C$17,IF(AND(#REF!=\"Diferenciado\",$I$4=#REF!),BDI!$G$17,IF(AND(#REF!=\"Diferenciado\",$I$4=#REF!),BDI!$H$17,IF(#REF!=\"ZERO\",0))))),\"\")","v":{"$error":"#REF!"}},"",""]
["SF-00505","Chapa aço galvanizado # 16 (kg)","Material","kg",0,"","",{"$f":"IF(A510<>\"\",IF(AND(#REF!=\"Padrão\",$I$4=#REF!),BDI!$B$17,IF(AND(#REF!=\"Padrão\",$I$4=#REF!),BDI!$C$17,IF(AND(#REF!=\"Diferenciado\",$I$4=#REF!),BDI!$G$17,IF(AND(#REF!=\"Diferenciado\",$I$4=#REF!),BDI!$H$17,IF(#REF!=\"ZERO\",0))))),\"\")","v":{"$error":"#REF!"}},"",""]
["SF-00506","Ferro chato 1\"x1/8\"","Material","m",0,"","",{"$f":"IF(A511<>\"\",IF(AND(#REF!=\"Padrão\",$I$4=#REF!),BDI!$B$17,IF(AND(#REF!=\"Padrão\",$I$4=#REF!),BDI!$C$17,IF(AND(#REF!=\"Diferenciado\",$I$4=#REF!),BDI!$G$17,IF(AND(#REF!=\"Diferenciado\",$I$4=#REF!),BDI!$H$17,IF(#REF!=\"ZERO\",0))))),\"\")","v":{"$error":"#REF!"}},"",""]
["SF-00507","Ferro chato 1\"x3/16\"","Material","m",0,"","",{"$f":"IF(A512<>\"\",IF(AND(#REF!=\"Padrão\",$I$4=#REF!),BDI!$B$17,IF(AND(#REF!=\"Padrão\",$I$4=#REF!),BDI!$C$17,IF(AND(#REF!=\"Diferenciado\",$I$4=#REF!),BDI!$G$17,IF(AND(#REF!=\"Diferenciado\",$I$4=#REF!),BDI!$H$17,IF(#REF!=\"ZERO\",0))))),\"\")","v":{"$error":"#REF!"}},"",""]
["SF-00508","Ferro chato  3/4\"x1/4\" ou 7/8\"x1/4\" ou 1” x 1/4”","Material","m",0,"","",{"$f":"IF(A513<>\"\",IF(AND(#REF!=\"Padrão\",$I$4=#REF!),BDI!$B$17,IF(AND(#REF!=\"Padrão\",$I$4=#REF!),BDI!$C$17,IF(AND(#REF!=\"Diferenciado\",$I$4=#REF!),BDI!$G$17,IF(AND(#REF!=\"Diferenciado\",$I$4=#REF!),BDI!$H$17,IF(#REF!=\"ZERO\",0))))),\"\")","v":{"$error":"#REF!"}},"",""]
["SF-00509","Ferro chato 3/4\"x1/8\"","Material","m",0,"","",{"$f":"IF(A514<>\"\",IF(AND(#REF!=\"Padrão\",$I$4=#REF!),BDI!$B$17,IF(AND(#REF!=\"Padrão\",$I$4=#REF!),BDI!$C$17,IF(AND(#REF!=\"Diferenciado\",$I$4=#REF!),BDI!$G$17,IF(AND(#REF!=\"Diferenciado\",$I$4=#REF!),BDI!$H$17,IF(#REF!=\"ZERO\",0))))),\"\")","v":{"$error":"#REF!"}},"",""]
["SF-00510","Ferro chato 3/4\"x3/16\"","Material","m",0,"","",{"$f":"IF(A515<>\"\",IF(AND(#REF!=\"Padrão\",$I$4=#REF!),BDI!$B$17,IF(AND(#REF!=\"Padrão\",$I$4=#REF!),BDI!$C$17,IF(AND(#REF!=\"Diferenciado\",$I$4=#REF!),BDI!$G$17,IF(AND(#REF!=\"Diferenciado\",$I$4=#REF!),BDI!$H$17,IF(#REF!=\"ZERO\",0))))),\"\")","v":{"$error":"#REF!"}},"",""]
["SF-00511","Ferro chato 5/8\"x1/8\"","Material","m",0,"","",{"$f":"IF(A516<>\"\",IF(AND(#REF!=\"Padrão\",$I$4=#REF!),BDI!$B$17,IF(AND(#REF!=\"Padrão\",$I$4=#REF!),BDI!$C$17,IF(AND(#REF!=\"Diferenciado\",$I$4=#REF!),BDI!$G$17,IF(AND(#REF!=\"Diferenciado\",$I$4=#REF!),BDI!$H$17,IF(#REF!=\"ZERO\",0))))),\"\")","v":{"$error":"#REF!"}},"",""]
["SF-00512","Ferro chato 5/8\"x3/16\"","Material","m",0,"","",{"$f":"IF(A517<>\"\",IF(AND(#REF!=\"Padrão\",$I$4=#REF!),BDI!$B$17,IF(AND(#REF!=\"Padrão\",$I$4=#REF!),BDI!$C$17,IF(AND(#REF!=\"Diferenciado\",$I$4=#REF!),BDI!$G$17,IF(AND(#REF!=\"Diferenciado\",$I$4=#REF!),BDI!$H$17,IF(#REF!=\"ZERO\",0))))),\"\")","v":{"$error":"#REF!"}},"",""]
["SF-00513","Ferro chato 7/8\"x1/8\"","Material","m",0,"","",{"$f":"IF(A518<>\"\",IF(AND(#REF!=\"Padrão\",$I$4=#REF!),BDI!$B$17,IF(AND(#REF!=\"Padrão\",$I$4=#REF!),BDI!$C$17,IF(AND(#REF!=\"Diferenciado\",$I$4=#REF!),BDI!$G$17,IF(AND(#REF!=\"Diferenciado\",$I$4=#REF!),BDI!$H$17,IF(#REF!=\"ZERO\",0))))),\"\")","v":{"$error":"#REF!"}},"",""]
["SF-00514","Ferro chato 7/8\"x3/16\"","Material","m",0,"",{"$f":"IF(ISNUMBER(F519),ROUND(E519*F519,2),\"\")","v":""},{"$f":"IF(A519<>\"\",IF(AND(#REF!=\"Padrão\",$I$4=#REF!),BDI!$B$17,IF(AND(#REF!=\"Padrão\",$I$4=#REF!),BDI!$C$17,IF(AND(#REF!=\"Diferenciado\",$I$4=#REF!),BDI!$G$17,IF(AND(#REF!=\"Diferenciado\",$I$4=#REF!),BDI!$H$17,IF(#REF!=\"ZERO\",0))))),\"\")","v":{"$error":"#REF!"}},{"$f":"IF(ISNUMBER(F519),ROUND(F519*(1+H519),2),\"\")","v":""},{"$f":"IF(ISNUMBER(F519),ROUND(I519*E519,2),\"\")","v":""}]
["SF-00515","Perfil trilho Stanley 60mm x 55mm, # 16","Material","m",0,"","",{"$f":"IF(A520<>\"\",IF(AND(#REF!=\"Padrão\",$I$4=#REF!),BDI!$B$17,IF(AND(#REF!=\"Padrão\",$I$4=#REF!),BDI!$C$17,IF(AND(#REF!=\"Diferenciado\",$I$4=#REF!),BDI!$G$17,IF(AND(#REF!=\"Diferenciado\",$I$4=#REF!),BDI!$H$17,IF(#REF!=\"ZERO\",0))))),\"\")","v":{"$error":"#REF!"}},"",""]
["SF-00516","Perfil U Enrijecido 100mm x 50mm x 17mm","Material","m",0,"","",{"$f":"IF(A521<>\"\",IF(AND(#REF!=\"Padrão\",$I$4=#REF!),BDI!$B$17,IF(AND(#REF!=\"Padrão\",$I$4=#REF!),BDI!$C$17,IF(AND(#REF!=\"Diferenciado\",$I$4=#REF!),BDI!$G$17,IF(AND(#REF!=\"Diferenciado\",$I$4=#REF!),BDI!$H$17,IF(#REF!=\"ZERO\",0))))),\"\")","v":{"$error":"#REF!"}},"",""]
["SF-00517","Perfil Cadeirinha Fechada - 85 x 30 mm a 100 x 30 mm","Material","m",0,"","",{"$f":"IF(A522<>\"\",IF(AND(#REF!=\"Padrão\",$I$4=#REF!),BDI!$B$17,IF(AND(#REF!=\"Padrão\",$I$4=#REF!),BDI!$C$17,IF(AND(#REF!=\"Diferenciado\",$I$4=#REF!),BDI!$G$17,IF(AND(#REF!=\"Diferenciado\",$I$4=#REF!),BDI!$H$17,IF(#REF!=\"ZERO\",0))))),\"\")","v":{"$error":"#REF!"}},"",""]
["SF-00518","Perfil Cadeirinha Fechada – 40 x 30 mm a 55 x 30 mm","Material","m",0,"","",{"$f":"IF(A523<>\"\",IF(AND(#REF!=\"Padrão\",$I$4=#REF!),BDI!$B$17,IF(AND(#REF!=\"Padrão\",$I$4=#REF!),BDI!$C$17,IF(AND(#REF!=\"Diferenciado\",$I$4=#REF!),BDI!$G$17,IF(AND(#REF!=\"Diferenciado\",$I$4=#REF!),BDI!$H$17,IF(#REF!=\"ZERO\",0))))),\"\")","v":{"$error":"#REF!"}},"",""]
["SF-00519","Perfil Cadeirinha Aberta – 65 x 30 mm","Material","m",0,"","",{"$f":"IF(A524<>\"\",IF(AND(#REF!=\"Padrão\",$I$4=#REF!),BDI!$B$17,IF(AND(#REF!=\"Padrão\",$I$4=#REF!),BDI!$C$17,IF(AND(#REF!=\"Diferenciado\",$I$4=#REF!),BDI!$G$17,IF(AND(#REF!=\"Diferenciado\",$I$4=#REF!),BDI!$H$17,IF(#REF!=\"ZERO\",0))))),\"\")","v":{"$error":"#REF!"}},"",""]
["SF-00520","Perfil Cadeirinha Aberta – 40 x 30 mm a 55 x 30 mm","Material","m",0,"","",{"$f":"IF(A525<>\"\",IF(AND(#REF!=\"Padrão\",$I$4=#REF!),BDI!$B$17,IF(AND(#REF!=\"Padrão\",$I$4=#REF!),BDI!$C$17,IF(AND(#REF!=\"Diferenciado\",$I$4=#REF!),BDI!$G$17,IF(AND(#REF!=\"Diferenciado\",$I$4=#REF!),BDI!$H$17,IF(#REF!=\"ZERO\",0))))),\"\")","v":{"$error":"#REF!"}},"",""]
["SF-00521","Perfil Cadeirinha Fêmea – 40 x 30 mm","Material","m",0,"","",{"$f":"IF(A526<>\"\",IF(AND(#REF!=\"Padrão\",$I$4=#REF!),BDI!$B$17,IF(AND(#REF!=\"Padrão\",$I$4=#REF!),BDI!$C$17,IF(AND(#REF!=\"Diferenciado\",$I$4=#REF!),BDI!$G$17,IF(AND(#REF!=\"Diferenciado\",$I$4=#REF!),BDI!$H$17,IF(#REF!=\"ZERO\",0))))),\"\")","v":{"$error":"#REF!"}},"",""]
["SF-00522","Perfil Cadeirinha Fechada Máximo Ar – 30 x 30 mm","Material","m",0,"","",{"$f":"IF(A527<>\"\",IF(AND(#REF!=\"Padrão\",$I$4=#REF!),BDI!$B$17,IF(AND(#REF!=\"Padrão\",$I$4=#REF!),BDI!$C$17,IF(AND(#REF!=\"Diferenciado\",$I$4=#REF!),BDI!$G$17,IF(AND(#REF!=\"Diferenciado\",$I$4=#REF!),BDI!$H$17,IF(#REF!=\"ZERO\",0))))),\"\")","v":{"$error":"#REF!"}},"",""]
["SF-00523","Perfil Cadeirinha Engate – Direito ou Esquerdo","Material","m",0,"","",{"$f":"IF(A528<>\"\",IF(AND(#REF!=\"Padrão\",$I$4=#REF!),BDI!$B$17,IF(AND(#REF!=\"Padrão\",$I$4=#REF!),BDI!$C$17,IF(AND(#REF!=\"Diferenciado\",$I$4=#REF!),BDI!$G$17,IF(AND(#REF!=\"Diferenciado\",$I$4=#REF!),BDI!$H$17,IF(#REF!=\"ZERO\",0))))),\"\")","v":{"$error":"#REF!"}},"",""]
["SF-00524","Perfil Cadeirinha Direito – 30 x 30 x 18 mm","Material","m",0,"","",{"$f":"IF(A529<>\"\",IF(AND(#REF!=\"Padrão\",$I$4=#REF!),BDI!$B$17,IF(AND(#REF!=\"Padrão\",$I$4=#REF!),BDI!$C$17,IF(AND(#REF!=\"Diferenciado\",$I$4=#REF!),BDI!$G$17,IF(AND(#REF!=\"Diferenciado\",$I$4=#REF!),BDI!$H$17,IF(#REF!=\"ZERO\",0))))),\"\")","v":{"$error":"#REF!"}},"",""]
["SF-00525","Perfil Cadeirinha Direito – 60 x 25 mm a 60 x 30 mm","Material","m",0,"","",{"$f":"IF(A530<>\"\",IF(AND(#REF!=\"Padrão\",$I$4=#REF!),BDI!$B$17,IF(AND(#REF!=\"Padrão\",$I$4=#REF!),BDI!$C$17,IF(AND(#REF!=\"Diferenciado\",$I$4=#REF!),BDI!$G$17,IF(AND(#REF!=\"Diferenciado\",$I$4=#REF!),BDI!$H$17,IF(#REF!=\"ZERO\",0))))),\"\")","v":{"$error":"#REF!"}},"",""]
["SF-00526","Perfil “T” dobrado Máximo Ar Abas Iguais – 50 x 30 mm a 60 x 30 mm","Material","m",0,"","",{"$f":"IF(A531<>\"\",IF(AND(#REF!=\"Padrão\",$I$4=#REF!),BDI!$B$17,IF(AND(#REF!=\"Padrão\",$I$4=#REF!),BDI!$C$17,IF(AND(#REF!=\"Diferenciado\",$I$4=#REF!),BDI!$G$17,IF(AND(#REF!=\"Diferenciado\",$I$4=#REF!),BDI!$H$17,IF(#REF!=\"ZERO\",0))))),\"\")","v":{"$error":"#REF!"}},"",""]
["SF-00527","Perfil “T” dobrado Máximo Ar Abas Desiguais – 50 x 25 mm a 50 x 30 mm","Material","m",0,"","",{"$f":"IF(A532<>\"\",IF(AND(#REF!=\"Padrão\",$I$4=#REF!),BDI!$B$17,IF(AND(#REF!=\"Padrão\",$I$4=#REF!),BDI!$C$17,IF(AND(#REF!=\"Diferenciado\",$I$4=#REF!),BDI!$G$17,IF(AND(#REF!=\"Diferenciado\",$I$4=#REF!),BDI!$H$17,IF(#REF!=\"ZERO\",0))))),\"\")","v":{"$error":"#REF!"}},"",""]
["SF-00528","Perfil Superior Máximo Ar – 48 x 30 mm","Material","m",0,"","",{"$f":"IF(A533<>\"\",IF(AND(#REF!=\"Padrão\",$I$4=#REF!),BDI!$B$17,IF(AND(#REF!=\"Padrão\",$I$4=#REF!),BDI!$C$17,IF(AND(#REF!=\"Diferenciado\",$I$4=#REF!),BDI!$G$17,IF(AND(#REF!=\"Diferenciado\",$I$4=#REF!),BDI!$H$17,IF(#REF!=\"ZERO\",0))))),\"\")","v":{"$error":"#REF!"}},"",""]
["SF-00529","Perfil “T” Abas Iguais – 25 x 25 mm","Material","m",0,"","",{"$f":"IF(A534<>\"\",IF(AND(#REF!=\"Padrão\",$I$4=#REF!),BDI!$B$17,IF(AND(#REF!=\"Padrão\",$I$4=#REF!),BDI!$C$17,IF(AND(#REF!=\"Diferenciado\",$I$4=#REF!),BDI!$G$17,IF(AND(#REF!=\"Diferenciado\",$I$4=#REF!),BDI!$H$17,IF(#REF!=\"ZERO\",0))))),\"\")","v":{"$error":"#REF!"}},"",""]
["SF-00530","Perfil “T” Dobrado – 75 x 30 mm","Material","m",0,"","",{"$f":"IF(A535<>\"\",IF(AND(#REF!=\"Padrão\",$I$4=#REF!),BDI!$B$17,IF(AND(#REF!=\"Padrão\",$I$4=#REF!),BDI!$C$17,IF(AND(#REF!=\"Diferenciado\",$I$4=#REF!),BDI!$G$17,IF(AND(#REF!=\"Diferenciado\",$I$4=#REF!),BDI!$H$17,IF(#REF!=\"ZERO\",0))))),\"\")","v":{"$error":"#REF!"}},"",""]
["SF-00531","Perfil “T” Dobrado – 39 x 30 mm; 55 x 30 mm; 65 x 30 mm; ou 60 x 25 mm","Material","m",0,"","",{"$f":"IF(A536<>\"\",IF(AND(#REF!=\"Padrão\",$I$4=#REF!),BDI!$B$17,IF(AND(#REF!=\"Padrão\",$I$4=#REF!),BDI!$C$17,IF(AND(#REF!=\"Diferenciado\",$I$4=#REF!),BDI!$G$17,IF(AND(#REF!=\"Diferenciado\",$I$4=#REF!),BDI!$H$17,IF(#REF!=\"ZERO\",0))))),\"\")","v":{"$error":"#REF!"}},"",""]
["SF-00532","Perfil “T” Dobrado – 39 x 25 mm","Material","m",0,"","",{"$f":"IF(A537<>\"\",IF(AND(#REF!=\"Padrão\",$I$4=#REF!),BDI!$B$17,IF(AND(#REF!=\"Padrão\",$I$4=#REF!),BDI!$C$17,IF(AND(#REF!=\"Diferenciado\",$I$4=#REF!),BDI!$G$17,IF(AND(#REF!=\"Diferenciado\",$I$4=#REF!),BDI!$H$17,IF(#REF!=\"ZERO\",0))))),\"\")","v":{"$error":"#REF!"}},"",""]
["SF-00533","Perfil “T” Dobrado – 1/8” x 7/8” x 6000 mm a  1/8’’ x 1’’ x 6000 mm","Material","m",0,"","",{"$f":"IF(A538<>\"\",IF(AND(#REF!=\"Padrão\",$I$4=#REF!),BDI!$B$17,IF(AND(#REF!=\"Padrão\",$I$4=#REF!),BDI!$C$17,IF(AND(#REF!=\"Diferenciado\",$I$4=#REF!),BDI!$G$17,IF(AND(#REF!=\"Diferenciado\",$I$4=#REF!),BDI!$H$17,IF(#REF!=\"ZERO\",0))))),\"\")","v":{"$error":"#REF!"}},"",""]
["SF-00534","Perfil Marco Vincado – 140 x 32 mm","Material","m",0,"","",{"$f":"IF(A539<>\"\",IF(AND(#REF!=\"Padrão\",$I$4=#REF!),BDI!$B$17,IF(AND(#REF!=\"Padrão\",$I$4=#REF!),BDI!$C$17,IF(AND(#REF!=\"Diferenciado\",$I$4=#REF!),BDI!$G$17,IF(AND(#REF!=\"Diferenciado\",$I$4=#REF!),BDI!$H$17,IF(#REF!=\"ZERO\",0))))),\"\")","v":{"$error":"#REF!"}},"",""]
["SF-00535","Perfil Acabamento - 140 x 15 mm","Material","m",0,"","",{"$f":"IF(A540<>\"\",IF(AND(#REF!=\"Padrão\",$I$4=#REF!),BDI!$B$17,IF(AND(#REF!=\"Padrão\",$I$4=#REF!),BDI!$C$17,IF(AND(#REF!=\"Diferenciado\",$I$4=#REF!),BDI!$G$17,IF(AND(#REF!=\"Diferenciado\",$I$4=#REF!),BDI!$H$17,IF(#REF!=\"ZERO\",0))))),\"\")","v":{"$error":"#REF!"}},"",""]
["SF-00536","Perfil Trilho Superior Tipo “G” - 45 x 30 mm","Material","m",0,"","",{"$f":"IF(A541<>\"\",IF(AND(#REF!=\"Padrão\",$I$4=#REF!),BDI!$B$17,IF(AND(#REF!=\"Padrão\",$I$4=#REF!),BDI!$C$17,IF(AND(#REF!=\"Diferenciado\",$I$4=#REF!),BDI!$G$17,IF(AND(#REF!=\"Diferenciado\",$I$4=#REF!),BDI!$H$17,IF(#REF!=\"ZERO\",0))))),\"\")","v":{"$error":"#REF!"}},"",""]
["SF-00537","Perfil Tampa Trilho “G”","Material","m",0,"","",{"$f":"IF(A542<>\"\",IF(AND(#REF!=\"Padrão\",$I$4=#REF!),BDI!$B$17,IF(AND(#REF!=\"Padrão\",$I$4=#REF!),BDI!$C$17,IF(AND(#REF!=\"Diferenciado\",$I$4=#REF!),BDI!$G$17,IF(AND(#REF!=\"Diferenciado\",$I$4=#REF!),BDI!$H$17,IF(#REF!=\"ZERO\",0))))),\"\")","v":{"$error":"#REF!"}},"",""]
["SF-00538","Chapa Perfurada de Aço Carbono - 3000 x 1200 x 3 mm","Material","un",0,"","",{"$f":"IF(A543<>\"\",IF(AND(#REF!=\"Padrão\",$I$4=#REF!),BDI!$B$17,IF(AND(#REF!=\"Padrão\",$I$4=#REF!),BDI!$C$17,IF(AND(#REF!=\"Diferenciado\",$I$4=#REF!),BDI!$G$17,IF(AND(#REF!=\"Diferenciado\",$I$4=#REF!),BDI!$H$17,IF(#REF!=\"ZERO\",0))))),\"\")","v":{"$error":"#REF!"}},"",""]
["SF-00539","Chapa de Aço Xadrez – 3000 x 1200 x 3 mm","Material","un",0,"","",{"$f":"IF(A544<>\"\",IF(AND(#REF!=\"Padrão\",$I$4=#REF!),BDI!$B$17,IF(AND(#REF!=\"Padrão\",$I$4=#REF!),BDI!$C$17,IF(AND(#REF!=\"Diferenciado\",$I$4=#REF!),BDI!$G$17,IF(AND(#REF!=\"Diferenciado\",$I$4=#REF!),BDI!$H$17,IF(#REF!=\"ZERO\",0))))),\"\")","v":{"$error":"#REF!"}},"",""]
["SF-00540","Ferro Redondo – 1/2”","Material","m",0,"","",{"$f":"IF(A545<>\"\",IF(AND(#REF!=\"Padrão\",$I$4=#REF!),BDI!$B$17,IF(AND(#REF!=\"Padrão\",$I$4=#REF!),BDI!$C$17,IF(AND(#REF!=\"Diferenciado\",$I$4=#REF!),BDI!$G$17,IF(AND(#REF!=\"Diferenciado\",$I$4=#REF!),BDI!$H$17,IF(#REF!=\"ZERO\",0))))),\"\")","v":{"$error":"#REF!"}},"",""]
["SF-00541","Ferro Redondo – 1/4\"","Material","m",0,"","",{"$f":"IF(A546<>\"\",IF(AND(#REF!=\"Padrão\",$I$4=#REF!),BDI!$B$17,IF(AND(#REF!=\"Padrão\",$I$4=#REF!),BDI!$C$17,IF(AND(#REF!=\"Diferenciado\",$I$4=#REF!),BDI!$G$17,IF(AND(#REF!=\"Diferenciado\",$I$4=#REF!),BDI!$H$17,IF(#REF!=\"ZERO\",0))))),\"\")","v":{"$error":"#REF!"}},"",""]
["SF-00542","Ferro Redondo – 3/8”","Material","m",0,"","",{"$f":"IF(A547<>\"\",IF(AND(#REF!=\"Padrão\",$I$4=#REF!),BDI!$B$17,IF(AND(#REF!=\"Padrão\",$I$4=#REF!),BDI!$C$17,IF(AND(#REF!=\"Diferenciado\",$I$4=#REF!),BDI!$G$17,IF(AND(#REF!=\"Diferenciado\",$I$4=#REF!),BDI!$H$17,IF(#REF!=\"ZERO\",0))))),\"\")","v":{"$error":"#REF!"}},"",""]
["SF-00543","Ferro Quadrado – 1/2”","Material","m",0,"","",{"$f":"IF(A548<>\"\",IF(AND(#REF!=\"Padrão\",$I$4=#REF!),BDI!$B$17,IF(AND(#REF!=\"Padrão\",$I$4=#REF!),BDI!$C$17,IF(AND(#REF!=\"Diferenciado\",$I$4=#REF!),BDI!$G$17,IF(AND(#REF!=\"Diferenciado\",$I$4=#REF!),BDI!$H$17,IF(#REF!=\"ZERO\",0))))),\"\")","v":{"$error":"#REF!"}},"",""]
["SF-00544","Ferro Quadrado – 1/4”","Material","m",0,"","",{"$f":"IF(A549<>\"\",IF(AND(#REF!=\"Padrão\",$I$4=#REF!),BDI!$B$17,IF(AND(#REF!=\"Padrão\",$I$4=#REF!),BDI!$C$17,IF(AND(#REF!=\"Diferenciado\",$I$4=#REF!),BDI!$G$17,IF(AND(#REF!=\"Diferenciado\",$I$4=#REF!),BDI!$H$17,IF(#REF!=\"ZERO\",0))))),\"\")","v":{"$error":"#REF!"}},"",""]
["SF-00545","Ferro Quadrado – 3/8”","Material","m",0,"","",{"$f":"IF(A550<>\"\",IF(AND(#REF!=\"Padrão\",$I$4=#REF!),BDI!$B$17,IF(AND(#REF!=\"Padrão\",$I$4=#REF!),BDI!$C$17,IF(AND(#REF!=\"Diferenciado\",$I$4=#REF!),BDI!$G$17,IF(AND(#REF!=\"Diferenciado\",$I$4=#REF!),BDI!$H$17,IF(#REF!=\"ZERO\",0))))),\"\")","v":{"$error":"#REF!"}},"",""]
["SF-00546","Ferro maciço 1 1/2”","Material","m",0,"","",{"$f":"IF(A551<>\"\",IF(AND(#REF!=\"Padrão\",$I$4=#REF!),BDI!$B$17,IF(AND(#REF!=\"Padrão\",$I$4=#REF!),BDI!$C$17,IF(AND(#REF!=\"Diferenciado\",$I$4=#REF!),BDI!$G$17,IF(AND(#REF!=\"Diferenciado\",$I$4=#REF!),BDI!$H$17,IF(#REF!=\"ZERO\",0))))),\"\")","v":{"$error":"#REF!"}},"",""]
["SF-00547","Tubo Industrial Redondo – 1”","Material","m",0,"","",{"$f":"IF(A552<>\"\",IF(AND(#REF!=\"Padrão\",$I$4=#REF!),BDI!$B$17,IF(AND(#REF!=\"Padrão\",$I$4=#REF!),BDI!$C$17,IF(AND(#REF!=\"Diferenciado\",$I$4=#REF!),BDI!$G$17,IF(AND(#REF!=\"Diferenciado\",$I$4=#REF!),BDI!$H$17,IF(#REF!=\"ZERO\",0))))),\"\")","v":{"$error":"#REF!"}},"",""]
["SF-00548","Tubo Industrial Redondo – 1 1/2”","Material","m",0,"","",{"$f":"IF(A553<>\"\",IF(AND(#REF!=\"Padrão\",$I$4=#REF!),BDI!$B$17,IF(AND(#REF!=\"Padrão\",$I$4=#REF!),BDI!$C$17,IF(AND(#REF!=\"Diferenciado\",$I$4=#REF!),BDI!$G$17,IF(AND(#REF!=\"Diferenciado\",$I$4=#REF!),BDI!$H$17,IF(#REF!=\"ZERO\",0))))),\"\")","v":{"$error":"#REF!"}},"",""]
["SF-00549","Tubo Industrial Redondo - 1 1/4”","Material","m",0,"","",{"$f":"IF(A554<>\"\",IF(AND(#REF!=\"Padrão\",$I$4=#REF!),BDI!$B$17,IF(AND(#REF!=\"Padrão\",$I$4=#REF!),BDI!$C$17,IF(AND(#REF!=\"Diferenciado\",$I$4=#REF!),BDI!$G$17,IF(AND(#REF!=\"Diferenciado\",$I$4=#REF!),BDI!$H$17,IF(#REF!=\"ZERO\",0))))),\"\")","v":{"$error":"#REF!"}},"",""]
["SF-00550","Tubo Industrial Redondo – 2”","Material","m",0,"","",{"$f":"IF(A555<>\"\",IF(AND(#REF!=\"Padrão\",$I$4=#REF!),BDI!$B$17,IF(AND(#REF!=\"Padrão\",$I$4=#REF!),BDI!$C$17,IF(AND(#REF!=\"Diferenciado\",$I$4=#REF!),BDI!$G$17,IF(AND(#REF!=\"Diferenciado\",$I$4=#REF!),BDI!$H$17,IF(#REF!=\"ZERO\",0))))),\"\")","v":{"$error":"#REF!"}},"",""]
["SF-00551","Tubo quadrado em metalon - 16x16 a 20x20 - chapa 18","Material","m",0,"","",{"$f":"IF(A556<>\"\",IF(AND(#REF!=\"Padrão\",$I$4=#REF!),BDI!$B$17,IF(AND(#REF!=\"Padrão\",$I$4=#REF!),BDI!$C$17,IF(AND(#REF!=\"Diferenciado\",$I$4=#REF!),BDI!$G$17,IF(AND(#REF!=\"Diferenciado\",$I$4=#REF!),BDI!$H$17,IF(#REF!=\"ZERO\",0))))),\"\")","v":{"$error":"#REF!"}},"",""]
["SF-00552","Tubo quadrado em metalon - 25x25 a 40x40 - chapa 18","Material","m",0,"","",{"$f":"IF(A557<>\"\",IF(AND(#REF!=\"Padrão\",$I$4=#REF!),BDI!$B$17,IF(AND(#REF!=\"Padrão\",$I$4=#REF!),BDI!$C$17,IF(AND(#REF!=\"Diferenciado\",$I$4=#REF!),BDI!$G$17,IF(AND(#REF!=\"Diferenciado\",$I$4=#REF!),BDI!$H$17,IF(#REF!=\"ZERO\",0))))),\"\")","v":{"$error":"#REF!"}},"",""]
["SF-00553","Tubo quadrado em metalon - 50x50 - chapa 18","Material","m",0,"","",{"$f":"IF(A558<>\"\",IF(AND(#REF!=\"Padrão\",$I$4=#REF!),BDI!$B$17,IF(AND(#REF!=\"Padrão\",$I$4=#REF!),BDI!$C$17,IF(AND(#REF!=\"Diferenciado\",$I$4=#REF!),BDI!$G$17,IF(AND(#REF!=\"Diferenciado\",$I$4=#REF!),BDI!$H$17,IF(#REF!=\"ZERO\",0))))),\"\")","v":{"$error":"#REF!"}},"",""]
["SF-00554","Tubo retangular em metalon - 30x20 - chapa 18","Material","m",0,"","",{"$f":"IF(A559<>\"\",IF(AND(#REF!=\"Padrão\",$I$4=#REF!),BDI!$B$17,IF(AND(#REF!=\"Padrão\",$I$4=#REF!),BDI!$C$17,IF(AND(#REF!=\"Diferenciado\",$I$4=#REF!),BDI!$G$17,IF(AND(#REF!=\"Diferenciado\",$I$4=#REF!),BDI!$H$17,IF(#REF!=\"ZERO\",0))))),\"\")","v":{"$error":"#REF!"}},"",""]
["SF-00555","Tubo retangular em metalon - 40x20 a 50x30 - chapa 18","Material","m",0,"","",{"$f":"IF(A560<>\"\",IF(AND(#REF!=\"Padrão\",$I$4=#REF!),BDI!$B$17,IF(AND(#REF!=\"Padrão\",$I$4=#REF!),BDI!$C$17,IF(AND(#REF!=\"Diferenciado\",$I$4=#REF!),BDI!$G$17,IF(AND(#REF!=\"Diferenciado\",$I$4=#REF!),BDI!$H$17,IF(#REF!=\"ZERO\",0))))),\"\")","v":{"$error":"#REF!"}},"",""]
["SF-00556","Concertina simples em aço galvanizado, lâminas de 22 x 15mm, diâmetro 45 cm (rolo com 40 espiras)","Material","Rolo",0,"","",{"$f":"IF(A561<>\"\",IF(AND(#REF!=\"Padrão\",$I$4=#REF!),BDI!$B$17,IF(AND(#REF!=\"Padrão\",$I$4=#REF!),BDI!$C$17,IF(AND(#REF!=\"Diferenciado\",$I$4=#REF!),BDI!$G$17,IF(AND(#REF!=\"Diferenciado\",$I$4=#REF!),BDI!$H$17,IF(#REF!=\"ZERO\",0))))),\"\")","v":{"$error":"#REF!"}},"",""]
["SF-00557","Tela de estuque","Material","m2",0,"","",{"$f":"IF(A562<>\"\",IF(AND(#REF!=\"Padrão\",$I$4=#REF!),BDI!$B$17,IF(AND(#REF!=\"Padrão\",$I$4=#REF!),BDI!$C$17,IF(AND(#REF!=\"Diferenciado\",$I$4=#REF!),BDI!$G$17,IF(AND(#REF!=\"Diferenciado\",$I$4=#REF!),BDI!$H$17,IF(#REF!=\"ZERO\",0))))),\"\")","v":{"$error":"#REF!"}},"",""]
["SF-00558","Tela tipo galinheiro (hexagonal) galvanizada 2\" BWG 22","Material","m2",0,"","",{"$f":"IF(A563<>\"\",IF(AND(#REF!=\"Padrão\",$I$4=#REF!),BDI!$B$17,IF(AND(#REF!=\"Padrão\",$I$4=#REF!),BDI!$C$17,IF(AND(#REF!=\"Diferenciado\",$I$4=#REF!),BDI!$G$17,IF(AND(#REF!=\"Diferenciado\",$I$4=#REF!),BDI!$H$17,IF(#REF!=\"ZERO\",0))))),\"\")","v":{"$error":"#REF!"}},"",""]
["SF-00559","Arame galvanizado, bitola 16 BWG (1,65mm)","Material","kg",0,"","",{"$f":"IF(A564<>\"\",IF(AND(#REF!=\"Padrão\",$I$4=#REF!),BDI!$B$17,IF(AND(#REF!=\"Padrão\",$I$4=#REF!),BDI!$C$17,IF(AND(#REF!=\"Diferenciado\",$I$4=#REF!),BDI!$G$17,IF(AND(#REF!=\"Diferenciado\",$I$4=#REF!),BDI!$H$17,IF(#REF!=\"ZERO\",0))))),\"\")","v":{"$error":"#REF!"}},"",""]
["SF-00560","Arame galvanizado nº 20","Material","kg",0,"","",{"$f":"IF(A565<>\"\",IF(AND(#REF!=\"Padrão\",$I$4=#REF!),BDI!$B$17,IF(AND(#REF!=\"Padrão\",$I$4=#REF!),BDI!$C$17,IF(AND(#REF!=\"Diferenciado\",$I$4=#REF!),BDI!$G$17,IF(AND(#REF!=\"Diferenciado\",$I$4=#REF!),BDI!$H$17,IF(#REF!=\"ZERO\",0))))),\"\")","v":{"$error":"#REF!"}},"",""]
["SF-00561","Tela em aço galvanizado, tipo alambrado, malha 2, fio 12","Material","m",0,"","",{"$f":"IF(A566<>\"\",IF(AND(#REF!=\"Padrão\",$I$4=#REF!),BDI!$B$17,IF(AND(#REF!=\"Padrão\",$I$4=#REF!),BDI!$C$17,IF(AND(#REF!=\"Diferenciado\",$I$4=#REF!),BDI!$G$17,IF(AND(#REF!=\"Diferenciado\",$I$4=#REF!),BDI!$H$17,IF(#REF!=\"ZERO\",0))))),\"\")","v":{"$error":"#REF!"}},"",""]
["SF-00562","Massa Adesiva Plástica","Material","un",0,"","",{"$f":"IF(A567<>\"\",IF(AND(#REF!=\"Padrão\",$I$4=#REF!),BDI!$B$17,IF(AND(#REF!=\"Padrão\",$I$4=#REF!),BDI!$C$17,IF(AND(#REF!=\"Diferenciado\",$I$4=#REF!),BDI!$G$17,IF(AND(#REF!=\"Diferenciado\",$I$4=#REF!),BDI!$H$17,IF(#REF!=\"ZERO\",0))))),\"\")","v":{"$error":"#REF!"}},"",""]
["SF-00563","Argamassa Para Contrapiso","Material","40 kg",0,{"$f":"OFFSET(INDEX(Composições!A:J,MATCH(Orçamentária!A568,Composições!A:A,0),8),2,0)","v":17.48},0,{"$f":"IF(A568<>\"\",IF(AND(#REF!=\"Padrão\",$I$4=#REF!),BDI!$B$17,IF(AND(#REF!=\"Padrão\",$I$4=#REF!),BDI!$C$17,IF(AND(#REF!=\"Diferenciado\",$I$4=#REF!),BDI!$G$17,IF(AND(#REF!=\"Diferenciado\",$I$4=#REF!),BDI!$H$17,IF(#REF!=\"ZERO\",0))))),\"\")","v":{"$error":"#REF!"}},{"$error":"#REF!"},{"$error":"#REF!"}]
["SF-00564","Argamassa Múltiplo Uso","Material","40 kg",0,{"$f":"OFFSET(INDEX(Composições!A:J,MATCH(Orçamentária!A569,Composições!A:A,0),8),2,0)","v":18.619999999999997},0,{"$f":"IF(A569<>\"\",IF(AND(#REF!=\"Padrão\",$I$4=#REF!),BDI!$B$17,IF(AND(#REF!=\"Padrão\",$I$4=#REF!),BDI!$C$17,IF(AND(#REF!=\"Diferenciado\",$I$4=#REF!),BDI!$G$17,IF(AND(#REF!=\"Diferenciado\",$I$4=#REF!),BDI!$H$17,IF(#REF!=\"ZERO\",0))))),\"\")","v":{"$error":"#REF!"}},{"$error":"#REF!"},{"$error":"#REF!"}]
["SF-00565","Cimento Portland CP II E 32","Material","50 kg",0,{"$f":"OFFSET(INDEX(Composições!A:J,MATCH(Orçamentária!A570,Composições!A:A,0),8),2,0)","v":22.324999999999999},0,{"$f":"IF(A570<>\"\",IF(AND(#REF!=\"Padrão\",$I$4=#REF!),BDI!$B$17,IF(AND(#REF!=\"Padrão\",$I$4=#REF!),BDI!$C$17,IF(AND(#REF!=\"Diferenciado\",$I$4=#REF!),BDI!$G$17,IF(AND(#REF!=\"Diferenciado\",$I$4=#REF!),BDI!$H$17,IF(#REF!=\"ZERO\",0))))),\"\")","v":{"$error":"#REF!"}},{"$error":"#REF!"},{"$error":"#REF!"}]
["SF-00566","Argamassa Colante tipo AC III","Material","20 kg",0,{"$f":"OFFSET(INDEX(Composições!A:J,MATCH(Orçamentária!A571,Composições!A:A,0),8),2,0)","v":26.22},0,{"$f":"IF(A571<>\"\",IF(AND(#REF!=\"Padrão\",$I$4=#REF!),BDI!$B$17,IF(AND(#REF!=\"Padrão\",$I$4=#REF!),BDI!$C$17,IF(AND(#REF!=\"Diferenciado\",$I$4=#REF!),BDI!$G$17,IF(AND(#REF!=\"Diferenciado\",$I$4=#REF!),BDI!$H$17,IF(#REF!=\"ZERO\",0))))),\"\")","v":{"$error":"#REF!"}},{"$error":"#REF!"},{"$error":"#REF!"}]
["SF-00567","Gesso Para Uso Geral","Material","40 kg",0,{"$f":"OFFSET(INDEX(Composições!A:J,MATCH(Orçamentária!A572,Composições!A:A,0),8),2,0)","v":13.68},0,{"$f":"IF(A572<>\"\",IF(AND(#REF!=\"Padrão\",$I$4=#REF!),BDI!$B$17,IF(AND(#REF!=\"Padrão\",$I$4=#REF!),BDI!$C$17,IF(AND(#REF!=\"Diferenciado\",$I$4=#REF!),BDI!$G$17,IF(AND(#REF!=\"Diferenciado\",$I$4=#REF!),BDI!$H$17,IF(#REF!=\"ZERO\",0))))),\"\")","v":{"$error":"#REF!"}},{"$error":"#REF!"},{"$error":"#REF!"}]
["SF-00568","Areia Média","Material","m3",0,{"$f":"OFFSET(INDEX(Composições!A:J,MATCH(Orçamentária!A573,Composições!A:A,0),8),2,0)","v":119.94542109999999},0,{"$f":"IF(A573<>\"\",IF(AND(#REF!=\"Padrão\",$I$4=#REF!),BDI!$B$17,IF(AND(#REF!=\"Padrão\",$I$4=#REF!),BDI!$C$17,IF(AND(#REF!=\"Diferenciado\",$I$4=#REF!),BDI!$G$17,IF(AND(#REF!=\"Diferenciado\",$I$4=#REF!),BDI!$H$17,IF(#REF!=\"ZERO\",0))))),\"\")","v":{"$error":"#REF!"}},{"$error":"#REF!"},{"$error":"#REF!"}]
["SF-00569","Brita Nº 0","Material","m3",0,{"$f":"OFFSET(INDEX(Composições!A:J,MATCH(Orçamentária!A574,Composições!A:A,0),8),2,0)","v":158.24942109999995},0,{"$f":"IF(A574<>\"\",IF(AND(#REF!=\"Padrão\",$I$4=#REF!),BDI!$B$17,IF(AND(#REF!=\"Padrão\",$I$4=#REF!),BDI!$C$17,IF(AND(#REF!=\"Diferenciado\",$I$4=#REF!),BDI!$G$17,IF(AND(#REF!=\"Diferenciado\",$I$4=#REF!),BDI!$H$17,IF(#REF!=\"ZERO\",0))))),\"\")","v":{"$error":"#REF!"}},{"$error":"#REF!"},{"$error":"#REF!"}]
["SF-00570","Brita Nº 1","Material","m3",0,{"$f":"OFFSET(INDEX(Composições!A:J,MATCH(Orçamentária!A575,Composições!A:A,0),8),2,0)","v":129.6164211},0,{"$f":"IF(A575<>\"\",IF(AND(#REF!=\"Padrão\",$I$4=#REF!),BDI!$B$17,IF(AND(#REF!=\"Padrão\",$I$4=#REF!),BDI!$C$17,IF(AND(#REF!=\"Diferenciado\",$I$4=#REF!),BDI!$G$17,IF(AND(#REF!=\"Diferenciado\",$I$4=#REF!),BDI!$H$17,IF(#REF!=\"ZERO\",0))))),\"\")","v":{"$error":"#REF!"}},{"$error":"#REF!"},{"$error":"#REF!"}]
["SF-00571","Bloco Cerâmico De 08 Furos","Material","un",0,{"$f":"OFFSET(INDEX(Composições!A:J,MATCH(Orçamentária!A576,Composições!A:A,0),8),2,0)","v":0.78371199999999996},0,{"$f":"IF(A576<>\"\",IF(AND(#REF!=\"Padrão\",$I$4=#REF!),BDI!$B$17,IF(AND(#REF!=\"Padrão\",$I$4=#REF!),BDI!$C$17,IF(AND(#REF!=\"Diferenciado\",$I$4=#REF!),BDI!$G$17,IF(AND(#REF!=\"Diferenciado\",$I$4=#REF!),BDI!$H$17,IF(#REF!=\"ZERO\",0))))),\"\")","v":{"$error":"#REF!"}},{"$error":"#REF!"},{"$error":"#REF!"}]
["SF-00572","Tijolo Maciço","Material","un",0,{"$f":"OFFSET(INDEX(Composições!A:J,MATCH(Orçamentária!A577,Composições!A:A,0),8),2,0)","v":0.67449999999999999},0,{"$f":"IF(A577<>\"\",IF(AND(#REF!=\"Padrão\",$I$4=#REF!),BDI!$B$17,IF(AND(#REF!=\"Padrão\",$I$4=#REF!),BDI!$C$17,IF(AND(#REF!=\"Diferenciado\",$I$4=#REF!),BDI!$G$17,IF(AND(#REF!=\"Diferenciado\",$I$4=#REF!),BDI!$H$17,IF(#REF!=\"ZERO\",0))))),\"\")","v":{"$error":"#REF!"}},{"$error":"#REF!"},{"$error":"#REF!"}]
["SF-00573","Bloco De Concreto Com 02 Furos","Material","un",0,{"$f":"OFFSET(INDEX(Composições!A:J,MATCH(Orçamentária!A578,Composições!A:A,0),8),2,0)","v":1.6909999999999998},0,{"$f":"IF(A578<>\"\",IF(AND(#REF!=\"Padrão\",$I$4=#REF!),BDI!$B$17,IF(AND(#REF!=\"Padrão\",$I$4=#REF!),BDI!$C$17,IF(AND(#REF!=\"Diferenciado\",$I$4=#REF!),BDI!$G$17,IF(AND(#REF!=\"Diferenciado\",$I$4=#REF!),BDI!$H$17,IF(#REF!=\"ZERO\",0))))),\"\")","v":{"$error":"#REF!"}},{"$error":"#REF!"},{"$error":"#REF!"}]
["SF-00574","Bloco De Concreto Tipo Canaleta","Material","un",0,{"$f":"OFFSET(INDEX(Composições!A:J,MATCH(Orçamentária!A579,Composições!A:A,0),8),2,0)","v":0},0,{"$f":"IF(A579<>\"\",IF(AND(#REF!=\"Padrão\",$I$4=#REF!),BDI!$B$17,IF(AND(#REF!=\"Padrão\",$I$4=#REF!),BDI!$C$17,IF(AND(#REF!=\"Diferenciado\",$I$4=#REF!),BDI!$G$17,IF(AND(#REF!=\"Diferenciado\",$I$4=#REF!),BDI!$H$17,IF(#REF!=\"ZERO\",0))))),\"\")","v":{"$error":"#REF!"}},{"$error":"#REF!"},{"$error":"#REF!"}]
["SF-00575","Vergalhão Ca-60 Diâmetro 5,0 Mm","Material","m",0,{"$f":"OFFSET(INDEX(Composições!A:J,MATCH(Orçamentária!A580,Composições!A:A,0),8),2,0)","v":0.67449999999999999},0,{"$f":"IF(A580<>\"\",IF(AND(#REF!=\"Padrão\",$I$4=#REF!),BDI!$B$17,IF(AND(#REF!=\"Padrão\",$I$4=#REF!),BDI!$C$17,IF(AND(#REF!=\"Diferenciado\",$I$4=#REF!),BDI!$G$17,IF(AND(#REF!=\"Diferenciado\",$I$4=#REF!),BDI!$H$17,IF(#REF!=\"ZERO\",0))))),\"\")","v":{"$error":"#REF!"}},{"$error":"#REF!"},{"$error":"#REF!"}]
["SF-00576","Vergalhão Ca-50 Diâmetro 6,3 Mm","Material","m",0,{"$f":"OFFSET(INDEX(Composições!A:J,MATCH(Orçamentária!A581,Composições!A:A,0),8),2,0)","v":1.4314125},0,{"$f":"IF(A581<>\"\",IF(AND(#REF!=\"Padrão\",$I$4=#REF!),BDI!$B$17,IF(AND(#REF!=\"Padrão\",$I$4=#REF!),BDI!$C$17,IF(AND(#REF!=\"Diferenciado\",$I$4=#REF!),BDI!$G$17,IF(AND(#REF!=\"Diferenciado\",$I$4=#REF!),BDI!$H$17,IF(#REF!=\"ZERO\",0))))),\"\")","v":{"$error":"#REF!"}},{"$error":"#REF!"},{"$error":"#REF!"}]
["SF-00577","Vergalhão Ca-50 Diâmetro 8,0 Mm","Material","m",0,{"$f":"OFFSET(INDEX(Composições!A:J,MATCH(Orçamentária!A582,Composições!A:A,0),8),2,0)","v":2.319045},0,{"$f":"IF(A582<>\"\",IF(AND(#REF!=\"Padrão\",$I$4=#REF!),BDI!$B$17,IF(AND(#REF!=\"Padrão\",$I$4=#REF!),BDI!$C$17,IF(AND(#REF!=\"Diferenciado\",$I$4=#REF!),BDI!$G$17,IF(AND(#REF!=\"Diferenciado\",$I$4=#REF!),BDI!$H$17,IF(#REF!=\"ZERO\",0))))),\"\")","v":{"$error":"#REF!"}},{"$error":"#REF!"},{"$error":"#REF!"}]
["SF-00578","Vergalhão Ca-50 Diâmetro 10,0 Mm","Material","m",0,{"$f":"OFFSET(INDEX(Composições!A:J,MATCH(Orçamentária!A583,Composições!A:A,0),8),2,0)","v":3.4172544999999999},{"$f":"IF(ISNUMBER(F583),ROUND(E583*F583,2),\"\")","v":0},{"$f":"IF(A583<>\"\",IF(AND(#REF!=\"Padrão\",$I$4=#REF!),BDI!$B$17,IF(AND(#REF!=\"Padrão\",$I$4=#REF!),BDI!$C$17,IF(AND(#REF!=\"Diferenciado\",$I$4=#REF!),BDI!$G$17,IF(AND(#REF!=\"Diferenciado\",$I$4=#REF!),BDI!$H$17,IF(#REF!=\"ZERO\",0))))),\"\")","v":{"$error":"#REF!"}},{"$f":"IF(ISNUMBER(F583),ROUND(F583*(1+H583),2),\"\")","v":{"$error":"#REF!"}},{"$f":"IF(ISNUMBER(F583),ROUND(I583*E583,2),\"\")","v":{"$error":"#REF!"}}]
["SF-00579","Vergalhão Ca-50 Diâmetro 12,5 Mm","Material","m",0,{"$f":"OFFSET(INDEX(Composições!A:J,MATCH(Orçamentária!A584,Composições!A:A,0),8),2,0)","v":4.6199924999999995},0,{"$f":"IF(A584<>\"\",IF(AND(#REF!=\"Padrão\",$I$4=#REF!),BDI!$B$17,IF(AND(#REF!=\"Padrão\",$I$4=#REF!),BDI!$C$17,IF(AND(#REF!=\"Diferenciado\",$I$4=#REF!),BDI!$G$17,IF(AND(#REF!=\"Diferenciado\",$I$4=#REF!),BDI!$H$17,IF(#REF!=\"ZERO\",0))))),\"\")","v":{"$error":"#REF!"}},{"$error":"#REF!"},{"$error":"#REF!"}]
["SF-00580","Arame Recozido Nº 18","Material","kg",0,{"$f":"OFFSET(INDEX(Composições!A:J,MATCH(Orçamentária!A585,Composições!A:A,0),8),2,0)","v":14.154999999999999},0,{"$f":"IF(A585<>\"\",IF(AND(#REF!=\"Padrão\",$I$4=#REF!),BDI!$B$17,IF(AND(#REF!=\"Padrão\",$I$4=#REF!),BDI!$C$17,IF(AND(#REF!=\"Diferenciado\",$I$4=#REF!),BDI!$G$17,IF(AND(#REF!=\"Diferenciado\",$I$4=#REF!),BDI!$H$17,IF(#REF!=\"ZERO\",0))))),\"\")","v":{"$error":"#REF!"}},{"$error":"#REF!"},{"$error":"#REF!"}]
["SF-00581","Adesivo Estrutural Epóxi Bicomponente","Material","kg",0,{"$f":"OFFSET(INDEX(Composições!A:J,MATCH(Orçamentária!A586,Composições!A:A,0),8),2,0)","v":32.812999999999995},0,{"$f":"IF(A586<>\"\",IF(AND(#REF!=\"Padrão\",$I$4=#REF!),BDI!$B$17,IF(AND(#REF!=\"Padrão\",$I$4=#REF!),BDI!$C$17,IF(AND(#REF!=\"Diferenciado\",$I$4=#REF!),BDI!$G$17,IF(AND(#REF!=\"Diferenciado\",$I$4=#REF!),BDI!$H$17,IF(#REF!=\"ZERO\",0))))),\"\")","v":{"$error":"#REF!"}},{"$error":"#REF!"},{"$error":"#REF!"}]
["SF-00582","Adesivo Selante Poliuretano","Material","un",0,"","",{"$f":"IF(A587<>\"\",IF(AND(#REF!=\"Padrão\",$I$4=#REF!),BDI!$B$17,IF(AND(#REF!=\"Padrão\",$I$4=#REF!),BDI!$C$17,IF(AND(#REF!=\"Diferenciado\",$I$4=#REF!),BDI!$G$17,IF(AND(#REF!=\"Diferenciado\",$I$4=#REF!),BDI!$H$17,IF(#REF!=\"ZERO\",0))))),\"\")","v":{"$error":"#REF!"}},"",""]
["SF-00583","Selante de Silicone","Material","un",0,"","",{"$f":"IF(A588<>\"\",IF(AND(#REF!=\"Padrão\",$I$4=#REF!),BDI!$B$17,IF(AND(#REF!=\"Padrão\",$I$4=#REF!),BDI!$C$17,IF(AND(#REF!=\"Diferenciado\",$I$4=#REF!),BDI!$G$17,IF(AND(#REF!=\"Diferenciado\",$I$4=#REF!),BDI!$H$17,IF(#REF!=\"ZERO\",0))))),\"\")","v":{"$error":"#REF!"}},"",""]
["SF-00584","Fita Asfáltica Autoadesiva (30 cm)","Material","m",0,"","",{"$f":"IF(A589<>\"\",IF(AND(#REF!=\"Padrão\",$I$4=#REF!),BDI!$B$17,IF(AND(#REF!=\"Padrão\",$I$4=#REF!),BDI!$C$17,IF(AND(#REF!=\"Diferenciado\",$I$4=#REF!),BDI!$G$17,IF(AND(#REF!=\"Diferenciado\",$I$4=#REF!),BDI!$H$17,IF(#REF!=\"ZERO\",0))))),\"\")","v":{"$error":"#REF!"}},"",""]
["SF-00585","Fita Asfáltica Autoadesiva (45 cm)","Material","m",0,"","",{"$f":"IF(A590<>\"\",IF(AND(#REF!=\"Padrão\",$I$4=#REF!),BDI!$B$17,IF(AND(#REF!=\"Padrão\",$I$4=#REF!),BDI!$C$17,IF(AND(#REF!=\"Diferenciado\",$I$4=#REF!),BDI!$G$17,IF(AND(#REF!=\"Diferenciado\",$I$4=#REF!),BDI!$H$17,IF(#REF!=\"ZERO\",0))))),\"\")","v":{"$error":"#REF!"}},"",""]
["SF-00586","Membrana Impermeabilizante De Alto Desempenho","Material","kg",0,"","",{"$f":"IF(A591<>\"\",IF(AND(#REF!=\"Padrão\",$I$4=#REF!),BDI!$B$17,IF(AND(#REF!=\"Padrão\",$I$4=#REF!),BDI!$C$17,IF(AND(#REF!=\"Diferenciado\",$I$4=#REF!),BDI!$G$17,IF(AND(#REF!=\"Diferenciado\",$I$4=#REF!),BDI!$H$17,IF(#REF!=\"ZERO\",0))))),\"\")","v":{"$error":"#REF!"}},"",""]
["SF-00587","Aditivo de Pega Ultrarrápida","Material","L",0,"","",{"$f":"IF(A592<>\"\",IF(AND(#REF!=\"Padrão\",$I$4=#REF!),BDI!$B$17,IF(AND(#REF!=\"Padrão\",$I$4=#REF!),BDI!$C$17,IF(AND(#REF!=\"Diferenciado\",$I$4=#REF!),BDI!$G$17,IF(AND(#REF!=\"Diferenciado\",$I$4=#REF!),BDI!$H$17,IF(#REF!=\"ZERO\",0))))),\"\")","v":{"$error":"#REF!"}},"",""]
["SF-00588","Aditivo Impermeabilizante","Material","L",0,{"$f":"OFFSET(INDEX(Composições!A:J,MATCH(Orçamentária!A593,Composições!A:A,0),8),2,0)","v":5.1775000000000002},0,{"$f":"IF(A593<>\"\",IF(AND(#REF!=\"Padrão\",$I$4=#REF!),BDI!$B$17,IF(AND(#REF!=\"Padrão\",$I$4=#REF!),BDI!$C$17,IF(AND(#REF!=\"Diferenciado\",$I$4=#REF!),BDI!$G$17,IF(AND(#REF!=\"Diferenciado\",$I$4=#REF!),BDI!$H$17,IF(#REF!=\"ZERO\",0))))),\"\")","v":{"$error":"#REF!"}},{"$error":"#REF!"},{"$error":"#REF!"}]
["SF-00589","Aditivo Plastificante Para Argamassa","Material","L",0,"","",{"$f":"IF(A594<>\"\",IF(AND(#REF!=\"Padrão\",$I$4=#REF!),BDI!$B$17,IF(AND(#REF!=\"Padrão\",$I$4=#REF!),BDI!$C$17,IF(AND(#REF!=\"Diferenciado\",$I$4=#REF!),BDI!$G$17,IF(AND(#REF!=\"Diferenciado\",$I$4=#REF!),BDI!$H$17,IF(#REF!=\"ZERO\",0))))),\"\")","v":{"$error":"#REF!"}},"",""]
["SF-00590","Fita adesiva antiderrapante na cor preta","Material","m",0,"","",{"$f":"IF(A595<>\"\",IF(AND(#REF!=\"Padrão\",$I$4=#REF!),BDI!$B$17,IF(AND(#REF!=\"Padrão\",$I$4=#REF!),BDI!$C$17,IF(AND(#REF!=\"Diferenciado\",$I$4=#REF!),BDI!$G$17,IF(AND(#REF!=\"Diferenciado\",$I$4=#REF!),BDI!$H$17,IF(#REF!=\"ZERO\",0))))),\"\")","v":{"$error":"#REF!"}},"",""]
["SF-00591","Fita adesiva antiderrapante na cor preta com faixa fosforescente na cor branca","Material","m",0,"","",{"$f":"IF(A596<>\"\",IF(AND(#REF!=\"Padrão\",$I$4=#REF!),BDI!$B$17,IF(AND(#REF!=\"Padrão\",$I$4=#REF!),BDI!$C$17,IF(AND(#REF!=\"Diferenciado\",$I$4=#REF!),BDI!$G$17,IF(AND(#REF!=\"Diferenciado\",$I$4=#REF!),BDI!$H$17,IF(#REF!=\"ZERO\",0))))),\"\")","v":{"$error":"#REF!"}},"",""]
["SF-00592","Lona Plástica","Material","m2",0,"","",{"$f":"IF(A597<>\"\",IF(AND(#REF!=\"Padrão\",$I$4=#REF!),BDI!$B$17,IF(AND(#REF!=\"Padrão\",$I$4=#REF!),BDI!$C$17,IF(AND(#REF!=\"Diferenciado\",$I$4=#REF!),BDI!$G$17,IF(AND(#REF!=\"Diferenciado\",$I$4=#REF!),BDI!$H$17,IF(#REF!=\"ZERO\",0))))),\"\")","v":{"$error":"#REF!"}},"",""]
["SF-00593","Tapa Furo Plástico","Consumível","un",0,"","",{"$f":"IF(A598<>\"\",IF(AND(#REF!=\"Padrão\",$I$4=#REF!),BDI!$B$17,IF(AND(#REF!=\"Padrão\",$I$4=#REF!),BDI!$C$17,IF(AND(#REF!=\"Diferenciado\",$I$4=#REF!),BDI!$G$17,IF(AND(#REF!=\"Diferenciado\",$I$4=#REF!),BDI!$H$17,IF(#REF!=\"ZERO\",0))))),\"\")","v":{"$error":"#REF!"}},"",""]
["SF-00594","Arremate de Plástico - (Tampa para cabeça de parafuso)","Consumível","un",0,"","",{"$f":"IF(A599<>\"\",IF(AND(#REF!=\"Padrão\",$I$4=#REF!),BDI!$B$17,IF(AND(#REF!=\"Padrão\",$I$4=#REF!),BDI!$C$17,IF(AND(#REF!=\"Diferenciado\",$I$4=#REF!),BDI!$G$17,IF(AND(#REF!=\"Diferenciado\",$I$4=#REF!),BDI!$H$17,IF(#REF!=\"ZERO\",0))))),\"\")","v":{"$error":"#REF!"}},"",""]
["SF-00595","Rebite de Aço Maciço – 1/4” x 1/2\"","Consumível","un",0,"","",{"$f":"IF(A600<>\"\",IF(AND(#REF!=\"Padrão\",$I$4=#REF!),BDI!$B$17,IF(AND(#REF!=\"Padrão\",$I$4=#REF!),BDI!$C$17,IF(AND(#REF!=\"Diferenciado\",$I$4=#REF!),BDI!$G$17,IF(AND(#REF!=\"Diferenciado\",$I$4=#REF!),BDI!$H$17,IF(#REF!=\"ZERO\",0))))),\"\")","v":{"$error":"#REF!"}},"",""]
["SF-00596","Rebite de Aço Maciço – 3/16” x 1”","Consumível","un",0,"","",{"$f":"IF(A601<>\"\",IF(AND(#REF!=\"Padrão\",$I$4=#REF!),BDI!$B$17,IF(AND(#REF!=\"Padrão\",$I$4=#REF!),BDI!$C$17,IF(AND(#REF!=\"Diferenciado\",$I$4=#REF!),BDI!$G$17,IF(AND(#REF!=\"Diferenciado\",$I$4=#REF!),BDI!$H$17,IF(#REF!=\"ZERO\",0))))),\"\")","v":{"$error":"#REF!"}},"",""]
["SF-00597","Rebite de Aço Maciço – 3/16” x 1/2\"","Consumível","un",0,"","",{"$f":"IF(A602<>\"\",IF(AND(#REF!=\"Padrão\",$I$4=#REF!),BDI!$B$17,IF(AND(#REF!=\"Padrão\",$I$4=#REF!),BDI!$C$17,IF(AND(#REF!=\"Diferenciado\",$I$4=#REF!),BDI!$G$17,IF(AND(#REF!=\"Diferenciado\",$I$4=#REF!),BDI!$H$17,IF(#REF!=\"ZERO\",0))))),\"\")","v":{"$error":"#REF!"}},"",""]
["SF-00598","Arruela Lisa de  1/2”","Consumível","un",0,"","",{"$f":"IF(A603<>\"\",IF(AND(#REF!=\"Padrão\",$I$4=#REF!),BDI!$B$17,IF(AND(#REF!=\"Padrão\",$I$4=#REF!),BDI!$C$17,IF(AND(#REF!=\"Diferenciado\",$I$4=#REF!),BDI!$G$17,IF(AND(#REF!=\"Diferenciado\",$I$4=#REF!),BDI!$H$17,IF(#REF!=\"ZERO\",0))))),\"\")","v":{"$error":"#REF!"}},"",""]
["SF-00599","Arruela Lisa de  3/4”","Consumível","un",0,"","",{"$f":"IF(A604<>\"\",IF(AND(#REF!=\"Padrão\",$I$4=#REF!),BDI!$B$17,IF(AND(#REF!=\"Padrão\",$I$4=#REF!),BDI!$C$17,IF(AND(#REF!=\"Diferenciado\",$I$4=#REF!),BDI!$G$17,IF(AND(#REF!=\"Diferenciado\",$I$4=#REF!),BDI!$H$17,IF(#REF!=\"ZERO\",0))))),\"\")","v":{"$error":"#REF!"}},"",""]
["SF-00600","Arruela Lisa de  5/16”","Consumível","un",0,"","",{"$f":"IF(A605<>\"\",IF(AND(#REF!=\"Padrão\",$I$4=#REF!),BDI!$B$17,IF(AND(#REF!=\"Padrão\",$I$4=#REF!),BDI!$C$17,IF(AND(#REF!=\"Diferenciado\",$I$4=#REF!),BDI!$G$17,IF(AND(#REF!=\"Diferenciado\",$I$4=#REF!),BDI!$H$17,IF(#REF!=\"ZERO\",0))))),\"\")","v":{"$error":"#REF!"}},"",""]
["SF-00601","Arruela Lisa de  1/4”","Consumível","un",0,"","",{"$f":"IF(A606<>\"\",IF(AND(#REF!=\"Padrão\",$I$4=#REF!),BDI!$B$17,IF(AND(#REF!=\"Padrão\",$I$4=#REF!),BDI!$C$17,IF(AND(#REF!=\"Diferenciado\",$I$4=#REF!),BDI!$G$17,IF(AND(#REF!=\"Diferenciado\",$I$4=#REF!),BDI!$H$17,IF(#REF!=\"ZERO\",0))))),\"\")","v":{"$error":"#REF!"}},"",""]
["SF-00602","Bucha Plástica S5","Consumível","un",0,"","",{"$f":"IF(A607<>\"\",IF(AND(#REF!=\"Padrão\",$I$4=#REF!),BDI!$B$17,IF(AND(#REF!=\"Padrão\",$I$4=#REF!),BDI!$C$17,IF(AND(#REF!=\"Diferenciado\",$I$4=#REF!),BDI!$G$17,IF(AND(#REF!=\"Diferenciado\",$I$4=#REF!),BDI!$H$17,IF(#REF!=\"ZERO\",0))))),\"\")","v":{"$error":"#REF!"}},"",""]
["SF-00603","Bucha Plástica S6","Consumível","un",0,"","",{"$f":"IF(A608<>\"\",IF(AND(#REF!=\"Padrão\",$I$4=#REF!),BDI!$B$17,IF(AND(#REF!=\"Padrão\",$I$4=#REF!),BDI!$C$17,IF(AND(#REF!=\"Diferenciado\",$I$4=#REF!),BDI!$G$17,IF(AND(#REF!=\"Diferenciado\",$I$4=#REF!),BDI!$H$17,IF(#REF!=\"ZERO\",0))))),\"\")","v":{"$error":"#REF!"}},"",""]
["SF-00604","Bucha Plástica S8","Consumível","un",0,"","",{"$f":"IF(A609<>\"\",IF(AND(#REF!=\"Padrão\",$I$4=#REF!),BDI!$B$17,IF(AND(#REF!=\"Padrão\",$I$4=#REF!),BDI!$C$17,IF(AND(#REF!=\"Diferenciado\",$I$4=#REF!),BDI!$G$17,IF(AND(#REF!=\"Diferenciado\",$I$4=#REF!),BDI!$H$17,IF(#REF!=\"ZERO\",0))))),\"\")","v":{"$error":"#REF!"}},"",""]
["SF-00605","Bucha Plástica S10","Consumível","un",0,"","",{"$f":"IF(A610<>\"\",IF(AND(#REF!=\"Padrão\",$I$4=#REF!),BDI!$B$17,IF(AND(#REF!=\"Padrão\",$I$4=#REF!),BDI!$C$17,IF(AND(#REF!=\"Diferenciado\",$I$4=#REF!),BDI!$G$17,IF(AND(#REF!=\"Diferenciado\",$I$4=#REF!),BDI!$H$17,IF(#REF!=\"ZERO\",0))))),\"\")","v":{"$error":"#REF!"}},"",""]
["SF-00606","Bucha Plástica S12","Consumível","un",0,"","",{"$f":"IF(A611<>\"\",IF(AND(#REF!=\"Padrão\",$I$4=#REF!),BDI!$B$17,IF(AND(#REF!=\"Padrão\",$I$4=#REF!),BDI!$C$17,IF(AND(#REF!=\"Diferenciado\",$I$4=#REF!),BDI!$G$17,IF(AND(#REF!=\"Diferenciado\",$I$4=#REF!),BDI!$H$17,IF(#REF!=\"ZERO\",0))))),\"\")","v":{"$error":"#REF!"}},"",""]
["SF-00607","Rebite de Repuxo de 32 x 10","Consumível","un",0,"","",{"$f":"IF(A612<>\"\",IF(AND(#REF!=\"Padrão\",$I$4=#REF!),BDI!$B$17,IF(AND(#REF!=\"Padrão\",$I$4=#REF!),BDI!$C$17,IF(AND(#REF!=\"Diferenciado\",$I$4=#REF!),BDI!$G$17,IF(AND(#REF!=\"Diferenciado\",$I$4=#REF!),BDI!$H$17,IF(#REF!=\"ZERO\",0))))),\"\")","v":{"$error":"#REF!"}},"",""]
["SF-00608","Rebite de Repuxo de 40 x 12","Consumível","un",0,"","",{"$f":"IF(A613<>\"\",IF(AND(#REF!=\"Padrão\",$I$4=#REF!),BDI!$B$17,IF(AND(#REF!=\"Padrão\",$I$4=#REF!),BDI!$C$17,IF(AND(#REF!=\"Diferenciado\",$I$4=#REF!),BDI!$G$17,IF(AND(#REF!=\"Diferenciado\",$I$4=#REF!),BDI!$H$17,IF(#REF!=\"ZERO\",0))))),\"\")","v":{"$error":"#REF!"}},"",""]
["SF-00609","Rebite de repuxo de 62 x 30 mm","Consumível","un",0,"","",{"$f":"IF(A614<>\"\",IF(AND(#REF!=\"Padrão\",$I$4=#REF!),BDI!$B$17,IF(AND(#REF!=\"Padrão\",$I$4=#REF!),BDI!$C$17,IF(AND(#REF!=\"Diferenciado\",$I$4=#REF!),BDI!$G$17,IF(AND(#REF!=\"Diferenciado\",$I$4=#REF!),BDI!$H$17,IF(#REF!=\"ZERO\",0))))),\"\")","v":{"$error":"#REF!"}},"",""]
["SF-00610","Rebite de Repuxo de  3/16” x 30 mm","Consumível","un",0,"","",{"$f":"IF(A615<>\"\",IF(AND(#REF!=\"Padrão\",$I$4=#REF!),BDI!$B$17,IF(AND(#REF!=\"Padrão\",$I$4=#REF!),BDI!$C$17,IF(AND(#REF!=\"Diferenciado\",$I$4=#REF!),BDI!$G$17,IF(AND(#REF!=\"Diferenciado\",$I$4=#REF!),BDI!$H$17,IF(#REF!=\"ZERO\",0))))),\"\")","v":{"$error":"#REF!"}},"",""]
["SF-00611","Rebite de Repuxo de  4.8 x 12 mm","Consumível","un",0,"","",{"$f":"IF(A616<>\"\",IF(AND(#REF!=\"Padrão\",$I$4=#REF!),BDI!$B$17,IF(AND(#REF!=\"Padrão\",$I$4=#REF!),BDI!$C$17,IF(AND(#REF!=\"Diferenciado\",$I$4=#REF!),BDI!$G$17,IF(AND(#REF!=\"Diferenciado\",$I$4=#REF!),BDI!$H$17,IF(#REF!=\"ZERO\",0))))),\"\")","v":{"$error":"#REF!"}},"",""]
["SF-00612","Rebite de Repuxo de  4.8 x 25 mm","Consumível","un",0,"","",{"$f":"IF(A617<>\"\",IF(AND(#REF!=\"Padrão\",$I$4=#REF!),BDI!$B$17,IF(AND(#REF!=\"Padrão\",$I$4=#REF!),BDI!$C$17,IF(AND(#REF!=\"Diferenciado\",$I$4=#REF!),BDI!$G$17,IF(AND(#REF!=\"Diferenciado\",$I$4=#REF!),BDI!$H$17,IF(#REF!=\"ZERO\",0))))),\"\")","v":{"$error":"#REF!"}},"",""]
["SF-00613","Rebite de Repuxo de  6.2 x 22 mm","Consumível","un",0,"","",{"$f":"IF(A618<>\"\",IF(AND(#REF!=\"Padrão\",$I$4=#REF!),BDI!$B$17,IF(AND(#REF!=\"Padrão\",$I$4=#REF!),BDI!$C$17,IF(AND(#REF!=\"Diferenciado\",$I$4=#REF!),BDI!$G$17,IF(AND(#REF!=\"Diferenciado\",$I$4=#REF!),BDI!$H$17,IF(#REF!=\"ZERO\",0))))),\"\")","v":{"$error":"#REF!"}},"",""]
["SF-00614","Parafuso Phillips Cabeça Chata - 3.0 x 10 mm","Consumível","un",0,"","",{"$f":"IF(A619<>\"\",IF(AND(#REF!=\"Padrão\",$I$4=#REF!),BDI!$B$17,IF(AND(#REF!=\"Padrão\",$I$4=#REF!),BDI!$C$17,IF(AND(#REF!=\"Diferenciado\",$I$4=#REF!),BDI!$G$17,IF(AND(#REF!=\"Diferenciado\",$I$4=#REF!),BDI!$H$17,IF(#REF!=\"ZERO\",0))))),\"\")","v":{"$error":"#REF!"}},"",""]
["SF-00615","Parafuso Phillips Cabeça Chata - 3.0 x 12 mm","Consumível","un",0,"","",{"$f":"IF(A620<>\"\",IF(AND(#REF!=\"Padrão\",$I$4=#REF!),BDI!$B$17,IF(AND(#REF!=\"Padrão\",$I$4=#REF!),BDI!$C$17,IF(AND(#REF!=\"Diferenciado\",$I$4=#REF!),BDI!$G$17,IF(AND(#REF!=\"Diferenciado\",$I$4=#REF!),BDI!$H$17,IF(#REF!=\"ZERO\",0))))),\"\")","v":{"$error":"#REF!"}},"",""]
["SF-00616","Parafuso Philips Cabeça Chata - 3.0 x 16","Consumível","un",0,"","",{"$f":"IF(A621<>\"\",IF(AND(#REF!=\"Padrão\",$I$4=#REF!),BDI!$B$17,IF(AND(#REF!=\"Padrão\",$I$4=#REF!),BDI!$C$17,IF(AND(#REF!=\"Diferenciado\",$I$4=#REF!),BDI!$G$17,IF(AND(#REF!=\"Diferenciado\",$I$4=#REF!),BDI!$H$17,IF(#REF!=\"ZERO\",0))))),\"\")","v":{"$error":"#REF!"}},"",""]
["SF-00617","Parafuso Philips Cabeça Chata - 3.0 x 22","Consumível","un",0,"","",{"$f":"IF(A622<>\"\",IF(AND(#REF!=\"Padrão\",$I$4=#REF!),BDI!$B$17,IF(AND(#REF!=\"Padrão\",$I$4=#REF!),BDI!$C$17,IF(AND(#REF!=\"Diferenciado\",$I$4=#REF!),BDI!$G$17,IF(AND(#REF!=\"Diferenciado\",$I$4=#REF!),BDI!$H$17,IF(#REF!=\"ZERO\",0))))),\"\")","v":{"$error":"#REF!"}},"",""]
["SF-00618","Parafuso Philips Cabeça Chata - 3.0 x 25","Consumível","un",0,"","",{"$f":"IF(A623<>\"\",IF(AND(#REF!=\"Padrão\",$I$4=#REF!),BDI!$B$17,IF(AND(#REF!=\"Padrão\",$I$4=#REF!),BDI!$C$17,IF(AND(#REF!=\"Diferenciado\",$I$4=#REF!),BDI!$G$17,IF(AND(#REF!=\"Diferenciado\",$I$4=#REF!),BDI!$H$17,IF(#REF!=\"ZERO\",0))))),\"\")","v":{"$error":"#REF!"}},"",""]
["SF-00619","Parafuso Philips Cabeça Chata - 3.0 x 30","Consumível","un",0,"","",{"$f":"IF(A624<>\"\",IF(AND(#REF!=\"Padrão\",$I$4=#REF!),BDI!$B$17,IF(AND(#REF!=\"Padrão\",$I$4=#REF!),BDI!$C$17,IF(AND(#REF!=\"Diferenciado\",$I$4=#REF!),BDI!$G$17,IF(AND(#REF!=\"Diferenciado\",$I$4=#REF!),BDI!$H$17,IF(#REF!=\"ZERO\",0))))),\"\")","v":{"$error":"#REF!"}},"",""]
["SF-00620","Parafuso Philips Cabeça Chata - 3.5 x 14","Consumível","un",0,"","",{"$f":"IF(A625<>\"\",IF(AND(#REF!=\"Padrão\",$I$4=#REF!),BDI!$B$17,IF(AND(#REF!=\"Padrão\",$I$4=#REF!),BDI!$C$17,IF(AND(#REF!=\"Diferenciado\",$I$4=#REF!),BDI!$G$17,IF(AND(#REF!=\"Diferenciado\",$I$4=#REF!),BDI!$H$17,IF(#REF!=\"ZERO\",0))))),\"\")","v":{"$error":"#REF!"}},"",""]
["SF-00621","Parafuso Philips Cabeça Chata - 3.5 x 16","Consumível","un",0,"","",{"$f":"IF(A626<>\"\",IF(AND(#REF!=\"Padrão\",$I$4=#REF!),BDI!$B$17,IF(AND(#REF!=\"Padrão\",$I$4=#REF!),BDI!$C$17,IF(AND(#REF!=\"Diferenciado\",$I$4=#REF!),BDI!$G$17,IF(AND(#REF!=\"Diferenciado\",$I$4=#REF!),BDI!$H$17,IF(#REF!=\"ZERO\",0))))),\"\")","v":{"$error":"#REF!"}},"",""]
["SF-00622","Parafuso Philips Cabeça Chata - 3.5 x 20","Consumível","un",0,"","",{"$f":"IF(A627<>\"\",IF(AND(#REF!=\"Padrão\",$I$4=#REF!),BDI!$B$17,IF(AND(#REF!=\"Padrão\",$I$4=#REF!),BDI!$C$17,IF(AND(#REF!=\"Diferenciado\",$I$4=#REF!),BDI!$G$17,IF(AND(#REF!=\"Diferenciado\",$I$4=#REF!),BDI!$H$17,IF(#REF!=\"ZERO\",0))))),\"\")","v":{"$error":"#REF!"}},"",""]
["SF-00623","Parafuso Philips Cabeça Chata - 3.5 x 22  mm","Consumível","un",0,"","",{"$f":"IF(A628<>\"\",IF(AND(#REF!=\"Padrão\",$I$4=#REF!),BDI!$B$17,IF(AND(#REF!=\"Padrão\",$I$4=#REF!),BDI!$C$17,IF(AND(#REF!=\"Diferenciado\",$I$4=#REF!),BDI!$G$17,IF(AND(#REF!=\"Diferenciado\",$I$4=#REF!),BDI!$H$17,IF(#REF!=\"ZERO\",0))))),\"\")","v":{"$error":"#REF!"}},"",""]
["SF-00624","Parafuso Philips Cabeça Chata - 3.5 x 25 mm","Consumível","un",0,"","",{"$f":"IF(A629<>\"\",IF(AND(#REF!=\"Padrão\",$I$4=#REF!),BDI!$B$17,IF(AND(#REF!=\"Padrão\",$I$4=#REF!),BDI!$C$17,IF(AND(#REF!=\"Diferenciado\",$I$4=#REF!),BDI!$G$17,IF(AND(#REF!=\"Diferenciado\",$I$4=#REF!),BDI!$H$17,IF(#REF!=\"ZERO\",0))))),\"\")","v":{"$error":"#REF!"}},"",""]
["SF-00625","Parafuso Philips Cabeça Chata - 3.5 x 30","Consumível","un",0,"","",{"$f":"IF(A630<>\"\",IF(AND(#REF!=\"Padrão\",$I$4=#REF!),BDI!$B$17,IF(AND(#REF!=\"Padrão\",$I$4=#REF!),BDI!$C$17,IF(AND(#REF!=\"Diferenciado\",$I$4=#REF!),BDI!$G$17,IF(AND(#REF!=\"Diferenciado\",$I$4=#REF!),BDI!$H$17,IF(#REF!=\"ZERO\",0))))),\"\")","v":{"$error":"#REF!"}},"",""]
["SF-00626","Parafuso Philips Cabeça Chata - 3.5 x 35","Consumível","un",0,"","",{"$f":"IF(A631<>\"\",IF(AND(#REF!=\"Padrão\",$I$4=#REF!),BDI!$B$17,IF(AND(#REF!=\"Padrão\",$I$4=#REF!),BDI!$C$17,IF(AND(#REF!=\"Diferenciado\",$I$4=#REF!),BDI!$G$17,IF(AND(#REF!=\"Diferenciado\",$I$4=#REF!),BDI!$H$17,IF(#REF!=\"ZERO\",0))))),\"\")","v":{"$error":"#REF!"}},"",""]
["SF-00627","Parafuso Philips Cabeça Chata - 3.5 x 40","Consumível","un",0,"","",{"$f":"IF(A632<>\"\",IF(AND(#REF!=\"Padrão\",$I$4=#REF!),BDI!$B$17,IF(AND(#REF!=\"Padrão\",$I$4=#REF!),BDI!$C$17,IF(AND(#REF!=\"Diferenciado\",$I$4=#REF!),BDI!$G$17,IF(AND(#REF!=\"Diferenciado\",$I$4=#REF!),BDI!$H$17,IF(#REF!=\"ZERO\",0))))),\"\")","v":{"$error":"#REF!"}},"",""]
["SF-00628","Parafuso Phillips Cabeça Chata - 40x40mm","Consumível","un",0,"","",{"$f":"IF(A633<>\"\",IF(AND(#REF!=\"Padrão\",$I$4=#REF!),BDI!$B$17,IF(AND(#REF!=\"Padrão\",$I$4=#REF!),BDI!$C$17,IF(AND(#REF!=\"Diferenciado\",$I$4=#REF!),BDI!$G$17,IF(AND(#REF!=\"Diferenciado\",$I$4=#REF!),BDI!$H$17,IF(#REF!=\"ZERO\",0))))),\"\")","v":{"$error":"#REF!"}},"",""]
["SF-00629","Parafuso Phillips Cabeça Chata - 4.0x45mm","Consumível","un",0,"","",{"$f":"IF(A634<>\"\",IF(AND(#REF!=\"Padrão\",$I$4=#REF!),BDI!$B$17,IF(AND(#REF!=\"Padrão\",$I$4=#REF!),BDI!$C$17,IF(AND(#REF!=\"Diferenciado\",$I$4=#REF!),BDI!$G$17,IF(AND(#REF!=\"Diferenciado\",$I$4=#REF!),BDI!$H$17,IF(#REF!=\"ZERO\",0))))),\"\")","v":{"$error":"#REF!"}},"",""]
["SF-00630","Parafuso Phillips Cabeça Chata - 4.0x50mm","Consumível","un",0,"","",{"$f":"IF(A635<>\"\",IF(AND(#REF!=\"Padrão\",$I$4=#REF!),BDI!$B$17,IF(AND(#REF!=\"Padrão\",$I$4=#REF!),BDI!$C$17,IF(AND(#REF!=\"Diferenciado\",$I$4=#REF!),BDI!$G$17,IF(AND(#REF!=\"Diferenciado\",$I$4=#REF!),BDI!$H$17,IF(#REF!=\"ZERO\",0))))),\"\")","v":{"$error":"#REF!"}},"",""]
["SF-00631","Parafuso Phillips cabeça chata - 4.0x60mm","Consumível","un",0,"","",{"$f":"IF(A636<>\"\",IF(AND(#REF!=\"Padrão\",$I$4=#REF!),BDI!$B$17,IF(AND(#REF!=\"Padrão\",$I$4=#REF!),BDI!$C$17,IF(AND(#REF!=\"Diferenciado\",$I$4=#REF!),BDI!$G$17,IF(AND(#REF!=\"Diferenciado\",$I$4=#REF!),BDI!$H$17,IF(#REF!=\"ZERO\",0))))),\"\")","v":{"$error":"#REF!"}},"",""]
["SF-00632","Parafuso Philips Cabeça Chata - 4.0 x 30","Consumível","un",0,"","",{"$f":"IF(A637<>\"\",IF(AND(#REF!=\"Padrão\",$I$4=#REF!),BDI!$B$17,IF(AND(#REF!=\"Padrão\",$I$4=#REF!),BDI!$C$17,IF(AND(#REF!=\"Diferenciado\",$I$4=#REF!),BDI!$G$17,IF(AND(#REF!=\"Diferenciado\",$I$4=#REF!),BDI!$H$17,IF(#REF!=\"ZERO\",0))))),\"\")","v":{"$error":"#REF!"}},"",""]
["SF-00633","Parafuso Philips Cabeça Chata - 4.0 x 35","Consumível","un",0,"","",{"$f":"IF(A638<>\"\",IF(AND(#REF!=\"Padrão\",$I$4=#REF!),BDI!$B$17,IF(AND(#REF!=\"Padrão\",$I$4=#REF!),BDI!$C$17,IF(AND(#REF!=\"Diferenciado\",$I$4=#REF!),BDI!$G$17,IF(AND(#REF!=\"Diferenciado\",$I$4=#REF!),BDI!$H$17,IF(#REF!=\"ZERO\",0))))),\"\")","v":{"$error":"#REF!"}},"",""]
["SF-00634","Parafuso Philips Cabeça Chata - 5.0 x 60","Consumível","un",0,"","",{"$f":"IF(A639<>\"\",IF(AND(#REF!=\"Padrão\",$I$4=#REF!),BDI!$B$17,IF(AND(#REF!=\"Padrão\",$I$4=#REF!),BDI!$C$17,IF(AND(#REF!=\"Diferenciado\",$I$4=#REF!),BDI!$G$17,IF(AND(#REF!=\"Diferenciado\",$I$4=#REF!),BDI!$H$17,IF(#REF!=\"ZERO\",0))))),\"\")","v":{"$error":"#REF!"}},"",""]
["SF-00635","Parafuso Philips Cabeça Chata - 6.0 x 60","Consumível","un",0,"","",{"$f":"IF(A640<>\"\",IF(AND(#REF!=\"Padrão\",$I$4=#REF!),BDI!$B$17,IF(AND(#REF!=\"Padrão\",$I$4=#REF!),BDI!$C$17,IF(AND(#REF!=\"Diferenciado\",$I$4=#REF!),BDI!$G$17,IF(AND(#REF!=\"Diferenciado\",$I$4=#REF!),BDI!$H$17,IF(#REF!=\"ZERO\",0))))),\"\")","v":{"$error":"#REF!"}},"",""]
["SF-00636","Parafuso Philips Cabeça Chata - 6.0 x 65","Consumível","un",0,"","",{"$f":"IF(A641<>\"\",IF(AND(#REF!=\"Padrão\",$I$4=#REF!),BDI!$B$17,IF(AND(#REF!=\"Padrão\",$I$4=#REF!),BDI!$C$17,IF(AND(#REF!=\"Diferenciado\",$I$4=#REF!),BDI!$G$17,IF(AND(#REF!=\"Diferenciado\",$I$4=#REF!),BDI!$H$17,IF(#REF!=\"ZERO\",0))))),\"\")","v":{"$error":"#REF!"}},"",""]
["SF-00637","Porca Tipo Borboleta – 1/4”","Consumível","un",0,"","",{"$f":"IF(A642<>\"\",IF(AND(#REF!=\"Padrão\",$I$4=#REF!),BDI!$B$17,IF(AND(#REF!=\"Padrão\",$I$4=#REF!),BDI!$C$17,IF(AND(#REF!=\"Diferenciado\",$I$4=#REF!),BDI!$G$17,IF(AND(#REF!=\"Diferenciado\",$I$4=#REF!),BDI!$H$17,IF(#REF!=\"ZERO\",0))))),\"\")","v":{"$error":"#REF!"}},"",""]
["SF-00638","Parafuso Philips Cabeça Oval - 4.0 x 16","Consumível","un",0,"","",{"$f":"IF(A643<>\"\",IF(AND(#REF!=\"Padrão\",$I$4=#REF!),BDI!$B$17,IF(AND(#REF!=\"Padrão\",$I$4=#REF!),BDI!$C$17,IF(AND(#REF!=\"Diferenciado\",$I$4=#REF!),BDI!$G$17,IF(AND(#REF!=\"Diferenciado\",$I$4=#REF!),BDI!$H$17,IF(#REF!=\"ZERO\",0))))),\"\")","v":{"$error":"#REF!"}},"",""]
["SF-00639","Parafuso Tipo Board","Consumível","un",0,"","",{"$f":"IF(A644<>\"\",IF(AND(#REF!=\"Padrão\",$I$4=#REF!),BDI!$B$17,IF(AND(#REF!=\"Padrão\",$I$4=#REF!),BDI!$C$17,IF(AND(#REF!=\"Diferenciado\",$I$4=#REF!),BDI!$G$17,IF(AND(#REF!=\"Diferenciado\",$I$4=#REF!),BDI!$H$17,IF(#REF!=\"ZERO\",0))))),\"\")","v":{"$error":"#REF!"}},"",""]
["SF-00640","Cavilha de Madeira – 6 x 30 mm","Consumível","un",0,"","",{"$f":"IF(A645<>\"\",IF(AND(#REF!=\"Padrão\",$I$4=#REF!),BDI!$B$17,IF(AND(#REF!=\"Padrão\",$I$4=#REF!),BDI!$C$17,IF(AND(#REF!=\"Diferenciado\",$I$4=#REF!),BDI!$G$17,IF(AND(#REF!=\"Diferenciado\",$I$4=#REF!),BDI!$H$17,IF(#REF!=\"ZERO\",0))))),\"\")","v":{"$error":"#REF!"}},"",""]
["SF-00641","Cavilha de Madeira – 8 x 40 mm","Consumível","un",0,"","",{"$f":"IF(A646<>\"\",IF(AND(#REF!=\"Padrão\",$I$4=#REF!),BDI!$B$17,IF(AND(#REF!=\"Padrão\",$I$4=#REF!),BDI!$C$17,IF(AND(#REF!=\"Diferenciado\",$I$4=#REF!),BDI!$G$17,IF(AND(#REF!=\"Diferenciado\",$I$4=#REF!),BDI!$H$17,IF(#REF!=\"ZERO\",0))))),\"\")","v":{"$error":"#REF!"}},"",""]
["SF-00642","Cavilha de Madeira – 10 x 50 mm","Consumível","un",0,"",{"$f":"IF(ISNUMBER(F647),ROUND(E647*F647,2),\"\")","v":""},{"$f":"IF(A647<>\"\",IF(AND(#REF!=\"Padrão\",$I$4=#REF!),BDI!$B$17,IF(AND(#REF!=\"Padrão\",$I$4=#REF!),BDI!$C$17,IF(AND(#REF!=\"Diferenciado\",$I$4=#REF!),BDI!$G$17,IF(AND(#REF!=\"Diferenciado\",$I$4=#REF!),BDI!$H$17,IF(#REF!=\"ZERO\",0))))),\"\")","v":{"$error":"#REF!"}},{"$f":"IF(ISNUMBER(F647),ROUND(F647*(1+H647),2),\"\")","v":""},{"$f":"IF(ISNUMBER(F647),ROUND(I647*E647,2),\"\")","v":""}]
["SF-00643","Orelhinha para suporte de Vitrô","Consumível","un",0,"","",{"$f":"IF(A648<>\"\",IF(AND(#REF!=\"Padrão\",$I$4=#REF!),BDI!$B$17,IF(AND(#REF!=\"Padrão\",$I$4=#REF!),BDI!$C$17,IF(AND(#REF!=\"Diferenciado\",$I$4=#REF!),BDI!$G$17,IF(AND(#REF!=\"Diferenciado\",$I$4=#REF!),BDI!$H$17,IF(#REF!=\"ZERO\",0))))),\"\")","v":{"$error":"#REF!"}},"",""]
["SF-00644","Prego 18X27","Consumível","kg",0,"","",{"$f":"IF(A649<>\"\",IF(AND(#REF!=\"Padrão\",$I$4=#REF!),BDI!$B$17,IF(AND(#REF!=\"Padrão\",$I$4=#REF!),BDI!$C$17,IF(AND(#REF!=\"Diferenciado\",$I$4=#REF!),BDI!$G$17,IF(AND(#REF!=\"Diferenciado\",$I$4=#REF!),BDI!$H$17,IF(#REF!=\"ZERO\",0))))),\"\")","v":{"$error":"#REF!"}},"",""]
["SF-00645","Ácidos","Consumível","Litro",0,"","",{"$f":"IF(A650<>\"\",IF(AND(#REF!=\"Padrão\",$I$4=#REF!),BDI!$B$17,IF(AND(#REF!=\"Padrão\",$I$4=#REF!),BDI!$C$17,IF(AND(#REF!=\"Diferenciado\",$I$4=#REF!),BDI!$G$17,IF(AND(#REF!=\"Diferenciado\",$I$4=#REF!),BDI!$H$17,IF(#REF!=\"ZERO\",0))))),\"\")","v":{"$error":"#REF!"}},"",""]
["SF-00646","Aditivos químicos","Consumível","Litro",0,"","",{"$f":"IF(A651<>\"\",IF(AND(#REF!=\"Padrão\",$I$4=#REF!),BDI!$B$17,IF(AND(#REF!=\"Padrão\",$I$4=#REF!),BDI!$C$17,IF(AND(#REF!=\"Diferenciado\",$I$4=#REF!),BDI!$G$17,IF(AND(#REF!=\"Diferenciado\",$I$4=#REF!),BDI!$H$17,IF(#REF!=\"ZERO\",0))))),\"\")","v":{"$error":"#REF!"}},"",""]
["SF-00647","Água destilada","Consumível","Litro",0,"","",{"$f":"IF(A652<>\"\",IF(AND(#REF!=\"Padrão\",$I$4=#REF!),BDI!$B$17,IF(AND(#REF!=\"Padrão\",$I$4=#REF!),BDI!$C$17,IF(AND(#REF!=\"Diferenciado\",$I$4=#REF!),BDI!$G$17,IF(AND(#REF!=\"Diferenciado\",$I$4=#REF!),BDI!$H$17,IF(#REF!=\"ZERO\",0))))),\"\")","v":{"$error":"#REF!"}},"",""]
["SF-00648","Água sanitária","Consumível","Litro",0,"","",{"$f":"IF(A653<>\"\",IF(AND(#REF!=\"Padrão\",$I$4=#REF!),BDI!$B$17,IF(AND(#REF!=\"Padrão\",$I$4=#REF!),BDI!$C$17,IF(AND(#REF!=\"Diferenciado\",$I$4=#REF!),BDI!$G$17,IF(AND(#REF!=\"Diferenciado\",$I$4=#REF!),BDI!$H$17,IF(#REF!=\"ZERO\",0))))),\"\")","v":{"$error":"#REF!"}},"",""]
["SF-00649","Álcoois","Consumível","Litro",0,"","",{"$f":"IF(A654<>\"\",IF(AND(#REF!=\"Padrão\",$I$4=#REF!),BDI!$B$17,IF(AND(#REF!=\"Padrão\",$I$4=#REF!),BDI!$C$17,IF(AND(#REF!=\"Diferenciado\",$I$4=#REF!),BDI!$G$17,IF(AND(#REF!=\"Diferenciado\",$I$4=#REF!),BDI!$H$17,IF(#REF!=\"ZERO\",0))))),\"\")","v":{"$error":"#REF!"}},"",""]
["SF-00650","Botijões de gás inclusive p-13","Consumível","un",0,"","",{"$f":"IF(A655<>\"\",IF(AND(#REF!=\"Padrão\",$I$4=#REF!),BDI!$B$17,IF(AND(#REF!=\"Padrão\",$I$4=#REF!),BDI!$C$17,IF(AND(#REF!=\"Diferenciado\",$I$4=#REF!),BDI!$G$17,IF(AND(#REF!=\"Diferenciado\",$I$4=#REF!),BDI!$H$17,IF(#REF!=\"ZERO\",0))))),\"\")","v":{"$error":"#REF!"}},"",""]
["SF-00651","Cola branca","Consumível","kg",0,"","",{"$f":"IF(A656<>\"\",IF(AND(#REF!=\"Padrão\",$I$4=#REF!),BDI!$B$17,IF(AND(#REF!=\"Padrão\",$I$4=#REF!),BDI!$C$17,IF(AND(#REF!=\"Diferenciado\",$I$4=#REF!),BDI!$G$17,IF(AND(#REF!=\"Diferenciado\",$I$4=#REF!),BDI!$H$17,IF(#REF!=\"ZERO\",0))))),\"\")","v":{"$error":"#REF!"}},"",""]
["SF-00652","Desengraxantes","Consumível","un",0,"","",{"$f":"IF(A657<>\"\",IF(AND(#REF!=\"Padrão\",$I$4=#REF!),BDI!$B$17,IF(AND(#REF!=\"Padrão\",$I$4=#REF!),BDI!$C$17,IF(AND(#REF!=\"Diferenciado\",$I$4=#REF!),BDI!$G$17,IF(AND(#REF!=\"Diferenciado\",$I$4=#REF!),BDI!$H$17,IF(#REF!=\"ZERO\",0))))),\"\")","v":{"$error":"#REF!"}},"",""]
["SF-00653","Desengripante","Consumível","un",0,"","",{"$f":"IF(A658<>\"\",IF(AND(#REF!=\"Padrão\",$I$4=#REF!),BDI!$B$17,IF(AND(#REF!=\"Padrão\",$I$4=#REF!),BDI!$C$17,IF(AND(#REF!=\"Diferenciado\",$I$4=#REF!),BDI!$G$17,IF(AND(#REF!=\"Diferenciado\",$I$4=#REF!),BDI!$H$17,IF(#REF!=\"ZERO\",0))))),\"\")","v":{"$error":"#REF!"}},"",""]
["SF-00654","Detergentes","Consumível","un",0,"","",{"$f":"IF(A659<>\"\",IF(AND(#REF!=\"Padrão\",$I$4=#REF!),BDI!$B$17,IF(AND(#REF!=\"Padrão\",$I$4=#REF!),BDI!$C$17,IF(AND(#REF!=\"Diferenciado\",$I$4=#REF!),BDI!$G$17,IF(AND(#REF!=\"Diferenciado\",$I$4=#REF!),BDI!$H$17,IF(#REF!=\"ZERO\",0))))),\"\")","v":{"$error":"#REF!"}},"",""]
["SF-00655","Eletrodos para solda","Consumível","un",0,"","",{"$f":"IF(A660<>\"\",IF(AND(#REF!=\"Padrão\",$I$4=#REF!),BDI!$B$17,IF(AND(#REF!=\"Padrão\",$I$4=#REF!),BDI!$C$17,IF(AND(#REF!=\"Diferenciado\",$I$4=#REF!),BDI!$G$17,IF(AND(#REF!=\"Diferenciado\",$I$4=#REF!),BDI!$H$17,IF(#REF!=\"ZERO\",0))))),\"\")","v":{"$error":"#REF!"}},"",""]
["SF-00656","Espuma","Consumível","un",0,"","",{"$f":"IF(A661<>\"\",IF(AND(#REF!=\"Padrão\",$I$4=#REF!),BDI!$B$17,IF(AND(#REF!=\"Padrão\",$I$4=#REF!),BDI!$C$17,IF(AND(#REF!=\"Diferenciado\",$I$4=#REF!),BDI!$G$17,IF(AND(#REF!=\"Diferenciado\",$I$4=#REF!),BDI!$H$17,IF(#REF!=\"ZERO\",0))))),\"\")","v":{"$error":"#REF!"}},"",""]
["SF-00657","Escovas para limpeza","Consumível","un",0,"","",{"$f":"IF(A662<>\"\",IF(AND(#REF!=\"Padrão\",$I$4=#REF!),BDI!$B$17,IF(AND(#REF!=\"Padrão\",$I$4=#REF!),BDI!$C$17,IF(AND(#REF!=\"Diferenciado\",$I$4=#REF!),BDI!$G$17,IF(AND(#REF!=\"Diferenciado\",$I$4=#REF!),BDI!$H$17,IF(#REF!=\"ZERO\",0))))),\"\")","v":{"$error":"#REF!"}},"",""]
["SF-00658","Estopa","Consumível","un",0,"","",{"$f":"IF(A663<>\"\",IF(AND(#REF!=\"Padrão\",$I$4=#REF!),BDI!$B$17,IF(AND(#REF!=\"Padrão\",$I$4=#REF!),BDI!$C$17,IF(AND(#REF!=\"Diferenciado\",$I$4=#REF!),BDI!$G$17,IF(AND(#REF!=\"Diferenciado\",$I$4=#REF!),BDI!$H$17,IF(#REF!=\"ZERO\",0))))),\"\")","v":{"$error":"#REF!"}},"",""]
["SF-00659","Fita de arquear","Consumível","un",0,"","",{"$f":"IF(A664<>\"\",IF(AND(#REF!=\"Padrão\",$I$4=#REF!),BDI!$B$17,IF(AND(#REF!=\"Padrão\",$I$4=#REF!),BDI!$C$17,IF(AND(#REF!=\"Diferenciado\",$I$4=#REF!),BDI!$G$17,IF(AND(#REF!=\"Diferenciado\",$I$4=#REF!),BDI!$H$17,IF(#REF!=\"ZERO\",0))))),\"\")","v":{"$error":"#REF!"}},"",""]
["SF-00660","Fita teflon veda-rosca","Consumível","un",0,"","",{"$f":"IF(A665<>\"\",IF(AND(#REF!=\"Padrão\",$I$4=#REF!),BDI!$B$17,IF(AND(#REF!=\"Padrão\",$I$4=#REF!),BDI!$C$17,IF(AND(#REF!=\"Diferenciado\",$I$4=#REF!),BDI!$G$17,IF(AND(#REF!=\"Diferenciado\",$I$4=#REF!),BDI!$H$17,IF(#REF!=\"ZERO\",0))))),\"\")","v":{"$error":"#REF!"}},"",""]
["SF-00661","Fita vinílica de proteção","Consumível","un",0,"","",{"$f":"IF(A666<>\"\",IF(AND(#REF!=\"Padrão\",$I$4=#REF!),BDI!$B$17,IF(AND(#REF!=\"Padrão\",$I$4=#REF!),BDI!$C$17,IF(AND(#REF!=\"Diferenciado\",$I$4=#REF!),BDI!$G$17,IF(AND(#REF!=\"Diferenciado\",$I$4=#REF!),BDI!$H$17,IF(#REF!=\"ZERO\",0))))),\"\")","v":{"$error":"#REF!"}},"",""]
["SF-00662","Fitas adesivas","Consumível","un",0,"","",{"$f":"IF(A667<>\"\",IF(AND(#REF!=\"Padrão\",$I$4=#REF!),BDI!$B$17,IF(AND(#REF!=\"Padrão\",$I$4=#REF!),BDI!$C$17,IF(AND(#REF!=\"Diferenciado\",$I$4=#REF!),BDI!$G$17,IF(AND(#REF!=\"Diferenciado\",$I$4=#REF!),BDI!$H$17,IF(#REF!=\"ZERO\",0))))),\"\")","v":{"$error":"#REF!"}},"",""]
["SF-00663","Fitas isolantes","Consumível","un",0,"","",{"$f":"IF(A668<>\"\",IF(AND(#REF!=\"Padrão\",$I$4=#REF!),BDI!$B$17,IF(AND(#REF!=\"Padrão\",$I$4=#REF!),BDI!$C$17,IF(AND(#REF!=\"Diferenciado\",$I$4=#REF!),BDI!$G$17,IF(AND(#REF!=\"Diferenciado\",$I$4=#REF!),BDI!$H$17,IF(#REF!=\"ZERO\",0))))),\"\")","v":{"$error":"#REF!"}},"",""]
["SF-00664","Fluxo de solda","Consumível","un",0,"","",{"$f":"IF(A669<>\"\",IF(AND(#REF!=\"Padrão\",$I$4=#REF!),BDI!$B$17,IF(AND(#REF!=\"Padrão\",$I$4=#REF!),BDI!$C$17,IF(AND(#REF!=\"Diferenciado\",$I$4=#REF!),BDI!$G$17,IF(AND(#REF!=\"Diferenciado\",$I$4=#REF!),BDI!$H$17,IF(#REF!=\"ZERO\",0))))),\"\")","v":{"$error":"#REF!"}},"",""]
["SF-00665","Fundo anticorrosivo","Consumível","un",0,"","",{"$f":"IF(A670<>\"\",IF(AND(#REF!=\"Padrão\",$I$4=#REF!),BDI!$B$17,IF(AND(#REF!=\"Padrão\",$I$4=#REF!),BDI!$C$17,IF(AND(#REF!=\"Diferenciado\",$I$4=#REF!),BDI!$G$17,IF(AND(#REF!=\"Diferenciado\",$I$4=#REF!),BDI!$H$17,IF(#REF!=\"ZERO\",0))))),\"\")","v":{"$error":"#REF!"}},"",""]
["SF-00666","Gasolina","Consumível","Litro",0,"","",{"$f":"IF(A671<>\"\",IF(AND(#REF!=\"Padrão\",$I$4=#REF!),BDI!$B$17,IF(AND(#REF!=\"Padrão\",$I$4=#REF!),BDI!$C$17,IF(AND(#REF!=\"Diferenciado\",$I$4=#REF!),BDI!$G$17,IF(AND(#REF!=\"Diferenciado\",$I$4=#REF!),BDI!$H$17,IF(#REF!=\"ZERO\",0))))),\"\")","v":{"$error":"#REF!"}},"",""]
["SF-00667","Graxas","Consumível","un",0,"","",{"$f":"IF(A672<>\"\",IF(AND(#REF!=\"Padrão\",$I$4=#REF!),BDI!$B$17,IF(AND(#REF!=\"Padrão\",$I$4=#REF!),BDI!$C$17,IF(AND(#REF!=\"Diferenciado\",$I$4=#REF!),BDI!$G$17,IF(AND(#REF!=\"Diferenciado\",$I$4=#REF!),BDI!$H$17,IF(#REF!=\"ZERO\",0))))),\"\")","v":{"$error":"#REF!"}},"",""]
["SF-00668","Impermeabilizantes","Consumível","un",0,"","",{"$f":"IF(A673<>\"\",IF(AND(#REF!=\"Padrão\",$I$4=#REF!),BDI!$B$17,IF(AND(#REF!=\"Padrão\",$I$4=#REF!),BDI!$C$17,IF(AND(#REF!=\"Diferenciado\",$I$4=#REF!),BDI!$G$17,IF(AND(#REF!=\"Diferenciado\",$I$4=#REF!),BDI!$H$17,IF(#REF!=\"ZERO\",0))))),\"\")","v":{"$error":"#REF!"}},"",""]
["SF-00669","Jogo de brocas para concreto","Consumível","un",0,"","",{"$f":"IF(A674<>\"\",IF(AND(#REF!=\"Padrão\",$I$4=#REF!),BDI!$B$17,IF(AND(#REF!=\"Padrão\",$I$4=#REF!),BDI!$C$17,IF(AND(#REF!=\"Diferenciado\",$I$4=#REF!),BDI!$G$17,IF(AND(#REF!=\"Diferenciado\",$I$4=#REF!),BDI!$H$17,IF(#REF!=\"ZERO\",0))))),\"\")","v":{"$error":"#REF!"}},"",""]
["SF-00670","Jogo de brocas para madeira","Consumível","un",0,"","",{"$f":"IF(A675<>\"\",IF(AND(#REF!=\"Padrão\",$I$4=#REF!),BDI!$B$17,IF(AND(#REF!=\"Padrão\",$I$4=#REF!),BDI!$C$17,IF(AND(#REF!=\"Diferenciado\",$I$4=#REF!),BDI!$G$17,IF(AND(#REF!=\"Diferenciado\",$I$4=#REF!),BDI!$H$17,IF(#REF!=\"ZERO\",0))))),\"\")","v":{"$error":"#REF!"}},"",""]
["SF-00671","Jogo de discos para polir e para lixar","Consumível","un",0,"","",{"$f":"IF(A676<>\"\",IF(AND(#REF!=\"Padrão\",$I$4=#REF!),BDI!$B$17,IF(AND(#REF!=\"Padrão\",$I$4=#REF!),BDI!$C$17,IF(AND(#REF!=\"Diferenciado\",$I$4=#REF!),BDI!$G$17,IF(AND(#REF!=\"Diferenciado\",$I$4=#REF!),BDI!$H$17,IF(#REF!=\"ZERO\",0))))),\"\")","v":{"$error":"#REF!"}},"",""]
["SF-00672","Jogo de pontas e brocas para metal","Consumível","un",0,"","",{"$f":"IF(A677<>\"\",IF(AND(#REF!=\"Padrão\",$I$4=#REF!),BDI!$B$17,IF(AND(#REF!=\"Padrão\",$I$4=#REF!),BDI!$C$17,IF(AND(#REF!=\"Diferenciado\",$I$4=#REF!),BDI!$G$17,IF(AND(#REF!=\"Diferenciado\",$I$4=#REF!),BDI!$H$17,IF(#REF!=\"ZERO\",0))))),\"\")","v":{"$error":"#REF!"}},"",""]
["SF-00673","Jogo de pontas para parafusadeira","Consumível","un",0,"","",{"$f":"IF(A678<>\"\",IF(AND(#REF!=\"Padrão\",$I$4=#REF!),BDI!$B$17,IF(AND(#REF!=\"Padrão\",$I$4=#REF!),BDI!$C$17,IF(AND(#REF!=\"Diferenciado\",$I$4=#REF!),BDI!$G$17,IF(AND(#REF!=\"Diferenciado\",$I$4=#REF!),BDI!$H$17,IF(#REF!=\"ZERO\",0))))),\"\")","v":{"$error":"#REF!"}},"",""]
["SF-00674","Kit de brocas serra copos inclusive para metal","Consumível","un",0,"","",{"$f":"IF(A679<>\"\",IF(AND(#REF!=\"Padrão\",$I$4=#REF!),BDI!$B$17,IF(AND(#REF!=\"Padrão\",$I$4=#REF!),BDI!$C$17,IF(AND(#REF!=\"Diferenciado\",$I$4=#REF!),BDI!$G$17,IF(AND(#REF!=\"Diferenciado\",$I$4=#REF!),BDI!$H$17,IF(#REF!=\"ZERO\",0))))),\"\")","v":{"$error":"#REF!"}},"",""]
["SF-00675","Lâminas de serra de arco","Consumível","un",0,"","",{"$f":"IF(A680<>\"\",IF(AND(#REF!=\"Padrão\",$I$4=#REF!),BDI!$B$17,IF(AND(#REF!=\"Padrão\",$I$4=#REF!),BDI!$C$17,IF(AND(#REF!=\"Diferenciado\",$I$4=#REF!),BDI!$G$17,IF(AND(#REF!=\"Diferenciado\",$I$4=#REF!),BDI!$H$17,IF(#REF!=\"ZERO\",0))))),\"\")","v":{"$error":"#REF!"}},"",""]
["SF-00676","Lâminas de serra e de segueta","Consumível","un",0,"","",{"$f":"IF(A681<>\"\",IF(AND(#REF!=\"Padrão\",$I$4=#REF!),BDI!$B$17,IF(AND(#REF!=\"Padrão\",$I$4=#REF!),BDI!$C$17,IF(AND(#REF!=\"Diferenciado\",$I$4=#REF!),BDI!$G$17,IF(AND(#REF!=\"Diferenciado\",$I$4=#REF!),BDI!$H$17,IF(#REF!=\"ZERO\",0))))),\"\")","v":{"$error":"#REF!"}},"",""]
["SF-00677","Lâminas de serra tico-tico","Consumível","un",0,"","",{"$f":"IF(A682<>\"\",IF(AND(#REF!=\"Padrão\",$I$4=#REF!),BDI!$B$17,IF(AND(#REF!=\"Padrão\",$I$4=#REF!),BDI!$C$17,IF(AND(#REF!=\"Diferenciado\",$I$4=#REF!),BDI!$G$17,IF(AND(#REF!=\"Diferenciado\",$I$4=#REF!),BDI!$H$17,IF(#REF!=\"ZERO\",0))))),\"\")","v":{"$error":"#REF!"}},"",""]
["SF-00678","Limas chatas","Consumível","un",0,"","",{"$f":"IF(A683<>\"\",IF(AND(#REF!=\"Padrão\",$I$4=#REF!),BDI!$B$17,IF(AND(#REF!=\"Padrão\",$I$4=#REF!),BDI!$C$17,IF(AND(#REF!=\"Diferenciado\",$I$4=#REF!),BDI!$G$17,IF(AND(#REF!=\"Diferenciado\",$I$4=#REF!),BDI!$H$17,IF(#REF!=\"ZERO\",0))))),\"\")","v":{"$error":"#REF!"}},"",""]
["SF-00679","Limas triangulares","Consumível","un",0,"","",{"$f":"IF(A684<>\"\",IF(AND(#REF!=\"Padrão\",$I$4=#REF!),BDI!$B$17,IF(AND(#REF!=\"Padrão\",$I$4=#REF!),BDI!$C$17,IF(AND(#REF!=\"Diferenciado\",$I$4=#REF!),BDI!$G$17,IF(AND(#REF!=\"Diferenciado\",$I$4=#REF!),BDI!$H$17,IF(#REF!=\"ZERO\",0))))),\"\")","v":{"$error":"#REF!"}},"",""]
["SF-00680","Lixas","Consumível","un",0,"","",{"$f":"IF(A685<>\"\",IF(AND(#REF!=\"Padrão\",$I$4=#REF!),BDI!$B$17,IF(AND(#REF!=\"Padrão\",$I$4=#REF!),BDI!$C$17,IF(AND(#REF!=\"Diferenciado\",$I$4=#REF!),BDI!$G$17,IF(AND(#REF!=\"Diferenciado\",$I$4=#REF!),BDI!$H$17,IF(#REF!=\"ZERO\",0))))),\"\")","v":{"$error":"#REF!"}},"",""]
["SF-00681","Lonas","Consumível","un",0,"","",{"$f":"IF(A686<>\"\",IF(AND(#REF!=\"Padrão\",$I$4=#REF!),BDI!$B$17,IF(AND(#REF!=\"Padrão\",$I$4=#REF!),BDI!$C$17,IF(AND(#REF!=\"Diferenciado\",$I$4=#REF!),BDI!$G$17,IF(AND(#REF!=\"Diferenciado\",$I$4=#REF!),BDI!$H$17,IF(#REF!=\"ZERO\",0))))),\"\")","v":{"$error":"#REF!"}},"",""]
["SF-00682","Lubrificantes","Consumível","un",0,"","",{"$f":"IF(A687<>\"\",IF(AND(#REF!=\"Padrão\",$I$4=#REF!),BDI!$B$17,IF(AND(#REF!=\"Padrão\",$I$4=#REF!),BDI!$C$17,IF(AND(#REF!=\"Diferenciado\",$I$4=#REF!),BDI!$G$17,IF(AND(#REF!=\"Diferenciado\",$I$4=#REF!),BDI!$H$17,IF(#REF!=\"ZERO\",0))))),\"\")","v":{"$error":"#REF!"}},"",""]
["SF-00683","Materiais de escritório","Consumível","un",0,"","",{"$f":"IF(A688<>\"\",IF(AND(#REF!=\"Padrão\",$I$4=#REF!),BDI!$B$17,IF(AND(#REF!=\"Padrão\",$I$4=#REF!),BDI!$C$17,IF(AND(#REF!=\"Diferenciado\",$I$4=#REF!),BDI!$G$17,IF(AND(#REF!=\"Diferenciado\",$I$4=#REF!),BDI!$H$17,IF(#REF!=\"ZERO\",0))))),\"\")","v":{"$error":"#REF!"}},"",""]
["SF-00684","Óleos","Consumível","un",0,"","",{"$f":"IF(A689<>\"\",IF(AND(#REF!=\"Padrão\",$I$4=#REF!),BDI!$B$17,IF(AND(#REF!=\"Padrão\",$I$4=#REF!),BDI!$C$17,IF(AND(#REF!=\"Diferenciado\",$I$4=#REF!),BDI!$G$17,IF(AND(#REF!=\"Diferenciado\",$I$4=#REF!),BDI!$H$17,IF(#REF!=\"ZERO\",0))))),\"\")","v":{"$error":"#REF!"}},"",""]
["SF-00685","Palha de aço","Consumível","un",0,"","",{"$f":"IF(A690<>\"\",IF(AND(#REF!=\"Padrão\",$I$4=#REF!),BDI!$B$17,IF(AND(#REF!=\"Padrão\",$I$4=#REF!),BDI!$C$17,IF(AND(#REF!=\"Diferenciado\",$I$4=#REF!),BDI!$G$17,IF(AND(#REF!=\"Diferenciado\",$I$4=#REF!),BDI!$H$17,IF(#REF!=\"ZERO\",0))))),\"\")","v":{"$error":"#REF!"}},"",""]
["SF-00686","Panos","Consumível","un",0,"","",{"$f":"IF(A691<>\"\",IF(AND(#REF!=\"Padrão\",$I$4=#REF!),BDI!$B$17,IF(AND(#REF!=\"Padrão\",$I$4=#REF!),BDI!$C$17,IF(AND(#REF!=\"Diferenciado\",$I$4=#REF!),BDI!$G$17,IF(AND(#REF!=\"Diferenciado\",$I$4=#REF!),BDI!$H$17,IF(#REF!=\"ZERO\",0))))),\"\")","v":{"$error":"#REF!"}},"",""]
["SF-00687","Parafina","Consumível","un",0,"","",{"$f":"IF(A692<>\"\",IF(AND(#REF!=\"Padrão\",$I$4=#REF!),BDI!$B$17,IF(AND(#REF!=\"Padrão\",$I$4=#REF!),BDI!$C$17,IF(AND(#REF!=\"Diferenciado\",$I$4=#REF!),BDI!$G$17,IF(AND(#REF!=\"Diferenciado\",$I$4=#REF!),BDI!$H$17,IF(#REF!=\"ZERO\",0))))),\"\")","v":{"$error":"#REF!"}},"",""]
["SF-00688","Pasta para solda","Consumível","un",0,"","",{"$f":"IF(A693<>\"\",IF(AND(#REF!=\"Padrão\",$I$4=#REF!),BDI!$B$17,IF(AND(#REF!=\"Padrão\",$I$4=#REF!),BDI!$C$17,IF(AND(#REF!=\"Diferenciado\",$I$4=#REF!),BDI!$G$17,IF(AND(#REF!=\"Diferenciado\",$I$4=#REF!),BDI!$H$17,IF(#REF!=\"ZERO\",0))))),\"\")","v":{"$error":"#REF!"}},"",""]
["SF-00689","Pilhas e baterias","Consumível","un",0,"","",{"$f":"IF(A694<>\"\",IF(AND(#REF!=\"Padrão\",$I$4=#REF!),BDI!$B$17,IF(AND(#REF!=\"Padrão\",$I$4=#REF!),BDI!$C$17,IF(AND(#REF!=\"Diferenciado\",$I$4=#REF!),BDI!$G$17,IF(AND(#REF!=\"Diferenciado\",$I$4=#REF!),BDI!$H$17,IF(#REF!=\"ZERO\",0))))),\"\")","v":{"$error":"#REF!"}},"",""]
["SF-00690","Pincéis","Consumível","un",0,"","",{"$f":"IF(A695<>\"\",IF(AND(#REF!=\"Padrão\",$I$4=#REF!),BDI!$B$17,IF(AND(#REF!=\"Padrão\",$I$4=#REF!),BDI!$C$17,IF(AND(#REF!=\"Diferenciado\",$I$4=#REF!),BDI!$G$17,IF(AND(#REF!=\"Diferenciado\",$I$4=#REF!),BDI!$H$17,IF(#REF!=\"ZERO\",0))))),\"\")","v":{"$error":"#REF!"}},"",""]
["SF-00691","Pregos em tamanhos variados","Consumível","un",0,"","",{"$f":"IF(A696<>\"\",IF(AND(#REF!=\"Padrão\",$I$4=#REF!),BDI!$B$17,IF(AND(#REF!=\"Padrão\",$I$4=#REF!),BDI!$C$17,IF(AND(#REF!=\"Diferenciado\",$I$4=#REF!),BDI!$G$17,IF(AND(#REF!=\"Diferenciado\",$I$4=#REF!),BDI!$H$17,IF(#REF!=\"ZERO\",0))))),\"\")","v":{"$error":"#REF!"}},"",""]
["SF-00692","Produtos antiferrugem","Consumível","un",0,"","",{"$f":"IF(A697<>\"\",IF(AND(#REF!=\"Padrão\",$I$4=#REF!),BDI!$B$17,IF(AND(#REF!=\"Padrão\",$I$4=#REF!),BDI!$C$17,IF(AND(#REF!=\"Diferenciado\",$I$4=#REF!),BDI!$G$17,IF(AND(#REF!=\"Diferenciado\",$I$4=#REF!),BDI!$H$17,IF(#REF!=\"ZERO\",0))))),\"\")","v":{"$error":"#REF!"}},"",""]
["SF-00693","Querosene","Consumível","un",0,"","",{"$f":"IF(A698<>\"\",IF(AND(#REF!=\"Padrão\",$I$4=#REF!),BDI!$B$17,IF(AND(#REF!=\"Padrão\",$I$4=#REF!),BDI!$C$17,IF(AND(#REF!=\"Diferenciado\",$I$4=#REF!),BDI!$G$17,IF(AND(#REF!=\"Diferenciado\",$I$4=#REF!),BDI!$H$17,IF(#REF!=\"ZERO\",0))))),\"\")","v":{"$error":"#REF!"}},"",""]
["SF-00694","Rebolos","Consumível","un",0,"","",{"$f":"IF(A699<>\"\",IF(AND(#REF!=\"Padrão\",$I$4=#REF!),BDI!$B$17,IF(AND(#REF!=\"Padrão\",$I$4=#REF!),BDI!$C$17,IF(AND(#REF!=\"Diferenciado\",$I$4=#REF!),BDI!$G$17,IF(AND(#REF!=\"Diferenciado\",$I$4=#REF!),BDI!$H$17,IF(#REF!=\"ZERO\",0))))),\"\")","v":{"$error":"#REF!"}},"",""]
["SF-00695","Rebolos de esmeril retangular","Consumível","un",0,"","",{"$f":"IF(A700<>\"\",IF(AND(#REF!=\"Padrão\",$I$4=#REF!),BDI!$B$17,IF(AND(#REF!=\"Padrão\",$I$4=#REF!),BDI!$C$17,IF(AND(#REF!=\"Diferenciado\",$I$4=#REF!),BDI!$G$17,IF(AND(#REF!=\"Diferenciado\",$I$4=#REF!),BDI!$H$17,IF(#REF!=\"ZERO\",0))))),\"\")","v":{"$error":"#REF!"}},"",""]
["SF-00696","Resinas","Consumível","un",0,"","",{"$f":"IF(A701<>\"\",IF(AND(#REF!=\"Padrão\",$I$4=#REF!),BDI!$B$17,IF(AND(#REF!=\"Padrão\",$I$4=#REF!),BDI!$C$17,IF(AND(#REF!=\"Diferenciado\",$I$4=#REF!),BDI!$G$17,IF(AND(#REF!=\"Diferenciado\",$I$4=#REF!),BDI!$H$17,IF(#REF!=\"ZERO\",0))))),\"\")","v":{"$error":"#REF!"}},"",""]
["SF-00697","Sabão","Consumível","un",0,"","",{"$f":"IF(A702<>\"\",IF(AND(#REF!=\"Padrão\",$I$4=#REF!),BDI!$B$17,IF(AND(#REF!=\"Padrão\",$I$4=#REF!),BDI!$C$17,IF(AND(#REF!=\"Diferenciado\",$I$4=#REF!),BDI!$G$17,IF(AND(#REF!=\"Diferenciado\",$I$4=#REF!),BDI!$H$17,IF(#REF!=\"ZERO\",0))))),\"\")","v":{"$error":"#REF!"}},"",""]
["SF-00698","Serra copo","Consumível","un",0,"","",{"$f":"IF(A703<>\"\",IF(AND(#REF!=\"Padrão\",$I$4=#REF!),BDI!$B$17,IF(AND(#REF!=\"Padrão\",$I$4=#REF!),BDI!$C$17,IF(AND(#REF!=\"Diferenciado\",$I$4=#REF!),BDI!$G$17,IF(AND(#REF!=\"Diferenciado\",$I$4=#REF!),BDI!$H$17,IF(#REF!=\"ZERO\",0))))),\"\")","v":{"$error":"#REF!"}},"",""]
["SF-00699","Silicone","Consumível","un",0,"","",{"$f":"IF(A704<>\"\",IF(AND(#REF!=\"Padrão\",$I$4=#REF!),BDI!$B$17,IF(AND(#REF!=\"Padrão\",$I$4=#REF!),BDI!$C$17,IF(AND(#REF!=\"Diferenciado\",$I$4=#REF!),BDI!$G$17,IF(AND(#REF!=\"Diferenciado\",$I$4=#REF!),BDI!$H$17,IF(#REF!=\"ZERO\",0))))),\"\")","v":{"$error":"#REF!"}},"",""]
["SF-00700","Soldas","Consumível","un",0,"","",{"$f":"IF(A705<>\"\",IF(AND(#REF!=\"Padrão\",$I$4=#REF!),BDI!$B$17,IF(AND(#REF!=\"Padrão\",$I$4=#REF!),BDI!$C$17,IF(AND(#REF!=\"Diferenciado\",$I$4=#REF!),BDI!$G$17,IF(AND(#REF!=\"Diferenciado\",$I$4=#REF!),BDI!$H$17,IF(#REF!=\"ZERO\",0))))),\"\")","v":{"$error":"#REF!"}},"",""]
["SF-00701","Solventes","Consumível","un",0,"","",{"$f":"IF(A706<>\"\",IF(AND(#REF!=\"Padrão\",$I$4=#REF!),BDI!$B$17,IF(AND(#REF!=\"Padrão\",$I$4=#REF!),BDI!$C$17,IF(AND(#REF!=\"Diferenciado\",$I$4=#REF!),BDI!$G$17,IF(AND(#REF!=\"Diferenciado\",$I$4=#REF!),BDI!$H$17,IF(#REF!=\"ZERO\",0))))),\"\")","v":{"$error":"#REF!"}},"",""]
["SF-00702","Utensílios e produtos para limpeza","Consumível","un",0,"","",{"$f":"IF(A707<>\"\",IF(AND(#REF!=\"Padrão\",$I$4=#REF!),BDI!$B$17,IF(AND(#REF!=\"Padrão\",$I$4=#REF!),BDI!$C$17,IF(AND(#REF!=\"Diferenciado\",$I$4=#REF!),BDI!$G$17,IF(AND(#REF!=\"Diferenciado\",$I$4=#REF!),BDI!$H$17,IF(#REF!=\"ZERO\",0))))),\"\")","v":{"$error":"#REF!"}},"",""]
["SF-00703","Varetas soldadoras","Consumível","un",0,"","",{"$f":"IF(A708<>\"\",IF(AND(#REF!=\"Padrão\",$I$4=#REF!),BDI!$B$17,IF(AND(#REF!=\"Padrão\",$I$4=#REF!),BDI!$C$17,IF(AND(#REF!=\"Diferenciado\",$I$4=#REF!),BDI!$G$17,IF(AND(#REF!=\"Diferenciado\",$I$4=#REF!),BDI!$H$17,IF(#REF!=\"ZERO\",0))))),\"\")","v":{"$error":"#REF!"}},"",""]
["SF-00704","Vaselina","Consumível","un",0,"","",{"$f":"IF(A709<>\"\",IF(AND(#REF!=\"Padrão\",$I$4=#REF!),BDI!$B$17,IF(AND(#REF!=\"Padrão\",$I$4=#REF!),BDI!$C$17,IF(AND(#REF!=\"Diferenciado\",$I$4=#REF!),BDI!$G$17,IF(AND(#REF!=\"Diferenciado\",$I$4=#REF!),BDI!$H$17,IF(#REF!=\"ZERO\",0))))),\"\")","v":{"$error":"#REF!"}},"",""]
["SF-00705","Vedante em gel","Consumível","un",0,"","",{"$f":"IF(A710<>\"\",IF(AND(#REF!=\"Padrão\",$I$4=#REF!),BDI!$B$17,IF(AND(#REF!=\"Padrão\",$I$4=#REF!),BDI!$C$17,IF(AND(#REF!=\"Diferenciado\",$I$4=#REF!),BDI!$G$17,IF(AND(#REF!=\"Diferenciado\",$I$4=#REF!),BDI!$H$17,IF(#REF!=\"ZERO\",0))))),\"\")","v":{"$error":"#REF!"}},"",""]
["SF-00706","Massa epóxi","Consumível","un",0,"",{"$f":"IF(ISNUMBER(F711),ROUND(E711*F711,2),\"\")","v":""},{"$f":"IF(A711<>\"\",IF(AND(#REF!=\"Padrão\",$I$4=#REF!),BDI!$B$17,IF(AND(#REF!=\"Padrão\",$I$4=#REF!),BDI!$C$17,IF(AND(#REF!=\"Diferenciado\",$I$4=#REF!),BDI!$G$17,IF(AND(#REF!=\"Diferenciado\",$I$4=#REF!),BDI!$H$17,IF(#REF!=\"ZERO\",0))))),\"\")","v":{"$error":"#REF!"}},{"$f":"IF(ISNUMBER(F711),ROUND(F711*(1+H711),2),\"\")","v":""},{"$f":"IF(ISNUMBER(F711),ROUND(I711*E711,2),\"\")","v":""}]
["SF-00707","Algodão","Consumível","un",0,"","",{"$f":"IF(A712<>\"\",IF(AND(#REF!=\"Padrão\",$I$4=#REF!),BDI!$B$17,IF(AND(#REF!=\"Padrão\",$I$4=#REF!),BDI!$C$17,IF(AND(#REF!=\"Diferenciado\",$I$4=#REF!),BDI!$G$17,IF(AND(#REF!=\"Diferenciado\",$I$4=#REF!),BDI!$H$17,IF(#REF!=\"ZERO\",0))))),\"\")","v":{"$error":"#REF!"}},"",""]
["SF-00708","Supervisor(a)-Geral","Mão-de-Obra","Profissional",0,{"$f":"OFFSET(INDEX(Composições!A:J,MATCH(Orçamentária!A713,Composições!A:A,0),8),2,0)","v":9799.4857519999987},0,{"$f":"IF(A713<>\"\",IF(AND(#REF!=\"Padrão\",$I$4=#REF!),BDI!$B$17,IF(AND(#REF!=\"Padrão\",$I$4=#REF!),BDI!$C$17,IF(AND(#REF!=\"Diferenciado\",$I$4=#REF!),BDI!$G$17,IF(AND(#REF!=\"Diferenciado\",$I$4=#REF!),BDI!$H$17,IF(#REF!=\"ZERO\",0))))),\"\")","v":{"$error":"#REF!"}},{"$error":"#REF!"},{"$error":"#REF!"}]
["SF-00709","Apoio Técnico Administrativo – Controle de Almoxarifado","Mão-de-Obra","Profissional",0,{"$f":"OFFSET(INDEX(Composições!A:J,MATCH(Orçamentária!A714,Composições!A:A,0),8),2,0)","v":2645.2720055999998},0,{"$f":"IF(A714<>\"\",IF(AND(#REF!=\"Padrão\",$I$4=#REF!),BDI!$B$17,IF(AND(#REF!=\"Padrão\",$I$4=#REF!),BDI!$C$17,IF(AND(#REF!=\"Diferenciado\",$I$4=#REF!),BDI!$G$17,IF(AND(#REF!=\"Diferenciado\",$I$4=#REF!),BDI!$H$17,IF(#REF!=\"ZERO\",0))))),\"\")","v":{"$error":"#REF!"}},{"$error":"#REF!"},{"$error":"#REF!"}]
["SF-00710","Ajudante de Serviços Gerais","Mão-de-Obra","Profissional",0,{"$f":"OFFSET(INDEX(Composições!A:J,MATCH(Orçamentária!A715,Composições!A:A,0),8),2,0)","v":1685.9435908000003},0,{"$f":"IF(A715<>\"\",IF(AND(#REF!=\"Padrão\",$I$4=#REF!),BDI!$B$17,IF(AND(#REF!=\"Padrão\",$I$4=#REF!),BDI!$C$17,IF(AND(#REF!=\"Diferenciado\",$I$4=#REF!),BDI!$G$17,IF(AND(#REF!=\"Diferenciado\",$I$4=#REF!),BDI!$H$17,IF(#REF!=\"ZERO\",0))))),\"\")","v":{"$error":"#REF!"}},{"$error":"#REF!"},{"$error":"#REF!"}]
["SF-00711","Ajudante de Marceneiro(a)","Mão-de-Obra","Profissional",0,{"$f":"OFFSET(INDEX(Composições!A:J,MATCH(Orçamentária!A716,Composições!A:A,0),8),2,0)","v":1908.8377055999999},0,{"$f":"IF(A716<>\"\",IF(AND(#REF!=\"Padrão\",$I$4=#REF!),BDI!$B$17,IF(AND(#REF!=\"Padrão\",$I$4=#REF!),BDI!$C$17,IF(AND(#REF!=\"Diferenciado\",$I$4=#REF!),BDI!$G$17,IF(AND(#REF!=\"Diferenciado\",$I$4=#REF!),BDI!$H$17,IF(#REF!=\"ZERO\",0))))),\"\")","v":{"$error":"#REF!"}},{"$error":"#REF!"},{"$error":"#REF!"}]
["SF-00712","Ajudante de Serralheiro(a)","Mão-de-Obra","Profissional",0,{"$f":"OFFSET(INDEX(Composições!A:J,MATCH(Orçamentária!A717,Composições!A:A,0),8),2,0)","v":1849.9229616},0,{"$f":"IF(A717<>\"\",IF(AND(#REF!=\"Padrão\",$I$4=#REF!),BDI!$B$17,IF(AND(#REF!=\"Padrão\",$I$4=#REF!),BDI!$C$17,IF(AND(#REF!=\"Diferenciado\",$I$4=#REF!),BDI!$G$17,IF(AND(#REF!=\"Diferenciado\",$I$4=#REF!),BDI!$H$17,IF(#REF!=\"ZERO\",0))))),\"\")","v":{"$error":"#REF!"}},{"$error":"#REF!"},{"$error":"#REF!"}]
["SF-00713","Lustrador(a) de Móveis","Mão-de-Obra","Profissional",0,{"$f":"OFFSET(INDEX(Composições!A:J,MATCH(Orçamentária!A718,Composições!A:A,0),8),2,0)","v":2301.6026655999999},0,{"$f":"IF(A718<>\"\",IF(AND(#REF!=\"Padrão\",$I$4=#REF!),BDI!$B$17,IF(AND(#REF!=\"Padrão\",$I$4=#REF!),BDI!$C$17,IF(AND(#REF!=\"Diferenciado\",$I$4=#REF!),BDI!$G$17,IF(AND(#REF!=\"Diferenciado\",$I$4=#REF!),BDI!$H$17,IF(#REF!=\"ZERO\",0))))),\"\")","v":{"$error":"#REF!"}},{"$error":"#REF!"},{"$error":"#REF!"}]
["SF-00714","Marceneiro(a)","Mão-de-Obra","Profissional",0,{"$f":"OFFSET(INDEX(Composições!A:J,MATCH(Orçamentária!A719,Composições!A:A,0),8),2,0)","v":2301.6026655999999},0,{"$f":"IF(A719<>\"\",IF(AND(#REF!=\"Padrão\",$I$4=#REF!),BDI!$B$17,IF(AND(#REF!=\"Padrão\",$I$4=#REF!),BDI!$C$17,IF(AND(#REF!=\"Diferenciado\",$I$4=#REF!),BDI!$G$17,IF(AND(#REF!=\"Diferenciado\",$I$4=#REF!),BDI!$H$17,IF(#REF!=\"ZERO\",0))))),\"\")","v":{"$error":"#REF!"}},{"$error":"#REF!"},{"$error":"#REF!"}]
["SF-00715","Serralheiro(a)","Mão-de-Obra","Profissional",0,{"$f":"OFFSET(INDEX(Composições!A:J,MATCH(Orçamentária!A720,Composições!A:A,0),8),2,0)","v":2271.1633812},0,{"$f":"IF(A720<>\"\",IF(AND(#REF!=\"Padrão\",$I$4=#REF!),BDI!$B$17,IF(AND(#REF!=\"Padrão\",$I$4=#REF!),BDI!$C$17,IF(AND(#REF!=\"Diferenciado\",$I$4=#REF!),BDI!$G$17,IF(AND(#REF!=\"Diferenciado\",$I$4=#REF!),BDI!$H$17,IF(#REF!=\"ZERO\",0))))),\"\")","v":{"$error":"#REF!"}},{"$error":"#REF!"},{"$error":"#REF!"}]
["SF-00716","Mestre de Obras (Posto de Trabalho)","Mão-de-Obra","Profissional",0,{"$f":"OFFSET(INDEX(Composições!A:J,MATCH(Orçamentária!A721,Composições!A:A,0),8),2,0)","v":2713.0239611999996},0,{"$f":"IF(A721<>\"\",IF(AND(#REF!=\"Padrão\",$I$4=#REF!),BDI!$B$17,IF(AND(#REF!=\"Padrão\",$I$4=#REF!),BDI!$C$17,IF(AND(#REF!=\"Diferenciado\",$I$4=#REF!),BDI!$G$17,IF(AND(#REF!=\"Diferenciado\",$I$4=#REF!),BDI!$H$17,IF(#REF!=\"ZERO\",0))))),\"\")","v":{"$error":"#REF!"}},{"$error":"#REF!"},{"$error":"#REF!"}]
["SF-00717","Oficial de Serviços Gerais","Mão-de-Obra","Profissional",0,{"$f":"OFFSET(INDEX(Composições!A:J,MATCH(Orçamentária!A722,Composições!A:A,0),8),2,0)","v":2282.9463299999998},0,{"$f":"IF(A722<>\"\",IF(AND(#REF!=\"Padrão\",$I$4=#REF!),BDI!$B$17,IF(AND(#REF!=\"Padrão\",$I$4=#REF!),BDI!$C$17,IF(AND(#REF!=\"Diferenciado\",$I$4=#REF!),BDI!$G$17,IF(AND(#REF!=\"Diferenciado\",$I$4=#REF!),BDI!$H$17,IF(#REF!=\"ZERO\",0))))),\"\")","v":{"$error":"#REF!"}},{"$error":"#REF!"},{"$error":"#REF!"}]
["SF-00718","Alicate  de corte diagonal 6''","Equipamento/Ferramenta","un",0,"","",{"$f":"IF(A723<>\"\",IF(AND(#REF!=\"Padrão\",$I$4=#REF!),BDI!$B$17,IF(AND(#REF!=\"Padrão\",$I$4=#REF!),BDI!$C$17,IF(AND(#REF!=\"Diferenciado\",$I$4=#REF!),BDI!$G$17,IF(AND(#REF!=\"Diferenciado\",$I$4=#REF!),BDI!$H$17,IF(#REF!=\"ZERO\",0))))),\"\")","v":{"$error":"#REF!"}},"",""]
["SF-00719","Alicate de pressão de 10\"","Equipamento/Ferramenta","un",0,"","",{"$f":"IF(A724<>\"\",IF(AND(#REF!=\"Padrão\",$I$4=#REF!),BDI!$B$17,IF(AND(#REF!=\"Padrão\",$I$4=#REF!),BDI!$C$17,IF(AND(#REF!=\"Diferenciado\",$I$4=#REF!),BDI!$G$17,IF(AND(#REF!=\"Diferenciado\",$I$4=#REF!),BDI!$H$17,IF(#REF!=\"ZERO\",0))))),\"\")","v":{"$error":"#REF!"}},"",""]
["SF-00720","Alicate meia cana 6''","Equipamento/Ferramenta","un",0,"","",{"$f":"IF(A725<>\"\",IF(AND(#REF!=\"Padrão\",$I$4=#REF!),BDI!$B$17,IF(AND(#REF!=\"Padrão\",$I$4=#REF!),BDI!$C$17,IF(AND(#REF!=\"Diferenciado\",$I$4=#REF!),BDI!$G$17,IF(AND(#REF!=\"Diferenciado\",$I$4=#REF!),BDI!$H$17,IF(#REF!=\"ZERO\",0))))),\"\")","v":{"$error":"#REF!"}},"",""]
["SF-00721","Alicate torquês de 8\"","Equipamento/Ferramenta","un",0,"","",{"$f":"IF(A726<>\"\",IF(AND(#REF!=\"Padrão\",$I$4=#REF!),BDI!$B$17,IF(AND(#REF!=\"Padrão\",$I$4=#REF!),BDI!$C$17,IF(AND(#REF!=\"Diferenciado\",$I$4=#REF!),BDI!$G$17,IF(AND(#REF!=\"Diferenciado\",$I$4=#REF!),BDI!$H$17,IF(#REF!=\"ZERO\",0))))),\"\")","v":{"$error":"#REF!"}},"",""]
["SF-00722","Alicate universal de 8\"","Equipamento/Ferramenta","un",0,"","",{"$f":"IF(A727<>\"\",IF(AND(#REF!=\"Padrão\",$I$4=#REF!),BDI!$B$17,IF(AND(#REF!=\"Padrão\",$I$4=#REF!),BDI!$C$17,IF(AND(#REF!=\"Diferenciado\",$I$4=#REF!),BDI!$G$17,IF(AND(#REF!=\"Diferenciado\",$I$4=#REF!),BDI!$H$17,IF(#REF!=\"ZERO\",0))))),\"\")","v":{"$error":"#REF!"}},"",""]
["SF-00723","Arco de serra","Equipamento/Ferramenta","un",0,"","",{"$f":"IF(A728<>\"\",IF(AND(#REF!=\"Padrão\",$I$4=#REF!),BDI!$B$17,IF(AND(#REF!=\"Padrão\",$I$4=#REF!),BDI!$C$17,IF(AND(#REF!=\"Diferenciado\",$I$4=#REF!),BDI!$G$17,IF(AND(#REF!=\"Diferenciado\",$I$4=#REF!),BDI!$H$17,IF(#REF!=\"ZERO\",0))))),\"\")","v":{"$error":"#REF!"}},"",""]
["SF-00724","Aspirador de pó industrial","Equipamento/Ferramenta","un",0,"","",{"$f":"IF(A729<>\"\",IF(AND(#REF!=\"Padrão\",$I$4=#REF!),BDI!$B$17,IF(AND(#REF!=\"Padrão\",$I$4=#REF!),BDI!$C$17,IF(AND(#REF!=\"Diferenciado\",$I$4=#REF!),BDI!$G$17,IF(AND(#REF!=\"Diferenciado\",$I$4=#REF!),BDI!$H$17,IF(#REF!=\"ZERO\",0))))),\"\")","v":{"$error":"#REF!"}},"",""]
["SF-00725","Balde metálico para concreto 10 L","Equipamento/Ferramenta","un",0,"","",{"$f":"IF(A730<>\"\",IF(AND(#REF!=\"Padrão\",$I$4=#REF!),BDI!$B$17,IF(AND(#REF!=\"Padrão\",$I$4=#REF!),BDI!$C$17,IF(AND(#REF!=\"Diferenciado\",$I$4=#REF!),BDI!$G$17,IF(AND(#REF!=\"Diferenciado\",$I$4=#REF!),BDI!$H$17,IF(#REF!=\"ZERO\",0))))),\"\")","v":{"$error":"#REF!"}},"",""]
["SF-00726","Caixa para ferramenta sanfonada metálica com cadeado","Equipamento/Ferramenta","un",0,"","",{"$f":"IF(A731<>\"\",IF(AND(#REF!=\"Padrão\",$I$4=#REF!),BDI!$B$17,IF(AND(#REF!=\"Padrão\",$I$4=#REF!),BDI!$C$17,IF(AND(#REF!=\"Diferenciado\",$I$4=#REF!),BDI!$G$17,IF(AND(#REF!=\"Diferenciado\",$I$4=#REF!),BDI!$H$17,IF(#REF!=\"ZERO\",0))))),\"\")","v":{"$error":"#REF!"}},"",""]
["SF-00727","Carretel com linha em caixa de pó para marcação","Equipamento/Ferramenta","un",0,"","",{"$f":"IF(A732<>\"\",IF(AND(#REF!=\"Padrão\",$I$4=#REF!),BDI!$B$17,IF(AND(#REF!=\"Padrão\",$I$4=#REF!),BDI!$C$17,IF(AND(#REF!=\"Diferenciado\",$I$4=#REF!),BDI!$G$17,IF(AND(#REF!=\"Diferenciado\",$I$4=#REF!),BDI!$H$17,IF(#REF!=\"ZERO\",0))))),\"\")","v":{"$error":"#REF!"}},"",""]
["SF-00728","Carrinho de mão reforçado","Equipamento/Ferramenta","un",0,"","",{"$f":"IF(A733<>\"\",IF(AND(#REF!=\"Padrão\",$I$4=#REF!),BDI!$B$17,IF(AND(#REF!=\"Padrão\",$I$4=#REF!),BDI!$C$17,IF(AND(#REF!=\"Diferenciado\",$I$4=#REF!),BDI!$G$17,IF(AND(#REF!=\"Diferenciado\",$I$4=#REF!),BDI!$H$17,IF(#REF!=\"ZERO\",0))))),\"\")","v":{"$error":"#REF!"}},"",""]
["SF-00729","Cavadeira articulada","Equipamento/Ferramenta","un",0,"","",{"$f":"IF(A734<>\"\",IF(AND(#REF!=\"Padrão\",$I$4=#REF!),BDI!$B$17,IF(AND(#REF!=\"Padrão\",$I$4=#REF!),BDI!$C$17,IF(AND(#REF!=\"Diferenciado\",$I$4=#REF!),BDI!$G$17,IF(AND(#REF!=\"Diferenciado\",$I$4=#REF!),BDI!$H$17,IF(#REF!=\"ZERO\",0))))),\"\")","v":{"$error":"#REF!"}},"",""]
["SF-00730","Chave de fenda de 1/2\" x 10\"","Equipamento/Ferramenta","un",0,"","",{"$f":"IF(A735<>\"\",IF(AND(#REF!=\"Padrão\",$I$4=#REF!),BDI!$B$17,IF(AND(#REF!=\"Padrão\",$I$4=#REF!),BDI!$C$17,IF(AND(#REF!=\"Diferenciado\",$I$4=#REF!),BDI!$G$17,IF(AND(#REF!=\"Diferenciado\",$I$4=#REF!),BDI!$H$17,IF(#REF!=\"ZERO\",0))))),\"\")","v":{"$error":"#REF!"}},"",""]
["SF-00731","Chave de fenda de 1/4\" x 6\"","Equipamento/Ferramenta","un",0,"","",{"$f":"IF(A736<>\"\",IF(AND(#REF!=\"Padrão\",$I$4=#REF!),BDI!$B$17,IF(AND(#REF!=\"Padrão\",$I$4=#REF!),BDI!$C$17,IF(AND(#REF!=\"Diferenciado\",$I$4=#REF!),BDI!$G$17,IF(AND(#REF!=\"Diferenciado\",$I$4=#REF!),BDI!$H$17,IF(#REF!=\"ZERO\",0))))),\"\")","v":{"$error":"#REF!"}},"",""]
["SF-00732","Chave de fenda de 3/16\" x 5\"","Equipamento/Ferramenta","un",0,"","",{"$f":"IF(A737<>\"\",IF(AND(#REF!=\"Padrão\",$I$4=#REF!),BDI!$B$17,IF(AND(#REF!=\"Padrão\",$I$4=#REF!),BDI!$C$17,IF(AND(#REF!=\"Diferenciado\",$I$4=#REF!),BDI!$G$17,IF(AND(#REF!=\"Diferenciado\",$I$4=#REF!),BDI!$H$17,IF(#REF!=\"ZERO\",0))))),\"\")","v":{"$error":"#REF!"}},"",""]
["SF-00733","Chave Philips PH2 1/4\" x 6\"","Equipamento/Ferramenta","un",0,"","",{"$f":"IF(A738<>\"\",IF(AND(#REF!=\"Padrão\",$I$4=#REF!),BDI!$B$17,IF(AND(#REF!=\"Padrão\",$I$4=#REF!),BDI!$C$17,IF(AND(#REF!=\"Diferenciado\",$I$4=#REF!),BDI!$G$17,IF(AND(#REF!=\"Diferenciado\",$I$4=#REF!),BDI!$H$17,IF(#REF!=\"ZERO\",0))))),\"\")","v":{"$error":"#REF!"}},"",""]
["SF-00734","Chave Philips PH3 5/16\" x 8\"","Equipamento/Ferramenta","un",0,"","",{"$f":"IF(A739<>\"\",IF(AND(#REF!=\"Padrão\",$I$4=#REF!),BDI!$B$17,IF(AND(#REF!=\"Padrão\",$I$4=#REF!),BDI!$C$17,IF(AND(#REF!=\"Diferenciado\",$I$4=#REF!),BDI!$G$17,IF(AND(#REF!=\"Diferenciado\",$I$4=#REF!),BDI!$H$17,IF(#REF!=\"ZERO\",0))))),\"\")","v":{"$error":"#REF!"}},"",""]
["SF-00735","Compressor de Ar 50 L","Equipamento/Ferramenta","un",0,"","",{"$f":"IF(A740<>\"\",IF(AND(#REF!=\"Padrão\",$I$4=#REF!),BDI!$B$17,IF(AND(#REF!=\"Padrão\",$I$4=#REF!),BDI!$C$17,IF(AND(#REF!=\"Diferenciado\",$I$4=#REF!),BDI!$G$17,IF(AND(#REF!=\"Diferenciado\",$I$4=#REF!),BDI!$H$17,IF(#REF!=\"ZERO\",0))))),\"\")","v":{"$error":"#REF!"}},"",""]
["SF-00736","Enxadão com cabo","Equipamento/Ferramenta","un",0,"","",{"$f":"IF(A741<>\"\",IF(AND(#REF!=\"Padrão\",$I$4=#REF!),BDI!$B$17,IF(AND(#REF!=\"Padrão\",$I$4=#REF!),BDI!$C$17,IF(AND(#REF!=\"Diferenciado\",$I$4=#REF!),BDI!$G$17,IF(AND(#REF!=\"Diferenciado\",$I$4=#REF!),BDI!$H$17,IF(#REF!=\"ZERO\",0))))),\"\")","v":{"$error":"#REF!"}},"",""]
["SF-00737","Enxadão estreito com cabo","Equipamento/Ferramenta","un",0,"","",{"$f":"IF(A742<>\"\",IF(AND(#REF!=\"Padrão\",$I$4=#REF!),BDI!$B$17,IF(AND(#REF!=\"Padrão\",$I$4=#REF!),BDI!$C$17,IF(AND(#REF!=\"Diferenciado\",$I$4=#REF!),BDI!$G$17,IF(AND(#REF!=\"Diferenciado\",$I$4=#REF!),BDI!$H$17,IF(#REF!=\"ZERO\",0))))),\"\")","v":{"$error":"#REF!"}},"",""]
["SF-00738","Escada tipo tesoura duplo acesso de fibra com 2m","Equipamento/Ferramenta","un",0,"","",{"$f":"IF(A743<>\"\",IF(AND(#REF!=\"Padrão\",$I$4=#REF!),BDI!$B$17,IF(AND(#REF!=\"Padrão\",$I$4=#REF!),BDI!$C$17,IF(AND(#REF!=\"Diferenciado\",$I$4=#REF!),BDI!$G$17,IF(AND(#REF!=\"Diferenciado\",$I$4=#REF!),BDI!$H$17,IF(#REF!=\"ZERO\",0))))),\"\")","v":{"$error":"#REF!"}},"",""]
["SF-00739","Escada tipo tesoura e singela de fibra com 2 m","Equipamento/Ferramenta","un",0,"","",{"$f":"IF(A744<>\"\",IF(AND(#REF!=\"Padrão\",$I$4=#REF!),BDI!$B$17,IF(AND(#REF!=\"Padrão\",$I$4=#REF!),BDI!$C$17,IF(AND(#REF!=\"Diferenciado\",$I$4=#REF!),BDI!$G$17,IF(AND(#REF!=\"Diferenciado\",$I$4=#REF!),BDI!$H$17,IF(#REF!=\"ZERO\",0))))),\"\")","v":{"$error":"#REF!"}},"",""]
["SF-00740","Escala métrica de madeira 2m","Equipamento/Ferramenta","un",0,"","",{"$f":"IF(A745<>\"\",IF(AND(#REF!=\"Padrão\",$I$4=#REF!),BDI!$B$17,IF(AND(#REF!=\"Padrão\",$I$4=#REF!),BDI!$C$17,IF(AND(#REF!=\"Diferenciado\",$I$4=#REF!),BDI!$G$17,IF(AND(#REF!=\"Diferenciado\",$I$4=#REF!),BDI!$H$17,IF(#REF!=\"ZERO\",0))))),\"\")","v":{"$error":"#REF!"}},"",""]
["SF-00741","Esmerilhadeira Angular 4,5’’","Equipamento/Ferramenta","un",0,"","",{"$f":"IF(A746<>\"\",IF(AND(#REF!=\"Padrão\",$I$4=#REF!),BDI!$B$17,IF(AND(#REF!=\"Padrão\",$I$4=#REF!),BDI!$C$17,IF(AND(#REF!=\"Diferenciado\",$I$4=#REF!),BDI!$G$17,IF(AND(#REF!=\"Diferenciado\",$I$4=#REF!),BDI!$H$17,IF(#REF!=\"ZERO\",0))))),\"\")","v":{"$error":"#REF!"}},"",""]
["SF-00742","Esmerilhadeira Angular 7’’","Equipamento/Ferramenta","un",0,"","",{"$f":"IF(A747<>\"\",IF(AND(#REF!=\"Padrão\",$I$4=#REF!),BDI!$B$17,IF(AND(#REF!=\"Padrão\",$I$4=#REF!),BDI!$C$17,IF(AND(#REF!=\"Diferenciado\",$I$4=#REF!),BDI!$G$17,IF(AND(#REF!=\"Diferenciado\",$I$4=#REF!),BDI!$H$17,IF(#REF!=\"ZERO\",0))))),\"\")","v":{"$error":"#REF!"}},"",""]
["SF-00743","Espátula forjada de 12 cm","Equipamento/Ferramenta","un",0,"","",{"$f":"IF(A748<>\"\",IF(AND(#REF!=\"Padrão\",$I$4=#REF!),BDI!$B$17,IF(AND(#REF!=\"Padrão\",$I$4=#REF!),BDI!$C$17,IF(AND(#REF!=\"Diferenciado\",$I$4=#REF!),BDI!$G$17,IF(AND(#REF!=\"Diferenciado\",$I$4=#REF!),BDI!$H$17,IF(#REF!=\"ZERO\",0))))),\"\")","v":{"$error":"#REF!"}},"",""]
["SF-00744","Espátula forjada de 4 cm","Equipamento/Ferramenta","un",0,"","",{"$f":"IF(A749<>\"\",IF(AND(#REF!=\"Padrão\",$I$4=#REF!),BDI!$B$17,IF(AND(#REF!=\"Padrão\",$I$4=#REF!),BDI!$C$17,IF(AND(#REF!=\"Diferenciado\",$I$4=#REF!),BDI!$G$17,IF(AND(#REF!=\"Diferenciado\",$I$4=#REF!),BDI!$H$17,IF(#REF!=\"ZERO\",0))))),\"\")","v":{"$error":"#REF!"}},"",""]
["SF-00745","Espátula forjada de 8 cm","Equipamento/Ferramenta","un",0,"","",{"$f":"IF(A750<>\"\",IF(AND(#REF!=\"Padrão\",$I$4=#REF!),BDI!$B$17,IF(AND(#REF!=\"Padrão\",$I$4=#REF!),BDI!$C$17,IF(AND(#REF!=\"Diferenciado\",$I$4=#REF!),BDI!$G$17,IF(AND(#REF!=\"Diferenciado\",$I$4=#REF!),BDI!$H$17,IF(#REF!=\"ZERO\",0))))),\"\")","v":{"$error":"#REF!"}},"",""]
["SF-00746","Esquadro de metal de 300 mm","Equipamento/Ferramenta","un",0,"","",{"$f":"IF(A751<>\"\",IF(AND(#REF!=\"Padrão\",$I$4=#REF!),BDI!$B$17,IF(AND(#REF!=\"Padrão\",$I$4=#REF!),BDI!$C$17,IF(AND(#REF!=\"Diferenciado\",$I$4=#REF!),BDI!$G$17,IF(AND(#REF!=\"Diferenciado\",$I$4=#REF!),BDI!$H$17,IF(#REF!=\"ZERO\",0))))),\"\")","v":{"$error":"#REF!"}},"",""]
["SF-00747","Estilete emborrachado de 18 mm","Equipamento/Ferramenta","un",0,"","",{"$f":"IF(A752<>\"\",IF(AND(#REF!=\"Padrão\",$I$4=#REF!),BDI!$B$17,IF(AND(#REF!=\"Padrão\",$I$4=#REF!),BDI!$C$17,IF(AND(#REF!=\"Diferenciado\",$I$4=#REF!),BDI!$G$17,IF(AND(#REF!=\"Diferenciado\",$I$4=#REF!),BDI!$H$17,IF(#REF!=\"ZERO\",0))))),\"\")","v":{"$error":"#REF!"}},"",""]
["SF-00748","Estilete emborrachado de 25 mm","Equipamento/Ferramenta","un",0,"","",{"$f":"IF(A753<>\"\",IF(AND(#REF!=\"Padrão\",$I$4=#REF!),BDI!$B$17,IF(AND(#REF!=\"Padrão\",$I$4=#REF!),BDI!$C$17,IF(AND(#REF!=\"Diferenciado\",$I$4=#REF!),BDI!$G$17,IF(AND(#REF!=\"Diferenciado\",$I$4=#REF!),BDI!$H$17,IF(#REF!=\"ZERO\",0))))),\"\")","v":{"$error":"#REF!"}},"",""]
["SF-00749","Faca de 8\"","Equipamento/Ferramenta","un",0,"","",{"$f":"IF(A754<>\"\",IF(AND(#REF!=\"Padrão\",$I$4=#REF!),BDI!$B$17,IF(AND(#REF!=\"Padrão\",$I$4=#REF!),BDI!$C$17,IF(AND(#REF!=\"Diferenciado\",$I$4=#REF!),BDI!$G$17,IF(AND(#REF!=\"Diferenciado\",$I$4=#REF!),BDI!$H$17,IF(#REF!=\"ZERO\",0))))),\"\")","v":{"$error":"#REF!"}},"",""]
["SF-00750","Furadeira Industrial","Equipamento/Ferramenta","un",0,"","",{"$f":"IF(A755<>\"\",IF(AND(#REF!=\"Padrão\",$I$4=#REF!),BDI!$B$17,IF(AND(#REF!=\"Padrão\",$I$4=#REF!),BDI!$C$17,IF(AND(#REF!=\"Diferenciado\",$I$4=#REF!),BDI!$G$17,IF(AND(#REF!=\"Diferenciado\",$I$4=#REF!),BDI!$H$17,IF(#REF!=\"ZERO\",0))))),\"\")","v":{"$error":"#REF!"}},"",""]
["SF-00751","Jogo de chave combinada de 8 mm a 24 mm, com 14 peças","Equipamento/Ferramenta","un",0,"","",{"$f":"IF(A756<>\"\",IF(AND(#REF!=\"Padrão\",$I$4=#REF!),BDI!$B$17,IF(AND(#REF!=\"Padrão\",$I$4=#REF!),BDI!$C$17,IF(AND(#REF!=\"Diferenciado\",$I$4=#REF!),BDI!$G$17,IF(AND(#REF!=\"Diferenciado\",$I$4=#REF!),BDI!$H$17,IF(#REF!=\"ZERO\",0))))),\"\")","v":{"$error":"#REF!"}},"",""]
["SF-00752","Jogo de soquetes de 1/2’’, 10-32 mm","Equipamento/Ferramenta","un",0,"","",{"$f":"IF(A757<>\"\",IF(AND(#REF!=\"Padrão\",$I$4=#REF!),BDI!$B$17,IF(AND(#REF!=\"Padrão\",$I$4=#REF!),BDI!$C$17,IF(AND(#REF!=\"Diferenciado\",$I$4=#REF!),BDI!$G$17,IF(AND(#REF!=\"Diferenciado\",$I$4=#REF!),BDI!$H$17,IF(#REF!=\"ZERO\",0))))),\"\")","v":{"$error":"#REF!"}},"",""]
["SF-00753","Jogo de soquetes de 1/4’’, 4-13 mm","Equipamento/Ferramenta","un",0,"","",{"$f":"IF(A758<>\"\",IF(AND(#REF!=\"Padrão\",$I$4=#REF!),BDI!$B$17,IF(AND(#REF!=\"Padrão\",$I$4=#REF!),BDI!$C$17,IF(AND(#REF!=\"Diferenciado\",$I$4=#REF!),BDI!$G$17,IF(AND(#REF!=\"Diferenciado\",$I$4=#REF!),BDI!$H$17,IF(#REF!=\"ZERO\",0))))),\"\")","v":{"$error":"#REF!"}},"",""]
["SF-00754","Kit Parafusadeira de Impacto à Bateria","Equipamento/Ferramenta","un",0,"","",{"$f":"IF(A759<>\"\",IF(AND(#REF!=\"Padrão\",$I$4=#REF!),BDI!$B$17,IF(AND(#REF!=\"Padrão\",$I$4=#REF!),BDI!$C$17,IF(AND(#REF!=\"Diferenciado\",$I$4=#REF!),BDI!$G$17,IF(AND(#REF!=\"Diferenciado\",$I$4=#REF!),BDI!$H$17,IF(#REF!=\"ZERO\",0))))),\"\")","v":{"$error":"#REF!"}},"",""]
["SF-00755","Linha de pedreiro de 100m","Equipamento/Ferramenta","un",0,"","",{"$f":"IF(A760<>\"\",IF(AND(#REF!=\"Padrão\",$I$4=#REF!),BDI!$B$17,IF(AND(#REF!=\"Padrão\",$I$4=#REF!),BDI!$C$17,IF(AND(#REF!=\"Diferenciado\",$I$4=#REF!),BDI!$G$17,IF(AND(#REF!=\"Diferenciado\",$I$4=#REF!),BDI!$H$17,IF(#REF!=\"ZERO\",0))))),\"\")","v":{"$error":"#REF!"}},"",""]
["SF-00756","Marreta de 1 kg","Equipamento/Ferramenta","un",0,"","",{"$f":"IF(A761<>\"\",IF(AND(#REF!=\"Padrão\",$I$4=#REF!),BDI!$B$17,IF(AND(#REF!=\"Padrão\",$I$4=#REF!),BDI!$C$17,IF(AND(#REF!=\"Diferenciado\",$I$4=#REF!),BDI!$G$17,IF(AND(#REF!=\"Diferenciado\",$I$4=#REF!),BDI!$H$17,IF(#REF!=\"ZERO\",0))))),\"\")","v":{"$error":"#REF!"}},"",""]
["SF-00757","Marreta de borracha de 600g","Equipamento/Ferramenta","un",0,"","",{"$f":"IF(A762<>\"\",IF(AND(#REF!=\"Padrão\",$I$4=#REF!),BDI!$B$17,IF(AND(#REF!=\"Padrão\",$I$4=#REF!),BDI!$C$17,IF(AND(#REF!=\"Diferenciado\",$I$4=#REF!),BDI!$G$17,IF(AND(#REF!=\"Diferenciado\",$I$4=#REF!),BDI!$H$17,IF(#REF!=\"ZERO\",0))))),\"\")","v":{"$error":"#REF!"}},"",""]
["SF-00758","Martelo de bola, 500 gramas","Equipamento/Ferramenta","un",0,"","",{"$f":"IF(A763<>\"\",IF(AND(#REF!=\"Padrão\",$I$4=#REF!),BDI!$B$17,IF(AND(#REF!=\"Padrão\",$I$4=#REF!),BDI!$C$17,IF(AND(#REF!=\"Diferenciado\",$I$4=#REF!),BDI!$G$17,IF(AND(#REF!=\"Diferenciado\",$I$4=#REF!),BDI!$H$17,IF(#REF!=\"ZERO\",0))))),\"\")","v":{"$error":"#REF!"}},"",""]
["SF-00759","Martelo de pena, 300 gramas","Equipamento/Ferramenta","un",0,"","",{"$f":"IF(A764<>\"\",IF(AND(#REF!=\"Padrão\",$I$4=#REF!),BDI!$B$17,IF(AND(#REF!=\"Padrão\",$I$4=#REF!),BDI!$C$17,IF(AND(#REF!=\"Diferenciado\",$I$4=#REF!),BDI!$G$17,IF(AND(#REF!=\"Diferenciado\",$I$4=#REF!),BDI!$H$17,IF(#REF!=\"ZERO\",0))))),\"\")","v":{"$error":"#REF!"}},"",""]
["SF-00760","Martelo de unha","Equipamento/Ferramenta","un",0,"","",{"$f":"IF(A765<>\"\",IF(AND(#REF!=\"Padrão\",$I$4=#REF!),BDI!$B$17,IF(AND(#REF!=\"Padrão\",$I$4=#REF!),BDI!$C$17,IF(AND(#REF!=\"Diferenciado\",$I$4=#REF!),BDI!$G$17,IF(AND(#REF!=\"Diferenciado\",$I$4=#REF!),BDI!$H$17,IF(#REF!=\"ZERO\",0))))),\"\")","v":{"$error":"#REF!"}},"",""]
["SF-00761","Nível manual de alumínio com base magnética 350 mm","Equipamento/Ferramenta","un",0,"","",{"$f":"IF(A766<>\"\",IF(AND(#REF!=\"Padrão\",$I$4=#REF!),BDI!$B$17,IF(AND(#REF!=\"Padrão\",$I$4=#REF!),BDI!$C$17,IF(AND(#REF!=\"Diferenciado\",$I$4=#REF!),BDI!$G$17,IF(AND(#REF!=\"Diferenciado\",$I$4=#REF!),BDI!$H$17,IF(#REF!=\"ZERO\",0))))),\"\")","v":{"$error":"#REF!"}},"",""]
["SF-00762","Nível manual de alumínio com base magnética 220 mm","Equipamento/Ferramenta","un",0,"","",{"$f":"IF(A767<>\"\",IF(AND(#REF!=\"Padrão\",$I$4=#REF!),BDI!$B$17,IF(AND(#REF!=\"Padrão\",$I$4=#REF!),BDI!$C$17,IF(AND(#REF!=\"Diferenciado\",$I$4=#REF!),BDI!$G$17,IF(AND(#REF!=\"Diferenciado\",$I$4=#REF!),BDI!$H$17,IF(#REF!=\"ZERO\",0))))),\"\")","v":{"$error":"#REF!"}},"",""]
["SF-00763","Pá quadrada com 120 cm","Equipamento/Ferramenta","un",0,"","",{"$f":"IF(A768<>\"\",IF(AND(#REF!=\"Padrão\",$I$4=#REF!),BDI!$B$17,IF(AND(#REF!=\"Padrão\",$I$4=#REF!),BDI!$C$17,IF(AND(#REF!=\"Diferenciado\",$I$4=#REF!),BDI!$G$17,IF(AND(#REF!=\"Diferenciado\",$I$4=#REF!),BDI!$H$17,IF(#REF!=\"ZERO\",0))))),\"\")","v":{"$error":"#REF!"}},"",""]
["SF-00764","Pedra de afiar dupla face","Equipamento/Ferramenta","un",0,"","",{"$f":"IF(A769<>\"\",IF(AND(#REF!=\"Padrão\",$I$4=#REF!),BDI!$B$17,IF(AND(#REF!=\"Padrão\",$I$4=#REF!),BDI!$C$17,IF(AND(#REF!=\"Diferenciado\",$I$4=#REF!),BDI!$G$17,IF(AND(#REF!=\"Diferenciado\",$I$4=#REF!),BDI!$H$17,IF(#REF!=\"ZERO\",0))))),\"\")","v":{"$error":"#REF!"}},"",""]
["SF-00765","Peneira fina","Equipamento/Ferramenta","un",0,"","",{"$f":"IF(A770<>\"\",IF(AND(#REF!=\"Padrão\",$I$4=#REF!),BDI!$B$17,IF(AND(#REF!=\"Padrão\",$I$4=#REF!),BDI!$C$17,IF(AND(#REF!=\"Diferenciado\",$I$4=#REF!),BDI!$G$17,IF(AND(#REF!=\"Diferenciado\",$I$4=#REF!),BDI!$H$17,IF(#REF!=\"ZERO\",0))))),\"\")","v":{"$error":"#REF!"}},"",""]
["SF-00766","Peneira grossa","Equipamento/Ferramenta","un",0,"","",{"$f":"IF(A771<>\"\",IF(AND(#REF!=\"Padrão\",$I$4=#REF!),BDI!$B$17,IF(AND(#REF!=\"Padrão\",$I$4=#REF!),BDI!$C$17,IF(AND(#REF!=\"Diferenciado\",$I$4=#REF!),BDI!$G$17,IF(AND(#REF!=\"Diferenciado\",$I$4=#REF!),BDI!$H$17,IF(#REF!=\"ZERO\",0))))),\"\")","v":{"$error":"#REF!"}},"",""]
["SF-00767","Peneira média","Equipamento/Ferramenta","un",0,"","",{"$f":"IF(A772<>\"\",IF(AND(#REF!=\"Padrão\",$I$4=#REF!),BDI!$B$17,IF(AND(#REF!=\"Padrão\",$I$4=#REF!),BDI!$C$17,IF(AND(#REF!=\"Diferenciado\",$I$4=#REF!),BDI!$G$17,IF(AND(#REF!=\"Diferenciado\",$I$4=#REF!),BDI!$H$17,IF(#REF!=\"ZERO\",0))))),\"\")","v":{"$error":"#REF!"}},"",""]
["SF-00768","Picareta","Equipamento/Ferramenta","un",0,"","",{"$f":"IF(A773<>\"\",IF(AND(#REF!=\"Padrão\",$I$4=#REF!),BDI!$B$17,IF(AND(#REF!=\"Padrão\",$I$4=#REF!),BDI!$C$17,IF(AND(#REF!=\"Diferenciado\",$I$4=#REF!),BDI!$G$17,IF(AND(#REF!=\"Diferenciado\",$I$4=#REF!),BDI!$H$17,IF(#REF!=\"ZERO\",0))))),\"\")","v":{"$error":"#REF!"}},"",""]
["SF-00769","Prumo de centro","Equipamento/Ferramenta","un",0,"","",{"$f":"IF(A774<>\"\",IF(AND(#REF!=\"Padrão\",$I$4=#REF!),BDI!$B$17,IF(AND(#REF!=\"Padrão\",$I$4=#REF!),BDI!$C$17,IF(AND(#REF!=\"Diferenciado\",$I$4=#REF!),BDI!$G$17,IF(AND(#REF!=\"Diferenciado\",$I$4=#REF!),BDI!$H$17,IF(#REF!=\"ZERO\",0))))),\"\")","v":{"$error":"#REF!"}},"",""]
["SF-00770","Prumo de parede","Equipamento/Ferramenta","un",0,"",{"$f":"IF(ISNUMBER(F775),ROUND(E775*F775,2),\"\")","v":""},{"$f":"IF(A775<>\"\",IF(AND(#REF!=\"Padrão\",$I$4=#REF!),BDI!$B$17,IF(AND(#REF!=\"Padrão\",$I$4=#REF!),BDI!$C$17,IF(AND(#REF!=\"Diferenciado\",$I$4=#REF!),BDI!$G$17,IF(AND(#REF!=\"Diferenciado\",$I$4=#REF!),BDI!$H$17,IF(#REF!=\"ZERO\",0))))),\"\")","v":{"$error":"#REF!"}},{"$f":"IF(ISNUMBER(F775),ROUND(F775*(1+H775),2),\"\")","v":""},{"$f":"IF(ISNUMBER(F775),ROUND(I775*E775,2),\"\")","v":""}]
["SF-00771","Rebitador manual","Equipamento/Ferramenta","un",0,"","",{"$f":"IF(A776<>\"\",IF(AND(#REF!=\"Padrão\",$I$4=#REF!),BDI!$B$17,IF(AND(#REF!=\"Padrão\",$I$4=#REF!),BDI!$C$17,IF(AND(#REF!=\"Diferenciado\",$I$4=#REF!),BDI!$G$17,IF(AND(#REF!=\"Diferenciado\",$I$4=#REF!),BDI!$H$17,IF(#REF!=\"ZERO\",0))))),\"\")","v":{"$error":"#REF!"}},"",""]
["SF-00772","Régua de alumínio para pedreiro com 2m","Equipamento/Ferramenta","un",0,"","",{"$f":"IF(A777<>\"\",IF(AND(#REF!=\"Padrão\",$I$4=#REF!),BDI!$B$17,IF(AND(#REF!=\"Padrão\",$I$4=#REF!),BDI!$C$17,IF(AND(#REF!=\"Diferenciado\",$I$4=#REF!),BDI!$G$17,IF(AND(#REF!=\"Diferenciado\",$I$4=#REF!),BDI!$H$17,IF(#REF!=\"ZERO\",0))))),\"\")","v":{"$error":"#REF!"}},"",""]
["SF-00773","Serrote comum","Equipamento/Ferramenta","un",0,"","",{"$f":"IF(A778<>\"\",IF(AND(#REF!=\"Padrão\",$I$4=#REF!),BDI!$B$17,IF(AND(#REF!=\"Padrão\",$I$4=#REF!),BDI!$C$17,IF(AND(#REF!=\"Diferenciado\",$I$4=#REF!),BDI!$G$17,IF(AND(#REF!=\"Diferenciado\",$I$4=#REF!),BDI!$H$17,IF(#REF!=\"ZERO\",0))))),\"\")","v":{"$error":"#REF!"}},"",""]
["SF-00774","Serrote de costa","Equipamento/Ferramenta","un",0,"","",{"$f":"IF(A779<>\"\",IF(AND(#REF!=\"Padrão\",$I$4=#REF!),BDI!$B$17,IF(AND(#REF!=\"Padrão\",$I$4=#REF!),BDI!$C$17,IF(AND(#REF!=\"Diferenciado\",$I$4=#REF!),BDI!$G$17,IF(AND(#REF!=\"Diferenciado\",$I$4=#REF!),BDI!$H$17,IF(#REF!=\"ZERO\",0))))),\"\")","v":{"$error":"#REF!"}},"",""]
["SF-00775","Tesoura de 25 cm","Equipamento/Ferramenta","un",0,"","",{"$f":"IF(A780<>\"\",IF(AND(#REF!=\"Padrão\",$I$4=#REF!),BDI!$B$17,IF(AND(#REF!=\"Padrão\",$I$4=#REF!),BDI!$C$17,IF(AND(#REF!=\"Diferenciado\",$I$4=#REF!),BDI!$G$17,IF(AND(#REF!=\"Diferenciado\",$I$4=#REF!),BDI!$H$17,IF(#REF!=\"ZERO\",0))))),\"\")","v":{"$error":"#REF!"}},"",""]
["SF-00776","Tesoura de chapas tipo aviação","Equipamento/Ferramenta","un",0,"","",{"$f":"IF(A781<>\"\",IF(AND(#REF!=\"Padrão\",$I$4=#REF!),BDI!$B$17,IF(AND(#REF!=\"Padrão\",$I$4=#REF!),BDI!$C$17,IF(AND(#REF!=\"Diferenciado\",$I$4=#REF!),BDI!$G$17,IF(AND(#REF!=\"Diferenciado\",$I$4=#REF!),BDI!$H$17,IF(#REF!=\"ZERO\",0))))),\"\")","v":{"$error":"#REF!"}},"",""]
["SF-00777","Trena de 5m","Equipamento/Ferramenta","un",0,"","",{"$f":"IF(A782<>\"\",IF(AND(#REF!=\"Padrão\",$I$4=#REF!),BDI!$B$17,IF(AND(#REF!=\"Padrão\",$I$4=#REF!),BDI!$C$17,IF(AND(#REF!=\"Diferenciado\",$I$4=#REF!),BDI!$G$17,IF(AND(#REF!=\"Diferenciado\",$I$4=#REF!),BDI!$H$17,IF(#REF!=\"ZERO\",0))))),\"\")","v":{"$error":"#REF!"}},"",""]
["SF-00778","Desempenadeira 1800 x 200 mm","Equipamento/Ferramenta","un",0,"","",{"$f":"IF(A783<>\"\",IF(AND(#REF!=\"Padrão\",$I$4=#REF!),BDI!$B$17,IF(AND(#REF!=\"Padrão\",$I$4=#REF!),BDI!$C$17,IF(AND(#REF!=\"Diferenciado\",$I$4=#REF!),BDI!$G$17,IF(AND(#REF!=\"Diferenciado\",$I$4=#REF!),BDI!$H$17,IF(#REF!=\"ZERO\",0))))),\"\")","v":{"$error":"#REF!"}},"",""]
["SF-00779","Formão de 1/2\"","Equipamento/Ferramenta","un",0,"","",{"$f":"IF(A784<>\"\",IF(AND(#REF!=\"Padrão\",$I$4=#REF!),BDI!$B$17,IF(AND(#REF!=\"Padrão\",$I$4=#REF!),BDI!$C$17,IF(AND(#REF!=\"Diferenciado\",$I$4=#REF!),BDI!$G$17,IF(AND(#REF!=\"Diferenciado\",$I$4=#REF!),BDI!$H$17,IF(#REF!=\"ZERO\",0))))),\"\")","v":{"$error":"#REF!"}},"",""]
["SF-00780","Formão de 1/4\"","Equipamento/Ferramenta","un",0,"","",{"$f":"IF(A785<>\"\",IF(AND(#REF!=\"Padrão\",$I$4=#REF!),BDI!$B$17,IF(AND(#REF!=\"Padrão\",$I$4=#REF!),BDI!$C$17,IF(AND(#REF!=\"Diferenciado\",$I$4=#REF!),BDI!$G$17,IF(AND(#REF!=\"Diferenciado\",$I$4=#REF!),BDI!$H$17,IF(#REF!=\"ZERO\",0))))),\"\")","v":{"$error":"#REF!"}},"",""]
["SF-00781","Formão de 3/4\"","Equipamento/Ferramenta","un",0,"","",{"$f":"IF(A786<>\"\",IF(AND(#REF!=\"Padrão\",$I$4=#REF!),BDI!$B$17,IF(AND(#REF!=\"Padrão\",$I$4=#REF!),BDI!$C$17,IF(AND(#REF!=\"Diferenciado\",$I$4=#REF!),BDI!$G$17,IF(AND(#REF!=\"Diferenciado\",$I$4=#REF!),BDI!$H$17,IF(#REF!=\"ZERO\",0))))),\"\")","v":{"$error":"#REF!"}},"",""]
["SF-00782","Grampeador para Molduras","Equipamento/Ferramenta","un",0,"","",{"$f":"IF(A787<>\"\",IF(AND(#REF!=\"Padrão\",$I$4=#REF!),BDI!$B$17,IF(AND(#REF!=\"Padrão\",$I$4=#REF!),BDI!$C$17,IF(AND(#REF!=\"Diferenciado\",$I$4=#REF!),BDI!$G$17,IF(AND(#REF!=\"Diferenciado\",$I$4=#REF!),BDI!$H$17,IF(#REF!=\"ZERO\",0))))),\"\")","v":{"$error":"#REF!"}},"",""]
["SF-00783","Grampeador Uso Leve","Equipamento/Ferramenta","un",0,"","",{"$f":"IF(A788<>\"\",IF(AND(#REF!=\"Padrão\",$I$4=#REF!),BDI!$B$17,IF(AND(#REF!=\"Padrão\",$I$4=#REF!),BDI!$C$17,IF(AND(#REF!=\"Diferenciado\",$I$4=#REF!),BDI!$G$17,IF(AND(#REF!=\"Diferenciado\",$I$4=#REF!),BDI!$H$17,IF(#REF!=\"ZERO\",0))))),\"\")","v":{"$error":"#REF!"}},"",""]
["SF-00784","Lixadeira de cinta","Equipamento/Ferramenta","un",0,"","",{"$f":"IF(A789<>\"\",IF(AND(#REF!=\"Padrão\",$I$4=#REF!),BDI!$B$17,IF(AND(#REF!=\"Padrão\",$I$4=#REF!),BDI!$C$17,IF(AND(#REF!=\"Diferenciado\",$I$4=#REF!),BDI!$G$17,IF(AND(#REF!=\"Diferenciado\",$I$4=#REF!),BDI!$H$17,IF(#REF!=\"ZERO\",0))))),\"\")","v":{"$error":"#REF!"}},"",""]
["SF-00785","Lixadeira e politriz angular 7’’/9’’","Equipamento/Ferramenta","un",0,"","",{"$f":"IF(A790<>\"\",IF(AND(#REF!=\"Padrão\",$I$4=#REF!),BDI!$B$17,IF(AND(#REF!=\"Padrão\",$I$4=#REF!),BDI!$C$17,IF(AND(#REF!=\"Diferenciado\",$I$4=#REF!),BDI!$G$17,IF(AND(#REF!=\"Diferenciado\",$I$4=#REF!),BDI!$H$17,IF(#REF!=\"ZERO\",0))))),\"\")","v":{"$error":"#REF!"}},"",""]
["SF-00786","Lixadeira Excêntrica","Equipamento/Ferramenta","un",0,"","",{"$f":"IF(A791<>\"\",IF(AND(#REF!=\"Padrão\",$I$4=#REF!),BDI!$B$17,IF(AND(#REF!=\"Padrão\",$I$4=#REF!),BDI!$C$17,IF(AND(#REF!=\"Diferenciado\",$I$4=#REF!),BDI!$G$17,IF(AND(#REF!=\"Diferenciado\",$I$4=#REF!),BDI!$H$17,IF(#REF!=\"ZERO\",0))))),\"\")","v":{"$error":"#REF!"}},"",""]
["SF-00787","Lixadeira Fita","Equipamento/Ferramenta","un",0,"","",{"$f":"IF(A792<>\"\",IF(AND(#REF!=\"Padrão\",$I$4=#REF!),BDI!$B$17,IF(AND(#REF!=\"Padrão\",$I$4=#REF!),BDI!$C$17,IF(AND(#REF!=\"Diferenciado\",$I$4=#REF!),BDI!$G$17,IF(AND(#REF!=\"Diferenciado\",$I$4=#REF!),BDI!$H$17,IF(#REF!=\"ZERO\",0))))),\"\")","v":{"$error":"#REF!"}},"",""]
["SF-00788","Lixadeira orbital","Equipamento/Ferramenta","un",0,"","",{"$f":"IF(A793<>\"\",IF(AND(#REF!=\"Padrão\",$I$4=#REF!),BDI!$B$17,IF(AND(#REF!=\"Padrão\",$I$4=#REF!),BDI!$C$17,IF(AND(#REF!=\"Diferenciado\",$I$4=#REF!),BDI!$G$17,IF(AND(#REF!=\"Diferenciado\",$I$4=#REF!),BDI!$H$17,IF(#REF!=\"ZERO\",0))))),\"\")","v":{"$error":"#REF!"}},"",""]
["SF-00789","Pinador e Grampeador Pneumático","Equipamento/Ferramenta","un",0,"","",{"$f":"IF(A794<>\"\",IF(AND(#REF!=\"Padrão\",$I$4=#REF!),BDI!$B$17,IF(AND(#REF!=\"Padrão\",$I$4=#REF!),BDI!$C$17,IF(AND(#REF!=\"Diferenciado\",$I$4=#REF!),BDI!$G$17,IF(AND(#REF!=\"Diferenciado\",$I$4=#REF!),BDI!$H$17,IF(#REF!=\"ZERO\",0))))),\"\")","v":{"$error":"#REF!"}},"",""]
["SF-00790","Plaina desempenadeira","Equipamento/Ferramenta","un",0,"","",{"$f":"IF(A795<>\"\",IF(AND(#REF!=\"Padrão\",$I$4=#REF!),BDI!$B$17,IF(AND(#REF!=\"Padrão\",$I$4=#REF!),BDI!$C$17,IF(AND(#REF!=\"Diferenciado\",$I$4=#REF!),BDI!$G$17,IF(AND(#REF!=\"Diferenciado\",$I$4=#REF!),BDI!$H$17,IF(#REF!=\"ZERO\",0))))),\"\")","v":{"$error":"#REF!"}},"",""]
["SF-00791","Plaina desengrossadeira","Equipamento/Ferramenta","un",0,"","",{"$f":"IF(A796<>\"\",IF(AND(#REF!=\"Padrão\",$I$4=#REF!),BDI!$B$17,IF(AND(#REF!=\"Padrão\",$I$4=#REF!),BDI!$C$17,IF(AND(#REF!=\"Diferenciado\",$I$4=#REF!),BDI!$G$17,IF(AND(#REF!=\"Diferenciado\",$I$4=#REF!),BDI!$H$17,IF(#REF!=\"ZERO\",0))))),\"\")","v":{"$error":"#REF!"}},"",""]
["SF-00792","Plaina elétrica","Equipamento/Ferramenta","un",0,"","",{"$f":"IF(A797<>\"\",IF(AND(#REF!=\"Padrão\",$I$4=#REF!),BDI!$B$17,IF(AND(#REF!=\"Padrão\",$I$4=#REF!),BDI!$C$17,IF(AND(#REF!=\"Diferenciado\",$I$4=#REF!),BDI!$G$17,IF(AND(#REF!=\"Diferenciado\",$I$4=#REF!),BDI!$H$17,IF(#REF!=\"ZERO\",0))))),\"\")","v":{"$error":"#REF!"}},"",""]
["SF-00793","Plaina manual No. 5","Equipamento/Ferramenta","un",0,"","",{"$f":"IF(A798<>\"\",IF(AND(#REF!=\"Padrão\",$I$4=#REF!),BDI!$B$17,IF(AND(#REF!=\"Padrão\",$I$4=#REF!),BDI!$C$17,IF(AND(#REF!=\"Diferenciado\",$I$4=#REF!),BDI!$G$17,IF(AND(#REF!=\"Diferenciado\",$I$4=#REF!),BDI!$H$17,IF(#REF!=\"ZERO\",0))))),\"\")","v":{"$error":"#REF!"}},"",""]
["SF-00794","Policorte 14’’ 2000 W","Equipamento/Ferramenta","un",0,"","",{"$f":"IF(A799<>\"\",IF(AND(#REF!=\"Padrão\",$I$4=#REF!),BDI!$B$17,IF(AND(#REF!=\"Padrão\",$I$4=#REF!),BDI!$C$17,IF(AND(#REF!=\"Diferenciado\",$I$4=#REF!),BDI!$G$17,IF(AND(#REF!=\"Diferenciado\",$I$4=#REF!),BDI!$H$17,IF(#REF!=\"ZERO\",0))))),\"\")","v":{"$error":"#REF!"}},"",""]
["SF-00795","Raspador manual para madeira","Equipamento/Ferramenta","un",0,"","",{"$f":"IF(A800<>\"\",IF(AND(#REF!=\"Padrão\",$I$4=#REF!),BDI!$B$17,IF(AND(#REF!=\"Padrão\",$I$4=#REF!),BDI!$C$17,IF(AND(#REF!=\"Diferenciado\",$I$4=#REF!),BDI!$G$17,IF(AND(#REF!=\"Diferenciado\",$I$4=#REF!),BDI!$H$17,IF(#REF!=\"ZERO\",0))))),\"\")","v":{"$error":"#REF!"}},"",""]
["SF-00796","Serra meia esquadria","Equipamento/Ferramenta","un",0,"","",{"$f":"IF(A801<>\"\",IF(AND(#REF!=\"Padrão\",$I$4=#REF!),BDI!$B$17,IF(AND(#REF!=\"Padrão\",$I$4=#REF!),BDI!$C$17,IF(AND(#REF!=\"Diferenciado\",$I$4=#REF!),BDI!$G$17,IF(AND(#REF!=\"Diferenciado\",$I$4=#REF!),BDI!$H$17,IF(#REF!=\"ZERO\",0))))),\"\")","v":{"$error":"#REF!"}},"",""]
["SF-00797","Serra Meia Esquadria Radial","Equipamento/Ferramenta","un",0,"","",{"$f":"IF(A802<>\"\",IF(AND(#REF!=\"Padrão\",$I$4=#REF!),BDI!$B$17,IF(AND(#REF!=\"Padrão\",$I$4=#REF!),BDI!$C$17,IF(AND(#REF!=\"Diferenciado\",$I$4=#REF!),BDI!$G$17,IF(AND(#REF!=\"Diferenciado\",$I$4=#REF!),BDI!$H$17,IF(#REF!=\"ZERO\",0))))),\"\")","v":{"$error":"#REF!"}},"",""]
["SF-00798","Serra tico-tico com controle de velocidade","Equipamento/Ferramenta","un",0,"","",{"$f":"IF(A803<>\"\",IF(AND(#REF!=\"Padrão\",$I$4=#REF!),BDI!$B$17,IF(AND(#REF!=\"Padrão\",$I$4=#REF!),BDI!$C$17,IF(AND(#REF!=\"Diferenciado\",$I$4=#REF!),BDI!$G$17,IF(AND(#REF!=\"Diferenciado\",$I$4=#REF!),BDI!$H$17,IF(#REF!=\"ZERO\",0))))),\"\")","v":{"$error":"#REF!"}},"",""]
["SF-00799","Torno para Madeira com Copiador","Equipamento/Ferramenta","un",0,"","",{"$f":"IF(A804<>\"\",IF(AND(#REF!=\"Padrão\",$I$4=#REF!),BDI!$B$17,IF(AND(#REF!=\"Padrão\",$I$4=#REF!),BDI!$C$17,IF(AND(#REF!=\"Diferenciado\",$I$4=#REF!),BDI!$G$17,IF(AND(#REF!=\"Diferenciado\",$I$4=#REF!),BDI!$H$17,IF(#REF!=\"ZERO\",0))))),\"\")","v":{"$error":"#REF!"}},"",""]
["SF-00800","Tupia de Coluna","Equipamento/Ferramenta","un",0,"","",{"$f":"IF(A805<>\"\",IF(AND(#REF!=\"Padrão\",$I$4=#REF!),BDI!$B$17,IF(AND(#REF!=\"Padrão\",$I$4=#REF!),BDI!$C$17,IF(AND(#REF!=\"Diferenciado\",$I$4=#REF!),BDI!$G$17,IF(AND(#REF!=\"Diferenciado\",$I$4=#REF!),BDI!$H$17,IF(#REF!=\"ZERO\",0))))),\"\")","v":{"$error":"#REF!"}},"",""]
["SF-00801","Tupia de Laminação","Equipamento/Ferramenta","un",0,"","",{"$f":"IF(A806<>\"\",IF(AND(#REF!=\"Padrão\",$I$4=#REF!),BDI!$B$17,IF(AND(#REF!=\"Padrão\",$I$4=#REF!),BDI!$C$17,IF(AND(#REF!=\"Diferenciado\",$I$4=#REF!),BDI!$G$17,IF(AND(#REF!=\"Diferenciado\",$I$4=#REF!),BDI!$H$17,IF(#REF!=\"ZERO\",0))))),\"\")","v":{"$error":"#REF!"}},"",""]
["SF-00802","Tupia Estacionária Refiladora de Borda Pinça","Equipamento/Ferramenta","un",0,"","",{"$f":"IF(A807<>\"\",IF(AND(#REF!=\"Padrão\",$I$4=#REF!),BDI!$B$17,IF(AND(#REF!=\"Padrão\",$I$4=#REF!),BDI!$C$17,IF(AND(#REF!=\"Diferenciado\",$I$4=#REF!),BDI!$G$17,IF(AND(#REF!=\"Diferenciado\",$I$4=#REF!),BDI!$H$17,IF(#REF!=\"ZERO\",0))))),\"\")","v":{"$error":"#REF!"}},"",""]
["SF-00803","Calandra de chapas motorizada","Equipamento/Ferramenta","un",0,"","",{"$f":"IF(A808<>\"\",IF(AND(#REF!=\"Padrão\",$I$4=#REF!),BDI!$B$17,IF(AND(#REF!=\"Padrão\",$I$4=#REF!),BDI!$C$17,IF(AND(#REF!=\"Diferenciado\",$I$4=#REF!),BDI!$G$17,IF(AND(#REF!=\"Diferenciado\",$I$4=#REF!),BDI!$H$17,IF(#REF!=\"ZERO\",0))))),\"\")","v":{"$error":"#REF!"}},"",""]
["SF-00804","Calandra de tubos e perfis motorizada","Equipamento/Ferramenta","un",0,"","",{"$f":"IF(A809<>\"\",IF(AND(#REF!=\"Padrão\",$I$4=#REF!),BDI!$B$17,IF(AND(#REF!=\"Padrão\",$I$4=#REF!),BDI!$C$17,IF(AND(#REF!=\"Diferenciado\",$I$4=#REF!),BDI!$G$17,IF(AND(#REF!=\"Diferenciado\",$I$4=#REF!),BDI!$H$17,IF(#REF!=\"ZERO\",0))))),\"\")","v":{"$error":"#REF!"}},"",""]
["SF-00805","Conjunto de Solda Mig 250A","Equipamento/Ferramenta","un",0,"","",{"$f":"IF(A810<>\"\",IF(AND(#REF!=\"Padrão\",$I$4=#REF!),BDI!$B$17,IF(AND(#REF!=\"Padrão\",$I$4=#REF!),BDI!$C$17,IF(AND(#REF!=\"Diferenciado\",$I$4=#REF!),BDI!$G$17,IF(AND(#REF!=\"Diferenciado\",$I$4=#REF!),BDI!$H$17,IF(#REF!=\"ZERO\",0))))),\"\")","v":{"$error":"#REF!"}},"",""]
["SF-00806","Maçarico para gás GLP","Equipamento/Ferramenta","un",0,"","",{"$f":"IF(A811<>\"\",IF(AND(#REF!=\"Padrão\",$I$4=#REF!),BDI!$B$17,IF(AND(#REF!=\"Padrão\",$I$4=#REF!),BDI!$C$17,IF(AND(#REF!=\"Diferenciado\",$I$4=#REF!),BDI!$G$17,IF(AND(#REF!=\"Diferenciado\",$I$4=#REF!),BDI!$H$17,IF(#REF!=\"ZERO\",0))))),\"\")","v":{"$error":"#REF!"}},"",""]
["SF-00807","Máquina de solda inversora AC/DC 180 A 220 Volts","Equipamento/Ferramenta","un",0,"","",{"$f":"IF(A812<>\"\",IF(AND(#REF!=\"Padrão\",$I$4=#REF!),BDI!$B$17,IF(AND(#REF!=\"Padrão\",$I$4=#REF!),BDI!$C$17,IF(AND(#REF!=\"Diferenciado\",$I$4=#REF!),BDI!$G$17,IF(AND(#REF!=\"Diferenciado\",$I$4=#REF!),BDI!$H$17,IF(#REF!=\"ZERO\",0))))),\"\")","v":{"$error":"#REF!"}},"",""]
["SF-00808","Betoneira monofásica 400 litros","Equipamento/Ferramenta","un",0,"","",{"$f":"IF(A813<>\"\",IF(AND(#REF!=\"Padrão\",$I$4=#REF!),BDI!$B$17,IF(AND(#REF!=\"Padrão\",$I$4=#REF!),BDI!$C$17,IF(AND(#REF!=\"Diferenciado\",$I$4=#REF!),BDI!$G$17,IF(AND(#REF!=\"Diferenciado\",$I$4=#REF!),BDI!$H$17,IF(#REF!=\"ZERO\",0))))),\"\")","v":{"$error":"#REF!"}},"",""]
["SF-00809","Broxa Retangular","Equipamento/Ferramenta","un",0,"","",{"$f":"IF(A814<>\"\",IF(AND(#REF!=\"Padrão\",$I$4=#REF!),BDI!$B$17,IF(AND(#REF!=\"Padrão\",$I$4=#REF!),BDI!$C$17,IF(AND(#REF!=\"Diferenciado\",$I$4=#REF!),BDI!$G$17,IF(AND(#REF!=\"Diferenciado\",$I$4=#REF!),BDI!$H$17,IF(#REF!=\"ZERO\",0))))),\"\")","v":{"$error":"#REF!"}},"",""]
["SF-00810","Caixa plástica para massas (masseira) 20 L","Equipamento/Ferramenta","un",0,"","",{"$f":"IF(A815<>\"\",IF(AND(#REF!=\"Padrão\",$I$4=#REF!),BDI!$B$17,IF(AND(#REF!=\"Padrão\",$I$4=#REF!),BDI!$C$17,IF(AND(#REF!=\"Diferenciado\",$I$4=#REF!),BDI!$G$17,IF(AND(#REF!=\"Diferenciado\",$I$4=#REF!),BDI!$H$17,IF(#REF!=\"ZERO\",0))))),\"\")","v":{"$error":"#REF!"}},"",""]
["SF-00811","Colher de pedreiro 9\"","Equipamento/Ferramenta","un",0,"","",{"$f":"IF(A816<>\"\",IF(AND(#REF!=\"Padrão\",$I$4=#REF!),BDI!$B$17,IF(AND(#REF!=\"Padrão\",$I$4=#REF!),BDI!$C$17,IF(AND(#REF!=\"Diferenciado\",$I$4=#REF!),BDI!$G$17,IF(AND(#REF!=\"Diferenciado\",$I$4=#REF!),BDI!$H$17,IF(#REF!=\"ZERO\",0))))),\"\")","v":{"$error":"#REF!"}},"",""]
["SF-00812","Compactador de percussão elétrico monofásico 3 CV","Equipamento/Ferramenta","un",0,"","",{"$f":"IF(A817<>\"\",IF(AND(#REF!=\"Padrão\",$I$4=#REF!),BDI!$B$17,IF(AND(#REF!=\"Padrão\",$I$4=#REF!),BDI!$C$17,IF(AND(#REF!=\"Diferenciado\",$I$4=#REF!),BDI!$G$17,IF(AND(#REF!=\"Diferenciado\",$I$4=#REF!),BDI!$H$17,IF(#REF!=\"ZERO\",0))))),\"\")","v":{"$error":"#REF!"}},"",""]
["SF-00813","Desempenadeira de aço dentada","Equipamento/Ferramenta","un",0,"","",{"$f":"IF(A818<>\"\",IF(AND(#REF!=\"Padrão\",$I$4=#REF!),BDI!$B$17,IF(AND(#REF!=\"Padrão\",$I$4=#REF!),BDI!$C$17,IF(AND(#REF!=\"Diferenciado\",$I$4=#REF!),BDI!$G$17,IF(AND(#REF!=\"Diferenciado\",$I$4=#REF!),BDI!$H$17,IF(#REF!=\"ZERO\",0))))),\"\")","v":{"$error":"#REF!"}},"",""]
["SF-00814","Desempenadeira de aço lisa","Equipamento/Ferramenta","un",0,"","",{"$f":"IF(A819<>\"\",IF(AND(#REF!=\"Padrão\",$I$4=#REF!),BDI!$B$17,IF(AND(#REF!=\"Padrão\",$I$4=#REF!),BDI!$C$17,IF(AND(#REF!=\"Diferenciado\",$I$4=#REF!),BDI!$G$17,IF(AND(#REF!=\"Diferenciado\",$I$4=#REF!),BDI!$H$17,IF(#REF!=\"ZERO\",0))))),\"\")","v":{"$error":"#REF!"}},"",""]
["SF-00815","Desempenadeira estriada em PVC 14 x 27 cm","Equipamento/Ferramenta","un",0,"","",{"$f":"IF(A820<>\"\",IF(AND(#REF!=\"Padrão\",$I$4=#REF!),BDI!$B$17,IF(AND(#REF!=\"Padrão\",$I$4=#REF!),BDI!$C$17,IF(AND(#REF!=\"Diferenciado\",$I$4=#REF!),BDI!$G$17,IF(AND(#REF!=\"Diferenciado\",$I$4=#REF!),BDI!$H$17,IF(#REF!=\"ZERO\",0))))),\"\")","v":{"$error":"#REF!"}},"",""]
["SF-00816","Desempenadeira lisa em PVC 18 x 30 cm","Equipamento/Ferramenta","un",0,"","",{"$f":"IF(A821<>\"\",IF(AND(#REF!=\"Padrão\",$I$4=#REF!),BDI!$B$17,IF(AND(#REF!=\"Padrão\",$I$4=#REF!),BDI!$C$17,IF(AND(#REF!=\"Diferenciado\",$I$4=#REF!),BDI!$G$17,IF(AND(#REF!=\"Diferenciado\",$I$4=#REF!),BDI!$H$17,IF(#REF!=\"ZERO\",0))))),\"\")","v":{"$error":"#REF!"}},"",""]
["SF-00817","Martelete demolidor 1,7 kW (12 kg)","Equipamento/Ferramenta","un",0,"","",{"$f":"IF(A822<>\"\",IF(AND(#REF!=\"Padrão\",$I$4=#REF!),BDI!$B$17,IF(AND(#REF!=\"Padrão\",$I$4=#REF!),BDI!$C$17,IF(AND(#REF!=\"Diferenciado\",$I$4=#REF!),BDI!$G$17,IF(AND(#REF!=\"Diferenciado\",$I$4=#REF!),BDI!$H$17,IF(#REF!=\"ZERO\",0))))),\"\")","v":{"$error":"#REF!"}},"",""]
["SF-00818","Martelete demolidor 2kW (30 kg)","Equipamento/Ferramenta","un",0,"","",{"$f":"IF(A823<>\"\",IF(AND(#REF!=\"Padrão\",$I$4=#REF!),BDI!$B$17,IF(AND(#REF!=\"Padrão\",$I$4=#REF!),BDI!$C$17,IF(AND(#REF!=\"Diferenciado\",$I$4=#REF!),BDI!$G$17,IF(AND(#REF!=\"Diferenciado\",$I$4=#REF!),BDI!$H$17,IF(#REF!=\"ZERO\",0))))),\"\")","v":{"$error":"#REF!"}},"",""]
["SF-00819","Rolo lã de carneiro 23cm com suporte","Equipamento/Ferramenta","un",0,"","",{"$f":"IF(A824<>\"\",IF(AND(#REF!=\"Padrão\",$I$4=#REF!),BDI!$B$17,IF(AND(#REF!=\"Padrão\",$I$4=#REF!),BDI!$C$17,IF(AND(#REF!=\"Diferenciado\",$I$4=#REF!),BDI!$G$17,IF(AND(#REF!=\"Diferenciado\",$I$4=#REF!),BDI!$H$17,IF(#REF!=\"ZERO\",0))))),\"\")","v":{"$error":"#REF!"}},"",""]
["SF-00820","Trado perfurador para terra manual 25 cm","Equipamento/Ferramenta","un",0,"","",{"$f":"IF(A825<>\"\",IF(AND(#REF!=\"Padrão\",$I$4=#REF!),BDI!$B$17,IF(AND(#REF!=\"Padrão\",$I$4=#REF!),BDI!$C$17,IF(AND(#REF!=\"Diferenciado\",$I$4=#REF!),BDI!$G$17,IF(AND(#REF!=\"Diferenciado\",$I$4=#REF!),BDI!$H$17,IF(#REF!=\"ZERO\",0))))),\"\")","v":{"$error":"#REF!"}},"",""]
["SF-00821","Plataforma de trabalho aéreo articulada","Locação","dia",0,"","",{"$f":"IF(A826<>\"\",IF(AND(#REF!=\"Padrão\",$I$4=#REF!),BDI!$B$17,IF(AND(#REF!=\"Padrão\",$I$4=#REF!),BDI!$C$17,IF(AND(#REF!=\"Diferenciado\",$I$4=#REF!),BDI!$G$17,IF(AND(#REF!=\"Diferenciado\",$I$4=#REF!),BDI!$H$17,IF(#REF!=\"ZERO\",0))))),\"\")","v":{"$error":"#REF!"}},"",""]
["SF-00822","Relógio Biométrico","Equipamento/Ferramenta","un",0,"","",{"$f":"IF(A827<>\"\",IF(AND(#REF!=\"Padrão\",$I$4=#REF!),BDI!$B$17,IF(AND(#REF!=\"Padrão\",$I$4=#REF!),BDI!$C$17,IF(AND(#REF!=\"Diferenciado\",$I$4=#REF!),BDI!$G$17,IF(AND(#REF!=\"Diferenciado\",$I$4=#REF!),BDI!$H$17,IF(#REF!=\"ZERO\",0))))),\"\")","v":{"$error":"#REF!"}},"",""]
["SF-00823","Camisa polo manga curta com logotipo da empresa na frente e indicação da categoria profissional nas costas","Equipamento/Ferramenta","pç",0,"","",{"$f":"IF(A828<>\"\",IF(AND(#REF!=\"Padrão\",$I$4=#REF!),BDI!$B$17,IF(AND(#REF!=\"Padrão\",$I$4=#REF!),BDI!$C$17,IF(AND(#REF!=\"Diferenciado\",$I$4=#REF!),BDI!$G$17,IF(AND(#REF!=\"Diferenciado\",$I$4=#REF!),BDI!$H$17,IF(#REF!=\"ZERO\",0))))),\"\")","v":{"$error":"#REF!"}},"",""]
["SF-00824","Camisa polo manga longa com logotipo da empresa na frente e indicação da categoria profissional nas costas","Equipamento/Ferramenta","pç",0,"","",{"$f":"IF(A829<>\"\",IF(AND(#REF!=\"Padrão\",$I$4=#REF!),BDI!$B$17,IF(AND(#REF!=\"Padrão\",$I$4=#REF!),BDI!$C$17,IF(AND(#REF!=\"Diferenciado\",$I$4=#REF!),BDI!$G$17,IF(AND(#REF!=\"Diferenciado\",$I$4=#REF!),BDI!$H$17,IF(#REF!=\"ZERO\",0))))),\"\")","v":{"$error":"#REF!"}},"",""]
["SF-00825","Calças de material resistente e cor escura","Equipamento/Ferramenta","pç",0,"","",{"$f":"IF(A830<>\"\",IF(AND(#REF!=\"Padrão\",$I$4=#REF!),BDI!$B$17,IF(AND(#REF!=\"Padrão\",$I$4=#REF!),BDI!$C$17,IF(AND(#REF!=\"Diferenciado\",$I$4=#REF!),BDI!$G$17,IF(AND(#REF!=\"Diferenciado\",$I$4=#REF!),BDI!$H$17,IF(#REF!=\"ZERO\",0))))),\"\")","v":{"$error":"#REF!"}},"",""]
["SF-00826","Gorros com pala (boné) na mesma cor da camisa","Equipamento/Ferramenta","pç",0,"","",{"$f":"IF(A831<>\"\",IF(AND(#REF!=\"Padrão\",$I$4=#REF!),BDI!$B$17,IF(AND(#REF!=\"Padrão\",$I$4=#REF!),BDI!$C$17,IF(AND(#REF!=\"Diferenciado\",$I$4=#REF!),BDI!$G$17,IF(AND(#REF!=\"Diferenciado\",$I$4=#REF!),BDI!$H$17,IF(#REF!=\"ZERO\",0))))),\"\")","v":{"$error":"#REF!"}},"",""]
["SF-00827","Bota com solado de borracha","Equipamento/Ferramenta","par",0,"","",{"$f":"IF(A832<>\"\",IF(AND(#REF!=\"Padrão\",$I$4=#REF!),BDI!$B$17,IF(AND(#REF!=\"Padrão\",$I$4=#REF!),BDI!$C$17,IF(AND(#REF!=\"Diferenciado\",$I$4=#REF!),BDI!$G$17,IF(AND(#REF!=\"Diferenciado\",$I$4=#REF!),BDI!$H$17,IF(#REF!=\"ZERO\",0))))),\"\")","v":{"$error":"#REF!"}},"",""]
["SF-00828","Bota de borracha de cano longo","Equipamento/Ferramenta","par",0,"","",{"$f":"IF(A833<>\"\",IF(AND(#REF!=\"Padrão\",$I$4=#REF!),BDI!$B$17,IF(AND(#REF!=\"Padrão\",$I$4=#REF!),BDI!$C$17,IF(AND(#REF!=\"Diferenciado\",$I$4=#REF!),BDI!$G$17,IF(AND(#REF!=\"Diferenciado\",$I$4=#REF!),BDI!$H$17,IF(#REF!=\"ZERO\",0))))),\"\")","v":{"$error":"#REF!"}},"",""]
["SF-00829","Capa de chuva","Equipamento/Ferramenta","pç",0,"","",{"$f":"IF(A834<>\"\",IF(AND(#REF!=\"Padrão\",$I$4=#REF!),BDI!$B$17,IF(AND(#REF!=\"Padrão\",$I$4=#REF!),BDI!$C$17,IF(AND(#REF!=\"Diferenciado\",$I$4=#REF!),BDI!$G$17,IF(AND(#REF!=\"Diferenciado\",$I$4=#REF!),BDI!$H$17,IF(#REF!=\"ZERO\",0))))),\"\")","v":{"$error":"#REF!"}},"",""]
["SF-00830","Capacete de segurança","Equipamento/Ferramenta","pç",0,"","",{"$f":"IF(A835<>\"\",IF(AND(#REF!=\"Padrão\",$I$4=#REF!),BDI!$B$17,IF(AND(#REF!=\"Padrão\",$I$4=#REF!),BDI!$C$17,IF(AND(#REF!=\"Diferenciado\",$I$4=#REF!),BDI!$G$17,IF(AND(#REF!=\"Diferenciado\",$I$4=#REF!),BDI!$H$17,IF(#REF!=\"ZERO\",0))))),\"\")","v":{"$error":"#REF!"}},"",""]
["SF-00831","Cinto de segurança tipo paraquedista","Equipamento/Ferramenta","pç",0,"","",{"$f":"IF(A836<>\"\",IF(AND(#REF!=\"Padrão\",$I$4=#REF!),BDI!$B$17,IF(AND(#REF!=\"Padrão\",$I$4=#REF!),BDI!$C$17,IF(AND(#REF!=\"Diferenciado\",$I$4=#REF!),BDI!$G$17,IF(AND(#REF!=\"Diferenciado\",$I$4=#REF!),BDI!$H$17,IF(#REF!=\"ZERO\",0))))),\"\")","v":{"$error":"#REF!"}},"",""]
["SF-00832","Lanterna profissional","Equipamento/Ferramenta","pç",0,"","",{"$f":"IF(A837<>\"\",IF(AND(#REF!=\"Padrão\",$I$4=#REF!),BDI!$B$17,IF(AND(#REF!=\"Padrão\",$I$4=#REF!),BDI!$C$17,IF(AND(#REF!=\"Diferenciado\",$I$4=#REF!),BDI!$G$17,IF(AND(#REF!=\"Diferenciado\",$I$4=#REF!),BDI!$H$17,IF(#REF!=\"ZERO\",0))))),\"\")","v":{"$error":"#REF!"}},"",""]
["SF-00833","Lanterna para capacete","Equipamento/Ferramenta","pç",0,"","",{"$f":"IF(A838<>\"\",IF(AND(#REF!=\"Padrão\",$I$4=#REF!),BDI!$B$17,IF(AND(#REF!=\"Padrão\",$I$4=#REF!),BDI!$C$17,IF(AND(#REF!=\"Diferenciado\",$I$4=#REF!),BDI!$G$17,IF(AND(#REF!=\"Diferenciado\",$I$4=#REF!),BDI!$H$17,IF(#REF!=\"ZERO\",0))))),\"\")","v":{"$error":"#REF!"}},"",""]
["SF-00834","Luva de borracha","Equipamento/Ferramenta","par",0,"",{"$f":"IF(ISNUMBER(F839),ROUND(E839*F839,2),\"\")","v":""},{"$f":"IF(A839<>\"\",IF(AND(#REF!=\"Padrão\",$I$4=#REF!),BDI!$B$17,IF(AND(#REF!=\"Padrão\",$I$4=#REF!),BDI!$C$17,IF(AND(#REF!=\"Diferenciado\",$I$4=#REF!),BDI!$G$17,IF(AND(#REF!=\"Diferenciado\",$I$4=#REF!),BDI!$H$17,IF(#REF!=\"ZERO\",0))))),\"\")","v":{"$error":"#REF!"}},{"$f":"IF(ISNUMBER(F839),ROUND(F839*(1+H839),2),\"\")","v":""},{"$f":"IF(ISNUMBER(F839),ROUND(I839*E839,2),\"\")","v":""}]
["SF-00835","Máscara de proteção respiratória com válvula e com película de carbono FFP2","Equipamento/Ferramenta","pç",0,"","",{"$f":"IF(A840<>\"\",IF(AND(#REF!=\"Padrão\",$I$4=#REF!),BDI!$B$17,IF(AND(#REF!=\"Padrão\",$I$4=#REF!),BDI!$C$17,IF(AND(#REF!=\"Diferenciado\",$I$4=#REF!),BDI!$G$17,IF(AND(#REF!=\"Diferenciado\",$I$4=#REF!),BDI!$H$17,IF(#REF!=\"ZERO\",0))))),\"\")","v":{"$error":"#REF!"}},"",""]
["SF-00836","Óculos de segurança com proteção lateral total","Equipamento/Ferramenta","pç",0,"","",{"$f":"IF(A841<>\"\",IF(AND(#REF!=\"Padrão\",$I$4=#REF!),BDI!$B$17,IF(AND(#REF!=\"Padrão\",$I$4=#REF!),BDI!$C$17,IF(AND(#REF!=\"Diferenciado\",$I$4=#REF!),BDI!$G$17,IF(AND(#REF!=\"Diferenciado\",$I$4=#REF!),BDI!$H$17,IF(#REF!=\"ZERO\",0))))),\"\")","v":{"$error":"#REF!"}},"",""]
["SF-00837","Protetor auditivo flexível de inserção","Equipamento/Ferramenta","pç",0,"","",{"$f":"IF(A842<>\"\",IF(AND(#REF!=\"Padrão\",$I$4=#REF!),BDI!$B$17,IF(AND(#REF!=\"Padrão\",$I$4=#REF!),BDI!$C$17,IF(AND(#REF!=\"Diferenciado\",$I$4=#REF!),BDI!$G$17,IF(AND(#REF!=\"Diferenciado\",$I$4=#REF!),BDI!$H$17,IF(#REF!=\"ZERO\",0))))),\"\")","v":{"$error":"#REF!"}},"",""]
["SF-00838","Protetor Facial","Equipamento/Ferramenta","pç",0,"","",{"$f":"IF(A843<>\"\",IF(AND(#REF!=\"Padrão\",$I$4=#REF!),BDI!$B$17,IF(AND(#REF!=\"Padrão\",$I$4=#REF!),BDI!$C$17,IF(AND(#REF!=\"Diferenciado\",$I$4=#REF!),BDI!$G$17,IF(AND(#REF!=\"Diferenciado\",$I$4=#REF!),BDI!$H$17,IF(#REF!=\"ZERO\",0))))),\"\")","v":{"$error":"#REF!"}},"",""]
["SF-00839","Talabarte de Posicionamento (Restrição de Movimento)","Equipamento/Ferramenta","pç",0,"","",{"$f":"IF(A844<>\"\",IF(AND(#REF!=\"Padrão\",$I$4=#REF!),BDI!$B$17,IF(AND(#REF!=\"Padrão\",$I$4=#REF!),BDI!$C$17,IF(AND(#REF!=\"Diferenciado\",$I$4=#REF!),BDI!$G$17,IF(AND(#REF!=\"Diferenciado\",$I$4=#REF!),BDI!$H$17,IF(#REF!=\"ZERO\",0))))),\"\")","v":{"$error":"#REF!"}},"",""]
["SF-00840","Talabarte em Y","Equipamento/Ferramenta","pç",0,"","",{"$f":"IF(A845<>\"\",IF(AND(#REF!=\"Padrão\",$I$4=#REF!),BDI!$B$17,IF(AND(#REF!=\"Padrão\",$I$4=#REF!),BDI!$C$17,IF(AND(#REF!=\"Diferenciado\",$I$4=#REF!),BDI!$G$17,IF(AND(#REF!=\"Diferenciado\",$I$4=#REF!),BDI!$H$17,IF(#REF!=\"ZERO\",0))))),\"\")","v":{"$error":"#REF!"}},"",""]
["SF-00841","Travaquedas Deslizante Para Corda","Equipamento/Ferramenta","pç",0,"","",{"$f":"IF(A846<>\"\",IF(AND(#REF!=\"Padrão\",$I$4=#REF!),BDI!$B$17,IF(AND(#REF!=\"Padrão\",$I$4=#REF!),BDI!$C$17,IF(AND(#REF!=\"Diferenciado\",$I$4=#REF!),BDI!$G$17,IF(AND(#REF!=\"Diferenciado\",$I$4=#REF!),BDI!$H$17,IF(#REF!=\"ZERO\",0))))),\"\")","v":{"$error":"#REF!"}},"",""]
["SF-00842","Travaquedas Deslizante Para Cabo de Aço","Equipamento/Ferramenta","pç",0,"","",{"$f":"IF(A847<>\"\",IF(AND(#REF!=\"Padrão\",$I$4=#REF!),BDI!$B$17,IF(AND(#REF!=\"Padrão\",$I$4=#REF!),BDI!$C$17,IF(AND(#REF!=\"Diferenciado\",$I$4=#REF!),BDI!$G$17,IF(AND(#REF!=\"Diferenciado\",$I$4=#REF!),BDI!$H$17,IF(#REF!=\"ZERO\",0))))),\"\")","v":{"$error":"#REF!"}},"",""]
["SF-00843","Uniforme Antichamas de Proteção Contra Arcos Elétricos","Equipamento/Ferramenta","pç",0,"","",{"$f":"IF(A848<>\"\",IF(AND(#REF!=\"Padrão\",$I$4=#REF!),BDI!$B$17,IF(AND(#REF!=\"Padrão\",$I$4=#REF!),BDI!$C$17,IF(AND(#REF!=\"Diferenciado\",$I$4=#REF!),BDI!$G$17,IF(AND(#REF!=\"Diferenciado\",$I$4=#REF!),BDI!$H$17,IF(#REF!=\"ZERO\",0))))),\"\")","v":{"$error":"#REF!"}},"",""]
["SF-00844","Instalação de vidro (comum, temperado, aramado ou laminado) reaproveitado","Serviço (Mat + MO)","m2",0,{"$f":"OFFSET(INDEX(Composições!A:J,MATCH(Orçamentária!A849,Composições!A:A,0),8),2,0)","v":38.336300000000001},0,{"$f":"IF(A849<>\"\",IF(AND(#REF!=\"Padrão\",$I$4=#REF!),BDI!$B$17,IF(AND(#REF!=\"Padrão\",$I$4=#REF!),BDI!$C$17,IF(AND(#REF!=\"Diferenciado\",$I$4=#REF!),BDI!$G$17,IF(AND(#REF!=\"Diferenciado\",$I$4=#REF!),BDI!$H$17,IF(#REF!=\"ZERO\",0))))),\"\")","v":{"$error":"#REF!"}},{"$error":"#REF!"},{"$error":"#REF!"}]
["SF-00845","Vidro temperado incolor com 8mm de espessura","Serviço (Mat + MO)","m2",0,{"$f":"OFFSET(INDEX(Composições!A:J,MATCH(Orçamentária!A850,Composições!A:A,0),8),2,0)","v":171.80179999999999},0,{"$f":"IF(A850<>\"\",IF(AND(#REF!=\"Padrão\",$I$4=#REF!),BDI!$B$17,IF(AND(#REF!=\"Padrão\",$I$4=#REF!),BDI!$C$17,IF(AND(#REF!=\"Diferenciado\",$I$4=#REF!),BDI!$G$17,IF(AND(#REF!=\"Diferenciado\",$I$4=#REF!),BDI!$H$17,IF(#REF!=\"ZERO\",0))))),\"\")","v":{"$error":"#REF!"}},{"$error":"#REF!"},{"$error":"#REF!"}]
["SF-00846","Vidro liso comum transparente 5mm","Serviço (Mat + MO)","m2",0,{"$f":"OFFSET(INDEX(Composições!A:J,MATCH(Orçamentária!A851,Composições!A:A,0),8),2,0)","v":141.57849999999999},0,{"$f":"IF(A851<>\"\",IF(AND(#REF!=\"Padrão\",$I$4=#REF!),BDI!$B$17,IF(AND(#REF!=\"Padrão\",$I$4=#REF!),BDI!$C$17,IF(AND(#REF!=\"Diferenciado\",$I$4=#REF!),BDI!$G$17,IF(AND(#REF!=\"Diferenciado\",$I$4=#REF!),BDI!$H$17,IF(#REF!=\"ZERO\",0))))),\"\")","v":{"$error":"#REF!"}},{"$error":"#REF!"},{"$error":"#REF!"}]
["SF-00847","Corte em vidro ou espelho reaproveitado","Serviço (Mat + MO)","m",0,{"$f":"OFFSET(INDEX(Composições!A:J,MATCH(Orçamentária!A852,Composições!A:A,0),8),2,0)","v":18.425250000000002},0,{"$f":"IF(A852<>\"\",IF(AND(#REF!=\"Padrão\",$I$4=#REF!),BDI!$B$17,IF(AND(#REF!=\"Padrão\",$I$4=#REF!),BDI!$C$17,IF(AND(#REF!=\"Diferenciado\",$I$4=#REF!),BDI!$G$17,IF(AND(#REF!=\"Diferenciado\",$I$4=#REF!),BDI!$H$17,IF(#REF!=\"ZERO\",0))))),\"\")","v":{"$error":"#REF!"}},{"$error":"#REF!"},{"$error":"#REF!"}]
["SF-00848","Lapidação de vidro / espelho reaproveitado","Serviço (Mat + MO)","m",0,{"$f":"OFFSET(INDEX(Composições!A:J,MATCH(Orçamentária!A853,Composições!A:A,0),8),2,0)","v":27.637875000000001},0,{"$f":"IF(A853<>\"\",IF(AND(#REF!=\"Padrão\",$I$4=#REF!),BDI!$B$17,IF(AND(#REF!=\"Padrão\",$I$4=#REF!),BDI!$C$17,IF(AND(#REF!=\"Diferenciado\",$I$4=#REF!),BDI!$G$17,IF(AND(#REF!=\"Diferenciado\",$I$4=#REF!),BDI!$H$17,IF(#REF!=\"ZERO\",0))))),\"\")","v":{"$error":"#REF!"}},{"$error":"#REF!"},{"$error":"#REF!"}]
["SF-00849","Vidro temperado incolor com 10 mm de espessura","Serviço (Mat + MO)","m2",0,{"$f":"OFFSET(INDEX(Composições!A:J,MATCH(Orçamentária!A854,Composições!A:A,0),8),2,0)","v":175.0565},0,{"$f":"IF(A854<>\"\",IF(AND(#REF!=\"Padrão\",$I$4=#REF!),BDI!$B$17,IF(AND(#REF!=\"Padrão\",$I$4=#REF!),BDI!$C$17,IF(AND(#REF!=\"Diferenciado\",$I$4=#REF!),BDI!$G$17,IF(AND(#REF!=\"Diferenciado\",$I$4=#REF!),BDI!$H$17,IF(#REF!=\"ZERO\",0))))),\"\")","v":{"$error":"#REF!"}},{"$error":"#REF!"},{"$error":"#REF!"}]
["SF-00850","Bucha para pivô de dobradiça para vidro temperado","Serviço (Mat + MO)","un",0,{"$f":"OFFSET(INDEX(Composições!A:J,MATCH(Orçamentária!A855,Composições!A:A,0),8),2,0)","v":3.0808500000000003},0,{"$f":"IF(A855<>\"\",IF(AND(#REF!=\"Padrão\",$I$4=#REF!),BDI!$B$17,IF(AND(#REF!=\"Padrão\",$I$4=#REF!),BDI!$C$17,IF(AND(#REF!=\"Diferenciado\",$I$4=#REF!),BDI!$G$17,IF(AND(#REF!=\"Diferenciado\",$I$4=#REF!),BDI!$H$17,IF(#REF!=\"ZERO\",0))))),\"\")","v":{"$error":"#REF!"}},{"$error":"#REF!"},{"$error":"#REF!"}]
["SF-00851","Suporte para bandeira de vidro temperado, com ponto de giro para dobradiça","Serviço (Mat + MO)","un",0,{"$f":"OFFSET(INDEX(Composições!A:J,MATCH(Orçamentária!A856,Composições!A:A,0),8),2,0)","v":6.1617000000000006},0,{"$f":"IF(A856<>\"\",IF(AND(#REF!=\"Padrão\",$I$4=#REF!),BDI!$B$17,IF(AND(#REF!=\"Padrão\",$I$4=#REF!),BDI!$C$17,IF(AND(#REF!=\"Diferenciado\",$I$4=#REF!),BDI!$G$17,IF(AND(#REF!=\"Diferenciado\",$I$4=#REF!),BDI!$H$17,IF(#REF!=\"ZERO\",0))))),\"\")","v":{"$error":"#REF!"}},{"$error":"#REF!"},{"$error":"#REF!"}]
["SF-00852","Suporte de canto, simples, para vidro temperado","Serviço (Mat + MO)","un",0,{"$f":"OFFSET(INDEX(Composições!A:J,MATCH(Orçamentária!A857,Composições!A:A,0),8),2,0)","v":3.0808500000000003},0,{"$f":"IF(A857<>\"\",IF(AND(#REF!=\"Padrão\",$I$4=#REF!),BDI!$B$17,IF(AND(#REF!=\"Padrão\",$I$4=#REF!),BDI!$C$17,IF(AND(#REF!=\"Diferenciado\",$I$4=#REF!),BDI!$G$17,IF(AND(#REF!=\"Diferenciado\",$I$4=#REF!),BDI!$H$17,IF(#REF!=\"ZERO\",0))))),\"\")","v":{"$error":"#REF!"}},{"$error":"#REF!"},{"$error":"#REF!"}]
["SF-00853","Suporte de união, sem batedor, para dois ou três vidros temperados","Serviço (Mat + MO)","un",0,{"$f":"OFFSET(INDEX(Composições!A:J,MATCH(Orçamentária!A858,Composições!A:A,0),8),2,0)","v":6.1617000000000006},0,{"$f":"IF(A858<>\"\",IF(AND(#REF!=\"Padrão\",$I$4=#REF!),BDI!$B$17,IF(AND(#REF!=\"Padrão\",$I$4=#REF!),BDI!$C$17,IF(AND(#REF!=\"Diferenciado\",$I$4=#REF!),BDI!$G$17,IF(AND(#REF!=\"Diferenciado\",$I$4=#REF!),BDI!$H$17,IF(#REF!=\"ZERO\",0))))),\"\")","v":{"$error":"#REF!"}},{"$error":"#REF!"},{"$error":"#REF!"}]
["SF-00854","Botão de correção para vidro temperado","Serviço (Mat + MO)","un",0,{"$f":"OFFSET(INDEX(Composições!A:J,MATCH(Orçamentária!A859,Composições!A:A,0),8),2,0)","v":3.0808500000000003},0,{"$f":"IF(A859<>\"\",IF(AND(#REF!=\"Padrão\",$I$4=#REF!),BDI!$B$17,IF(AND(#REF!=\"Padrão\",$I$4=#REF!),BDI!$C$17,IF(AND(#REF!=\"Diferenciado\",$I$4=#REF!),BDI!$G$17,IF(AND(#REF!=\"Diferenciado\",$I$4=#REF!),BDI!$H$17,IF(#REF!=\"ZERO\",0))))),\"\")","v":{"$error":"#REF!"}},{"$error":"#REF!"},{"$error":"#REF!"}]
["SF-00855","Fechadura bico-de-papagaio, com furo, para vidro temperado","Serviço (Mat + MO)","un",0,{"$f":"OFFSET(INDEX(Composições!A:J,MATCH(Orçamentária!A860,Composições!A:A,0),8),2,0)","v":8.2156000000000002},0,{"$f":"IF(A860<>\"\",IF(AND(#REF!=\"Padrão\",$I$4=#REF!),BDI!$B$17,IF(AND(#REF!=\"Padrão\",$I$4=#REF!),BDI!$C$17,IF(AND(#REF!=\"Diferenciado\",$I$4=#REF!),BDI!$G$17,IF(AND(#REF!=\"Diferenciado\",$I$4=#REF!),BDI!$H$17,IF(#REF!=\"ZERO\",0))))),\"\")","v":{"$error":"#REF!"}},{"$error":"#REF!"},{"$error":"#REF!"}]
["SF-00856","Fechadura bico-de-papagaio, com furo, para janela de vidro temperado","Serviço (Mat + MO)","un",0,{"$f":"OFFSET(INDEX(Composições!A:J,MATCH(Orçamentária!A861,Composições!A:A,0),8),2,0)","v":8.2156000000000002},0,{"$f":"IF(A861<>\"\",IF(AND(#REF!=\"Padrão\",$I$4=#REF!),BDI!$B$17,IF(AND(#REF!=\"Padrão\",$I$4=#REF!),BDI!$C$17,IF(AND(#REF!=\"Diferenciado\",$I$4=#REF!),BDI!$G$17,IF(AND(#REF!=\"Diferenciado\",$I$4=#REF!),BDI!$H$17,IF(#REF!=\"ZERO\",0))))),\"\")","v":{"$error":"#REF!"}},{"$error":"#REF!"},{"$error":"#REF!"}]
["SF-00857","Fechadura para porta de abrir de vidro temperado","Serviço (Mat + MO)","un",0,{"$f":"OFFSET(INDEX(Composições!A:J,MATCH(Orçamentária!A862,Composições!A:A,0),8),2,0)","v":8.2156000000000002},0,{"$f":"IF(A862<>\"\",IF(AND(#REF!=\"Padrão\",$I$4=#REF!),BDI!$B$17,IF(AND(#REF!=\"Padrão\",$I$4=#REF!),BDI!$C$17,IF(AND(#REF!=\"Diferenciado\",$I$4=#REF!),BDI!$G$17,IF(AND(#REF!=\"Diferenciado\",$I$4=#REF!),BDI!$H$17,IF(#REF!=\"ZERO\",0))))),\"\")","v":{"$error":"#REF!"}},{"$error":"#REF!"},{"$error":"#REF!"}]
["SF-00858","Contra fechadura, para alvenaria, para porta com fechadura 1520/9520","Serviço (Mat + MO)","un",0,{"$f":"OFFSET(INDEX(Composições!A:J,MATCH(Orçamentária!A863,Composições!A:A,0),8),2,0)","v":5.1347500000000004},0,{"$f":"IF(A863<>\"\",IF(AND(#REF!=\"Padrão\",$I$4=#REF!),BDI!$B$17,IF(AND(#REF!=\"Padrão\",$I$4=#REF!),BDI!$C$17,IF(AND(#REF!=\"Diferenciado\",$I$4=#REF!),BDI!$G$17,IF(AND(#REF!=\"Diferenciado\",$I$4=#REF!),BDI!$H$17,IF(#REF!=\"ZERO\",0))))),\"\")","v":{"$error":"#REF!"}},{"$error":"#REF!"},{"$error":"#REF!"}]
["SF-00859","Contra fechadura de pressão para porta de vidro temperado","Serviço (Mat + MO)","un",0,{"$f":"OFFSET(INDEX(Composições!A:J,MATCH(Orçamentária!A864,Composições!A:A,0),8),2,0)","v":5.1347500000000004},0,{"$f":"IF(A864<>\"\",IF(AND(#REF!=\"Padrão\",$I$4=#REF!),BDI!$B$17,IF(AND(#REF!=\"Padrão\",$I$4=#REF!),BDI!$C$17,IF(AND(#REF!=\"Diferenciado\",$I$4=#REF!),BDI!$G$17,IF(AND(#REF!=\"Diferenciado\",$I$4=#REF!),BDI!$H$17,IF(#REF!=\"ZERO\",0))))),\"\")","v":{"$error":"#REF!"}},{"$error":"#REF!"},{"$error":"#REF!"}]
["SF-00860","Contra fechadura, com furo, para porta com furo","Serviço (Mat + MO)","un",0,{"$f":"OFFSET(INDEX(Composições!A:J,MATCH(Orçamentária!A865,Composições!A:A,0),8),2,0)","v":5.1347500000000004},0,{"$f":"IF(A865<>\"\",IF(AND(#REF!=\"Padrão\",$I$4=#REF!),BDI!$B$17,IF(AND(#REF!=\"Padrão\",$I$4=#REF!),BDI!$C$17,IF(AND(#REF!=\"Diferenciado\",$I$4=#REF!),BDI!$G$17,IF(AND(#REF!=\"Diferenciado\",$I$4=#REF!),BDI!$H$17,IF(#REF!=\"ZERO\",0))))),\"\")","v":{"$error":"#REF!"}},{"$error":"#REF!"},{"$error":"#REF!"}]
["SF-00861","Trinco inferior, com miolo, para porta de vidro temperado","Serviço (Mat + MO)","un",0,{"$f":"OFFSET(INDEX(Composições!A:J,MATCH(Orçamentária!A866,Composições!A:A,0),8),2,0)","v":5.1347500000000004},0,{"$f":"IF(A866<>\"\",IF(AND(#REF!=\"Padrão\",$I$4=#REF!),BDI!$B$17,IF(AND(#REF!=\"Padrão\",$I$4=#REF!),BDI!$C$17,IF(AND(#REF!=\"Diferenciado\",$I$4=#REF!),BDI!$G$17,IF(AND(#REF!=\"Diferenciado\",$I$4=#REF!),BDI!$H$17,IF(#REF!=\"ZERO\",0))))),\"\")","v":{"$error":"#REF!"}},{"$error":"#REF!"},{"$error":"#REF!"}]
["SF-00862","Mola hidráulica BTS 75R","Serviço (Mat + MO)","un",0,{"$f":"OFFSET(INDEX(Composições!A:J,MATCH(Orçamentária!A867,Composições!A:A,0),8),2,0)","v":43.031124000000005},0,{"$f":"IF(A867<>\"\",IF(AND(#REF!=\"Padrão\",$I$4=#REF!),BDI!$B$17,IF(AND(#REF!=\"Padrão\",$I$4=#REF!),BDI!$C$17,IF(AND(#REF!=\"Diferenciado\",$I$4=#REF!),BDI!$G$17,IF(AND(#REF!=\"Diferenciado\",$I$4=#REF!),BDI!$H$17,IF(#REF!=\"ZERO\",0))))),\"\")","v":{"$error":"#REF!"}},{"$error":"#REF!"},{"$error":"#REF!"}]
["SF-00863","Puxador redondo, padrão em poliéster, para porta de vidro temperado","Serviço (Mat + MO)","un",0,{"$f":"OFFSET(INDEX(Composições!A:J,MATCH(Orçamentária!A868,Composições!A:A,0),8),2,0)","v":4.1078000000000001},0,{"$f":"IF(A868<>\"\",IF(AND(#REF!=\"Padrão\",$I$4=#REF!),BDI!$B$17,IF(AND(#REF!=\"Padrão\",$I$4=#REF!),BDI!$C$17,IF(AND(#REF!=\"Diferenciado\",$I$4=#REF!),BDI!$G$17,IF(AND(#REF!=\"Diferenciado\",$I$4=#REF!),BDI!$H$17,IF(#REF!=\"ZERO\",0))))),\"\")","v":{"$error":"#REF!"}},{"$error":"#REF!"},{"$error":"#REF!"}]
["SF-00864","Puxador em aço inox sob medida – Tipo A","Serviço (Mat + MO)","un",0,{"$f":"OFFSET(INDEX(Composições!A:J,MATCH(Orçamentária!A869,Composições!A:A,0),8),2,0)","v":8.2156000000000002},0,{"$f":"IF(A869<>\"\",IF(AND(#REF!=\"Padrão\",$I$4=#REF!),BDI!$B$17,IF(AND(#REF!=\"Padrão\",$I$4=#REF!),BDI!$C$17,IF(AND(#REF!=\"Diferenciado\",$I$4=#REF!),BDI!$G$17,IF(AND(#REF!=\"Diferenciado\",$I$4=#REF!),BDI!$H$17,IF(#REF!=\"ZERO\",0))))),\"\")","v":{"$error":"#REF!"}},{"$error":"#REF!"},{"$error":"#REF!"}]
["SF-00865","Dobradiça superior para porta de vidro temperado","Serviço (Mat + MO)","un",0,{"$f":"OFFSET(INDEX(Composições!A:J,MATCH(Orçamentária!A870,Composições!A:A,0),8),2,0)","v":6.1617000000000006},0,{"$f":"IF(A870<>\"\",IF(AND(#REF!=\"Padrão\",$I$4=#REF!),BDI!$B$17,IF(AND(#REF!=\"Padrão\",$I$4=#REF!),BDI!$C$17,IF(AND(#REF!=\"Diferenciado\",$I$4=#REF!),BDI!$G$17,IF(AND(#REF!=\"Diferenciado\",$I$4=#REF!),BDI!$H$17,IF(#REF!=\"ZERO\",0))))),\"\")","v":{"$error":"#REF!"}},{"$error":"#REF!"},{"$error":"#REF!"}]
["SF-00866","Perfil em alumínio, tipo U - abas iguais - PU 5/8\" x 5/8\" – espessura 1,58mm","Serviço (Mat + MO)","m",0,{"$f":"OFFSET(INDEX(Composições!A:J,MATCH(Orçamentária!A871,Composições!A:A,0),8),2,0)","v":9.5823649999999994},0,{"$f":"IF(A871<>\"\",IF(AND(#REF!=\"Padrão\",$I$4=#REF!),BDI!$B$17,IF(AND(#REF!=\"Padrão\",$I$4=#REF!),BDI!$C$17,IF(AND(#REF!=\"Diferenciado\",$I$4=#REF!),BDI!$G$17,IF(AND(#REF!=\"Diferenciado\",$I$4=#REF!),BDI!$H$17,IF(#REF!=\"ZERO\",0))))),\"\")","v":{"$error":"#REF!"}},{"$error":"#REF!"},{"$error":"#REF!"}]
["SF-00867","Trilho superior em alumínio 60mm x 49,5mm, para vidro temperado","Serviço (Mat + MO)","m",0,{"$f":"OFFSET(INDEX(Composições!A:J,MATCH(Orçamentária!A872,Composições!A:A,0),8),2,0)","v":28.434535499999999},0,{"$f":"IF(A872<>\"\",IF(AND(#REF!=\"Padrão\",$I$4=#REF!),BDI!$B$17,IF(AND(#REF!=\"Padrão\",$I$4=#REF!),BDI!$C$17,IF(AND(#REF!=\"Diferenciado\",$I$4=#REF!),BDI!$G$17,IF(AND(#REF!=\"Diferenciado\",$I$4=#REF!),BDI!$H$17,IF(#REF!=\"ZERO\",0))))),\"\")","v":{"$error":"#REF!"}},{"$error":"#REF!"},{"$error":"#REF!"}]
["SF-00868","Perfil em alumínio para acabamento de trilho superior","Serviço (Mat + MO)","m",0,{"$f":"OFFSET(INDEX(Composições!A:J,MATCH(Orçamentária!A873,Composições!A:A,0),8),2,0)","v":12.204393500000002},0,{"$f":"IF(A873<>\"\",IF(AND(#REF!=\"Padrão\",$I$4=#REF!),BDI!$B$17,IF(AND(#REF!=\"Padrão\",$I$4=#REF!),BDI!$C$17,IF(AND(#REF!=\"Diferenciado\",$I$4=#REF!),BDI!$G$17,IF(AND(#REF!=\"Diferenciado\",$I$4=#REF!),BDI!$H$17,IF(#REF!=\"ZERO\",0))))),\"\")","v":{"$error":"#REF!"}},{"$error":"#REF!"},{"$error":"#REF!"}]
["SF-00869","Perfil guia inferior de alumínio 39,3 mm x 24 mm para vidro temperado 10mm","Serviço (Mat + MO)","m",0,{"$f":"OFFSET(INDEX(Composições!A:J,MATCH(Orçamentária!A874,Composições!A:A,0),8),2,0)","v":19.156588500000002},0,{"$f":"IF(A874<>\"\",IF(AND(#REF!=\"Padrão\",$I$4=#REF!),BDI!$B$17,IF(AND(#REF!=\"Padrão\",$I$4=#REF!),BDI!$C$17,IF(AND(#REF!=\"Diferenciado\",$I$4=#REF!),BDI!$G$17,IF(AND(#REF!=\"Diferenciado\",$I$4=#REF!),BDI!$H$17,IF(#REF!=\"ZERO\",0))))),\"\")","v":{"$error":"#REF!"}},{"$error":"#REF!"},{"$error":"#REF!"}]
["SF-00870","Capa do Perfil Guia Inferior “Click”","Serviço (Mat + MO)","m",0,{"$f":"OFFSET(INDEX(Composições!A:J,MATCH(Orçamentária!A875,Composições!A:A,0),8),2,0)","v":6.2503349999999998},0,{"$f":"IF(A875<>\"\",IF(AND(#REF!=\"Padrão\",$I$4=#REF!),BDI!$B$17,IF(AND(#REF!=\"Padrão\",$I$4=#REF!),BDI!$C$17,IF(AND(#REF!=\"Diferenciado\",$I$4=#REF!),BDI!$G$17,IF(AND(#REF!=\"Diferenciado\",$I$4=#REF!),BDI!$H$17,IF(#REF!=\"ZERO\",0))))),\"\")","v":{"$error":"#REF!"}},{"$error":"#REF!"},{"$error":"#REF!"}]
["SF-00871","Dobradiça inferior para porta de vidro temperado","Serviço (Mat + MO)","un",0,{"$f":"OFFSET(INDEX(Composições!A:J,MATCH(Orçamentária!A876,Composições!A:A,0),8),2,0)","v":6.1617000000000006},0,{"$f":"IF(A876<>\"\",IF(AND(#REF!=\"Padrão\",$I$4=#REF!),BDI!$B$17,IF(AND(#REF!=\"Padrão\",$I$4=#REF!),BDI!$C$17,IF(AND(#REF!=\"Diferenciado\",$I$4=#REF!),BDI!$G$17,IF(AND(#REF!=\"Diferenciado\",$I$4=#REF!),BDI!$H$17,IF(#REF!=\"ZERO\",0))))),\"\")","v":{"$error":"#REF!"}},{"$error":"#REF!"},{"$error":"#REF!"}]
["SF-00872","Escova de vedação para vidro temperado","Serviço (Mat + MO)","m",0,{"$f":"OFFSET(INDEX(Composições!A:J,MATCH(Orçamentária!A877,Composições!A:A,0),8),2,0)","v":6.1617000000000006},0,{"$f":"IF(A877<>\"\",IF(AND(#REF!=\"Padrão\",$I$4=#REF!),BDI!$B$17,IF(AND(#REF!=\"Padrão\",$I$4=#REF!),BDI!$C$17,IF(AND(#REF!=\"Diferenciado\",$I$4=#REF!),BDI!$G$17,IF(AND(#REF!=\"Diferenciado\",$I$4=#REF!),BDI!$H$17,IF(#REF!=\"ZERO\",0))))),\"\")","v":{"$error":"#REF!"}},{"$error":"#REF!"},{"$error":"#REF!"}]
["SF-00873","Roldana simples para porta de correr em vidro temperado","Serviço (Mat + MO)","un",0,{"$f":"OFFSET(INDEX(Composições!A:J,MATCH(Orçamentária!A878,Composições!A:A,0),8),2,0)","v":3.0808500000000003},0,{"$f":"IF(A878<>\"\",IF(AND(#REF!=\"Padrão\",$I$4=#REF!),BDI!$B$17,IF(AND(#REF!=\"Padrão\",$I$4=#REF!),BDI!$C$17,IF(AND(#REF!=\"Diferenciado\",$I$4=#REF!),BDI!$G$17,IF(AND(#REF!=\"Diferenciado\",$I$4=#REF!),BDI!$H$17,IF(#REF!=\"ZERO\",0))))),\"\")","v":{"$error":"#REF!"}},{"$error":"#REF!"},{"$error":"#REF!"}]
["SF-00874","Roldana dupla para porta de correr em vidro temperado","Serviço (Mat + MO)","un",0,{"$f":"OFFSET(INDEX(Composições!A:J,MATCH(Orçamentária!A879,Composições!A:A,0),8),2,0)","v":3.0808500000000003},0,{"$f":"IF(A879<>\"\",IF(AND(#REF!=\"Padrão\",$I$4=#REF!),BDI!$B$17,IF(AND(#REF!=\"Padrão\",$I$4=#REF!),BDI!$C$17,IF(AND(#REF!=\"Diferenciado\",$I$4=#REF!),BDI!$G$17,IF(AND(#REF!=\"Diferenciado\",$I$4=#REF!),BDI!$H$17,IF(#REF!=\"ZERO\",0))))),\"\")","v":{"$error":"#REF!"}},{"$error":"#REF!"},{"$error":"#REF!"}]
["SF-00875","Capuchinho para trinco para vidro temperado","Serviço (Mat + MO)","un",0,{"$f":"OFFSET(INDEX(Composições!A:J,MATCH(Orçamentária!A880,Composições!A:A,0),8),2,0)","v":2.0539000000000001},0,{"$f":"IF(A880<>\"\",IF(AND(#REF!=\"Padrão\",$I$4=#REF!),BDI!$B$17,IF(AND(#REF!=\"Padrão\",$I$4=#REF!),BDI!$C$17,IF(AND(#REF!=\"Diferenciado\",$I$4=#REF!),BDI!$G$17,IF(AND(#REF!=\"Diferenciado\",$I$4=#REF!),BDI!$H$17,IF(#REF!=\"ZERO\",0))))),\"\")","v":{"$error":"#REF!"}},{"$error":"#REF!"},{"$error":"#REF!"}]
["SF-00876","Facão simples para lateral e bandeira de vidro temperado","Serviço (Mat + MO)","un",0,{"$f":"OFFSET(INDEX(Composições!A:J,MATCH(Orçamentária!A881,Composições!A:A,0),8),2,0)","v":8.2156000000000002},0,{"$f":"IF(A881<>\"\",IF(AND(#REF!=\"Padrão\",$I$4=#REF!),BDI!$B$17,IF(AND(#REF!=\"Padrão\",$I$4=#REF!),BDI!$C$17,IF(AND(#REF!=\"Diferenciado\",$I$4=#REF!),BDI!$G$17,IF(AND(#REF!=\"Diferenciado\",$I$4=#REF!),BDI!$H$17,IF(#REF!=\"ZERO\",0))))),\"\")","v":{"$error":"#REF!"}},{"$error":"#REF!"},{"$error":"#REF!"}]
["SF-00877","Fechadura de pressão para porta de abrir em vidro temperado","Serviço (Mat + MO)","un",0,{"$f":"OFFSET(INDEX(Composições!A:J,MATCH(Orçamentária!A882,Composições!A:A,0),8),2,0)","v":8.2156000000000002},0,{"$f":"IF(A882<>\"\",IF(AND(#REF!=\"Padrão\",$I$4=#REF!),BDI!$B$17,IF(AND(#REF!=\"Padrão\",$I$4=#REF!),BDI!$C$17,IF(AND(#REF!=\"Diferenciado\",$I$4=#REF!),BDI!$G$17,IF(AND(#REF!=\"Diferenciado\",$I$4=#REF!),BDI!$H$17,IF(#REF!=\"ZERO\",0))))),\"\")","v":{"$error":"#REF!"}},{"$error":"#REF!"},{"$error":"#REF!"}]
["SF-00878","Suporte de união, com miolo, para vidro temperado","Serviço (Mat + MO)","un",0,{"$f":"OFFSET(INDEX(Composições!A:J,MATCH(Orçamentária!A883,Composições!A:A,0),8),2,0)","v":6.1617000000000006},0,{"$f":"IF(A883<>\"\",IF(AND(#REF!=\"Padrão\",$I$4=#REF!),BDI!$B$17,IF(AND(#REF!=\"Padrão\",$I$4=#REF!),BDI!$C$17,IF(AND(#REF!=\"Diferenciado\",$I$4=#REF!),BDI!$G$17,IF(AND(#REF!=\"Diferenciado\",$I$4=#REF!),BDI!$H$17,IF(#REF!=\"ZERO\",0))))),\"\")","v":{"$error":"#REF!"}},{"$error":"#REF!"},{"$error":"#REF!"}]
["SF-00879","Suporte para basculante e pivotante de vidro temperado","Serviço (Mat + MO)","un",0,{"$f":"OFFSET(INDEX(Composições!A:J,MATCH(Orçamentária!A884,Composições!A:A,0),8),2,0)","v":4.1078000000000001},0,{"$f":"IF(A884<>\"\",IF(AND(#REF!=\"Padrão\",$I$4=#REF!),BDI!$B$17,IF(AND(#REF!=\"Padrão\",$I$4=#REF!),BDI!$C$17,IF(AND(#REF!=\"Diferenciado\",$I$4=#REF!),BDI!$G$17,IF(AND(#REF!=\"Diferenciado\",$I$4=#REF!),BDI!$H$17,IF(#REF!=\"ZERO\",0))))),\"\")","v":{"$error":"#REF!"}},{"$error":"#REF!"},{"$error":"#REF!"}]
["SF-00880","Trinco central para basculante em vidro temperado","Serviço (Mat + MO)","un",0,{"$f":"OFFSET(INDEX(Composições!A:J,MATCH(Orçamentária!A885,Composições!A:A,0),8),2,0)","v":4.1078000000000001},0,{"$f":"IF(A885<>\"\",IF(AND(#REF!=\"Padrão\",$I$4=#REF!),BDI!$B$17,IF(AND(#REF!=\"Padrão\",$I$4=#REF!),BDI!$C$17,IF(AND(#REF!=\"Diferenciado\",$I$4=#REF!),BDI!$G$17,IF(AND(#REF!=\"Diferenciado\",$I$4=#REF!),BDI!$H$17,IF(#REF!=\"ZERO\",0))))),\"\")","v":{"$error":"#REF!"}},{"$error":"#REF!"},{"$error":"#REF!"}]
["SF-00881","Vidro laminado incolor de 8mm de espessura","Serviço (Mat + MO)","m2",0,{"$f":"OFFSET(INDEX(Composições!A:J,MATCH(Orçamentária!A886,Composições!A:A,0),8),2,0)","v":29.326500000000003},0,{"$f":"IF(A886<>\"\",IF(AND(#REF!=\"Padrão\",$I$4=#REF!),BDI!$B$17,IF(AND(#REF!=\"Padrão\",$I$4=#REF!),BDI!$C$17,IF(AND(#REF!=\"Diferenciado\",$I$4=#REF!),BDI!$G$17,IF(AND(#REF!=\"Diferenciado\",$I$4=#REF!),BDI!$H$17,IF(#REF!=\"ZERO\",0))))),\"\")","v":{"$error":"#REF!"}},{"$error":"#REF!"},{"$error":"#REF!"}]
["SF-00882","Suporte tipo “Spiderglass” para vidro temperado","Serviço (Mat + MO)","un",0,"","",{"$f":"IF(A887<>\"\",IF(AND(#REF!=\"Padrão\",$I$4=#REF!),BDI!$B$17,IF(AND(#REF!=\"Padrão\",$I$4=#REF!),BDI!$C$17,IF(AND(#REF!=\"Diferenciado\",$I$4=#REF!),BDI!$G$17,IF(AND(#REF!=\"Diferenciado\",$I$4=#REF!),BDI!$H$17,IF(#REF!=\"ZERO\",0))))),\"\")","v":{"$error":"#REF!"}},"",""]
["SF-00883","Dobradiça automática para box de vidro temperado","Serviço (Mat + MO)","un",0,{"$f":"OFFSET(INDEX(Composições!A:J,MATCH(Orçamentária!A888,Composições!A:A,0),8),2,0)","v":4.1078000000000001},0,{"$f":"IF(A888<>\"\",IF(AND(#REF!=\"Padrão\",$I$4=#REF!),BDI!$B$17,IF(AND(#REF!=\"Padrão\",$I$4=#REF!),BDI!$C$17,IF(AND(#REF!=\"Diferenciado\",$I$4=#REF!),BDI!$G$17,IF(AND(#REF!=\"Diferenciado\",$I$4=#REF!),BDI!$H$17,IF(#REF!=\"ZERO\",0))))),\"\")","v":{"$error":"#REF!"}},{"$error":"#REF!"},{"$error":"#REF!"}]
["SF-00884","Dobradiça horizontal para vidro basculante com trinco","Serviço (Mat + MO)","un",0,{"$f":"OFFSET(INDEX(Composições!A:J,MATCH(Orçamentária!A889,Composições!A:A,0),8),2,0)","v":4.1078000000000001},0,{"$f":"IF(A889<>\"\",IF(AND(#REF!=\"Padrão\",$I$4=#REF!),BDI!$B$17,IF(AND(#REF!=\"Padrão\",$I$4=#REF!),BDI!$C$17,IF(AND(#REF!=\"Diferenciado\",$I$4=#REF!),BDI!$G$17,IF(AND(#REF!=\"Diferenciado\",$I$4=#REF!),BDI!$H$17,IF(#REF!=\"ZERO\",0))))),\"\")","v":{"$error":"#REF!"}},{"$error":"#REF!"},{"$error":"#REF!"}]
["SF-00885","Dobradiça horizontal para vidro basculante","Serviço (Mat + MO)","un",0,{"$f":"OFFSET(INDEX(Composições!A:J,MATCH(Orçamentária!A890,Composições!A:A,0),8),2,0)","v":4.1078000000000001},0,{"$f":"IF(A890<>\"\",IF(AND(#REF!=\"Padrão\",$I$4=#REF!),BDI!$B$17,IF(AND(#REF!=\"Padrão\",$I$4=#REF!),BDI!$C$17,IF(AND(#REF!=\"Diferenciado\",$I$4=#REF!),BDI!$G$17,IF(AND(#REF!=\"Diferenciado\",$I$4=#REF!),BDI!$H$17,IF(#REF!=\"ZERO\",0))))),\"\")","v":{"$error":"#REF!"}},{"$error":"#REF!"},{"$error":"#REF!"}]
["SF-00886","Fechadura elétrica para porta de vidro temperado","Serviço (Mat + MO)","un",0,{"$f":"OFFSET(INDEX(Composições!A:J,MATCH(Orçamentária!A891,Composições!A:A,0),8),2,0)","v":30.808500000000002},0,{"$f":"IF(A891<>\"\",IF(AND(#REF!=\"Padrão\",$I$4=#REF!),BDI!$B$17,IF(AND(#REF!=\"Padrão\",$I$4=#REF!),BDI!$C$17,IF(AND(#REF!=\"Diferenciado\",$I$4=#REF!),BDI!$G$17,IF(AND(#REF!=\"Diferenciado\",$I$4=#REF!),BDI!$H$17,IF(#REF!=\"ZERO\",0))))),\"\")","v":{"$error":"#REF!"}},{"$error":"#REF!"},{"$error":"#REF!"}]
["SF-00887","Porteiro eletrônico","Serviço (Mat + MO)","un",0,{"$f":"OFFSET(INDEX(Composições!A:J,MATCH(Orçamentária!A892,Composições!A:A,0),8),2,0)","v":30.808500000000002},0,{"$f":"IF(A892<>\"\",IF(AND(#REF!=\"Padrão\",$I$4=#REF!),BDI!$B$17,IF(AND(#REF!=\"Padrão\",$I$4=#REF!),BDI!$C$17,IF(AND(#REF!=\"Diferenciado\",$I$4=#REF!),BDI!$G$17,IF(AND(#REF!=\"Diferenciado\",$I$4=#REF!),BDI!$H$17,IF(#REF!=\"ZERO\",0))))),\"\")","v":{"$error":"#REF!"}},{"$error":"#REF!"},{"$error":"#REF!"}]
["SF-00888","Acionador fixo","Serviço (Mat + MO)","un",0,{"$f":"OFFSET(INDEX(Composições!A:J,MATCH(Orçamentária!A893,Composições!A:A,0),8),2,0)","v":20.539000000000001},0,{"$f":"IF(A893<>\"\",IF(AND(#REF!=\"Padrão\",$I$4=#REF!),BDI!$B$17,IF(AND(#REF!=\"Padrão\",$I$4=#REF!),BDI!$C$17,IF(AND(#REF!=\"Diferenciado\",$I$4=#REF!),BDI!$G$17,IF(AND(#REF!=\"Diferenciado\",$I$4=#REF!),BDI!$H$17,IF(#REF!=\"ZERO\",0))))),\"\")","v":{"$error":"#REF!"}},{"$error":"#REF!"},{"$error":"#REF!"}]
["SF-00889","Mini chapinha para trinco basculante","Serviço (Mat + MO)","un",0,{"$f":"OFFSET(INDEX(Composições!A:J,MATCH(Orçamentária!A894,Composições!A:A,0),8),2,0)","v":2.0539000000000001},0,{"$f":"IF(A894<>\"\",IF(AND(#REF!=\"Padrão\",$I$4=#REF!),BDI!$B$17,IF(AND(#REF!=\"Padrão\",$I$4=#REF!),BDI!$C$17,IF(AND(#REF!=\"Diferenciado\",$I$4=#REF!),BDI!$G$17,IF(AND(#REF!=\"Diferenciado\",$I$4=#REF!),BDI!$H$17,IF(#REF!=\"ZERO\",0))))),\"\")","v":{"$error":"#REF!"}},{"$error":"#REF!"},{"$error":"#REF!"}]
["SF-00890","Puxador de latão - diâmetro 25mm","Serviço (Mat + MO)","un",0,{"$f":"OFFSET(INDEX(Composições!A:J,MATCH(Orçamentária!A895,Composições!A:A,0),8),2,0)","v":4.1078000000000001},0,{"$f":"IF(A895<>\"\",IF(AND(#REF!=\"Padrão\",$I$4=#REF!),BDI!$B$17,IF(AND(#REF!=\"Padrão\",$I$4=#REF!),BDI!$C$17,IF(AND(#REF!=\"Diferenciado\",$I$4=#REF!),BDI!$G$17,IF(AND(#REF!=\"Diferenciado\",$I$4=#REF!),BDI!$H$17,IF(#REF!=\"ZERO\",0))))),\"\")","v":{"$error":"#REF!"}},{"$error":"#REF!"},{"$error":"#REF!"}]
["SF-00891","Trinco sem miolo para vidro temperado","Serviço (Mat + MO)","un",0,{"$f":"OFFSET(INDEX(Composições!A:J,MATCH(Orçamentária!A896,Composições!A:A,0),8),2,0)","v":4.1078000000000001},0,{"$f":"IF(A896<>\"\",IF(AND(#REF!=\"Padrão\",$I$4=#REF!),BDI!$B$17,IF(AND(#REF!=\"Padrão\",$I$4=#REF!),BDI!$C$17,IF(AND(#REF!=\"Diferenciado\",$I$4=#REF!),BDI!$G$17,IF(AND(#REF!=\"Diferenciado\",$I$4=#REF!),BDI!$H$17,IF(#REF!=\"ZERO\",0))))),\"\")","v":{"$error":"#REF!"}},{"$error":"#REF!"},{"$error":"#REF!"}]
["SF-00892","Tubo de alumínio quadrado 50x50","Serviço (Mat + MO)","m",0,{"$f":"OFFSET(INDEX(Composições!A:J,MATCH(Orçamentária!A897,Composições!A:A,0),8),2,0)","v":29.712665499999996},0,{"$f":"IF(A897<>\"\",IF(AND(#REF!=\"Padrão\",$I$4=#REF!),BDI!$B$17,IF(AND(#REF!=\"Padrão\",$I$4=#REF!),BDI!$C$17,IF(AND(#REF!=\"Diferenciado\",$I$4=#REF!),BDI!$G$17,IF(AND(#REF!=\"Diferenciado\",$I$4=#REF!),BDI!$H$17,IF(#REF!=\"ZERO\",0))))),\"\")","v":{"$error":"#REF!"}},{"$error":"#REF!"},{"$error":"#REF!"}]
["SF-00893","Veda fresta adesivo “E” branco","Serviço (Mat + MO)","m",0,{"$f":"OFFSET(INDEX(Composições!A:J,MATCH(Orçamentária!A898,Composições!A:A,0),8),2,0)","v":4.1078000000000001},0,{"$f":"IF(A898<>\"\",IF(AND(#REF!=\"Padrão\",$I$4=#REF!),BDI!$B$17,IF(AND(#REF!=\"Padrão\",$I$4=#REF!),BDI!$C$17,IF(AND(#REF!=\"Diferenciado\",$I$4=#REF!),BDI!$G$17,IF(AND(#REF!=\"Diferenciado\",$I$4=#REF!),BDI!$H$17,IF(#REF!=\"ZERO\",0))))),\"\")","v":{"$error":"#REF!"}},{"$error":"#REF!"},{"$error":"#REF!"}]
["SF-00894","Vedapress 10mm","Serviço (Mat + MO)","m",0,{"$f":"OFFSET(INDEX(Composições!A:J,MATCH(Orçamentária!A899,Composições!A:A,0),8),2,0)","v":9.5905065},0,{"$f":"IF(A899<>\"\",IF(AND(#REF!=\"Padrão\",$I$4=#REF!),BDI!$B$17,IF(AND(#REF!=\"Padrão\",$I$4=#REF!),BDI!$C$17,IF(AND(#REF!=\"Diferenciado\",$I$4=#REF!),BDI!$G$17,IF(AND(#REF!=\"Diferenciado\",$I$4=#REF!),BDI!$H$17,IF(#REF!=\"ZERO\",0))))),\"\")","v":{"$error":"#REF!"}},{"$error":"#REF!"},{"$error":"#REF!"}]
["SF-00895","Regulagem de ferragens","Serviço (Mat + MO)","un",0,{"$f":"OFFSET(INDEX(Composições!A:J,MATCH(Orçamentária!A900,Composições!A:A,0),8),2,0)","v":30.808500000000002},0,{"$f":"IF(A900<>\"\",IF(AND(#REF!=\"Padrão\",$I$4=#REF!),BDI!$B$17,IF(AND(#REF!=\"Padrão\",$I$4=#REF!),BDI!$C$17,IF(AND(#REF!=\"Diferenciado\",$I$4=#REF!),BDI!$G$17,IF(AND(#REF!=\"Diferenciado\",$I$4=#REF!),BDI!$H$17,IF(#REF!=\"ZERO\",0))))),\"\")","v":{"$error":"#REF!"}},{"$error":"#REF!"},{"$error":"#REF!"}]
["SF-00896","Vidro fumê / bronze temperado 10mm","Serviço (Mat + MO)","m2",0,{"$f":"OFFSET(INDEX(Composições!A:J,MATCH(Orçamentária!A901,Composições!A:A,0),8),2,0)","v":29.326500000000003},0,{"$f":"IF(A901<>\"\",IF(AND(#REF!=\"Padrão\",$I$4=#REF!),BDI!$B$17,IF(AND(#REF!=\"Padrão\",$I$4=#REF!),BDI!$C$17,IF(AND(#REF!=\"Diferenciado\",$I$4=#REF!),BDI!$G$17,IF(AND(#REF!=\"Diferenciado\",$I$4=#REF!),BDI!$H$17,IF(#REF!=\"ZERO\",0))))),\"\")","v":{"$error":"#REF!"}},{"$error":"#REF!"},{"$error":"#REF!"}]
["SF-00897","Puxador em aço inox sob medida – Tipo B","Serviço (Mat + MO)","un",0,{"$f":"OFFSET(INDEX(Composições!A:J,MATCH(Orçamentária!A902,Composições!A:A,0),8),2,0)","v":8.2156000000000002},0,{"$f":"IF(A902<>\"\",IF(AND(#REF!=\"Padrão\",$I$4=#REF!),BDI!$B$17,IF(AND(#REF!=\"Padrão\",$I$4=#REF!),BDI!$C$17,IF(AND(#REF!=\"Diferenciado\",$I$4=#REF!),BDI!$G$17,IF(AND(#REF!=\"Diferenciado\",$I$4=#REF!),BDI!$H$17,IF(#REF!=\"ZERO\",0))))),\"\")","v":{"$error":"#REF!"}},{"$error":"#REF!"},{"$error":"#REF!"}]
["SF-00898","Armação de aço CA-50 bitolas de 5,0mm a 8,00mm","Serviço (Mat + MO)","kg",0,{"$f":"OFFSET(INDEX(Composições!A:J,MATCH(Orçamentária!A903,Composições!A:A,0),8),2,0)","v":10.681575799999999},{"$f":"IF(ISNUMBER(F903),ROUND(E903*F903,2),\"\")","v":0},{"$f":"IF(A903<>\"\",IF(AND(#REF!=\"Padrão\",$I$4=#REF!),BDI!$B$17,IF(AND(#REF!=\"Padrão\",$I$4=#REF!),BDI!$C$17,IF(AND(#REF!=\"Diferenciado\",$I$4=#REF!),BDI!$G$17,IF(AND(#REF!=\"Diferenciado\",$I$4=#REF!),BDI!$H$17,IF(#REF!=\"ZERO\",0))))),\"\")","v":{"$error":"#REF!"}},{"$f":"IF(ISNUMBER(F903),ROUND(F903*(1+H903),2),\"\")","v":{"$error":"#REF!"}},{"$f":"IF(ISNUMBER(F903),ROUND(I903*E903,2),\"\")","v":{"$error":"#REF!"}}]
["SF-00899","Pivô para dobradiça inferior (Montagem com a 1103-TQ)","Serviço (Mat + MO)","un",0,{"$f":"OFFSET(INDEX(Composições!A:J,MATCH(Orçamentária!A904,Composições!A:A,0),8),2,0)","v":4.1078000000000001},0,{"$f":"IF(A904<>\"\",IF(AND(#REF!=\"Padrão\",$I$4=#REF!),BDI!$B$17,IF(AND(#REF!=\"Padrão\",$I$4=#REF!),BDI!$C$17,IF(AND(#REF!=\"Diferenciado\",$I$4=#REF!),BDI!$G$17,IF(AND(#REF!=\"Diferenciado\",$I$4=#REF!),BDI!$H$17,IF(#REF!=\"ZERO\",0))))),\"\")","v":{"$error":"#REF!"}},{"$error":"#REF!"},{"$error":"#REF!"}]
["SF-00900","Dobradiça direita inferior excêntrica","Serviço (Mat + MO)","un",0,{"$f":"OFFSET(INDEX(Composições!A:J,MATCH(Orçamentária!A905,Composições!A:A,0),8),2,0)","v":6.1617000000000006},0,{"$f":"IF(A905<>\"\",IF(AND(#REF!=\"Padrão\",$I$4=#REF!),BDI!$B$17,IF(AND(#REF!=\"Padrão\",$I$4=#REF!),BDI!$C$17,IF(AND(#REF!=\"Diferenciado\",$I$4=#REF!),BDI!$G$17,IF(AND(#REF!=\"Diferenciado\",$I$4=#REF!),BDI!$H$17,IF(#REF!=\"ZERO\",0))))),\"\")","v":{"$error":"#REF!"}},{"$error":"#REF!"},{"$error":"#REF!"}]
["SF-00901","Dobradiça esquerda inferior excêntrica","Serviço (Mat + MO)","un",0,{"$f":"OFFSET(INDEX(Composições!A:J,MATCH(Orçamentária!A906,Composições!A:A,0),8),2,0)","v":6.1617000000000006},0,{"$f":"IF(A906<>\"\",IF(AND(#REF!=\"Padrão\",$I$4=#REF!),BDI!$B$17,IF(AND(#REF!=\"Padrão\",$I$4=#REF!),BDI!$C$17,IF(AND(#REF!=\"Diferenciado\",$I$4=#REF!),BDI!$G$17,IF(AND(#REF!=\"Diferenciado\",$I$4=#REF!),BDI!$H$17,IF(#REF!=\"ZERO\",0))))),\"\")","v":{"$error":"#REF!"}},{"$error":"#REF!"},{"$error":"#REF!"}]
["SF-00902","Dobradiça pivotante inferior com trinco","Serviço (Mat + MO)","un",0,{"$f":"OFFSET(INDEX(Composições!A:J,MATCH(Orçamentária!A907,Composições!A:A,0),8),2,0)","v":6.1617000000000006},0,{"$f":"IF(A907<>\"\",IF(AND(#REF!=\"Padrão\",$I$4=#REF!),BDI!$B$17,IF(AND(#REF!=\"Padrão\",$I$4=#REF!),BDI!$C$17,IF(AND(#REF!=\"Diferenciado\",$I$4=#REF!),BDI!$G$17,IF(AND(#REF!=\"Diferenciado\",$I$4=#REF!),BDI!$H$17,IF(#REF!=\"ZERO\",0))))),\"\")","v":{"$error":"#REF!"}},{"$error":"#REF!"},{"$error":"#REF!"}]
["SF-00903","Carrinho para porta de correr 1 roldana e 2 furos","Serviço (Mat + MO)","un",0,{"$f":"OFFSET(INDEX(Composições!A:J,MATCH(Orçamentária!A908,Composições!A:A,0),8),2,0)","v":3.0808500000000003},0,{"$f":"IF(A908<>\"\",IF(AND(#REF!=\"Padrão\",$I$4=#REF!),BDI!$B$17,IF(AND(#REF!=\"Padrão\",$I$4=#REF!),BDI!$C$17,IF(AND(#REF!=\"Diferenciado\",$I$4=#REF!),BDI!$G$17,IF(AND(#REF!=\"Diferenciado\",$I$4=#REF!),BDI!$H$17,IF(#REF!=\"ZERO\",0))))),\"\")","v":{"$error":"#REF!"}},{"$error":"#REF!"},{"$error":"#REF!"}]
["SF-00904","Carrinho para porta de correr 2 roldanas e 2 furos","Serviço (Mat + MO)","un",0,{"$f":"OFFSET(INDEX(Composições!A:J,MATCH(Orçamentária!A909,Composições!A:A,0),8),2,0)","v":3.0808500000000003},0,{"$f":"IF(A909<>\"\",IF(AND(#REF!=\"Padrão\",$I$4=#REF!),BDI!$B$17,IF(AND(#REF!=\"Padrão\",$I$4=#REF!),BDI!$C$17,IF(AND(#REF!=\"Diferenciado\",$I$4=#REF!),BDI!$G$17,IF(AND(#REF!=\"Diferenciado\",$I$4=#REF!),BDI!$H$17,IF(#REF!=\"ZERO\",0))))),\"\")","v":{"$error":"#REF!"}},{"$error":"#REF!"},{"$error":"#REF!"}]
["SF-00905","Carrinho para porta de correr com roldana côncava","Serviço (Mat + MO)","un",0,{"$f":"OFFSET(INDEX(Composições!A:J,MATCH(Orçamentária!A910,Composições!A:A,0),8),2,0)","v":3.0808500000000003},0,{"$f":"IF(A910<>\"\",IF(AND(#REF!=\"Padrão\",$I$4=#REF!),BDI!$B$17,IF(AND(#REF!=\"Padrão\",$I$4=#REF!),BDI!$C$17,IF(AND(#REF!=\"Diferenciado\",$I$4=#REF!),BDI!$G$17,IF(AND(#REF!=\"Diferenciado\",$I$4=#REF!),BDI!$H$17,IF(#REF!=\"ZERO\",0))))),\"\")","v":{"$error":"#REF!"}},{"$error":"#REF!"},{"$error":"#REF!"}]
["SF-00906","Guia de nylon para porta de correr","Serviço (Mat + MO)","un",0,{"$f":"OFFSET(INDEX(Composições!A:J,MATCH(Orçamentária!A911,Composições!A:A,0),8),2,0)","v":3.0808500000000003},0,{"$f":"IF(A911<>\"\",IF(AND(#REF!=\"Padrão\",$I$4=#REF!),BDI!$B$17,IF(AND(#REF!=\"Padrão\",$I$4=#REF!),BDI!$C$17,IF(AND(#REF!=\"Diferenciado\",$I$4=#REF!),BDI!$G$17,IF(AND(#REF!=\"Diferenciado\",$I$4=#REF!),BDI!$H$17,IF(#REF!=\"ZERO\",0))))),\"\")","v":{"$error":"#REF!"}},{"$error":"#REF!"},{"$error":"#REF!"}]
["SF-00907","Puxador H tubular em aço inox, comprimento 45cm, para portas de vidro temperado","Serviço (Mat + MO)","un",0,{"$f":"OFFSET(INDEX(Composições!A:J,MATCH(Orçamentária!A912,Composições!A:A,0),8),2,0)","v":8.2156000000000002},0,{"$f":"IF(A912<>\"\",IF(AND(#REF!=\"Padrão\",$I$4=#REF!),BDI!$B$17,IF(AND(#REF!=\"Padrão\",$I$4=#REF!),BDI!$C$17,IF(AND(#REF!=\"Diferenciado\",$I$4=#REF!),BDI!$G$17,IF(AND(#REF!=\"Diferenciado\",$I$4=#REF!),BDI!$H$17,IF(#REF!=\"ZERO\",0))))),\"\")","v":{"$error":"#REF!"}},{"$error":"#REF!"},{"$error":"#REF!"}]
["SF-00908","Transporte de vidros","Serviço (Mat + MO)","m2 x km",0,{"$f":"OFFSET(INDEX(Composições!A:J,MATCH(Orçamentária!A913,Composições!A:A,0),8),2,0)","v":47.645891500000005},0,{"$f":"IF(A913<>\"\",IF(AND(#REF!=\"Padrão\",$I$4=#REF!),BDI!$B$17,IF(AND(#REF!=\"Padrão\",$I$4=#REF!),BDI!$C$17,IF(AND(#REF!=\"Diferenciado\",$I$4=#REF!),BDI!$G$17,IF(AND(#REF!=\"Diferenciado\",$I$4=#REF!),BDI!$H$17,IF(#REF!=\"ZERO\",0))))),\"\")","v":{"$error":"#REF!"}},{"$error":"#REF!"},{"$error":"#REF!"}]
["SF-00909","Vidro fantasia 4mm (canelado, martelado, pontilhado e mini-boreal)","Serviço (Mat + MO)","m2",0,{"$f":"OFFSET(INDEX(Composições!A:J,MATCH(Orçamentária!A914,Composições!A:A,0),8),2,0)","v":122.816475},0,{"$f":"IF(A914<>\"\",IF(AND(#REF!=\"Padrão\",$I$4=#REF!),BDI!$B$17,IF(AND(#REF!=\"Padrão\",$I$4=#REF!),BDI!$C$17,IF(AND(#REF!=\"Diferenciado\",$I$4=#REF!),BDI!$G$17,IF(AND(#REF!=\"Diferenciado\",$I$4=#REF!),BDI!$H$17,IF(#REF!=\"ZERO\",0))))),\"\")","v":{"$error":"#REF!"}},{"$error":"#REF!"},{"$error":"#REF!"}]
["SF-00910","Vidro fumê/bronze 5mm","Serviço (Mat + MO)","m2",0,{"$f":"OFFSET(INDEX(Composições!A:J,MATCH(Orçamentária!A915,Composições!A:A,0),8),2,0)","v":202.99029999999999},0,{"$f":"IF(A915<>\"\",IF(AND(#REF!=\"Padrão\",$I$4=#REF!),BDI!$B$17,IF(AND(#REF!=\"Padrão\",$I$4=#REF!),BDI!$C$17,IF(AND(#REF!=\"Diferenciado\",$I$4=#REF!),BDI!$G$17,IF(AND(#REF!=\"Diferenciado\",$I$4=#REF!),BDI!$H$17,IF(#REF!=\"ZERO\",0))))),\"\")","v":{"$error":"#REF!"}},{"$error":"#REF!"},{"$error":"#REF!"}]
["SF-00911","Recuperação de massa em esquadria metálica","Serviço (Mat + MO)","m",0,{"$f":"OFFSET(INDEX(Composições!A:J,MATCH(Orçamentária!A916,Composições!A:A,0),8),2,0)","v":24.642948700000002},0,{"$f":"IF(A916<>\"\",IF(AND(#REF!=\"Padrão\",$I$4=#REF!),BDI!$B$17,IF(AND(#REF!=\"Padrão\",$I$4=#REF!),BDI!$C$17,IF(AND(#REF!=\"Diferenciado\",$I$4=#REF!),BDI!$G$17,IF(AND(#REF!=\"Diferenciado\",$I$4=#REF!),BDI!$H$17,IF(#REF!=\"ZERO\",0))))),\"\")","v":{"$error":"#REF!"}},{"$error":"#REF!"},{"$error":"#REF!"}]
["SF-00912","Instalação de espelho reaproveitado","Serviço (Mat + MO)","m2",0,{"$f":"OFFSET(INDEX(Composições!A:J,MATCH(Orçamentária!A917,Composições!A:A,0),8),2,0)","v":61.624600000000001},0,{"$f":"IF(A917<>\"\",IF(AND(#REF!=\"Padrão\",$I$4=#REF!),BDI!$B$17,IF(AND(#REF!=\"Padrão\",$I$4=#REF!),BDI!$C$17,IF(AND(#REF!=\"Diferenciado\",$I$4=#REF!),BDI!$G$17,IF(AND(#REF!=\"Diferenciado\",$I$4=#REF!),BDI!$H$17,IF(#REF!=\"ZERO\",0))))),\"\")","v":{"$error":"#REF!"}},{"$error":"#REF!"},{"$error":"#REF!"}]
["SF-00913","Espelho fumê/bronze 4mm lapidado","Serviço (Mat + MO)","m2",0,{"$f":"OFFSET(INDEX(Composições!A:J,MATCH(Orçamentária!A918,Composições!A:A,0),8),2,0)","v":61.624600000000001},0,{"$f":"IF(A918<>\"\",IF(AND(#REF!=\"Padrão\",$I$4=#REF!),BDI!$B$17,IF(AND(#REF!=\"Padrão\",$I$4=#REF!),BDI!$C$17,IF(AND(#REF!=\"Diferenciado\",$I$4=#REF!),BDI!$G$17,IF(AND(#REF!=\"Diferenciado\",$I$4=#REF!),BDI!$H$17,IF(#REF!=\"ZERO\",0))))),\"\")","v":{"$error":"#REF!"}},{"$error":"#REF!"},{"$error":"#REF!"}]
["SF-00914","Finesson (parafuso de fixação francês)","Serviço (Mat + MO)","un",0,{"$f":"OFFSET(INDEX(Composições!A:J,MATCH(Orçamentária!A919,Composições!A:A,0),8),2,0)","v":5.5594000000000001},0,{"$f":"IF(A919<>\"\",IF(AND(#REF!=\"Padrão\",$I$4=#REF!),BDI!$B$17,IF(AND(#REF!=\"Padrão\",$I$4=#REF!),BDI!$C$17,IF(AND(#REF!=\"Diferenciado\",$I$4=#REF!),BDI!$G$17,IF(AND(#REF!=\"Diferenciado\",$I$4=#REF!),BDI!$H$17,IF(#REF!=\"ZERO\",0))))),\"\")","v":{"$error":"#REF!"}},{"$error":"#REF!"},{"$error":"#REF!"}]
["SF-00915","Graute industrializado, fck ≥ 25MPa","Serviço (Mat + MO)","m3",0,{"$f":"OFFSET(INDEX(Composições!A:J,MATCH(Orçamentária!A920,Composições!A:A,0),8),2,0)","v":2439.0928634000002},0,{"$f":"IF(A920<>\"\",IF(AND(#REF!=\"Padrão\",$I$4=#REF!),BDI!$B$17,IF(AND(#REF!=\"Padrão\",$I$4=#REF!),BDI!$C$17,IF(AND(#REF!=\"Diferenciado\",$I$4=#REF!),BDI!$G$17,IF(AND(#REF!=\"Diferenciado\",$I$4=#REF!),BDI!$H$17,IF(#REF!=\"ZERO\",0))))),\"\")","v":{"$error":"#REF!"}},{"$error":"#REF!"},{"$error":"#REF!"}]
["SF-00916","Armação de aço CA-50 bitolas de 10,0mm a 12,50mm","Serviço (Mat + MO)","kg",0,{"$f":"OFFSET(INDEX(Composições!A:J,MATCH(Orçamentária!A921,Composições!A:A,0),8),2,0)","v":7.6272801999999995},0,{"$f":"IF(A921<>\"\",IF(AND(#REF!=\"Padrão\",$I$4=#REF!),BDI!$B$17,IF(AND(#REF!=\"Padrão\",$I$4=#REF!),BDI!$C$17,IF(AND(#REF!=\"Diferenciado\",$I$4=#REF!),BDI!$G$17,IF(AND(#REF!=\"Diferenciado\",$I$4=#REF!),BDI!$H$17,IF(#REF!=\"ZERO\",0))))),\"\")","v":{"$error":"#REF!"}},{"$error":"#REF!"},{"$error":"#REF!"}]
["SF-00917","Armação de aço CA-50 bitolas de 16,0mm a 25,0mm","Serviço (Mat + MO)","kg",0,{"$f":"OFFSET(INDEX(Composições!A:J,MATCH(Orçamentária!A922,Composições!A:A,0),8),2,0)","v":7.4885972999999995},0,{"$f":"IF(A922<>\"\",IF(AND(#REF!=\"Padrão\",$I$4=#REF!),BDI!$B$17,IF(AND(#REF!=\"Padrão\",$I$4=#REF!),BDI!$C$17,IF(AND(#REF!=\"Diferenciado\",$I$4=#REF!),BDI!$G$17,IF(AND(#REF!=\"Diferenciado\",$I$4=#REF!),BDI!$H$17,IF(#REF!=\"ZERO\",0))))),\"\")","v":{"$error":"#REF!"}},{"$error":"#REF!"},{"$error":"#REF!"}]
["SF-00918","Remoção de mola hidráulica de piso","Serviço (Mat + MO)","un",0,{"$f":"OFFSET(INDEX(Composições!A:J,MATCH(Orçamentária!A923,Composições!A:A,0),8),2,0)","v":20.267775000000004},0,{"$f":"IF(A923<>\"\",IF(AND(#REF!=\"Padrão\",$I$4=#REF!),BDI!$B$17,IF(AND(#REF!=\"Padrão\",$I$4=#REF!),BDI!$C$17,IF(AND(#REF!=\"Diferenciado\",$I$4=#REF!),BDI!$G$17,IF(AND(#REF!=\"Diferenciado\",$I$4=#REF!),BDI!$H$17,IF(#REF!=\"ZERO\",0))))),\"\")","v":{"$error":"#REF!"}},{"$error":"#REF!"},{"$error":"#REF!"}]
["SF-00919","Escavação manual de valas","Serviço (Mat + MO)","m3",0,{"$f":"OFFSET(INDEX(Composições!A:J,MATCH(Orçamentária!A924,Composições!A:A,0),8),2,0)","v":64.528294000000002},0,{"$f":"IF(A924<>\"\",IF(AND(#REF!=\"Padrão\",$I$4=#REF!),BDI!$B$17,IF(AND(#REF!=\"Padrão\",$I$4=#REF!),BDI!$C$17,IF(AND(#REF!=\"Diferenciado\",$I$4=#REF!),BDI!$G$17,IF(AND(#REF!=\"Diferenciado\",$I$4=#REF!),BDI!$H$17,IF(#REF!=\"ZERO\",0))))),\"\")","v":{"$error":"#REF!"}},{"$error":"#REF!"},{"$error":"#REF!"}]
["SF-00920","Reaterro de vala com compactação mecanizada","Serviço (Mat + MO)","m3",1380,{"$f":"OFFSET(INDEX(Composições!A:J,MATCH(Orçamentária!A925,Composições!A:A,0),8),2,0)","v":22.991140000000001},31727.77,{"$f":"BDI!$B$17","v":0.191},27.38,37784.400000000001]
["SF-00921","Aterro de vala com compactação mecanizada","Serviço (Mat + MO)","m3",0,{"$f":"OFFSET(INDEX(Composições!A:J,MATCH(Orçamentária!A926,Composições!A:A,0),8),2,0)","v":80.663523874999981},0,{"$f":"IF(A926<>\"\",IF(AND(#REF!=\"Padrão\",$I$4=#REF!),BDI!$B$17,IF(AND(#REF!=\"Padrão\",$I$4=#REF!),BDI!$C$17,IF(AND(#REF!=\"Diferenciado\",$I$4=#REF!),BDI!$G$17,IF(AND(#REF!=\"Diferenciado\",$I$4=#REF!),BDI!$H$17,IF(#REF!=\"ZERO\",0))))),\"\")","v":{"$error":"#REF!"}},{"$error":"#REF!"},{"$error":"#REF!"}]
["SF-00922","Tubo de cobre classe \"E\" 22mm","Serviço (Mat + MO)","m",0,{"$f":"OFFSET(INDEX(Composições!A:J,MATCH(Orçamentária!A927,Composições!A:A,0),8),2,0)","v":41.524841049999999},0,{"$f":"IF(A927<>\"\",IF(AND(#REF!=\"Padrão\",$I$4=#REF!),BDI!$B$17,IF(AND(#REF!=\"Padrão\",$I$4=#REF!),BDI!$C$17,IF(AND(#REF!=\"Diferenciado\",$I$4=#REF!),BDI!$G$17,IF(AND(#REF!=\"Diferenciado\",$I$4=#REF!),BDI!$H$17,IF(#REF!=\"ZERO\",0))))),\"\")","v":{"$error":"#REF!"}},{"$error":"#REF!"},{"$error":"#REF!"}]
["SF-00923","Tubo de cobre classe \"E\" 28 mm","Serviço (Mat + MO)","m",0,{"$f":"OFFSET(INDEX(Composições!A:J,MATCH(Orçamentária!A928,Composições!A:A,0),8),2,0)","v":51.822098149999988},0,{"$f":"IF(A928<>\"\",IF(AND(#REF!=\"Padrão\",$I$4=#REF!),BDI!$B$17,IF(AND(#REF!=\"Padrão\",$I$4=#REF!),BDI!$C$17,IF(AND(#REF!=\"Diferenciado\",$I$4=#REF!),BDI!$G$17,IF(AND(#REF!=\"Diferenciado\",$I$4=#REF!),BDI!$H$17,IF(#REF!=\"ZERO\",0))))),\"\")","v":{"$error":"#REF!"}},{"$error":"#REF!"},{"$error":"#REF!"}]
["SF-00924","Tubo de cobre classe \"E\" 42mm","Serviço (Mat + MO)","m",0,{"$f":"OFFSET(INDEX(Composições!A:J,MATCH(Orçamentária!A929,Composições!A:A,0),8),2,0)","v":92.462141499999973},0,{"$f":"IF(A929<>\"\",IF(AND(#REF!=\"Padrão\",$I$4=#REF!),BDI!$B$17,IF(AND(#REF!=\"Padrão\",$I$4=#REF!),BDI!$C$17,IF(AND(#REF!=\"Diferenciado\",$I$4=#REF!),BDI!$G$17,IF(AND(#REF!=\"Diferenciado\",$I$4=#REF!),BDI!$H$17,IF(#REF!=\"ZERO\",0))))),\"\")","v":{"$error":"#REF!"}},{"$error":"#REF!"},{"$error":"#REF!"}]
["SF-00925","Bacia convencional - Linha Acessibilidade","Serviço (Mat + MO)","un",0,{"$f":"OFFSET(INDEX(Composições!A:J,MATCH(Orçamentária!A930,Composições!A:A,0),8),2,0)","v":642.57130559999996},0,{"$f":"IF(A930<>\"\",IF(AND(#REF!=\"Padrão\",$I$4=#REF!),BDI!$B$17,IF(AND(#REF!=\"Padrão\",$I$4=#REF!),BDI!$C$17,IF(AND(#REF!=\"Diferenciado\",$I$4=#REF!),BDI!$G$17,IF(AND(#REF!=\"Diferenciado\",$I$4=#REF!),BDI!$H$17,IF(#REF!=\"ZERO\",0))))),\"\")","v":{"$error":"#REF!"}},{"$error":"#REF!"},{"$error":"#REF!"}]
["SF-00926","Assento para bacia convencional - Linha Acessibilidade","Serviço (Mat + MO)","un",0,{"$f":"OFFSET(INDEX(Composições!A:J,MATCH(Orçamentária!A931,Composições!A:A,0),8),2,0)","v":1.6311500000000003},0,{"$f":"IF(A931<>\"\",IF(AND(#REF!=\"Padrão\",$I$4=#REF!),BDI!$B$17,IF(AND(#REF!=\"Padrão\",$I$4=#REF!),BDI!$C$17,IF(AND(#REF!=\"Diferenciado\",$I$4=#REF!),BDI!$G$17,IF(AND(#REF!=\"Diferenciado\",$I$4=#REF!),BDI!$H$17,IF(#REF!=\"ZERO\",0))))),\"\")","v":{"$error":"#REF!"}},{"$error":"#REF!"},{"$error":"#REF!"}]
["SF-00927","Base registro de gaveta 1 1/2”","Serviço (Mat + MO)","un",0,{"$f":"OFFSET(INDEX(Composições!A:J,MATCH(Orçamentária!A932,Composições!A:A,0),8),2,0)","v":30.618338500000007},0,{"$f":"IF(A932<>\"\",IF(AND(#REF!=\"Padrão\",$I$4=#REF!),BDI!$B$17,IF(AND(#REF!=\"Padrão\",$I$4=#REF!),BDI!$C$17,IF(AND(#REF!=\"Diferenciado\",$I$4=#REF!),BDI!$G$17,IF(AND(#REF!=\"Diferenciado\",$I$4=#REF!),BDI!$H$17,IF(#REF!=\"ZERO\",0))))),\"\")","v":{"$error":"#REF!"}},{"$error":"#REF!"},{"$error":"#REF!"}]
["SF-00928","Condutor 25mm²","Serviço (Mat + MO)","m",0,{"$f":"OFFSET(INDEX(Composições!A:J,MATCH(Orçamentária!A933,Composições!A:A,0),8),2,0)","v":2.5690659999999998},0,{"$f":"IF(A933<>\"\",IF(AND(#REF!=\"Padrão\",$I$4=#REF!),BDI!$B$17,IF(AND(#REF!=\"Padrão\",$I$4=#REF!),BDI!$C$17,IF(AND(#REF!=\"Diferenciado\",$I$4=#REF!),BDI!$G$17,IF(AND(#REF!=\"Diferenciado\",$I$4=#REF!),BDI!$H$17,IF(#REF!=\"ZERO\",0))))),\"\")","v":{"$error":"#REF!"}},{"$error":"#REF!"},{"$error":"#REF!"}]
["SF-00929","Condutor 35mm²","Serviço (Mat + MO)","m",0,{"$f":"OFFSET(INDEX(Composições!A:J,MATCH(Orçamentária!A934,Composições!A:A,0),8),2,0)","v":2.9257719999999998},0,{"$f":"IF(A934<>\"\",IF(AND(#REF!=\"Padrão\",$I$4=#REF!),BDI!$B$17,IF(AND(#REF!=\"Padrão\",$I$4=#REF!),BDI!$C$17,IF(AND(#REF!=\"Diferenciado\",$I$4=#REF!),BDI!$G$17,IF(AND(#REF!=\"Diferenciado\",$I$4=#REF!),BDI!$H$17,IF(#REF!=\"ZERO\",0))))),\"\")","v":{"$error":"#REF!"}},{"$error":"#REF!"},{"$error":"#REF!"}]
["SF-00930","Condutor 50mm²","Serviço (Mat + MO)","m",0,{"$f":"OFFSET(INDEX(Composições!A:J,MATCH(Orçamentária!A935,Composições!A:A,0),8),2,0)","v":3.4806479999999995},0,{"$f":"IF(A935<>\"\",IF(AND(#REF!=\"Padrão\",$I$4=#REF!),BDI!$B$17,IF(AND(#REF!=\"Padrão\",$I$4=#REF!),BDI!$C$17,IF(AND(#REF!=\"Diferenciado\",$I$4=#REF!),BDI!$G$17,IF(AND(#REF!=\"Diferenciado\",$I$4=#REF!),BDI!$H$17,IF(#REF!=\"ZERO\",0))))),\"\")","v":{"$error":"#REF!"}},{"$error":"#REF!"},{"$error":"#REF!"}]
["SF-00931","Condutor 70mm²","Serviço (Mat + MO)","m",0,{"$f":"OFFSET(INDEX(Composições!A:J,MATCH(Orçamentária!A936,Composições!A:A,0),8),2,0)","v":4.1940600000000003},0,{"$f":"IF(A936<>\"\",IF(AND(#REF!=\"Padrão\",$I$4=#REF!),BDI!$B$17,IF(AND(#REF!=\"Padrão\",$I$4=#REF!),BDI!$C$17,IF(AND(#REF!=\"Diferenciado\",$I$4=#REF!),BDI!$G$17,IF(AND(#REF!=\"Diferenciado\",$I$4=#REF!),BDI!$H$17,IF(#REF!=\"ZERO\",0))))),\"\")","v":{"$error":"#REF!"}},{"$error":"#REF!"},{"$error":"#REF!"}]
["SF-00932","Condutor 95mm²","Serviço (Mat + MO)","m",0,{"$f":"OFFSET(INDEX(Composições!A:J,MATCH(Orçamentária!A937,Composições!A:A,0),8),2,0)","v":5.1056419999999996},0,{"$f":"IF(A937<>\"\",IF(AND(#REF!=\"Padrão\",$I$4=#REF!),BDI!$B$17,IF(AND(#REF!=\"Padrão\",$I$4=#REF!),BDI!$C$17,IF(AND(#REF!=\"Diferenciado\",$I$4=#REF!),BDI!$G$17,IF(AND(#REF!=\"Diferenciado\",$I$4=#REF!),BDI!$H$17,IF(#REF!=\"ZERO\",0))))),\"\")","v":{"$error":"#REF!"}},{"$error":"#REF!"},{"$error":"#REF!"}]
["SF-00933","Condutor 120mm²","Serviço (Mat + MO)","m",0,{"$f":"OFFSET(INDEX(Composições!A:J,MATCH(Orçamentária!A938,Composições!A:A,0),8),2,0)","v":6.0568580000000001},0,{"$f":"IF(A938<>\"\",IF(AND(#REF!=\"Padrão\",$I$4=#REF!),BDI!$B$17,IF(AND(#REF!=\"Padrão\",$I$4=#REF!),BDI!$C$17,IF(AND(#REF!=\"Diferenciado\",$I$4=#REF!),BDI!$G$17,IF(AND(#REF!=\"Diferenciado\",$I$4=#REF!),BDI!$H$17,IF(#REF!=\"ZERO\",0))))),\"\")","v":{"$error":"#REF!"}},{"$error":"#REF!"},{"$error":"#REF!"}]
["SF-00934","Condutor 150mm²","Serviço (Mat + MO)","m",0,{"$f":"OFFSET(INDEX(Composições!A:J,MATCH(Orçamentária!A939,Composições!A:A,0),8),2,0)","v":7.126976},0,{"$f":"IF(A939<>\"\",IF(AND(#REF!=\"Padrão\",$I$4=#REF!),BDI!$B$17,IF(AND(#REF!=\"Padrão\",$I$4=#REF!),BDI!$C$17,IF(AND(#REF!=\"Diferenciado\",$I$4=#REF!),BDI!$G$17,IF(AND(#REF!=\"Diferenciado\",$I$4=#REF!),BDI!$H$17,IF(#REF!=\"ZERO\",0))))),\"\")","v":{"$error":"#REF!"}},{"$error":"#REF!"},{"$error":"#REF!"}]
["SF-00935","Condutor 185mm²","Serviço (Mat + MO)","m",0,{"$f":"OFFSET(INDEX(Composições!A:J,MATCH(Orçamentária!A940,Composições!A:A,0),8),2,0)","v":8.4348980000000005},0,{"$f":"IF(A940<>\"\",IF(AND(#REF!=\"Padrão\",$I$4=#REF!),BDI!$B$17,IF(AND(#REF!=\"Padrão\",$I$4=#REF!),BDI!$C$17,IF(AND(#REF!=\"Diferenciado\",$I$4=#REF!),BDI!$G$17,IF(AND(#REF!=\"Diferenciado\",$I$4=#REF!),BDI!$H$17,IF(#REF!=\"ZERO\",0))))),\"\")","v":{"$error":"#REF!"}},{"$error":"#REF!"},{"$error":"#REF!"}]
["SF-00936","Condutor 240mm²","Serviço (Mat + MO)","m",0,{"$f":"OFFSET(INDEX(Composições!A:J,MATCH(Orçamentária!A941,Composições!A:A,0),8),2,0)","v":2.5690659999999998},0,{"$f":"IF(A941<>\"\",IF(AND(#REF!=\"Padrão\",$I$4=#REF!),BDI!$B$17,IF(AND(#REF!=\"Padrão\",$I$4=#REF!),BDI!$C$17,IF(AND(#REF!=\"Diferenciado\",$I$4=#REF!),BDI!$G$17,IF(AND(#REF!=\"Diferenciado\",$I$4=#REF!),BDI!$H$17,IF(#REF!=\"ZERO\",0))))),\"\")","v":{"$error":"#REF!"}},{"$error":"#REF!"},{"$error":"#REF!"}]
["SF-00937","Montagem e desmontagem de andaime fachadeiro","Serviço (Mat + MO)","m2",0,{"$f":"OFFSET(INDEX(Composições!A:J,MATCH(Orçamentária!A942,Composições!A:A,0),8),2,0)","v":7.6052483546099996},0,{"$f":"IF(A942<>\"\",IF(AND(#REF!=\"Padrão\",$I$4=#REF!),BDI!$B$17,IF(AND(#REF!=\"Padrão\",$I$4=#REF!),BDI!$C$17,IF(AND(#REF!=\"Diferenciado\",$I$4=#REF!),BDI!$G$17,IF(AND(#REF!=\"Diferenciado\",$I$4=#REF!),BDI!$H$17,IF(#REF!=\"ZERO\",0))))),\"\")","v":{"$error":"#REF!"}},{"$error":"#REF!"},{"$error":"#REF!"}]
["SF-00938","Montagem e desmontagem de andaime tubular","Serviço (Mat + MO)","m",0,{"$f":"OFFSET(INDEX(Composições!A:J,MATCH(Orçamentária!A943,Composições!A:A,0),8),2,0)","v":14.069359031399999},0,{"$f":"IF(A943<>\"\",IF(AND(#REF!=\"Padrão\",$I$4=#REF!),BDI!$B$17,IF(AND(#REF!=\"Padrão\",$I$4=#REF!),BDI!$C$17,IF(AND(#REF!=\"Diferenciado\",$I$4=#REF!),BDI!$G$17,IF(AND(#REF!=\"Diferenciado\",$I$4=#REF!),BDI!$H$17,IF(#REF!=\"ZERO\",0))))),\"\")","v":{"$error":"#REF!"}},{"$error":"#REF!"},{"$error":"#REF!"}]
["SF-00939","Tensor com indicador de tensão para linha de vida","Serviço (Mat + MO)","un",0,"","",{"$f":"IF(A944<>\"\",IF(AND(#REF!=\"Padrão\",$I$4=#REF!),BDI!$B$17,IF(AND(#REF!=\"Padrão\",$I$4=#REF!),BDI!$C$17,IF(AND(#REF!=\"Diferenciado\",$I$4=#REF!),BDI!$G$17,IF(AND(#REF!=\"Diferenciado\",$I$4=#REF!),BDI!$H$17,IF(#REF!=\"ZERO\",0))))),\"\")","v":{"$error":"#REF!"}},"",""]
["SF-00940","Locação de fechamento para andaimes com tela 100% polietileno","Locação","m2 x mês",0,{"$f":"OFFSET(INDEX(Composições!A:J,MATCH(Orçamentária!A945,Composições!A:A,0),8),2,0)","v":3.7280413000000001},0,{"$f":"IF(A945<>\"\",IF(AND(#REF!=\"Padrão\",$I$4=#REF!),BDI!$B$17,IF(AND(#REF!=\"Padrão\",$I$4=#REF!),BDI!$C$17,IF(AND(#REF!=\"Diferenciado\",$I$4=#REF!),BDI!$G$17,IF(AND(#REF!=\"Diferenciado\",$I$4=#REF!),BDI!$H$17,IF(#REF!=\"ZERO\",0))))),\"\")","v":{"$error":"#REF!"}},{"$error":"#REF!"},{"$error":"#REF!"}]
["SF-00941","Plataforma de trabalho aéreo tesoura","Locação","dia",0,"","",{"$f":"IF(A946<>\"\",IF(AND(#REF!=\"Padrão\",$I$4=#REF!),BDI!$B$17,IF(AND(#REF!=\"Padrão\",$I$4=#REF!),BDI!$C$17,IF(AND(#REF!=\"Diferenciado\",$I$4=#REF!),BDI!$G$17,IF(AND(#REF!=\"Diferenciado\",$I$4=#REF!),BDI!$H$17,IF(#REF!=\"ZERO\",0))))),\"\")","v":{"$error":"#REF!"}},"",""]
["SF-00942","Remoção de folha de porta de enrolar","Serviço (Mat + MO)","un",0,{"$f":"OFFSET(INDEX(Composições!A:J,MATCH(Orçamentária!A947,Composições!A:A,0),8),2,0)","v":144.42374999999998},0,{"$f":"IF(A947<>\"\",IF(AND(#REF!=\"Padrão\",$I$4=#REF!),BDI!$B$17,IF(AND(#REF!=\"Padrão\",$I$4=#REF!),BDI!$C$17,IF(AND(#REF!=\"Diferenciado\",$I$4=#REF!),BDI!$G$17,IF(AND(#REF!=\"Diferenciado\",$I$4=#REF!),BDI!$H$17,IF(#REF!=\"ZERO\",0))))),\"\")","v":{"$error":"#REF!"}},{"$error":"#REF!"},{"$error":"#REF!"}]
["SF-00943","Base registro de gaveta 1\"","Serviço (Mat + MO)","un",0,{"$f":"OFFSET(INDEX(Composições!A:J,MATCH(Orçamentária!A948,Composições!A:A,0),8),2,0)","v":29.944109249999997},0,{"$f":"IF(A948<>\"\",IF(AND(#REF!=\"Padrão\",$I$4=#REF!),BDI!$B$17,IF(AND(#REF!=\"Padrão\",$I$4=#REF!),BDI!$C$17,IF(AND(#REF!=\"Diferenciado\",$I$4=#REF!),BDI!$G$17,IF(AND(#REF!=\"Diferenciado\",$I$4=#REF!),BDI!$H$17,IF(#REF!=\"ZERO\",0))))),\"\")","v":{"$error":"#REF!"}},{"$error":"#REF!"},{"$error":"#REF!"}]
["SF-00944","Base registro de pressão 3/4\"","Serviço (Mat + MO)","un",0,{"$f":"OFFSET(INDEX(Composições!A:J,MATCH(Orçamentária!A949,Composições!A:A,0),8),2,0)","v":7.8610505000000002},0,{"$f":"IF(A949<>\"\",IF(AND(#REF!=\"Padrão\",$I$4=#REF!),BDI!$B$17,IF(AND(#REF!=\"Padrão\",$I$4=#REF!),BDI!$C$17,IF(AND(#REF!=\"Diferenciado\",$I$4=#REF!),BDI!$G$17,IF(AND(#REF!=\"Diferenciado\",$I$4=#REF!),BDI!$H$17,IF(#REF!=\"ZERO\",0))))),\"\")","v":{"$error":"#REF!"}},{"$error":"#REF!"},{"$error":"#REF!"}]
["SF-00945","Porta para box de banheiro em laminado estrutural","Serviço (Mat + MO)","un",0,"","",{"$f":"IF(A950<>\"\",IF(AND(#REF!=\"Padrão\",$I$4=#REF!),BDI!$B$17,IF(AND(#REF!=\"Padrão\",$I$4=#REF!),BDI!$C$17,IF(AND(#REF!=\"Diferenciado\",$I$4=#REF!),BDI!$G$17,IF(AND(#REF!=\"Diferenciado\",$I$4=#REF!),BDI!$H$17,IF(#REF!=\"ZERO\",0))))),\"\")","v":{"$error":"#REF!"}},"",""]
["SF-00946","Tampa em ferro fundido T33","Serviço (Mat + MO)","un",0,{"$f":"OFFSET(INDEX(Composições!A:J,MATCH(Orçamentária!A951,Composições!A:A,0),8),2,0)","v":222.207424201089},0,{"$f":"IF(A951<>\"\",IF(AND(#REF!=\"Padrão\",$I$4=#REF!),BDI!$B$17,IF(AND(#REF!=\"Padrão\",$I$4=#REF!),BDI!$C$17,IF(AND(#REF!=\"Diferenciado\",$I$4=#REF!),BDI!$G$17,IF(AND(#REF!=\"Diferenciado\",$I$4=#REF!),BDI!$H$17,IF(#REF!=\"ZERO\",0))))),\"\")","v":{"$error":"#REF!"}},{"$error":"#REF!"},{"$error":"#REF!"}]
["SF-00947","Arquiteto(a) com experiência em intervenção no patrimônio cultural","Mão-de-Obra","hh ",0,{"$f":"OFFSET(INDEX(Composições!A:J,MATCH(Orçamentária!A952,Composições!A:A,0),8),2,0)","v":86.906000000000006},0,{"$f":"IF(A952<>\"\",IF(AND(#REF!=\"Padrão\",$I$4=#REF!),BDI!$B$17,IF(AND(#REF!=\"Padrão\",$I$4=#REF!),BDI!$C$17,IF(AND(#REF!=\"Diferenciado\",$I$4=#REF!),BDI!$G$17,IF(AND(#REF!=\"Diferenciado\",$I$4=#REF!),BDI!$H$17,IF(#REF!=\"ZERO\",0))))),\"\")","v":{"$error":"#REF!"}},{"$error":"#REF!"},{"$error":"#REF!"}]
["SF-00948","Locação de andaime suspenso tipo leve","Locação","un x mês ",0,{"$f":"OFFSET(INDEX(Composições!A:J,MATCH(Orçamentária!A953,Composições!A:A,0),8),2,0)","v":570},0,{"$f":"IF(A953<>\"\",IF(AND(#REF!=\"Padrão\",$I$4=#REF!),BDI!$B$17,IF(AND(#REF!=\"Padrão\",$I$4=#REF!),BDI!$C$17,IF(AND(#REF!=\"Diferenciado\",$I$4=#REF!),BDI!$G$17,IF(AND(#REF!=\"Diferenciado\",$I$4=#REF!),BDI!$H$17,IF(#REF!=\"ZERO\",0))))),\"\")","v":{"$error":"#REF!"}},{"$error":"#REF!"},{"$error":"#REF!"}]
["SF-00949","Cadeira suspensa (balancim individual)","Locação","un x mês ",0,"","",{"$f":"IF(A954<>\"\",IF(AND(#REF!=\"Padrão\",$I$4=#REF!),BDI!$B$17,IF(AND(#REF!=\"Padrão\",$I$4=#REF!),BDI!$C$17,IF(AND(#REF!=\"Diferenciado\",$I$4=#REF!),BDI!$G$17,IF(AND(#REF!=\"Diferenciado\",$I$4=#REF!),BDI!$H$17,IF(#REF!=\"ZERO\",0))))),\"\")","v":{"$error":"#REF!"}},"",""]
["SF-00950","Limpeza de superfície por hidrojateamento de média pressão","Serviço (Mat + MO)","m2",0,{"$f":"OFFSET(INDEX(Composições!A:J,MATCH(Orçamentária!A955,Composições!A:A,0),8),2,0)","v":1.4659735000000003},0,{"$f":"IF(A955<>\"\",IF(AND(#REF!=\"Padrão\",$I$4=#REF!),BDI!$B$17,IF(AND(#REF!=\"Padrão\",$I$4=#REF!),BDI!$C$17,IF(AND(#REF!=\"Diferenciado\",$I$4=#REF!),BDI!$G$17,IF(AND(#REF!=\"Diferenciado\",$I$4=#REF!),BDI!$H$17,IF(#REF!=\"ZERO\",0))))),\"\")","v":{"$error":"#REF!"}},{"$error":"#REF!"},{"$error":"#REF!"}]
["SF-00951","Inspeção da integridade e adesão de placas de rocha ornamental por percussão","Serviço (Mat + MO)","m2",0,{"$f":"OFFSET(INDEX(Composições!A:J,MATCH(Orçamentária!A956,Composições!A:A,0),8),2,0)","v":4.6051250000000001},0,{"$f":"IF(A956<>\"\",IF(AND(#REF!=\"Padrão\",$I$4=#REF!),BDI!$B$17,IF(AND(#REF!=\"Padrão\",$I$4=#REF!),BDI!$C$17,IF(AND(#REF!=\"Diferenciado\",$I$4=#REF!),BDI!$G$17,IF(AND(#REF!=\"Diferenciado\",$I$4=#REF!),BDI!$H$17,IF(#REF!=\"ZERO\",0))))),\"\")","v":{"$error":"#REF!"}},{"$error":"#REF!"},{"$error":"#REF!"}]
["SF-00952","Demolição de proteção mecânica de impermeabilização","Serviço (Mat + MO)","m2",0,{"$f":"OFFSET(INDEX(Composições!A:J,MATCH(Orçamentária!A957,Composições!A:A,0),8),2,0)","v":20.389375000000001},0,{"$f":"IF(A957<>\"\",IF(AND(#REF!=\"Padrão\",$I$4=#REF!),BDI!$B$17,IF(AND(#REF!=\"Padrão\",$I$4=#REF!),BDI!$C$17,IF(AND(#REF!=\"Diferenciado\",$I$4=#REF!),BDI!$G$17,IF(AND(#REF!=\"Diferenciado\",$I$4=#REF!),BDI!$H$17,IF(#REF!=\"ZERO\",0))))),\"\")","v":{"$error":"#REF!"}},{"$error":"#REF!"},{"$error":"#REF!"}]
["SF-00953","Impermeabilização com emulsão asfáltica","Serviço (Mat + MO)","m2",0,{"$f":"OFFSET(INDEX(Composições!A:J,MATCH(Orçamentária!A958,Composições!A:A,0),8),2,0)","v":37.932787499999996},0,{"$f":"IF(A958<>\"\",IF(AND(#REF!=\"Padrão\",$I$4=#REF!),BDI!$B$17,IF(AND(#REF!=\"Padrão\",$I$4=#REF!),BDI!$C$17,IF(AND(#REF!=\"Diferenciado\",$I$4=#REF!),BDI!$G$17,IF(AND(#REF!=\"Diferenciado\",$I$4=#REF!),BDI!$H$17,IF(#REF!=\"ZERO\",0))))),\"\")","v":{"$error":"#REF!"}},{"$error":"#REF!"},{"$error":"#REF!"}]
["SF-00954","Camada de proteção mecânica simples de impermeabilização","Serviço (Mat + MO)","m2",0,{"$f":"OFFSET(INDEX(Composições!A:J,MATCH(Orçamentária!A959,Composições!A:A,0),8),2,0)","v":39.235099518437501},0,{"$f":"IF(A959<>\"\",IF(AND(#REF!=\"Padrão\",$I$4=#REF!),BDI!$B$17,IF(AND(#REF!=\"Padrão\",$I$4=#REF!),BDI!$C$17,IF(AND(#REF!=\"Diferenciado\",$I$4=#REF!),BDI!$G$17,IF(AND(#REF!=\"Diferenciado\",$I$4=#REF!),BDI!$H$17,IF(#REF!=\"ZERO\",0))))),\"\")","v":{"$error":"#REF!"}},{"$error":"#REF!"},{"$error":"#REF!"}]
["SF-00955","Camada de proteção mecânica estruturada de impermeabilização","Serviço (Mat + MO)","m2",0,{"$f":"OFFSET(INDEX(Composições!A:J,MATCH(Orçamentária!A960,Composições!A:A,0),8),2,0)","v":47.950447018437494},0,{"$f":"IF(A960<>\"\",IF(AND(#REF!=\"Padrão\",$I$4=#REF!),BDI!$B$17,IF(AND(#REF!=\"Padrão\",$I$4=#REF!),BDI!$C$17,IF(AND(#REF!=\"Diferenciado\",$I$4=#REF!),BDI!$G$17,IF(AND(#REF!=\"Diferenciado\",$I$4=#REF!),BDI!$H$17,IF(#REF!=\"ZERO\",0))))),\"\")","v":{"$error":"#REF!"}},{"$error":"#REF!"},{"$error":"#REF!"}]
["SF-00956","Remoção de placas  de mármore encaixadas por fixadores metálicos (modelo Ed. Principal)","Serviço (Mat + MO)","m2",0,{"$f":"OFFSET(INDEX(Composições!A:J,MATCH(Orçamentária!A961,Composições!A:A,0),8),2,0)","v":13.892800000000001},0,{"$f":"IF(A961<>\"\",IF(AND(#REF!=\"Padrão\",$I$4=#REF!),BDI!$B$17,IF(AND(#REF!=\"Padrão\",$I$4=#REF!),BDI!$C$17,IF(AND(#REF!=\"Diferenciado\",$I$4=#REF!),BDI!$G$17,IF(AND(#REF!=\"Diferenciado\",$I$4=#REF!),BDI!$H$17,IF(#REF!=\"ZERO\",0))))),\"\")","v":{"$error":"#REF!"}},{"$error":"#REF!"},{"$error":"#REF!"}]
["SF-00957","Remoção de placas de rocha ornamental argamassada, para reaproveitamento","Serviço (Mat + MO)","m2",0,{"$f":"OFFSET(INDEX(Composições!A:J,MATCH(Orçamentária!A962,Composições!A:A,0),8),2,0)","v":41.678400000000003},0,{"$f":"IF(A962<>\"\",IF(AND(#REF!=\"Padrão\",$I$4=#REF!),BDI!$B$17,IF(AND(#REF!=\"Padrão\",$I$4=#REF!),BDI!$C$17,IF(AND(#REF!=\"Diferenciado\",$I$4=#REF!),BDI!$G$17,IF(AND(#REF!=\"Diferenciado\",$I$4=#REF!),BDI!$H$17,IF(#REF!=\"ZERO\",0))))),\"\")","v":{"$error":"#REF!"}},{"$error":"#REF!"},{"$error":"#REF!"}]
["SF-00958","Identificação e acondicionamento de placas de rocha ornamental","Serviço (Mat + MO)","m2",0,{"$f":"OFFSET(INDEX(Composições!A:J,MATCH(Orçamentária!A963,Composições!A:A,0),8),2,0)","v":6.8533000000000008},0,{"$f":"IF(A963<>\"\",IF(AND(#REF!=\"Padrão\",$I$4=#REF!),BDI!$B$17,IF(AND(#REF!=\"Padrão\",$I$4=#REF!),BDI!$C$17,IF(AND(#REF!=\"Diferenciado\",$I$4=#REF!),BDI!$G$17,IF(AND(#REF!=\"Diferenciado\",$I$4=#REF!),BDI!$H$17,IF(#REF!=\"ZERO\",0))))),\"\")","v":{"$error":"#REF!"}},{"$error":"#REF!"},{"$error":"#REF!"}]
["SF-00959","Limpeza de placas de rocha ornamental argamassada, para reaproveitamento","Serviço (Mat + MO)","m2",0,{"$f":"OFFSET(INDEX(Composições!A:J,MATCH(Orçamentária!A964,Composições!A:A,0),8),2,0)","v":4.8934500000000005},0,{"$f":"IF(A964<>\"\",IF(AND(#REF!=\"Padrão\",$I$4=#REF!),BDI!$B$17,IF(AND(#REF!=\"Padrão\",$I$4=#REF!),BDI!$C$17,IF(AND(#REF!=\"Diferenciado\",$I$4=#REF!),BDI!$G$17,IF(AND(#REF!=\"Diferenciado\",$I$4=#REF!),BDI!$H$17,IF(#REF!=\"ZERO\",0))))),\"\")","v":{"$error":"#REF!"}},{"$error":"#REF!"},{"$error":"#REF!"}]
["SF-00960","Remoção e acondicionamento de fixadores metálicos para placas de mármore em fachada (modelo Ed. Principal)","Serviço (Mat + MO)","un",0,{"$f":"OFFSET(INDEX(Composições!A:J,MATCH(Orçamentária!A965,Composições!A:A,0),8),2,0)","v":1.6311500000000003},0,{"$f":"IF(A965<>\"\",IF(AND(#REF!=\"Padrão\",$I$4=#REF!),BDI!$B$17,IF(AND(#REF!=\"Padrão\",$I$4=#REF!),BDI!$C$17,IF(AND(#REF!=\"Diferenciado\",$I$4=#REF!),BDI!$G$17,IF(AND(#REF!=\"Diferenciado\",$I$4=#REF!),BDI!$H$17,IF(#REF!=\"ZERO\",0))))),\"\")","v":{"$error":"#REF!"}},{"$error":"#REF!"},{"$error":"#REF!"}]
["SF-00961","Instalação de fixadores metálicos para placas de mármore em fachada reaproveitados (modelo Ed. Principal)","Serviço (Mat + MO)","un",0,{"$f":"OFFSET(INDEX(Composições!A:J,MATCH(Orçamentária!A966,Composições!A:A,0),8),2,0)","v":7.8482978224169999},0,{"$f":"IF(A966<>\"\",IF(AND(#REF!=\"Padrão\",$I$4=#REF!),BDI!$B$17,IF(AND(#REF!=\"Padrão\",$I$4=#REF!),BDI!$C$17,IF(AND(#REF!=\"Diferenciado\",$I$4=#REF!),BDI!$G$17,IF(AND(#REF!=\"Diferenciado\",$I$4=#REF!),BDI!$H$17,IF(#REF!=\"ZERO\",0))))),\"\")","v":{"$error":"#REF!"}},{"$error":"#REF!"},{"$error":"#REF!"}]
["SF-00962","Fixadores metálicos para rochas ornamentais (tipo Ed. Principal, peça superior)","Serviço (Mat + MO)","un",0,{"$f":"OFFSET(INDEX(Composições!A:J,MATCH(Orçamentária!A967,Composições!A:A,0),8),2,0)","v":7.8482978224169999},{"$f":"IF(ISNUMBER(F967),ROUND(E967*F967,2),\"\")","v":0},{"$f":"IF(A967<>\"\",IF(AND(#REF!=\"Padrão\",$I$4=#REF!),BDI!$B$17,IF(AND(#REF!=\"Padrão\",$I$4=#REF!),BDI!$C$17,IF(AND(#REF!=\"Diferenciado\",$I$4=#REF!),BDI!$G$17,IF(AND(#REF!=\"Diferenciado\",$I$4=#REF!),BDI!$H$17,IF(#REF!=\"ZERO\",0))))),\"\")","v":{"$error":"#REF!"}},{"$f":"IF(ISNUMBER(F967),ROUND(F967*(1+H967),2),\"\")","v":{"$error":"#REF!"}},{"$f":"IF(ISNUMBER(F967),ROUND(I967*E967,2),\"\")","v":{"$error":"#REF!"}}]
["SF-00963","Fixadores metálicos para rochas ornamentais, sob medida","Serviço (Mat + MO)","un",0,"","",{"$f":"IF(A968<>\"\",IF(AND(#REF!=\"Padrão\",$I$4=#REF!),BDI!$B$17,IF(AND(#REF!=\"Padrão\",$I$4=#REF!),BDI!$C$17,IF(AND(#REF!=\"Diferenciado\",$I$4=#REF!),BDI!$G$17,IF(AND(#REF!=\"Diferenciado\",$I$4=#REF!),BDI!$H$17,IF(#REF!=\"ZERO\",0))))),\"\")","v":{"$error":"#REF!"}},"",""]
["SF-00964","Mármore Branco Especial 20mm argamassado (Ed. Principal e Anexo 1)","Serviço (Mat + MO)","m2",0,{"$f":"OFFSET(INDEX(Composições!A:J,MATCH(Orçamentária!A969,Composições!A:A,0),8),2,0)","v":41.306474999999999},0,{"$f":"IF(A969<>\"\",IF(AND(#REF!=\"Padrão\",$I$4=#REF!),BDI!$B$17,IF(AND(#REF!=\"Padrão\",$I$4=#REF!),BDI!$C$17,IF(AND(#REF!=\"Diferenciado\",$I$4=#REF!),BDI!$G$17,IF(AND(#REF!=\"Diferenciado\",$I$4=#REF!),BDI!$H$17,IF(#REF!=\"ZERO\",0))))),\"\")","v":{"$error":"#REF!"}},{"$error":"#REF!"},{"$error":"#REF!"}]
["SF-00965","Mármore Branco Especial 20mm com inserts e argamassa (Ed. Principal e Anexo 1)","Serviço (Mat + MO)","m2",0,{"$f":"OFFSET(INDEX(Composições!A:J,MATCH(Orçamentária!A970,Composições!A:A,0),8),2,0)","v":58.279024455604258},0,{"$f":"IF(A970<>\"\",IF(AND(#REF!=\"Padrão\",$I$4=#REF!),BDI!$B$17,IF(AND(#REF!=\"Padrão\",$I$4=#REF!),BDI!$C$17,IF(AND(#REF!=\"Diferenciado\",$I$4=#REF!),BDI!$G$17,IF(AND(#REF!=\"Diferenciado\",$I$4=#REF!),BDI!$H$17,IF(#REF!=\"ZERO\",0))))),\"\")","v":{"$error":"#REF!"}},{"$error":"#REF!"},{"$error":"#REF!"}]
["SF-00966","Mármore Branco Especial 30mm argamassado (Ed. Principal e Anexo 1)","Serviço (Mat + MO)","m2",0,{"$f":"OFFSET(INDEX(Composições!A:J,MATCH(Orçamentária!A971,Composições!A:A,0),8),2,0)","v":41.306474999999999},0,{"$f":"IF(A971<>\"\",IF(AND(#REF!=\"Padrão\",$I$4=#REF!),BDI!$B$17,IF(AND(#REF!=\"Padrão\",$I$4=#REF!),BDI!$C$17,IF(AND(#REF!=\"Diferenciado\",$I$4=#REF!),BDI!$G$17,IF(AND(#REF!=\"Diferenciado\",$I$4=#REF!),BDI!$H$17,IF(#REF!=\"ZERO\",0))))),\"\")","v":{"$error":"#REF!"}},{"$error":"#REF!"},{"$error":"#REF!"}]
["SF-00967","Mármore Branco Especial 30mm com inserts e argamassa (Ed. Principal e Anexo 1)","Serviço (Mat + MO)","m2",0,{"$f":"OFFSET(INDEX(Composições!A:J,MATCH(Orçamentária!A972,Composições!A:A,0),8),2,0)","v":58.279024455604258},0,{"$f":"IF(A972<>\"\",IF(AND(#REF!=\"Padrão\",$I$4=#REF!),BDI!$B$17,IF(AND(#REF!=\"Padrão\",$I$4=#REF!),BDI!$C$17,IF(AND(#REF!=\"Diferenciado\",$I$4=#REF!),BDI!$G$17,IF(AND(#REF!=\"Diferenciado\",$I$4=#REF!),BDI!$H$17,IF(#REF!=\"ZERO\",0))))),\"\")","v":{"$error":"#REF!"}},{"$error":"#REF!"},{"$error":"#REF!"}]
["SF-00968","Mármore branco especial, e=30mm, instalação em fixadores metálicos existentes (modelo Edifício Principal)","Serviço (Mat + MO)","m2",0,{"$f":"OFFSET(INDEX(Composições!A:J,MATCH(Orçamentária!A973,Composições!A:A,0),8),2,0)","v":6.2783994556042506},0,{"$f":"IF(A973<>\"\",IF(AND(#REF!=\"Padrão\",$I$4=#REF!),BDI!$B$17,IF(AND(#REF!=\"Padrão\",$I$4=#REF!),BDI!$C$17,IF(AND(#REF!=\"Diferenciado\",$I$4=#REF!),BDI!$G$17,IF(AND(#REF!=\"Diferenciado\",$I$4=#REF!),BDI!$H$17,IF(#REF!=\"ZERO\",0))))),\"\")","v":{"$error":"#REF!"}},{"$error":"#REF!"},{"$error":"#REF!"}]
["SF-00969","Instalação de placas de mármore 30mm reaproveitadas em fixadores metálicos existentes (modelo Edifício Principal)","Serviço (Mat + MO)","m2",0,"","",{"$f":"IF(A974<>\"\",IF(AND(#REF!=\"Padrão\",$I$4=#REF!),BDI!$B$17,IF(AND(#REF!=\"Padrão\",$I$4=#REF!),BDI!$C$17,IF(AND(#REF!=\"Diferenciado\",$I$4=#REF!),BDI!$G$17,IF(AND(#REF!=\"Diferenciado\",$I$4=#REF!),BDI!$H$17,IF(#REF!=\"ZERO\",0))))),\"\")","v":{"$error":"#REF!"}},"",""]
["SF-00970","Instalação de placas de rocha ornamental reaproveitadas, por meio de argamassa","Serviço (Mat + MO)","m2",0,{"$f":"OFFSET(INDEX(Composições!A:J,MATCH(Orçamentária!A975,Composições!A:A,0),8),2,0)","v":41.306474999999999},0,{"$f":"IF(A975<>\"\",IF(AND(#REF!=\"Padrão\",$I$4=#REF!),BDI!$B$17,IF(AND(#REF!=\"Padrão\",$I$4=#REF!),BDI!$C$17,IF(AND(#REF!=\"Diferenciado\",$I$4=#REF!),BDI!$G$17,IF(AND(#REF!=\"Diferenciado\",$I$4=#REF!),BDI!$H$17,IF(#REF!=\"ZERO\",0))))),\"\")","v":{"$error":"#REF!"}},{"$error":"#REF!"},{"$error":"#REF!"}]
["SF-00971","Instalação de placas de rocha ornamental reaproveitadas, por meio de argamassa e fixadores metálicos","Serviço (Mat + MO)","m2",0,{"$f":"OFFSET(INDEX(Composições!A:J,MATCH(Orçamentária!A976,Composições!A:A,0),8),2,0)","v":58.279024455604258},0,{"$f":"IF(A976<>\"\",IF(AND(#REF!=\"Padrão\",$I$4=#REF!),BDI!$B$17,IF(AND(#REF!=\"Padrão\",$I$4=#REF!),BDI!$C$17,IF(AND(#REF!=\"Diferenciado\",$I$4=#REF!),BDI!$G$17,IF(AND(#REF!=\"Diferenciado\",$I$4=#REF!),BDI!$H$17,IF(#REF!=\"ZERO\",0))))),\"\")","v":{"$error":"#REF!"}},{"$error":"#REF!"},{"$error":"#REF!"}]
["SF-00972","Aplicação de hidrofugante à base de silano e silicone","Serviço (Mat + MO)","m2",0,{"$f":"OFFSET(INDEX(Composições!A:J,MATCH(Orçamentária!A977,Composições!A:A,0),8),2,0)","v":11.062749999999999},0,{"$f":"IF(A977<>\"\",IF(AND(#REF!=\"Padrão\",$I$4=#REF!),BDI!$B$17,IF(AND(#REF!=\"Padrão\",$I$4=#REF!),BDI!$C$17,IF(AND(#REF!=\"Diferenciado\",$I$4=#REF!),BDI!$G$17,IF(AND(#REF!=\"Diferenciado\",$I$4=#REF!),BDI!$H$17,IF(#REF!=\"ZERO\",0))))),\"\")","v":{"$error":"#REF!"}},{"$error":"#REF!"},{"$error":"#REF!"}]
["SF-00973","Cantoneira em alumínio abas iguais 1\" x 1/8\" – Pingadeira “L”","Serviço (Mat + MO)","m",0,{"$f":"OFFSET(INDEX(Composições!A:J,MATCH(Orçamentária!A978,Composições!A:A,0),8),2,0)","v":17.576900000000002},0,{"$f":"IF(A978<>\"\",IF(AND(#REF!=\"Padrão\",$I$4=#REF!),BDI!$B$17,IF(AND(#REF!=\"Padrão\",$I$4=#REF!),BDI!$C$17,IF(AND(#REF!=\"Diferenciado\",$I$4=#REF!),BDI!$G$17,IF(AND(#REF!=\"Diferenciado\",$I$4=#REF!),BDI!$H$17,IF(#REF!=\"ZERO\",0))))),\"\")","v":{"$error":"#REF!"}},{"$error":"#REF!"},{"$error":"#REF!"}]
["SF-00974","Granito Amarelo Maracujá para rodapé","Serviço (Mat + MO)","m2",0,{"$f":"OFFSET(INDEX(Composições!A:J,MATCH(Orçamentária!A979,Composições!A:A,0),8),2,0)","v":93.847099000000014},0,{"$f":"IF(A979<>\"\",IF(AND(#REF!=\"Padrão\",$I$4=#REF!),BDI!$B$17,IF(AND(#REF!=\"Padrão\",$I$4=#REF!),BDI!$C$17,IF(AND(#REF!=\"Diferenciado\",$I$4=#REF!),BDI!$G$17,IF(AND(#REF!=\"Diferenciado\",$I$4=#REF!),BDI!$H$17,IF(#REF!=\"ZERO\",0))))),\"\")","v":{"$error":"#REF!"}},{"$error":"#REF!"},{"$error":"#REF!"}]
["SF-00975","Acabamento das extremidades aparentes dos parafusos de fixação (lixamento e revestimento)","Serviço (Mat + MO)","un",0,{"$f":"OFFSET(INDEX(Composições!A:J,MATCH(Orçamentária!A980,Composições!A:A,0),8),2,0)","v":0.94097500000000012},0,{"$f":"IF(A980<>\"\",IF(AND(#REF!=\"Padrão\",$I$4=#REF!),BDI!$B$17,IF(AND(#REF!=\"Padrão\",$I$4=#REF!),BDI!$C$17,IF(AND(#REF!=\"Diferenciado\",$I$4=#REF!),BDI!$G$17,IF(AND(#REF!=\"Diferenciado\",$I$4=#REF!),BDI!$H$17,IF(#REF!=\"ZERO\",0))))),\"\")","v":{"$error":"#REF!"}},{"$error":"#REF!"},{"$error":"#REF!"}]
["SF-00976","Rejuntamento de placas de rocha ornamental em fachada","Serviço (Mat + MO)","m2",0,{"$f":"OFFSET(INDEX(Composições!A:J,MATCH(Orçamentária!A981,Composições!A:A,0),8),2,0)","v":5.4046070000000004},0,{"$f":"IF(A981<>\"\",IF(AND(#REF!=\"Padrão\",$I$4=#REF!),BDI!$B$17,IF(AND(#REF!=\"Padrão\",$I$4=#REF!),BDI!$C$17,IF(AND(#REF!=\"Diferenciado\",$I$4=#REF!),BDI!$G$17,IF(AND(#REF!=\"Diferenciado\",$I$4=#REF!),BDI!$H$17,IF(#REF!=\"ZERO\",0))))),\"\")","v":{"$error":"#REF!"}},{"$error":"#REF!"},{"$error":"#REF!"}]
["SF-00977","Junta de movimentação em fachada","Serviço (Mat + MO)","m",0,{"$f":"OFFSET(INDEX(Composições!A:J,MATCH(Orçamentária!A982,Composições!A:A,0),8),2,0)","v":20.932116650000001},0,{"$f":"IF(A982<>\"\",IF(AND(#REF!=\"Padrão\",$I$4=#REF!),BDI!$B$17,IF(AND(#REF!=\"Padrão\",$I$4=#REF!),BDI!$C$17,IF(AND(#REF!=\"Diferenciado\",$I$4=#REF!),BDI!$G$17,IF(AND(#REF!=\"Diferenciado\",$I$4=#REF!),BDI!$H$17,IF(#REF!=\"ZERO\",0))))),\"\")","v":{"$error":"#REF!"}},{"$error":"#REF!"},{"$error":"#REF!"}]
["SF-00978","Adesivo Selante Poliuretano – fornecimento e aplicação","Serviço (Mat + MO)","m",0,{"$f":"OFFSET(INDEX(Composições!A:J,MATCH(Orçamentária!A983,Composições!A:A,0),8),2,0)","v":13.5467777},0,{"$f":"IF(A983<>\"\",IF(AND(#REF!=\"Padrão\",$I$4=#REF!),BDI!$B$17,IF(AND(#REF!=\"Padrão\",$I$4=#REF!),BDI!$C$17,IF(AND(#REF!=\"Diferenciado\",$I$4=#REF!),BDI!$G$17,IF(AND(#REF!=\"Diferenciado\",$I$4=#REF!),BDI!$H$17,IF(#REF!=\"ZERO\",0))))),\"\")","v":{"$error":"#REF!"}},{"$error":"#REF!"},{"$error":"#REF!"}]
["SF-00979","Esquadria para fachada do Bloco 14","Serviço (Mat + MO)","un",0,"","",{"$f":"IF(A984<>\"\",IF(AND(#REF!=\"Padrão\",$I$4=#REF!),BDI!$B$17,IF(AND(#REF!=\"Padrão\",$I$4=#REF!),BDI!$C$17,IF(AND(#REF!=\"Diferenciado\",$I$4=#REF!),BDI!$G$17,IF(AND(#REF!=\"Diferenciado\",$I$4=#REF!),BDI!$H$17,IF(#REF!=\"ZERO\",0))))),\"\")","v":{"$error":"#REF!"}},"",""]
["SF-00980","Chuveiro elétrico","Serviço (Mat + MO)","un",0,{"$f":"OFFSET(INDEX(Composições!A:J,MATCH(Orçamentária!A985,Composições!A:A,0),8),2,0)","v":65.004501450000006},0,{"$f":"IF(A985<>\"\",IF(AND(#REF!=\"Padrão\",$I$4=#REF!),BDI!$B$17,IF(AND(#REF!=\"Padrão\",$I$4=#REF!),BDI!$C$17,IF(AND(#REF!=\"Diferenciado\",$I$4=#REF!),BDI!$G$17,IF(AND(#REF!=\"Diferenciado\",$I$4=#REF!),BDI!$H$17,IF(#REF!=\"ZERO\",0))))),\"\")","v":{"$error":"#REF!"}},{"$error":"#REF!"},{"$error":"#REF!"}]
["SF-00981","Base para pavimentação com concreto magro","Serviço (Mat + MO)","m3 ",0,{"$f":"OFFSET(INDEX(Composições!A:J,MATCH(Orçamentária!A986,Composições!A:A,0),8),2,0)","v":486.51598280389999},0,{"$f":"IF(A986<>\"\",IF(AND(#REF!=\"Padrão\",$I$4=#REF!),BDI!$B$17,IF(AND(#REF!=\"Padrão\",$I$4=#REF!),BDI!$C$17,IF(AND(#REF!=\"Diferenciado\",$I$4=#REF!),BDI!$G$17,IF(AND(#REF!=\"Diferenciado\",$I$4=#REF!),BDI!$H$17,IF(#REF!=\"ZERO\",0))))),\"\")","v":{"$error":"#REF!"}},{"$error":"#REF!"},{"$error":"#REF!"}]
["SF-00982","Pavimentação em concreto armado simples","Serviço (Mat + MO)","m2",90,{"$f":"OFFSET(INDEX(Composições!A:J,MATCH(Orçamentária!A987,Composições!A:A,0),8),2,0)","v":74.315280450000003},6688.38,{"$f":"BDI!$B$17","v":0.191},88.51,7965.9]
["SF-00983","Remoção de reservatório d’água","Serviço (Mat + MO)","un",0,{"$f":"OFFSET(INDEX(Composições!A:J,MATCH(Orçamentária!A988,Composições!A:A,0),8),2,0)","v":151.73400000000001},0,{"$f":"IF(A988<>\"\",IF(AND(#REF!=\"Padrão\",$I$4=#REF!),BDI!$B$17,IF(AND(#REF!=\"Padrão\",$I$4=#REF!),BDI!$C$17,IF(AND(#REF!=\"Diferenciado\",$I$4=#REF!),BDI!$G$17,IF(AND(#REF!=\"Diferenciado\",$I$4=#REF!),BDI!$H$17,IF(#REF!=\"ZERO\",0))))),\"\")","v":{"$error":"#REF!"}},{"$error":"#REF!"},{"$error":"#REF!"}]
["SF-00984","Transporte e destinação final de entulho para distâncias até 30 km","Serviço (Mat + MO)","m3 x km",0,{"$f":"OFFSET(INDEX(Composições!A:J,MATCH(Orçamentária!A989,Composições!A:A,0),8),2,0)","v":1.5871944499999997},0,{"$f":"IF(A989<>\"\",IF(AND(#REF!=\"Padrão\",$I$4=#REF!),BDI!$B$17,IF(AND(#REF!=\"Padrão\",$I$4=#REF!),BDI!$C$17,IF(AND(#REF!=\"Diferenciado\",$I$4=#REF!),BDI!$G$17,IF(AND(#REF!=\"Diferenciado\",$I$4=#REF!),BDI!$H$17,IF(#REF!=\"ZERO\",0))))),\"\")","v":{"$error":"#REF!"}},{"$error":"#REF!"},{"$error":"#REF!"}]
["SF-00985","Locação de Caminhão Munck","Locação","dia",0,"","",{"$f":"IF(A990<>\"\",IF(AND(#REF!=\"Padrão\",$I$4=#REF!),BDI!$B$17,IF(AND(#REF!=\"Padrão\",$I$4=#REF!),BDI!$C$17,IF(AND(#REF!=\"Diferenciado\",$I$4=#REF!),BDI!$G$17,IF(AND(#REF!=\"Diferenciado\",$I$4=#REF!),BDI!$H$17,IF(#REF!=\"ZERO\",0))))),\"\")","v":{"$error":"#REF!"}},"",""]
["SF-00986","Demolição de estrutura metálica","Serviço (Mat + MO)","kg ",0,{"$f":"OFFSET(INDEX(Composições!A:J,MATCH(Orçamentária!A991,Composições!A:A,0),8),2,0)","v":3.1703779999999999},0,{"$f":"IF(A991<>\"\",IF(AND(#REF!=\"Padrão\",$I$4=#REF!),BDI!$B$17,IF(AND(#REF!=\"Padrão\",$I$4=#REF!),BDI!$C$17,IF(AND(#REF!=\"Diferenciado\",$I$4=#REF!),BDI!$G$17,IF(AND(#REF!=\"Diferenciado\",$I$4=#REF!),BDI!$H$17,IF(#REF!=\"ZERO\",0))))),\"\")","v":{"$error":"#REF!"}},{"$error":"#REF!"},{"$error":"#REF!"}]
["SF-00987","Escavação manual com profundidade maior do que 1,30 m","Serviço (Mat + MO)","m3 ",0,{"$f":"OFFSET(INDEX(Composições!A:J,MATCH(Orçamentária!A992,Composições!A:A,0),8),2,0)","v":70.139450000000011},0,{"$f":"IF(A992<>\"\",IF(AND(#REF!=\"Padrão\",$I$4=#REF!),BDI!$B$17,IF(AND(#REF!=\"Padrão\",$I$4=#REF!),BDI!$C$17,IF(AND(#REF!=\"Diferenciado\",$I$4=#REF!),BDI!$G$17,IF(AND(#REF!=\"Diferenciado\",$I$4=#REF!),BDI!$H$17,IF(#REF!=\"ZERO\",0))))),\"\")","v":{"$error":"#REF!"}},{"$error":"#REF!"},{"$error":"#REF!"}]
["SF-00988","Escavação mecânica com profundidade maior do que 1,30 m","Serviço (Mat + MO)","m3 ",1380,{"$f":"OFFSET(INDEX(Composições!A:J,MATCH(Orçamentária!A993,Composições!A:A,0),8),2,0)","v":4.4948765500000007},6202.93,{"$f":"BDI!$B$17","v":0.191},5.35,7383]
["SF-00989","Grama Batatais em placas de 40 x 40 cm","Serviço (Mat + MO)","m2",160,{"$f":"OFFSET(INDEX(Composições!A:J,MATCH(Orçamentária!A994,Composições!A:A,0),8),2,0)","v":38.097011202516008},6095.52,{"$f":"BDI!$B$17","v":0.191},45.37,7259.2]
["SF-00990","Pintura de meios-fios com tinta acrílica","Serviço (Mat + MO)","m",0,{"$f":"OFFSET(INDEX(Composições!A:J,MATCH(Orçamentária!A995,Composições!A:A,0),8),2,0)","v":4.5326832249999995},0,{"$f":"IF(A995<>\"\",IF(AND(#REF!=\"Padrão\",$I$4=#REF!),BDI!$B$17,IF(AND(#REF!=\"Padrão\",$I$4=#REF!),BDI!$C$17,IF(AND(#REF!=\"Diferenciado\",$I$4=#REF!),BDI!$G$17,IF(AND(#REF!=\"Diferenciado\",$I$4=#REF!),BDI!$H$17,IF(#REF!=\"ZERO\",0))))),\"\")","v":{"$error":"#REF!"}},{"$error":"#REF!"},{"$error":"#REF!"}]
["SF-00991","Meios-fios em concreto pré-moldado","Serviço (Mat + MO)","m",0,{"$f":"OFFSET(INDEX(Composições!A:J,MATCH(Orçamentária!A996,Composições!A:A,0),8),2,0)","v":38.418881221538989},0,{"$f":"IF(A996<>\"\",IF(AND(#REF!=\"Padrão\",$I$4=#REF!),BDI!$B$17,IF(AND(#REF!=\"Padrão\",$I$4=#REF!),BDI!$C$17,IF(AND(#REF!=\"Diferenciado\",$I$4=#REF!),BDI!$G$17,IF(AND(#REF!=\"Diferenciado\",$I$4=#REF!),BDI!$H$17,IF(#REF!=\"ZERO\",0))))),\"\")","v":{"$error":"#REF!"}},{"$error":"#REF!"},{"$error":"#REF!"}]
["SF-00992","Tubo PEAD corrugado para drenagem – Diâmetro 100 mm","Serviço (Mat + MO)","m",0,{"$f":"OFFSET(INDEX(Composições!A:J,MATCH(Orçamentária!A997,Composições!A:A,0),8),2,0)","v":30.268516672910003},0,{"$f":"IF(A997<>\"\",IF(AND(#REF!=\"Padrão\",$I$4=#REF!),BDI!$B$17,IF(AND(#REF!=\"Padrão\",$I$4=#REF!),BDI!$C$17,IF(AND(#REF!=\"Diferenciado\",$I$4=#REF!),BDI!$G$17,IF(AND(#REF!=\"Diferenciado\",$I$4=#REF!),BDI!$H$17,IF(#REF!=\"ZERO\",0))))),\"\")","v":{"$error":"#REF!"}},{"$error":"#REF!"},{"$error":"#REF!"}]
["SF-00993","Carpete aveludado azul royal","Serviço (Mat + MO)","m2",0,"","",{"$f":"IF(A998<>\"\",IF(AND(#REF!=\"Padrão\",$I$4=#REF!),BDI!$B$17,IF(AND(#REF!=\"Padrão\",$I$4=#REF!),BDI!$C$17,IF(AND(#REF!=\"Diferenciado\",$I$4=#REF!),BDI!$G$17,IF(AND(#REF!=\"Diferenciado\",$I$4=#REF!),BDI!$H$17,IF(#REF!=\"ZERO\",0))))),\"\")","v":{"$error":"#REF!"}},"",""]
["SF-00994","Fixadores metálicos para rochas ornamentais (Modelo Edifício Principal, peça inferior)","Serviço (Mat + MO)","un",0,{"$f":"OFFSET(INDEX(Composições!A:J,MATCH(Orçamentária!A999,Composições!A:A,0),8),2,0)","v":7.8482978224169999},0,{"$f":"IF(A999<>\"\",IF(AND(#REF!=\"Padrão\",$I$4=#REF!),BDI!$B$17,IF(AND(#REF!=\"Padrão\",$I$4=#REF!),BDI!$C$17,IF(AND(#REF!=\"Diferenciado\",$I$4=#REF!),BDI!$G$17,IF(AND(#REF!=\"Diferenciado\",$I$4=#REF!),BDI!$H$17,IF(#REF!=\"ZERO\",0))))),\"\")","v":{"$error":"#REF!"}},{"$error":"#REF!"},{"$error":"#REF!"}]
["SF-00995","Montagem e desmontagem de andaime suspenso tipo leve (balancim)","Serviço (Mat + MO)","un",0,"","",{"$f":"IF(A1000<>\"\",IF(AND(#REF!=\"Padrão\",$I$4=#REF!),BDI!$B$17,IF(AND(#REF!=\"Padrão\",$I$4=#REF!),BDI!$C$17,IF(AND(#REF!=\"Diferenciado\",$I$4=#REF!),BDI!$G$17,IF(AND(#REF!=\"Diferenciado\",$I$4=#REF!),BDI!$H$17,IF(#REF!=\"ZERO\",0))))),\"\")","v":{"$error":"#REF!"}},"",""]
["SF-00996","Deslocamento de andaime suspenso tipo leve (balancim)","Serviço (Mat + MO)","un",0,"","",{"$f":"IF(A1001<>\"\",IF(AND(#REF!=\"Padrão\",$I$4=#REF!),BDI!$B$17,IF(AND(#REF!=\"Padrão\",$I$4=#REF!),BDI!$C$17,IF(AND(#REF!=\"Diferenciado\",$I$4=#REF!),BDI!$G$17,IF(AND(#REF!=\"Diferenciado\",$I$4=#REF!),BDI!$H$17,IF(#REF!=\"ZERO\",0))))),\"\")","v":{"$error":"#REF!"}},"",""]
["SF-00997","Plataforma elevatória vertical para acessibilidade - Bloco 15 (Espaço do Servidor)","Serviço (Mat + MO)","un",0,"","",{"$f":"IF(A1002<>\"\",IF(AND(#REF!=\"Padrão\",$I$4=#REF!),BDI!$B$17,IF(AND(#REF!=\"Padrão\",$I$4=#REF!),BDI!$C$17,IF(AND(#REF!=\"Diferenciado\",$I$4=#REF!),BDI!$G$17,IF(AND(#REF!=\"Diferenciado\",$I$4=#REF!),BDI!$H$17,IF(#REF!=\"ZERO\",0))))),\"\")","v":{"$error":"#REF!"}},"",""]
["SF-00998","Linha de vida horizontal em trilho","Serviço (Mat + MO)","pavimento ",0,"","",{"$f":"IF(A1003<>\"\",IF(AND(#REF!=\"Padrão\",$I$4=#REF!),BDI!$B$17,IF(AND(#REF!=\"Padrão\",$I$4=#REF!),BDI!$C$17,IF(AND(#REF!=\"Diferenciado\",$I$4=#REF!),BDI!$G$17,IF(AND(#REF!=\"Diferenciado\",$I$4=#REF!),BDI!$H$17,IF(#REF!=\"ZERO\",0))))),\"\")","v":{"$error":"#REF!"}},"",""]
["SF-00999","Trava quedas retrátil","Serviço (Mat + MO)","un",0,"","",{"$f":"IF(A1004<>\"\",IF(AND(#REF!=\"Padrão\",$I$4=#REF!),BDI!$B$17,IF(AND(#REF!=\"Padrão\",$I$4=#REF!),BDI!$C$17,IF(AND(#REF!=\"Diferenciado\",$I$4=#REF!),BDI!$G$17,IF(AND(#REF!=\"Diferenciado\",$I$4=#REF!),BDI!$H$17,IF(#REF!=\"ZERO\",0))))),\"\")","v":{"$error":"#REF!"}},"",""]
["SF-01000","Corda de poliéster 8mm","Serviço (Mat + MO)","m",0,"","",{"$f":"IF(A1005<>\"\",IF(AND(#REF!=\"Padrão\",$I$4=#REF!),BDI!$B$17,IF(AND(#REF!=\"Padrão\",$I$4=#REF!),BDI!$C$17,IF(AND(#REF!=\"Diferenciado\",$I$4=#REF!),BDI!$G$17,IF(AND(#REF!=\"Diferenciado\",$I$4=#REF!),BDI!$H$17,IF(#REF!=\"ZERO\",0))))),\"\")","v":{"$error":"#REF!"}},"",""]
["SF-01001","Locação de Container - Escritório","Locação","mês ",0,{"$f":"OFFSET(INDEX(Composições!A:J,MATCH(Orçamentária!A1006,Composições!A:A,0),8),2,0)","v":495.9},0,{"$f":"IF(A1006<>\"\",IF(AND(#REF!=\"Padrão\",$I$4=#REF!),BDI!$B$17,IF(AND(#REF!=\"Padrão\",$I$4=#REF!),BDI!$C$17,IF(AND(#REF!=\"Diferenciado\",$I$4=#REF!),BDI!$G$17,IF(AND(#REF!=\"Diferenciado\",$I$4=#REF!),BDI!$H$17,IF(#REF!=\"ZERO\",0))))),\"\")","v":{"$error":"#REF!"}},{"$error":"#REF!"},{"$error":"#REF!"}]
["SF-01002","Dobradiça Piano","Material","m",0,"","",{"$f":"IF(A1007<>\"\",IF(AND(#REF!=\"Padrão\",$I$4=#REF!),BDI!$B$17,IF(AND(#REF!=\"Padrão\",$I$4=#REF!),BDI!$C$17,IF(AND(#REF!=\"Diferenciado\",$I$4=#REF!),BDI!$G$17,IF(AND(#REF!=\"Diferenciado\",$I$4=#REF!),BDI!$H$17,IF(#REF!=\"ZERO\",0))))),\"\")","v":{"$error":"#REF!"}},"",""]
["SF-01003","Compensado Laminado de Imbuia em duas faces - 04 mm","Material","m2",0,"","",{"$f":"IF(A1008<>\"\",IF(AND(#REF!=\"Padrão\",$I$4=#REF!),BDI!$B$17,IF(AND(#REF!=\"Padrão\",$I$4=#REF!),BDI!$C$17,IF(AND(#REF!=\"Diferenciado\",$I$4=#REF!),BDI!$G$17,IF(AND(#REF!=\"Diferenciado\",$I$4=#REF!),BDI!$H$17,IF(#REF!=\"ZERO\",0))))),\"\")","v":{"$error":"#REF!"}},"",""]
["SF-01004","Compensado Laminado de Imbuia em duas faces - 10 mm","Material","m2",0,"","",{"$f":"IF(A1009<>\"\",IF(AND(#REF!=\"Padrão\",$I$4=#REF!),BDI!$B$17,IF(AND(#REF!=\"Padrão\",$I$4=#REF!),BDI!$C$17,IF(AND(#REF!=\"Diferenciado\",$I$4=#REF!),BDI!$G$17,IF(AND(#REF!=\"Diferenciado\",$I$4=#REF!),BDI!$H$17,IF(#REF!=\"ZERO\",0))))),\"\")","v":{"$error":"#REF!"}},"",""]
["SF-01005","Compensado Laminado de Freijó em duas faces - 04 mm","Material","m2",0,"","",{"$f":"IF(A1010<>\"\",IF(AND(#REF!=\"Padrão\",$I$4=#REF!),BDI!$B$17,IF(AND(#REF!=\"Padrão\",$I$4=#REF!),BDI!$C$17,IF(AND(#REF!=\"Diferenciado\",$I$4=#REF!),BDI!$G$17,IF(AND(#REF!=\"Diferenciado\",$I$4=#REF!),BDI!$H$17,IF(#REF!=\"ZERO\",0))))),\"\")","v":{"$error":"#REF!"}},"",""]
["SF-01006","Compensado Laminado de Freijó em duas faces - 10 mm","Material","m2",0,"","",{"$f":"IF(A1011<>\"\",IF(AND(#REF!=\"Padrão\",$I$4=#REF!),BDI!$B$17,IF(AND(#REF!=\"Padrão\",$I$4=#REF!),BDI!$C$17,IF(AND(#REF!=\"Diferenciado\",$I$4=#REF!),BDI!$G$17,IF(AND(#REF!=\"Diferenciado\",$I$4=#REF!),BDI!$H$17,IF(#REF!=\"ZERO\",0))))),\"\")","v":{"$error":"#REF!"}},"",""]
["SF-01007","Painel de MDF Laminado – Ovo - 25mm","Material","m2",0,"","",{"$f":"IF(A1012<>\"\",IF(AND(#REF!=\"Padrão\",$I$4=#REF!),BDI!$B$17,IF(AND(#REF!=\"Padrão\",$I$4=#REF!),BDI!$C$17,IF(AND(#REF!=\"Diferenciado\",$I$4=#REF!),BDI!$G$17,IF(AND(#REF!=\"Diferenciado\",$I$4=#REF!),BDI!$H$17,IF(#REF!=\"ZERO\",0))))),\"\")","v":{"$error":"#REF!"}},"",""]
["SF-01008","Rodízio Giratório sem Freio - 2 Polegadas","Material","un",0,"","",{"$f":"IF(A1013<>\"\",IF(AND(#REF!=\"Padrão\",$I$4=#REF!),BDI!$B$17,IF(AND(#REF!=\"Padrão\",$I$4=#REF!),BDI!$C$17,IF(AND(#REF!=\"Diferenciado\",$I$4=#REF!),BDI!$G$17,IF(AND(#REF!=\"Diferenciado\",$I$4=#REF!),BDI!$H$17,IF(#REF!=\"ZERO\",0))))),\"\")","v":{"$error":"#REF!"}},"",""]
["SF-01009","Estrutura metálica em aço – Bloco 19 (Centro de Treinamento)","Serviço (Mat + MO)","kg ",0,"","",{"$f":"IF(A1014<>\"\",IF(AND(#REF!=\"Padrão\",$I$4=#REF!),BDI!$B$17,IF(AND(#REF!=\"Padrão\",$I$4=#REF!),BDI!$C$17,IF(AND(#REF!=\"Diferenciado\",$I$4=#REF!),BDI!$G$17,IF(AND(#REF!=\"Diferenciado\",$I$4=#REF!),BDI!$H$17,IF(#REF!=\"ZERO\",0))))),\"\")","v":{"$error":"#REF!"}},"",""]
["SF-01010","Mão francesa metálica","Serviço (Mat + MO)","un",0,"","",{"$f":"IF(A1015<>\"\",IF(AND(#REF!=\"Padrão\",$I$4=#REF!),BDI!$B$17,IF(AND(#REF!=\"Padrão\",$I$4=#REF!),BDI!$C$17,IF(AND(#REF!=\"Diferenciado\",$I$4=#REF!),BDI!$G$17,IF(AND(#REF!=\"Diferenciado\",$I$4=#REF!),BDI!$H$17,IF(#REF!=\"ZERO\",0))))),\"\")","v":{"$error":"#REF!"}},"",""]
["SF-01011","Abertura/fechamento de rasgo em concreto","Serviço (Mat + MO)","m",0,{"$f":"OFFSET(INDEX(Composições!A:J,MATCH(Orçamentária!A1016,Composições!A:A,0),8),2,0)","v":35.800993487355996},0,{"$f":"IF(A1016<>\"\",IF(AND(#REF!=\"Padrão\",$I$4=#REF!),BDI!$B$17,IF(AND(#REF!=\"Padrão\",$I$4=#REF!),BDI!$C$17,IF(AND(#REF!=\"Diferenciado\",$I$4=#REF!),BDI!$G$17,IF(AND(#REF!=\"Diferenciado\",$I$4=#REF!),BDI!$H$17,IF(#REF!=\"ZERO\",0))))),\"\")","v":{"$error":"#REF!"}},{"$error":"#REF!"},{"$error":"#REF!"}]
["SF-01012","Recomposição de rejuntamento sobre revestimentos","Serviço (Mat + MO)","m2",0,{"$f":"OFFSET(INDEX(Composições!A:J,MATCH(Orçamentária!A1017,Composições!A:A,0),8),2,0)","v":8.8053220000000003},0,{"$f":"IF(A1017<>\"\",IF(AND(#REF!=\"Padrão\",$I$4=#REF!),BDI!$B$17,IF(AND(#REF!=\"Padrão\",$I$4=#REF!),BDI!$C$17,IF(AND(#REF!=\"Diferenciado\",$I$4=#REF!),BDI!$G$17,IF(AND(#REF!=\"Diferenciado\",$I$4=#REF!),BDI!$H$17,IF(#REF!=\"ZERO\",0))))),\"\")","v":{"$error":"#REF!"}},{"$error":"#REF!"},{"$error":"#REF!"}]
["SF-01013","Impermeabilização de revestimentos em pedra","Serviço (Mat + MO)","m2",0,{"$f":"OFFSET(INDEX(Composições!A:J,MATCH(Orçamentária!A1018,Composições!A:A,0),8),2,0)","v":18.145949999999999},0,{"$f":"IF(A1018<>\"\",IF(AND(#REF!=\"Padrão\",$I$4=#REF!),BDI!$B$17,IF(AND(#REF!=\"Padrão\",$I$4=#REF!),BDI!$C$17,IF(AND(#REF!=\"Diferenciado\",$I$4=#REF!),BDI!$G$17,IF(AND(#REF!=\"Diferenciado\",$I$4=#REF!),BDI!$H$17,IF(#REF!=\"ZERO\",0))))),\"\")","v":{"$error":"#REF!"}},{"$error":"#REF!"},{"$error":"#REF!"}]
["SF-01014","Piso vinílico semiflexível","Serviço (Mat + MO)","m2",0,{"$f":"OFFSET(INDEX(Composições!A:J,MATCH(Orçamentária!A1019,Composições!A:A,0),8),2,0)","v":98.340143000000012},0,{"$f":"IF(A1019<>\"\",IF(AND(#REF!=\"Padrão\",$I$4=#REF!),BDI!$B$17,IF(AND(#REF!=\"Padrão\",$I$4=#REF!),BDI!$C$17,IF(AND(#REF!=\"Diferenciado\",$I$4=#REF!),BDI!$G$17,IF(AND(#REF!=\"Diferenciado\",$I$4=#REF!),BDI!$H$17,IF(#REF!=\"ZERO\",0))))),\"\")","v":{"$error":"#REF!"}},{"$error":"#REF!"},{"$error":"#REF!"}]
["SF-01015","Porta metálica de giro com dimensões 0,92 x 2,20m","Serviço (Mat + MO)","un",0,"","",{"$f":"IF(A1020<>\"\",IF(AND(#REF!=\"Padrão\",$I$4=#REF!),BDI!$B$17,IF(AND(#REF!=\"Padrão\",$I$4=#REF!),BDI!$C$17,IF(AND(#REF!=\"Diferenciado\",$I$4=#REF!),BDI!$G$17,IF(AND(#REF!=\"Diferenciado\",$I$4=#REF!),BDI!$H$17,IF(#REF!=\"ZERO\",0))))),\"\")","v":{"$error":"#REF!"}},"",""]
["SF-01016","Porta metálica de giro com dimensões 0,92 x 2,35 m","Serviço (Mat + MO)","un",0,"","",{"$f":"IF(A1021<>\"\",IF(AND(#REF!=\"Padrão\",$I$4=#REF!),BDI!$B$17,IF(AND(#REF!=\"Padrão\",$I$4=#REF!),BDI!$C$17,IF(AND(#REF!=\"Diferenciado\",$I$4=#REF!),BDI!$G$17,IF(AND(#REF!=\"Diferenciado\",$I$4=#REF!),BDI!$H$17,IF(#REF!=\"ZERO\",0))))),\"\")","v":{"$error":"#REF!"}},"",""]
["SF-01017","Esquadria metálica de 4 folhas fixas com dimensões de 5,30x1,00m – Bloco 19 (Centro de Treinamento)","Serviço (Mat + MO)","un",0,"","",{"$f":"IF(A1022<>\"\",IF(AND(#REF!=\"Padrão\",$I$4=#REF!),BDI!$B$17,IF(AND(#REF!=\"Padrão\",$I$4=#REF!),BDI!$C$17,IF(AND(#REF!=\"Diferenciado\",$I$4=#REF!),BDI!$G$17,IF(AND(#REF!=\"Diferenciado\",$I$4=#REF!),BDI!$H$17,IF(#REF!=\"ZERO\",0))))),\"\")","v":{"$error":"#REF!"}},"",""]
["SF-01018","Esquadria metálica de 3 folhas, sendo 2 folhas fixas e 1 de correr com dimensões de 4,10x1,15m – Bloco 19 (Centro de Treinamento)","Serviço (Mat + MO)","un",0,"","",{"$f":"IF(A1023<>\"\",IF(AND(#REF!=\"Padrão\",$I$4=#REF!),BDI!$B$17,IF(AND(#REF!=\"Padrão\",$I$4=#REF!),BDI!$C$17,IF(AND(#REF!=\"Diferenciado\",$I$4=#REF!),BDI!$G$17,IF(AND(#REF!=\"Diferenciado\",$I$4=#REF!),BDI!$H$17,IF(#REF!=\"ZERO\",0))))),\"\")","v":{"$error":"#REF!"}},"",""]
["SF-01019","Esquadria metálica de 4 folhas, sendo 2 folhas fixas e 2 folhas de correr, com dimensões total de 5,15x1,00m  – Bloco 19 (Centro de Treinamento)","Serviço (Mat + MO)","un",0,"","",{"$f":"IF(A1024<>\"\",IF(AND(#REF!=\"Padrão\",$I$4=#REF!),BDI!$B$17,IF(AND(#REF!=\"Padrão\",$I$4=#REF!),BDI!$C$17,IF(AND(#REF!=\"Diferenciado\",$I$4=#REF!),BDI!$G$17,IF(AND(#REF!=\"Diferenciado\",$I$4=#REF!),BDI!$H$17,IF(#REF!=\"ZERO\",0))))),\"\")","v":{"$error":"#REF!"}},"",""]
["SF-01020","Esquadria metálica de 4 folhas, sendo 2 fixas e 2 de correr dimensões de 5,30x1,15m – Bloco 19 (Centro de Treinamento)","Serviço (Mat + MO)","un",0,"","",{"$f":"IF(A1025<>\"\",IF(AND(#REF!=\"Padrão\",$I$4=#REF!),BDI!$B$17,IF(AND(#REF!=\"Padrão\",$I$4=#REF!),BDI!$C$17,IF(AND(#REF!=\"Diferenciado\",$I$4=#REF!),BDI!$G$17,IF(AND(#REF!=\"Diferenciado\",$I$4=#REF!),BDI!$H$17,IF(#REF!=\"ZERO\",0))))),\"\")","v":{"$error":"#REF!"}},"",""]
["SF-01021","Esquadria metálica de 2 folhas basculante com dimensões de 2,31x0,45m – Bloco 19 (Centro de Treinamento)","Serviço (Mat + MO)","un",0,"","",{"$f":"IF(A1026<>\"\",IF(AND(#REF!=\"Padrão\",$I$4=#REF!),BDI!$B$17,IF(AND(#REF!=\"Padrão\",$I$4=#REF!),BDI!$C$17,IF(AND(#REF!=\"Diferenciado\",$I$4=#REF!),BDI!$G$17,IF(AND(#REF!=\"Diferenciado\",$I$4=#REF!),BDI!$H$17,IF(#REF!=\"ZERO\",0))))),\"\")","v":{"$error":"#REF!"}},"",""]
["SF-01022","Perfil Veneziana Enrijecido 70x19mm","Material","m",0,"","",{"$f":"IF(A1027<>\"\",IF(AND(#REF!=\"Padrão\",$I$4=#REF!),BDI!$B$17,IF(AND(#REF!=\"Padrão\",$I$4=#REF!),BDI!$C$17,IF(AND(#REF!=\"Diferenciado\",$I$4=#REF!),BDI!$G$17,IF(AND(#REF!=\"Diferenciado\",$I$4=#REF!),BDI!$H$17,IF(#REF!=\"ZERO\",0))))),\"\")","v":{"$error":"#REF!"}},"",""]
["SF-01023","Perfil U Enrijecido 150mm x 40mm x 15mm","Material","m",0,"","",{"$f":"IF(A1028<>\"\",IF(AND(#REF!=\"Padrão\",$I$4=#REF!),BDI!$B$17,IF(AND(#REF!=\"Padrão\",$I$4=#REF!),BDI!$C$17,IF(AND(#REF!=\"Diferenciado\",$I$4=#REF!),BDI!$G$17,IF(AND(#REF!=\"Diferenciado\",$I$4=#REF!),BDI!$H$17,IF(#REF!=\"ZERO\",0))))),\"\")","v":{"$error":"#REF!"}},"",""]
["SF-01024","Perfil Trilho Peitoril - 150mm","Material","m",0,"","",{"$f":"IF(A1029<>\"\",IF(AND(#REF!=\"Padrão\",$I$4=#REF!),BDI!$B$17,IF(AND(#REF!=\"Padrão\",$I$4=#REF!),BDI!$C$17,IF(AND(#REF!=\"Diferenciado\",$I$4=#REF!),BDI!$G$17,IF(AND(#REF!=\"Diferenciado\",$I$4=#REF!),BDI!$H$17,IF(#REF!=\"ZERO\",0))))),\"\")","v":{"$error":"#REF!"}},"",""]
["SF-01025","Perfil Marco Reto - 150 x 32 mm","Material","m",0,"","",{"$f":"IF(A1030<>\"\",IF(AND(#REF!=\"Padrão\",$I$4=#REF!),BDI!$B$17,IF(AND(#REF!=\"Padrão\",$I$4=#REF!),BDI!$C$17,IF(AND(#REF!=\"Diferenciado\",$I$4=#REF!),BDI!$G$17,IF(AND(#REF!=\"Diferenciado\",$I$4=#REF!),BDI!$H$17,IF(#REF!=\"ZERO\",0))))),\"\")","v":{"$error":"#REF!"}},"",""]
["SF-01026","Perfil Cadeirinha Fechada – 60 x 30 mm","Material","m",0,"",{"$f":"IF(ISNUMBER(F1031),ROUND(E1031*F1031,2),\"\")","v":""},{"$f":"IF(A1031<>\"\",IF(AND(#REF!=\"Padrão\",$I$4=#REF!),BDI!$B$17,IF(AND(#REF!=\"Padrão\",$I$4=#REF!),BDI!$C$17,IF(AND(#REF!=\"Diferenciado\",$I$4=#REF!),BDI!$G$17,IF(AND(#REF!=\"Diferenciado\",$I$4=#REF!),BDI!$H$17,IF(#REF!=\"ZERO\",0))))),\"\")","v":{"$error":"#REF!"}},{"$f":"IF(ISNUMBER(F1031),ROUND(F1031*(1+H1031),2),\"\")","v":""},{"$f":"IF(ISNUMBER(F1031),ROUND(I1031*E1031,2),\"\")","v":""}]
["SF-01027","Perfil Cadeirinha Fechada – 50 x 35 mm","Material","m",0,"","",{"$f":"IF(A1032<>\"\",IF(AND(#REF!=\"Padrão\",$I$4=#REF!),BDI!$B$17,IF(AND(#REF!=\"Padrão\",$I$4=#REF!),BDI!$C$17,IF(AND(#REF!=\"Diferenciado\",$I$4=#REF!),BDI!$G$17,IF(AND(#REF!=\"Diferenciado\",$I$4=#REF!),BDI!$H$17,IF(#REF!=\"ZERO\",0))))),\"\")","v":{"$error":"#REF!"}},"",""]
["SF-01028","Perfil Cadeirinha Fechada – 30 x 25 mm","Material","m",0,"","",{"$f":"IF(A1033<>\"\",IF(AND(#REF!=\"Padrão\",$I$4=#REF!),BDI!$B$17,IF(AND(#REF!=\"Padrão\",$I$4=#REF!),BDI!$C$17,IF(AND(#REF!=\"Diferenciado\",$I$4=#REF!),BDI!$G$17,IF(AND(#REF!=\"Diferenciado\",$I$4=#REF!),BDI!$H$17,IF(#REF!=\"ZERO\",0))))),\"\")","v":{"$error":"#REF!"}},"",""]
["SF-01029","Locação de Container - Sanitário","Locação","mês ",0,{"$f":"OFFSET(INDEX(Composições!A:J,MATCH(Orçamentária!A1034,Composições!A:A,0),8),2,0)","v":619.875},0,{"$f":"IF(A1034<>\"\",IF(AND(#REF!=\"Padrão\",$I$4=#REF!),BDI!$B$17,IF(AND(#REF!=\"Padrão\",$I$4=#REF!),BDI!$C$17,IF(AND(#REF!=\"Diferenciado\",$I$4=#REF!),BDI!$G$17,IF(AND(#REF!=\"Diferenciado\",$I$4=#REF!),BDI!$H$17,IF(#REF!=\"ZERO\",0))))),\"\")","v":{"$error":"#REF!"}},{"$error":"#REF!"},{"$error":"#REF!"}]
["SF-01030","Locação de Container - Almoxarifado","Locação","mês ",0,{"$f":"OFFSET(INDEX(Composições!A:J,MATCH(Orçamentária!A1035,Composições!A:A,0),8),2,0)","v":387.41949999999997},0,{"$f":"IF(A1035<>\"\",IF(AND(#REF!=\"Padrão\",$I$4=#REF!),BDI!$B$17,IF(AND(#REF!=\"Padrão\",$I$4=#REF!),BDI!$C$17,IF(AND(#REF!=\"Diferenciado\",$I$4=#REF!),BDI!$G$17,IF(AND(#REF!=\"Diferenciado\",$I$4=#REF!),BDI!$H$17,IF(#REF!=\"ZERO\",0))))),\"\")","v":{"$error":"#REF!"}},{"$error":"#REF!"},{"$error":"#REF!"}]
["SF-01031","Placa de Obra","Serviço (Mat + MO)","m2",0,{"$f":"OFFSET(INDEX(Composições!A:J,MATCH(Orçamentária!A1036,Composições!A:A,0),8),2,0)","v":237.5},0,{"$f":"IF(A1036<>\"\",IF(AND(#REF!=\"Padrão\",$I$4=#REF!),BDI!$B$17,IF(AND(#REF!=\"Padrão\",$I$4=#REF!),BDI!$C$17,IF(AND(#REF!=\"Diferenciado\",$I$4=#REF!),BDI!$G$17,IF(AND(#REF!=\"Diferenciado\",$I$4=#REF!),BDI!$H$17,IF(#REF!=\"ZERO\",0))))),\"\")","v":{"$error":"#REF!"}},{"$error":"#REF!"},{"$error":"#REF!"}]
["SF-01032","Supervisor(a) de Obras e Manutenção – Apoio a Projetos de Obras – Arquitetura, civil e hidrossanitária","Mão-de-Obra","Profissional",0,"","",{"$f":"IF(A1037<>\"\",IF(AND(#REF!=\"Padrão\",$I$4=#REF!),BDI!$B$17,IF(AND(#REF!=\"Padrão\",$I$4=#REF!),BDI!$C$17,IF(AND(#REF!=\"Diferenciado\",$I$4=#REF!),BDI!$G$17,IF(AND(#REF!=\"Diferenciado\",$I$4=#REF!),BDI!$H$17,IF(#REF!=\"ZERO\",0))))),\"\")","v":{"$error":"#REF!"}},"",""]
["SF-01033","Supervisor de Obras e Manutenção - Apoio a Projetos e Obras - Eletromecânico","Mão-de-Obra","Profissional",0,"","",{"$f":"IF(A1038<>\"\",IF(AND(#REF!=\"Padrão\",$I$4=#REF!),BDI!$B$17,IF(AND(#REF!=\"Padrão\",$I$4=#REF!),BDI!$C$17,IF(AND(#REF!=\"Diferenciado\",$I$4=#REF!),BDI!$G$17,IF(AND(#REF!=\"Diferenciado\",$I$4=#REF!),BDI!$H$17,IF(#REF!=\"ZERO\",0))))),\"\")","v":{"$error":"#REF!"}},"",""]
["SF-01034","Supervisor de Obras e Manutenção – Apoio a projetos e obras - Orçamentos","Mão-de-Obra","Profissional",0,"","",{"$f":"IF(A1039<>\"\",IF(AND(#REF!=\"Padrão\",$I$4=#REF!),BDI!$B$17,IF(AND(#REF!=\"Padrão\",$I$4=#REF!),BDI!$C$17,IF(AND(#REF!=\"Diferenciado\",$I$4=#REF!),BDI!$G$17,IF(AND(#REF!=\"Diferenciado\",$I$4=#REF!),BDI!$H$17,IF(#REF!=\"ZERO\",0))))),\"\")","v":{"$error":"#REF!"}},"",""]
["SF-01035","Supervisor de Obras e Manutenção – Apoio de campo – Sistemas de climatização","Mão-de-Obra","Profissional",0,"","",{"$f":"IF(A1040<>\"\",IF(AND(#REF!=\"Padrão\",$I$4=#REF!),BDI!$B$17,IF(AND(#REF!=\"Padrão\",$I$4=#REF!),BDI!$C$17,IF(AND(#REF!=\"Diferenciado\",$I$4=#REF!),BDI!$G$17,IF(AND(#REF!=\"Diferenciado\",$I$4=#REF!),BDI!$H$17,IF(#REF!=\"ZERO\",0))))),\"\")","v":{"$error":"#REF!"}},"",""]
["SF-01036","Supervisor de Obras e Manutenção – Apoio de campo - Elevadores","Mão-de-Obra","Profissional",0,"","",{"$f":"IF(A1041<>\"\",IF(AND(#REF!=\"Padrão\",$I$4=#REF!),BDI!$B$17,IF(AND(#REF!=\"Padrão\",$I$4=#REF!),BDI!$C$17,IF(AND(#REF!=\"Diferenciado\",$I$4=#REF!),BDI!$G$17,IF(AND(#REF!=\"Diferenciado\",$I$4=#REF!),BDI!$H$17,IF(#REF!=\"ZERO\",0))))),\"\")","v":{"$error":"#REF!"}},"",""]
["SF-01037","Supervisor de Obras e Manutenção – Apoio de campo - Eletrotécnico","Mão-de-Obra","Profissional",0,"","",{"$f":"IF(A1042<>\"\",IF(AND(#REF!=\"Padrão\",$I$4=#REF!),BDI!$B$17,IF(AND(#REF!=\"Padrão\",$I$4=#REF!),BDI!$C$17,IF(AND(#REF!=\"Diferenciado\",$I$4=#REF!),BDI!$G$17,IF(AND(#REF!=\"Diferenciado\",$I$4=#REF!),BDI!$H$17,IF(#REF!=\"ZERO\",0))))),\"\")","v":{"$error":"#REF!"}},"",""]
["SF-01038","Supervisor de Obras e Manutenção – Apoio de Campo - Obras Civis","Mão-de-Obra","Profissional",0,"","",{"$f":"IF(A1043<>\"\",IF(AND(#REF!=\"Padrão\",$I$4=#REF!),BDI!$B$17,IF(AND(#REF!=\"Padrão\",$I$4=#REF!),BDI!$C$17,IF(AND(#REF!=\"Diferenciado\",$I$4=#REF!),BDI!$G$17,IF(AND(#REF!=\"Diferenciado\",$I$4=#REF!),BDI!$H$17,IF(#REF!=\"ZERO\",0))))),\"\")","v":{"$error":"#REF!"}},"",""]
["SF-01039","Supervisor de Obras e Manutenção – Apoio de Campo - Hidrossanitário","Mão-de-Obra","Profissional",0,"","",{"$f":"IF(A1044<>\"\",IF(AND(#REF!=\"Padrão\",$I$4=#REF!),BDI!$B$17,IF(AND(#REF!=\"Padrão\",$I$4=#REF!),BDI!$C$17,IF(AND(#REF!=\"Diferenciado\",$I$4=#REF!),BDI!$G$17,IF(AND(#REF!=\"Diferenciado\",$I$4=#REF!),BDI!$H$17,IF(#REF!=\"ZERO\",0))))),\"\")","v":{"$error":"#REF!"}},"",""]
["SF-01040","Supervisor de Obras e Manutenção – Apoio de campo – Planejamento","Mão-de-Obra","Profissional",0,"","",{"$f":"IF(A1045<>\"\",IF(AND(#REF!=\"Padrão\",$I$4=#REF!),BDI!$B$17,IF(AND(#REF!=\"Padrão\",$I$4=#REF!),BDI!$C$17,IF(AND(#REF!=\"Diferenciado\",$I$4=#REF!),BDI!$G$17,IF(AND(#REF!=\"Diferenciado\",$I$4=#REF!),BDI!$H$17,IF(#REF!=\"ZERO\",0))))),\"\")","v":{"$error":"#REF!"}},"",""]
["SF-01041","Supervisor de Obras e Manutenção – Apoio de campo – Segurança do Trabalho","Mão-de-Obra","Profissional",0,{"$f":"OFFSET(INDEX(Composições!A:J,MATCH(Orçamentária!A1046,Composições!A:A,0),8),2,0)","v":3829.9695588},0,{"$f":"IF(A1046<>\"\",IF(AND(#REF!=\"Padrão\",$I$4=#REF!),BDI!$B$17,IF(AND(#REF!=\"Padrão\",$I$4=#REF!),BDI!$C$17,IF(AND(#REF!=\"Diferenciado\",$I$4=#REF!),BDI!$G$17,IF(AND(#REF!=\"Diferenciado\",$I$4=#REF!),BDI!$H$17,IF(#REF!=\"ZERO\",0))))),\"\")","v":{"$error":"#REF!"}},{"$error":"#REF!"},{"$error":"#REF!"}]
["SF-01042","Máquina fotográfica digital","Equipamento/Ferramenta","pç",0,"","",{"$f":"IF(A1047<>\"\",IF(AND(#REF!=\"Padrão\",$I$4=#REF!),BDI!$B$17,IF(AND(#REF!=\"Padrão\",$I$4=#REF!),BDI!$C$17,IF(AND(#REF!=\"Diferenciado\",$I$4=#REF!),BDI!$G$17,IF(AND(#REF!=\"Diferenciado\",$I$4=#REF!),BDI!$H$17,IF(#REF!=\"ZERO\",0))))),\"\")","v":{"$error":"#REF!"}},"",""]
["SF-01043","Trena de 100m","Equipamento/Ferramenta","pç",0,"","",{"$f":"IF(A1048<>\"\",IF(AND(#REF!=\"Padrão\",$I$4=#REF!),BDI!$B$17,IF(AND(#REF!=\"Padrão\",$I$4=#REF!),BDI!$C$17,IF(AND(#REF!=\"Diferenciado\",$I$4=#REF!),BDI!$G$17,IF(AND(#REF!=\"Diferenciado\",$I$4=#REF!),BDI!$H$17,IF(#REF!=\"ZERO\",0))))),\"\")","v":{"$error":"#REF!"}},"",""]
["SF-01044","Paquímetro digital","Equipamento/Ferramenta","pç",0,"","",{"$f":"IF(A1049<>\"\",IF(AND(#REF!=\"Padrão\",$I$4=#REF!),BDI!$B$17,IF(AND(#REF!=\"Padrão\",$I$4=#REF!),BDI!$C$17,IF(AND(#REF!=\"Diferenciado\",$I$4=#REF!),BDI!$G$17,IF(AND(#REF!=\"Diferenciado\",$I$4=#REF!),BDI!$H$17,IF(#REF!=\"ZERO\",0))))),\"\")","v":{"$error":"#REF!"}},"",""]
["SF-01045","Nível laser","Equipamento/Ferramenta","pç",0,"","",{"$f":"IF(A1050<>\"\",IF(AND(#REF!=\"Padrão\",$I$4=#REF!),BDI!$B$17,IF(AND(#REF!=\"Padrão\",$I$4=#REF!),BDI!$C$17,IF(AND(#REF!=\"Diferenciado\",$I$4=#REF!),BDI!$G$17,IF(AND(#REF!=\"Diferenciado\",$I$4=#REF!),BDI!$H$17,IF(#REF!=\"ZERO\",0))))),\"\")","v":{"$error":"#REF!"}},"",""]
["SF-01046","Trena Laser (curto alcance)","Equipamento/Ferramenta","un",0,"","",{"$f":"IF(A1051<>\"\",IF(AND(#REF!=\"Padrão\",$I$4=#REF!),BDI!$B$17,IF(AND(#REF!=\"Padrão\",$I$4=#REF!),BDI!$C$17,IF(AND(#REF!=\"Diferenciado\",$I$4=#REF!),BDI!$G$17,IF(AND(#REF!=\"Diferenciado\",$I$4=#REF!),BDI!$H$17,IF(#REF!=\"ZERO\",0))))),\"\")","v":{"$error":"#REF!"}},"",""]
["SF-01047","Trena Laser (longo alcance)","Equipamento/Ferramenta","cj",0,"","",{"$f":"IF(A1052<>\"\",IF(AND(#REF!=\"Padrão\",$I$4=#REF!),BDI!$B$17,IF(AND(#REF!=\"Padrão\",$I$4=#REF!),BDI!$C$17,IF(AND(#REF!=\"Diferenciado\",$I$4=#REF!),BDI!$G$17,IF(AND(#REF!=\"Diferenciado\",$I$4=#REF!),BDI!$H$17,IF(#REF!=\"ZERO\",0))))),\"\")","v":{"$error":"#REF!"}},"",""]
["SF-01048","Tripé para trena laser","Equipamento/Ferramenta","cj",0,"","",{"$f":"IF(A1053<>\"\",IF(AND(#REF!=\"Padrão\",$I$4=#REF!),BDI!$B$17,IF(AND(#REF!=\"Padrão\",$I$4=#REF!),BDI!$C$17,IF(AND(#REF!=\"Diferenciado\",$I$4=#REF!),BDI!$G$17,IF(AND(#REF!=\"Diferenciado\",$I$4=#REF!),BDI!$H$17,IF(#REF!=\"ZERO\",0))))),\"\")","v":{"$error":"#REF!"}},"",""]
["SF-01049","Suporte universal para trena laser","Equipamento/Ferramenta","pç",0,"","",{"$f":"IF(A1054<>\"\",IF(AND(#REF!=\"Padrão\",$I$4=#REF!),BDI!$B$17,IF(AND(#REF!=\"Padrão\",$I$4=#REF!),BDI!$C$17,IF(AND(#REF!=\"Diferenciado\",$I$4=#REF!),BDI!$G$17,IF(AND(#REF!=\"Diferenciado\",$I$4=#REF!),BDI!$H$17,IF(#REF!=\"ZERO\",0))))),\"\")","v":{"$error":"#REF!"}},"",""]
["SF-01050","Detector Multigás","Equipamento/Ferramenta","pç",0,"","",{"$f":"IF(A1055<>\"\",IF(AND(#REF!=\"Padrão\",$I$4=#REF!),BDI!$B$17,IF(AND(#REF!=\"Padrão\",$I$4=#REF!),BDI!$C$17,IF(AND(#REF!=\"Diferenciado\",$I$4=#REF!),BDI!$G$17,IF(AND(#REF!=\"Diferenciado\",$I$4=#REF!),BDI!$H$17,IF(#REF!=\"ZERO\",0))))),\"\")","v":{"$error":"#REF!"}},"",""]
["SF-01051","Prancheta portátil A3","Equipamento/Ferramenta","pç",0,"","",{"$f":"IF(A1056<>\"\",IF(AND(#REF!=\"Padrão\",$I$4=#REF!),BDI!$B$17,IF(AND(#REF!=\"Padrão\",$I$4=#REF!),BDI!$C$17,IF(AND(#REF!=\"Diferenciado\",$I$4=#REF!),BDI!$G$17,IF(AND(#REF!=\"Diferenciado\",$I$4=#REF!),BDI!$H$17,IF(#REF!=\"ZERO\",0))))),\"\")","v":{"$error":"#REF!"}},"",""]
["SF-01052","Luva isolante","Equipamento/Ferramenta","par",0,"","",{"$f":"IF(A1057<>\"\",IF(AND(#REF!=\"Padrão\",$I$4=#REF!),BDI!$B$17,IF(AND(#REF!=\"Padrão\",$I$4=#REF!),BDI!$C$17,IF(AND(#REF!=\"Diferenciado\",$I$4=#REF!),BDI!$G$17,IF(AND(#REF!=\"Diferenciado\",$I$4=#REF!),BDI!$H$17,IF(#REF!=\"ZERO\",0))))),\"\")","v":{"$error":"#REF!"}},"",""]
["SF-01053","Reparo de placas de mármore com adesivo estrutural epóxi branco/transparente ","Serviço (Mat + MO)","m2",0,{"$f":"OFFSET(INDEX(Composições!A:J,MATCH(Orçamentária!A1058,Composições!A:A,0),8),2,0)","v":0.18420500000000001},0,{"$f":"IF(A1058<>\"\",IF(AND(#REF!=\"Padrão\",$I$4=#REF!),BDI!$B$17,IF(AND(#REF!=\"Padrão\",$I$4=#REF!),BDI!$C$17,IF(AND(#REF!=\"Diferenciado\",$I$4=#REF!),BDI!$G$17,IF(AND(#REF!=\"Diferenciado\",$I$4=#REF!),BDI!$H$17,IF(#REF!=\"ZERO\",0))))),\"\")","v":{"$error":"#REF!"}},{"$error":"#REF!"},{"$error":"#REF!"}]
["SF-01054","Perfil de chapa de aço galvanizado para esquadria (Anexo 1)","Serviço (Mat + MO)","m2",0,{"$f":"OFFSET(INDEX(Composições!A:J,MATCH(Orçamentária!A1059,Composições!A:A,0),8),2,0)","v":29.248348204078898},0,{"$f":"IF(A1059<>\"\",IF(AND(#REF!=\"Padrão\",$I$4=#REF!),BDI!$B$17,IF(AND(#REF!=\"Padrão\",$I$4=#REF!),BDI!$C$17,IF(AND(#REF!=\"Diferenciado\",$I$4=#REF!),BDI!$G$17,IF(AND(#REF!=\"Diferenciado\",$I$4=#REF!),BDI!$H$17,IF(#REF!=\"ZERO\",0))))),\"\")","v":{"$error":"#REF!"}},{"$error":"#REF!"},{"$error":"#REF!"}]
["SF-01055","Modelagem, análise estrutural da edificação em programa computacional de análise estrutural e laudo com parecer técnico - Bloco 15 (Espaço do Servidor)","Serviço (Mat + MO)","un",0,"","",{"$f":"IF(A1060<>\"\",IF(AND(#REF!=\"Padrão\",$I$4=#REF!),BDI!$B$17,IF(AND(#REF!=\"Padrão\",$I$4=#REF!),BDI!$C$17,IF(AND(#REF!=\"Diferenciado\",$I$4=#REF!),BDI!$G$17,IF(AND(#REF!=\"Diferenciado\",$I$4=#REF!),BDI!$H$17,IF(#REF!=\"ZERO\",0))))),\"\")","v":{"$error":"#REF!"}},"",""]
["SF-01056","Projeto de adaptação/modificação/reforço da estrutura e suas fundações para os novos usos - Bloco 15 (Espaço do Servidor)","Serviço (Mat + MO)","un",0,"","",{"$f":"IF(A1061<>\"\",IF(AND(#REF!=\"Padrão\",$I$4=#REF!),BDI!$B$17,IF(AND(#REF!=\"Padrão\",$I$4=#REF!),BDI!$C$17,IF(AND(#REF!=\"Diferenciado\",$I$4=#REF!),BDI!$G$17,IF(AND(#REF!=\"Diferenciado\",$I$4=#REF!),BDI!$H$17,IF(#REF!=\"ZERO\",0))))),\"\")","v":{"$error":"#REF!"}},"",""]
["SF-01057","Estrutura metálica em aço para o Bloco 15 (Espaço do Servidor)","Serviço (Mat + MO)","kg",0,"","",{"$f":"IF(A1062<>\"\",IF(AND(#REF!=\"Padrão\",$I$4=#REF!),BDI!$B$17,IF(AND(#REF!=\"Padrão\",$I$4=#REF!),BDI!$C$17,IF(AND(#REF!=\"Diferenciado\",$I$4=#REF!),BDI!$G$17,IF(AND(#REF!=\"Diferenciado\",$I$4=#REF!),BDI!$H$17,IF(#REF!=\"ZERO\",0))))),\"\")","v":{"$error":"#REF!"}},"",""]
["SF-01058","Projeto de distribuição de gás GLP","Serviço (Mat + MO)","un",0,"","",{"$f":"IF(A1063<>\"\",IF(AND(#REF!=\"Padrão\",$I$4=#REF!),BDI!$B$17,IF(AND(#REF!=\"Padrão\",$I$4=#REF!),BDI!$C$17,IF(AND(#REF!=\"Diferenciado\",$I$4=#REF!),BDI!$G$17,IF(AND(#REF!=\"Diferenciado\",$I$4=#REF!),BDI!$H$17,IF(#REF!=\"ZERO\",0))))),\"\")","v":{"$error":"#REF!"}},"",""]
["SF-01059","Granito Vermelho Brasília 20 mm para bancadas","Serviço (Mat + MO)","m2",0,{"$f":"OFFSET(INDEX(Composições!A:J,MATCH(Orçamentária!A1064,Composições!A:A,0),8),2,0)","v":98.539513799999995},0,{"$f":"IF(A1064<>\"\",IF(AND(#REF!=\"Padrão\",$I$4=#REF!),BDI!$B$17,IF(AND(#REF!=\"Padrão\",$I$4=#REF!),BDI!$C$17,IF(AND(#REF!=\"Diferenciado\",$I$4=#REF!),BDI!$G$17,IF(AND(#REF!=\"Diferenciado\",$I$4=#REF!),BDI!$H$17,IF(#REF!=\"ZERO\",0))))),\"\")","v":{"$error":"#REF!"}},{"$error":"#REF!"},{"$error":"#REF!"}]
["SF-01060","Porta em alumínio tipo veneziana","Serviço (Mat + MO)","m2",0,{"$f":"OFFSET(INDEX(Composições!A:J,MATCH(Orçamentária!A1065,Composições!A:A,0),8),2,0)","v":389.10328284999997},0,{"$f":"IF(A1065<>\"\",IF(AND(#REF!=\"Padrão\",$I$4=#REF!),BDI!$B$17,IF(AND(#REF!=\"Padrão\",$I$4=#REF!),BDI!$C$17,IF(AND(#REF!=\"Diferenciado\",$I$4=#REF!),BDI!$G$17,IF(AND(#REF!=\"Diferenciado\",$I$4=#REF!),BDI!$H$17,IF(#REF!=\"ZERO\",0))))),\"\")","v":{"$error":"#REF!"}},{"$error":"#REF!"},{"$error":"#REF!"}]
["SF-01061","Janela em alumínio, duas seções, 120x60cm","Serviço (Mat + MO)","m2",0,{"$f":"OFFSET(INDEX(Composições!A:J,MATCH(Orçamentária!A1066,Composições!A:A,0),8),2,0)","v":375.51055554999994},0,{"$f":"IF(A1066<>\"\",IF(AND(#REF!=\"Padrão\",$I$4=#REF!),BDI!$B$17,IF(AND(#REF!=\"Padrão\",$I$4=#REF!),BDI!$C$17,IF(AND(#REF!=\"Diferenciado\",$I$4=#REF!),BDI!$G$17,IF(AND(#REF!=\"Diferenciado\",$I$4=#REF!),BDI!$H$17,IF(#REF!=\"ZERO\",0))))),\"\")","v":{"$error":"#REF!"}},{"$error":"#REF!"},{"$error":"#REF!"}]
["SF-01062","Porta metálica de enrolar","Serviço (Mat + MO)","m2",0,{"$f":"OFFSET(INDEX(Composições!A:J,MATCH(Orçamentária!A1067,Composições!A:A,0),8),2,0)","v":256.56672879230007},0,{"$f":"IF(A1067<>\"\",IF(AND(#REF!=\"Padrão\",$I$4=#REF!),BDI!$B$17,IF(AND(#REF!=\"Padrão\",$I$4=#REF!),BDI!$C$17,IF(AND(#REF!=\"Diferenciado\",$I$4=#REF!),BDI!$G$17,IF(AND(#REF!=\"Diferenciado\",$I$4=#REF!),BDI!$H$17,IF(#REF!=\"ZERO\",0))))),\"\")","v":{"$error":"#REF!"}},{"$error":"#REF!"},{"$error":"#REF!"}]
["SF-01063","Medidor de Gás","Serviço (Mat + MO)","un",0,{"$f":"OFFSET(INDEX(Composições!A:J,MATCH(Orçamentária!A1068,Composições!A:A,0),8),2,0)","v":514.22693355000001},0,{"$f":"IF(A1068<>\"\",IF(AND(#REF!=\"Padrão\",$I$4=#REF!),BDI!$B$17,IF(AND(#REF!=\"Padrão\",$I$4=#REF!),BDI!$C$17,IF(AND(#REF!=\"Diferenciado\",$I$4=#REF!),BDI!$G$17,IF(AND(#REF!=\"Diferenciado\",$I$4=#REF!),BDI!$H$17,IF(#REF!=\"ZERO\",0))))),\"\")","v":{"$error":"#REF!"}},{"$error":"#REF!"},{"$error":"#REF!"}]
["SF-01064","Registro Esfera para Gás 3/4”","Serviço (Mat + MO)","un",0,{"$f":"OFFSET(INDEX(Composições!A:J,MATCH(Orçamentária!A1069,Composições!A:A,0),8),2,0)","v":7.8610505000000002},0,{"$f":"IF(A1069<>\"\",IF(AND(#REF!=\"Padrão\",$I$4=#REF!),BDI!$B$17,IF(AND(#REF!=\"Padrão\",$I$4=#REF!),BDI!$C$17,IF(AND(#REF!=\"Diferenciado\",$I$4=#REF!),BDI!$G$17,IF(AND(#REF!=\"Diferenciado\",$I$4=#REF!),BDI!$H$17,IF(#REF!=\"ZERO\",0))))),\"\")","v":{"$error":"#REF!"}},{"$error":"#REF!"},{"$error":"#REF!"}]
["SF-01065","Placa de Concreto Pré-Moldado 15 Mpa","Serviço (Mat + MO)","m3",0,{"$f":"OFFSET(INDEX(Composições!A:J,MATCH(Orçamentária!A1070,Composições!A:A,0),8),2,0)","v":2616.2770823566548},0,{"$f":"IF(A1070<>\"\",IF(AND(#REF!=\"Padrão\",$I$4=#REF!),BDI!$B$17,IF(AND(#REF!=\"Padrão\",$I$4=#REF!),BDI!$C$17,IF(AND(#REF!=\"Diferenciado\",$I$4=#REF!),BDI!$G$17,IF(AND(#REF!=\"Diferenciado\",$I$4=#REF!),BDI!$H$17,IF(#REF!=\"ZERO\",0))))),\"\")","v":{"$error":"#REF!"}},{"$error":"#REF!"},{"$error":"#REF!"}]
["SF-01066","Eletroduto PEAD 3”","Serviço (Mat + MO)","m",0,{"$f":"OFFSET(INDEX(Composições!A:J,MATCH(Orçamentária!A1071,Composições!A:A,0),8),2,0)","v":15.814764},0,{"$f":"IF(A1071<>\"\",IF(AND(#REF!=\"Padrão\",$I$4=#REF!),BDI!$B$17,IF(AND(#REF!=\"Padrão\",$I$4=#REF!),BDI!$C$17,IF(AND(#REF!=\"Diferenciado\",$I$4=#REF!),BDI!$G$17,IF(AND(#REF!=\"Diferenciado\",$I$4=#REF!),BDI!$H$17,IF(#REF!=\"ZERO\",0))))),\"\")","v":{"$error":"#REF!"}},{"$error":"#REF!"},{"$error":"#REF!"}]
["SF-01067","Caixa de Proteção para Alimentação de Gás","Serviço (Mat + MO)","un",0,"","",{"$f":"IF(A1072<>\"\",IF(AND(#REF!=\"Padrão\",$I$4=#REF!),BDI!$B$17,IF(AND(#REF!=\"Padrão\",$I$4=#REF!),BDI!$C$17,IF(AND(#REF!=\"Diferenciado\",$I$4=#REF!),BDI!$G$17,IF(AND(#REF!=\"Diferenciado\",$I$4=#REF!),BDI!$H$17,IF(#REF!=\"ZERO\",0))))),\"\")","v":{"$error":"#REF!"}},"",""]
["SF-01068","Eletroduto de aço galvanizado de 3”","Serviço (Mat + MO)","m",0,{"$f":"OFFSET(INDEX(Composições!A:J,MATCH(Orçamentária!A1073,Composições!A:A,0),8),2,0)","v":39.634},0,{"$f":"IF(A1073<>\"\",IF(AND(#REF!=\"Padrão\",$I$4=#REF!),BDI!$B$17,IF(AND(#REF!=\"Padrão\",$I$4=#REF!),BDI!$C$17,IF(AND(#REF!=\"Diferenciado\",$I$4=#REF!),BDI!$G$17,IF(AND(#REF!=\"Diferenciado\",$I$4=#REF!),BDI!$H$17,IF(#REF!=\"ZERO\",0))))),\"\")","v":{"$error":"#REF!"}},{"$error":"#REF!"},{"$error":"#REF!"}]
["SF-01069","Grelha reta para ralo","Serviço (Mat + MO)","m",0,{"$f":"OFFSET(INDEX(Composições!A:J,MATCH(Orçamentária!A1074,Composições!A:A,0),8),2,0)","v":25.727330000000002},0,{"$f":"IF(A1074<>\"\",IF(AND(#REF!=\"Padrão\",$I$4=#REF!),BDI!$B$17,IF(AND(#REF!=\"Padrão\",$I$4=#REF!),BDI!$C$17,IF(AND(#REF!=\"Diferenciado\",$I$4=#REF!),BDI!$G$17,IF(AND(#REF!=\"Diferenciado\",$I$4=#REF!),BDI!$H$17,IF(#REF!=\"ZERO\",0))))),\"\")","v":{"$error":"#REF!"}},{"$error":"#REF!"},{"$error":"#REF!"}]
["SF-01070","Granito Vermelho Brasília para soleira e peitoril","Serviço (Mat + MO)","m2",0,{"$f":"OFFSET(INDEX(Composições!A:J,MATCH(Orçamentária!A1075,Composições!A:A,0),8),2,0)","v":108.13556735000002},0,{"$f":"IF(A1075<>\"\",IF(AND(#REF!=\"Padrão\",$I$4=#REF!),BDI!$B$17,IF(AND(#REF!=\"Padrão\",$I$4=#REF!),BDI!$C$17,IF(AND(#REF!=\"Diferenciado\",$I$4=#REF!),BDI!$G$17,IF(AND(#REF!=\"Diferenciado\",$I$4=#REF!),BDI!$H$17,IF(#REF!=\"ZERO\",0))))),\"\")","v":{"$error":"#REF!"}},{"$error":"#REF!"},{"$error":"#REF!"}]
["SF-01071","Luminária LED redonda de embutir","Serviço (Mat + MO)","un",0,{"$f":"OFFSET(INDEX(Composições!A:J,MATCH(Orçamentária!A1076,Composições!A:A,0),8),2,0)","v":10.477534800000001},0,{"$f":"IF(A1076<>\"\",IF(AND(#REF!=\"Padrão\",$I$4=#REF!),BDI!$B$17,IF(AND(#REF!=\"Padrão\",$I$4=#REF!),BDI!$C$17,IF(AND(#REF!=\"Diferenciado\",$I$4=#REF!),BDI!$G$17,IF(AND(#REF!=\"Diferenciado\",$I$4=#REF!),BDI!$H$17,IF(#REF!=\"ZERO\",0))))),\"\")","v":{"$error":"#REF!"}},{"$error":"#REF!"},{"$error":"#REF!"}]
["SF-01072","Piso tátil de borracha","Serviço (Mat + MO)","m2",0,{"$f":"OFFSET(INDEX(Composições!A:J,MATCH(Orçamentária!A1077,Composições!A:A,0),8),2,0)","v":21.93718625},0,{"$f":"IF(A1077<>\"\",IF(AND(#REF!=\"Padrão\",$I$4=#REF!),BDI!$B$17,IF(AND(#REF!=\"Padrão\",$I$4=#REF!),BDI!$C$17,IF(AND(#REF!=\"Diferenciado\",$I$4=#REF!),BDI!$G$17,IF(AND(#REF!=\"Diferenciado\",$I$4=#REF!),BDI!$H$17,IF(#REF!=\"ZERO\",0))))),\"\")","v":{"$error":"#REF!"}},{"$error":"#REF!"},{"$error":"#REF!"}]
["SF-01073","Granito Vermelho Brasília 20 mm para divisória","Serviço (Mat + MO)","m2",0,{"$f":"OFFSET(INDEX(Composições!A:J,MATCH(Orçamentária!A1078,Composições!A:A,0),8),2,0)","v":129.31216322391074},0,{"$f":"IF(A1078<>\"\",IF(AND(#REF!=\"Padrão\",$I$4=#REF!),BDI!$B$17,IF(AND(#REF!=\"Padrão\",$I$4=#REF!),BDI!$C$17,IF(AND(#REF!=\"Diferenciado\",$I$4=#REF!),BDI!$G$17,IF(AND(#REF!=\"Diferenciado\",$I$4=#REF!),BDI!$H$17,IF(#REF!=\"ZERO\",0))))),\"\")","v":{"$error":"#REF!"}},{"$error":"#REF!"},{"$error":"#REF!"}]
["SF-01074","Tampa em ferro fundido 20x20 cm","Serviço (Mat + MO)","un",0,{"$f":"OFFSET(INDEX(Composições!A:J,MATCH(Orçamentária!A1079,Composições!A:A,0),8),2,0)","v":129.66792420108899},0,{"$f":"IF(A1079<>\"\",IF(AND(#REF!=\"Padrão\",$I$4=#REF!),BDI!$B$17,IF(AND(#REF!=\"Padrão\",$I$4=#REF!),BDI!$C$17,IF(AND(#REF!=\"Diferenciado\",$I$4=#REF!),BDI!$G$17,IF(AND(#REF!=\"Diferenciado\",$I$4=#REF!),BDI!$H$17,IF(#REF!=\"ZERO\",0))))),\"\")","v":{"$error":"#REF!"}},{"$error":"#REF!"},{"$error":"#REF!"}]
["SF-01075","Sondagem","Serviço (Mat + MO)","un",0,"","",{"$f":"IF(A1080<>\"\",IF(AND(#REF!=\"Padrão\",$I$4=#REF!),BDI!$B$17,IF(AND(#REF!=\"Padrão\",$I$4=#REF!),BDI!$C$17,IF(AND(#REF!=\"Diferenciado\",$I$4=#REF!),BDI!$G$17,IF(AND(#REF!=\"Diferenciado\",$I$4=#REF!),BDI!$H$17,IF(#REF!=\"ZERO\",0))))),\"\")","v":{"$error":"#REF!"}},"",""]
["SF-01076","Cerâmica para revestimento de superfícies internas ou externas – Linha GAIL","Serviço (Mat + MO)","m2",0,{"$f":"OFFSET(INDEX(Composições!A:J,MATCH(Orçamentária!A1081,Composições!A:A,0),8),2,0)","v":25.792880000000004},0,{"$f":"IF(A1081<>\"\",IF(AND(#REF!=\"Padrão\",$I$4=#REF!),BDI!$B$17,IF(AND(#REF!=\"Padrão\",$I$4=#REF!),BDI!$C$17,IF(AND(#REF!=\"Diferenciado\",$I$4=#REF!),BDI!$G$17,IF(AND(#REF!=\"Diferenciado\",$I$4=#REF!),BDI!$H$17,IF(#REF!=\"ZERO\",0))))),\"\")","v":{"$error":"#REF!"}},{"$error":"#REF!"},{"$error":"#REF!"}]
["SF-01077","Aterro de vala com areia média e compactação mecanizada","Serviço (Mat + MO)","m3",0,{"$f":"OFFSET(INDEX(Composições!A:J,MATCH(Orçamentária!A1082,Composições!A:A,0),8),2,0)","v":175.35477387499998},0,{"$f":"IF(A1082<>\"\",IF(AND(#REF!=\"Padrão\",$I$4=#REF!),BDI!$B$17,IF(AND(#REF!=\"Padrão\",$I$4=#REF!),BDI!$C$17,IF(AND(#REF!=\"Diferenciado\",$I$4=#REF!),BDI!$G$17,IF(AND(#REF!=\"Diferenciado\",$I$4=#REF!),BDI!$H$17,IF(#REF!=\"ZERO\",0))))),\"\")","v":{"$error":"#REF!"}},{"$error":"#REF!"},{"$error":"#REF!"}]
["SF-01078","Guarda-corpo panorâmico","Serviço (Mat + MO)","m",0,{"$f":"OFFSET(INDEX(Composições!A:J,MATCH(Orçamentária!A1083,Composições!A:A,0),8),2,0)","v":823.34496449999983},0,{"$f":"IF(A1083<>\"\",IF(AND(#REF!=\"Padrão\",$I$4=#REF!),BDI!$B$17,IF(AND(#REF!=\"Padrão\",$I$4=#REF!),BDI!$C$17,IF(AND(#REF!=\"Diferenciado\",$I$4=#REF!),BDI!$G$17,IF(AND(#REF!=\"Diferenciado\",$I$4=#REF!),BDI!$H$17,IF(#REF!=\"ZERO\",0))))),\"\")","v":{"$error":"#REF!"}},{"$error":"#REF!"},{"$error":"#REF!"}]
["SF-01079","Divisória Naval com painel liso cego e bandeira","Serviço (Mat + MO)","m2",0,"","",{"$f":"IF(A1084<>\"\",IF(AND(#REF!=\"Padrão\",$I$4=#REF!),BDI!$B$17,IF(AND(#REF!=\"Padrão\",$I$4=#REF!),BDI!$C$17,IF(AND(#REF!=\"Diferenciado\",$I$4=#REF!),BDI!$G$17,IF(AND(#REF!=\"Diferenciado\",$I$4=#REF!),BDI!$H$17,IF(#REF!=\"ZERO\",0))))),\"\")","v":{"$error":"#REF!"}},"",""]
["SF-01080","Perfil “U” em aço 25 x 25mm","Material","m",0,{"$f":"OFFSET(INDEX(Composições!A:J,MATCH(Orçamentária!A1085,Composições!A:A,0),8),2,0)","v":2.0539000000000001},0,{"$f":"IF(A1085<>\"\",IF(AND(#REF!=\"Padrão\",$I$4=#REF!),BDI!$B$17,IF(AND(#REF!=\"Padrão\",$I$4=#REF!),BDI!$C$17,IF(AND(#REF!=\"Diferenciado\",$I$4=#REF!),BDI!$G$17,IF(AND(#REF!=\"Diferenciado\",$I$4=#REF!),BDI!$H$17,IF(#REF!=\"ZERO\",0))))),\"\")","v":{"$error":"#REF!"}},{"$error":"#REF!"},{"$error":"#REF!"}]
["SF-01081","Tubo retangular em aço 100 x 50mm","Material","m",0,"","",{"$f":"IF(A1086<>\"\",IF(AND(#REF!=\"Padrão\",$I$4=#REF!),BDI!$B$17,IF(AND(#REF!=\"Padrão\",$I$4=#REF!),BDI!$C$17,IF(AND(#REF!=\"Diferenciado\",$I$4=#REF!),BDI!$G$17,IF(AND(#REF!=\"Diferenciado\",$I$4=#REF!),BDI!$H$17,IF(#REF!=\"ZERO\",0))))),\"\")","v":{"$error":"#REF!"}},"",""]
["SF-01082","Alimentação para mão-de-obra indireta","Serviço (Mat + MO)","h",0,{"$f":"OFFSET(INDEX(Composições!A:J,MATCH(Orçamentária!A1087,Composições!A:A,0),8),2,0)","v":2.4889999999999999},0,{"$f":"IF(A1087<>\"\",IF(AND(#REF!=\"Padrão\",$I$4=#REF!),BDI!$B$17,IF(AND(#REF!=\"Padrão\",$I$4=#REF!),BDI!$C$17,IF(AND(#REF!=\"Diferenciado\",$I$4=#REF!),BDI!$G$17,IF(AND(#REF!=\"Diferenciado\",$I$4=#REF!),BDI!$H$17,IF(#REF!=\"ZERO\",0))))),\"\")","v":{"$error":"#REF!"}},{"$error":"#REF!"},{"$error":"#REF!"}]
["SF-01083","Transporte para mão-de-obra indireta","Serviço (Mat + MO)","h",0,{"$f":"OFFSET(INDEX(Composições!A:J,MATCH(Orçamentária!A1088,Composições!A:A,0),8),2,0)","v":1.3566},0,{"$f":"IF(A1088<>\"\",IF(AND(#REF!=\"Padrão\",$I$4=#REF!),BDI!$B$17,IF(AND(#REF!=\"Padrão\",$I$4=#REF!),BDI!$C$17,IF(AND(#REF!=\"Diferenciado\",$I$4=#REF!),BDI!$G$17,IF(AND(#REF!=\"Diferenciado\",$I$4=#REF!),BDI!$H$17,IF(#REF!=\"ZERO\",0))))),\"\")","v":{"$error":"#REF!"}},{"$error":"#REF!"},{"$error":"#REF!"}]
["SF-01084","Transporte de andaime","Serviço (Mat + MO)","un",0,"","",{"$f":"IF(A1089<>\"\",IF(AND(#REF!=\"Padrão\",$I$4=#REF!),BDI!$B$17,IF(AND(#REF!=\"Padrão\",$I$4=#REF!),BDI!$C$17,IF(AND(#REF!=\"Diferenciado\",$I$4=#REF!),BDI!$G$17,IF(AND(#REF!=\"Diferenciado\",$I$4=#REF!),BDI!$H$17,IF(#REF!=\"ZERO\",0))))),\"\")","v":{"$error":"#REF!"}},"",""]
["SF-01085","Transporte de Container","Serviço (Mat + MO)","un",0,"","",{"$f":"IF(A1090<>\"\",IF(AND(#REF!=\"Padrão\",$I$4=#REF!),BDI!$B$17,IF(AND(#REF!=\"Padrão\",$I$4=#REF!),BDI!$C$17,IF(AND(#REF!=\"Diferenciado\",$I$4=#REF!),BDI!$G$17,IF(AND(#REF!=\"Diferenciado\",$I$4=#REF!),BDI!$H$17,IF(#REF!=\"ZERO\",0))))),\"\")","v":{"$error":"#REF!"}},"",""]
["SF-01086","Coifa Convencional Tipo Caixa para Cozinha Industrial - Bloco 15 (Espaço do Servidor)","Serviço (Mat + MO)","un",0,"","",{"$f":"IF(A1091<>\"\",IF(AND(#REF!=\"Padrão\",$I$4=#REF!),BDI!$B$17,IF(AND(#REF!=\"Padrão\",$I$4=#REF!),BDI!$C$17,IF(AND(#REF!=\"Diferenciado\",$I$4=#REF!),BDI!$G$17,IF(AND(#REF!=\"Diferenciado\",$I$4=#REF!),BDI!$H$17,IF(#REF!=\"ZERO\",0))))),\"\")","v":{"$error":"#REF!"}},"",""]
["SF-01087","Puxador com fecho embutido (punho) para janela metálica","Serviço (Mat + MO)","par",0,"","",{"$f":"IF(A1092<>\"\",IF(AND(#REF!=\"Padrão\",$I$4=#REF!),BDI!$B$17,IF(AND(#REF!=\"Padrão\",$I$4=#REF!),BDI!$C$17,IF(AND(#REF!=\"Diferenciado\",$I$4=#REF!),BDI!$G$17,IF(AND(#REF!=\"Diferenciado\",$I$4=#REF!),BDI!$H$17,IF(#REF!=\"ZERO\",0))))),\"\")","v":{"$error":"#REF!"}},"",""]
["SF-01088","Cotovelo bolsa–bolsa 90° para solda em tubulação de cobre diâmetro de 1 3/8\"","Serviço (Mat + MO)","un",0,{"$f":"OFFSET(INDEX(Composições!A:J,MATCH(Orçamentária!A1093,Composições!A:A,0),8),2,0)","v":33.4851326},0,{"$f":"IF(A1093<>\"\",IF(AND(#REF!=\"Padrão\",$I$4=#REF!),BDI!$B$17,IF(AND(#REF!=\"Padrão\",$I$4=#REF!),BDI!$C$17,IF(AND(#REF!=\"Diferenciado\",$I$4=#REF!),BDI!$G$17,IF(AND(#REF!=\"Diferenciado\",$I$4=#REF!),BDI!$H$17,IF(#REF!=\"ZERO\",0))))),\"\")","v":{"$error":"#REF!"}},{"$error":"#REF!"},{"$error":"#REF!"}]
["SF-01089","Cotovelo bolsa–bolsa 90° para solda em tubulação de cobre diâmetro de 1 5/8\"","Serviço (Mat + MO)","un",0,{"$f":"OFFSET(INDEX(Composições!A:J,MATCH(Orçamentária!A1094,Composições!A:A,0),8),2,0)","v":50.544340550000001},0,{"$f":"IF(A1094<>\"\",IF(AND(#REF!=\"Padrão\",$I$4=#REF!),BDI!$B$17,IF(AND(#REF!=\"Padrão\",$I$4=#REF!),BDI!$C$17,IF(AND(#REF!=\"Diferenciado\",$I$4=#REF!),BDI!$G$17,IF(AND(#REF!=\"Diferenciado\",$I$4=#REF!),BDI!$H$17,IF(#REF!=\"ZERO\",0))))),\"\")","v":{"$error":"#REF!"}},{"$error":"#REF!"},{"$error":"#REF!"}]
["SF-01090","Cotovelo bolsa–bolsa 90° para solda em tubulação de cobre diâmetro de 7/8\"","Serviço (Mat + MO)","un",0,{"$f":"OFFSET(INDEX(Composições!A:J,MATCH(Orçamentária!A1095,Composições!A:A,0),8),2,0)","v":12.687431450000002},{"$f":"IF(ISNUMBER(F1095),ROUND(E1095*F1095,2),\"\")","v":0},{"$f":"IF(A1095<>\"\",IF(AND(#REF!=\"Padrão\",$I$4=#REF!),BDI!$B$17,IF(AND(#REF!=\"Padrão\",$I$4=#REF!),BDI!$C$17,IF(AND(#REF!=\"Diferenciado\",$I$4=#REF!),BDI!$G$17,IF(AND(#REF!=\"Diferenciado\",$I$4=#REF!),BDI!$H$17,IF(#REF!=\"ZERO\",0))))),\"\")","v":{"$error":"#REF!"}},{"$f":"IF(ISNUMBER(F1095),ROUND(F1095*(1+H1095),2),\"\")","v":{"$error":"#REF!"}},{"$f":"IF(ISNUMBER(F1095),ROUND(I1095*E1095,2),\"\")","v":{"$error":"#REF!"}}]
["SF-01091","Painel metálico para retorno","Serviço (Mat + MO)","un",0,"","",{"$f":"IF(A1096<>\"\",IF(AND(#REF!=\"Padrão\",$I$4=#REF!),BDI!$B$17,IF(AND(#REF!=\"Padrão\",$I$4=#REF!),BDI!$C$17,IF(AND(#REF!=\"Diferenciado\",$I$4=#REF!),BDI!$G$17,IF(AND(#REF!=\"Diferenciado\",$I$4=#REF!),BDI!$H$17,IF(#REF!=\"ZERO\",0))))),\"\")","v":{"$error":"#REF!"}},"",""]
["SF-01092","Luva bolsa–bolsa para solda em tubulação de cobre diâmetro de 1 3/8\"","Serviço (Mat + MO)","un",0,{"$f":"OFFSET(INDEX(Composições!A:J,MATCH(Orçamentária!A1097,Composições!A:A,0),8),2,0)","v":21.824547599999995},0,{"$f":"IF(A1097<>\"\",IF(AND(#REF!=\"Padrão\",$I$4=#REF!),BDI!$B$17,IF(AND(#REF!=\"Padrão\",$I$4=#REF!),BDI!$C$17,IF(AND(#REF!=\"Diferenciado\",$I$4=#REF!),BDI!$G$17,IF(AND(#REF!=\"Diferenciado\",$I$4=#REF!),BDI!$H$17,IF(#REF!=\"ZERO\",0))))),\"\")","v":{"$error":"#REF!"}},{"$error":"#REF!"},{"$error":"#REF!"}]
["SF-01093","Luva bolsa–bolsa para solda em tubulação de cobre diâmetro de 1 5/8\"","Serviço (Mat + MO)","un",0,{"$f":"OFFSET(INDEX(Composições!A:J,MATCH(Orçamentária!A1098,Composições!A:A,0),8),2,0)","v":28.962164550000001},0,{"$f":"IF(A1098<>\"\",IF(AND(#REF!=\"Padrão\",$I$4=#REF!),BDI!$B$17,IF(AND(#REF!=\"Padrão\",$I$4=#REF!),BDI!$C$17,IF(AND(#REF!=\"Diferenciado\",$I$4=#REF!),BDI!$G$17,IF(AND(#REF!=\"Diferenciado\",$I$4=#REF!),BDI!$H$17,IF(#REF!=\"ZERO\",0))))),\"\")","v":{"$error":"#REF!"}},{"$error":"#REF!"},{"$error":"#REF!"}]
["SF-01094","Luva bolsa–bolsa para solda em tubulação de cobre diâmetro de 7/8\"","Serviço (Mat + MO)","un",0,{"$f":"OFFSET(INDEX(Composições!A:J,MATCH(Orçamentária!A1099,Composições!A:A,0),8),2,0)","v":7.3700154499999995},0,{"$f":"IF(A1099<>\"\",IF(AND(#REF!=\"Padrão\",$I$4=#REF!),BDI!$B$17,IF(AND(#REF!=\"Padrão\",$I$4=#REF!),BDI!$C$17,IF(AND(#REF!=\"Diferenciado\",$I$4=#REF!),BDI!$G$17,IF(AND(#REF!=\"Diferenciado\",$I$4=#REF!),BDI!$H$17,IF(#REF!=\"ZERO\",0))))),\"\")","v":{"$error":"#REF!"}},{"$error":"#REF!"},{"$error":"#REF!"}]
["SF-01095","Ar condicionado unitário com compressor montado em condensadora remota, capacidade nominal 49 kW","Serviço (Mat + MO)","un",0,"","",{"$f":"IF(A1100<>\"\",IF(AND(#REF!=\"Padrão\",$I$4=#REF!),BDI!$B$17,IF(AND(#REF!=\"Padrão\",$I$4=#REF!),BDI!$C$17,IF(AND(#REF!=\"Diferenciado\",$I$4=#REF!),BDI!$G$17,IF(AND(#REF!=\"Diferenciado\",$I$4=#REF!),BDI!$H$17,IF(#REF!=\"ZERO\",0))))),\"\")","v":{"$error":"#REF!"}},"",""]
["SF-01096","Ar condicionado unitário com compressor montado em condensadora remota, capacidade nominal 64 kW","Serviço (Mat + MO)","un",0,"","",{"$f":"IF(A1101<>\"\",IF(AND(#REF!=\"Padrão\",$I$4=#REF!),BDI!$B$17,IF(AND(#REF!=\"Padrão\",$I$4=#REF!),BDI!$C$17,IF(AND(#REF!=\"Diferenciado\",$I$4=#REF!),BDI!$G$17,IF(AND(#REF!=\"Diferenciado\",$I$4=#REF!),BDI!$H$17,IF(#REF!=\"ZERO\",0))))),\"\")","v":{"$error":"#REF!"}},"",""]
["SF-01097","Tubo de cobre rígido 1 3/8\"","Serviço (Mat + MO)","m",0,{"$f":"OFFSET(INDEX(Composições!A:J,MATCH(Orçamentária!A1102,Composições!A:A,0),8),2,0)","v":103.20342764999998},0,{"$f":"IF(A1102<>\"\",IF(AND(#REF!=\"Padrão\",$I$4=#REF!),BDI!$B$17,IF(AND(#REF!=\"Padrão\",$I$4=#REF!),BDI!$C$17,IF(AND(#REF!=\"Diferenciado\",$I$4=#REF!),BDI!$G$17,IF(AND(#REF!=\"Diferenciado\",$I$4=#REF!),BDI!$H$17,IF(#REF!=\"ZERO\",0))))),\"\")","v":{"$error":"#REF!"}},{"$error":"#REF!"},{"$error":"#REF!"}]
["SF-01098","Tubo de cobre rígido 1 5/8\"","Serviço (Mat + MO)","m",0,{"$f":"OFFSET(INDEX(Composições!A:J,MATCH(Orçamentária!A1103,Composições!A:A,0),8),2,0)","v":124.03710624999997},0,{"$f":"IF(A1103<>\"\",IF(AND(#REF!=\"Padrão\",$I$4=#REF!),BDI!$B$17,IF(AND(#REF!=\"Padrão\",$I$4=#REF!),BDI!$C$17,IF(AND(#REF!=\"Diferenciado\",$I$4=#REF!),BDI!$G$17,IF(AND(#REF!=\"Diferenciado\",$I$4=#REF!),BDI!$H$17,IF(#REF!=\"ZERO\",0))))),\"\")","v":{"$error":"#REF!"}},{"$error":"#REF!"},{"$error":"#REF!"}]
["SF-01099","Porta metálica dupla de giro com dimensões 2,00 x 2,12 m","Serviço (Mat + MO)","un",0,"","",{"$f":"IF(A1104<>\"\",IF(AND(#REF!=\"Padrão\",$I$4=#REF!),BDI!$B$17,IF(AND(#REF!=\"Padrão\",$I$4=#REF!),BDI!$C$17,IF(AND(#REF!=\"Diferenciado\",$I$4=#REF!),BDI!$G$17,IF(AND(#REF!=\"Diferenciado\",$I$4=#REF!),BDI!$H$17,IF(#REF!=\"ZERO\",0))))),\"\")","v":{"$error":"#REF!"}},"",""]
["SF-01100","Conjunto de porta metálica de giro com dimensões 0,80 x 2,10m e painel fixo","Serviço (Mat + MO)","un",0,"","",{"$f":"IF(A1105<>\"\",IF(AND(#REF!=\"Padrão\",$I$4=#REF!),BDI!$B$17,IF(AND(#REF!=\"Padrão\",$I$4=#REF!),BDI!$C$17,IF(AND(#REF!=\"Diferenciado\",$I$4=#REF!),BDI!$G$17,IF(AND(#REF!=\"Diferenciado\",$I$4=#REF!),BDI!$H$17,IF(#REF!=\"ZERO\",0))))),\"\")","v":{"$error":"#REF!"}},"",""]
["SF-01101","Eletroduto flexível metálico com capa de PVC 1 1/2\"","Serviço (Mat + MO)","m",0,{"$f":"OFFSET(INDEX(Composições!A:J,MATCH(Orçamentária!A1106,Composições!A:A,0),8),2,0)","v":28.193710499999998},0,{"$f":"IF(A1106<>\"\",IF(AND(#REF!=\"Padrão\",$I$4=#REF!),BDI!$B$17,IF(AND(#REF!=\"Padrão\",$I$4=#REF!),BDI!$C$17,IF(AND(#REF!=\"Diferenciado\",$I$4=#REF!),BDI!$G$17,IF(AND(#REF!=\"Diferenciado\",$I$4=#REF!),BDI!$H$17,IF(#REF!=\"ZERO\",0))))),\"\")","v":{"$error":"#REF!"}},{"$error":"#REF!"},{"$error":"#REF!"}]
["SF-01102","Técnico(a) em Edificações - Planejamento de Manutenção","Mão-de-Obra","Profissional",0,{"$f":"OFFSET(INDEX(Composições!A:J,MATCH(Orçamentária!A1107,Composições!A:A,0),8),2,0)","v":1723.9577799999997},0,{"$f":"IF(A1107<>\"\",IF(AND(#REF!=\"Padrão\",$I$4=#REF!),BDI!$B$17,IF(AND(#REF!=\"Padrão\",$I$4=#REF!),BDI!$C$17,IF(AND(#REF!=\"Diferenciado\",$I$4=#REF!),BDI!$G$17,IF(AND(#REF!=\"Diferenciado\",$I$4=#REF!),BDI!$H$17,IF(#REF!=\"ZERO\",0))))),\"\")","v":{"$error":"#REF!"}},{"$error":"#REF!"},{"$error":"#REF!"}]
["SF-01103","Locação de Retroescavadeira com Pá Carregadeira sobre Rodas","Locação","dia",0,"","",{"$f":"IF(A1108<>\"\",IF(AND(#REF!=\"Padrão\",$I$4=#REF!),BDI!$B$17,IF(AND(#REF!=\"Padrão\",$I$4=#REF!),BDI!$C$17,IF(AND(#REF!=\"Diferenciado\",$I$4=#REF!),BDI!$G$17,IF(AND(#REF!=\"Diferenciado\",$I$4=#REF!),BDI!$H$17,IF(#REF!=\"ZERO\",0))))),\"\")","v":{"$error":"#REF!"}},"",""]
["SF-01104","Projeto de Impermeabilização","Serviço (Mat + MO)","m2",0,{"$f":"OFFSET(INDEX(Composições!A:J,MATCH(Orçamentária!A1109,Composições!A:A,0),8),2,0)","v":9.5123499999999996},0,{"$f":"IF(A1109<>\"\",IF(AND(#REF!=\"Padrão\",$I$4=#REF!),BDI!$B$17,IF(AND(#REF!=\"Padrão\",$I$4=#REF!),BDI!$C$17,IF(AND(#REF!=\"Diferenciado\",$I$4=#REF!),BDI!$G$17,IF(AND(#REF!=\"Diferenciado\",$I$4=#REF!),BDI!$H$17,IF(#REF!=\"ZERO\",0))))),\"\")","v":{"$error":"#REF!"}},{"$error":"#REF!"},{"$error":"#REF!"}]
["SF-01105","Laminado decorativo de alta pressão (LDAP)","Serviço (Mat + MO)","m2",0,{"$f":"OFFSET(INDEX(Composições!A:J,MATCH(Orçamentária!A1110,Composições!A:A,0),8),2,0)","v":40.706549999999993},0,{"$f":"IF(A1110<>\"\",IF(AND(#REF!=\"Padrão\",$I$4=#REF!),BDI!$B$17,IF(AND(#REF!=\"Padrão\",$I$4=#REF!),BDI!$C$17,IF(AND(#REF!=\"Diferenciado\",$I$4=#REF!),BDI!$G$17,IF(AND(#REF!=\"Diferenciado\",$I$4=#REF!),BDI!$H$17,IF(#REF!=\"ZERO\",0))))),\"\")","v":{"$error":"#REF!"}},{"$error":"#REF!"},{"$error":"#REF!"}]
["SF-01106","Granito Preto Absoluto para revestimento de superfícies internas e externas - Linha Administrativa","Serviço (Mat + MO)","m2",0,{"$f":"OFFSET(INDEX(Composições!A:J,MATCH(Orçamentária!A1111,Composições!A:A,0),8),2,0)","v":43.224525},0,{"$f":"IF(A1111<>\"\",IF(AND(#REF!=\"Padrão\",$I$4=#REF!),BDI!$B$17,IF(AND(#REF!=\"Padrão\",$I$4=#REF!),BDI!$C$17,IF(AND(#REF!=\"Diferenciado\",$I$4=#REF!),BDI!$G$17,IF(AND(#REF!=\"Diferenciado\",$I$4=#REF!),BDI!$H$17,IF(#REF!=\"ZERO\",0))))),\"\")","v":{"$error":"#REF!"}},{"$error":"#REF!"},{"$error":"#REF!"}]
["SF-01107","Granito Arabesco para revestimento de superfícies internas e externas - Linha Administrativa","Serviço (Mat + MO)","m2",0,{"$f":"OFFSET(INDEX(Composições!A:J,MATCH(Orçamentária!A1112,Composições!A:A,0),8),2,0)","v":43.224525},0,{"$f":"IF(A1112<>\"\",IF(AND(#REF!=\"Padrão\",$I$4=#REF!),BDI!$B$17,IF(AND(#REF!=\"Padrão\",$I$4=#REF!),BDI!$C$17,IF(AND(#REF!=\"Diferenciado\",$I$4=#REF!),BDI!$G$17,IF(AND(#REF!=\"Diferenciado\",$I$4=#REF!),BDI!$H$17,IF(#REF!=\"ZERO\",0))))),\"\")","v":{"$error":"#REF!"}},{"$error":"#REF!"},{"$error":"#REF!"}]
["SF-01108","Porcelanato para revestimento de superfícies internas e externas - Linha Residencial","Serviço (Mat + MO)","m2",0,{"$f":"OFFSET(INDEX(Composições!A:J,MATCH(Orçamentária!A1113,Composições!A:A,0),8),2,0)","v":78.840025000000011},0,{"$f":"IF(A1113<>\"\",IF(AND(#REF!=\"Padrão\",$I$4=#REF!),BDI!$B$17,IF(AND(#REF!=\"Padrão\",$I$4=#REF!),BDI!$C$17,IF(AND(#REF!=\"Diferenciado\",$I$4=#REF!),BDI!$G$17,IF(AND(#REF!=\"Diferenciado\",$I$4=#REF!),BDI!$H$17,IF(#REF!=\"ZERO\",0))))),\"\")","v":{"$error":"#REF!"}},{"$error":"#REF!"},{"$error":"#REF!"}]
["SF-01109","Granitina para revestimento de pisos","Serviço (Mat + MO)","m2",0,{"$f":"OFFSET(INDEX(Composições!A:J,MATCH(Orçamentária!A1114,Composições!A:A,0),8),2,0)","v":34.172301749845701},0,{"$f":"IF(A1114<>\"\",IF(AND(#REF!=\"Padrão\",$I$4=#REF!),BDI!$B$17,IF(AND(#REF!=\"Padrão\",$I$4=#REF!),BDI!$C$17,IF(AND(#REF!=\"Diferenciado\",$I$4=#REF!),BDI!$G$17,IF(AND(#REF!=\"Diferenciado\",$I$4=#REF!),BDI!$H$17,IF(#REF!=\"ZERO\",0))))),\"\")","v":{"$error":"#REF!"}},{"$error":"#REF!"},{"$error":"#REF!"}]
["SF-01110","Piso vinílico flexível em manta","Serviço (Mat + MO)","m2",0,{"$f":"OFFSET(INDEX(Composições!A:J,MATCH(Orçamentária!A1115,Composições!A:A,0),8),2,0)","v":14.368274999999999},0,{"$f":"IF(A1115<>\"\",IF(AND(#REF!=\"Padrão\",$I$4=#REF!),BDI!$B$17,IF(AND(#REF!=\"Padrão\",$I$4=#REF!),BDI!$C$17,IF(AND(#REF!=\"Diferenciado\",$I$4=#REF!),BDI!$G$17,IF(AND(#REF!=\"Diferenciado\",$I$4=#REF!),BDI!$H$17,IF(#REF!=\"ZERO\",0))))),\"\")","v":{"$error":"#REF!"}},{"$error":"#REF!"},{"$error":"#REF!"}]
["SF-01111","Tratamento de juntas de dilatação ou movimentação","Serviço (Mat + MO)","m",0,{"$f":"OFFSET(INDEX(Composições!A:J,MATCH(Orçamentária!A1116,Composições!A:A,0),8),2,0)","v":47.809129999999996},0,{"$f":"IF(A1116<>\"\",IF(AND(#REF!=\"Padrão\",$I$4=#REF!),BDI!$B$17,IF(AND(#REF!=\"Padrão\",$I$4=#REF!),BDI!$C$17,IF(AND(#REF!=\"Diferenciado\",$I$4=#REF!),BDI!$G$17,IF(AND(#REF!=\"Diferenciado\",$I$4=#REF!),BDI!$H$17,IF(#REF!=\"ZERO\",0))))),\"\")","v":{"$error":"#REF!"}},{"$error":"#REF!"},{"$error":"#REF!"}]
["SF-01112","Recuperação superficial de preparação para pintura epóxi de alto desempenho","Serviço (Mat + MO)","m2",0,{"$f":"OFFSET(INDEX(Composições!A:J,MATCH(Orçamentária!A1117,Composições!A:A,0),8),2,0)","v":15.597575000000003},0,{"$f":"IF(A1117<>\"\",IF(AND(#REF!=\"Padrão\",$I$4=#REF!),BDI!$B$17,IF(AND(#REF!=\"Padrão\",$I$4=#REF!),BDI!$C$17,IF(AND(#REF!=\"Diferenciado\",$I$4=#REF!),BDI!$G$17,IF(AND(#REF!=\"Diferenciado\",$I$4=#REF!),BDI!$H$17,IF(#REF!=\"ZERO\",0))))),\"\")","v":{"$error":"#REF!"}},{"$error":"#REF!"},{"$error":"#REF!"}]
["SF-01113","Lixamento, calafetação e aplicação de sinteco em piso de madeira - Linha Residencial","Serviço (Mat + MO)","m2",0,{"$f":"OFFSET(INDEX(Composições!A:J,MATCH(Orçamentária!A1118,Composições!A:A,0),8),2,0)","v":0},0,{"$f":"IF(A1118<>\"\",IF(AND(#REF!=\"Padrão\",$I$4=#REF!),BDI!$B$17,IF(AND(#REF!=\"Padrão\",$I$4=#REF!),BDI!$C$17,IF(AND(#REF!=\"Diferenciado\",$I$4=#REF!),BDI!$G$17,IF(AND(#REF!=\"Diferenciado\",$I$4=#REF!),BDI!$H$17,IF(#REF!=\"ZERO\",0))))),\"\")","v":{"$error":"#REF!"}},{"$error":"#REF!"},{"$error":"#REF!"}]
["SF-01114","Piso em taco de madeira - Linha Residencial","Serviço (Mat + MO)","m2",0,{"$f":"OFFSET(INDEX(Composições!A:J,MATCH(Orçamentária!A1119,Composições!A:A,0),8),2,0)","v":133.98683625000001},0,{"$f":"IF(A1119<>\"\",IF(AND(#REF!=\"Padrão\",$I$4=#REF!),BDI!$B$17,IF(AND(#REF!=\"Padrão\",$I$4=#REF!),BDI!$C$17,IF(AND(#REF!=\"Diferenciado\",$I$4=#REF!),BDI!$G$17,IF(AND(#REF!=\"Diferenciado\",$I$4=#REF!),BDI!$H$17,IF(#REF!=\"ZERO\",0))))),\"\")","v":{"$error":"#REF!"}},{"$error":"#REF!"},{"$error":"#REF!"}]
["SF-01115","Piso de borracha antiderrapante tipo moeda","Serviço (Mat + MO)","m2",0,{"$f":"OFFSET(INDEX(Composições!A:J,MATCH(Orçamentária!A1120,Composições!A:A,0),8),2,0)","v":77.548355599999994},0,{"$f":"IF(A1120<>\"\",IF(AND(#REF!=\"Padrão\",$I$4=#REF!),BDI!$B$17,IF(AND(#REF!=\"Padrão\",$I$4=#REF!),BDI!$C$17,IF(AND(#REF!=\"Diferenciado\",$I$4=#REF!),BDI!$G$17,IF(AND(#REF!=\"Diferenciado\",$I$4=#REF!),BDI!$H$17,IF(#REF!=\"ZERO\",0))))),\"\")","v":{"$error":"#REF!"}},{"$error":"#REF!"},{"$error":"#REF!"}]
["SF-01116","Piso sintético flutuante - Linha Residencial","Serviço (Mat + MO)","m2",0,{"$f":"OFFSET(INDEX(Composições!A:J,MATCH(Orçamentária!A1121,Composições!A:A,0),8),2,0)","v":14.207456529999998},0,{"$f":"IF(A1121<>\"\",IF(AND(#REF!=\"Padrão\",$I$4=#REF!),BDI!$B$17,IF(AND(#REF!=\"Padrão\",$I$4=#REF!),BDI!$C$17,IF(AND(#REF!=\"Diferenciado\",$I$4=#REF!),BDI!$G$17,IF(AND(#REF!=\"Diferenciado\",$I$4=#REF!),BDI!$H$17,IF(#REF!=\"ZERO\",0))))),\"\")","v":{"$error":"#REF!"}},{"$error":"#REF!"},{"$error":"#REF!"}]
["SF-01117","Revestimento acústico perfilado - Linha Administrativa","Serviço (Mat + MO)","m2",0,{"$f":"OFFSET(INDEX(Composições!A:J,MATCH(Orçamentária!A1122,Composições!A:A,0),8),2,0)","v":8.0116350000000001},0,{"$f":"IF(A1122<>\"\",IF(AND(#REF!=\"Padrão\",$I$4=#REF!),BDI!$B$17,IF(AND(#REF!=\"Padrão\",$I$4=#REF!),BDI!$C$17,IF(AND(#REF!=\"Diferenciado\",$I$4=#REF!),BDI!$G$17,IF(AND(#REF!=\"Diferenciado\",$I$4=#REF!),BDI!$H$17,IF(#REF!=\"ZERO\",0))))),\"\")","v":{"$error":"#REF!"}},{"$error":"#REF!"},{"$error":"#REF!"}]
["SF-01118","Revestimento acústico plano - Linha Administrativa","Serviço (Mat + MO)","m2",0,{"$f":"OFFSET(INDEX(Composições!A:J,MATCH(Orçamentária!A1123,Composições!A:A,0),8),2,0)","v":8.0116350000000001},0,{"$f":"IF(A1123<>\"\",IF(AND(#REF!=\"Padrão\",$I$4=#REF!),BDI!$B$17,IF(AND(#REF!=\"Padrão\",$I$4=#REF!),BDI!$C$17,IF(AND(#REF!=\"Diferenciado\",$I$4=#REF!),BDI!$G$17,IF(AND(#REF!=\"Diferenciado\",$I$4=#REF!),BDI!$H$17,IF(#REF!=\"ZERO\",0))))),\"\")","v":{"$error":"#REF!"}},{"$error":"#REF!"},{"$error":"#REF!"}]
["SF-01119","Forro monolítico de gesso em placas","Serviço (Mat + MO)","m2",0,{"$f":"OFFSET(INDEX(Composições!A:J,MATCH(Orçamentária!A1124,Composições!A:A,0),8),2,0)","v":33.813534300000001},0,{"$f":"IF(A1124<>\"\",IF(AND(#REF!=\"Padrão\",$I$4=#REF!),BDI!$B$17,IF(AND(#REF!=\"Padrão\",$I$4=#REF!),BDI!$C$17,IF(AND(#REF!=\"Diferenciado\",$I$4=#REF!),BDI!$G$17,IF(AND(#REF!=\"Diferenciado\",$I$4=#REF!),BDI!$H$17,IF(#REF!=\"ZERO\",0))))),\"\")","v":{"$error":"#REF!"}},{"$error":"#REF!"},{"$error":"#REF!"}]
["SF-01120","Textura acrílica - Linha Administrativa","Serviço (Mat + MO)","m2",0,{"$f":"OFFSET(INDEX(Composições!A:J,MATCH(Orçamentária!A1125,Composições!A:A,0),8),2,0)","v":12.418447499999999},0,{"$f":"IF(A1125<>\"\",IF(AND(#REF!=\"Padrão\",$I$4=#REF!),BDI!$B$17,IF(AND(#REF!=\"Padrão\",$I$4=#REF!),BDI!$C$17,IF(AND(#REF!=\"Diferenciado\",$I$4=#REF!),BDI!$G$17,IF(AND(#REF!=\"Diferenciado\",$I$4=#REF!),BDI!$H$17,IF(#REF!=\"ZERO\",0))))),\"\")","v":{"$error":"#REF!"}},{"$error":"#REF!"},{"$error":"#REF!"}]
["SF-01121","Pintura com tinta látex acrílica Premium - cores especiais (sistema tintométrico)","Serviço (Mat + MO)","m2",0,{"$f":"OFFSET(INDEX(Composições!A:J,MATCH(Orçamentária!A1126,Composições!A:A,0),8),2,0)","v":12.959491499999999},0,{"$f":"IF(A1126<>\"\",IF(AND(#REF!=\"Padrão\",$I$4=#REF!),BDI!$B$17,IF(AND(#REF!=\"Padrão\",$I$4=#REF!),BDI!$C$17,IF(AND(#REF!=\"Diferenciado\",$I$4=#REF!),BDI!$G$17,IF(AND(#REF!=\"Diferenciado\",$I$4=#REF!),BDI!$H$17,IF(#REF!=\"ZERO\",0))))),\"\")","v":{"$error":"#REF!"}},{"$error":"#REF!"},{"$error":"#REF!"}]
["SF-01122","Pintura Eletrostática","Serviço (Mat + MO)","m2",0,"","",{"$f":"IF(A1127<>\"\",IF(AND(#REF!=\"Padrão\",$I$4=#REF!),BDI!$B$17,IF(AND(#REF!=\"Padrão\",$I$4=#REF!),BDI!$C$17,IF(AND(#REF!=\"Diferenciado\",$I$4=#REF!),BDI!$G$17,IF(AND(#REF!=\"Diferenciado\",$I$4=#REF!),BDI!$H$17,IF(#REF!=\"ZERO\",0))))),\"\")","v":{"$error":"#REF!"}},"",""]
["SF-01123","Pintura com tinta acrílica (pisos)","Serviço (Mat + MO)","m2",0,{"$f":"OFFSET(INDEX(Composições!A:J,MATCH(Orçamentária!A1128,Composições!A:A,0),8),2,0)","v":14.387369999999999},0,{"$f":"IF(A1128<>\"\",IF(AND(#REF!=\"Padrão\",$I$4=#REF!),BDI!$B$17,IF(AND(#REF!=\"Padrão\",$I$4=#REF!),BDI!$C$17,IF(AND(#REF!=\"Diferenciado\",$I$4=#REF!),BDI!$G$17,IF(AND(#REF!=\"Diferenciado\",$I$4=#REF!),BDI!$H$17,IF(#REF!=\"ZERO\",0))))),\"\")","v":{"$error":"#REF!"}},{"$error":"#REF!"},{"$error":"#REF!"}]
["SF-01124","Pintura com tinta epóxi de alto desempenho (pisos)","Serviço (Mat + MO)","m2",0,{"$f":"OFFSET(INDEX(Composições!A:J,MATCH(Orçamentária!A1129,Composições!A:A,0),8),2,0)","v":56.950265599999994},0,{"$f":"IF(A1129<>\"\",IF(AND(#REF!=\"Padrão\",$I$4=#REF!),BDI!$B$17,IF(AND(#REF!=\"Padrão\",$I$4=#REF!),BDI!$C$17,IF(AND(#REF!=\"Diferenciado\",$I$4=#REF!),BDI!$G$17,IF(AND(#REF!=\"Diferenciado\",$I$4=#REF!),BDI!$H$17,IF(#REF!=\"ZERO\",0))))),\"\")","v":{"$error":"#REF!"}},{"$error":"#REF!"},{"$error":"#REF!"}]
["SF-01125","Verniz de poliuretano sobre pintura epóxi de alto desempenho","Serviço (Mat + MO)","m2",0,{"$f":"OFFSET(INDEX(Composições!A:J,MATCH(Orçamentária!A1130,Composições!A:A,0),8),2,0)","v":18.848683999999999},0,{"$f":"IF(A1130<>\"\",IF(AND(#REF!=\"Padrão\",$I$4=#REF!),BDI!$B$17,IF(AND(#REF!=\"Padrão\",$I$4=#REF!),BDI!$C$17,IF(AND(#REF!=\"Diferenciado\",$I$4=#REF!),BDI!$G$17,IF(AND(#REF!=\"Diferenciado\",$I$4=#REF!),BDI!$H$17,IF(#REF!=\"ZERO\",0))))),\"\")","v":{"$error":"#REF!"}},{"$error":"#REF!"},{"$error":"#REF!"}]
["SF-01126","Tratamento antiderrapante em verniz de poliuretano sobre pintura epóxi","Serviço (Mat + MO)","m2",0,{"$f":"OFFSET(INDEX(Composições!A:J,MATCH(Orçamentária!A1131,Composições!A:A,0),8),2,0)","v":1.1254935000000001},0,{"$f":"IF(A1131<>\"\",IF(AND(#REF!=\"Padrão\",$I$4=#REF!),BDI!$B$17,IF(AND(#REF!=\"Padrão\",$I$4=#REF!),BDI!$C$17,IF(AND(#REF!=\"Diferenciado\",$I$4=#REF!),BDI!$G$17,IF(AND(#REF!=\"Diferenciado\",$I$4=#REF!),BDI!$H$17,IF(#REF!=\"ZERO\",0))))),\"\")","v":{"$error":"#REF!"}},{"$error":"#REF!"},{"$error":"#REF!"}]
["SF-01127","Pintura para superfícies galvanizadas","Serviço (Mat + MO)","m2",0,{"$f":"OFFSET(INDEX(Composições!A:J,MATCH(Orçamentária!A1132,Composições!A:A,0),8),2,0)","v":25.709134649999996},0,{"$f":"IF(A1132<>\"\",IF(AND(#REF!=\"Padrão\",$I$4=#REF!),BDI!$B$17,IF(AND(#REF!=\"Padrão\",$I$4=#REF!),BDI!$C$17,IF(AND(#REF!=\"Diferenciado\",$I$4=#REF!),BDI!$G$17,IF(AND(#REF!=\"Diferenciado\",$I$4=#REF!),BDI!$H$17,IF(#REF!=\"ZERO\",0))))),\"\")","v":{"$error":"#REF!"}},{"$error":"#REF!"},{"$error":"#REF!"}]
["SF-01128","Selagem ou resselagem de juntas em pavimentação de concreto armado","Serviço (Mat + MO)","m",0,{"$f":"OFFSET(INDEX(Composições!A:J,MATCH(Orçamentária!A1133,Composições!A:A,0),8),2,0)","v":7.0871462999999997},0,{"$f":"IF(A1133<>\"\",IF(AND(#REF!=\"Padrão\",$I$4=#REF!),BDI!$B$17,IF(AND(#REF!=\"Padrão\",$I$4=#REF!),BDI!$C$17,IF(AND(#REF!=\"Diferenciado\",$I$4=#REF!),BDI!$G$17,IF(AND(#REF!=\"Diferenciado\",$I$4=#REF!),BDI!$H$17,IF(#REF!=\"ZERO\",0))))),\"\")","v":{"$error":"#REF!"}},{"$error":"#REF!"},{"$error":"#REF!"}]
["SF-01129","Pavimentação em elementos intertravados de concreto","Serviço (Mat + MO)","m2",0,{"$f":"OFFSET(INDEX(Composições!A:J,MATCH(Orçamentária!A1134,Composições!A:A,0),8),2,0)","v":49.471773038840006},0,{"$f":"IF(A1134<>\"\",IF(AND(#REF!=\"Padrão\",$I$4=#REF!),BDI!$B$17,IF(AND(#REF!=\"Padrão\",$I$4=#REF!),BDI!$C$17,IF(AND(#REF!=\"Diferenciado\",$I$4=#REF!),BDI!$G$17,IF(AND(#REF!=\"Diferenciado\",$I$4=#REF!),BDI!$H$17,IF(#REF!=\"ZERO\",0))))),\"\")","v":{"$error":"#REF!"}},{"$error":"#REF!"},{"$error":"#REF!"}]
["SF-01130","Pavimentação com Asfalto Pré-Misturado a Frio (PMF)","Serviço (Mat + MO)","m3",2,{"$f":"OFFSET(INDEX(Composições!A:J,MATCH(Orçamentária!A1135,Composições!A:A,0),8),2,0)","v":598.05308857399984},1196.1099999999999,{"$f":"BDI!$B$17","v":0.191},712.28,1424.56]
["SF-01131","Pavimentação asfáltica com CBUQ para aplicação a frio (remendo)","Serviço (Mat + MO)","m3",0,{"$f":"OFFSET(INDEX(Composições!A:J,MATCH(Orçamentária!A1136,Composições!A:A,0),8),2,0)","v":195.73800000000003},0,{"$f":"IF(A1136<>\"\",IF(AND(#REF!=\"Padrão\",$I$4=#REF!),BDI!$B$17,IF(AND(#REF!=\"Padrão\",$I$4=#REF!),BDI!$C$17,IF(AND(#REF!=\"Diferenciado\",$I$4=#REF!),BDI!$G$17,IF(AND(#REF!=\"Diferenciado\",$I$4=#REF!),BDI!$H$17,IF(#REF!=\"ZERO\",0))))),\"\")","v":{"$error":"#REF!"}},{"$error":"#REF!"},{"$error":"#REF!"}]
["SF-01132","Pintura para sinalização e demarcação viária horizontal","Serviço (Mat + MO)","m2",0,{"$f":"OFFSET(INDEX(Composições!A:J,MATCH(Orçamentária!A1137,Composições!A:A,0),8),2,0)","v":15.210291350000002},0,{"$f":"IF(A1137<>\"\",IF(AND(#REF!=\"Padrão\",$I$4=#REF!),BDI!$B$17,IF(AND(#REF!=\"Padrão\",$I$4=#REF!),BDI!$C$17,IF(AND(#REF!=\"Diferenciado\",$I$4=#REF!),BDI!$G$17,IF(AND(#REF!=\"Diferenciado\",$I$4=#REF!),BDI!$H$17,IF(#REF!=\"ZERO\",0))))),\"\")","v":{"$error":"#REF!"}},{"$error":"#REF!"},{"$error":"#REF!"}]
["SF-01133","Telha metálica trapezoidal galvanizada - GR-40","Serviço (Mat + MO)","m2",0,{"$f":"OFFSET(INDEX(Composições!A:J,MATCH(Orçamentária!A1138,Composições!A:A,0),8),2,0)","v":56.997780799999994},0,{"$f":"IF(A1138<>\"\",IF(AND(#REF!=\"Padrão\",$I$4=#REF!),BDI!$B$17,IF(AND(#REF!=\"Padrão\",$I$4=#REF!),BDI!$C$17,IF(AND(#REF!=\"Diferenciado\",$I$4=#REF!),BDI!$G$17,IF(AND(#REF!=\"Diferenciado\",$I$4=#REF!),BDI!$H$17,IF(#REF!=\"ZERO\",0))))),\"\")","v":{"$error":"#REF!"}},{"$error":"#REF!"},{"$error":"#REF!"}]
["SF-01134","Cumeeira para telha metálica trapezoidal galvanizada - GR-40","Serviço (Mat + MO)","m",0,{"$f":"OFFSET(INDEX(Composições!A:J,MATCH(Orçamentária!A1139,Composições!A:A,0),8),2,0)","v":7.2047220999999997},0,{"$f":"IF(A1139<>\"\",IF(AND(#REF!=\"Padrão\",$I$4=#REF!),BDI!$B$17,IF(AND(#REF!=\"Padrão\",$I$4=#REF!),BDI!$C$17,IF(AND(#REF!=\"Diferenciado\",$I$4=#REF!),BDI!$G$17,IF(AND(#REF!=\"Diferenciado\",$I$4=#REF!),BDI!$H$17,IF(#REF!=\"ZERO\",0))))),\"\")","v":{"$error":"#REF!"}},{"$error":"#REF!"},{"$error":"#REF!"}]
["SF-01135","Telha metálica trapezoidal galvanizada - GR-25","Serviço (Mat + MO)","m2",0,{"$f":"OFFSET(INDEX(Composições!A:J,MATCH(Orçamentária!A1140,Composições!A:A,0),8),2,0)","v":8.2811347999999985},0,{"$f":"IF(A1140<>\"\",IF(AND(#REF!=\"Padrão\",$I$4=#REF!),BDI!$B$17,IF(AND(#REF!=\"Padrão\",$I$4=#REF!),BDI!$C$17,IF(AND(#REF!=\"Diferenciado\",$I$4=#REF!),BDI!$G$17,IF(AND(#REF!=\"Diferenciado\",$I$4=#REF!),BDI!$H$17,IF(#REF!=\"ZERO\",0))))),\"\")","v":{"$error":"#REF!"}},{"$error":"#REF!"},{"$error":"#REF!"}]
["SF-01136","Cumeeira para telha metálica trapezoidal galvanizada - GR-25","Serviço (Mat + MO)","m",0,{"$f":"OFFSET(INDEX(Composições!A:J,MATCH(Orçamentária!A1141,Composições!A:A,0),8),2,0)","v":7.2047220999999997},0,{"$f":"IF(A1141<>\"\",IF(AND(#REF!=\"Padrão\",$I$4=#REF!),BDI!$B$17,IF(AND(#REF!=\"Padrão\",$I$4=#REF!),BDI!$C$17,IF(AND(#REF!=\"Diferenciado\",$I$4=#REF!),BDI!$G$17,IF(AND(#REF!=\"Diferenciado\",$I$4=#REF!),BDI!$H$17,IF(#REF!=\"ZERO\",0))))),\"\")","v":{"$error":"#REF!"}},{"$error":"#REF!"},{"$error":"#REF!"}]
["SF-01137","Telha de fibrocimento modulada - espessura 8mm","Serviço (Mat + MO)","m2",0,{"$f":"OFFSET(INDEX(Composições!A:J,MATCH(Orçamentária!A1142,Composições!A:A,0),8),2,0)","v":16.79505},0,{"$f":"IF(A1142<>\"\",IF(AND(#REF!=\"Padrão\",$I$4=#REF!),BDI!$B$17,IF(AND(#REF!=\"Padrão\",$I$4=#REF!),BDI!$C$17,IF(AND(#REF!=\"Diferenciado\",$I$4=#REF!),BDI!$G$17,IF(AND(#REF!=\"Diferenciado\",$I$4=#REF!),BDI!$H$17,IF(#REF!=\"ZERO\",0))))),\"\")","v":{"$error":"#REF!"}},{"$error":"#REF!"},{"$error":"#REF!"}]
["SF-01138","Cumeeira articulada ABA SUPERIOR de fibrocimento para telha modulada - espessura 6 mm","Serviço (Mat + MO)","m",0,{"$f":"OFFSET(INDEX(Composições!A:J,MATCH(Orçamentária!A1143,Composições!A:A,0),8),2,0)","v":2.3803200000000002},0,{"$f":"IF(A1143<>\"\",IF(AND(#REF!=\"Padrão\",$I$4=#REF!),BDI!$B$17,IF(AND(#REF!=\"Padrão\",$I$4=#REF!),BDI!$C$17,IF(AND(#REF!=\"Diferenciado\",$I$4=#REF!),BDI!$G$17,IF(AND(#REF!=\"Diferenciado\",$I$4=#REF!),BDI!$H$17,IF(#REF!=\"ZERO\",0))))),\"\")","v":{"$error":"#REF!"}},{"$error":"#REF!"},{"$error":"#REF!"}]
["SF-01139","Cumeeira articulada ABA INFERIOR de fibrocimento para telha modulada - espessura 6 mm","Serviço (Mat + MO)","m",0,{"$f":"OFFSET(INDEX(Composições!A:J,MATCH(Orçamentária!A1144,Composições!A:A,0),8),2,0)","v":2.3803200000000002},0,{"$f":"IF(A1144<>\"\",IF(AND(#REF!=\"Padrão\",$I$4=#REF!),BDI!$B$17,IF(AND(#REF!=\"Padrão\",$I$4=#REF!),BDI!$C$17,IF(AND(#REF!=\"Diferenciado\",$I$4=#REF!),BDI!$G$17,IF(AND(#REF!=\"Diferenciado\",$I$4=#REF!),BDI!$H$17,IF(#REF!=\"ZERO\",0))))),\"\")","v":{"$error":"#REF!"}},{"$error":"#REF!"},{"$error":"#REF!"}]
["SF-01140","Telha de fibrocimento ondulada - espessura 6mm","Serviço (Mat + MO)","m2",0,{"$f":"OFFSET(INDEX(Composições!A:J,MATCH(Orçamentária!A1145,Composições!A:A,0),8),2,0)","v":32.6473789},0,{"$f":"IF(A1145<>\"\",IF(AND(#REF!=\"Padrão\",$I$4=#REF!),BDI!$B$17,IF(AND(#REF!=\"Padrão\",$I$4=#REF!),BDI!$C$17,IF(AND(#REF!=\"Diferenciado\",$I$4=#REF!),BDI!$G$17,IF(AND(#REF!=\"Diferenciado\",$I$4=#REF!),BDI!$H$17,IF(#REF!=\"ZERO\",0))))),\"\")","v":{"$error":"#REF!"}},{"$error":"#REF!"},{"$error":"#REF!"}]
["SF-01141","Cumeeira UNIVERSAL para telha de fibrocimento ondulada - espessura 6 mm","Serviço (Mat + MO)","m",0,{"$f":"OFFSET(INDEX(Composições!A:J,MATCH(Orçamentária!A1146,Composições!A:A,0),8),2,0)","v":40.456346599999989},0,{"$f":"IF(A1146<>\"\",IF(AND(#REF!=\"Padrão\",$I$4=#REF!),BDI!$B$17,IF(AND(#REF!=\"Padrão\",$I$4=#REF!),BDI!$C$17,IF(AND(#REF!=\"Diferenciado\",$I$4=#REF!),BDI!$G$17,IF(AND(#REF!=\"Diferenciado\",$I$4=#REF!),BDI!$H$17,IF(#REF!=\"ZERO\",0))))),\"\")","v":{"$error":"#REF!"}},{"$error":"#REF!"},{"$error":"#REF!"}]
["SF-01142","Cumeeira TIPO SHED para telha de fibrocimento ondulada - espessura 6 mm","Serviço (Mat + MO)","m",0,{"$f":"OFFSET(INDEX(Composições!A:J,MATCH(Orçamentária!A1147,Composições!A:A,0),8),2,0)","v":38.780442099999995},0,{"$f":"IF(A1147<>\"\",IF(AND(#REF!=\"Padrão\",$I$4=#REF!),BDI!$B$17,IF(AND(#REF!=\"Padrão\",$I$4=#REF!),BDI!$C$17,IF(AND(#REF!=\"Diferenciado\",$I$4=#REF!),BDI!$G$17,IF(AND(#REF!=\"Diferenciado\",$I$4=#REF!),BDI!$H$17,IF(#REF!=\"ZERO\",0))))),\"\")","v":{"$error":"#REF!"}},{"$error":"#REF!"},{"$error":"#REF!"}]
["SF-01143","Telha de fibrocimento - Canalete 49 Eternit","Serviço (Mat + MO)","m2",0,{"$f":"OFFSET(INDEX(Composições!A:J,MATCH(Orçamentária!A1148,Composições!A:A,0),8),2,0)","v":5.9508000000000001},0,{"$f":"IF(A1148<>\"\",IF(AND(#REF!=\"Padrão\",$I$4=#REF!),BDI!$B$17,IF(AND(#REF!=\"Padrão\",$I$4=#REF!),BDI!$C$17,IF(AND(#REF!=\"Diferenciado\",$I$4=#REF!),BDI!$G$17,IF(AND(#REF!=\"Diferenciado\",$I$4=#REF!),BDI!$H$17,IF(#REF!=\"ZERO\",0))))),\"\")","v":{"$error":"#REF!"}},{"$error":"#REF!"},{"$error":"#REF!"}]
["SF-01144","Passarela móvel para telhado (sem degraus)","Serviço (Mat + MO)","un",0,"","",{"$f":"IF(A1149<>\"\",IF(AND(#REF!=\"Padrão\",$I$4=#REF!),BDI!$B$17,IF(AND(#REF!=\"Padrão\",$I$4=#REF!),BDI!$C$17,IF(AND(#REF!=\"Diferenciado\",$I$4=#REF!),BDI!$G$17,IF(AND(#REF!=\"Diferenciado\",$I$4=#REF!),BDI!$H$17,IF(#REF!=\"ZERO\",0))))),\"\")","v":{"$error":"#REF!"}},"",""]
["SF-01145","Passarela móvel para telhado (com degraus)","Serviço (Mat + MO)","un",0,"","",{"$f":"IF(A1150<>\"\",IF(AND(#REF!=\"Padrão\",$I$4=#REF!),BDI!$B$17,IF(AND(#REF!=\"Padrão\",$I$4=#REF!),BDI!$C$17,IF(AND(#REF!=\"Diferenciado\",$I$4=#REF!),BDI!$G$17,IF(AND(#REF!=\"Diferenciado\",$I$4=#REF!),BDI!$H$17,IF(#REF!=\"ZERO\",0))))),\"\")","v":{"$error":"#REF!"}},"",""]
["SF-01146","Locação de guincho elétrico de coluna","Locação","conj x mês",0,"","",{"$f":"IF(A1151<>\"\",IF(AND(#REF!=\"Padrão\",$I$4=#REF!),BDI!$B$17,IF(AND(#REF!=\"Padrão\",$I$4=#REF!),BDI!$C$17,IF(AND(#REF!=\"Diferenciado\",$I$4=#REF!),BDI!$G$17,IF(AND(#REF!=\"Diferenciado\",$I$4=#REF!),BDI!$H$17,IF(#REF!=\"ZERO\",0))))),\"\")","v":{"$error":"#REF!"}},"",""]
["SF-01147","Escada tipo marinheiro COM proteção","Serviço (Mat + MO)","m",0,{"$f":"OFFSET(INDEX(Composições!A:J,MATCH(Orçamentária!A1152,Composições!A:A,0),8),2,0)","v":229.15138777571826},0,{"$f":"IF(A1152<>\"\",IF(AND(#REF!=\"Padrão\",$I$4=#REF!),BDI!$B$17,IF(AND(#REF!=\"Padrão\",$I$4=#REF!),BDI!$C$17,IF(AND(#REF!=\"Diferenciado\",$I$4=#REF!),BDI!$G$17,IF(AND(#REF!=\"Diferenciado\",$I$4=#REF!),BDI!$H$17,IF(#REF!=\"ZERO\",0))))),\"\")","v":{"$error":"#REF!"}},{"$error":"#REF!"},{"$error":"#REF!"}]
["SF-01148","Escada tipo marinheiro SEM proteção","Serviço (Mat + MO)","m",0,{"$f":"OFFSET(INDEX(Composições!A:J,MATCH(Orçamentária!A1153,Composições!A:A,0),8),2,0)","v":68.320567775718246},0,{"$f":"IF(A1153<>\"\",IF(AND(#REF!=\"Padrão\",$I$4=#REF!),BDI!$B$17,IF(AND(#REF!=\"Padrão\",$I$4=#REF!),BDI!$C$17,IF(AND(#REF!=\"Diferenciado\",$I$4=#REF!),BDI!$G$17,IF(AND(#REF!=\"Diferenciado\",$I$4=#REF!),BDI!$H$17,IF(#REF!=\"ZERO\",0))))),\"\")","v":{"$error":"#REF!"}},{"$error":"#REF!"},{"$error":"#REF!"}]
["SF-01149","Limpeza e Preparação do Substrato para Impermeabilização","Serviço (Mat + MO)","m2",0,{"$f":"OFFSET(INDEX(Composições!A:J,MATCH(Orçamentária!A1154,Composições!A:A,0),8),2,0)","v":1.7942650000000002},0,{"$f":"IF(A1154<>\"\",IF(AND(#REF!=\"Padrão\",$I$4=#REF!),BDI!$B$17,IF(AND(#REF!=\"Padrão\",$I$4=#REF!),BDI!$C$17,IF(AND(#REF!=\"Diferenciado\",$I$4=#REF!),BDI!$G$17,IF(AND(#REF!=\"Diferenciado\",$I$4=#REF!),BDI!$H$17,IF(#REF!=\"ZERO\",0))))),\"\")","v":{"$error":"#REF!"}},{"$error":"#REF!"},{"$error":"#REF!"}]
["SF-01150","Substituição de Coletores de Águas Pluviais","Serviço (Mat + MO)","un",0,{"$f":"OFFSET(INDEX(Composições!A:J,MATCH(Orçamentária!A1155,Composições!A:A,0),8),2,0)","v":174.69530049999997},0,{"$f":"IF(A1155<>\"\",IF(AND(#REF!=\"Padrão\",$I$4=#REF!),BDI!$B$17,IF(AND(#REF!=\"Padrão\",$I$4=#REF!),BDI!$C$17,IF(AND(#REF!=\"Diferenciado\",$I$4=#REF!),BDI!$G$17,IF(AND(#REF!=\"Diferenciado\",$I$4=#REF!),BDI!$H$17,IF(#REF!=\"ZERO\",0))))),\"\")","v":{"$error":"#REF!"}},{"$error":"#REF!"},{"$error":"#REF!"}]
["SF-01151","Tratamento de Tubulação Passante para Impermeabilização","Serviço (Mat + MO)","un",0,{"$f":"OFFSET(INDEX(Composições!A:J,MATCH(Orçamentária!A1156,Composições!A:A,0),8),2,0)","v":34.564201499999996},0,{"$f":"IF(A1156<>\"\",IF(AND(#REF!=\"Padrão\",$I$4=#REF!),BDI!$B$17,IF(AND(#REF!=\"Padrão\",$I$4=#REF!),BDI!$C$17,IF(AND(#REF!=\"Diferenciado\",$I$4=#REF!),BDI!$G$17,IF(AND(#REF!=\"Diferenciado\",$I$4=#REF!),BDI!$H$17,IF(#REF!=\"ZERO\",0))))),\"\")","v":{"$error":"#REF!"}},{"$error":"#REF!"},{"$error":"#REF!"}]
["SF-01152","Regularização de substrato para Impermeabilização - 3cm","Serviço (Mat + MO)","m2",0,{"$f":"OFFSET(INDEX(Composições!A:J,MATCH(Orçamentária!A1157,Composições!A:A,0),8),2,0)","v":35.184471117011604},0,{"$f":"IF(A1157<>\"\",IF(AND(#REF!=\"Padrão\",$I$4=#REF!),BDI!$B$17,IF(AND(#REF!=\"Padrão\",$I$4=#REF!),BDI!$C$17,IF(AND(#REF!=\"Diferenciado\",$I$4=#REF!),BDI!$G$17,IF(AND(#REF!=\"Diferenciado\",$I$4=#REF!),BDI!$H$17,IF(#REF!=\"ZERO\",0))))),\"\")","v":{"$error":"#REF!"}},{"$error":"#REF!"},{"$error":"#REF!"}]
["SF-01153","Regularização de substrato para Impermeabilização - 6cm","Serviço (Mat + MO)","m2",0,{"$f":"OFFSET(INDEX(Composições!A:J,MATCH(Orçamentária!A1158,Composições!A:A,0),8),2,0)","v":42.136405999639607},0,{"$f":"IF(A1158<>\"\",IF(AND(#REF!=\"Padrão\",$I$4=#REF!),BDI!$B$17,IF(AND(#REF!=\"Padrão\",$I$4=#REF!),BDI!$C$17,IF(AND(#REF!=\"Diferenciado\",$I$4=#REF!),BDI!$G$17,IF(AND(#REF!=\"Diferenciado\",$I$4=#REF!),BDI!$H$17,IF(#REF!=\"ZERO\",0))))),\"\")","v":{"$error":"#REF!"}},{"$error":"#REF!"},{"$error":"#REF!"}]
["SF-01154","Camada Separadora para Impermeabilização","Serviço (Mat + MO)","m2",0,{"$f":"OFFSET(INDEX(Composições!A:J,MATCH(Orçamentária!A1159,Composições!A:A,0),8),2,0)","v":5.3358650000000001},{"$f":"IF(ISNUMBER(F1159),ROUND(E1159*F1159,2),\"\")","v":0},{"$f":"IF(A1159<>\"\",IF(AND(#REF!=\"Padrão\",$I$4=#REF!),BDI!$B$17,IF(AND(#REF!=\"Padrão\",$I$4=#REF!),BDI!$C$17,IF(AND(#REF!=\"Diferenciado\",$I$4=#REF!),BDI!$G$17,IF(AND(#REF!=\"Diferenciado\",$I$4=#REF!),BDI!$H$17,IF(#REF!=\"ZERO\",0))))),\"\")","v":{"$error":"#REF!"}},{"$f":"IF(ISNUMBER(F1159),ROUND(F1159*(1+H1159),2),\"\")","v":{"$error":"#REF!"}},{"$f":"IF(ISNUMBER(F1159),ROUND(I1159*E1159,2),\"\")","v":{"$error":"#REF!"}}]
["SF-01155","Camada de Proteção Térmica para Impermeabilização","Serviço (Mat + MO)","m2",0,{"$f":"OFFSET(INDEX(Composições!A:J,MATCH(Orçamentária!A1160,Composições!A:A,0),8),2,0)","v":7.4988250000000001},0,{"$f":"IF(A1160<>\"\",IF(AND(#REF!=\"Padrão\",$I$4=#REF!),BDI!$B$17,IF(AND(#REF!=\"Padrão\",$I$4=#REF!),BDI!$C$17,IF(AND(#REF!=\"Diferenciado\",$I$4=#REF!),BDI!$G$17,IF(AND(#REF!=\"Diferenciado\",$I$4=#REF!),BDI!$H$17,IF(#REF!=\"ZERO\",0))))),\"\")","v":{"$error":"#REF!"}},{"$error":"#REF!"},{"$error":"#REF!"}]
["SF-01156","Camada de Amortecimento para Impermeabilização","Serviço (Mat + MO)","m2",0,{"$f":"OFFSET(INDEX(Composições!A:J,MATCH(Orçamentária!A1161,Composições!A:A,0),8),2,0)","v":22.635717598846},0,{"$f":"IF(A1161<>\"\",IF(AND(#REF!=\"Padrão\",$I$4=#REF!),BDI!$B$17,IF(AND(#REF!=\"Padrão\",$I$4=#REF!),BDI!$C$17,IF(AND(#REF!=\"Diferenciado\",$I$4=#REF!),BDI!$G$17,IF(AND(#REF!=\"Diferenciado\",$I$4=#REF!),BDI!$H$17,IF(#REF!=\"ZERO\",0))))),\"\")","v":{"$error":"#REF!"}},{"$error":"#REF!"},{"$error":"#REF!"}]
["SF-01157","Camada de Proteção Mecânica em Placas de Impermeabilização","Serviço (Mat + MO)","m2",0,{"$f":"OFFSET(INDEX(Composições!A:J,MATCH(Orçamentária!A1162,Composições!A:A,0),8),2,0)","v":66.574257951749999},0,{"$f":"IF(A1162<>\"\",IF(AND(#REF!=\"Padrão\",$I$4=#REF!),BDI!$B$17,IF(AND(#REF!=\"Padrão\",$I$4=#REF!),BDI!$C$17,IF(AND(#REF!=\"Diferenciado\",$I$4=#REF!),BDI!$G$17,IF(AND(#REF!=\"Diferenciado\",$I$4=#REF!),BDI!$H$17,IF(#REF!=\"ZERO\",0))))),\"\")","v":{"$error":"#REF!"}},{"$error":"#REF!"},{"$error":"#REF!"}]
["SF-01158","Pintura Inibidora de Raízes em Estrutura Impermeabilizada","Serviço (Mat + MO)","m2",0,{"$f":"OFFSET(INDEX(Composições!A:J,MATCH(Orçamentária!A1163,Composições!A:A,0),8),2,0)","v":11.80185},0,{"$f":"IF(A1163<>\"\",IF(AND(#REF!=\"Padrão\",$I$4=#REF!),BDI!$B$17,IF(AND(#REF!=\"Padrão\",$I$4=#REF!),BDI!$C$17,IF(AND(#REF!=\"Diferenciado\",$I$4=#REF!),BDI!$G$17,IF(AND(#REF!=\"Diferenciado\",$I$4=#REF!),BDI!$H$17,IF(#REF!=\"ZERO\",0))))),\"\")","v":{"$error":"#REF!"}},{"$error":"#REF!"},{"$error":"#REF!"}]
["SF-01159","Camada Drenante para Impermeabilização","Serviço (Mat + MO)","m2",0,{"$f":"OFFSET(INDEX(Composições!A:J,MATCH(Orçamentária!A1164,Composições!A:A,0),8),2,0)","v":5.4989799999999995},0,{"$f":"IF(A1164<>\"\",IF(AND(#REF!=\"Padrão\",$I$4=#REF!),BDI!$B$17,IF(AND(#REF!=\"Padrão\",$I$4=#REF!),BDI!$C$17,IF(AND(#REF!=\"Diferenciado\",$I$4=#REF!),BDI!$G$17,IF(AND(#REF!=\"Diferenciado\",$I$4=#REF!),BDI!$H$17,IF(#REF!=\"ZERO\",0))))),\"\")","v":{"$error":"#REF!"}},{"$error":"#REF!"},{"$error":"#REF!"}]
["SF-01160","Calha em Chapa de Aço Galvanizado nº 24","Serviço (Mat + MO)","m2",0,{"$f":"OFFSET(INDEX(Composições!A:J,MATCH(Orçamentária!A1165,Composições!A:A,0),8),2,0)","v":104.71401505},0,{"$f":"IF(A1165<>\"\",IF(AND(#REF!=\"Padrão\",$I$4=#REF!),BDI!$B$17,IF(AND(#REF!=\"Padrão\",$I$4=#REF!),BDI!$C$17,IF(AND(#REF!=\"Diferenciado\",$I$4=#REF!),BDI!$G$17,IF(AND(#REF!=\"Diferenciado\",$I$4=#REF!),BDI!$H$17,IF(#REF!=\"ZERO\",0))))),\"\")","v":{"$error":"#REF!"}},{"$error":"#REF!"},{"$error":"#REF!"}]
["SF-01161","Rufo em Chapa de Aço Galvanizado nº 24","Serviço (Mat + MO)","m2",0,{"$f":"OFFSET(INDEX(Composições!A:J,MATCH(Orçamentária!A1166,Composições!A:A,0),8),2,0)","v":94.258006300000005},0,{"$f":"IF(A1166<>\"\",IF(AND(#REF!=\"Padrão\",$I$4=#REF!),BDI!$B$17,IF(AND(#REF!=\"Padrão\",$I$4=#REF!),BDI!$C$17,IF(AND(#REF!=\"Diferenciado\",$I$4=#REF!),BDI!$G$17,IF(AND(#REF!=\"Diferenciado\",$I$4=#REF!),BDI!$H$17,IF(#REF!=\"ZERO\",0))))),\"\")","v":{"$error":"#REF!"}},{"$error":"#REF!"},{"$error":"#REF!"}]
["SF-01162","Resina de Poliuretano para Estrutura de Concreto","Serviço (Mat + MO)","kg",0,"","",{"$f":"IF(A1167<>\"\",IF(AND(#REF!=\"Padrão\",$I$4=#REF!),BDI!$B$17,IF(AND(#REF!=\"Padrão\",$I$4=#REF!),BDI!$C$17,IF(AND(#REF!=\"Diferenciado\",$I$4=#REF!),BDI!$G$17,IF(AND(#REF!=\"Diferenciado\",$I$4=#REF!),BDI!$H$17,IF(#REF!=\"ZERO\",0))))),\"\")","v":{"$error":"#REF!"}},"",""]
["SF-01163","Chapim Pré-Moldado de Concreto Aparente","Serviço (Mat + MO)","m",0,{"$f":"OFFSET(INDEX(Composições!A:J,MATCH(Orçamentária!A1168,Composições!A:A,0),8),2,0)","v":94.429817923000002},0,{"$f":"IF(A1168<>\"\",IF(AND(#REF!=\"Padrão\",$I$4=#REF!),BDI!$B$17,IF(AND(#REF!=\"Padrão\",$I$4=#REF!),BDI!$C$17,IF(AND(#REF!=\"Diferenciado\",$I$4=#REF!),BDI!$G$17,IF(AND(#REF!=\"Diferenciado\",$I$4=#REF!),BDI!$H$17,IF(#REF!=\"ZERO\",0))))),\"\")","v":{"$error":"#REF!"}},{"$error":"#REF!"},{"$error":"#REF!"}]
["SF-01164","Armação em tela de aço soldado nervurada","Serviço (Mat + MO)","m2",0,{"$f":"OFFSET(INDEX(Composições!A:J,MATCH(Orçamentária!A1169,Composições!A:A,0),8),2,0)","v":11.341788749999999},0,{"$f":"IF(A1169<>\"\",IF(AND(#REF!=\"Padrão\",$I$4=#REF!),BDI!$B$17,IF(AND(#REF!=\"Padrão\",$I$4=#REF!),BDI!$C$17,IF(AND(#REF!=\"Diferenciado\",$I$4=#REF!),BDI!$G$17,IF(AND(#REF!=\"Diferenciado\",$I$4=#REF!),BDI!$H$17,IF(#REF!=\"ZERO\",0))))),\"\")","v":{"$error":"#REF!"}},{"$error":"#REF!"},{"$error":"#REF!"}]
["SF-01165","Trama de aço composta por terças para telhados de até 2 águas","Serviço (Mat + MO)","m2",0,{"$f":"OFFSET(INDEX(Composições!A:J,MATCH(Orçamentária!A1170,Composições!A:A,0),8),2,0)","v":29.285889400000002},0,{"$f":"IF(A1170<>\"\",IF(AND(#REF!=\"Padrão\",$I$4=#REF!),BDI!$B$17,IF(AND(#REF!=\"Padrão\",$I$4=#REF!),BDI!$C$17,IF(AND(#REF!=\"Diferenciado\",$I$4=#REF!),BDI!$G$17,IF(AND(#REF!=\"Diferenciado\",$I$4=#REF!),BDI!$H$17,IF(#REF!=\"ZERO\",0))))),\"\")","v":{"$error":"#REF!"}},{"$error":"#REF!"},{"$error":"#REF!"}]
["SF-01166","Revestimento impermeabilizante bloqueador de umidade","Serviço (Mat + MO)","m2",0,{"$f":"OFFSET(INDEX(Composições!A:J,MATCH(Orçamentária!A1171,Composições!A:A,0),8),2,0)","v":6.4571500000000004},0,{"$f":"IF(A1171<>\"\",IF(AND(#REF!=\"Padrão\",$I$4=#REF!),BDI!$B$17,IF(AND(#REF!=\"Padrão\",$I$4=#REF!),BDI!$C$17,IF(AND(#REF!=\"Diferenciado\",$I$4=#REF!),BDI!$G$17,IF(AND(#REF!=\"Diferenciado\",$I$4=#REF!),BDI!$H$17,IF(#REF!=\"ZERO\",0))))),\"\")","v":{"$error":"#REF!"}},{"$error":"#REF!"},{"$error":"#REF!"}]
["SF-01167","Pintura com tinta refletiva aluminizada para impermeabilização","Serviço (Mat + MO)","m2",0,{"$f":"OFFSET(INDEX(Composições!A:J,MATCH(Orçamentária!A1172,Composições!A:A,0),8),2,0)","v":6.4571500000000004},0,{"$f":"IF(A1172<>\"\",IF(AND(#REF!=\"Padrão\",$I$4=#REF!),BDI!$B$17,IF(AND(#REF!=\"Padrão\",$I$4=#REF!),BDI!$C$17,IF(AND(#REF!=\"Diferenciado\",$I$4=#REF!),BDI!$G$17,IF(AND(#REF!=\"Diferenciado\",$I$4=#REF!),BDI!$H$17,IF(#REF!=\"ZERO\",0))))),\"\")","v":{"$error":"#REF!"}},{"$error":"#REF!"},{"$error":"#REF!"}]
["SF-01168","Concreto leve com poliestireno expandido","Serviço (Mat + MO)","m3",0,{"$f":"OFFSET(INDEX(Composições!A:J,MATCH(Orçamentária!A1173,Composições!A:A,0),8),2,0)","v":717.33762424179986},0,{"$f":"IF(A1173<>\"\",IF(AND(#REF!=\"Padrão\",$I$4=#REF!),BDI!$B$17,IF(AND(#REF!=\"Padrão\",$I$4=#REF!),BDI!$C$17,IF(AND(#REF!=\"Diferenciado\",$I$4=#REF!),BDI!$G$17,IF(AND(#REF!=\"Diferenciado\",$I$4=#REF!),BDI!$H$17,IF(#REF!=\"ZERO\",0))))),\"\")","v":{"$error":"#REF!"}},{"$error":"#REF!"},{"$error":"#REF!"}]
["SF-01169","Colagem da camada de proteção térmica de impermeabilização","Serviço (Mat + MO)","m2",0,{"$f":"OFFSET(INDEX(Composições!A:J,MATCH(Orçamentária!A1174,Composições!A:A,0),8),2,0)","v":5.8293424999999992},0,{"$f":"IF(A1174<>\"\",IF(AND(#REF!=\"Padrão\",$I$4=#REF!),BDI!$B$17,IF(AND(#REF!=\"Padrão\",$I$4=#REF!),BDI!$C$17,IF(AND(#REF!=\"Diferenciado\",$I$4=#REF!),BDI!$G$17,IF(AND(#REF!=\"Diferenciado\",$I$4=#REF!),BDI!$H$17,IF(#REF!=\"ZERO\",0))))),\"\")","v":{"$error":"#REF!"}},{"$error":"#REF!"},{"$error":"#REF!"}]
["SF-01170","Impermeabilização com Membrana de Poliuretano","Serviço (Mat + MO)","m2",0,{"$f":"OFFSET(INDEX(Composições!A:J,MATCH(Orçamentária!A1175,Composições!A:A,0),8),2,0)","v":98.50021799999999},0,{"$f":"IF(A1175<>\"\",IF(AND(#REF!=\"Padrão\",$I$4=#REF!),BDI!$B$17,IF(AND(#REF!=\"Padrão\",$I$4=#REF!),BDI!$C$17,IF(AND(#REF!=\"Diferenciado\",$I$4=#REF!),BDI!$G$17,IF(AND(#REF!=\"Diferenciado\",$I$4=#REF!),BDI!$H$17,IF(#REF!=\"ZERO\",0))))),\"\")","v":{"$error":"#REF!"}},{"$error":"#REF!"},{"$error":"#REF!"}]
["SF-01171","Impermeabilização com Manta Asfáltica","Serviço (Mat + MO)","m2",0,{"$f":"OFFSET(INDEX(Composições!A:J,MATCH(Orçamentária!A1176,Composições!A:A,0),8),2,0)","v":79.372765999999999},0,{"$f":"IF(A1176<>\"\",IF(AND(#REF!=\"Padrão\",$I$4=#REF!),BDI!$B$17,IF(AND(#REF!=\"Padrão\",$I$4=#REF!),BDI!$C$17,IF(AND(#REF!=\"Diferenciado\",$I$4=#REF!),BDI!$G$17,IF(AND(#REF!=\"Diferenciado\",$I$4=#REF!),BDI!$H$17,IF(#REF!=\"ZERO\",0))))),\"\")","v":{"$error":"#REF!"}},{"$error":"#REF!"},{"$error":"#REF!"}]
["SF-01172","Impermeabilização com manta asfáltica aluminizada","Serviço (Mat + MO)","m2",0,{"$f":"OFFSET(INDEX(Composições!A:J,MATCH(Orçamentária!A1177,Composições!A:A,0),8),2,0)","v":33.309640999999999},0,{"$f":"IF(A1177<>\"\",IF(AND(#REF!=\"Padrão\",$I$4=#REF!),BDI!$B$17,IF(AND(#REF!=\"Padrão\",$I$4=#REF!),BDI!$C$17,IF(AND(#REF!=\"Diferenciado\",$I$4=#REF!),BDI!$G$17,IF(AND(#REF!=\"Diferenciado\",$I$4=#REF!),BDI!$H$17,IF(#REF!=\"ZERO\",0))))),\"\")","v":{"$error":"#REF!"}},{"$error":"#REF!"},{"$error":"#REF!"}]
["SF-01173","Impermeabilização com manta elastomérica de etileno-propileno-dieno-monômero (EPDM)","Serviço (Mat + MO)","m2",0,{"$f":"OFFSET(INDEX(Composições!A:J,MATCH(Orçamentária!A1178,Composições!A:A,0),8),2,0)","v":20.728999999999999},0,{"$f":"IF(A1178<>\"\",IF(AND(#REF!=\"Padrão\",$I$4=#REF!),BDI!$B$17,IF(AND(#REF!=\"Padrão\",$I$4=#REF!),BDI!$C$17,IF(AND(#REF!=\"Diferenciado\",$I$4=#REF!),BDI!$G$17,IF(AND(#REF!=\"Diferenciado\",$I$4=#REF!),BDI!$H$17,IF(#REF!=\"ZERO\",0))))),\"\")","v":{"$error":"#REF!"}},{"$error":"#REF!"},{"$error":"#REF!"}]
["SF-01174","Impermeabilização com membrana acrílica","Serviço (Mat + MO)","m2",0,{"$f":"OFFSET(INDEX(Composições!A:J,MATCH(Orçamentária!A1179,Composições!A:A,0),8),2,0)","v":35.039923499999993},0,{"$f":"IF(A1179<>\"\",IF(AND(#REF!=\"Padrão\",$I$4=#REF!),BDI!$B$17,IF(AND(#REF!=\"Padrão\",$I$4=#REF!),BDI!$C$17,IF(AND(#REF!=\"Diferenciado\",$I$4=#REF!),BDI!$G$17,IF(AND(#REF!=\"Diferenciado\",$I$4=#REF!),BDI!$H$17,IF(#REF!=\"ZERO\",0))))),\"\")","v":{"$error":"#REF!"}},{"$error":"#REF!"},{"$error":"#REF!"}]
["SF-01175","Asfalto elastomérico para colagem de manta asfáltica","Serviço (Mat + MO)","m2",0,{"$f":"OFFSET(INDEX(Composições!A:J,MATCH(Orçamentária!A1180,Composições!A:A,0),8),2,0)","v":4.4174999999999995},0,{"$f":"IF(A1180<>\"\",IF(AND(#REF!=\"Padrão\",$I$4=#REF!),BDI!$B$17,IF(AND(#REF!=\"Padrão\",$I$4=#REF!),BDI!$C$17,IF(AND(#REF!=\"Diferenciado\",$I$4=#REF!),BDI!$G$17,IF(AND(#REF!=\"Diferenciado\",$I$4=#REF!),BDI!$H$17,IF(#REF!=\"ZERO\",0))))),\"\")","v":{"$error":"#REF!"}},{"$error":"#REF!"},{"$error":"#REF!"}]
["SF-01176","Impermeabilização com manta dupla (com maçarico)","Serviço (Mat + MO)","m2",0,{"$f":"OFFSET(INDEX(Composições!A:J,MATCH(Orçamentária!A1181,Composições!A:A,0),8),2,0)","v":129.2848065},0,{"$f":"IF(A1181<>\"\",IF(AND(#REF!=\"Padrão\",$I$4=#REF!),BDI!$B$17,IF(AND(#REF!=\"Padrão\",$I$4=#REF!),BDI!$C$17,IF(AND(#REF!=\"Diferenciado\",$I$4=#REF!),BDI!$G$17,IF(AND(#REF!=\"Diferenciado\",$I$4=#REF!),BDI!$H$17,IF(#REF!=\"ZERO\",0))))),\"\")","v":{"$error":"#REF!"}},{"$error":"#REF!"},{"$error":"#REF!"}]
["SF-01177","Impermeabilização com manta dupla (com asfalto elastomérico)","Serviço (Mat + MO)","m2",0,{"$f":"OFFSET(INDEX(Composições!A:J,MATCH(Orçamentária!A1182,Composições!A:A,0),8),2,0)","v":132.06642550000001},0,{"$f":"IF(A1182<>\"\",IF(AND(#REF!=\"Padrão\",$I$4=#REF!),BDI!$B$17,IF(AND(#REF!=\"Padrão\",$I$4=#REF!),BDI!$C$17,IF(AND(#REF!=\"Diferenciado\",$I$4=#REF!),BDI!$G$17,IF(AND(#REF!=\"Diferenciado\",$I$4=#REF!),BDI!$H$17,IF(#REF!=\"ZERO\",0))))),\"\")","v":{"$error":"#REF!"}},{"$error":"#REF!"},{"$error":"#REF!"}]
["SF-01178","Fibra de Polipropileno","Serviço (Mat + MO)","kg",0,"","",{"$f":"IF(A1183<>\"\",IF(AND(#REF!=\"Padrão\",$I$4=#REF!),BDI!$B$17,IF(AND(#REF!=\"Padrão\",$I$4=#REF!),BDI!$C$17,IF(AND(#REF!=\"Diferenciado\",$I$4=#REF!),BDI!$G$17,IF(AND(#REF!=\"Diferenciado\",$I$4=#REF!),BDI!$H$17,IF(#REF!=\"ZERO\",0))))),\"\")","v":{"$error":"#REF!"}},"",""]
["SF-01179","Aditivo Incorporador de Ar","Serviço (Mat + MO)","kg",0,{"$f":"OFFSET(INDEX(Composições!A:J,MATCH(Orçamentária!A1184,Composições!A:A,0),8),2,0)","v":5.1813000000000002},0,{"$f":"IF(A1184<>\"\",IF(AND(#REF!=\"Padrão\",$I$4=#REF!),BDI!$B$17,IF(AND(#REF!=\"Padrão\",$I$4=#REF!),BDI!$C$17,IF(AND(#REF!=\"Diferenciado\",$I$4=#REF!),BDI!$G$17,IF(AND(#REF!=\"Diferenciado\",$I$4=#REF!),BDI!$H$17,IF(#REF!=\"ZERO\",0))))),\"\")","v":{"$error":"#REF!"}},{"$error":"#REF!"},{"$error":"#REF!"}]
["SF-01180","Brita Nº 2","Material","m3",0,{"$f":"OFFSET(INDEX(Composições!A:J,MATCH(Orçamentária!A1185,Composições!A:A,0),8),2,0)","v":140.1214071},0,{"$f":"IF(A1185<>\"\",IF(AND(#REF!=\"Padrão\",$I$4=#REF!),BDI!$B$17,IF(AND(#REF!=\"Padrão\",$I$4=#REF!),BDI!$C$17,IF(AND(#REF!=\"Diferenciado\",$I$4=#REF!),BDI!$G$17,IF(AND(#REF!=\"Diferenciado\",$I$4=#REF!),BDI!$H$17,IF(#REF!=\"ZERO\",0))))),\"\")","v":{"$error":"#REF!"}},{"$error":"#REF!"},{"$error":"#REF!"}]
["SF-01181","Parafusos para fixação de telhas ou chapas","Consumível","un",0,"","",{"$f":"IF(A1186<>\"\",IF(AND(#REF!=\"Padrão\",$I$4=#REF!),BDI!$B$17,IF(AND(#REF!=\"Padrão\",$I$4=#REF!),BDI!$C$17,IF(AND(#REF!=\"Diferenciado\",$I$4=#REF!),BDI!$G$17,IF(AND(#REF!=\"Diferenciado\",$I$4=#REF!),BDI!$H$17,IF(#REF!=\"ZERO\",0))))),\"\")","v":{"$error":"#REF!"}},"",""]
["SF-01182","Pino para fixação e acessórios de telha de fibrocimento modulada","Consumível","un",0,"","",{"$f":"IF(A1187<>\"\",IF(AND(#REF!=\"Padrão\",$I$4=#REF!),BDI!$B$17,IF(AND(#REF!=\"Padrão\",$I$4=#REF!),BDI!$C$17,IF(AND(#REF!=\"Diferenciado\",$I$4=#REF!),BDI!$G$17,IF(AND(#REF!=\"Diferenciado\",$I$4=#REF!),BDI!$H$17,IF(#REF!=\"ZERO\",0))))),\"\")","v":{"$error":"#REF!"}},"",""]
["SF-01183","Rebite de Repuxo de 3.2 x 8 mm","Consumível","un",0,"","",{"$f":"IF(A1188<>\"\",IF(AND(#REF!=\"Padrão\",$I$4=#REF!),BDI!$B$17,IF(AND(#REF!=\"Padrão\",$I$4=#REF!),BDI!$C$17,IF(AND(#REF!=\"Diferenciado\",$I$4=#REF!),BDI!$G$17,IF(AND(#REF!=\"Diferenciado\",$I$4=#REF!),BDI!$H$17,IF(#REF!=\"ZERO\",0))))),\"\")","v":{"$error":"#REF!"}},"",""]
["SF-01184","Calha em chapa de zinco # 24 - Modelo 1","Material","m",0,"","",{"$f":"IF(A1189<>\"\",IF(AND(#REF!=\"Padrão\",$I$4=#REF!),BDI!$B$17,IF(AND(#REF!=\"Padrão\",$I$4=#REF!),BDI!$C$17,IF(AND(#REF!=\"Diferenciado\",$I$4=#REF!),BDI!$G$17,IF(AND(#REF!=\"Diferenciado\",$I$4=#REF!),BDI!$H$17,IF(#REF!=\"ZERO\",0))))),\"\")","v":{"$error":"#REF!"}},"",""]
["SF-01185","Calha em chapa de zinco # 24 - Modelo 2","Material","m",0,"","",{"$f":"IF(A1190<>\"\",IF(AND(#REF!=\"Padrão\",$I$4=#REF!),BDI!$B$17,IF(AND(#REF!=\"Padrão\",$I$4=#REF!),BDI!$C$17,IF(AND(#REF!=\"Diferenciado\",$I$4=#REF!),BDI!$G$17,IF(AND(#REF!=\"Diferenciado\",$I$4=#REF!),BDI!$H$17,IF(#REF!=\"ZERO\",0))))),\"\")","v":{"$error":"#REF!"}},"",""]
["SF-01186","Chave de fenda de 3/8\" x 10\"","Equipamento/Ferramenta","un",0,"","",{"$f":"IF(A1191<>\"\",IF(AND(#REF!=\"Padrão\",$I$4=#REF!),BDI!$B$17,IF(AND(#REF!=\"Padrão\",$I$4=#REF!),BDI!$C$17,IF(AND(#REF!=\"Diferenciado\",$I$4=#REF!),BDI!$G$17,IF(AND(#REF!=\"Diferenciado\",$I$4=#REF!),BDI!$H$17,IF(#REF!=\"ZERO\",0))))),\"\")","v":{"$error":"#REF!"}},"",""]
["SF-01187","Chave de fenda de 5/16\" x 8\"","Equipamento/Ferramenta","un",0,"","",{"$f":"IF(A1192<>\"\",IF(AND(#REF!=\"Padrão\",$I$4=#REF!),BDI!$B$17,IF(AND(#REF!=\"Padrão\",$I$4=#REF!),BDI!$C$17,IF(AND(#REF!=\"Diferenciado\",$I$4=#REF!),BDI!$G$17,IF(AND(#REF!=\"Diferenciado\",$I$4=#REF!),BDI!$H$17,IF(#REF!=\"ZERO\",0))))),\"\")","v":{"$error":"#REF!"}},"",""]
["SF-01188","Chave de fenda de 1/8\" x 3\"","Equipamento/Ferramenta","un",0,"","",{"$f":"IF(A1193<>\"\",IF(AND(#REF!=\"Padrão\",$I$4=#REF!),BDI!$B$17,IF(AND(#REF!=\"Padrão\",$I$4=#REF!),BDI!$C$17,IF(AND(#REF!=\"Diferenciado\",$I$4=#REF!),BDI!$G$17,IF(AND(#REF!=\"Diferenciado\",$I$4=#REF!),BDI!$H$17,IF(#REF!=\"ZERO\",0))))),\"\")","v":{"$error":"#REF!"}},"",""]
["SF-01189","Chave Philips PH2 3/16\" x 4\"","Equipamento/Ferramenta","un",0,"","",{"$f":"IF(A1194<>\"\",IF(AND(#REF!=\"Padrão\",$I$4=#REF!),BDI!$B$17,IF(AND(#REF!=\"Padrão\",$I$4=#REF!),BDI!$C$17,IF(AND(#REF!=\"Diferenciado\",$I$4=#REF!),BDI!$G$17,IF(AND(#REF!=\"Diferenciado\",$I$4=#REF!),BDI!$H$17,IF(#REF!=\"ZERO\",0))))),\"\")","v":{"$error":"#REF!"}},"",""]
["SF-01190","Chave Philips PH2 3/16\" x 5\"","Equipamento/Ferramenta","un",0,"","",{"$f":"IF(A1195<>\"\",IF(AND(#REF!=\"Padrão\",$I$4=#REF!),BDI!$B$17,IF(AND(#REF!=\"Padrão\",$I$4=#REF!),BDI!$C$17,IF(AND(#REF!=\"Diferenciado\",$I$4=#REF!),BDI!$G$17,IF(AND(#REF!=\"Diferenciado\",$I$4=#REF!),BDI!$H$17,IF(#REF!=\"ZERO\",0))))),\"\")","v":{"$error":"#REF!"}},"",""]
["SF-01191","Conjunto de cavadeiras (grande e pequena)","Equipamento/Ferramenta","un",0,"","",{"$f":"IF(A1196<>\"\",IF(AND(#REF!=\"Padrão\",$I$4=#REF!),BDI!$B$17,IF(AND(#REF!=\"Padrão\",$I$4=#REF!),BDI!$C$17,IF(AND(#REF!=\"Diferenciado\",$I$4=#REF!),BDI!$G$17,IF(AND(#REF!=\"Diferenciado\",$I$4=#REF!),BDI!$H$17,IF(#REF!=\"ZERO\",0))))),\"\")","v":{"$error":"#REF!"}},"",""]
["SF-01192","Conjunto de chaves allen CURTAS","Equipamento/Ferramenta","un",0,"","",{"$f":"IF(A1197<>\"\",IF(AND(#REF!=\"Padrão\",$I$4=#REF!),BDI!$B$17,IF(AND(#REF!=\"Padrão\",$I$4=#REF!),BDI!$C$17,IF(AND(#REF!=\"Diferenciado\",$I$4=#REF!),BDI!$G$17,IF(AND(#REF!=\"Diferenciado\",$I$4=#REF!),BDI!$H$17,IF(#REF!=\"ZERO\",0))))),\"\")","v":{"$error":"#REF!"}},"",""]
["SF-01193","Conjunto de chaves allen LONGAS","Equipamento/Ferramenta","un",0,"","",{"$f":"IF(A1198<>\"\",IF(AND(#REF!=\"Padrão\",$I$4=#REF!),BDI!$B$17,IF(AND(#REF!=\"Padrão\",$I$4=#REF!),BDI!$C$17,IF(AND(#REF!=\"Diferenciado\",$I$4=#REF!),BDI!$G$17,IF(AND(#REF!=\"Diferenciado\",$I$4=#REF!),BDI!$H$17,IF(#REF!=\"ZERO\",0))))),\"\")","v":{"$error":"#REF!"}},"",""]
["SF-01194","Conjunto de chaves de boca de 6 a 36 mm","Equipamento/Ferramenta","un",0,"","",{"$f":"IF(A1199<>\"\",IF(AND(#REF!=\"Padrão\",$I$4=#REF!),BDI!$B$17,IF(AND(#REF!=\"Padrão\",$I$4=#REF!),BDI!$C$17,IF(AND(#REF!=\"Diferenciado\",$I$4=#REF!),BDI!$G$17,IF(AND(#REF!=\"Diferenciado\",$I$4=#REF!),BDI!$H$17,IF(#REF!=\"ZERO\",0))))),\"\")","v":{"$error":"#REF!"}},"",""]
["SF-01195","Conjunto de chaves de boca de 1/4\" a 1 1/2\"","Equipamento/Ferramenta","un",0,"","",{"$f":"IF(A1200<>\"\",IF(AND(#REF!=\"Padrão\",$I$4=#REF!),BDI!$B$17,IF(AND(#REF!=\"Padrão\",$I$4=#REF!),BDI!$C$17,IF(AND(#REF!=\"Diferenciado\",$I$4=#REF!),BDI!$G$17,IF(AND(#REF!=\"Diferenciado\",$I$4=#REF!),BDI!$H$17,IF(#REF!=\"ZERO\",0))))),\"\")","v":{"$error":"#REF!"}},"",""]
["SF-01196","Conjunto de escovas de aço (pequena, média e grande)","Equipamento/Ferramenta","un",0,"","",{"$f":"IF(A1201<>\"\",IF(AND(#REF!=\"Padrão\",$I$4=#REF!),BDI!$B$17,IF(AND(#REF!=\"Padrão\",$I$4=#REF!),BDI!$C$17,IF(AND(#REF!=\"Diferenciado\",$I$4=#REF!),BDI!$G$17,IF(AND(#REF!=\"Diferenciado\",$I$4=#REF!),BDI!$H$17,IF(#REF!=\"ZERO\",0))))),\"\")","v":{"$error":"#REF!"}},"",""]
["SF-01197","Marreta de 2 kg","Equipamento/Ferramenta","un",0,"","",{"$f":"IF(A1202<>\"\",IF(AND(#REF!=\"Padrão\",$I$4=#REF!),BDI!$B$17,IF(AND(#REF!=\"Padrão\",$I$4=#REF!),BDI!$C$17,IF(AND(#REF!=\"Diferenciado\",$I$4=#REF!),BDI!$G$17,IF(AND(#REF!=\"Diferenciado\",$I$4=#REF!),BDI!$H$17,IF(#REF!=\"ZERO\",0))))),\"\")","v":{"$error":"#REF!"}},"",""]
["SF-01198","Marreta de 5 kg","Equipamento/Ferramenta","un",0,"","",{"$f":"IF(A1203<>\"\",IF(AND(#REF!=\"Padrão\",$I$4=#REF!),BDI!$B$17,IF(AND(#REF!=\"Padrão\",$I$4=#REF!),BDI!$C$17,IF(AND(#REF!=\"Diferenciado\",$I$4=#REF!),BDI!$G$17,IF(AND(#REF!=\"Diferenciado\",$I$4=#REF!),BDI!$H$17,IF(#REF!=\"ZERO\",0))))),\"\")","v":{"$error":"#REF!"}},"",""]
["SF-01199","Marreta de 10 kg","Equipamento/Ferramenta","un",0,"","",{"$f":"IF(A1204<>\"\",IF(AND(#REF!=\"Padrão\",$I$4=#REF!),BDI!$B$17,IF(AND(#REF!=\"Padrão\",$I$4=#REF!),BDI!$C$17,IF(AND(#REF!=\"Diferenciado\",$I$4=#REF!),BDI!$G$17,IF(AND(#REF!=\"Diferenciado\",$I$4=#REF!),BDI!$H$17,IF(#REF!=\"ZERO\",0))))),\"\")","v":{"$error":"#REF!"}},"",""]
["SF-01200","Conjunto Pé de cabra 15\"\u009d x 16mm e 24\" \u009dx 19mm","Equipamento/Ferramenta","un",0,"","",{"$f":"IF(A1205<>\"\",IF(AND(#REF!=\"Padrão\",$I$4=#REF!),BDI!$B$17,IF(AND(#REF!=\"Padrão\",$I$4=#REF!),BDI!$C$17,IF(AND(#REF!=\"Diferenciado\",$I$4=#REF!),BDI!$G$17,IF(AND(#REF!=\"Diferenciado\",$I$4=#REF!),BDI!$H$17,IF(#REF!=\"ZERO\",0))))),\"\")","v":{"$error":"#REF!"}},"",""]
["SF-01201","Conjunto de talhadeiras e ponteiro SIMPLES","Equipamento/Ferramenta","un",0,"","",{"$f":"IF(A1206<>\"\",IF(AND(#REF!=\"Padrão\",$I$4=#REF!),BDI!$B$17,IF(AND(#REF!=\"Padrão\",$I$4=#REF!),BDI!$C$17,IF(AND(#REF!=\"Diferenciado\",$I$4=#REF!),BDI!$G$17,IF(AND(#REF!=\"Diferenciado\",$I$4=#REF!),BDI!$H$17,IF(#REF!=\"ZERO\",0))))),\"\")","v":{"$error":"#REF!"}},"",""]
["SF-01202","Serra copo diamantada (conjunto de 1/2\" a 1 1/2\")","Equipamento/Ferramenta","un",0,"","",{"$f":"IF(A1207<>\"\",IF(AND(#REF!=\"Padrão\",$I$4=#REF!),BDI!$B$17,IF(AND(#REF!=\"Padrão\",$I$4=#REF!),BDI!$C$17,IF(AND(#REF!=\"Diferenciado\",$I$4=#REF!),BDI!$G$17,IF(AND(#REF!=\"Diferenciado\",$I$4=#REF!),BDI!$H$17,IF(#REF!=\"ZERO\",0))))),\"\")","v":{"$error":"#REF!"}},"",""]
["SF-01203","Cortadora de Piso a Gasolina","Equipamento/Ferramenta","un",0,"","",{"$f":"IF(A1208<>\"\",IF(AND(#REF!=\"Padrão\",$I$4=#REF!),BDI!$B$17,IF(AND(#REF!=\"Padrão\",$I$4=#REF!),BDI!$C$17,IF(AND(#REF!=\"Diferenciado\",$I$4=#REF!),BDI!$G$17,IF(AND(#REF!=\"Diferenciado\",$I$4=#REF!),BDI!$H$17,IF(#REF!=\"ZERO\",0))))),\"\")","v":{"$error":"#REF!"}},"",""]
["SF-01204","Cortadora de Parede","Equipamento/Ferramenta","un",0,"","",{"$f":"IF(A1209<>\"\",IF(AND(#REF!=\"Padrão\",$I$4=#REF!),BDI!$B$17,IF(AND(#REF!=\"Padrão\",$I$4=#REF!),BDI!$C$17,IF(AND(#REF!=\"Diferenciado\",$I$4=#REF!),BDI!$G$17,IF(AND(#REF!=\"Diferenciado\",$I$4=#REF!),BDI!$H$17,IF(#REF!=\"ZERO\",0))))),\"\")","v":{"$error":"#REF!"}},"",""]
["SF-01205","Enxada com cabo (2,5 libras)","Equipamento/Ferramenta","pç",0,"","",{"$f":"IF(A1210<>\"\",IF(AND(#REF!=\"Padrão\",$I$4=#REF!),BDI!$B$17,IF(AND(#REF!=\"Padrão\",$I$4=#REF!),BDI!$C$17,IF(AND(#REF!=\"Diferenciado\",$I$4=#REF!),BDI!$G$17,IF(AND(#REF!=\"Diferenciado\",$I$4=#REF!),BDI!$H$17,IF(#REF!=\"ZERO\",0))))),\"\")","v":{"$error":"#REF!"}},"",""]
["SF-01206","Escada extensível de alumínio dupla 2x8","Equipamento/Ferramenta","un",0,"","",{"$f":"IF(A1211<>\"\",IF(AND(#REF!=\"Padrão\",$I$4=#REF!),BDI!$B$17,IF(AND(#REF!=\"Padrão\",$I$4=#REF!),BDI!$C$17,IF(AND(#REF!=\"Diferenciado\",$I$4=#REF!),BDI!$G$17,IF(AND(#REF!=\"Diferenciado\",$I$4=#REF!),BDI!$H$17,IF(#REF!=\"ZERO\",0))))),\"\")","v":{"$error":"#REF!"}},"",""]
["SF-01207","Escada extensível de alumínio dupla 2x12","Equipamento/Ferramenta","un",0,"","",{"$f":"IF(A1212<>\"\",IF(AND(#REF!=\"Padrão\",$I$4=#REF!),BDI!$B$17,IF(AND(#REF!=\"Padrão\",$I$4=#REF!),BDI!$C$17,IF(AND(#REF!=\"Diferenciado\",$I$4=#REF!),BDI!$G$17,IF(AND(#REF!=\"Diferenciado\",$I$4=#REF!),BDI!$H$17,IF(#REF!=\"ZERO\",0))))),\"\")","v":{"$error":"#REF!"}},"",""]
["SF-01208","Escada tipo tesoura duplo acesso de fibra com 12 degraus","Equipamento/Ferramenta","un",0,"","",{"$f":"IF(A1213<>\"\",IF(AND(#REF!=\"Padrão\",$I$4=#REF!),BDI!$B$17,IF(AND(#REF!=\"Padrão\",$I$4=#REF!),BDI!$C$17,IF(AND(#REF!=\"Diferenciado\",$I$4=#REF!),BDI!$G$17,IF(AND(#REF!=\"Diferenciado\",$I$4=#REF!),BDI!$H$17,IF(#REF!=\"ZERO\",0))))),\"\")","v":{"$error":"#REF!"}},"",""]
["SF-01209","Exaustor para Trabalho em Espaço Confinado","Equipamento/Ferramenta","un",0,"","",{"$f":"IF(A1214<>\"\",IF(AND(#REF!=\"Padrão\",$I$4=#REF!),BDI!$B$17,IF(AND(#REF!=\"Padrão\",$I$4=#REF!),BDI!$C$17,IF(AND(#REF!=\"Diferenciado\",$I$4=#REF!),BDI!$G$17,IF(AND(#REF!=\"Diferenciado\",$I$4=#REF!),BDI!$H$17,IF(#REF!=\"ZERO\",0))))),\"\")","v":{"$error":"#REF!"}},"",""]
["SF-01210","Furadeira/Parafusadeira elétrica","Equipamento/Ferramenta","un",0,"","",{"$f":"IF(A1215<>\"\",IF(AND(#REF!=\"Padrão\",$I$4=#REF!),BDI!$B$17,IF(AND(#REF!=\"Padrão\",$I$4=#REF!),BDI!$C$17,IF(AND(#REF!=\"Diferenciado\",$I$4=#REF!),BDI!$G$17,IF(AND(#REF!=\"Diferenciado\",$I$4=#REF!),BDI!$H$17,IF(#REF!=\"ZERO\",0))))),\"\")","v":{"$error":"#REF!"}},"",""]
["SF-01211","Furadeira de impacto/parafusadeira à bateria","Equipamento/Ferramenta","un",0,"","",{"$f":"IF(A1216<>\"\",IF(AND(#REF!=\"Padrão\",$I$4=#REF!),BDI!$B$17,IF(AND(#REF!=\"Padrão\",$I$4=#REF!),BDI!$C$17,IF(AND(#REF!=\"Diferenciado\",$I$4=#REF!),BDI!$G$17,IF(AND(#REF!=\"Diferenciado\",$I$4=#REF!),BDI!$H$17,IF(#REF!=\"ZERO\",0))))),\"\")","v":{"$error":"#REF!"}},"",""]
["SF-01212","Jogo de Bits pontas e soquetes para Furadeira/ Parafusadeira","Equipamento/Ferramenta","cj",0,"","",{"$f":"IF(A1217<>\"\",IF(AND(#REF!=\"Padrão\",$I$4=#REF!),BDI!$B$17,IF(AND(#REF!=\"Padrão\",$I$4=#REF!),BDI!$C$17,IF(AND(#REF!=\"Diferenciado\",$I$4=#REF!),BDI!$G$17,IF(AND(#REF!=\"Diferenciado\",$I$4=#REF!),BDI!$H$17,IF(#REF!=\"ZERO\",0))))),\"\")","v":{"$error":"#REF!"}},"",""]
["SF-01213","Jogo de chaves Torx com 9 Peças","Equipamento/Ferramenta","un",0,"","",{"$f":"IF(A1218<>\"\",IF(AND(#REF!=\"Padrão\",$I$4=#REF!),BDI!$B$17,IF(AND(#REF!=\"Padrão\",$I$4=#REF!),BDI!$C$17,IF(AND(#REF!=\"Diferenciado\",$I$4=#REF!),BDI!$G$17,IF(AND(#REF!=\"Diferenciado\",$I$4=#REF!),BDI!$H$17,IF(#REF!=\"ZERO\",0))))),\"\")","v":{"$error":"#REF!"}},"",""]
["SF-01214","Mangueira de nível de 20m","Equipamento/Ferramenta","un",0,"","",{"$f":"IF(A1219<>\"\",IF(AND(#REF!=\"Padrão\",$I$4=#REF!),BDI!$B$17,IF(AND(#REF!=\"Padrão\",$I$4=#REF!),BDI!$C$17,IF(AND(#REF!=\"Diferenciado\",$I$4=#REF!),BDI!$G$17,IF(AND(#REF!=\"Diferenciado\",$I$4=#REF!),BDI!$H$17,IF(#REF!=\"ZERO\",0))))),\"\")","v":{"$error":"#REF!"}},"",""]
["SF-01215","Martelete demolidor 1kW (5 Kg)","Equipamento/Ferramenta","un",0,"","",{"$f":"IF(A1220<>\"\",IF(AND(#REF!=\"Padrão\",$I$4=#REF!),BDI!$B$17,IF(AND(#REF!=\"Padrão\",$I$4=#REF!),BDI!$C$17,IF(AND(#REF!=\"Diferenciado\",$I$4=#REF!),BDI!$G$17,IF(AND(#REF!=\"Diferenciado\",$I$4=#REF!),BDI!$H$17,IF(#REF!=\"ZERO\",0))))),\"\")","v":{"$error":"#REF!"}},"",""]
["SF-01216","Pistola aplicadora de silicone e PU","Equipamento/Ferramenta","un",0,"","",{"$f":"IF(A1221<>\"\",IF(AND(#REF!=\"Padrão\",$I$4=#REF!),BDI!$B$17,IF(AND(#REF!=\"Padrão\",$I$4=#REF!),BDI!$C$17,IF(AND(#REF!=\"Diferenciado\",$I$4=#REF!),BDI!$G$17,IF(AND(#REF!=\"Diferenciado\",$I$4=#REF!),BDI!$H$17,IF(#REF!=\"ZERO\",0))))),\"\")","v":{"$error":"#REF!"}},"",""]
["SF-01217","Serra mármore","Equipamento/Ferramenta","un",0,"","",{"$f":"IF(A1222<>\"\",IF(AND(#REF!=\"Padrão\",$I$4=#REF!),BDI!$B$17,IF(AND(#REF!=\"Padrão\",$I$4=#REF!),BDI!$C$17,IF(AND(#REF!=\"Diferenciado\",$I$4=#REF!),BDI!$G$17,IF(AND(#REF!=\"Diferenciado\",$I$4=#REF!),BDI!$H$17,IF(#REF!=\"ZERO\",0))))),\"\")","v":{"$error":"#REF!"}},"",""]
["SF-01218","Serrote para gesso","Equipamento/Ferramenta","cj",0,"",{"$f":"IF(ISNUMBER(F1223),ROUND(E1223*F1223,2),\"\")","v":""},{"$f":"IF(A1223<>\"\",IF(AND(#REF!=\"Padrão\",$I$4=#REF!),BDI!$B$17,IF(AND(#REF!=\"Padrão\",$I$4=#REF!),BDI!$C$17,IF(AND(#REF!=\"Diferenciado\",$I$4=#REF!),BDI!$G$17,IF(AND(#REF!=\"Diferenciado\",$I$4=#REF!),BDI!$H$17,IF(#REF!=\"ZERO\",0))))),\"\")","v":{"$error":"#REF!"}},{"$f":"IF(ISNUMBER(F1223),ROUND(F1223*(1+H1223),2),\"\")","v":""},{"$f":"IF(ISNUMBER(F1223),ROUND(I1223*E1223,2),\"\")","v":""}]
["SF-01219","Talha Manual para Elevação de Cargas (2 ton)","Equipamento/Ferramenta","un",0,"","",{"$f":"IF(A1224<>\"\",IF(AND(#REF!=\"Padrão\",$I$4=#REF!),BDI!$B$17,IF(AND(#REF!=\"Padrão\",$I$4=#REF!),BDI!$C$17,IF(AND(#REF!=\"Diferenciado\",$I$4=#REF!),BDI!$G$17,IF(AND(#REF!=\"Diferenciado\",$I$4=#REF!),BDI!$H$17,IF(#REF!=\"ZERO\",0))))),\"\")","v":{"$error":"#REF!"}},"",""]
["SF-01220","Veículo do tipo utilitário para transporte de mercadorias","Equipamento/Ferramenta","un",0,"","",{"$f":"IF(A1225<>\"\",IF(AND(#REF!=\"Padrão\",$I$4=#REF!),BDI!$B$17,IF(AND(#REF!=\"Padrão\",$I$4=#REF!),BDI!$C$17,IF(AND(#REF!=\"Diferenciado\",$I$4=#REF!),BDI!$G$17,IF(AND(#REF!=\"Diferenciado\",$I$4=#REF!),BDI!$H$17,IF(#REF!=\"ZERO\",0))))),\"\")","v":{"$error":"#REF!"}},"",""]
["SF-01221","Plataforma de trabalho aéreo - em ambiente interno","Equipamento/Ferramenta","un",0,"","",{"$f":"IF(A1226<>\"\",IF(AND(#REF!=\"Padrão\",$I$4=#REF!),BDI!$B$17,IF(AND(#REF!=\"Padrão\",$I$4=#REF!),BDI!$C$17,IF(AND(#REF!=\"Diferenciado\",$I$4=#REF!),BDI!$G$17,IF(AND(#REF!=\"Diferenciado\",$I$4=#REF!),BDI!$H$17,IF(#REF!=\"ZERO\",0))))),\"\")","v":{"$error":"#REF!"}},"",""]
["SF-01222","Dispositivo Individual Móvel de Proteção Contra Queda","Equipamento/Ferramenta","un",0,"","",{"$f":"IF(A1227<>\"\",IF(AND(#REF!=\"Padrão\",$I$4=#REF!),BDI!$B$17,IF(AND(#REF!=\"Padrão\",$I$4=#REF!),BDI!$C$17,IF(AND(#REF!=\"Diferenciado\",$I$4=#REF!),BDI!$G$17,IF(AND(#REF!=\"Diferenciado\",$I$4=#REF!),BDI!$H$17,IF(#REF!=\"ZERO\",0))))),\"\")","v":{"$error":"#REF!"}},"",""]
["SF-01223","Sondagem - Perfuração adicional de furo","Serviço (Mat + MO)","m",0,"","",{"$f":"IF(A1228<>\"\",IF(AND(#REF!=\"Padrão\",$I$4=#REF!),BDI!$B$17,IF(AND(#REF!=\"Padrão\",$I$4=#REF!),BDI!$C$17,IF(AND(#REF!=\"Diferenciado\",$I$4=#REF!),BDI!$G$17,IF(AND(#REF!=\"Diferenciado\",$I$4=#REF!),BDI!$H$17,IF(#REF!=\"ZERO\",0))))),\"\")","v":{"$error":"#REF!"}},"",""]
["SF-01224","Lavadora de alta pressão","Equipamento/Ferramenta","un",0,"","",{"$f":"IF(A1229<>\"\",IF(AND(#REF!=\"Padrão\",$I$4=#REF!),BDI!$B$17,IF(AND(#REF!=\"Padrão\",$I$4=#REF!),BDI!$C$17,IF(AND(#REF!=\"Diferenciado\",$I$4=#REF!),BDI!$G$17,IF(AND(#REF!=\"Diferenciado\",$I$4=#REF!),BDI!$H$17,IF(#REF!=\"ZERO\",0))))),\"\")","v":{"$error":"#REF!"}},"",""]
["SF-01225","Manta autocolante aluminizada","Material","m2",0,"","",{"$f":"IF(A1230<>\"\",IF(AND(#REF!=\"Padrão\",$I$4=#REF!),BDI!$B$17,IF(AND(#REF!=\"Padrão\",$I$4=#REF!),BDI!$C$17,IF(AND(#REF!=\"Diferenciado\",$I$4=#REF!),BDI!$G$17,IF(AND(#REF!=\"Diferenciado\",$I$4=#REF!),BDI!$H$17,IF(#REF!=\"ZERO\",0))))),\"\")","v":{"$error":"#REF!"}},"",""]
["SF-01226","Primer para aplicação de manta autocolante aluminizada","Material","Litro",0,"","",{"$f":"IF(A1231<>\"\",IF(AND(#REF!=\"Padrão\",$I$4=#REF!),BDI!$B$17,IF(AND(#REF!=\"Padrão\",$I$4=#REF!),BDI!$C$17,IF(AND(#REF!=\"Diferenciado\",$I$4=#REF!),BDI!$G$17,IF(AND(#REF!=\"Diferenciado\",$I$4=#REF!),BDI!$H$17,IF(#REF!=\"ZERO\",0))))),\"\")","v":{"$error":"#REF!"}},"",""]
["SF-01227","Estudo de Viabilidade Técnica, Laudo Técnico, Projeto Executivo, Projeto de Segurança do Trabalho, Planejamento da Obra e Plano de Manutenção – Modernização de Elevadores na SQS309","Material","un",0,"","",{"$f":"IF(A1232<>\"\",IF(AND(#REF!=\"Padrão\",$I$4=#REF!),BDI!$B$17,IF(AND(#REF!=\"Padrão\",$I$4=#REF!),BDI!$C$17,IF(AND(#REF!=\"Diferenciado\",$I$4=#REF!),BDI!$G$17,IF(AND(#REF!=\"Diferenciado\",$I$4=#REF!),BDI!$H$17,IF(#REF!=\"ZERO\",0))))),\"\")","v":{"$error":"#REF!"}},"",""]
["SF-01228","Serviços Preliminares (instalação de canteiro, mobilização de equipamentos e mão de obra e substituição de infraestrutura elétrica nos Blocos C e G) – Modernização de Elevadores na SQS309","Serviço (Mat + MO)","un",0,"","",{"$f":"IF(A1233<>\"\",IF(AND(#REF!=\"Padrão\",$I$4=#REF!),BDI!$B$17,IF(AND(#REF!=\"Padrão\",$I$4=#REF!),BDI!$C$17,IF(AND(#REF!=\"Diferenciado\",$I$4=#REF!),BDI!$G$17,IF(AND(#REF!=\"Diferenciado\",$I$4=#REF!),BDI!$H$17,IF(#REF!=\"ZERO\",0))))),\"\")","v":{"$error":"#REF!"}},"",""]
["SF-01229","Substituição de infraestrutura elétrica no Bloco D – Modernização de Elevadores na SQS309","Serviço (Mat + MO)","un",0,"","",{"$f":"IF(A1234<>\"\",IF(AND(#REF!=\"Padrão\",$I$4=#REF!),BDI!$B$17,IF(AND(#REF!=\"Padrão\",$I$4=#REF!),BDI!$C$17,IF(AND(#REF!=\"Diferenciado\",$I$4=#REF!),BDI!$G$17,IF(AND(#REF!=\"Diferenciado\",$I$4=#REF!),BDI!$H$17,IF(#REF!=\"ZERO\",0))))),\"\")","v":{"$error":"#REF!"}},"",""]
["SF-01230","Modernização dos elevadores dos Blocos C, D e G da SQS 309","Serviço (Mat + MO)","un",0,"","",{"$f":"IF(A1235<>\"\",IF(AND(#REF!=\"Padrão\",$I$4=#REF!),BDI!$B$17,IF(AND(#REF!=\"Padrão\",$I$4=#REF!),BDI!$C$17,IF(AND(#REF!=\"Diferenciado\",$I$4=#REF!),BDI!$G$17,IF(AND(#REF!=\"Diferenciado\",$I$4=#REF!),BDI!$H$17,IF(#REF!=\"ZERO\",0))))),\"\")","v":{"$error":"#REF!"}},"",""]
["SF-01231","Serviços de Assistência Técnica – Modernização de Elevadores na SQS309","Serviço (Mat + MO)","un",0,"","",{"$f":"IF(A1236<>\"\",IF(AND(#REF!=\"Padrão\",$I$4=#REF!),BDI!$B$17,IF(AND(#REF!=\"Padrão\",$I$4=#REF!),BDI!$C$17,IF(AND(#REF!=\"Diferenciado\",$I$4=#REF!),BDI!$G$17,IF(AND(#REF!=\"Diferenciado\",$I$4=#REF!),BDI!$H$17,IF(#REF!=\"ZERO\",0))))),\"\")","v":{"$error":"#REF!"}},"",""]
["SF-01232","Carpete aveludado azul royal - fornecimento e instalação","Serviço (Mat + MO)","m2",0,{"$f":"OFFSET(INDEX(Composições!A:J,MATCH(Orçamentária!A1237,Composições!A:A,0),8),2,0)","v":12.189450000000001},0,{"$f":"IF(A1237<>\"\",IF(AND(#REF!=\"Padrão\",$I$4=#REF!),BDI!$B$17,IF(AND(#REF!=\"Padrão\",$I$4=#REF!),BDI!$C$17,IF(AND(#REF!=\"Diferenciado\",$I$4=#REF!),BDI!$G$17,IF(AND(#REF!=\"Diferenciado\",$I$4=#REF!),BDI!$H$17,IF(#REF!=\"ZERO\",0))))),\"\")","v":{"$error":"#REF!"}},{"$error":"#REF!"},{"$error":"#REF!"}]
["SF-01233","Demolição de revestimento de piso têxtil (carpete)","Serviço (Mat + MO)","m2",0,{"$f":"OFFSET(INDEX(Composições!A:J,MATCH(Orçamentária!A1238,Composições!A:A,0),8),2,0)","v":1.8520250000000003},0,{"$f":"IF(A1238<>\"\",IF(AND(#REF!=\"Padrão\",$I$4=#REF!),BDI!$B$17,IF(AND(#REF!=\"Padrão\",$I$4=#REF!),BDI!$C$17,IF(AND(#REF!=\"Diferenciado\",$I$4=#REF!),BDI!$G$17,IF(AND(#REF!=\"Diferenciado\",$I$4=#REF!),BDI!$H$17,IF(#REF!=\"ZERO\",0))))),\"\")","v":{"$error":"#REF!"}},{"$error":"#REF!"},{"$error":"#REF!"}]
["SF-01234","Tapume/cortina de proteção para solda com suporte","Serviço (Mat + MO)","un",0,"","",{"$f":"IF(A1239<>\"\",IF(AND(#REF!=\"Padrão\",$I$4=#REF!),BDI!$B$17,IF(AND(#REF!=\"Padrão\",$I$4=#REF!),BDI!$C$17,IF(AND(#REF!=\"Diferenciado\",$I$4=#REF!),BDI!$G$17,IF(AND(#REF!=\"Diferenciado\",$I$4=#REF!),BDI!$H$17,IF(#REF!=\"ZERO\",0))))),\"\")","v":{"$error":"#REF!"}},"",""]
["SF-01235","Bancada em granito cinza andorinha polido - 2,40 m x 0,60 m","Serviço (Mat + MO)","un",0,{"$f":"OFFSET(INDEX(Composições!A:J,MATCH(Orçamentária!A1240,Composições!A:A,0),8),2,0)","v":873.69893397999977},0,{"$f":"IF(A1240<>\"\",IF(AND(#REF!=\"Padrão\",$I$4=#REF!),BDI!$B$17,IF(AND(#REF!=\"Padrão\",$I$4=#REF!),BDI!$C$17,IF(AND(#REF!=\"Diferenciado\",$I$4=#REF!),BDI!$G$17,IF(AND(#REF!=\"Diferenciado\",$I$4=#REF!),BDI!$H$17,IF(#REF!=\"ZERO\",0))))),\"\")","v":{"$error":"#REF!"}},{"$f":"IF(ISNUMBER(F1240),ROUND(F1240*(1+H1240),2),\"\")","v":{"$error":"#REF!"}},{"$f":"IF(ISNUMBER(F1240),ROUND(I1240*E1240,2),\"\")","v":{"$error":"#REF!"}}]
["SF-01236","Bancada em granito cinza andorinha polido - 2,50 m x 0,60 m","Serviço (Mat + MO)","un",0,{"$f":"OFFSET(INDEX(Composições!A:J,MATCH(Orçamentária!A1241,Composições!A:A,0),8),2,0)","v":906.42927188333317},0,{"$f":"IF(A1241<>\"\",IF(AND(#REF!=\"Padrão\",$I$4=#REF!),BDI!$B$17,IF(AND(#REF!=\"Padrão\",$I$4=#REF!),BDI!$C$17,IF(AND(#REF!=\"Diferenciado\",$I$4=#REF!),BDI!$G$17,IF(AND(#REF!=\"Diferenciado\",$I$4=#REF!),BDI!$H$17,IF(#REF!=\"ZERO\",0))))),\"\")","v":{"$error":"#REF!"}},{"$error":"#REF!"},{"$error":"#REF!"}]
["SF-01237","Pedido de autorização ambiental para desativação do posto de combustíveis","Serviço (Mat + MO)","un",0,"","",{"$f":"IF(A1242<>\"\",IF(AND(#REF!=\"Padrão\",$I$4=#REF!),BDI!$B$17,IF(AND(#REF!=\"Padrão\",$I$4=#REF!),BDI!$C$17,IF(AND(#REF!=\"Diferenciado\",$I$4=#REF!),BDI!$G$17,IF(AND(#REF!=\"Diferenciado\",$I$4=#REF!),BDI!$H$17,IF(#REF!=\"ZERO\",0))))),\"\")","v":{"$error":"#REF!"}},"",""]
["SF-01238","Relatório de Investigação de Passivo Ambiental - RIPA","Serviço (Mat + MO)","un",0,"","",{"$f":"IF(A1243<>\"\",IF(AND(#REF!=\"Padrão\",$I$4=#REF!),BDI!$B$17,IF(AND(#REF!=\"Padrão\",$I$4=#REF!),BDI!$C$17,IF(AND(#REF!=\"Diferenciado\",$I$4=#REF!),BDI!$G$17,IF(AND(#REF!=\"Diferenciado\",$I$4=#REF!),BDI!$H$17,IF(#REF!=\"ZERO\",0))))),\"\")","v":{"$error":"#REF!"}},"",""]
["SF-01239","Remoção do Sistema de Abastecimento Subterrâneo de Combustíveis - SASC","Serviço (Mat + MO)","un",0,"","",{"$f":"IF(A1244<>\"\",IF(AND(#REF!=\"Padrão\",$I$4=#REF!),BDI!$B$17,IF(AND(#REF!=\"Padrão\",$I$4=#REF!),BDI!$C$17,IF(AND(#REF!=\"Diferenciado\",$I$4=#REF!),BDI!$G$17,IF(AND(#REF!=\"Diferenciado\",$I$4=#REF!),BDI!$H$17,IF(#REF!=\"ZERO\",0))))),\"\")","v":{"$error":"#REF!"}},"",""]
["SF-01240","Batedor/limitador inferior para box de correr","Serviço (Mat + MO)","un",0,{"$f":"OFFSET(INDEX(Composições!A:J,MATCH(Orçamentária!A1245,Composições!A:A,0),8),2,0)","v":3.0808500000000003},0,{"$f":"IF(A1245<>\"\",IF(AND(#REF!=\"Padrão\",$I$4=#REF!),BDI!$B$17,IF(AND(#REF!=\"Padrão\",$I$4=#REF!),BDI!$C$17,IF(AND(#REF!=\"Diferenciado\",$I$4=#REF!),BDI!$G$17,IF(AND(#REF!=\"Diferenciado\",$I$4=#REF!),BDI!$H$17,IF(#REF!=\"ZERO\",0))))),\"\")","v":{"$error":"#REF!"}},{"$error":"#REF!"},{"$error":"#REF!"}]
["SF-01241","Batedor/amortecedor lateral para box de correr","Serviço (Mat + MO)","un",0,{"$f":"OFFSET(INDEX(Composições!A:J,MATCH(Orçamentária!A1246,Composições!A:A,0),8),2,0)","v":3.0808500000000003},0,{"$f":"IF(A1246<>\"\",IF(AND(#REF!=\"Padrão\",$I$4=#REF!),BDI!$B$17,IF(AND(#REF!=\"Padrão\",$I$4=#REF!),BDI!$C$17,IF(AND(#REF!=\"Diferenciado\",$I$4=#REF!),BDI!$G$17,IF(AND(#REF!=\"Diferenciado\",$I$4=#REF!),BDI!$H$17,IF(#REF!=\"ZERO\",0))))),\"\")","v":{"$error":"#REF!"}},{"$error":"#REF!"},{"$error":"#REF!"}]
["SF-01242","Batedor/limitador superior para box de correr","Serviço (Mat + MO)","un",0,{"$f":"OFFSET(INDEX(Composições!A:J,MATCH(Orçamentária!A1247,Composições!A:A,0),8),2,0)","v":3.0808500000000003},0,{"$f":"IF(A1247<>\"\",IF(AND(#REF!=\"Padrão\",$I$4=#REF!),BDI!$B$17,IF(AND(#REF!=\"Padrão\",$I$4=#REF!),BDI!$C$17,IF(AND(#REF!=\"Diferenciado\",$I$4=#REF!),BDI!$G$17,IF(AND(#REF!=\"Diferenciado\",$I$4=#REF!),BDI!$H$17,IF(#REF!=\"ZERO\",0))))),\"\")","v":{"$error":"#REF!"}},{"$error":"#REF!"},{"$error":"#REF!"}]
["SF-01243","Perfil cadeirinha em alumínio com encaixe para escova de vedação para vidro temperado 8mm","Serviço (Mat + MO)","m",0,{"$f":"OFFSET(INDEX(Composições!A:J,MATCH(Orçamentária!A1248,Composições!A:A,0),8),2,0)","v":7.7383009999999999},0,{"$f":"IF(A1248<>\"\",IF(AND(#REF!=\"Padrão\",$I$4=#REF!),BDI!$B$17,IF(AND(#REF!=\"Padrão\",$I$4=#REF!),BDI!$C$17,IF(AND(#REF!=\"Diferenciado\",$I$4=#REF!),BDI!$G$17,IF(AND(#REF!=\"Diferenciado\",$I$4=#REF!),BDI!$H$17,IF(#REF!=\"ZERO\",0))))),\"\")","v":{"$error":"#REF!"}},{"$error":"#REF!"},{"$error":"#REF!"}]
["SF-01244","Perfil em alumínio para acabamento de trilho superior - Vidro temperado 8mm","Serviço (Mat + MO)","m",0,{"$f":"OFFSET(INDEX(Composições!A:J,MATCH(Orçamentária!A1249,Composições!A:A,0),8),2,0)","v":10.590837499999999},0,{"$f":"IF(A1249<>\"\",IF(AND(#REF!=\"Padrão\",$I$4=#REF!),BDI!$B$17,IF(AND(#REF!=\"Padrão\",$I$4=#REF!),BDI!$C$17,IF(AND(#REF!=\"Diferenciado\",$I$4=#REF!),BDI!$G$17,IF(AND(#REF!=\"Diferenciado\",$I$4=#REF!),BDI!$H$17,IF(#REF!=\"ZERO\",0))))),\"\")","v":{"$error":"#REF!"}},{"$error":"#REF!"},{"$error":"#REF!"}]
["SF-01245","Capa do Perfil Guia Inferior “Click” - Vidro temperado 8mm","Serviço (Mat + MO)","m",0,{"$f":"OFFSET(INDEX(Composições!A:J,MATCH(Orçamentária!A1250,Composições!A:A,0),8),2,0)","v":4.6655925000000007},0,{"$f":"IF(A1250<>\"\",IF(AND(#REF!=\"Padrão\",$I$4=#REF!),BDI!$B$17,IF(AND(#REF!=\"Padrão\",$I$4=#REF!),BDI!$C$17,IF(AND(#REF!=\"Diferenciado\",$I$4=#REF!),BDI!$G$17,IF(AND(#REF!=\"Diferenciado\",$I$4=#REF!),BDI!$H$17,IF(#REF!=\"ZERO\",0))))),\"\")","v":{"$error":"#REF!"}},{"$error":"#REF!"},{"$error":"#REF!"}]
["SF-01246","Perfil guia inferior de alumínio para porta de giro em vidro temperado 8mm","Serviço (Mat + MO)","m",0,{"$f":"OFFSET(INDEX(Composições!A:J,MATCH(Orçamentária!A1251,Composições!A:A,0),8),2,0)","v":12.154907999999999},0,{"$f":"IF(A1251<>\"\",IF(AND(#REF!=\"Padrão\",$I$4=#REF!),BDI!$B$17,IF(AND(#REF!=\"Padrão\",$I$4=#REF!),BDI!$C$17,IF(AND(#REF!=\"Diferenciado\",$I$4=#REF!),BDI!$G$17,IF(AND(#REF!=\"Diferenciado\",$I$4=#REF!),BDI!$H$17,IF(#REF!=\"ZERO\",0))))),\"\")","v":{"$error":"#REF!"}},{"$error":"#REF!"},{"$error":"#REF!"}]
["SF-01247","Perfil guia inferior de alumínio para porta de correr em vidro temperado 8mm","Serviço (Mat + MO)","m",0,{"$f":"OFFSET(INDEX(Composições!A:J,MATCH(Orçamentária!A1252,Composições!A:A,0),8),2,0)","v":13.6243965},0,{"$f":"IF(A1252<>\"\",IF(AND(#REF!=\"Padrão\",$I$4=#REF!),BDI!$B$17,IF(AND(#REF!=\"Padrão\",$I$4=#REF!),BDI!$C$17,IF(AND(#REF!=\"Diferenciado\",$I$4=#REF!),BDI!$G$17,IF(AND(#REF!=\"Diferenciado\",$I$4=#REF!),BDI!$H$17,IF(#REF!=\"ZERO\",0))))),\"\")","v":{"$error":"#REF!"}},{"$error":"#REF!"},{"$error":"#REF!"}]
["SF-01248","Trilho superior em alumínio 53,8mm x 49,6mm, para vidro temperado","Serviço (Mat + MO)","m",0,{"$f":"OFFSET(INDEX(Composições!A:J,MATCH(Orçamentária!A1253,Composições!A:A,0),8),2,0)","v":21.605736},0,{"$f":"IF(A1253<>\"\",IF(AND(#REF!=\"Padrão\",$I$4=#REF!),BDI!$B$17,IF(AND(#REF!=\"Padrão\",$I$4=#REF!),BDI!$C$17,IF(AND(#REF!=\"Diferenciado\",$I$4=#REF!),BDI!$G$17,IF(AND(#REF!=\"Diferenciado\",$I$4=#REF!),BDI!$H$17,IF(#REF!=\"ZERO\",0))))),\"\")","v":{"$error":"#REF!"}},{"$error":"#REF!"},{"$error":"#REF!"}]
["SF-01249","Perfil em alumínio, tipo U - 10,5 x 20mm - para box de vidro temperado 8mm","Serviço (Mat + MO)","m",0,{"$f":"OFFSET(INDEX(Composições!A:J,MATCH(Orçamentária!A1254,Composições!A:A,0),8),2,0)","v":7.1332174999999998},0,{"$f":"IF(A1254<>\"\",IF(AND(#REF!=\"Padrão\",$I$4=#REF!),BDI!$B$17,IF(AND(#REF!=\"Padrão\",$I$4=#REF!),BDI!$C$17,IF(AND(#REF!=\"Diferenciado\",$I$4=#REF!),BDI!$G$17,IF(AND(#REF!=\"Diferenciado\",$I$4=#REF!),BDI!$H$17,IF(#REF!=\"ZERO\",0))))),\"\")","v":{"$error":"#REF!"}},{"$error":"#REF!"},{"$error":"#REF!"}]
["SF-01250","Perfil em alumínio , tipo U –  14 x 20mm - para box de vidro temperado 8mm","Serviço (Mat + MO)","m",0,{"$f":"OFFSET(INDEX(Composições!A:J,MATCH(Orçamentária!A1255,Composições!A:A,0),8),2,0)","v":7.5366064999999995},0,{"$f":"IF(A1255<>\"\",IF(AND(#REF!=\"Padrão\",$I$4=#REF!),BDI!$B$17,IF(AND(#REF!=\"Padrão\",$I$4=#REF!),BDI!$C$17,IF(AND(#REF!=\"Diferenciado\",$I$4=#REF!),BDI!$G$17,IF(AND(#REF!=\"Diferenciado\",$I$4=#REF!),BDI!$H$17,IF(#REF!=\"ZERO\",0))))),\"\")","v":{"$error":"#REF!"}},{"$error":"#REF!"},{"$error":"#REF!"}]
["SF-01251","Bacia convencional – Linha Residencial","Serviço (Mat + MO)","un",0,{"$f":"OFFSET(INDEX(Composições!A:J,MATCH(Orçamentária!A1256,Composições!A:A,0),8),2,0)","v":57.570805599999986},0,{"$f":"IF(A1256<>\"\",IF(AND(#REF!=\"Padrão\",$I$4=#REF!),BDI!$B$17,IF(AND(#REF!=\"Padrão\",$I$4=#REF!),BDI!$C$17,IF(AND(#REF!=\"Diferenciado\",$I$4=#REF!),BDI!$G$17,IF(AND(#REF!=\"Diferenciado\",$I$4=#REF!),BDI!$H$17,IF(#REF!=\"ZERO\",0))))),\"\")","v":{"$error":"#REF!"}},{"$error":"#REF!"},{"$error":"#REF!"}]
["SF-01252","Bidê 3 furos - Linha Residencial","Serviço (Mat + MO)","un",0,{"$f":"OFFSET(INDEX(Composições!A:J,MATCH(Orçamentária!A1257,Composições!A:A,0),8),2,0)","v":55.642305599999986},0,{"$f":"IF(A1257<>\"\",IF(AND(#REF!=\"Padrão\",$I$4=#REF!),BDI!$B$17,IF(AND(#REF!=\"Padrão\",$I$4=#REF!),BDI!$C$17,IF(AND(#REF!=\"Diferenciado\",$I$4=#REF!),BDI!$G$17,IF(AND(#REF!=\"Diferenciado\",$I$4=#REF!),BDI!$H$17,IF(#REF!=\"ZERO\",0))))),\"\")","v":{"$error":"#REF!"}},{"$error":"#REF!"},{"$error":"#REF!"}]
["SF-01253","Divisória de Vidro temperado para box de CORRER e ferragens – Linha Residencial","Serviço (Mat + MO)","m2",0,"","",{"$f":"IF(A1258<>\"\",IF(AND(#REF!=\"Padrão\",$I$4=#REF!),BDI!$B$17,IF(AND(#REF!=\"Padrão\",$I$4=#REF!),BDI!$C$17,IF(AND(#REF!=\"Diferenciado\",$I$4=#REF!),BDI!$G$17,IF(AND(#REF!=\"Diferenciado\",$I$4=#REF!),BDI!$H$17,IF(#REF!=\"ZERO\",0))))),\"\")","v":{"$error":"#REF!"}},"",""]
["SF-01254","Divisória de Vidro temperado para box com porta de GIRO e ferragens – Linha Residencial","Serviço (Mat + MO)","m2",0,"","",{"$f":"IF(A1259<>\"\",IF(AND(#REF!=\"Padrão\",$I$4=#REF!),BDI!$B$17,IF(AND(#REF!=\"Padrão\",$I$4=#REF!),BDI!$C$17,IF(AND(#REF!=\"Diferenciado\",$I$4=#REF!),BDI!$G$17,IF(AND(#REF!=\"Diferenciado\",$I$4=#REF!),BDI!$H$17,IF(#REF!=\"ZERO\",0))))),\"\")","v":{"$error":"#REF!"}},"",""]
["SF-01255","Chuveiro de metal com tubo de parede – Linha Residencial","Serviço (Mat + MO)","un",0,{"$f":"OFFSET(INDEX(Composições!A:J,MATCH(Orçamentária!A1260,Composições!A:A,0),8),2,0)","v":12.023001449999999},0,{"$f":"IF(A1260<>\"\",IF(AND(#REF!=\"Padrão\",$I$4=#REF!),BDI!$B$17,IF(AND(#REF!=\"Padrão\",$I$4=#REF!),BDI!$C$17,IF(AND(#REF!=\"Diferenciado\",$I$4=#REF!),BDI!$G$17,IF(AND(#REF!=\"Diferenciado\",$I$4=#REF!),BDI!$H$17,IF(#REF!=\"ZERO\",0))))),\"\")","v":{"$error":"#REF!"}},{"$error":"#REF!"},{"$error":"#REF!"}]
["SF-01256","Misturador para bidê – Linha Residencial","Serviço (Mat + MO)","un",0,{"$f":"OFFSET(INDEX(Composições!A:J,MATCH(Orçamentária!A1261,Composições!A:A,0),8),2,0)","v":12.5378036},0,{"$f":"IF(A1261<>\"\",IF(AND(#REF!=\"Padrão\",$I$4=#REF!),BDI!$B$17,IF(AND(#REF!=\"Padrão\",$I$4=#REF!),BDI!$C$17,IF(AND(#REF!=\"Diferenciado\",$I$4=#REF!),BDI!$G$17,IF(AND(#REF!=\"Diferenciado\",$I$4=#REF!),BDI!$H$17,IF(#REF!=\"ZERO\",0))))),\"\")","v":{"$error":"#REF!"}},{"$error":"#REF!"},{"$error":"#REF!"}]
["SF-01257","Misturador de mesa para cozinha bica móvel – Linha Residencial","Serviço (Mat + MO)","un",0,{"$f":"OFFSET(INDEX(Composições!A:J,MATCH(Orçamentária!A1262,Composições!A:A,0),8),2,0)","v":6.2030382999999993},0,{"$f":"IF(A1262<>\"\",IF(AND(#REF!=\"Padrão\",$I$4=#REF!),BDI!$B$17,IF(AND(#REF!=\"Padrão\",$I$4=#REF!),BDI!$C$17,IF(AND(#REF!=\"Diferenciado\",$I$4=#REF!),BDI!$G$17,IF(AND(#REF!=\"Diferenciado\",$I$4=#REF!),BDI!$H$17,IF(#REF!=\"ZERO\",0))))),\"\")","v":{"$error":"#REF!"}},{"$error":"#REF!"},{"$error":"#REF!"}]
["SF-01258","Misturador de mesa para lavatório bica alta – Linha Residencial","Serviço (Mat + MO)","un",0,{"$f":"OFFSET(INDEX(Composições!A:J,MATCH(Orçamentária!A1263,Composições!A:A,0),8),2,0)","v":12.5378036},0,{"$f":"IF(A1263<>\"\",IF(AND(#REF!=\"Padrão\",$I$4=#REF!),BDI!$B$17,IF(AND(#REF!=\"Padrão\",$I$4=#REF!),BDI!$C$17,IF(AND(#REF!=\"Diferenciado\",$I$4=#REF!),BDI!$G$17,IF(AND(#REF!=\"Diferenciado\",$I$4=#REF!),BDI!$H$17,IF(#REF!=\"ZERO\",0))))),\"\")","v":{"$error":"#REF!"}},{"$error":"#REF!"},{"$error":"#REF!"}]
["SF-01259","Misturador de parede para cozinha bica móvel – Linha Residencial","Serviço (Mat + MO)","un",0,{"$f":"OFFSET(INDEX(Composições!A:J,MATCH(Orçamentária!A1264,Composições!A:A,0),8),2,0)","v":6.2030382999999993},0,{"$f":"IF(A1264<>\"\",IF(AND(#REF!=\"Padrão\",$I$4=#REF!),BDI!$B$17,IF(AND(#REF!=\"Padrão\",$I$4=#REF!),BDI!$C$17,IF(AND(#REF!=\"Diferenciado\",$I$4=#REF!),BDI!$G$17,IF(AND(#REF!=\"Diferenciado\",$I$4=#REF!),BDI!$H$17,IF(#REF!=\"ZERO\",0))))),\"\")","v":{"$error":"#REF!"}},{"$error":"#REF!"},{"$error":"#REF!"}]
["SF-01260","Dobradiça automática vidro/vidro para box de vidro temperado","Serviço (Mat + MO)","un",0,{"$f":"OFFSET(INDEX(Composições!A:J,MATCH(Orçamentária!A1265,Composições!A:A,0),8),2,0)","v":6.1617000000000006},0,{"$f":"IF(A1265<>\"\",IF(AND(#REF!=\"Padrão\",$I$4=#REF!),BDI!$B$17,IF(AND(#REF!=\"Padrão\",$I$4=#REF!),BDI!$C$17,IF(AND(#REF!=\"Diferenciado\",$I$4=#REF!),BDI!$G$17,IF(AND(#REF!=\"Diferenciado\",$I$4=#REF!),BDI!$H$17,IF(#REF!=\"ZERO\",0))))),\"\")","v":{"$error":"#REF!"}},{"$error":"#REF!"},{"$error":"#REF!"}]
["SF-01261","Luminária tipo arandela – Linha Residencial","Serviço (Mat + MO)","un",0,{"$f":"OFFSET(INDEX(Composições!A:J,MATCH(Orçamentária!A1266,Composições!A:A,0),8),2,0)","v":13.9617928},0,{"$f":"IF(A1266<>\"\",IF(AND(#REF!=\"Padrão\",$I$4=#REF!),BDI!$B$17,IF(AND(#REF!=\"Padrão\",$I$4=#REF!),BDI!$C$17,IF(AND(#REF!=\"Diferenciado\",$I$4=#REF!),BDI!$G$17,IF(AND(#REF!=\"Diferenciado\",$I$4=#REF!),BDI!$H$17,IF(#REF!=\"ZERO\",0))))),\"\")","v":{"$error":"#REF!"}},{"$error":"#REF!"},{"$error":"#REF!"}]
["SF-01262","Tê misturador de transição 1/2” ou 3/4” – Linha Residencial","Serviço (Mat + MO)","un",0,{"$f":"OFFSET(INDEX(Composições!A:J,MATCH(Orçamentária!A1267,Composições!A:A,0),8),2,0)","v":29.245008999999996},0,{"$f":"IF(A1267<>\"\",IF(AND(#REF!=\"Padrão\",$I$4=#REF!),BDI!$B$17,IF(AND(#REF!=\"Padrão\",$I$4=#REF!),BDI!$C$17,IF(AND(#REF!=\"Diferenciado\",$I$4=#REF!),BDI!$G$17,IF(AND(#REF!=\"Diferenciado\",$I$4=#REF!),BDI!$H$17,IF(#REF!=\"ZERO\",0))))),\"\")","v":{"$error":"#REF!"}},{"$error":"#REF!"},{"$error":"#REF!"}]
["SF-01263","Base para válvula de descarga 1 1/2”","Serviço (Mat + MO)","un",0,{"$f":"OFFSET(INDEX(Composições!A:J,MATCH(Orçamentária!A1268,Composições!A:A,0),8),2,0)","v":24.540987100000002},0,{"$f":"IF(A1268<>\"\",IF(AND(#REF!=\"Padrão\",$I$4=#REF!),BDI!$B$17,IF(AND(#REF!=\"Padrão\",$I$4=#REF!),BDI!$C$17,IF(AND(#REF!=\"Diferenciado\",$I$4=#REF!),BDI!$G$17,IF(AND(#REF!=\"Diferenciado\",$I$4=#REF!),BDI!$H$17,IF(#REF!=\"ZERO\",0))))),\"\")","v":{"$error":"#REF!"}},{"$error":"#REF!"},{"$error":"#REF!"}]
["SF-01264","Base para válvula de descarga 1 1/4”","Serviço (Mat + MO)","un",0,{"$f":"OFFSET(INDEX(Composições!A:J,MATCH(Orçamentária!A1269,Composições!A:A,0),8),2,0)","v":24.540987100000002},0,{"$f":"IF(A1269<>\"\",IF(AND(#REF!=\"Padrão\",$I$4=#REF!),BDI!$B$17,IF(AND(#REF!=\"Padrão\",$I$4=#REF!),BDI!$C$17,IF(AND(#REF!=\"Diferenciado\",$I$4=#REF!),BDI!$G$17,IF(AND(#REF!=\"Diferenciado\",$I$4=#REF!),BDI!$H$17,IF(#REF!=\"ZERO\",0))))),\"\")","v":{"$error":"#REF!"}},{"$error":"#REF!"},{"$error":"#REF!"}]
["SF-01265","Anel de Vedação para bacia sanitária","Serviço (Mat + MO)","un",0,{"$f":"OFFSET(INDEX(Composições!A:J,MATCH(Orçamentária!A1270,Composições!A:A,0),8),2,0)","v":4.0907},0,{"$f":"IF(A1270<>\"\",IF(AND(#REF!=\"Padrão\",$I$4=#REF!),BDI!$B$17,IF(AND(#REF!=\"Padrão\",$I$4=#REF!),BDI!$C$17,IF(AND(#REF!=\"Diferenciado\",$I$4=#REF!),BDI!$G$17,IF(AND(#REF!=\"Diferenciado\",$I$4=#REF!),BDI!$H$17,IF(#REF!=\"ZERO\",0))))),\"\")","v":{"$error":"#REF!"}},{"$error":"#REF!"},{"$error":"#REF!"}]
["SF-01266","Folha de porta em madeira e MDF 2,10x0,60m","Serviço (Mat + MO)","un",0,{"$f":"OFFSET(INDEX(Composições!A:J,MATCH(Orçamentária!A1271,Composições!A:A,0),8),2,0)","v":210.34459959999998},0,{"$f":"IF(A1271<>\"\",IF(AND(#REF!=\"Padrão\",$I$4=#REF!),BDI!$B$17,IF(AND(#REF!=\"Padrão\",$I$4=#REF!),BDI!$C$17,IF(AND(#REF!=\"Diferenciado\",$I$4=#REF!),BDI!$G$17,IF(AND(#REF!=\"Diferenciado\",$I$4=#REF!),BDI!$H$17,IF(#REF!=\"ZERO\",0))))),\"\")","v":{"$error":"#REF!"}},{"$error":"#REF!"},{"$error":"#REF!"}]
["SF-01267","Folha de porta em madeira e MDF 2,10x0,70m","Serviço (Mat + MO)","un",0,{"$f":"OFFSET(INDEX(Composições!A:J,MATCH(Orçamentária!A1272,Composições!A:A,0),8),2,0)","v":227.33322920000001},0,{"$f":"IF(A1272<>\"\",IF(AND(#REF!=\"Padrão\",$I$4=#REF!),BDI!$B$17,IF(AND(#REF!=\"Padrão\",$I$4=#REF!),BDI!$C$17,IF(AND(#REF!=\"Diferenciado\",$I$4=#REF!),BDI!$G$17,IF(AND(#REF!=\"Diferenciado\",$I$4=#REF!),BDI!$H$17,IF(#REF!=\"ZERO\",0))))),\"\")","v":{"$error":"#REF!"}},{"$error":"#REF!"},{"$error":"#REF!"}]
["SF-01268","Folha de porta em madeira e MDF 2,10x0,80m","Serviço (Mat + MO)","un",0,{"$f":"OFFSET(INDEX(Composições!A:J,MATCH(Orçamentária!A1273,Composições!A:A,0),8),2,0)","v":271.93835879999995},0,{"$f":"IF(A1273<>\"\",IF(AND(#REF!=\"Padrão\",$I$4=#REF!),BDI!$B$17,IF(AND(#REF!=\"Padrão\",$I$4=#REF!),BDI!$C$17,IF(AND(#REF!=\"Diferenciado\",$I$4=#REF!),BDI!$G$17,IF(AND(#REF!=\"Diferenciado\",$I$4=#REF!),BDI!$H$17,IF(#REF!=\"ZERO\",0))))),\"\")","v":{"$error":"#REF!"}},{"$error":"#REF!"},{"$error":"#REF!"}]
["SF-01269","Folha de porta em madeira e MDF 2,10x0,90m","Serviço (Mat + MO)","un",0,{"$f":"OFFSET(INDEX(Composições!A:J,MATCH(Orçamentária!A1274,Composições!A:A,0),8),2,0)","v":254.26148839999999},0,{"$f":"IF(A1274<>\"\",IF(AND(#REF!=\"Padrão\",$I$4=#REF!),BDI!$B$17,IF(AND(#REF!=\"Padrão\",$I$4=#REF!),BDI!$C$17,IF(AND(#REF!=\"Diferenciado\",$I$4=#REF!),BDI!$G$17,IF(AND(#REF!=\"Diferenciado\",$I$4=#REF!),BDI!$H$17,IF(#REF!=\"ZERO\",0))))),\"\")","v":{"$error":"#REF!"}},{"$error":"#REF!"},{"$error":"#REF!"}]
["SF-01270","Remoção de boiler","Serviço (Mat + MO)","un",0,{"$f":"OFFSET(INDEX(Composições!A:J,MATCH(Orçamentária!A1275,Composições!A:A,0),8),2,0)","v":69.995999999999995},0,{"$f":"IF(A1275<>\"\",IF(AND(#REF!=\"Padrão\",$I$4=#REF!),BDI!$B$17,IF(AND(#REF!=\"Padrão\",$I$4=#REF!),BDI!$C$17,IF(AND(#REF!=\"Diferenciado\",$I$4=#REF!),BDI!$G$17,IF(AND(#REF!=\"Diferenciado\",$I$4=#REF!),BDI!$H$17,IF(#REF!=\"ZERO\",0))))),\"\")","v":{"$error":"#REF!"}},{"$error":"#REF!"},{"$error":"#REF!"}]
["SF-01271","Remoção de tacos de madeira","Serviço (Mat + MO)","m2",0,{"$f":"OFFSET(INDEX(Composições!A:J,MATCH(Orçamentária!A1276,Composições!A:A,0),8),2,0)","v":24.79158},0,{"$f":"IF(A1276<>\"\",IF(AND(#REF!=\"Padrão\",$I$4=#REF!),BDI!$B$17,IF(AND(#REF!=\"Padrão\",$I$4=#REF!),BDI!$C$17,IF(AND(#REF!=\"Diferenciado\",$I$4=#REF!),BDI!$G$17,IF(AND(#REF!=\"Diferenciado\",$I$4=#REF!),BDI!$H$17,IF(#REF!=\"ZERO\",0))))),\"\")","v":{"$error":"#REF!"}},{"$error":"#REF!"},{"$error":"#REF!"}]
["SF-01272","Cerâmica 30x60cm - Glacier White - Portobello – Linha Residencial","Serviço (Mat + MO)","m2",0,{"$f":"OFFSET(INDEX(Composições!A:J,MATCH(Orçamentária!A1277,Composições!A:A,0),8),2,0)","v":25.792880000000004},0,{"$f":"IF(A1277<>\"\",IF(AND(#REF!=\"Padrão\",$I$4=#REF!),BDI!$B$17,IF(AND(#REF!=\"Padrão\",$I$4=#REF!),BDI!$C$17,IF(AND(#REF!=\"Diferenciado\",$I$4=#REF!),BDI!$G$17,IF(AND(#REF!=\"Diferenciado\",$I$4=#REF!),BDI!$H$17,IF(#REF!=\"ZERO\",0))))),\"\")","v":{"$error":"#REF!"}},{"$error":"#REF!"},{"$error":"#REF!"}]
["SF-01273","Instalação de tacos de madeira reaproveitados","Serviço (Mat + MO)","m2",0,{"$f":"OFFSET(INDEX(Composições!A:J,MATCH(Orçamentária!A1278,Composições!A:A,0),8),2,0)","v":28.331636249999995},0,{"$f":"IF(A1278<>\"\",IF(AND(#REF!=\"Padrão\",$I$4=#REF!),BDI!$B$17,IF(AND(#REF!=\"Padrão\",$I$4=#REF!),BDI!$C$17,IF(AND(#REF!=\"Diferenciado\",$I$4=#REF!),BDI!$G$17,IF(AND(#REF!=\"Diferenciado\",$I$4=#REF!),BDI!$H$17,IF(#REF!=\"ZERO\",0))))),\"\")","v":{"$error":"#REF!"}},{"$error":"#REF!"},{"$error":"#REF!"}]
["SF-01274","Cortina de linho sintético / BLECAUTE COM VARÃO – Linha Residencial","Serviço (Mat + MO)","m",0,"","",{"$f":"IF(A1279<>\"\",IF(AND(#REF!=\"Padrão\",$I$4=#REF!),BDI!$B$17,IF(AND(#REF!=\"Padrão\",$I$4=#REF!),BDI!$C$17,IF(AND(#REF!=\"Diferenciado\",$I$4=#REF!),BDI!$G$17,IF(AND(#REF!=\"Diferenciado\",$I$4=#REF!),BDI!$H$17,IF(#REF!=\"ZERO\",0))))),\"\")","v":{"$error":"#REF!"}},"",""]
["SF-01275","Cortina de linho sintético / BLECAUTE SEM VARÃO – Linha Residencial","Serviço (Mat + MO)","m",0,"","",{"$f":"IF(A1280<>\"\",IF(AND(#REF!=\"Padrão\",$I$4=#REF!),BDI!$B$17,IF(AND(#REF!=\"Padrão\",$I$4=#REF!),BDI!$C$17,IF(AND(#REF!=\"Diferenciado\",$I$4=#REF!),BDI!$G$17,IF(AND(#REF!=\"Diferenciado\",$I$4=#REF!),BDI!$H$17,IF(#REF!=\"ZERO\",0))))),\"\")","v":{"$error":"#REF!"}},"",""]
["SF-01276","Cortina de linho sintético / FORRO COM VARÃO – Linha Residencial","Serviço (Mat + MO)","m",0,"","",{"$f":"IF(A1281<>\"\",IF(AND(#REF!=\"Padrão\",$I$4=#REF!),BDI!$B$17,IF(AND(#REF!=\"Padrão\",$I$4=#REF!),BDI!$C$17,IF(AND(#REF!=\"Diferenciado\",$I$4=#REF!),BDI!$G$17,IF(AND(#REF!=\"Diferenciado\",$I$4=#REF!),BDI!$H$17,IF(#REF!=\"ZERO\",0))))),\"\")","v":{"$error":"#REF!"}},"",""]
["SF-01277","Cortina de linho sintético / FORRO SEM VARÃO – Linha Residencial","Serviço (Mat + MO)","m",0,"","",{"$f":"IF(A1282<>\"\",IF(AND(#REF!=\"Padrão\",$I$4=#REF!),BDI!$B$17,IF(AND(#REF!=\"Padrão\",$I$4=#REF!),BDI!$C$17,IF(AND(#REF!=\"Diferenciado\",$I$4=#REF!),BDI!$G$17,IF(AND(#REF!=\"Diferenciado\",$I$4=#REF!),BDI!$H$17,IF(#REF!=\"ZERO\",0))))),\"\")","v":{"$error":"#REF!"}},"",""]
["SF-01278","Instalação de cortinas reaproveitadas","Serviço (Mat + MO)","m",0,{"$f":"OFFSET(INDEX(Composições!A:J,MATCH(Orçamentária!A1283,Composições!A:A,0),8),2,0)","v":9.6852499999999999},0,{"$f":"IF(A1283<>\"\",IF(AND(#REF!=\"Padrão\",$I$4=#REF!),BDI!$B$17,IF(AND(#REF!=\"Padrão\",$I$4=#REF!),BDI!$C$17,IF(AND(#REF!=\"Diferenciado\",$I$4=#REF!),BDI!$G$17,IF(AND(#REF!=\"Diferenciado\",$I$4=#REF!),BDI!$H$17,IF(#REF!=\"ZERO\",0))))),\"\")","v":{"$error":"#REF!"}},{"$error":"#REF!"},{"$error":"#REF!"}]
["SF-01279","Tubo CPVC soldável 22mm – Linha Residencial","Serviço (Mat + MO)","m",0,{"$f":"OFFSET(INDEX(Composições!A:J,MATCH(Orçamentária!A1284,Composições!A:A,0),8),2,0)","v":26.1491775},0,{"$f":"IF(A1284<>\"\",IF(AND(#REF!=\"Padrão\",$I$4=#REF!),BDI!$B$17,IF(AND(#REF!=\"Padrão\",$I$4=#REF!),BDI!$C$17,IF(AND(#REF!=\"Diferenciado\",$I$4=#REF!),BDI!$G$17,IF(AND(#REF!=\"Diferenciado\",$I$4=#REF!),BDI!$H$17,IF(#REF!=\"ZERO\",0))))),\"\")","v":{"$error":"#REF!"}},{"$error":"#REF!"},{"$error":"#REF!"}]
["SF-01280","Tubo CPVC soldável 28mm – Linha Residencial","Serviço (Mat + MO)","m",0,{"$f":"OFFSET(INDEX(Composições!A:J,MATCH(Orçamentária!A1285,Composições!A:A,0),8),2,0)","v":36.431037000000003},0,{"$f":"IF(A1285<>\"\",IF(AND(#REF!=\"Padrão\",$I$4=#REF!),BDI!$B$17,IF(AND(#REF!=\"Padrão\",$I$4=#REF!),BDI!$C$17,IF(AND(#REF!=\"Diferenciado\",$I$4=#REF!),BDI!$G$17,IF(AND(#REF!=\"Diferenciado\",$I$4=#REF!),BDI!$H$17,IF(#REF!=\"ZERO\",0))))),\"\")","v":{"$error":"#REF!"}},{"$error":"#REF!"},{"$error":"#REF!"}]
["SF-01281","Instalação de bidê reaproveitado","Serviço (Mat + MO)","un",0,{"$f":"OFFSET(INDEX(Composições!A:J,MATCH(Orçamentária!A1286,Composições!A:A,0),8),2,0)","v":55.642305599999986},0,{"$f":"IF(A1286<>\"\",IF(AND(#REF!=\"Padrão\",$I$4=#REF!),BDI!$B$17,IF(AND(#REF!=\"Padrão\",$I$4=#REF!),BDI!$C$17,IF(AND(#REF!=\"Diferenciado\",$I$4=#REF!),BDI!$G$17,IF(AND(#REF!=\"Diferenciado\",$I$4=#REF!),BDI!$H$17,IF(#REF!=\"ZERO\",0))))),\"\")","v":{"$error":"#REF!"}},{"$error":"#REF!"},{"$error":"#REF!"}]
["SF-01282","Aquecedor elétrico para pia – Linha Residencial","Serviço (Mat + MO)","un",0,{"$f":"OFFSET(INDEX(Composições!A:J,MATCH(Orçamentária!A1287,Composições!A:A,0),8),2,0)","v":19.371071900000004},{"$f":"IF(ISNUMBER(F1287),ROUND(E1287*F1287,2),\"\")","v":0},{"$f":"IF(A1287<>\"\",IF(AND(#REF!=\"Padrão\",$I$4=#REF!),BDI!$B$17,IF(AND(#REF!=\"Padrão\",$I$4=#REF!),BDI!$C$17,IF(AND(#REF!=\"Diferenciado\",$I$4=#REF!),BDI!$G$17,IF(AND(#REF!=\"Diferenciado\",$I$4=#REF!),BDI!$H$17,IF(#REF!=\"ZERO\",0))))),\"\")","v":{"$error":"#REF!"}},{"$error":"#REF!"},{"$error":"#REF!"}]
["SF-01283","Chuveiro elétrico – Linha Residencial","Serviço (Mat + MO)","un",0,{"$f":"OFFSET(INDEX(Composições!A:J,MATCH(Orçamentária!A1288,Composições!A:A,0),8),2,0)","v":12.023001449999999},0,{"$f":"IF(A1288<>\"\",IF(AND(#REF!=\"Padrão\",$I$4=#REF!),BDI!$B$17,IF(AND(#REF!=\"Padrão\",$I$4=#REF!),BDI!$C$17,IF(AND(#REF!=\"Diferenciado\",$I$4=#REF!),BDI!$G$17,IF(AND(#REF!=\"Diferenciado\",$I$4=#REF!),BDI!$H$17,IF(#REF!=\"ZERO\",0))))),\"\")","v":{"$error":"#REF!"}},{"$error":"#REF!"},{"$error":"#REF!"}]
["SF-01284","Instalação de boiler reaproveitado","Serviço (Mat + MO)","un",0,{"$f":"OFFSET(INDEX(Composições!A:J,MATCH(Orçamentária!A1289,Composições!A:A,0),8),2,0)","v":233.71672000000001},0,{"$f":"IF(A1289<>\"\",IF(AND(#REF!=\"Padrão\",$I$4=#REF!),BDI!$B$17,IF(AND(#REF!=\"Padrão\",$I$4=#REF!),BDI!$C$17,IF(AND(#REF!=\"Diferenciado\",$I$4=#REF!),BDI!$G$17,IF(AND(#REF!=\"Diferenciado\",$I$4=#REF!),BDI!$H$17,IF(#REF!=\"ZERO\",0))))),\"\")","v":{"$error":"#REF!"}},{"$error":"#REF!"},{"$error":"#REF!"}]
["SF-01285","Prateleira – Linha Residencial","Serviço (Mat + MO)","un",0,{"$f":"OFFSET(INDEX(Composições!A:J,MATCH(Orçamentária!A1290,Composições!A:A,0),8),2,0)","v":16.9208414},0,{"$f":"IF(A1290<>\"\",IF(AND(#REF!=\"Padrão\",$I$4=#REF!),BDI!$B$17,IF(AND(#REF!=\"Padrão\",$I$4=#REF!),BDI!$C$17,IF(AND(#REF!=\"Diferenciado\",$I$4=#REF!),BDI!$G$17,IF(AND(#REF!=\"Diferenciado\",$I$4=#REF!),BDI!$H$17,IF(#REF!=\"ZERO\",0))))),\"\")","v":{"$error":"#REF!"}},{"$error":"#REF!"},{"$error":"#REF!"}]
["SF-01286","Saboneteira – Linha Residencial","Serviço (Mat + MO)","un",0,{"$f":"OFFSET(INDEX(Composições!A:J,MATCH(Orçamentária!A1291,Composições!A:A,0),8),2,0)","v":8.4615018000000006},0,{"$f":"IF(A1291<>\"\",IF(AND(#REF!=\"Padrão\",$I$4=#REF!),BDI!$B$17,IF(AND(#REF!=\"Padrão\",$I$4=#REF!),BDI!$C$17,IF(AND(#REF!=\"Diferenciado\",$I$4=#REF!),BDI!$G$17,IF(AND(#REF!=\"Diferenciado\",$I$4=#REF!),BDI!$H$17,IF(#REF!=\"ZERO\",0))))),\"\")","v":{"$error":"#REF!"}},{"$error":"#REF!"},{"$error":"#REF!"}]
["SF-01287","Módulo campainha eletrônica – Linha Residencial","Serviço (Mat + MO)","un",0,{"$f":"OFFSET(INDEX(Composições!A:J,MATCH(Orçamentária!A1292,Composições!A:A,0),8),2,0)","v":13.911534},0,{"$f":"IF(A1292<>\"\",IF(AND(#REF!=\"Padrão\",$I$4=#REF!),BDI!$B$17,IF(AND(#REF!=\"Padrão\",$I$4=#REF!),BDI!$C$17,IF(AND(#REF!=\"Diferenciado\",$I$4=#REF!),BDI!$G$17,IF(AND(#REF!=\"Diferenciado\",$I$4=#REF!),BDI!$H$17,IF(#REF!=\"ZERO\",0))))),\"\")","v":{"$error":"#REF!"}},{"$f":"IF(ISNUMBER(F1292),ROUND(F1292*(1+H1292),2),\"\")","v":{"$error":"#REF!"}},{"$f":"IF(ISNUMBER(F1292),ROUND(I1292*E1292,2),\"\")","v":{"$error":"#REF!"}}]
["SF-01288","Módulo pulsador – Linha Residencial","Serviço (Mat + MO)","un",0,{"$f":"OFFSET(INDEX(Composições!A:J,MATCH(Orçamentária!A1293,Composições!A:A,0),8),2,0)","v":14.114149999999999},0,{"$f":"IF(A1293<>\"\",IF(AND(#REF!=\"Padrão\",$I$4=#REF!),BDI!$B$17,IF(AND(#REF!=\"Padrão\",$I$4=#REF!),BDI!$C$17,IF(AND(#REF!=\"Diferenciado\",$I$4=#REF!),BDI!$G$17,IF(AND(#REF!=\"Diferenciado\",$I$4=#REF!),BDI!$H$17,IF(#REF!=\"ZERO\",0))))),\"\")","v":{"$error":"#REF!"}},{"$error":"#REF!"},{"$error":"#REF!"}]
["SF-01289","Luminária redonda de sobrepor (plafond) – Linha Residencial","Serviço (Mat + MO)","un",0,{"$f":"OFFSET(INDEX(Composições!A:J,MATCH(Orçamentária!A1294,Composições!A:A,0),8),2,0)","v":80.655573799999985},0,{"$f":"IF(A1294<>\"\",IF(AND(#REF!=\"Padrão\",$I$4=#REF!),BDI!$B$17,IF(AND(#REF!=\"Padrão\",$I$4=#REF!),BDI!$C$17,IF(AND(#REF!=\"Diferenciado\",$I$4=#REF!),BDI!$G$17,IF(AND(#REF!=\"Diferenciado\",$I$4=#REF!),BDI!$H$17,IF(#REF!=\"ZERO\",0))))),\"\")","v":{"$error":"#REF!"}},{"$error":"#REF!"},{"$error":"#REF!"}]
["SF-01290","Acabamento Passa-fio 59mm","Consumível","un",0,"","",{"$f":"IF(A1295<>\"\",IF(AND(#REF!=\"Padrão\",$I$4=#REF!),BDI!$B$17,IF(AND(#REF!=\"Padrão\",$I$4=#REF!),BDI!$C$17,IF(AND(#REF!=\"Diferenciado\",$I$4=#REF!),BDI!$G$17,IF(AND(#REF!=\"Diferenciado\",$I$4=#REF!),BDI!$H$17,IF(#REF!=\"ZERO\",0))))),\"\")","v":{"$error":"#REF!"}},"",""]
["SF-01291","Armário em MDF laminado com porta e módulo de gaveta – Linha Residencial","Serviço (Mat + MO)","m2",0,"","",{"$f":"IF(A1296<>\"\",IF(AND(#REF!=\"Padrão\",$I$4=#REF!),BDI!$B$17,IF(AND(#REF!=\"Padrão\",$I$4=#REF!),BDI!$C$17,IF(AND(#REF!=\"Diferenciado\",$I$4=#REF!),BDI!$G$17,IF(AND(#REF!=\"Diferenciado\",$I$4=#REF!),BDI!$H$17,IF(#REF!=\"ZERO\",0))))),\"\")","v":{"$error":"#REF!"}},"",""]
["SF-01292","Difusor em acrílico e aro metálico para luminárias (modelo Edifício Principal - INTERIOR)","Material","un",0,"","",{"$f":"IF(A1297<>\"\",IF(AND(#REF!=\"Padrão\",$I$4=#REF!),BDI!$B$17,IF(AND(#REF!=\"Padrão\",$I$4=#REF!),BDI!$C$17,IF(AND(#REF!=\"Diferenciado\",$I$4=#REF!),BDI!$G$17,IF(AND(#REF!=\"Diferenciado\",$I$4=#REF!),BDI!$H$17,IF(#REF!=\"ZERO\",0))))),\"\")","v":{"$error":"#REF!"}},"",""]
["SF-01293","Difusor em acrílico e aro metálico para luminárias (modelo Edifício Principal - EXTERIOR)","Material","un",0,"","",{"$f":"IF(A1298<>\"\",IF(AND(#REF!=\"Padrão\",$I$4=#REF!),BDI!$B$17,IF(AND(#REF!=\"Padrão\",$I$4=#REF!),BDI!$C$17,IF(AND(#REF!=\"Diferenciado\",$I$4=#REF!),BDI!$G$17,IF(AND(#REF!=\"Diferenciado\",$I$4=#REF!),BDI!$H$17,IF(#REF!=\"ZERO\",0))))),\"\")","v":{"$error":"#REF!"}},"",""]
["SF-01294","Difusor em acrílico e presilhas metálicas para luminárias (modelo Comissões)","Material","un",0,"","",{"$f":"IF(A1299<>\"\",IF(AND(#REF!=\"Padrão\",$I$4=#REF!),BDI!$B$17,IF(AND(#REF!=\"Padrão\",$I$4=#REF!),BDI!$C$17,IF(AND(#REF!=\"Diferenciado\",$I$4=#REF!),BDI!$G$17,IF(AND(#REF!=\"Diferenciado\",$I$4=#REF!),BDI!$H$17,IF(#REF!=\"ZERO\",0))))),\"\")","v":{"$error":"#REF!"}},"",""]
["SF-01295","Bandeira de porta, em madeira e MDF","Serviço (Mat + MO)","m²",0,{"$f":"OFFSET(INDEX(Composições!A:J,MATCH(Orçamentária!A1300,Composições!A:A,0),8),2,0)","v":180.01335711666667},0,{"$f":"IF(A1300<>\"\",IF(AND(#REF!=\"Padrão\",$I$4=#REF!),BDI!$B$17,IF(AND(#REF!=\"Padrão\",$I$4=#REF!),BDI!$C$17,IF(AND(#REF!=\"Diferenciado\",$I$4=#REF!),BDI!$G$17,IF(AND(#REF!=\"Diferenciado\",$I$4=#REF!),BDI!$H$17,IF(#REF!=\"ZERO\",0))))),\"\")","v":{"$error":"#REF!"}},{"$f":"IF(ISNUMBER(F1300),ROUND(F1300*(1+H1300),2),\"\")","v":{"$error":"#REF!"}},{"$f":"IF(ISNUMBER(F1300),ROUND(I1300*E1300,2),\"\")","v":{"$error":"#REF!"}}]
["SF-01296","Bandeira de porta, em madeira pintada","Serviço (Mat + MO)","m²",0,{"$f":"OFFSET(INDEX(Composições!A:J,MATCH(Orçamentária!A1301,Composições!A:A,0),8),2,0)","v":193.64843568809519},0,{"$f":"IF(A1301<>\"\",IF(AND(#REF!=\"Padrão\",$I$4=#REF!),BDI!$B$17,IF(AND(#REF!=\"Padrão\",$I$4=#REF!),BDI!$C$17,IF(AND(#REF!=\"Diferenciado\",$I$4=#REF!),BDI!$G$17,IF(AND(#REF!=\"Diferenciado\",$I$4=#REF!),BDI!$H$17,IF(#REF!=\"ZERO\",0))))),\"\")","v":{"$error":"#REF!"}},{"$error":"#REF!"},{"$error":"#REF!"}]
["SF-01297","Levantamentos como construído (“As Built”) e Relatório de Avaliação Técnica – Bloco 01 (PRODASEN)","Serviço (Mat + MO)","un",0,"","",{"$f":"IF(A1302<>\"\",IF(AND(#REF!=\"Padrão\",$I$4=#REF!),BDI!$B$17,IF(AND(#REF!=\"Padrão\",$I$4=#REF!),BDI!$C$17,IF(AND(#REF!=\"Diferenciado\",$I$4=#REF!),BDI!$G$17,IF(AND(#REF!=\"Diferenciado\",$I$4=#REF!),BDI!$H$17,IF(#REF!=\"ZERO\",0))))),\"\")","v":{"$error":"#REF!"}},"",""]
["SF-01298","Levantamentos como construído (“As Built”) e Relatório de Avaliação Técnica – Áreas Técnicas 10 (CM-3), 13 (CM-2) e Espaços Externos","Serviço (Mat + MO)","un",0,"","",{"$f":"IF(A1303<>\"\",IF(AND(#REF!=\"Padrão\",$I$4=#REF!),BDI!$B$17,IF(AND(#REF!=\"Padrão\",$I$4=#REF!),BDI!$C$17,IF(AND(#REF!=\"Diferenciado\",$I$4=#REF!),BDI!$G$17,IF(AND(#REF!=\"Diferenciado\",$I$4=#REF!),BDI!$H$17,IF(#REF!=\"ZERO\",0))))),\"\")","v":{"$error":"#REF!"}},"",""]
["SF-01299","Levantamentos como construído (“As Built”) e Relatório de Avaliação Técnica - Anexo II e Túnel do Tempo","Serviço (Mat + MO)","un",0,"","",{"$f":"IF(A1304<>\"\",IF(AND(#REF!=\"Padrão\",$I$4=#REF!),BDI!$B$17,IF(AND(#REF!=\"Padrão\",$I$4=#REF!),BDI!$C$17,IF(AND(#REF!=\"Diferenciado\",$I$4=#REF!),BDI!$G$17,IF(AND(#REF!=\"Diferenciado\",$I$4=#REF!),BDI!$H$17,IF(#REF!=\"ZERO\",0))))),\"\")","v":{"$error":"#REF!"}},"",""]
["SF-01300","Estudos Preliminares de Prevenção e Combate a Incêndio e Pânico (incluindo Acessibilidade e Segurança de Pessoa com Deficiência) - Bloco 01 (PRODASEN)","Serviço (Mat + MO)","un",0,"","",{"$f":"IF(A1305<>\"\",IF(AND(#REF!=\"Padrão\",$I$4=#REF!),BDI!$B$17,IF(AND(#REF!=\"Padrão\",$I$4=#REF!),BDI!$C$17,IF(AND(#REF!=\"Diferenciado\",$I$4=#REF!),BDI!$G$17,IF(AND(#REF!=\"Diferenciado\",$I$4=#REF!),BDI!$H$17,IF(#REF!=\"ZERO\",0))))),\"\")","v":{"$error":"#REF!"}},"",""]
["SF-01301","Estudos Preliminares de Prevenção e Combate a Incêndio e Pânico (incluindo Acessibilidade e Segurança de Pessoa com Deficiência) - Áreas Técnicas 10 (CM-3), 13 (CM-2) e Espaços Externos","Serviço (Mat + MO)","un",0,"","",{"$f":"IF(A1306<>\"\",IF(AND(#REF!=\"Padrão\",$I$4=#REF!),BDI!$B$17,IF(AND(#REF!=\"Padrão\",$I$4=#REF!),BDI!$C$17,IF(AND(#REF!=\"Diferenciado\",$I$4=#REF!),BDI!$G$17,IF(AND(#REF!=\"Diferenciado\",$I$4=#REF!),BDI!$H$17,IF(#REF!=\"ZERO\",0))))),\"\")","v":{"$error":"#REF!"}},"",""]
["SF-01302","Estudos Preliminares de Prevenção e Combate a Incêndio e Pânico (incluindo Acessibilidade e Segurança de Pessoa com Deficiência) - Anexo II e Túnel do Tempo","Serviço (Mat + MO)","un",0,"","",{"$f":"IF(A1307<>\"\",IF(AND(#REF!=\"Padrão\",$I$4=#REF!),BDI!$B$17,IF(AND(#REF!=\"Padrão\",$I$4=#REF!),BDI!$C$17,IF(AND(#REF!=\"Diferenciado\",$I$4=#REF!),BDI!$G$17,IF(AND(#REF!=\"Diferenciado\",$I$4=#REF!),BDI!$H$17,IF(#REF!=\"ZERO\",0))))),\"\")","v":{"$error":"#REF!"}},"",""]
["SF-01303","Anteprojetos e Orçamentos Preliminares para Prevenção e Combate a Incêndio e Pânico (incluindo Acessibilidade e Segurança de Pessoa com Deficiência) - Bloco 01 (PRODASEN)","Serviço (Mat + MO)","un",0,"","",{"$f":"IF(A1308<>\"\",IF(AND(#REF!=\"Padrão\",$I$4=#REF!),BDI!$B$17,IF(AND(#REF!=\"Padrão\",$I$4=#REF!),BDI!$C$17,IF(AND(#REF!=\"Diferenciado\",$I$4=#REF!),BDI!$G$17,IF(AND(#REF!=\"Diferenciado\",$I$4=#REF!),BDI!$H$17,IF(#REF!=\"ZERO\",0))))),\"\")","v":{"$error":"#REF!"}},"",""]
["SF-01304","Anteprojetos e Orçamentos Preliminares para Prevenção e Combate a Incêndio e Pânico (incluindo Acessibilidade e Segurança de Pessoa com Deficiência) - Áreas Técnicas 10 (CM-3), 13 (CM-2) e Espaços Externos","Serviço (Mat + MO)","un",0,"","",{"$f":"IF(A1309<>\"\",IF(AND(#REF!=\"Padrão\",$I$4=#REF!),BDI!$B$17,IF(AND(#REF!=\"Padrão\",$I$4=#REF!),BDI!$C$17,IF(AND(#REF!=\"Diferenciado\",$I$4=#REF!),BDI!$G$17,IF(AND(#REF!=\"Diferenciado\",$I$4=#REF!),BDI!$H$17,IF(#REF!=\"ZERO\",0))))),\"\")","v":{"$error":"#REF!"}},"",""]
["SF-01305","Anteprojetos e Orçamentos Preliminares para Prevenção e Combate a Incêndio e Pânico (incluindo Acessibilidade e Segurança de Pessoa com Deficiência) - Anexo II e Túnel do Tempo","Serviço (Mat + MO)","un",0,"","",{"$f":"IF(A1310<>\"\",IF(AND(#REF!=\"Padrão\",$I$4=#REF!),BDI!$B$17,IF(AND(#REF!=\"Padrão\",$I$4=#REF!),BDI!$C$17,IF(AND(#REF!=\"Diferenciado\",$I$4=#REF!),BDI!$G$17,IF(AND(#REF!=\"Diferenciado\",$I$4=#REF!),BDI!$H$17,IF(#REF!=\"ZERO\",0))))),\"\")","v":{"$error":"#REF!"}},"",""]
["SF-01306","Projetos Executivos de Prevenção e Combate a Incêndio e Pânico (incluindo Acessibilidade e Segurança de Pessoa com Deficiência) - Bloco 01 (PRODASEN)","Serviço (Mat + MO)","un",0,"","",{"$f":"IF(A1311<>\"\",IF(AND(#REF!=\"Padrão\",$I$4=#REF!),BDI!$B$17,IF(AND(#REF!=\"Padrão\",$I$4=#REF!),BDI!$C$17,IF(AND(#REF!=\"Diferenciado\",$I$4=#REF!),BDI!$G$17,IF(AND(#REF!=\"Diferenciado\",$I$4=#REF!),BDI!$H$17,IF(#REF!=\"ZERO\",0))))),\"\")","v":{"$error":"#REF!"}},"",""]
["SF-01307","Projetos Executivos de Prevenção e Combate a Incêndio e Pânico (incluindo Acessibilidade e Segurança de Pessoa com Deficiência) - Áreas Técnicas 10 (CM-3), 13 (CM-2) e Espaços Externos","Serviço (Mat + MO)","un",0,"","",{"$f":"IF(A1312<>\"\",IF(AND(#REF!=\"Padrão\",$I$4=#REF!),BDI!$B$17,IF(AND(#REF!=\"Padrão\",$I$4=#REF!),BDI!$C$17,IF(AND(#REF!=\"Diferenciado\",$I$4=#REF!),BDI!$G$17,IF(AND(#REF!=\"Diferenciado\",$I$4=#REF!),BDI!$H$17,IF(#REF!=\"ZERO\",0))))),\"\")","v":{"$error":"#REF!"}},"",""]
["SF-01308","Projetos Executivos de Prevenção e Combate a Incêndio e Pânico (incluindo Acessibilidade e Segurança de Pessoa com Deficiência) - Anexo II e Túnel do Tempo","Serviço (Mat + MO)","un",0,"","",{"$f":"IF(A1313<>\"\",IF(AND(#REF!=\"Padrão\",$I$4=#REF!),BDI!$B$17,IF(AND(#REF!=\"Padrão\",$I$4=#REF!),BDI!$C$17,IF(AND(#REF!=\"Diferenciado\",$I$4=#REF!),BDI!$G$17,IF(AND(#REF!=\"Diferenciado\",$I$4=#REF!),BDI!$H$17,IF(#REF!=\"ZERO\",0))))),\"\")","v":{"$error":"#REF!"}},"",""]
["SF-01309","Orçamentos Finais e Cronograma Físico-Financeiro para intervenções de Prevenção e Combate a Incêndio e Pânico (incluindo Acessibilidade e Segurança de Pessoa com Deficiência)","Serviço (Mat + MO)","un",0,"","",{"$f":"IF(A1314<>\"\",IF(AND(#REF!=\"Padrão\",$I$4=#REF!),BDI!$B$17,IF(AND(#REF!=\"Padrão\",$I$4=#REF!),BDI!$C$17,IF(AND(#REF!=\"Diferenciado\",$I$4=#REF!),BDI!$G$17,IF(AND(#REF!=\"Diferenciado\",$I$4=#REF!),BDI!$H$17,IF(#REF!=\"ZERO\",0))))),\"\")","v":{"$error":"#REF!"}},"",""]
["SF-01310","Cambota elastomérica de 8”","Serviço (Mat + MO)","un",0,{"$f":"OFFSET(INDEX(Composições!A:J,MATCH(Orçamentária!A1315,Composições!A:A,0),8),2,0)","v":35.817090000000007},0,{"$f":"IF(A1315<>\"\",IF(AND(#REF!=\"Padrão\",$I$4=#REF!),BDI!$B$17,IF(AND(#REF!=\"Padrão\",$I$4=#REF!),BDI!$C$17,IF(AND(#REF!=\"Diferenciado\",$I$4=#REF!),BDI!$G$17,IF(AND(#REF!=\"Diferenciado\",$I$4=#REF!),BDI!$H$17,IF(#REF!=\"ZERO\",0))))),\"\")","v":{"$error":"#REF!"}},{"$error":"#REF!"},{"$error":"#REF!"}]
["SF-01311","Curva raio curto 45° em aço carbono para solda de topo DN 125 (5\" NPS)","Serviço (Mat + MO)","un",0,{"$f":"OFFSET(INDEX(Composições!A:J,MATCH(Orçamentária!A1316,Composições!A:A,0),8),2,0)","v":75.773462050000006},0,{"$f":"IF(A1316<>\"\",IF(AND(#REF!=\"Padrão\",$I$4=#REF!),BDI!$B$17,IF(AND(#REF!=\"Padrão\",$I$4=#REF!),BDI!$C$17,IF(AND(#REF!=\"Diferenciado\",$I$4=#REF!),BDI!$G$17,IF(AND(#REF!=\"Diferenciado\",$I$4=#REF!),BDI!$H$17,IF(#REF!=\"ZERO\",0))))),\"\")","v":{"$error":"#REF!"}},{"$error":"#REF!"},{"$error":"#REF!"}]
["SF-01312","Curva raio curto 90° em aço carbono para solda de topo DN 125 (5\" NPS)","Serviço (Mat + MO)","un",0,{"$f":"OFFSET(INDEX(Composições!A:J,MATCH(Orçamentária!A1317,Composições!A:A,0),8),2,0)","v":75.773462050000006},0,{"$f":"IF(A1317<>\"\",IF(AND(#REF!=\"Padrão\",$I$4=#REF!),BDI!$B$17,IF(AND(#REF!=\"Padrão\",$I$4=#REF!),BDI!$C$17,IF(AND(#REF!=\"Diferenciado\",$I$4=#REF!),BDI!$G$17,IF(AND(#REF!=\"Diferenciado\",$I$4=#REF!),BDI!$H$17,IF(#REF!=\"ZERO\",0))))),\"\")","v":{"$error":"#REF!"}},{"$error":"#REF!"},{"$error":"#REF!"}]
["SF-01313","Curva raio longo 90° em aço carbono para solda de topo DN 125 (5\" NPS)","Serviço (Mat + MO)","un",0,{"$f":"OFFSET(INDEX(Composições!A:J,MATCH(Orçamentária!A1318,Composições!A:A,0),8),2,0)","v":75.773462050000006},0,{"$f":"IF(A1318<>\"\",IF(AND(#REF!=\"Padrão\",$I$4=#REF!),BDI!$B$17,IF(AND(#REF!=\"Padrão\",$I$4=#REF!),BDI!$C$17,IF(AND(#REF!=\"Diferenciado\",$I$4=#REF!),BDI!$G$17,IF(AND(#REF!=\"Diferenciado\",$I$4=#REF!),BDI!$H$17,IF(#REF!=\"ZERO\",0))))),\"\")","v":{"$error":"#REF!"}},{"$error":"#REF!"},{"$error":"#REF!"}]
["SF-01314","Curva raio longo 90° em aço carbono para solda de topo DN 200 (8\" NPS)","Serviço (Mat + MO)","un",0,{"$f":"OFFSET(INDEX(Composições!A:J,MATCH(Orçamentária!A1319,Composições!A:A,0),8),2,0)","v":87.430917749999992},0,{"$f":"IF(A1319<>\"\",IF(AND(#REF!=\"Padrão\",$I$4=#REF!),BDI!$B$17,IF(AND(#REF!=\"Padrão\",$I$4=#REF!),BDI!$C$17,IF(AND(#REF!=\"Diferenciado\",$I$4=#REF!),BDI!$G$17,IF(AND(#REF!=\"Diferenciado\",$I$4=#REF!),BDI!$H$17,IF(#REF!=\"ZERO\",0))))),\"\")","v":{"$error":"#REF!"}},{"$error":"#REF!"},{"$error":"#REF!"}]
["SF-01315","Eliminador de ar para líquidos DN 20 (3/4\" NPS)","Serviço (Mat + MO)","un",0,{"$f":"OFFSET(INDEX(Composições!A:J,MATCH(Orçamentária!A1320,Composições!A:A,0),8),2,0)","v":15.097096000000002},0,{"$f":"IF(A1320<>\"\",IF(AND(#REF!=\"Padrão\",$I$4=#REF!),BDI!$B$17,IF(AND(#REF!=\"Padrão\",$I$4=#REF!),BDI!$C$17,IF(AND(#REF!=\"Diferenciado\",$I$4=#REF!),BDI!$G$17,IF(AND(#REF!=\"Diferenciado\",$I$4=#REF!),BDI!$H$17,IF(#REF!=\"ZERO\",0))))),\"\")","v":{"$error":"#REF!"}},{"$error":"#REF!"},{"$error":"#REF!"}]
["SF-01316","Flange de pescoço, aço carbono, classe 150, DN 125 (5\" NPS)","Serviço (Mat + MO)","un",0,{"$f":"OFFSET(INDEX(Composições!A:J,MATCH(Orçamentária!A1321,Composições!A:A,0),8),2,0)","v":75.773462050000006},0,{"$f":"IF(A1321<>\"\",IF(AND(#REF!=\"Padrão\",$I$4=#REF!),BDI!$B$17,IF(AND(#REF!=\"Padrão\",$I$4=#REF!),BDI!$C$17,IF(AND(#REF!=\"Diferenciado\",$I$4=#REF!),BDI!$G$17,IF(AND(#REF!=\"Diferenciado\",$I$4=#REF!),BDI!$H$17,IF(#REF!=\"ZERO\",0))))),\"\")","v":{"$error":"#REF!"}},{"$error":"#REF!"},{"$error":"#REF!"}]
["SF-01317","Isolamento elastomérico para tubulações de ferro de 5”","Serviço (Mat + MO)","m",0,{"$f":"OFFSET(INDEX(Composições!A:J,MATCH(Orçamentária!A1322,Composições!A:A,0),8),2,0)","v":3.6972480000000005},0,{"$f":"IF(A1322<>\"\",IF(AND(#REF!=\"Padrão\",$I$4=#REF!),BDI!$B$17,IF(AND(#REF!=\"Padrão\",$I$4=#REF!),BDI!$C$17,IF(AND(#REF!=\"Diferenciado\",$I$4=#REF!),BDI!$G$17,IF(AND(#REF!=\"Diferenciado\",$I$4=#REF!),BDI!$H$17,IF(#REF!=\"ZERO\",0))))),\"\")","v":{"$error":"#REF!"}},{"$error":"#REF!"},{"$error":"#REF!"}]
["SF-01318","Meia luva em aço carbono DN 15 (1/2\" NPS)","Serviço (Mat + MO)","un",0,{"$f":"OFFSET(INDEX(Composições!A:J,MATCH(Orçamentária!A1323,Composições!A:A,0),8),2,0)","v":7.1137424999999999},0,{"$f":"IF(A1323<>\"\",IF(AND(#REF!=\"Padrão\",$I$4=#REF!),BDI!$B$17,IF(AND(#REF!=\"Padrão\",$I$4=#REF!),BDI!$C$17,IF(AND(#REF!=\"Diferenciado\",$I$4=#REF!),BDI!$G$17,IF(AND(#REF!=\"Diferenciado\",$I$4=#REF!),BDI!$H$17,IF(#REF!=\"ZERO\",0))))),\"\")","v":{"$error":"#REF!"}},{"$error":"#REF!"},{"$error":"#REF!"}]
["SF-01319","Redução concêntrica em aço carbono para solda de topo DN 200 (8\" NPS) × DN 125 (5\" NPS)","Serviço (Mat + MO)","un",0,{"$f":"OFFSET(INDEX(Composições!A:J,MATCH(Orçamentária!A1324,Composições!A:A,0),8),2,0)","v":51.14472155},0,{"$f":"IF(A1324<>\"\",IF(AND(#REF!=\"Padrão\",$I$4=#REF!),BDI!$B$17,IF(AND(#REF!=\"Padrão\",$I$4=#REF!),BDI!$C$17,IF(AND(#REF!=\"Diferenciado\",$I$4=#REF!),BDI!$G$17,IF(AND(#REF!=\"Diferenciado\",$I$4=#REF!),BDI!$H$17,IF(#REF!=\"ZERO\",0))))),\"\")","v":{"$error":"#REF!"}},{"$error":"#REF!"},{"$error":"#REF!"}]
["SF-01320","Suporte metálico tipo T com alça","Serviço (Mat + MO)","un",0,"","",{"$f":"IF(A1325<>\"\",IF(AND(#REF!=\"Padrão\",$I$4=#REF!),BDI!$B$17,IF(AND(#REF!=\"Padrão\",$I$4=#REF!),BDI!$C$17,IF(AND(#REF!=\"Diferenciado\",$I$4=#REF!),BDI!$G$17,IF(AND(#REF!=\"Diferenciado\",$I$4=#REF!),BDI!$H$17,IF(#REF!=\"ZERO\",0))))),\"\")","v":{"$error":"#REF!"}},"",""]
["SF-01321","Suporte metálico tipo T","Serviço (Mat + MO)","un",0,"","",{"$f":"IF(A1326<>\"\",IF(AND(#REF!=\"Padrão\",$I$4=#REF!),BDI!$B$17,IF(AND(#REF!=\"Padrão\",$I$4=#REF!),BDI!$C$17,IF(AND(#REF!=\"Diferenciado\",$I$4=#REF!),BDI!$G$17,IF(AND(#REF!=\"Diferenciado\",$I$4=#REF!),BDI!$H$17,IF(#REF!=\"ZERO\",0))))),\"\")","v":{"$error":"#REF!"}},"",""]
["SF-01322","Suporte metálico tipo trave alta","Serviço (Mat + MO)","un",0,"","",{"$f":"IF(A1327<>\"\",IF(AND(#REF!=\"Padrão\",$I$4=#REF!),BDI!$B$17,IF(AND(#REF!=\"Padrão\",$I$4=#REF!),BDI!$C$17,IF(AND(#REF!=\"Diferenciado\",$I$4=#REF!),BDI!$G$17,IF(AND(#REF!=\"Diferenciado\",$I$4=#REF!),BDI!$H$17,IF(#REF!=\"ZERO\",0))))),\"\")","v":{"$error":"#REF!"}},"",""]
["SF-01323","Suporte metálico tipo trave baixa","Serviço (Mat + MO)","un",0,"","",{"$f":"IF(A1328<>\"\",IF(AND(#REF!=\"Padrão\",$I$4=#REF!),BDI!$B$17,IF(AND(#REF!=\"Padrão\",$I$4=#REF!),BDI!$C$17,IF(AND(#REF!=\"Diferenciado\",$I$4=#REF!),BDI!$G$17,IF(AND(#REF!=\"Diferenciado\",$I$4=#REF!),BDI!$H$17,IF(#REF!=\"ZERO\",0))))),\"\")","v":{"$error":"#REF!"}},"",""]
["SF-01324","Suporte metálico tipo trave com suportes desiguais","Serviço (Mat + MO)","un",0,"","",{"$f":"IF(A1329<>\"\",IF(AND(#REF!=\"Padrão\",$I$4=#REF!),BDI!$B$17,IF(AND(#REF!=\"Padrão\",$I$4=#REF!),BDI!$C$17,IF(AND(#REF!=\"Diferenciado\",$I$4=#REF!),BDI!$G$17,IF(AND(#REF!=\"Diferenciado\",$I$4=#REF!),BDI!$H$17,IF(#REF!=\"ZERO\",0))))),\"\")","v":{"$error":"#REF!"}},"",""]
["SF-01325","Tê em aço carbono para solda de topo DN 200 (8\" NPS)","Serviço (Mat + MO)","un",0,{"$f":"OFFSET(INDEX(Composições!A:J,MATCH(Orçamentária!A1330,Composições!A:A,0),8),2,0)","v":79.248801449999988},0,{"$f":"IF(A1330<>\"\",IF(AND(#REF!=\"Padrão\",$I$4=#REF!),BDI!$B$17,IF(AND(#REF!=\"Padrão\",$I$4=#REF!),BDI!$C$17,IF(AND(#REF!=\"Diferenciado\",$I$4=#REF!),BDI!$G$17,IF(AND(#REF!=\"Diferenciado\",$I$4=#REF!),BDI!$H$17,IF(#REF!=\"ZERO\",0))))),\"\")","v":{"$error":"#REF!"}},{"$error":"#REF!"},{"$error":"#REF!"}]
["SF-01326","Tubo de aço-carbono preto DN 125 (5\" NPS)","Serviço (Mat + MO)","m",0,{"$f":"OFFSET(INDEX(Composições!A:J,MATCH(Orçamentária!A1331,Composições!A:A,0),8),2,0)","v":277.34646369999996},0,{"$f":"IF(A1331<>\"\",IF(AND(#REF!=\"Padrão\",$I$4=#REF!),BDI!$B$17,IF(AND(#REF!=\"Padrão\",$I$4=#REF!),BDI!$C$17,IF(AND(#REF!=\"Diferenciado\",$I$4=#REF!),BDI!$G$17,IF(AND(#REF!=\"Diferenciado\",$I$4=#REF!),BDI!$H$17,IF(#REF!=\"ZERO\",0))))),\"\")","v":{"$error":"#REF!"}},{"$error":"#REF!"},{"$error":"#REF!"}]
["SF-01327","Tubo de aço-carbono preto DN 200 (8\" NPS)","Serviço (Mat + MO)","m",0,{"$f":"OFFSET(INDEX(Composições!A:J,MATCH(Orçamentária!A1332,Composições!A:A,0),8),2,0)","v":462.40832664999999},0,{"$f":"IF(A1332<>\"\",IF(AND(#REF!=\"Padrão\",$I$4=#REF!),BDI!$B$17,IF(AND(#REF!=\"Padrão\",$I$4=#REF!),BDI!$C$17,IF(AND(#REF!=\"Diferenciado\",$I$4=#REF!),BDI!$G$17,IF(AND(#REF!=\"Diferenciado\",$I$4=#REF!),BDI!$H$17,IF(#REF!=\"ZERO\",0))))),\"\")","v":{"$error":"#REF!"}},{"$error":"#REF!"},{"$error":"#REF!"}]
["SF-01328","Válvula de esfera em bronze 1/2”","Serviço (Mat + MO)","un",0,{"$f":"OFFSET(INDEX(Composições!A:J,MATCH(Orçamentária!A1333,Composições!A:A,0),8),2,0)","v":68.960609250000005},0,{"$f":"IF(A1333<>\"\",IF(AND(#REF!=\"Padrão\",$I$4=#REF!),BDI!$B$17,IF(AND(#REF!=\"Padrão\",$I$4=#REF!),BDI!$C$17,IF(AND(#REF!=\"Diferenciado\",$I$4=#REF!),BDI!$G$17,IF(AND(#REF!=\"Diferenciado\",$I$4=#REF!),BDI!$H$17,IF(#REF!=\"ZERO\",0))))),\"\")","v":{"$error":"#REF!"}},{"$error":"#REF!"},{"$error":"#REF!"}]
["SF-01329","Válvula gaveta com flange DN 125 (5\" NPS)","Serviço (Mat + MO)","un",0,{"$f":"OFFSET(INDEX(Composições!A:J,MATCH(Orçamentária!A1334,Composições!A:A,0),8),2,0)","v":33.315255499999999},0,{"$f":"IF(A1334<>\"\",IF(AND(#REF!=\"Padrão\",$I$4=#REF!),BDI!$B$17,IF(AND(#REF!=\"Padrão\",$I$4=#REF!),BDI!$C$17,IF(AND(#REF!=\"Diferenciado\",$I$4=#REF!),BDI!$G$17,IF(AND(#REF!=\"Diferenciado\",$I$4=#REF!),BDI!$H$17,IF(#REF!=\"ZERO\",0))))),\"\")","v":{"$error":"#REF!"}},{"$error":"#REF!"},{"$error":"#REF!"}]
["SF-01330","Ar-condicionado split hi-wall inverter 18.000 BTU/h","Serviço (Mat + MO)","un",0,"","",{"$f":"IF(A1335<>\"\",IF(AND(#REF!=\"Padrão\",$I$4=#REF!),BDI!$B$17,IF(AND(#REF!=\"Padrão\",$I$4=#REF!),BDI!$C$17,IF(AND(#REF!=\"Diferenciado\",$I$4=#REF!),BDI!$G$17,IF(AND(#REF!=\"Diferenciado\",$I$4=#REF!),BDI!$H$17,IF(#REF!=\"ZERO\",0))))),\"\")","v":{"$error":"#REF!"}},"",""]
["SF-01331","Cabo de fibra óptica monomodo 12 fibras","Serviço (Mat + MO)","m",4500,{"$f":"OFFSET(INDEX(Composições!A:J,MATCH(Orçamentária!A1336,Composições!A:A,0),8),2,0)","v":12.9924774},58466.15,{"$f":"BDI!$G$17","v":0.11260000000000001},14.46,65070]
["SF-01332","Cabo de fibra óptica monomodo 144 fibras","Serviço (Mat + MO)","m",4800,{"$f":"OFFSET(INDEX(Composições!A:J,MATCH(Orçamentária!A1337,Composições!A:A,0),8),2,0)","v":55.155699199999994},264747.36,{"$f":"BDI!$G$17","v":0.11260000000000001},61.37,294576]
["SF-01333","Caixa de passagem em alumínio 300x300x120mm","Serviço (Mat + MO)","un",14,{"$f":"OFFSET(INDEX(Composições!A:J,MATCH(Orçamentária!A1338,Composições!A:A,0),8),2,0)","v":52.602506999999996},736.44,{"$f":"BDI!$B$17","v":0.191},62.65,877.1]
["SF-01334","Caixa de Passagem Subterrânea 1600x2000mm","Serviço (Mat + MO)","un",27,{"$f":"OFFSET(INDEX(Composições!A:J,MATCH(Orçamentária!A1339,Composições!A:A,0),8),2,0)","v":1568.9920207759606},42362.78,{"$f":"BDI!$B$17","v":0.191},1868.67,50454.09]
["SF-01335","Projeto Executivo de Rede de Telecomunicações Backbone","Serviço (Mat + MO)","un",1,{"$f":"OFFSET(INDEX(Composições!A:J,MATCH(Orçamentária!A1340,Composições!A:A,0),8),2,0)","v":5017.9499999999989},5017.95,{"$f":"BDI!$B$17","v":0.191},5976.38,5976.38]
["SF-01336","Eletroduto PEAD 2”","Serviço (Mat + MO)","m",6300,{"$f":"OFFSET(INDEX(Composições!A:J,MATCH(Orçamentária!A1341,Composições!A:A,0),8),2,0)","v":9.9090699999999998},62427.14,{"$f":"BDI!$B$17","v":0.191},11.8,74340]
["SF-01337","Furo direcional por método não-destrutivo com fornecimento de duto","Serviço (Mat + MO)","m",300,893.33,267999,{"$f":"BDI!$G$17","v":0.11260000000000001},993.92,298176]
["SF-01338","Sondagem por Radar de Penetração de Solo - GPR","Serviço (Mat + MO)","m",1530,18.52,28335.599999999999,{"$f":"BDI!$G$17","v":0.11260000000000001},20.61,31533.3]
["SF-01339","Tampa em Ferro Fundido - Circular DN-600 mm Classe 400","Serviço (Mat + MO)","un",27,{"$f":"OFFSET(INDEX(Composições!A:J,MATCH(Orçamentária!A1344,Composições!A:A,0),8),2,0)","v":538.56904412927145},14541.36,{"$f":"BDI!$B$17","v":0.191},641.44000000000005,17318.88]
[]
[{"$f":"SUBTOTAL(103,A6:A1345)","v":19},null,null,null,null,null,null,null,"CUSTO DIRETO",{"$f":"SUBTOTAL(109,G6:G1345)","v":837871.83}]
[null,null,null,null,null,null,null,null,"CUSTO TOTAL",{"$f":"SUBTOTAL(109,J6:J1345)","v":949360.33}]

{"sheet":"BDI","index":4,"n_rows":48,"n_cols":9,"rows_kept":48,"cut":false,"hidden":false,"merged":[[4,0,6,0],[4,5,6,5],[47,0,47,8]]}
[{"$f":"Orçamentária!A1","v":"Execução de infraestrutura e lançamento de fibra óptica para interligação entre os datacenters da Câmara dos Deputados e Senado Federal"}]
["BENEFÍCIOS E DESPESAS INDIRETAS - BDI"]
[]
["BDI Edificações",null,null,null,null,"BDI mero fornecimento"]
["Componentes do BDI","Cálculo sem CPRB","Cálculo com CPRB",null,null,"Componentes do BDI","Cálculo sem CPRB","Cálculo com CPRB"]
[null,"não-desonerado","desonerado",null,null,null,"não-desonerado","desonerado"]
[null,"% considerado","% considerado",null,null,null,"% considerado","% considerado"]
["AC",3.5000000000000003E-2,3.5000000000000003E-2,null,null,"AC",1.7500000000000002E-2,1.7500000000000002E-2]
["S+G",8.0000000000000002E-3,8.0000000000000002E-3,null,null,"S+G",3.8999999999999998E-3,3.8999999999999998E-3]
["R",1.2500000000000001E-2,1.2500000000000001E-2,null,null,"R",5.5999999999999999E-3,5.5999999999999999E-3]
["DF",7.6E-3,7.6E-3,null,null,"DF",8.5000000000000006E-3,8.5000000000000006E-3]
["L",6.7799999999999999E-2,6.7799999999999999E-2,null,null,"L",3.5000000000000003E-2,3.5000000000000003E-2]
["PIS",6.4999999999999997E-3,6.4999999999999997E-3,null,null,"PIS",6.4999999999999997E-3,6.4999999999999997E-3]
["COFINS",0.03,0.03,null,null,"COFINS",0.03,0.03]
["CPRB",0,4.4999999999999998E-2,null,null,"CPRB",0,4.4999999999999998E-2]
["ISS",0.01,0.01,null,null,"ISS",0,0]
["BDI Edificações",{"$f":"ROUND(((1+B8+B9+B10)*(1+B11)*(1+B12))/(1-(B13+B14+B15+B16))-1,4)","v":0.191},{"$f":"ROUND(((1+C8+C9+C10)*(1+C11)*(1+C12))/(1-(C13+C14+C15+C16))-1,4)","v":0.25},null,null,"BDI mero fornecimento",{"$f":"ROUND(((1+G8+G9+G10)*(1+G11)*(1+G12))/(1-(G13+G14+G15+G16))-1,4)","v":0.11260000000000001},{"$f":"ROUND(((1+H8+H9+H10)*(1+H11)*(1+H12))/(1-(H13+H14+H15+H16))-1,4)","v":0.1671}]
[]
["Referências TCU - BDI Edificações",null,null,null,null,"Referências TCU - BDI mero fornecimento"]
["Componentes do BDI","1º Quartil","Médio","3º Quartil",null,"Componentes do BDI","1º Quartil","Médio","3º Quartil"]
["AC",0.03,0.04,5.5E-2,null,"AC",1.4999999999999999E-2,3.4500000000000003E-2,4.4900000000000002E-2]
["S+G",8.0000000000000002E-3,8.0000000000000002E-3,0.01,null,"S+G",3.0000000000000001E-3,4.7999999999999996E-3,8.2000000000000007E-3]
["R",9.7000000000000003E-3,1.2699999999999999E-2,1.2699999999999999E-2,null,"R",5.5999999999999999E-3,8.5000000000000006E-3,8.8999999999999999E-3]
["DF",5.8999999999999999E-3,1.23E-2,1.3899999999999999E-2,null,"DF",8.5000000000000006E-3,8.5000000000000006E-3,1.11E-2]
["L",6.1600000000000002E-2,7.400000000000001E-2,8.9599999999999999E-2,null,"L",3.5000000000000003E-2,5.11E-2,6.2199999999999998E-2]
["BDI Edificações",0.2034,0.22120000000000001,0.25,null,"BDI mero fornecimento",0.111,0.14019999999999999,0.16800000000000001]
[]
[]
[]
[]
[]
[]
[]
[]
[]
[]
[]
[]
[]
[]
[]
[]
[]
[]
[]
[]
[]
["Fontes: Acórdãos 2.369/2011-TCU-Plenário e 2.622/2013-TCU-Plenário."]