{"text_format":"1","workbook":"xlsx","n_sheets":10,"sheets":["Ax9-P1-MDO-Nao Desonerado","SubAx9.1-MDO-Desonerado","Ax9-P1-EPIs e Uniformes","Ax9-P2-Serviços","Ax9-P2-Comp.Serviços","Ax9-P3-Materiais","Ax9-P4-Ferramental","Ax9-P5-Valor Global","Desconto Médio","BDI"],"not_rendered":{"charts":0,"images":3,"macros":1,"external_links":0,"defined_names":20,"comments":0,"pivot_tables":0},"unopened":[],"bounds":{"document_bytes":16777216,"sheet_cells":100000,"rows_first":2000,"rows_last":500,"rows_between":2000,"halvings":0,"cell_chars":16384,"cell_head_chars":4096},"cells_cut":0,"cells_raw":0,"read":"whole","date_system":"1900"}

{"sheet":"Ax9-P1-MDO-Nao Desonerado","index":0,"n_rows":27,"n_cols":10,"rows_kept":27,"cut":false,"hidden":false,"merged":[[25,0,25,2],[25,4,25,9],[26,1,26,8],[0,0,0,9],[1,0,1,9],[3,0,4,0],[3,1,4,1],[3,2,4,2]]}
["Manutenção Elétrica - Pregão Eletrônico nº 067/2021"]
["ANEXO 9 - Planilha 1 - Resumo de Composição de Custos para a Equipe de Dedicação Exclusiva - Não Desonerado"]
[]
["Subitem","Especificação","Categoria (cargo)","Nº de\nprofissionais","Salário\nBase\n(R$)","Adicional de\nPericulosidade","Adicional\nNoturno","Valor\nUnitário\nMensal\n(R$)","Valor\nTotal\nMensal\n(R$)","Valor\nTotal Para\n30 (Trinta)\nMeses (R$)"]
[null,null,null,"(A)",null,null,null,"(B)","(C)=(A)*(B)","(D)=(C)*30"]
["1.1","SF-01403","Supervisor Técnico – Sistema Elétrico",2,9366.57,0.3,null,24203.43,{"$f":"ROUND(H6*D6,2)","v":48406.86},{"$f":"I6*30","v":1452205.8}]
["1.2","SF-01404","Supervisor Técnico – Sistema Elétrico e Segurança do Trabalho",1,9366.57,0.3,null,24200.29,{"$f":"ROUND(H7*D7,2)","v":24200.29},{"$f":"I7*30","v":726008.70000000007}]
["1.3","SF-01405","Técnico em Segurança do Trabalho",1,2964.47,0.3,null,8314.5300000000007,8314.5300000000007,249435.90000000002]
["1.4","SF-01406","Auxiliar de Almoxarifado",2,1218.82,null,null,3267.87,6535.74,196072.19999999998]
["1.5","SF-01407","Auxiliar Administrativo",2,1218.82,null,null,3266.78,6533.56,196006.80000000002]
["1.6","SF-01408","Desenhista Técnico",2,2539.2199999999998,0.3,null,7297.47,14594.94,437848.2]
["1.7","SF-01409","Técnico em Eletrotécnica Encarregado",6,2608.2199999999998,0.3,null,7531.46,45188.76,1355662.8]
["1.8","SF-01410","Técnico em Eletrotécnica Planejador de Manutenção",1,2778.32,0.3,null,7878.18,7878.18,236345.40000000002]
["1.9","SF-01411","Técnico em Eletrotécnica Termografista",1,2835.02,0.3,null,8072.52,8072.52,242175.6]
["1.10","SF-01412","Técnico em Eletrotécnica",17,2539.2199999999998,0.3,null,7324.12,124510.04,3735301.1999999997]
["1.11","SF-01413","Eletricista",17,1829.14,null,null,4470.37,75996.289999999994,2279888.6999999997]
["1.12","SF-01414","Auxiliar de Eletricista",14,1324.07,null,null,3528.01,49392.14,1481764.2]
["1.13","SF-01415","Técnico em Eletromecânica",2,2539.2199999999998,0.3,null,7306.93,14613.86,438415.80000000005]
["1.14","SF-01416","Técnico em Automação",5,2539.2199999999998,0.3,null,7316.11,36580.550000000003,1097416.5]
["1.15","SF-01417","Técnico em Eletrotécnica Plantonista (diurno)",4,2539.2199999999998,0.3,null,7474.89,29899.56,896986.8]
["1.16","SF-01418","Técnico em Eletrotécnica Plantonista (noturno)",4,2539.2199999999998,0.3,0.2,8381.86,33527.440000000002,1005823.2000000001]
["1.17","SF-01419","Eletricista Plantonista (diurno)",8,1829.14,null,null,4408.71,35269.68,1058090.3999999999]
["1.18","SF-01420","Eletricista Plantonista (noturno)",8,1829.14,null,0.2,4911.3100000000004,39290.480000000003,1178714.4000000001]
["1.19","SF-01421","Eletricista Plantonista – Áreas Restritas (diurno)",6,1829.14,0.3,null,5617.8,33706.800000000003,1011204.0000000001]
["1.20","SF-01422","Eletricista Plantonista – Áreas Restritas (noturno)",6,1829.14,0.3,0.2,6271.13,37626.78,1128803.3999999999]
["Total",null,null,109]
[1,"Subtotal de Equipe de Dedicação Exclusiva para 30 Meses (R$)",null,null,null,null,null,null,null,{"$f":"SUM(J6:J25)","v":20404169.999999996}]

{"sheet":"SubAx9.1-MDO-Desonerado","index":1,"n_rows":27,"n_cols":10,"rows_kept":27,"cut":false,"hidden":false,"merged":[[25,0,25,2],[25,4,25,9],[26,1,26,8],[0,0,0,9],[1,0,1,9],[3,0,4,0],[3,1,4,1],[3,2,4,2]]}
["Manutenção Elétrica - Pregão Eletrônico nº 067/2021"]
["SUBANEXO 9.1 - Resumo de Composição de Custos para a Equipe de Dedicação Exclusiva - Desonerado"]
[]
["Subitem","Especificação","Categoria (cargo)","Nº de\nprofissionais","Salário\nBase\n(R$)","Adicional de\nPericulosidade","Adicional\nNoturno","Valor\nUnitário\nMensal\n(R$)","Valor\nTotal\nMensal\n(R$)","Valor\nTotal Para\n30 (Trinta)\nMeses (R$)"]
[null,null,null,"(A)",null,null,null,"(B)","(C)=(A)*(B)","(D)=(C)*30"]
["1.1","SF-01403","Supervisor Técnico – Sistema Elétrico",2,9366.57,0.3,null,22036.29,{"$f":"ROUND(H6*D6,2)","v":44072.58},{"$f":"I6*30","v":1322177.4000000001}]
["1.2","SF-01404","Supervisor Técnico – Sistema Elétrico e Segurança do Trabalho",1,9366.57,0.3,null,22032.98,{"$f":"ROUND(H7*D7,2)","v":22032.98},{"$f":"I7*30","v":660989.4}]
["1.3","SF-01405","Técnico em Segurança do Trabalho",1,2964.47,0.3,null,7664.9,7664.9,229947]
["1.4","SF-01406","Auxiliar de Almoxarifado",2,1218.82,null,null,3097.75,6195.5,185865]
["1.5","SF-01407","Auxiliar Administrativo",2,1218.82,null,null,3096.6,6193.2,185796]
["1.6","SF-01408","Desenhista Técnico",2,2539.2199999999998,0.3,null,6750.76,13501.52,405045.60000000003]
["1.7","SF-01409","Técnico em Eletrotécnica Encarregado",6,2608.2199999999998,0.3,null,6971.85,41831.1,1254933]
["1.8","SF-01410","Técnico em Eletrotécnica Planejador de Manutenção",1,2778.32,0.3,null,7274.06,7274.06,218221.80000000002]
["1.9","SF-01411","Técnico em Eletrotécnica Termografista",1,2835.02,0.3,null,7457.92,7457.92,223737.60000000001]
["1.10","SF-01412","Técnico em Eletrotécnica",17,2539.2199999999998,0.3,null,6778.89,115241.13,3457233.9000000004]
["1.11","SF-01413","Eletricista",17,1829.14,null,null,4191.07,71248.19,2137445.7000000002]
["1.12","SF-01414","Auxiliar de Eletricista",14,1324.07,null,null,3341.99,46787.86,1403635.8]
["1.13","SF-01415","Técnico em Eletromecânica",2,2539.2199999999998,0.3,null,6760.75,13521.5,405645]
["1.14","SF-01416","Técnico em Automação",5,2539.2199999999998,0.3,null,6770.44,33852.199999999997,1015565.9999999999]
["1.15","SF-01417","Técnico em Eletrotécnica Plantonista (diurno)",4,2539.2199999999998,0.3,null,6868.26,27473.040000000001,824191.20000000007]
["1.16","SF-01418","Técnico em Eletrotécnica Plantonista (noturno)",4,2539.2199999999998,0.3,0.2,7689.36,30757.439999999999,922723.2]
["1.17","SF-01419","Eletricista Plantonista (diurno)",8,1829.14,null,null,4087.34,32698.720000000001,980961.60000000009]
["1.18","SF-01420","Eletricista Plantonista (noturno)",8,1829.14,null,0.2,4542.33,36338.639999999999,1090159.2]
["1.19","SF-01421","Eletricista Plantonista – Áreas Restritas (diurno)",6,1829.14,0.3,null,5193.7,31162.2,934866]
["1.20","SF-01422","Eletricista Plantonista – Áreas Restritas (noturno)",6,1829.14,0.3,0.2,5785.2,34711.199999999997,1041335.9999999999]
["Total",null,null,109]
[1,"Subtotal de Equipe de Dedicação Exclusiva para 30 Meses (R$)",null,null,null,null,null,null,null,{"$f":"SUM(J6:J25)","v":18900476.399999999}]

{"sheet":"Ax9-P1-EPIs e Uniformes","index":2,"n_rows":37,"n_cols":6,"rows_kept":37,"cut":false,"hidden":false,"merged":[[30,0,30,4],[36,0,36,4],[0,0,0,5],[1,0,1,5],[3,0,4,0],[3,1,4,1],[3,2,4,2],[32,0,33,0],[32,1,33,1],[32,2,33,2]]}
["Manutenção Elétrica - Pregão Eletrônico nº 067/2021"]
["ANEXO 9 - Planilha 1 - Complementação - EPIs e Uniformes"]
[]
["Especificação","Descrição","Unid.","Quantidade\nEstimada p/\n30 (Trinta)\nMeses","Preço\nUnitário\n(R$)","Preço\nTotal\n(R$)"]
[null,null,null,"(A)","(B)","(C)=(A)*(B)"]
["SF-02572","Luva isolante classe 0","par",156,375,{"$f":"ROUND(E6*D6,2)","v":58500}]
["SF-02573","Luva isolante classe 2","par",24,415.68,{"$f":"ROUND(E7*D7,2)","v":9976.32}]
["SF-02574","Luva de cobertura para luva isolante","par",180,28.91,5203.8]
["SF-02575","Bolsa para luvas isolantes","un",180,36.590000000000003,6586.2]
["SF-00827","Calçado isolante elétrico","par",320,152.56,48819.199999999997]
["SF-02576","Vestimenta antichama classe 2","un",348,247.5,86130]
["SF-02577","Vestimenta antichama classe 4","un",4,1458,5832]
["SF-02578","Capuz antichama classe 4","un",4,1799.99,7199.96]
["SF-02579","Balaclava antichama classe 2","un",4,128.38999999999999,513.55999999999995]
["SF-00830","Capacete de segurança","un",320,45.32,14502.4]
["SF-00836","Óculos de segurança","un",650,8.4600000000000009,5499]
["SF-00837","Protetor auricular de inserção","un",525,2.4900000000000002,1307.25]
["SF-02580","Protetor auricular tipo abafador dielétrico","un",30,30.06,901.8]
["SF-00838","Protetor facial","un",78,179.5,14001]
["SF-02581","Respirador PFF-2","un",718,9.1,6533.8]
["SF-02582","Luva nitrílica","cx",100,123.9,12390]
["SF-02583","Luva de nylon com banho em PU","par",474,4.2,1990.8]
["SF-02584","Luva de vaqueta","par",163,11.14,1815.82]
["SF-02585","Capacete de segurança para trabalho em altura","un",50,160.11000000000001,8005.5]
["SF-00828","Bota de PVC","par",59,38.380000000000003,2264.42]
["SF-02586","Luva para proteção química","par",295,7.89,2327.5500000000002]
["SF-02587","Luva pigmentada","par",494,2.73,1348.62]
["SF-02588","Protetor solar","L",150,104.17,15625.5]
["SF-02589","Sabonete desengraxante","L",150,19.86,2979]
["SF-00829","Capa de chuva","un",200,15.93,3186]
["Subtotal de EPIs para 30 meses (R$)",null,null,null,null,{"$f":"SUM(F6:F30)","v":323439.49999999994}]
[]
["Especificação","Descrição","Unid.","Quantidade\nEstimada p/\n30 (Trinta)\nMeses","Preço\nUnitário\n(R$)","Preço\nTotal\n(R$)"]
[null,null,null,"(A)","(B)","(C)=(A)*(B)"]
["SF-02571","Camiseta de manga curta com identificação da empresa","un",750,36.380000000000003,{"$f":"ROUND(E35*D35,2)","v":27285}]
["SF-00825","Calça","un",750,41.9,31425]
["Subtotal de uniformes para 30 meses (R$)",null,null,null,null,{"$f":"SUM(F35:F36)","v":58710}]

{"sheet":"Ax9-P2-Serviços","index":3,"n_rows":17,"n_cols":10,"rows_kept":17,"cut":false,"hidden":false,"merged":[[3,0,4,0],[3,1,4,1],[3,2,4,2],[3,3,4,3],[16,1,16,8]]}
["Manutenção Elétrica - Pregão Eletrônico nº 067/2021"]
["ANEXO 9 - Planilha 2 – Composição de Custos para os Serviços sob Demanda"]
[]
["Subitem","Especificação","Descrição","Unid.","Quantidade\nEstimada p/\n30 (Trinta)\nMeses","Custo\nUnitário\n(R$)","Custo\nDireto\n(R$)","BDI (%)","Preço\nUnitário\ncom BDI\n(R$)","Preço\nTotal\n(R$)"]
[null,null,null,null,"(A)",null,null,null,"(B)","(C)=(A)*(B)"]
["2.1","SF-02368","Análise físico-química de óleo isolante","un",25,170.22,{"$f":"ROUND(E6*F6,2)","v":4255.5},{"$f":"BDI!$E$17","v":0.11260000000000001},{"$f":"ROUND(F6*(1+H6),2)","v":189.39},{"$f":"E6*I6","v":4734.75}]
["2.2","SF-02369","Análise de gases dissolvidos em óleo isolante","un",25,132.81,{"$f":"ROUND(E7*F7,2)","v":3320.25},{"$f":"BDI!$E$17","v":0.11260000000000001},{"$f":"ROUND(F7*(1+H7),2)","v":147.76},{"$f":"E7*I7","v":3694}]
["2.3","SF-02370","Análise de teor de PCB em óleo isolante","un",5,361.31,1806.55,{"$f":"BDI!$E$17","v":0.11260000000000001},401.99,2009.95]
["2.4","SF-02371","Descarte de lâmpadas","un",30000,1.5,45000,{"$f":"BDI!$E$17","v":0.11260000000000001},1.67,50100]
["2.5","SF-02372","Descarte de reatores e demais resíduos eletroeletrônicos","kg",2000,0.98,1960,{"$f":"BDI!$E$17","v":0.11260000000000001},1.0900000000000001,2180]
["2.6","SF-02373","Aluguel de caminhão munck","dia",30,1200,36000,{"$f":"BDI!$E$17","v":0.11260000000000001},1335.12,40053.599999999999]
["2.7","SF-02374","Aluguel de plataforma aérea","dia",30,1503.33,45099.9,{"$f":"BDI!$E$17","v":0.11260000000000001},1672.6,50178]
["2.8","SF-02375","Aluguel de empilhadeira","dia",5,750,3750,{"$f":"BDI!$E$17","v":0.11260000000000001},834.45,4172.25]
["2.9","SF-02377","Aluguel de grupo motor-gerador de 200 kVA","dia",10,1740,17400,{"$f":"BDI!$E$17","v":0.11260000000000001},1935.92,19359.2]
["2.10","SF-02378","Hora de funcionamento grupo motor-gerador de 200 kVA","h",100,250,25000,{"$f":"BDI!$E$17","v":0.11260000000000001},278.14999999999998,27814.999999999996]
["2.11","SF-02379","Solda exotérmica","un",1000,{"$f":"OFFSET(INDEX('Ax9-P2-Comp.Serviços'!A:H,MATCH(B16,'Ax9-P2-Comp.Serviços'!A:A,0),8),2,0)","v":39.031699999999994},39031.699999999997,{"$f":"BDI!$B$17","v":0.191},46.49,46490]
[2,"Subtotal de Serviços sob Demanda para 30 Meses com BDI (R$)",null,null,null,null,null,null,null,{"$f":"SUBTOTAL(109,J6:J16)","v":250786.75}]

{"sheet":"Ax9-P2-Comp.Serviços","index":4,"n_rows":11,"n_cols":8,"rows_kept":11,"cut":false,"hidden":false,"merged":[[4,1,11,1],[4,0,11,0]]}
["Manutenção Elétrica - Pregão Eletrônico nº 067/2021"]
["Composições de Custos Unitários de Serviços"]
[]
["Especificação","Descrição","Discriminação da Composição","Unidade","Coeficiente","Custo\nUnitário\n(R$)","Custo\nTotal\n(R$)","Total do\nServiço\n(R$)"]
["SF-02379",{"$f":"INDEX('Ax9-P2-Serviços'!B:C,MATCH('Ax9-P2-Comp.Serviços'!A5,'Ax9-P2-Serviços'!B:B,0),2)","v":"Solda exotérmica"},null,{"$f":"TRIM(INDEX('Ax9-P2-Serviços'!D:D,MATCH('Ax9-P2-Comp.Serviços'!A5,'Ax9-P2-Serviços'!B:B,0),1))","v":"un"},null,"",{"$f":"IF(ISNUMBER(F5),E5*F5,\"\")","v":""}]
[null,null,null,null,null,"",""]
[null,null,"Eletricista com Encargos Complementares","h",0.08,22.268000000000001,1.7814400000000001,{"$f":"SUM(G7:G11)","v":39.031699999999994}]
[null,null,"Servente com Encargos Complementares","h",0.08,16.311500000000002,1.3049200000000003]
[null,null,"Cartucho de Solda Exotérmica n.º 90","un",1,24.975499999999997,24.975499999999997]
[null,null,"Ignex - Palito Ignitor para Solda Exotérmica","un",1,3.5719999999999996,3.5719999999999996]
[null,null,"Molde p/ Solda Tipo \"T\" até 35mm²","un",0.04,184.946,7.3978400000000004]

{"sheet":"Ax9-P3-Materiais","index":5,"n_rows":923,"n_cols":10,"rows_kept":923,"cut":false,"hidden":false,"merged":[[3,0,4,0],[3,1,4,1],[3,2,4,2],[3,3,4,3],[922,1,922,8]]}
["Manutenção Elétrica - Pregão Eletrônico nº 067/2021"]
["ANEXO 9 - Planilha 3 – Composição de Custos para os Materiais"]
[]
["Subitem","Especificação","Descrição","Unid.","Quantidade\nEstimada p/\n30 Meses","Custo\nUnitário\n(R$)","Custo\nDireto\n(R$)","BDI (%)","Preço\nUnitário\nc/ BDI (R$)","Preço\nTotal\n(R$)"]
[null,null,null,null,"(A)",null,null,null,"(B)","(C)=(A)*(B)"]
["3.1","SF-01423","Conjunto parafuso, porca e arruelas M5","un",5000,0.5,{"$f":"ROUND(E6*F6,2)","v":2500},{"$f":"BDI!$E$17","v":0.11260000000000001},{"$f":"ROUND(F6*(1+H6),2)","v":0.56000000000000005},{"$f":"E6*I6","v":2800.0000000000005}]
["3.2","SF-01424","Conjunto parafuso, porca e arruelas M6","un",5000,0.62,{"$f":"ROUND(E7*F7,2)","v":3100},{"$f":"BDI!$E$17","v":0.11260000000000001},{"$f":"ROUND(F7*(1+H7),2)","v":0.69},3449.9999999999995]
["3.3","SF-01425","Conjunto parafuso, porca e arruelas M8","un",5000,1.25,6250,{"$f":"BDI!$E$17","v":0.11260000000000001},1.39,6949.9999999999991]
["3.4","SF-01426","Conjunto parafuso, porca e arruelas M10","un",5000,3.35,16750,{"$f":"BDI!$E$17","v":0.11260000000000001},3.73,18650]
["3.5","SF-01427","Conjunto parafuso, porca e arruelas M12","un",2500,2.89,7225,{"$f":"BDI!$E$17","v":0.11260000000000001},3.22,8050.0000000000009]
["3.6","SF-01428","Identificador para botão de emergência","un",200,9.3000000000000007,1860,{"$f":"BDI!$E$17","v":0.11260000000000001},10.35,2070]
["3.7","SF-01429","Prensa cabos","un",200,9.75,1950,{"$f":"BDI!$E$17","v":0.11260000000000001},10.85,2170]
["3.8","SF-01430","Bloco de distribuição 2 x 7","un",100,70.5,7050,{"$f":"BDI!$E$17","v":0.11260000000000001},78.44,7844]
["3.9","SF-01431","Bloco de distribuição 2 x 15","un",100,75.03,7503,{"$f":"BDI!$E$17","v":0.11260000000000001},83.48,8348]
["3.10","SF-01432","Bloco de distribuição 4 x 7","un",100,146.91999999999999,14692,{"$f":"BDI!$E$17","v":0.11260000000000001},163.46,16346]
["3.11","SF-01433","Bloco de distribuição 4 x 15","un",100,205,20500,{"$f":"BDI!$E$17","v":0.11260000000000001},228.08,22808]
["3.12","SF-01434","Isolador de baixa tensão para barramentos","un",1000,6.83,6830,{"$f":"BDI!$E$17","v":0.11260000000000001},7.6,7600]
["3.13","SF-01435","Trilho DIN 35mm","m",600,16.95,10170,{"$f":"BDI!$E$17","v":0.11260000000000001},18.86,11316]
["3.14","SF-01436","Suporte para trilho DIN","un",200,7.94,1588,{"$f":"BDI!$E$17","v":0.11260000000000001},8.83,1766]
["3.15","SF-01437","Barramento de cobre","cm3",50000,1.07,53500,{"$f":"BDI!$E$17","v":0.11260000000000001},1.19,59500]
["3.16","SF-01438","Desumidificador para painel","un",30,206.09,6182.7,{"$f":"BDI!$E$17","v":0.11260000000000001},229.3,6879]
["3.17","SF-01439","Conjunto ventilador para painel elétrico 150 mm","un",40,320.29000000000002,12811.6,{"$f":"BDI!$E$17","v":0.11260000000000001},356.35,14254]
["3.18","SF-01440","Conjunto ventilador para painel elétrico 200 mm","un",40,564.65,22586,{"$f":"BDI!$E$17","v":0.11260000000000001},628.23,25129.200000000001]
["3.19","SF-01441","Conjunto ventilador para painel elétrico 250 mm","un",40,820.31,32812.400000000001,{"$f":"BDI!$E$17","v":0.11260000000000001},912.68,36507.199999999997]
["3.20","SF-01442","Conjunto ventilador para painel elétrico 325 mm","un",40,1083.8499999999999,43354,{"$f":"BDI!$E$17","v":0.11260000000000001},1205.8900000000001,48235.600000000006]
["3.21","SF-01443","Porta documentos","un",100,42,4200,{"$f":"BDI!$E$17","v":0.11260000000000001},46.73,4673]
["3.22","SF-01444","Tomada auxiliar","un",200,44.76,8952,{"$f":"BDI!$E$17","v":0.11260000000000001},49.8,9960]
["3.23","SF-01445","Fixador/clip autoadesivo para abraçadeiras de nylon","pct",200,0.78,156,{"$f":"BDI!$E$17","v":0.11260000000000001},0.87,174]
["3.24","SF-01446","Spira-duto 1/8","m",500,1.75,875,{"$f":"BDI!$E$17","v":0.11260000000000001},1.95,975]
["3.25","SF-01447","Spira-duto 1/4","m",500,2.2000000000000002,1100,{"$f":"BDI!$E$17","v":0.11260000000000001},2.4500000000000002,1225]
["3.26","SF-01448","Spira-duto 1/2","m",500,4.57,2285,{"$f":"BDI!$E$17","v":0.11260000000000001},5.08,2540]
["3.27","SF-01449","Spira-duto 3/4","m",500,8.2200000000000006,4110,{"$f":"BDI!$E$17","v":0.11260000000000001},9.15,4575]
["3.28","SF-01450","Canaleta de quadro 30 mm x 30 mm","m",500,12.38,6190,{"$f":"BDI!$E$17","v":0.11260000000000001},13.77,6885]
["3.29","SF-01451","Canaleta de quadro 30 mm x 50 mm","m",500,16.54,8270,{"$f":"BDI!$E$17","v":0.11260000000000001},18.399999999999999,9200]
["3.30","SF-01452","Canaleta de quadro 50 mm x 50 mm","m",500,32.47,16235,{"$f":"BDI!$E$17","v":0.11260000000000001},36.130000000000003,18065]
["3.31","SF-01453","Canaleta de quadro 50 mm x 80 mm","m",500,31.43,15715,{"$f":"BDI!$E$17","v":0.11260000000000001},34.97,17485]
["3.32","SF-01454","Canaleta de quadro 80 mm x 50 mm","m",500,26.45,13225,{"$f":"BDI!$E$17","v":0.11260000000000001},29.43,14715]
["3.33","SF-01455","Canaleta de quadro 80 mm x 80 mm","m",500,39.43,19715,{"$f":"BDI!$E$17","v":0.11260000000000001},43.87,21935]
["3.34","SF-01456","Canaleta de quadro 110 mm x 80 mm","m",500,62.99,31495,{"$f":"BDI!$E$17","v":0.11260000000000001},70.08,35040]
["3.35","SF-01457","Borne até 4 mm2","un",10000,5.77,57700,{"$f":"BDI!$E$17","v":0.11260000000000001},6.42,64200]
["3.36","SF-01458","Borne terra até 4 mm2","un",2000,7.8,15600,{"$f":"BDI!$E$17","v":0.11260000000000001},8.68,17360]
["3.37","SF-01459","Borne 6 mm2","un",2000,5.98,11960,{"$f":"BDI!$E$17","v":0.11260000000000001},6.65,13300]
["3.38","SF-01460","Borne terra 6 mm2","un",400,17.579999999999998,7032,{"$f":"BDI!$E$17","v":0.11260000000000001},19.559999999999999,7823.9999999999991]
["3.39","SF-01461","Borne 10 mm2","un",1500,6.61,9915,{"$f":"BDI!$E$17","v":0.11260000000000001},7.35,11025]
["3.40","SF-01462","Borne terra 10 mm2","un",300,24.88,7464,{"$f":"BDI!$E$17","v":0.11260000000000001},27.68,8304]
["3.41","SF-01463","Borne 16 mm2","un",1000,9.4600000000000009,9460,{"$f":"BDI!$E$17","v":0.11260000000000001},10.53,10530]
["3.42","SF-01464","Borne terra 16 mm2","un",200,36.86,7372,{"$f":"BDI!$E$17","v":0.11260000000000001},41.01,8202]
["3.43","SF-01465","Borne 35 mm2","un",1000,19.100000000000001,19100,{"$f":"BDI!$E$17","v":0.11260000000000001},21.25,21250]
["3.44","SF-01466","Borne terra 35 mm2","un",200,38.14,7628,{"$f":"BDI!$E$17","v":0.11260000000000001},42.43,8486]
["3.45","SF-01467","Borne duplo","un",4000,9.4,37600,{"$f":"BDI!$E$17","v":0.11260000000000001},10.46,41840]
["3.46","SF-01468","Tampa final para borne","un",5000,1.1399999999999999,5700,{"$f":"BDI!$E$17","v":0.11260000000000001},1.27,6350]
["3.47","SF-01469","Separador para borne","un",5000,2.25,11250,{"$f":"BDI!$E$17","v":0.11260000000000001},2.5,12500]
["3.48","SF-01470","Ponte para borne","un",5000,10.6,53000,{"$f":"BDI!$E$17","v":0.11260000000000001},11.79,58949.999999999993]
["3.49","SF-01471","Poste para borne","un",5000,1.68,8400,{"$f":"BDI!$E$17","v":0.11260000000000001},1.87,9350]
["3.50","SF-01472","Borne porta-fusível com LED","un",3000,17.149999999999999,51450,{"$f":"BDI!$E$17","v":0.11260000000000001},19.079999999999998,57239.999999999993]
["3.51","SF-01473","Borne porta-fusível sem LED","un",3000,21,63000,{"$f":"BDI!$E$17","v":0.11260000000000001},23.36,70080]
["3.52","SF-01474","Porta identificador para borne","un",10000,5.64,56400,{"$f":"BDI!$E$17","v":0.11260000000000001},6.28,62800]
["3.53","SF-01475","Identificador para borne","un",10000,5.37,53700,{"$f":"BDI!$E$17","v":0.11260000000000001},5.97,59700]
["3.54","SF-01476","Bloco de aferição para TC","un",100,173.97,17397,{"$f":"BDI!$E$17","v":0.11260000000000001},193.56,19356]
["3.55","SF-01477","Bloco de aferição para TP e TC","un",100,381.09,38109,{"$f":"BDI!$E$17","v":0.11260000000000001},424,42400]
["3.56","SF-01478","Barramento monofásico isolado","m",100,52.22,5222,{"$f":"BDI!$E$17","v":0.11260000000000001},58.1,5810]
["3.57","SF-01479","Barramento bifásico isolado","m",50,117.68,5884,{"$f":"BDI!$E$17","v":0.11260000000000001},130.93,6546.5]
["3.58","SF-01480","Barramento trifásico isolado","m",400,171.96,68784,{"$f":"BDI!$E$17","v":0.11260000000000001},191.32,76528]
["3.59","SF-01481","Protetor para barramento isolado","pct",100,5.87,587,{"$f":"BDI!$E$17","v":0.11260000000000001},6.53,653]
["3.60","SF-01482","Conector para barramento isolado","un",2000,14.38,28760,{"$f":"BDI!$E$17","v":0.11260000000000001},16,32000]
["3.61","SF-01483","Obturador para quadro elétrico","un",2000,4.59,9180,{"$f":"BDI!$E$17","v":0.11260000000000001},5.1100000000000003,10220]
["3.62","SF-01484","Barramento de neutro ou terra","un",600,27.27,16362,{"$f":"BDI!$E$17","v":0.11260000000000001},30.34,18204]
["3.63","SF-01485","Fecho para quadro","un",300,44.35,13305,{"$f":"BDI!$E$17","v":0.11260000000000001},49.34,14802.000000000002]
["3.64","SF-01486","Placa de montagem 1,5 mm","m2",100,693.37,69337,{"$f":"BDI!$E$17","v":0.11260000000000001},771.44,77144]
["3.65","SF-01487","Placa de montagem 2 mm","m2",100,707.08,70708,{"$f":"BDI!$E$17","v":0.11260000000000001},786.7,{"$f":"E70*I70","v":78670}]
["3.66","SF-01488","Chapa de aço galvanizado","kg",50,12.378499999999999,{"$f":"ROUND(E71*F71,2)","v":618.92999999999995},{"$f":"BDI!$E$17","v":0.11260000000000001},{"$f":"ROUND(F71*(1+H71),2)","v":13.77},688.5]
["3.67","SF-01489","Policarbonato","dm3",1000,55.9,55900,{"$f":"BDI!$E$17","v":0.11260000000000001},62.19,62190]
["3.68","SF-01490","Placa de identificação","cm2",50000,1.03,51500,{"$f":"BDI!$E$17","v":0.11260000000000001},1.1499999999999999,57499.999999999993]
["3.69","SF-01491","Cadeado para disjuntores","un",100,49.25,4925,{"$f":"BDI!$E$17","v":0.11260000000000001},54.8,5480]
["3.70","SF-01492","Bloqueio para disjuntores","un",100,36.799999999999997,3680,{"$f":"BDI!$E$17","v":0.11260000000000001},40.94,4094]
["3.71","SF-01493","Ventoinha 120mm","un",100,78.48,7848,{"$f":"BDI!$E$17","v":0.11260000000000001},87.32,8732]
["3.72","SF-01494","Perfil de aço","kg",1500,9.1389999999999993,13708.5,{"$f":"BDI!$E$17","v":0.11260000000000001},10.17,15255]
["3.73","SF-01495","Espuma expansiva corta-fogo","un",100,56.77,5677,{"$f":"BDI!$E$17","v":0.11260000000000001},63.16,6316]
["3.74","SF-01496","Cantoneira","un",2000,3.5,7000,{"$f":"BDI!$E$17","v":0.11260000000000001},3.89,7780]
["3.75","SF-01497","Janela de inspeção termográfica 2 polegadas","un",20,2579.85,51597,{"$f":"BDI!$E$17","v":0.11260000000000001},2870.34,57406.8]
["3.76","SF-01498","Janela de inspeção termográfica 3 polegadas","un",20,3454.43,69088.600000000006,{"$f":"BDI!$E$17","v":0.11260000000000001},3843.4,76868]
["3.77","SF-01499","Janela de inspeção termográfica 4 polegadas","un",20,5203.58,104071.6,{"$f":"BDI!$E$17","v":0.11260000000000001},5789.5,115790]
["3.78","SF-01500","Pino-bola para ponto de aterramento temporário","un",50,89.42,4471,{"$f":"BDI!$E$17","v":0.11260000000000001},99.49,4974.5]
["3.79","SF-01501","Luminária para quadros elétricos","un",50,430.81,21540.5,{"$f":"BDI!$E$17","v":0.11260000000000001},479.32,23966]
["3.80","SF-01502","Canaleta em alumínio 73mm x 25mm","m",1000,115.61,115610,{"$f":"BDI!$E$17","v":0.11260000000000001},128.63,128630]
["3.81","SF-01503","Curva para canaleta em alumínio 73mm x 25mm","un",400,73.260000000000005,29304,{"$f":"BDI!$E$17","v":0.11260000000000001},81.510000000000005,32604.000000000004]
["3.82","SF-01504","Porta equipamentos para canaleta de alumínio","un",2000,22.01,44020,{"$f":"BDI!$E$17","v":0.11260000000000001},24.49,48980]
["3.83","SF-01505","Adaptador de eletroduto para canaleta em alumínio 73mm x 25mm","un",200,52.54,10508,{"$f":"BDI!$E$17","v":0.11260000000000001},58.46,11692]
["3.84","SF-01506","Tampa terminal para canaleta em alumínio 73mm x 25mm","un",500,7.64,3820,{"$f":"BDI!$E$17","v":0.11260000000000001},8.5,4250]
["3.85","SF-01507","Derivação tipo X para canaleta em alumínio 73mm x 25mm","un",50,86.07,4303.5,{"$f":"BDI!$E$17","v":0.11260000000000001},95.76,4788]
["3.86","SF-01508","Canaleta em alumínio 53mm x 14mm","m",500,62.97,31485,{"$f":"BDI!$E$17","v":0.11260000000000001},70.06,35030]
["3.87","SF-01509","Curva para canaleta em alumínio 53mm x 14mm","un",100,27.04,2704,{"$f":"BDI!$E$17","v":0.11260000000000001},30.08,3008]
["3.88","SF-01510","Tampa terminal para canaleta em alumínio 53mm x 14mm","un",100,8.19,819,{"$f":"BDI!$E$17","v":0.11260000000000001},9.11,911]
["3.89","SF-01511","Adaptador de porta equipamentos para canaleta em alumínio 53mm x 14mm","un",200,16.45,3290,{"$f":"BDI!$E$17","v":0.11260000000000001},18.3,3660]
["3.90","SF-01512","Canaleta em PVC 20mm x 12 mm","m",1500,5.81,8715,{"$f":"BDI!$E$17","v":0.11260000000000001},6.46,9690]
["3.91","SF-01513","Acessório para canaleta em PVC 20mm x 12 mm","un",100,1.8,180,{"$f":"BDI!$E$17","v":0.11260000000000001},2,200]
["3.92","SF-01514","Caixa de sobrepor para canaleta em PVC 20mm x 12 mm","un",400,14.1,5640,{"$f":"BDI!$E$17","v":0.11260000000000001},15.69,6276]
["3.93","SF-01515","Tomada para canaleta em PVC 20mm x 12 mm","un",100,14.49,1449,{"$f":"BDI!$E$17","v":0.11260000000000001},16.12,1612]
["3.94","SF-01516","Interruptor para canaleta em PVC 20mm x 12 mm","un",50,14.01,700.5,{"$f":"BDI!$E$17","v":0.11260000000000001},15.59,779.5]
["3.95","SF-01517","Pulsador para canaleta em PVC 20mm x 12 mm","un",10,30.67,306.7,{"$f":"BDI!$E$17","v":0.11260000000000001},34.119999999999997,341.2]
["3.96","SF-01518","Módulo cego para canaleta em PVC 20mm x 12 mm","un",100,18.59,1859,{"$f":"BDI!$E$17","v":0.11260000000000001},20.68,2068]
["3.97","SF-01519","Chave seletora de 2 posições","un",500,16.649999999999999,8325,{"$f":"BDI!$E$17","v":0.11260000000000001},18.52,9260]
["3.98","SF-01520","Chave seletora de 3 posições","un",500,22.31,11155,{"$f":"BDI!$E$17","v":0.11260000000000001},24.82,12410]
["3.99","SF-01521","Botão de emergência tipo cogumelo","un",300,19.66,5898,{"$f":"BDI!$E$17","v":0.11260000000000001},21.87,6561]
["3.100","SF-01522","Botão tipo pulsador","un",1000,13.08,13080,{"$f":"BDI!$E$17","v":0.11260000000000001},14.55,14550]
["3.101","SF-01523","Botão tipo pulsador iluminado","un",100,35.93,3593,{"$f":"BDI!$E$17","v":0.11260000000000001},39.979999999999997,3997.9999999999995]
["3.102","SF-01524","Bloco de contato para chaves e botões","un",200,6.27,1254,{"$f":"BDI!$E$17","v":0.11260000000000001},6.98,1396]
["3.103","SF-01525","Chave seletora de 2 posições iluminada","un",100,53.31,5331,{"$f":"BDI!$E$17","v":0.11260000000000001},59.31,5931]
["3.104","SF-01526","Chave seletora de 3 posições iluminada","un",100,56.9,5690,{"$f":"BDI!$E$17","v":0.11260000000000001},63.31,6331]
["3.105","SF-01527","Botão duplo","un",30,103.9,3117,{"$f":"BDI!$E$17","v":0.11260000000000001},115.6,3468]
["3.106","SF-01528","Sinaleiro LED","un",1500,10.36,15540,{"$f":"BDI!$E$17","v":0.11260000000000001},11.53,17295]
["3.107","SF-01529","Sinalizador sonoro luminoso","un",200,29.96,5992,{"$f":"BDI!$E$17","v":0.11260000000000001},33.33,6666]
["3.108","SF-01530","Sinalizador sonoro","un",200,30.64,6128,{"$f":"BDI!$E$17","v":0.11260000000000001},34.090000000000003,6818.0000000000009]
["3.109","SF-01531","Sirene","un",50,215.69,10784.5,{"$f":"BDI!$E$17","v":0.11260000000000001},239.98,11999]
["3.110","SF-01532","Chave de partida direta","un",50,154,7700,{"$f":"BDI!$E$17","v":0.11260000000000001},171.34,8567]
["3.111","SF-01533","Distribuidor Interno Ótico Industrial","un",50,241.2,12060,{"$f":"BDI!$E$17","v":0.11260000000000001},268.36,13418]
["3.112","SF-01534","Patch Panel Ethernet Industrial","un",20,1105.43,22108.6,{"$f":"BDI!$E$17","v":0.11260000000000001},1229.9000000000001,24598]
["3.113","SF-01535","Conector RJ45 Fêmea Blindado","un",200,49.32,9864,{"$f":"BDI!$E$17","v":0.11260000000000001},54.87,10974]
["3.114","SF-01536","Conector RJ45 Macho Blindado","un",200,13.14,2628,{"$f":"BDI!$E$17","v":0.11260000000000001},14.62,2924]
["3.115","SF-01537","Cabo Ethernet Blindado","m",3000,13.11,39330,{"$f":"BDI!$E$17","v":0.11260000000000001},14.59,43770]
["3.116","SF-01538","Switch ethernet industrial","un",20,2964.02,59280.4,{"$f":"BDI!$E$17","v":0.11260000000000001},3297.77,65955.399999999994]
["3.117","SF-01539","Gateway Modbus Ethernet/RS485","un",20,4673.24,93464.8,{"$f":"BDI!$E$17","v":0.11260000000000001},5199.45,103989]
["3.118","SF-01540","Condulete de alumínio de 3/4’’","un",4000,6.1369999999999996,24548,{"$f":"BDI!$E$17","v":0.11260000000000001},6.83,27320]
["3.119","SF-01541","Condulete de alumínio de 1’’","un",4000,10.316999999999998,41268,{"$f":"BDI!$E$17","v":0.11260000000000001},11.48,45920]
["3.120","SF-01542","Condulete de alumínio de 1.1/4’’","un",1000,12.644500000000001,12644.5,{"$f":"BDI!$E$17","v":0.11260000000000001},14.07,14070]
["3.121","SF-01543","Condulete de alumínio de 1.1/2’’","un",1000,16.805500000000002,16805.5,{"$f":"BDI!$E$17","v":0.11260000000000001},18.7,18700]
["3.122","SF-01544","Condulete de alumínio de 2’’","un",500,24.6525,12326.25,{"$f":"BDI!$E$17","v":0.11260000000000001},27.43,13715]
["3.123","SF-01545","Condulete de alumínio de 2.1/2’’","un",500,140.12,70060,{"$f":"BDI!$E$17","v":0.11260000000000001},155.9,77950]
["3.124","SF-01546","Condulete de alumínio de 3’’","un",250,68.466499999999996,17116.63,{"$f":"BDI!$E$17","v":0.11260000000000001},76.180000000000007,19045]
["3.125","SF-01547","Condulete de alumínio de 4’’","un",200,125.67549999999999,25135.1,{"$f":"BDI!$E$17","v":0.11260000000000001},139.83000000000001,27966.000000000004]
["3.126","SF-01548","Tampa para condulete de alumínio de 3/4’’","un",5000,2.67,13350,{"$f":"BDI!$E$17","v":0.11260000000000001},2.97,14850.000000000002]
["3.127","SF-01549","Tampa para condulete de alumínio de 1’’","un",5000,4.09,20450,{"$f":"BDI!$E$17","v":0.11260000000000001},4.55,22750]
["3.128","SF-01550","Interruptor para condulete","un",1000,13.95,13950,{"$f":"BDI!$E$17","v":0.11260000000000001},15.52,15520]
["3.129","SF-01551","Interruptor duplo para condulete","un",500,18.8,9400,{"$f":"BDI!$E$17","v":0.11260000000000001},20.92,{"$f":"E134*I134","v":10460}]
["3.130","SF-01552","Tomada para condulete de 10 A","un",4000,14.65,{"$f":"ROUND(E135*F135,2)","v":58600},{"$f":"BDI!$E$17","v":0.11260000000000001},{"$f":"ROUND(F135*(1+H135),2)","v":16.3},65200]
["3.131","SF-01553","Tomada para condulete de 20 A","un",1000,18.29,18290,{"$f":"BDI!$E$17","v":0.11260000000000001},20.350000000000001,20350]
["3.132","SF-01554","Tomada dupla para condulete","un",2000,14.7,29400,{"$f":"BDI!$E$17","v":0.11260000000000001},16.36,32720]
["3.133","SF-01555","Tomada e interruptor para condulete","un",500,26.33,13165,{"$f":"BDI!$E$17","v":0.11260000000000001},29.29,14645]
["3.134","SF-01556","Kit de vedaçao para condulete de alumínio de 3/4’’","un",100,10.73,1073,{"$f":"BDI!$E$17","v":0.11260000000000001},11.94,1194]
["3.135","SF-01557","Kit de vedaçao para condulete de alumínio de 1’’","un",200,11.25,2250,{"$f":"BDI!$E$17","v":0.11260000000000001},12.52,2504]
["3.136","SF-01558","Kit de vedaçao para condulete de alumínio de 1.1/4’’","un",50,26.96,1348,{"$f":"BDI!$E$17","v":0.11260000000000001},30,1500]
["3.137","SF-01559","Kit de vedaçao para condulete de alumínio de 1.1/2’’","un",50,40.97,2048.5,{"$f":"BDI!$E$17","v":0.11260000000000001},45.58,2279]
["3.138","SF-01560","Kit de vedaçao para condulete de alumínio de 2’’","un",50,30.24,1512,{"$f":"BDI!$E$17","v":0.11260000000000001},33.65,1682.5]
["3.139","SF-01561","Tampa para condulete de PVC","un",5000,2.8784999999999998,14392.5,{"$f":"BDI!$E$17","v":0.11260000000000001},3.2,16000]
["3.140","SF-01562","Conector para condulete de PVC","un",8000,1.48,11840,{"$f":"BDI!$E$17","v":0.11260000000000001},1.65,13200]
["3.141","SF-01563","Terminal de compressão 25 mm2","un",10000,2.1659999999999999,21660,{"$f":"BDI!$E$17","v":0.11260000000000001},2.41,24100]
["3.142","SF-01564","Terminal de compressão 35 mm2","un",2000,2.4414999999999996,4883,{"$f":"BDI!$E$17","v":0.11260000000000001},2.72,5440]
["3.143","SF-01565","Terminal de compressão 50 mm2","un",2000,4.2464999999999993,8493,{"$f":"BDI!$E$17","v":0.11260000000000001},4.72,9440]
["3.144","SF-01566","Terminal de compressão 70 mm2","un",1000,5.2915000000000001,5291.5,{"$f":"BDI!$E$17","v":0.11260000000000001},5.89,5890]
["3.145","SF-01567","Terminal de compressão 95 mm2","un",1000,6.5170000000000003,6517,{"$f":"BDI!$E$17","v":0.11260000000000001},7.25,7250]
["3.146","SF-01568","Terminal de compressão 120 mm2","un",1000,9.1675000000000004,9167.5,{"$f":"BDI!$E$17","v":0.11260000000000001},10.199999999999999,10200]
["3.147","SF-01569","Terminal de compressão 150 mm2","un",600,20.624500000000001,12374.7,{"$f":"BDI!$E$17","v":0.11260000000000001},22.95,13770]
["3.148","SF-01570","Terminal de compressão 185 mm2","un",1000,22.543499999999998,22543.5,{"$f":"BDI!$E$17","v":0.11260000000000001},25.08,25080]
["3.149","SF-01571","Terminal de compressão 240 mm2","un",600,29.744499999999999,17846.7,{"$f":"BDI!$E$17","v":0.11260000000000001},33.090000000000003,19854.000000000004]
["3.150","SF-01572","Terminal de compressão 300 mm2","un",300,43.282000000000004,12984.6,{"$f":"BDI!$E$17","v":0.11260000000000001},48.16,14447.999999999998]
["3.151","SF-01573","Luva de compressão 25 mm2","un",500,3.35,1675,{"$f":"BDI!$E$17","v":0.11260000000000001},3.73,1865]
["3.152","SF-01574","Luva de compressão 35 mm2","un",500,4.8,2400,{"$f":"BDI!$E$17","v":0.11260000000000001},5.34,2670]
["3.153","SF-01575","Luva de compressão 50 mm2","un",500,8.16,4080,{"$f":"BDI!$E$17","v":0.11260000000000001},9.08,4540]
["3.154","SF-01576","Luva de compressão 70 mm2","un",300,10.98,3294,{"$f":"BDI!$E$17","v":0.11260000000000001},12.22,3666]
["3.155","SF-01577","Luva de compressão 95 mm2","un",300,14.54,4362,{"$f":"BDI!$E$17","v":0.11260000000000001},16.18,4854]
["3.156","SF-01578","Luva de compressão 120 mm2","un",300,15.73,4719,{"$f":"BDI!$E$17","v":0.11260000000000001},17.5,5250]
["3.157","SF-01579","Luva de compressão 150 mm2","un",200,16.260000000000002,3252,{"$f":"BDI!$E$17","v":0.11260000000000001},18.09,3618]
["3.158","SF-01580","Luva de compressão 185 mm2","un",200,23.32,4664,{"$f":"BDI!$E$17","v":0.11260000000000001},25.95,5190]
["3.159","SF-01581","Luva de compressão 240 mm2","un",200,39.6,7920,{"$f":"BDI!$E$17","v":0.11260000000000001},44.06,8812]
["3.160","SF-01582","Luva de compressão 300 mm2","un",200,44.07,8814,{"$f":"BDI!$E$17","v":0.11260000000000001},49.03,9806]
["3.161","SF-01583","Condutor 1,0 mm2","m",5000,1.1000000000000001,5500,{"$f":"BDI!$E$17","v":0.11260000000000001},1.22,6100]
["3.162","SF-01584","Condutor 1,5 mm2","m",10000,1.7,17000,{"$f":"BDI!$E$17","v":0.11260000000000001},1.89,18900]
["3.163","SF-01585","Condutor 2,5 mm2","m",100000,2.76,276000,{"$f":"BDI!$E$17","v":0.11260000000000001},3.07,307000]
["3.164","SF-01586","Condutor 4 mm2","m",50000,4.43,221500,{"$f":"BDI!$E$17","v":0.11260000000000001},4.93,246500]
["3.165","SF-01587","Condutor 6 mm2","m",20000,6.05,121000,{"$f":"BDI!$E$17","v":0.11260000000000001},6.73,134600]
["3.166","SF-01588","Condutor 10 mm2","m",15000,11.11,166650,{"$f":"BDI!$E$17","v":0.11260000000000001},12.36,185400]
["3.167","SF-01589","Condutor 16 mm2","m",15000,17.46,261900,{"$f":"BDI!$E$17","v":0.11260000000000001},19.43,291450]
["3.168","SF-01590","Condutor 25 mm2","m",10000,23.7,237000,{"$f":"BDI!$E$17","v":0.11260000000000001},26.37,263700]
["3.169","SF-01591","Condutor 35 mm2","m",10000,35.299999999999997,353000,{"$f":"BDI!$E$17","v":0.11260000000000001},39.270000000000003,392700.00000000006]
["3.170","SF-01592","Condutor 50 mm2","m",10000,48.07,480700,{"$f":"BDI!$E$17","v":0.11260000000000001},53.48,534800]
["3.171","SF-01593","Condutor 70 mm2","m",8000,75.09,600720,{"$f":"BDI!$E$17","v":0.11260000000000001},83.55,668400]
["3.172","SF-01594","Condutor 95 mm2","m",8000,98.65,789200,{"$f":"BDI!$E$17","v":0.11260000000000001},109.76,878080]
["3.173","SF-01595","Condutor 120 mm2","m",8000,113.19,905520,{"$f":"BDI!$E$17","v":0.11260000000000001},125.94,1007520]
["3.174","SF-01596","Condutor 150 mm2","m",5000,127.36,636800,{"$f":"BDI!$E$17","v":0.11260000000000001},141.69999999999999,708500]
["3.175","SF-01597","Condutor 185 mm2","m",5000,190.41,952050,{"$f":"BDI!$E$17","v":0.11260000000000001},211.85,1059250]
["3.176","SF-01598","Condutor 240 mm2","m",5000,238.2,1191000,{"$f":"BDI!$E$17","v":0.11260000000000001},265.02,1325100]
["3.177","SF-01599","Cobre nu 16 mm2","m",1000,12.577999999999999,12578,{"$f":"BDI!$E$17","v":0.11260000000000001},13.99,13990]
["3.178","SF-01600","Cobre nu 25 mm2","m",1000,19.417999999999999,19418,{"$f":"BDI!$E$17","v":0.11260000000000001},21.6,21600]
["3.179","SF-01601","Cobre nu 35 mm2","m",1000,26.837499999999999,26837.5,{"$f":"BDI!$E$17","v":0.11260000000000001},29.86,29860]
["3.180","SF-01602","Cobre nu 50 mm2","m",5000,37.373000000000005,186865,{"$f":"BDI!$E$17","v":0.11260000000000001},41.58,207900]
["3.181","SF-01603","Cobre nu 70 mm2","m",2000,52.658499999999997,105317,{"$f":"BDI!$E$17","v":0.11260000000000001},58.59,117180]
["3.182","SF-01604","Cabo 3x1,5 mm2","m",5000,8.42,42100,{"$f":"BDI!$E$17","v":0.11260000000000001},9.3699999999999992,46849.999999999993]
["3.183","SF-01605","Cabo 3x2,5 mm2","m",10000,13.89,138900,{"$f":"BDI!$E$17","v":0.11260000000000001},15.45,154500]
["3.184","SF-01606","Cabo 3x4 mm2","m",5000,18.53,92650,{"$f":"BDI!$E$17","v":0.11260000000000001},20.62,103100]
["3.185","SF-01607","Cabo 3x6 mm2","m",1000,30.66,30660,{"$f":"BDI!$E$17","v":0.11260000000000001},34.11,34110]
["3.186","SF-01608","Cabo PP 2x1 mm2","m",3000,3.72,11160,{"$f":"BDI!$E$17","v":0.11260000000000001},4.1399999999999997,12419.999999999998]
["3.187","SF-01609","Cabo PP 2x1,5 mm2","m",3000,4.21,12630,{"$f":"BDI!$E$17","v":0.11260000000000001},4.68,14040]
["3.188","SF-01610","Cabo PP 2x2,5 mm2","m",1000,6.3,6300,{"$f":"BDI!$E$17","v":0.11260000000000001},7.01,7010]
["3.189","SF-01611","Cabo PP 3x1 mm2","m",2500,4.4800000000000004,11200,{"$f":"BDI!$E$17","v":0.11260000000000001},4.9800000000000004,12450.000000000002]
["3.190","SF-01612","Cabo PP 3x1,5 mm2","m",6000,6.19,37140,{"$f":"BDI!$E$17","v":0.11260000000000001},6.89,41340]
["3.191","SF-01613","Cabo PP 3x2,5 mm2","m",5000,9.34,46700,{"$f":"BDI!$E$17","v":0.11260000000000001},10.39,51950]
["3.192","SF-01614","Cabo Blindado 2x0,75mm2","m",200,4.41,882,{"$f":"BDI!$E$17","v":0.11260000000000001},4.91,982]
["3.193","SF-01615","Cabo Blindado 2x1mm2","m",200,4.71,942,{"$f":"BDI!$E$17","v":0.11260000000000001},5.24,{"$f":"E198*I198","v":1048}]
["3.194","SF-01616","Cabo Blindado 2x1,5mm2","m",200,6.61,{"$f":"ROUND(E199*F199,2)","v":1322},{"$f":"BDI!$E$17","v":0.11260000000000001},{"$f":"ROUND(F199*(1+H199),2)","v":7.35},1470]
["3.195","SF-01617","Cabo Blindado 2x2,5mm2","m",200,6.8,1360,{"$f":"BDI!$E$17","v":0.11260000000000001},7.57,1514]
["3.196","SF-01620","Cabo Blindado 3x1,50mm2","m",200,9.85,1970,{"$f":"BDI!$E$17","v":0.11260000000000001},10.96,2192]
["3.197","SF-01622","Cabo 4x1 mm2","m",1000,6.22,6220,{"$f":"BDI!$E$17","v":0.11260000000000001},6.92,6920]
["3.198","SF-01625","Mufla de média tensão","un",30,200.18,6005.4,{"$f":"BDI!$E$17","v":0.11260000000000001},222.72,6681.6]
["3.199","SF-01626","Contator auxiliar AC","un",500,103.03,51515,{"$f":"BDI!$E$17","v":0.11260000000000001},114.63,57315]
["3.200","SF-01627","Contator auxiliar DC","un",200,205.31,41062,{"$f":"BDI!$E$17","v":0.11260000000000001},228.43,45686]
["3.201","SF-01628","Minicontator 12A AC","un",500,166.5,83250,{"$f":"BDI!$E$17","v":0.11260000000000001},185.25,92625]
["3.202","SF-01629","Minicontator 12A DC","un",200,101.44,20288,{"$f":"BDI!$E$17","v":0.11260000000000001},112.86,22572]
["3.203","SF-01630","Minicontator 16A AC","un",750,86.93,65197.5,{"$f":"BDI!$E$17","v":0.11260000000000001},96.72,72540]
["3.204","SF-01631","Minicontator 16A DC","un",300,182.95,54885,{"$f":"BDI!$E$17","v":0.11260000000000001},203.55,61065]
["3.205","SF-01632","Contator 18A","un",300,108.9,32670,{"$f":"BDI!$E$17","v":0.11260000000000001},121.16,36348]
["3.206","SF-01633","Contator 25A","un",200,129.22999999999999,25846,{"$f":"BDI!$E$17","v":0.11260000000000001},143.78,28756]
["3.207","SF-01634","Contator 32A","un",200,203.83,40766,{"$f":"BDI!$E$17","v":0.11260000000000001},226.78,45356]
["3.208","SF-01635","Contator 40A","un",200,262.8,52560,{"$f":"BDI!$E$17","v":0.11260000000000001},292.39,58478]
["3.209","SF-01636","Contator 50A","un",100,410.65,41065,{"$f":"BDI!$E$17","v":0.11260000000000001},456.89,45689]
["3.210","SF-01637","Contator 65A","un",50,621.71,31085.5,{"$f":"BDI!$E$17","v":0.11260000000000001},691.71,34585.5]
["3.211","SF-01638","Contator 80A","un",50,845.75,42287.5,{"$f":"BDI!$E$17","v":0.11260000000000001},940.98,47049]
["3.212","SF-01639","Contator Especial 18A","un",100,177.92,17792,{"$f":"BDI!$E$17","v":0.11260000000000001},197.95,19795]
["3.213","SF-01640","Contator Especial 25A","un",100,311.23,31123,{"$f":"BDI!$E$17","v":0.11260000000000001},346.27,34627]
["3.214","SF-01641","Contator Especial 30A","un",50,607.84,30392,{"$f":"BDI!$E$17","v":0.11260000000000001},676.28,33814]
["3.215","SF-01642","Contator Especial 38A","un",50,523.4,26170,{"$f":"BDI!$E$17","v":0.11260000000000001},582.33000000000004,29116.500000000004]
["3.216","SF-01643","Contator Especial 50A","un",50,1241.55,62077.5,{"$f":"BDI!$E$17","v":0.11260000000000001},1381.35,69067.5]
["3.217","SF-01644","Contator Especial 65A","un",30,1483.01,44490.3,{"$f":"BDI!$E$17","v":0.11260000000000001},1650,49500]
["3.218","SF-01645","Contator Especial 150A","un",20,1217.1400000000001,24342.799999999999,{"$f":"BDI!$E$17","v":0.11260000000000001},1354.19,27083.800000000003]
["3.219","SF-01646","Contator Especial 250A","un",10,3861.88,38618.800000000003,{"$f":"BDI!$E$17","v":0.11260000000000001},4296.7299999999996,42967.299999999996]
["3.220","SF-01647","Bloco de contato auxiliar simples","un",500,34.119999999999997,17060,{"$f":"BDI!$E$17","v":0.11260000000000001},37.96,18980]
["3.221","SF-01648","Bloco de contato auxiliar duplo","un",200,30.3,6060,{"$f":"BDI!$E$17","v":0.11260000000000001},33.71,6742]
["3.222","SF-01649","Bloco de contato auxiliar quádruplo","un",200,61.88,12376,{"$f":"BDI!$E$17","v":0.11260000000000001},68.849999999999994,13769.999999999998]
["3.223","SF-01650","Relé de sobrecarga para contator até 25A","un",300,222.46,66738,{"$f":"BDI!$E$17","v":0.11260000000000001},247.51,74253]
["3.224","SF-01651","Relé de sobrecarga para contator até 40A","un",100,222.53,22253,{"$f":"BDI!$E$17","v":0.11260000000000001},247.59,24759]
["3.225","SF-01652","Relé de sobrecarga para contator até 80A","un",50,290.81,14540.5,{"$f":"BDI!$E$17","v":0.11260000000000001},323.56,16178]
["3.226","SF-01653","Capacitor 2,5 kVAr","un",10,110.66,1106.5999999999999,{"$f":"BDI!$E$17","v":0.11260000000000001},123.12,1231.2]
["3.227","SF-01654","Capacitor 5 kVAr","un",10,133,1330,{"$f":"BDI!$E$17","v":0.11260000000000001},147.97999999999999,1479.8]
["3.228","SF-01655","Capacitor 10 kVAr","un",20,235.36,4707.2,{"$f":"BDI!$E$17","v":0.11260000000000001},261.86,5237.2000000000007]
["3.229","SF-01656","Capacitor 15 kVAr","un",20,326.08999999999997,6521.8,{"$f":"BDI!$E$17","v":0.11260000000000001},362.81,7256.2]
["3.230","SF-01657","Capacitor 20 kVAr","un",20,435.14,8702.7999999999993,{"$f":"BDI!$E$17","v":0.11260000000000001},484.14,9682.7999999999993]
["3.231","SF-01658","Capacitor 25 kVAr","un",20,494,9880,{"$f":"BDI!$E$17","v":0.11260000000000001},549.62,10992.4]
["3.232","SF-01659","Capacitor 30 kVAr","un",30,628.24,18847.2,{"$f":"BDI!$E$17","v":0.11260000000000001},698.98,20969.400000000001]
["3.233","SF-01660","Contator para capacitor 22A","un",50,209.62,10481,{"$f":"BDI!$E$17","v":0.11260000000000001},233.22,11661]
["3.234","SF-01661","Contator para capacitor 30A","un",50,270.76,13538,{"$f":"BDI!$E$17","v":0.11260000000000001},301.25,15062.5]
["3.235","SF-01662","Contator para capacitor 40A","un",20,324.49,6489.8,{"$f":"BDI!$E$17","v":0.11260000000000001},361.03,7220.5999999999995]
["3.236","SF-01663","Contator para capacitor 60A","un",20,564.95000000000005,11299,{"$f":"BDI!$E$17","v":0.11260000000000001},628.55999999999995,12571.199999999999]
["3.237","SF-01664","Controlador de fator de potência","un",5,4211.76,21058.799999999999,{"$f":"BDI!$E$17","v":0.11260000000000001},4686,23430]
["3.238","SF-01665","Disjuntor monopolar trilho DIN até 4A","un",200,32.340000000000003,6468,{"$f":"BDI!$E$17","v":0.11260000000000001},35.979999999999997,7195.9999999999991]
["3.239","SF-01666","Disjuntor monopolar trilho DIN até 6A","un",200,27.57,5514,{"$f":"BDI!$E$17","v":0.11260000000000001},30.67,6134]
["3.240","SF-01667","Disjuntor monopolar trilho DIN até 32A","un",4000,9.5500000000000007,38200,{"$f":"BDI!$E$17","v":0.11260000000000001},10.63,42520]
["3.241","SF-01668","Disjuntor monopolar trilho DIN até 63A","un",600,12.25,7350,{"$f":"BDI!$E$17","v":0.11260000000000001},13.63,8178.0000000000009]
["3.242","SF-01669","Disjuntor bipolar trilho DIN até 4A","un",30,56.26,1687.8,{"$f":"BDI!$E$17","v":0.11260000000000001},62.59,1877.7]
["3.243","SF-01670","Disjuntor bipolar trilho DIN até 6A","un",30,96.85,2905.5,{"$f":"BDI!$E$17","v":0.11260000000000001},107.76,3232.8]
["3.244","SF-01671","Disjuntor bipolar trilho DIN até 32A","un",100,50.74,5074,{"$f":"BDI!$E$17","v":0.11260000000000001},56.45,5645]
["3.245","SF-01672","Disjuntor tripolar trilho DIN até 4A","un",50,187.43,9371.5,{"$f":"BDI!$E$17","v":0.11260000000000001},208.53,10426.5]
["3.246","SF-01673","Disjuntor tripolar trilho DIN até 6A","un",50,102.6,5130,{"$f":"BDI!$E$17","v":0.11260000000000001},114.15,5707.5]
["3.247","SF-01674","Disjuntor tripolar trilho DIN até 50A","un",500,57.72,28860,{"$f":"BDI!$E$17","v":0.11260000000000001},64.22,32110]
["3.248","SF-01675","Disjuntor tripolar trilho DIN até 63A","un",200,83.4,16680,{"$f":"BDI!$E$17","v":0.11260000000000001},92.79,18558]
["3.249","SF-01676","Disjuntor tripolar trilho DIN até 70A","un",100,137.69999999999999,13770,{"$f":"BDI!$E$17","v":0.11260000000000001},153.21,15321]
["3.250","SF-01677","Disjuntor tripolar trilho DIN até 100A","un",50,163.86,8193,{"$f":"BDI!$E$17","v":0.11260000000000001},182.31,9115.5]
["3.251","SF-01678","Disjuntor monopolar trilho DIN até 6A, 10 kA","un",100,114.24,11424,{"$f":"BDI!$E$17","v":0.11260000000000001},127.1,12710]
["3.252","SF-01679","Disjuntor monopolar trilho DIN até 32A, 10 kA","un",250,68.25,17062.5,{"$f":"BDI!$E$17","v":0.11260000000000001},75.930000000000007,18982.5]
["3.253","SF-01680","Disjuntor monopolar trilho DIN até 63A, 10 kA","un",200,160.5,32100,{"$f":"BDI!$E$17","v":0.11260000000000001},178.57,35714]
["3.254","SF-01681","Disjuntor bipolar trilho DIN até 6A, 10 kA","un",20,363.58,7271.6,{"$f":"BDI!$E$17","v":0.11260000000000001},404.52,8090.4]
["3.255","SF-01682","Disjuntor bipolar trilho DIN até 32A, 10 kA","un",100,168.34,16834,{"$f":"BDI!$E$17","v":0.11260000000000001},187.3,18730]
["3.256","SF-01683","Disjuntor tripolar trilho DIN até 6A, 10kA","un",100,523.91999999999996,52392,{"$f":"BDI!$E$17","v":0.11260000000000001},582.91,58291]
["3.257","SF-01684","Disjuntor tripolar trilho DIN até 32A, 10kA","un",200,344.34,68868,{"$f":"BDI!$E$17","v":0.11260000000000001},383.11,{"$f":"E262*I262","v":76622}]
["3.258","SF-01685","Disjuntor tripolar trilho DIN até 63A, 10kA","un",200,400.87,{"$f":"ROUND(E263*F263,2)","v":80174},{"$f":"BDI!$E$17","v":0.11260000000000001},{"$f":"ROUND(F263*(1+H263),2)","v":446.01},89202]
["3.259","SF-01686","Interruptor diferencial residual bipolar de 25A","un",250,131.11000000000001,32777.5,{"$f":"BDI!$E$17","v":0.11260000000000001},145.87,36467.5]
["3.260","SF-01687","Interruptor diferencial residual bipolar de 40A","un",250,192.51,48127.5,{"$f":"BDI!$E$17","v":0.11260000000000001},214.19,53547.5]
["3.261","SF-01688","Interruptor diferencial residual tetrapolar de 25A","un",250,189.64,47410,{"$f":"BDI!$E$17","v":0.11260000000000001},210.99,52747.5]
["3.262","SF-01689","Interruptor diferencial residual tetrapolar de 40A","un",250,179.45,44862.5,{"$f":"BDI!$E$17","v":0.11260000000000001},199.66,49915]
["3.263","SF-01690","Interruptor diferencial residual tetrapolar de 63A","un",250,239.24,59810,{"$f":"BDI!$E$17","v":0.11260000000000001},266.18,66545]
["3.264","SF-01691","Disjuntor diferencial residual bipolar","un",300,227.13,68139,{"$f":"BDI!$E$17","v":0.11260000000000001},252.7,75810]
["3.265","SF-01692","Disjuntor diferencial residual tetrapolar","un",300,278.47000000000003,83541,{"$f":"BDI!$E$17","v":0.11260000000000001},309.83,92949]
["3.266","SF-01693","Dispositivo de Proteção Contra Surtos Classe I","un",200,134.72999999999999,26946,{"$f":"BDI!$E$17","v":0.11260000000000001},149.9,29980]
["3.267","SF-01694","Dispositivo de Proteção Contra Surtos Classe II 20 kA","un",1000,82.93,82930,{"$f":"BDI!$E$17","v":0.11260000000000001},92.27,92270]
["3.268","SF-01695","Dispositivo de Proteção Contra Surtos Classe II 40 kA","un",1000,111.46,111460,{"$f":"BDI!$E$17","v":0.11260000000000001},124.01,124010]
["3.269","SF-01696","Dispositivo de Proteção Contra Surtos Classe III","un",300,751.38,225414,{"$f":"BDI!$E$17","v":0.11260000000000001},835.99,250797]
["3.270","SF-01697","Disjuntor de caixa moldada de 100A / 18kA","un",200,394,78800,{"$f":"BDI!$E$17","v":0.11260000000000001},438.36,87672]
["3.271","SF-01698","Disjuntor de caixa moldada de 100A / 36kA","un",200,945.37,189074,{"$f":"BDI!$E$17","v":0.11260000000000001},1051.82,210364]
["3.272","SF-01699","Disjuntor de caixa moldada de 100A / 50kA","un",50,1595.13,79756.5,{"$f":"BDI!$E$17","v":0.11260000000000001},1774.74,88737]
["3.273","SF-01700","Disjuntor de caixa moldada de 100A / 70kA","un",20,1636.96,32739.200000000001,{"$f":"BDI!$E$17","v":0.11260000000000001},1821.28,36425.599999999999]
["3.274","SF-01701","Disjuntor de caixa moldada de 160A / 18kA","un",250,540.16,135040,{"$f":"BDI!$E$17","v":0.11260000000000001},600.98,150245]
["3.275","SF-01702","Disjuntor de caixa moldada de 160A / 36kA","un",250,2430.0300000000002,607507.5,{"$f":"BDI!$E$17","v":0.11260000000000001},2703.65,675912.5]
["3.276","SF-01703","Disjuntor de caixa moldada de 160A / 50kA","un",50,2160.61,108030.5,{"$f":"BDI!$E$17","v":0.11260000000000001},2403.89,120194.5]
["3.277","SF-01704","Disjuntor de caixa moldada de 160A / 70kA","un",50,2235.48,111774,{"$f":"BDI!$E$17","v":0.11260000000000001},2487.1999999999998,124359.99999999999]
["3.278","SF-01705","Disjuntor de caixa moldada de 250A / 25kA","un",100,928,92800,{"$f":"BDI!$E$17","v":0.11260000000000001},1032.49,103249]
["3.279","SF-01706","Disjuntor de caixa moldada de 250A / 36kA","un",100,4248.92,424892,{"$f":"BDI!$E$17","v":0.11260000000000001},4727.3500000000004,472735.00000000006]
["3.280","SF-01707","Disjuntor de caixa moldada de 250A / 50kA","un",150,5577.14,836571,{"$f":"BDI!$E$17","v":0.11260000000000001},6205.13,930769.5]
["3.281","SF-01708","Disjuntor de caixa moldada de 250A / 70kA","un",200,13598,2719600,{"$f":"BDI!$E$17","v":0.11260000000000001},15129.13,3025826]
["3.282","SF-01709","Disjuntor de caixa moldada de 250A / 100kA","un",200,12351.31,2470262,{"$f":"BDI!$E$17","v":0.11260000000000001},13742.07,2748414]
["3.283","SF-01710","Disjuntor de caixa moldada de 400A / 36kA","un",20,2831,56620,{"$f":"BDI!$E$17","v":0.11260000000000001},3149.77,62995.4]
["3.284","SF-01711","Disjuntor de caixa moldada de 400A / 50kA","un",20,6329.48,126589.6,{"$f":"BDI!$E$17","v":0.11260000000000001},7042.18,140843.6]
["3.285","SF-01712","Disjuntor de caixa moldada de 400A / 70kA","un",10,10755.01,107550.1,{"$f":"BDI!$E$17","v":0.11260000000000001},11966.02,119660.20000000001]
["3.286","SF-01713","Disjuntor de caixa moldada de 400A / 100kA","un",10,12571.35,125713.5,{"$f":"BDI!$E$17","v":0.11260000000000001},13986.88,139868.79999999999]
["3.287","SF-01714","Disjuntor de caixa moldada de 630A / 36kA","un",5,5791.11,28955.55,{"$f":"BDI!$E$17","v":0.11260000000000001},6443.19,32215.949999999997]
["3.288","SF-01715","Disjuntor de caixa moldada de 630A / 50kA","un",5,7580.93,37904.65,{"$f":"BDI!$E$17","v":0.11260000000000001},8434.5400000000009,42172.700000000004]
["3.289","SF-01716","Disjuntor de caixa moldada de 630A / 70kA","un",3,12681.13,38043.39,{"$f":"BDI!$E$17","v":0.11260000000000001},14109.03,42327.090000000004]
["3.290","SF-01717","Disjuntor de caixa moldada de 630A / 100kA","un",3,13751.36,41254.080000000002,{"$f":"BDI!$E$17","v":0.11260000000000001},15299.76,45899.28]
["3.291","SF-01718","Disjuntor de caixa moldada de 800A / 36kA","un",2,9842.06,19684.12,{"$f":"BDI!$E$17","v":0.11260000000000001},10950.28,21900.560000000001]
["3.292","SF-01719","Disjuntor de caixa moldada de 800A / 50kA","un",2,12149,24298,{"$f":"BDI!$E$17","v":0.11260000000000001},13516.98,27033.96]
["3.293","SF-01720","Disjuntor de caixa moldada de 800A / 70kA","un",2,14577,29154,{"$f":"BDI!$E$17","v":0.11260000000000001},16218.37,32436.74]
["3.294","SF-01721","Disjuntor de caixa moldada de 800A / 100kA","un",2,14437.81,28875.62,{"$f":"BDI!$E$17","v":0.11260000000000001},16063.51,32127.02]
["3.295","SF-01722","Disjuntor de caixa aberta de 630A / 50kA","un",2,23424.7,46849.4,{"$f":"BDI!$E$17","v":0.11260000000000001},26062.32,52124.639999999999]
["3.296","SF-01723","Disjuntor de caixa aberta de 800A / 65kA","un",2,29580.61,59161.22,{"$f":"BDI!$E$17","v":0.11260000000000001},32911.39,65822.78]
["3.297","SF-01724","Disjuntor de caixa aberta de 800A / 100kA","un",2,31452.16,62904.32,{"$f":"BDI!$E$17","v":0.11260000000000001},34993.67,69987.34]
["3.298","SF-01725","Disjuntor de caixa aberta de 1000A / 65kA","un",2,29580.61,59161.22,{"$f":"BDI!$E$17","v":0.11260000000000001},32911.39,65822.78]
["3.299","SF-01726","Disjuntor de caixa aberta de 1000A / 100kA","un",2,36757.75,73515.5,{"$f":"BDI!$E$17","v":0.11260000000000001},40896.67,81793.34]
["3.300","SF-01727","Disjuntor de caixa aberta de 1250A / 65kA","un",2,30505.040000000001,61010.080000000002,{"$f":"BDI!$E$17","v":0.11260000000000001},33939.910000000003,67879.820000000007]
["3.301","SF-01728","Disjuntor de caixa aberta de 1250A / 100kA","un",2,35514.51,71029.02,{"$f":"BDI!$E$17","v":0.11260000000000001},39513.440000000002,79026.880000000005]
["3.302","SF-01729","Disjuntor de caixa aberta de 1600A / 65kA","un",2,32666.7,65333.4,{"$f":"BDI!$E$17","v":0.11260000000000001},36344.97,72689.94]
["3.303","SF-01730","Disjuntor de caixa aberta de 1600A / 100kA","un",2,38917.050000000003,77834.100000000006,{"$f":"BDI!$E$17","v":0.11260000000000001},43299.11,86598.22]
["3.304","SF-01731","Disjuntor motor até 25A","un",300,355.85,106755,{"$f":"BDI!$E$17","v":0.11260000000000001},395.92,118776]
["3.305","SF-01732","Disjuntor motor até 40A","un",100,990,99000,{"$f":"BDI!$E$17","v":0.11260000000000001},1101.47,110147]
["3.306","SF-01733","Eletrocalha 50x50 mm","m",1000,17.63,17630,{"$f":"BDI!$E$17","v":0.11260000000000001},19.62,19620]
["3.307","SF-01734","Eletrocalha 100x50 mm","m",1000,23.5,23500,{"$f":"BDI!$E$17","v":0.11260000000000001},26.15,26150]
["3.308","SF-01735","Eletrocalha 150x50 mm","m",1000,29.38,29380,{"$f":"BDI!$E$17","v":0.11260000000000001},32.69,32689.999999999996]
["3.309","SF-01736","Eletrocalha 200x50 mm","m",1000,40.58,40580,{"$f":"BDI!$E$17","v":0.11260000000000001},45.15,45150]
["3.310","SF-01737","Eletrocalha 200x100 mm","m",1000,54.08,54080,{"$f":"BDI!$E$17","v":0.11260000000000001},60.17,60170]
["3.311","SF-01738","Eletrocalha 300x50 mm","m",1000,54,54000,{"$f":"BDI!$E$17","v":0.11260000000000001},60.08,60080]
["3.312","SF-01739","Eletrocalha 300x100 mm","m",1000,72.98,72980,{"$f":"BDI!$E$17","v":0.11260000000000001},81.2,81200]
["3.313","SF-01740","Eletrocalha 400x50 mm","m",1000,66.150000000000006,66150,{"$f":"BDI!$E$17","v":0.11260000000000001},73.599999999999994,73600]
["3.314","SF-01741","Eletrocalha 400x100 mm","m",1000,81.17,81170,{"$f":"BDI!$E$17","v":0.11260000000000001},90.31,90310]
["3.315","SF-01742","Eletrocalha 500x100 mm","m",1000,105.15,105150,{"$f":"BDI!$E$17","v":0.11260000000000001},116.99,116990]
["3.316","SF-01743","Tampa de eletrocalha 50 mm","m",200,5.84,1168,{"$f":"BDI!$E$17","v":0.11260000000000001},6.5,1300]
["3.317","SF-01744","Tampa de eletrocalha 100 mm","m",200,11.31,2262,{"$f":"BDI!$E$17","v":0.11260000000000001},12.58,2516]
["3.318","SF-01745","Tampa de eletrocalha 150 mm","m",200,13.3,2660,{"$f":"BDI!$E$17","v":0.11260000000000001},14.8,2960]
["3.319","SF-01746","Tampa de eletrocalha 200 mm","m",200,18.48,3696,{"$f":"BDI!$E$17","v":0.11260000000000001},20.56,4112]
["3.320","SF-01747","Tampa de eletrocalha 300 mm","m",200,29.04,5808,{"$f":"BDI!$E$17","v":0.11260000000000001},32.31,6462]
["3.321","SF-01748","Tampa de eletrocalha 400 mm","m",200,42.42,8484,{"$f":"BDI!$E$17","v":0.11260000000000001},47.2,{"$f":"E326*I326","v":9440}]
["3.322","SF-01749","Tampa de eletrocalha 500 mm","m",200,50.12,{"$f":"ROUND(E327*F327,2)","v":10024},{"$f":"BDI!$E$17","v":0.11260000000000001},{"$f":"ROUND(F327*(1+H327),2)","v":55.76},11152]
["3.323","SF-01750","Suporte vertical para eletrocalha de 50 mm","un",1000,3.39,3390,{"$f":"BDI!$E$17","v":0.11260000000000001},3.77,3770]
["3.324","SF-01751","Suporte vertical para eletrocalha de 100 mm","un",1000,4.3499999999999996,4350,{"$f":"BDI!$E$17","v":0.11260000000000001},4.84,4840]
["3.325","SF-01752","Suporte vertical para eletrocalha de 150 mm","un",1000,7.08,7080,{"$f":"BDI!$E$17","v":0.11260000000000001},7.88,7880]
["3.326","SF-01753","Suporte vertical para eletrocalha de 200 mm","un",1000,7.2,7200,{"$f":"BDI!$E$17","v":0.11260000000000001},8.01,8010]
["3.327","SF-01754","Suporte vertical para eletrocalha de 300 mm","un",1000,11.08,11080,{"$f":"BDI!$E$17","v":0.11260000000000001},12.33,12330]
["3.328","SF-01755","Curva horizontal 90 graus para eletrocalha 50x50 mm","un",50,14.11,705.5,{"$f":"BDI!$E$17","v":0.11260000000000001},15.7,785]
["3.329","SF-01756","Curva vertical 90 graus para eletrocalha 50x50 mm","un",50,19.329999999999998,966.5,{"$f":"BDI!$E$17","v":0.11260000000000001},21.51,1075.5]
["3.330","SF-01757","Tê horizontal 90 graus para eletrocalha 50x50 mm","un",50,23.03,1151.5,{"$f":"BDI!$E$17","v":0.11260000000000001},25.62,1281]
["3.331","SF-01758","Suspensão ômega para eletrocalha 50x50 mm","un",500,2.44,1220,{"$f":"BDI!$E$17","v":0.11260000000000001},2.71,1355]
["3.332","SF-01759","Junção integral (emenda) para eletrocalha 50x50 mm","un",500,3.28,1640,{"$f":"BDI!$E$17","v":0.11260000000000001},3.65,1825]
["3.333","SF-01760","Curva horizontal 90 graus para eletrocalha 100x50 mm","un",50,20.260000000000002,1013,{"$f":"BDI!$E$17","v":0.11260000000000001},22.54,1127]
["3.334","SF-01761","Curva vertical 90 graus para eletrocalha 100x50 mm","un",50,22.65,1132.5,{"$f":"BDI!$E$17","v":0.11260000000000001},25.2,1260]
["3.335","SF-01762","Tê horizontal 90 graus para eletrocalha 100x50 mm","un",50,30.5,1525,{"$f":"BDI!$E$17","v":0.11260000000000001},33.93,1696.5]
["3.336","SF-01763","Suspensão ômega para eletrocalha 100x50 mm","un",500,3.35,1675,{"$f":"BDI!$E$17","v":0.11260000000000001},3.73,1865]
["3.337","SF-01764","Junção integral (emenda) para eletrocalha 100x50 mm","un",500,4.1100000000000003,2055,{"$f":"BDI!$E$17","v":0.11260000000000001},4.57,2285]
["3.338","SF-01765","Curva horizontal 90 graus para eletrocalha 150x50 mm","un",50,26.7,1335,{"$f":"BDI!$E$17","v":0.11260000000000001},29.71,1485.5]
["3.339","SF-01766","Curva vertical 90 graus para eletrocalha 150x50 mm","un",50,25.97,1298.5,{"$f":"BDI!$E$17","v":0.11260000000000001},28.89,1444.5]
["3.340","SF-01767","Tê horizontal 90 graus para eletrocalha 150x50 mm","un",50,43.39,2169.5,{"$f":"BDI!$E$17","v":0.11260000000000001},48.28,2414]
["3.341","SF-01768","Suspensão ômega para eletrocalha 150x50 mm","un",500,5.4,2700,{"$f":"BDI!$E$17","v":0.11260000000000001},6.01,3005]
["3.342","SF-01769","Junção integral (emenda) para eletrocalha 150x50 mm","un",500,5.67,2835,{"$f":"BDI!$E$17","v":0.11260000000000001},6.31,3155]
["3.343","SF-01770","Curva horizontal 90 graus para eletrocalha 200x50 mm","un",50,36.61,1830.5,{"$f":"BDI!$E$17","v":0.11260000000000001},40.729999999999997,2036.4999999999998]
["3.344","SF-01771","Curva vertical 90 graus para eletrocalha 200x50 mm","un",50,33.380000000000003,1669,{"$f":"BDI!$E$17","v":0.11260000000000001},37.14,1857]
["3.345","SF-01772","Tê horizontal 90 graus para eletrocalha 200x50 mm","un",50,52.84,2642,{"$f":"BDI!$E$17","v":0.11260000000000001},58.79,2939.5]
["3.346","SF-01773","Suspensão ômega para eletrocalha 200x50 mm","un",500,6.24,3120,{"$f":"BDI!$E$17","v":0.11260000000000001},6.94,3470]
["3.347","SF-01774","Junção integral (emenda) para eletrocalha 200x50 mm","un",500,6.57,3285,{"$f":"BDI!$E$17","v":0.11260000000000001},7.31,3655]
["3.348","SF-01775","Curva horizontal 90 graus para eletrocalha 200x100 mm","un",50,49.49,2474.5,{"$f":"BDI!$E$17","v":0.11260000000000001},55.06,2753]
["3.349","SF-01776","Curva vertical 90 graus para eletrocalha 200x100 mm","un",50,49.81,2490.5,{"$f":"BDI!$E$17","v":0.11260000000000001},55.42,2771]
["3.350","SF-01777","Tê horizontal 90 graus para eletrocalha 200x100 mm","un",50,64.8,3240,{"$f":"BDI!$E$17","v":0.11260000000000001},72.099999999999994,3604.9999999999995]
["3.351","SF-01778","Suspensão ômega para eletrocalha 200x100 mm","un",500,7.25,3625,{"$f":"BDI!$E$17","v":0.11260000000000001},8.07,4035]
["3.352","SF-01779","Junção integral (emenda) para eletrocalha 200x100 mm","un",500,8.76,4380,{"$f":"BDI!$E$17","v":0.11260000000000001},9.75,4875]
["3.353","SF-01780","Curva horizontal 90 graus para eletrocalha 300x50 mm","un",50,59.79,2989.5,{"$f":"BDI!$E$17","v":0.11260000000000001},66.52,3326]
["3.354","SF-01781","Curva vertical 90 graus para eletrocalha 300x50 mm","un",50,39.69,1984.5,{"$f":"BDI!$E$17","v":0.11260000000000001},44.16,2208]
["3.355","SF-01782","Tê horizontal 90 graus para eletrocalha 300x50 mm","un",50,78.900000000000006,3945,{"$f":"BDI!$E$17","v":0.11260000000000001},87.78,4389]
["3.356","SF-01783","Suspensão ômega para eletrocalha 300x50 mm","un",500,7.58,3790,{"$f":"BDI!$E$17","v":0.11260000000000001},8.43,4215]
["3.357","SF-01784","Junção integral (emenda) para eletrocalha 300x50 mm","un",500,8.73,4365,{"$f":"BDI!$E$17","v":0.11260000000000001},9.7100000000000009,4855]
["3.358","SF-01785","Curva horizontal 90 graus para eletrocalha 300x100 mm","un",50,73.239999999999995,3662,{"$f":"BDI!$E$17","v":0.11260000000000001},81.489999999999995,4074.4999999999995]
["3.359","SF-01786","Curva vertical 90 graus para eletrocalha 300x100 mm","un",50,51.98,2599,{"$f":"BDI!$E$17","v":0.11260000000000001},57.83,2891.5]
["3.360","SF-01787","Tê horizontal 90 graus para eletrocalha 300x100 mm","un",50,89.19,4459.5,{"$f":"BDI!$E$17","v":0.11260000000000001},99.23,4961.5]
["3.361","SF-01788","Suspensão ômega para eletrocalha 300x100 mm","un",500,9.09,4545,{"$f":"BDI!$E$17","v":0.11260000000000001},10.11,5055]
["3.362","SF-01789","Junção integral (emenda) para eletrocalha 300x100 mm","un",500,11.02,5510,{"$f":"BDI!$E$17","v":0.11260000000000001},12.26,6130]
["3.363","SF-01790","Curva horizontal 90 graus para eletrocalha 400x50 mm","un",50,100.67,5033.5,{"$f":"BDI!$E$17","v":0.11260000000000001},112.01,5600.5]
["3.364","SF-01791","Curva vertical 90 graus para eletrocalha 400x50 mm","un",50,60.05,3002.5,{"$f":"BDI!$E$17","v":0.11260000000000001},66.81,3340.5]
["3.365","SF-01792","Tê horizontal 90 graus para eletrocalha 400x50 mm","un",50,123.44,6172,{"$f":"BDI!$E$17","v":0.11260000000000001},137.34,6867]
["3.366","SF-01793","Suspensão ômega para eletrocalha 400x50 mm","un",500,7.39,3695,{"$f":"BDI!$E$17","v":0.11260000000000001},8.2200000000000006,4110]
["3.367","SF-01794","Junção integral (emenda) para eletrocalha 400x50 mm","un",500,11.02,5510,{"$f":"BDI!$E$17","v":0.11260000000000001},12.26,6130]
["3.368","SF-01795","Curva horizontal 90 graus para eletrocalha 400x100 mm","un",50,115.09,5754.5,{"$f":"BDI!$E$17","v":0.11260000000000001},128.05000000000001,6402.5000000000009]
["3.369","SF-01796","Curva vertical 90 graus para eletrocalha 400x100 mm","un",50,79.5,3975,{"$f":"BDI!$E$17","v":0.11260000000000001},88.45,4422.5]
["3.370","SF-01797","Tê horizontal 90 graus para eletrocalha 400x100 mm","un",50,125.28,6264,{"$f":"BDI!$E$17","v":0.11260000000000001},139.38999999999999,6969.4999999999991]
["3.371","SF-01798","Suspensão ômega para eletrocalha 400x100 mm","un",500,10.19,5095,{"$f":"BDI!$E$17","v":0.11260000000000001},11.34,5670]
["3.372","SF-01799","Junção integral (emenda) para eletrocalha 400x100 mm","un",500,12.83,6415,{"$f":"BDI!$E$17","v":0.11260000000000001},14.27,7135]
["3.373","SF-01800","Curva horizontal 90 graus para eletrocalha 500x100 mm","un",50,166.28,8314,{"$f":"BDI!$E$17","v":0.11260000000000001},185,9250]
["3.374","SF-01801","Curva vertical 90 graus para eletrocalha 500x100 mm","un",50,83.02,4151,{"$f":"BDI!$E$17","v":0.11260000000000001},92.37,4618.5]
["3.375","SF-01802","Tê horizontal 90 graus para eletrocalha 500x100 mm","un",50,180.9,9045,{"$f":"BDI!$E$17","v":0.11260000000000001},201.27,10063.5]
["3.376","SF-01803","Suspensão ômega para eletrocalha 500x100 mm","un",500,14.21,7105,{"$f":"BDI!$E$17","v":0.11260000000000001},15.81,7905]
["3.377","SF-01804","Junção integral (emenda) para eletrocalha 500x100 mm","un",500,20.72,10360,{"$f":"BDI!$E$17","v":0.11260000000000001},23.05,11525]
["3.378","SF-01805","Saída de eletroduto para eletrocalha","un",1000,2.12,2120,{"$f":"BDI!$E$17","v":0.11260000000000001},2.36,2360]
["3.379","SF-01806","Eletroduto de aço galvanizado de 1/2\"","m",1000,7,7000,{"$f":"BDI!$E$17","v":0.11260000000000001},7.79,7790]
["3.380","SF-01807","Eletroduto de aço galvanizado de 3/4\"","m",6000,8.2840000000000007,49704,{"$f":"BDI!$E$17","v":0.11260000000000001},9.2200000000000006,55320.000000000007]
["3.381","SF-01808","Eletroduto de aço galvanizado de 1\"","m",6000,11.228999999999999,67374,{"$f":"BDI!$E$17","v":0.11260000000000001},12.49,74940]
["3.382","SF-01809","Eletroduto de aço galvanizado de 1.1/4\"","m",3000,11.656499999999999,34969.5,{"$f":"BDI!$E$17","v":0.11260000000000001},12.97,38910]
["3.383","SF-01810","Eletroduto de aço galvanizado de 1.1/2\"","m",3000,18.971499999999999,56914.5,{"$f":"BDI!$E$17","v":0.11260000000000001},21.11,63330]
["3.384","SF-01811","Eletroduto de aço galvanizado de 2\"","m",1000,35.026499999999999,35026.5,{"$f":"BDI!$E$17","v":0.11260000000000001},38.97,38970]
["3.385","SF-01812","Eletroduto de aço galvanizado de 2.1/2\"","m",1000,42.141999999999996,42142,{"$f":"BDI!$E$17","v":0.11260000000000001},46.89,{"$f":"E390*I390","v":46890}]
["3.386","SF-01813","Eletroduto de aço galvanizado de 3\"","m",1000,45.096499999999999,{"$f":"ROUND(E391*F391,2)","v":45096.5},{"$f":"BDI!$E$17","v":0.11260000000000001},{"$f":"ROUND(F391*(1+H391),2)","v":50.17},50170]
["3.387","SF-01814","Eletroduto de aço galvanizado de 4\"","m",500,67.345500000000001,33672.75,{"$f":"BDI!$E$17","v":0.11260000000000001},74.930000000000007,37465]
["3.388","SF-01815","Eletroduto de aço galvanizado a fogo de 3/4’’","m",1000,27.97,27970,{"$f":"BDI!$E$17","v":0.11260000000000001},31.12,31120]
["3.389","SF-01816","Eletroduto de aço galvanizado a fogo de 1’’","m",2000,37.71,75420,{"$f":"BDI!$E$17","v":0.11260000000000001},41.96,83920]
["3.390","SF-01817","Eletroduto de aço galvanizado a fogo de 1.1/4’’","m",1000,54.82,54820,{"$f":"BDI!$E$17","v":0.11260000000000001},60.99,60990]
["3.391","SF-01818","Eletroduto de aço galvanizado a fogo de 1.1/2’’","m",1000,62.9,62900,{"$f":"BDI!$E$17","v":0.11260000000000001},69.98,69980]
["3.392","SF-01819","Eletroduto de aço galvanizado a fogo de 2’’","m",1000,80.8,80800,{"$f":"BDI!$E$17","v":0.11260000000000001},89.9,89900]
["3.393","SF-01820","Eletroduto de aço galvanizado a fogo de 2.1/2’’","m",1000,97.3,97300,{"$f":"BDI!$E$17","v":0.11260000000000001},108.26,108260]
["3.394","SF-01821","Eletroduto de aço galvanizado a fogo de 3’’","m",1000,156.38999999999999,156390,{"$f":"BDI!$E$17","v":0.11260000000000001},174,174000]
["3.395","SF-01822","Eletroduto de aço galvanizado a fogo de 4’’","m",500,213.95,106975,{"$f":"BDI!$E$17","v":0.11260000000000001},238.04,119020]
["3.396","SF-01823","Conector reto para eletroduto 1/2’’","un",1000,3.69,3690,{"$f":"BDI!$E$17","v":0.11260000000000001},4.1100000000000003,4110]
["3.397","SF-01824","Luva para eletroduto 1/2’’","un",1000,1.6339999999999999,1634,{"$f":"BDI!$E$17","v":0.11260000000000001},1.82,1820]
["3.398","SF-01825","Luva de emenda para eletroduto 1/2’’","un",1000,3.05,3050,{"$f":"BDI!$E$17","v":0.11260000000000001},3.39,3390]
["3.399","SF-01826","Curva para eletroduto 1/2’’","un",500,4.085,2042.5,{"$f":"BDI!$E$17","v":0.11260000000000001},4.54,2270]
["3.400","SF-01827","Conector reto para eletroduto 3/4’’","un",10000,1.2349999999999999,12350,{"$f":"BDI!$E$17","v":0.11260000000000001},1.37,13700.000000000002]
["3.401","SF-01828","Conector curvo para eletroduto 3/4’’","un",1000,5.8045,5804.5,{"$f":"BDI!$E$17","v":0.11260000000000001},6.46,6460]
["3.402","SF-01829","Luva para eletroduto 3/4’’","un",2000,1.7384999999999999,3477,{"$f":"BDI!$E$17","v":0.11260000000000001},1.93,3860]
["3.403","SF-01830","Luva de emenda para eletroduto 3/4’’","un",2000,3.06,6120,{"$f":"BDI!$E$17","v":0.11260000000000001},3.4,6800]
["3.404","SF-01831","Curva para eletroduto 3/4’’","un",1000,4.6265000000000001,4626.5,{"$f":"BDI!$E$17","v":0.11260000000000001},5.15,5150]
["3.405","SF-01832","Conector reto para eletroduto 1’’","un",10000,2.1945000000000001,21945,{"$f":"BDI!$E$17","v":0.11260000000000001},2.44,24400]
["3.406","SF-01833","Conector curvo para eletroduto 1’’","un",1000,6.982499999999999,6982.5,{"$f":"BDI!$E$17","v":0.11260000000000001},7.77,7770]
["3.407","SF-01834","Luva para eletroduto 1’’","un",2000,2.0234999999999999,4047,{"$f":"BDI!$E$17","v":0.11260000000000001},2.25,4500]
["3.408","SF-01835","Luva de emenda para eletroduto 1’’","un",2000,3.28,6560,{"$f":"BDI!$E$17","v":0.11260000000000001},3.65,7300]
["3.409","SF-01836","Curva para eletroduto 1’’","un",1000,6.2889999999999997,6289,{"$f":"BDI!$E$17","v":0.11260000000000001},7,7000]
["3.410","SF-01837","Conector reto para eletroduto 1.1/4’’","un",3000,3.0874999999999999,9262.5,{"$f":"BDI!$E$17","v":0.11260000000000001},3.44,10320]
["3.411","SF-01838","Conector curvo para eletroduto 1.1/4’’","un",200,8.6925000000000008,1738.5,{"$f":"BDI!$E$17","v":0.11260000000000001},9.67,1934]
["3.412","SF-01839","Luva para eletroduto 1.1/4’’","un",500,3.5909999999999997,1795.5,{"$f":"BDI!$E$17","v":0.11260000000000001},4,2000]
["3.413","SF-01840","Luva de emenda para eletroduto 1.1/4’’","un",500,6.29,3145,{"$f":"BDI!$E$17","v":0.11260000000000001},7,3500]
["3.414","SF-01841","Curva para eletroduto 1.1/4’’","un",500,14.3165,7158.25,{"$f":"BDI!$E$17","v":0.11260000000000001},15.93,7965]
["3.415","SF-01842","Conector reto para eletroduto 1.1/2’’","un",3000,4.8165000000000004,14449.5,{"$f":"BDI!$E$17","v":0.11260000000000001},5.36,16080.000000000002]
["3.416","SF-01843","Conector curvo para eletroduto 1.1/2’’","un",200,13.452,2690.4,{"$f":"BDI!$E$17","v":0.11260000000000001},14.97,2994]
["3.417","SF-01844","Luva para eletroduto 1.1/2’’","un",500,5.2060000000000004,2603,{"$f":"BDI!$E$17","v":0.11260000000000001},5.79,2895]
["3.418","SF-01845","Luva de emenda para eletroduto 1.1/2’’","un",500,6.5,3250,{"$f":"BDI!$E$17","v":0.11260000000000001},7.23,3615]
["3.419","SF-01846","Curva para eletroduto 1.1/2’’","un",500,17.460999999999999,8730.5,{"$f":"BDI!$E$17","v":0.11260000000000001},19.43,9715]
["3.420","SF-01847","Conector reto para eletroduto 2’’","un",2000,5.3389999999999995,10678,{"$f":"BDI!$E$17","v":0.11260000000000001},5.94,11880]
["3.421","SF-01848","Conector curvo para eletroduto 2’’","un",200,27.264999999999997,5453,{"$f":"BDI!$E$17","v":0.11260000000000001},30.34,6068]
["3.422","SF-01849","Luva para eletroduto 2’’","un",500,7.2579999999999991,3629,{"$f":"BDI!$E$17","v":0.11260000000000001},8.08,4040]
["3.423","SF-01850","Luva de emenda para eletroduto 2’’","un",500,8.33,4165,{"$f":"BDI!$E$17","v":0.11260000000000001},9.27,4635]
["3.424","SF-01851","Curva para eletroduto 2’’","un",500,25.640499999999996,12820.25,{"$f":"BDI!$E$17","v":0.11260000000000001},28.53,14265]
["3.425","SF-01852","Conector reto para eletroduto 2.1/2’’","un",2000,26.35,52700,{"$f":"BDI!$E$17","v":0.11260000000000001},29.32,58640]
["3.426","SF-01853","Conector curvo para eletroduto 2.1/2’’","un",200,64.048999999999992,12809.8,{"$f":"BDI!$E$17","v":0.11260000000000001},71.260000000000005,14252.000000000002]
["3.427","SF-01854","Luva para eletroduto 2.1/2’’","un",500,10.592499999999999,5296.25,{"$f":"BDI!$E$17","v":0.11260000000000001},11.79,5895]
["3.428","SF-01855","Luva de emenda para eletroduto 2.1/2’’","un",500,27.03,13515,{"$f":"BDI!$E$17","v":0.11260000000000001},30.07,15035]
["3.429","SF-01856","Curva para eletroduto 2.1/2’’","un",500,64.93249999999999,32466.25,{"$f":"BDI!$E$17","v":0.11260000000000001},72.239999999999995,36120]
["3.430","SF-01857","Conector reto para eletroduto 3’’","un",1000,17.6035,17603.5,{"$f":"BDI!$E$17","v":0.11260000000000001},19.59,19590]
["3.431","SF-01858","Conector curvo para eletroduto 3’’","un",100,77.234999999999999,7723.5,{"$f":"BDI!$E$17","v":0.11260000000000001},85.93,8593]
["3.432","SF-01859","Luva para eletroduto 3’’","un",300,16.131,4839.3,{"$f":"BDI!$E$17","v":0.11260000000000001},17.95,5385]
["3.433","SF-01860","Luva de emenda para eletroduto 3’’","un",300,43.13,12939,{"$f":"BDI!$E$17","v":0.11260000000000001},47.99,14397]
["3.434","SF-01861","Curva para eletroduto 3’’","un",300,85.243499999999997,25573.05,{"$f":"BDI!$E$17","v":0.11260000000000001},94.84,28452]
["3.435","SF-01862","Conector reto para eletroduto 4’’","un",1000,27.587999999999997,27588,{"$f":"BDI!$E$17","v":0.11260000000000001},30.69,30690]
["3.436","SF-01863","Conector curvo para eletroduto 4’’","un",100,142.14849999999998,14214.85,{"$f":"BDI!$E$17","v":0.11260000000000001},158.15,15815]
["3.437","SF-01864","Luva para eletroduto 4’’","un",300,25.450499999999998,7635.15,{"$f":"BDI!$E$17","v":0.11260000000000001},28.32,8496]
["3.438","SF-01865","Luva de emenda para eletroduto 4’’","un",300,61.03,18309,{"$f":"BDI!$E$17","v":0.11260000000000001},67.900000000000006,20370]
["3.439","SF-01866","Curva para eletroduto 4’’","un",300,144.571,43371.3,{"$f":"BDI!$E$17","v":0.11260000000000001},160.85,48255]
["3.440","SF-01867","Eletroduto de PVC Corrugado Reforçado 3/4’’ (DE 25mm)","m",2000,2.7454999999999998,5491,{"$f":"BDI!$E$17","v":0.11260000000000001},3.05,6100]
["3.441","SF-01868","Eletroduto de PVC Corrugado Reforçado 1’’ (DE 32mm)","m",1000,5.2915000000000001,5291.5,{"$f":"BDI!$E$17","v":0.11260000000000001},5.89,5890]
["3.442","SF-01869","Eletroduto flexível metálico com capa de PVC 3/4’’","m",3500,10.507,36774.5,{"$f":"BDI!$E$17","v":0.11260000000000001},11.69,40915]
["3.443","SF-01870","Conector para eletroduto flexível metálico 3/4’’","un",2000,8.69,17380,{"$f":"BDI!$E$17","v":0.11260000000000001},9.67,19340]
["3.444","SF-01871","Eletroduto flexível metálico com capa de PVC 1’’","m",3500,13.7845,48245.75,{"$f":"BDI!$E$17","v":0.11260000000000001},15.34,53690]
["3.445","SF-01872","Conector para eletroduto flexível metálico 1’’","un",2000,15.43,30860,{"$f":"BDI!$E$17","v":0.11260000000000001},17.170000000000002,34340]
["3.446","SF-01873","Eletroduto flexível metálico com capa de PVC 1.1/4’’","m",1000,20.795500000000001,20795.5,{"$f":"BDI!$E$17","v":0.11260000000000001},23.14,23140]
["3.447","SF-01874","Conector para eletroduto flexível metálico 1.1/4’’","un",500,26.16,13080,{"$f":"BDI!$E$17","v":0.11260000000000001},29.11,14555]
["3.448","SF-01875","Eletroduto flexível metálico com capa de PVC 1.1/2’’","m",1000,26.761500000000002,26761.5,{"$f":"BDI!$E$17","v":0.11260000000000001},29.77,29770]
["3.449","SF-01876","Conector para eletroduto flexível metálico 1.1/2’’","un",500,37.630000000000003,18815,{"$f":"BDI!$E$17","v":0.11260000000000001},41.87,{"$f":"E454*I454","v":20935}]
["3.450","SF-01877","Eletroduto flexível metálico com capa de PVC 2’’","m",2000,35.643999999999998,{"$f":"ROUND(E455*F455,2)","v":71288},{"$f":"BDI!$E$17","v":0.11260000000000001},{"$f":"ROUND(F455*(1+H455),2)","v":39.659999999999997},79320]
["3.451","SF-01878","Conector para eletroduto flexível metálico 2’’","un",1000,50,50000,{"$f":"BDI!$E$17","v":0.11260000000000001},55.63,55630]
["3.452","SF-01879","Eletroduto de PEAD de 1.1/4’’","m",500,3.1159999999999997,1558,{"$f":"BDI!$E$17","v":0.11260000000000001},3.47,1735]
["3.453","SF-01880","Terminal para eletroduto de PEAD de 1.1/4’’","un",50,5.1775000000000002,258.88,{"$f":"BDI!$E$17","v":0.11260000000000001},5.76,288]
["3.454","SF-01881","Eletroduto de PEAD de 2’’","m",500,5.13,2565,{"$f":"BDI!$E$17","v":0.11260000000000001},5.71,2855]
["3.455","SF-01882","Terminal para eletroduto de PEAD de 2’’","un",50,5.9089999999999998,295.45,{"$f":"BDI!$E$17","v":0.11260000000000001},6.57,328.5]
["3.456","SF-01883","Eletroduto de PEAD de 3’’","m",1000,7.1819999999999995,7182,{"$f":"BDI!$E$17","v":0.11260000000000001},7.99,7990]
["3.457","SF-01884","Terminal para eletroduto de PEAD de 3’’","un",100,8.7210000000000001,872.1,{"$f":"BDI!$E$17","v":0.11260000000000001},9.6999999999999993,969.99999999999989]
["3.458","SF-01885","Eletroduto de PVC de 3/4’’","m",2500,3.4294999999999995,8573.75,{"$f":"BDI!$E$17","v":0.11260000000000001},3.82,9550]
["3.459","SF-01886","Luva para eletroduto de PVC de 3/4’’","un",1000,0.96899999999999997,969,{"$f":"BDI!$E$17","v":0.11260000000000001},1.08,1080]
["3.460","SF-01887","Curva para eletroduto de PVC de 3/4’’","un",300,2.09,627,{"$f":"BDI!$E$17","v":0.11260000000000001},2.33,699]
["3.461","SF-01888","Eletroduto de PVC de 1’’","m",4000,5.3579999999999997,21432,{"$f":"BDI!$E$17","v":0.11260000000000001},5.96,23840]
["3.462","SF-01889","Luva para eletroduto de PVC de 1’’","un",2000,1.349,2698,{"$f":"BDI!$E$17","v":0.11260000000000001},1.5,3000]
["3.463","SF-01890","Curva para eletroduto de PVC de 1’’","un",1000,2.8879999999999999,2888,{"$f":"BDI!$E$17","v":0.11260000000000001},3.21,3210]
["3.464","SF-01891","Eletroduto de PVC de 1.1/4’’","m",1000,7.1344999999999992,7134.5,{"$f":"BDI!$E$17","v":0.11260000000000001},7.94,7940]
["3.465","SF-01892","Luva para eletroduto de PVC de 1.1/4’’","un",500,2.0994999999999999,1049.75,{"$f":"BDI!$E$17","v":0.11260000000000001},2.34,1170]
["3.466","SF-01893","Curva para eletroduto de PVC de 1.1/4’’","un",100,3.8189999999999995,381.9,{"$f":"BDI!$E$17","v":0.11260000000000001},4.25,425]
["3.467","SF-01894","Eletroduto de PVC de 1.1/2’’","m",1000,7.8469999999999995,7847,{"$f":"BDI!$E$17","v":0.11260000000000001},8.73,8730]
["3.468","SF-01895","Luva para eletroduto de PVC de 1.1/2’’","un",500,2.8784999999999998,1439.25,{"$f":"BDI!$E$17","v":0.11260000000000001},3.2,1600]
["3.469","SF-01896","Curva para eletroduto de PVC de 1.1/2’’","un",100,4.617,461.7,{"$f":"BDI!$E$17","v":0.11260000000000001},5.14,514]
["3.470","SF-01897","Eletroduto de PVC de 2’’","m",1000,12.8155,12815.5,{"$f":"BDI!$E$17","v":0.11260000000000001},14.26,14260]
["3.471","SF-01898","Luva para eletroduto de PVC de 2’’","un",500,4.1704999999999997,2085.25,{"$f":"BDI!$E$17","v":0.11260000000000001},4.6399999999999997,2320]
["3.472","SF-01899","Curva para eletroduto de PVC de 2’’","un",100,7.5049999999999999,750.5,{"$f":"BDI!$E$17","v":0.11260000000000001},8.35,835]
["3.473","SF-01900","Eletroduto de PVC de 3’’","m",1000,23.455500000000001,23455.5,{"$f":"BDI!$E$17","v":0.11260000000000001},26.1,26100]
["3.474","SF-01901","Luva para eletroduto de PVC de 3’’","un",500,12.463999999999999,6232,{"$f":"BDI!$E$17","v":0.11260000000000001},13.87,6935]
["3.475","SF-01902","Curva para eletroduto de PVC de 3’’","un",100,19.189999999999998,1919,{"$f":"BDI!$E$17","v":0.11260000000000001},21.35,2135]
["3.476","SF-01903","Fonte industrial 15W","un",50,127.68,6384,{"$f":"BDI!$E$17","v":0.11260000000000001},142.06,7103]
["3.477","SF-01904","Fonte industrial 35W","un",50,111.01,5550.5,{"$f":"BDI!$E$17","v":0.11260000000000001},123.51,6175.5]
["3.478","SF-01905","Fonte industrial 60W","un",50,234.67,11733.5,{"$f":"BDI!$E$17","v":0.11260000000000001},261.08999999999997,13054.499999999998]
["3.479","SF-01906","Fonte industrial 120W","un",50,387.95,19397.5,{"$f":"BDI!$E$17","v":0.11260000000000001},431.63,21581.5]
["3.480","SF-01907","Transformador de comando 100VA","un",50,112.72,5636,{"$f":"BDI!$E$17","v":0.11260000000000001},125.41,6270.5]
["3.481","SF-01908","Transformador de comando 300VA","un",50,200,10000,{"$f":"BDI!$E$17","v":0.11260000000000001},222.52,11126]
["3.482","SF-01909","Chave Seccionadora Saca Fusível 100 A","un",50,302.76,15138,{"$f":"BDI!$E$17","v":0.11260000000000001},336.85,16842.5]
["3.483","SF-01910","Chave Seccionadora Saca Fusível 160 A","un",50,274.17,13708.5,{"$f":"BDI!$E$17","v":0.11260000000000001},305.04000000000002,15252.000000000002]
["3.484","SF-01911","Chave Seccionadora Saca Fusível 250 A","un",50,484.15,24207.5,{"$f":"BDI!$E$17","v":0.11260000000000001},538.66999999999996,26933.499999999996]
["3.485","SF-01912","Chave Seccionadora Saca Fusível 400 A","un",50,818.56,40928,{"$f":"BDI!$E$17","v":0.11260000000000001},910.73,45536.5]
["3.486","SF-01913","Porta fusível cartucho","un",500,32.29,16145,{"$f":"BDI!$E$17","v":0.11260000000000001},35.93,17965]
["3.487","SF-01914","Fusível cartucho","un",500,4.88,2440,{"$f":"BDI!$E$17","v":0.11260000000000001},5.43,2715]
["3.488","SF-01915","Base fusível NH 00 / NH 000","un",50,62.747499999999995,3137.38,{"$f":"BDI!$E$17","v":0.11260000000000001},69.81,3490.5]
["3.489","SF-01916","Base fusível NH 1","un",50,197.88499999999999,9894.25,{"$f":"BDI!$E$17","v":0.11260000000000001},220.17,11008.5]
["3.490","SF-01917","Base fusível NH 2","un",50,244.48250000000002,12224.13,{"$f":"BDI!$E$17","v":0.11260000000000001},272.01,13600.5]
["3.491","SF-01918","Base fusível NH 3","un",50,377.815,18890.75,{"$f":"BDI!$E$17","v":0.11260000000000001},420.36,21018]
["3.492","SF-01919","Fusível NH 000","un",300,34.446999999999996,10334.1,{"$f":"BDI!$E$17","v":0.11260000000000001},38.33,11499]
["3.493","SF-01920","Fusível NH 00 Ultrarrápido","un",100,103.04,10304,{"$f":"BDI!$E$17","v":0.11260000000000001},114.64,11464]
["3.494","SF-01921","Fusível NH 1","un",300,81.063499999999991,24319.05,{"$f":"BDI!$E$17","v":0.11260000000000001},90.19,27057]
["3.495","SF-01922","Fusível NH 1 Ultrarrápido","un",200,168.54,33708,{"$f":"BDI!$E$17","v":0.11260000000000001},187.52,37504]
["3.496","SF-01923","Fusível NH 2","un",300,120.3175,36095.25,{"$f":"BDI!$E$17","v":0.11260000000000001},133.87,40161]
["3.497","SF-01924","Fusível NH 2 Ultrarrápido","un",100,366.92,36692,{"$f":"BDI!$E$17","v":0.11260000000000001},408.24,40824]
["3.498","SF-01925","Fusível NH 3","un",300,171.56049999999999,51468.15,{"$f":"BDI!$E$17","v":0.11260000000000001},190.88,57264]
["3.499","SF-01926","Fusível NH 3 Ultrarrápido","un",50,515.96,25798,{"$f":"BDI!$E$17","v":0.11260000000000001},574.05999999999995,28702.999999999996]
["3.500","SF-01927","Kit base fusível Diazed","un",50,58.25,2912.5,{"$f":"BDI!$E$17","v":0.11260000000000001},64.81,3240.5]
["3.501","SF-01928","Fusível Diazed","un",50,4.18,209,{"$f":"BDI!$E$17","v":0.11260000000000001},4.6500000000000004,232.50000000000003]
["3.502","SF-01929","Poste balizador para jardim 50cm","un",200,232.75,46550,{"$f":"BDI!$E$17","v":0.11260000000000001},258.95999999999998,51791.999999999993]
["3.503","SF-01930","Poste balizador para jardim 80cm","un",100,200.89,20089,{"$f":"BDI!$E$17","v":0.11260000000000001},223.51,22351]
["3.504","SF-01932","Luminária LED para poste 30W","un",200,488.58,97716,{"$f":"BDI!$E$17","v":0.11260000000000001},543.59,108718]
["3.505","SF-01933","Luminária LED para poste 60W","un",200,619.92999999999995,123986,{"$f":"BDI!$E$17","v":0.11260000000000001},689.73,137946]
["3.506","SF-01934","Luminária LED para poste 90W","un",300,828.69,248607,{"$f":"BDI!$E$17","v":0.11260000000000001},922,276600]
["3.507","SF-01935","Luminária LED para poste 120W","un",300,911.34,273402,{"$f":"BDI!$E$17","v":0.11260000000000001},1013.96,304188]
["3.508","SF-01936","Luminária LED para poste 150W","un",300,1053.3399999999999,316002,{"$f":"BDI!$E$17","v":0.11260000000000001},1171.95,351585]
["3.509","SF-01937","Luminária LED para poste 210W","un",300,1450.86,435258,{"$f":"BDI!$E$17","v":0.11260000000000001},1614.23,484269]
["3.510","SF-01940","Luminária tipo balizador de solo","un",50,71.650000000000006,3582.5,{"$f":"BDI!$E$17","v":0.11260000000000001},79.72,3986]
["3.511","SF-01941","Luminária para poste 70W","un",20,353.64,7072.8,{"$f":"BDI!$E$17","v":0.11260000000000001},393.46,7869.2]
["3.512","SF-01942","Luminária para poste 250W","un",100,638.5,63850,{"$f":"BDI!$E$17","v":0.11260000000000001},710.4,71040]
["3.513","SF-01943","Luminária para poste 400W","un",30,851.66,25549.8,{"$f":"BDI!$E$17","v":0.11260000000000001},947.56,{"$f":"E518*I518","v":28426.799999999999}]
["3.514","SF-01944","Poste reto 3m","un",10,690.84,{"$f":"ROUND(E519*F519,2)","v":6908.4},{"$f":"BDI!$E$17","v":0.11260000000000001},{"$f":"ROUND(F519*(1+H519),2)","v":768.63},7686.3]
["3.515","SF-01945","Poste reto 5m","un",10,935.66449999999998,9356.65,{"$f":"BDI!$E$17","v":0.11260000000000001},1041.02,10410.200000000001]
["3.516","SF-01946","Poste curvo simples 8m","un",10,1527.8564999999999,15278.57,{"$f":"BDI!$E$17","v":0.11260000000000001},1699.89,16998.900000000001]
["3.517","SF-01947","Poste curvo simples 12m","un",10,4556.5,45565,{"$f":"BDI!$E$17","v":0.11260000000000001},5069.5600000000004,50695.600000000006]
["3.518","SF-01948","Poste curvo duplo 8m","un",10,1799.0625,17990.63,{"$f":"BDI!$E$17","v":0.11260000000000001},2001.64,20016.400000000001]
["3.519","SF-01949","Braço para iluminação","un",20,26.239000000000001,524.78,{"$f":"BDI!$E$17","v":0.11260000000000001},29.19,583.80000000000007]
["3.520","SF-01950","Suporte para luminária de poste simples","un",400,106.56,42624,{"$f":"BDI!$E$17","v":0.11260000000000001},118.56,47424]
["3.521","SF-01951","Suporte para luminária de poste duplo","un",400,140.5,56200,{"$f":"BDI!$E$17","v":0.11260000000000001},156.32,62528]
["3.522","SF-01952","Suporte para luminária de poste quadruplo","un",400,206.38,82552,{"$f":"BDI!$E$17","v":0.11260000000000001},229.62,91848]
["3.523","SF-01953","Globo para luminária","un",100,79,7900,{"$f":"BDI!$E$17","v":0.11260000000000001},87.9,8790]
["3.524","SF-01954","Luminária retangular para poste","un",50,409.18,20459,{"$f":"BDI!$E$17","v":0.11260000000000001},455.25,22762.5]
["3.525","SF-01955","Poste globo duplo","un",20,524.77,10495.4,{"$f":"BDI!$E$17","v":0.11260000000000001},583.86,11677.2]
["3.526","SF-01956","Bloco autônomo de emergência 500 lumens","un",2000,313.52,627040,{"$f":"BDI!$E$17","v":0.11260000000000001},348.82,697640]
["3.527","SF-01957","Bloco autônomo de emergência 1000 lumens","un",750,408.45,306337.5,{"$f":"BDI!$E$17","v":0.11260000000000001},454.44,340830]
["3.528","SF-01958","Bloco autônomo de emergência 1500 lumens","un",500,494.98,247490,{"$f":"BDI!$E$17","v":0.11260000000000001},550.71,275355]
["3.529","SF-01959","Bloco autônomo de emergência 2400 lumens","un",300,1044.5999999999999,313380,{"$f":"BDI!$E$17","v":0.11260000000000001},1162.22,348666]
["3.530","SF-01960","Fita de LED (baixa densidade de potência)","un",50,147.07,7353.5,{"$f":"BDI!$E$17","v":0.11260000000000001},163.63,8181.5]
["3.531","SF-01961","Fita de LED (alta densidade de potência)","un",50,176.08,8804,{"$f":"BDI!$E$17","v":0.11260000000000001},195.91,9795.5]
["3.532","SF-01962","Fita de LED (baixa densidade de potência) IP65","un",30,172.03,5160.8999999999996,{"$f":"BDI!$E$17","v":0.11260000000000001},191.4,5742]
["3.533","SF-01963","Fita de LED (alta densidade de potência) IP65","un",30,292.43,8772.9,{"$f":"BDI!$E$17","v":0.11260000000000001},325.36,9760.8000000000011]
["3.534","SF-01964","Lâmpada LED Dicróica","un",1000,39.64,39640,{"$f":"BDI!$E$17","v":0.11260000000000001},44.1,44100]
["3.535","SF-01965","Lâmpada LED PAR 20","un",800,51.9,41520,{"$f":"BDI!$E$17","v":0.11260000000000001},57.74,46192]
["3.536","SF-01966","Lâmpada LED PAR 30","un",400,60.01,24004,{"$f":"BDI!$E$17","v":0.11260000000000001},66.77,26708]
["3.537","SF-01968","Lâmpada LED PAR 38","un",200,99.22,19844,{"$f":"BDI!$E$17","v":0.11260000000000001},110.39,22078]
["3.538","SF-01969","Lâmpada LED PAR 20 IP65","un",100,64.989999999999995,6499,{"$f":"BDI!$E$17","v":0.11260000000000001},72.31,7231]
["3.539","SF-01971","Lâmpada LED PAR 38 IP65","un",100,119.93,11993,{"$f":"BDI!$E$17","v":0.11260000000000001},133.43,13343]
["3.540","SF-01972","Lâmpada LED Bulbo 6W","un",1500,9.11,13665,{"$f":"BDI!$E$17","v":0.11260000000000001},10.14,15210]
["3.541","SF-01973","Lâmpada LED Bulbo 8W","un",1500,7.46,11190,{"$f":"BDI!$E$17","v":0.11260000000000001},8.3000000000000007,12450.000000000002]
["3.542","SF-01974","Lâmpada LED Bulbo 9,5W","un",5000,16.05,80250,{"$f":"BDI!$E$17","v":0.11260000000000001},17.86,89300]
["3.543","SF-01975","Lâmpada LED Bulbo 12W","un",5000,22.8,114000,{"$f":"BDI!$E$17","v":0.11260000000000001},25.37,126850]
["3.544","SF-01976","Lâmpada LED 17W","un",500,49.33,24665,{"$f":"BDI!$E$17","v":0.11260000000000001},54.88,27440]
["3.545","SF-01977","Lâmpada LED 30W","un",500,98.28,49140,{"$f":"BDI!$E$17","v":0.11260000000000001},109.35,54675]
["3.546","SF-01978","Lâmpada LED 40W","un",300,133.37,40011,{"$f":"BDI!$E$17","v":0.11260000000000001},148.38999999999999,44516.999999999993]
["3.547","SF-01979","Lâmpada LED 65W","un",100,240.01,24001,{"$f":"BDI!$E$17","v":0.11260000000000001},267.04000000000002,26704.000000000004]
["3.548","SF-01980","Lâmpada LED 80W","un",100,324.73,32473,{"$f":"BDI!$E$17","v":0.11260000000000001},361.29,36129]
["3.549","SF-01981","Lâmpada LED 100W","un",100,418.96,41896,{"$f":"BDI!$E$17","v":0.11260000000000001},466.13,46613]
["3.550","SF-01982","Lâmpada LED 120W","un",50,582.15,29107.5,{"$f":"BDI!$E$17","v":0.11260000000000001},647.70000000000005,32385.000000000004]
["3.551","SF-01983","Lâmpada LED Tipo Vela","un",100,31.39,3139,{"$f":"BDI!$E$17","v":0.11260000000000001},34.92,3492]
["3.552","SF-01984","Lâmpada LED Tipo Bolinha","un",400,18.95,7580,{"$f":"BDI!$E$17","v":0.11260000000000001},21.08,8432]
["3.553","SF-01986","Tubo LED T5 7,5W","un",3000,62.58,187740,{"$f":"BDI!$E$17","v":0.11260000000000001},69.63,208890]
["3.554","SF-01987","Tubo LED T5 15W","un",15000,74.010000000000005,1110150,{"$f":"BDI!$E$17","v":0.11260000000000001},82.34,1235100]
["3.555","SF-01988","Tubo LED T5 26W HO","un",500,158.15,79075,{"$f":"BDI!$E$17","v":0.11260000000000001},175.96,87980]
["3.556","SF-01989","Tubo LED T8 9W","un",8000,18.28,146240,{"$f":"BDI!$E$17","v":0.11260000000000001},20.34,162720]
["3.557","SF-01990","Tubo LED T8 18W","un",20000,18.75,375000,{"$f":"BDI!$E$17","v":0.11260000000000001},20.86,417200]
["3.558","SF-01992","Lâmpada fluorescente T5 14W","un",3000,8.56,25680,{"$f":"BDI!$E$17","v":0.11260000000000001},9.52,28560]
["3.559","SF-01993","Lâmpada fluorescente T5 28W","un",10000,10.9,109000,{"$f":"BDI!$E$17","v":0.11260000000000001},12.13,121300.00000000001]
["3.560","SF-01994","Lâmpada fluorescente T8 16W","un",6000,10.57,63420,{"$f":"BDI!$E$17","v":0.11260000000000001},11.76,70560]
["3.561","SF-01995","Lâmpada fluorescente T8 32W","un",15000,15.09,226350,{"$f":"BDI!$E$17","v":0.11260000000000001},16.79,251850]
["3.562","SF-01999","Lâmpada Vapor Metálico 70 W","un",500,54,27000,{"$f":"BDI!$E$17","v":0.11260000000000001},60.08,30040]
["3.563","SF-02000","Lâmpada Vapor Metálico 150 W","un",250,85.85,21462.5,{"$f":"BDI!$E$17","v":0.11260000000000001},95.52,23880]
["3.564","SF-02001","Lâmpada Vapor Metálico 250 W","un",250,95.26,23815,{"$f":"BDI!$E$17","v":0.11260000000000001},105.99,26497.5]
["3.565","SF-02002","Lâmpada Vapor Metálico 400 W","un",500,103.44,51720,{"$f":"BDI!$E$17","v":0.11260000000000001},115.09,57545]
["3.566","SF-02003","Lâmpada Vapor Metálico 2000 W","un",20,1126.1099999999999,22522.2,{"$f":"BDI!$E$17","v":0.11260000000000001},1252.9100000000001,25058.2]
["3.567","SF-02004","Lâmpada Halógena 300W","un",50,15.4,770,{"$f":"BDI!$E$17","v":0.11260000000000001},17.13,856.5]
["3.568","SF-02005","Luminária Plafon LED Slim 15 W","un",500,86.99,43495,{"$f":"BDI!$E$17","v":0.11260000000000001},96.79,48395]
["3.569","SF-02006","Luminária Plafon LED Slim 24 W","un",500,100.49,50245,{"$f":"BDI!$E$17","v":0.11260000000000001},111.81,55905]
["3.570","SF-02007","Luminária LED Downlight 14W","un",50,211.76,10588,{"$f":"BDI!$E$17","v":0.11260000000000001},235.6,11780]
["3.571","SF-02008","Luminária LED Downlight 25W","un",50,273.64,13682,{"$f":"BDI!$E$17","v":0.11260000000000001},304.45,15222.5]
["3.572","SF-02009","Luminária LED Downlight 35W","un",50,360.72,18036,{"$f":"BDI!$E$17","v":0.11260000000000001},401.34,20067]
["3.573","SF-02010","Luminária Hermética 2x14W","un",300,102.44,30732,{"$f":"BDI!$E$17","v":0.11260000000000001},113.97,34191]
["3.574","SF-02011","Luminária Hermética 1x28W","un",300,100.42,30126,{"$f":"BDI!$E$17","v":0.11260000000000001},111.73,33519]
["3.575","SF-02012","Luminária Hermética 2x28W","un",1500,109.23,163845,{"$f":"BDI!$E$17","v":0.11260000000000001},121.53,182295]
["3.576","SF-02013","Luminária LED Highbay 60W","un",100,262.33,26233,{"$f":"BDI!$E$17","v":0.11260000000000001},291.87,29187]
["3.577","SF-02014","Luminária LED Highbay 80W","un",100,312.3,31230,{"$f":"BDI!$E$17","v":0.11260000000000001},347.46,{"$f":"E582*I582","v":34746}]
["3.578","SF-02015","Luminária LED Highbay 120W","un",100,438.41,{"$f":"ROUND(E583*F583,2)","v":43841},{"$f":"BDI!$E$17","v":0.11260000000000001},{"$f":"ROUND(F583*(1+H583),2)","v":487.77},48777]
["3.579","SF-02016","Luminária LED Highbay 150W","un",50,530.9,26545,{"$f":"BDI!$E$17","v":0.11260000000000001},590.67999999999995,29533.999999999996]
["3.580","SF-02017","Luminária LED Highbay 200W","un",50,676.75,33837.5,{"$f":"BDI!$E$17","v":0.11260000000000001},752.95,37647.5]
["3.581","SF-02018","Luminária LED Linear 8W","un",50,75.64,3782,{"$f":"BDI!$E$17","v":0.11260000000000001},84.16,4208]
["3.582","SF-02019","Luminária LED Linear 14W","un",50,105.08,5254,{"$f":"BDI!$E$17","v":0.11260000000000001},116.91,5845.5]
["3.583","SF-02020","Luminária LED Linear 20W","un",50,130.82,6541,{"$f":"BDI!$E$17","v":0.11260000000000001},145.55000000000001,7277.5000000000009]
["3.584","SF-02021","Luminária LED Linear tipo calha 16W","un",100,142.05000000000001,14205,{"$f":"BDI!$E$17","v":0.11260000000000001},158.04,15804]
["3.585","SF-02022","Luminária LED Linear tipo calha 32W","un",100,217.64,21764,{"$f":"BDI!$E$17","v":0.11260000000000001},242.15,24215]
["3.586","SF-02023","Luminária spot de sobrepor","un",200,139.26,27852,{"$f":"BDI!$E$17","v":0.11260000000000001},154.94,30988]
["3.587","SF-02024","Luminária spot de embutir","un",200,37.590000000000003,7518,{"$f":"BDI!$E$17","v":0.11260000000000001},41.82,8364]
["3.588","SF-02025","Luminária arandela","un",300,29.9,8970,{"$f":"BDI!$E$17","v":0.11260000000000001},33.270000000000003,9981.0000000000018]
["3.589","SF-02026","Luminária plafon 30 cm","un",500,28.9,14450,{"$f":"BDI!$E$17","v":0.11260000000000001},32.15,16075]
["3.590","SF-02027","Luminária plafon 40 cm","un",500,39.26,19630,{"$f":"BDI!$E$17","v":0.11260000000000001},43.68,21840]
["3.591","SF-02031","Luminária T5 2x14 W de embutir","un",500,128.41999999999999,64210,{"$f":"BDI!$E$17","v":0.11260000000000001},142.88,71440]
["3.592","SF-02032","Luminária T5 2x14 W de sobrepor","un",500,101.88,50940,{"$f":"BDI!$E$17","v":0.11260000000000001},113.35,56675]
["3.593","SF-02033","Luminária T5 2x28 W de embutir","un",1000,192.22,192220,{"$f":"BDI!$E$17","v":0.11260000000000001},213.86,213860]
["3.594","SF-02034","Luminária T5 2x28 W de sobrepor","un",1000,158.76,158760,{"$f":"BDI!$E$17","v":0.11260000000000001},176.64,176640]
["3.595","SF-02035","Luminária tartaruga","un",300,24.85,7455,{"$f":"BDI!$E$17","v":0.11260000000000001},27.65,8295]
["3.596","SF-02036","Projetor LED para o Plenário Senado Federal","un",30,23678.17,710345.1,{"$f":"BDI!$E$17","v":0.11260000000000001},26344.33,790329.9]
["3.597","SF-02037","Receptáculo E27","un",200,3.66,732,{"$f":"BDI!$E$17","v":0.11260000000000001},4.07,814]
["3.598","SF-02038","Driver para LED 30W","un",200,106.95,21390,{"$f":"BDI!$E$17","v":0.11260000000000001},118.99,23798]
["3.599","SF-02039","Driver para LED 60W","un",200,120.84,24168,{"$f":"BDI!$E$17","v":0.11260000000000001},134.44999999999999,26889.999999999996]
["3.600","SF-02040","Driver para LED 30W IP65","un",30,95.64,2869.2,{"$f":"BDI!$E$17","v":0.11260000000000001},106.41,3192.2999999999997]
["3.601","SF-02045","Reator para 1 lâmpada fluorescente T5","un",200,57.82,11564,{"$f":"BDI!$E$17","v":0.11260000000000001},64.33,12866]
["3.602","SF-02046","Reator para 2 lâmpadas fluorescentes T5","un",2500,83.9,209750,{"$f":"BDI!$E$17","v":0.11260000000000001},93.35,233375]
["3.603","SF-02047","Reator para 1 lâmpada fluorescente T8 16W","un",700,32.369999999999997,22659,{"$f":"BDI!$E$17","v":0.11260000000000001},36.01,25207]
["3.604","SF-02048","Reator para 2 lâmpadas fluorescentes T8 16W","un",1500,49.6,74400,{"$f":"BDI!$E$17","v":0.11260000000000001},55.18,82770]
["3.605","SF-02049","Reator para 1 lâmpada fluorescente T8 32W","un",300,42.5,12750,{"$f":"BDI!$E$17","v":0.11260000000000001},47.29,14187]
["3.606","SF-02050","Reator para 2 lâmpadas fluorescentes T8 32W","un",3000,35,105000,{"$f":"BDI!$E$17","v":0.11260000000000001},38.94,116820]
["3.607","SF-02051","Reator para lâmpadas de descarga 70 W","un",1000,64.95,64950,{"$f":"BDI!$E$17","v":0.11260000000000001},72.260000000000005,72260]
["3.608","SF-02052","Reator para lâmpadas de descarga 150 W","un",300,96.65,28995,{"$f":"BDI!$E$17","v":0.11260000000000001},107.53,32259]
["3.609","SF-02053","Reator para lâmpadas de descarga 250 W","un",300,120.64,36192,{"$f":"BDI!$E$17","v":0.11260000000000001},134.22,40266]
["3.610","SF-02054","Reator para lâmpadas de descarga 400 W","un",1000,138.11000000000001,138110,{"$f":"BDI!$E$17","v":0.11260000000000001},153.66,153660]
["3.611","SF-02057","Refletor LED 10 W IP65","un",1000,82.4,82400,{"$f":"BDI!$E$17","v":0.11260000000000001},91.68,91680]
["3.612","SF-02058","Refletor LED 30 W IP65","un",2000,173.19,346380,{"$f":"BDI!$E$17","v":0.11260000000000001},192.69,385380]
["3.613","SF-02059","Refletor LED 50 W IP65","un",2000,240.9,481800,{"$f":"BDI!$E$17","v":0.11260000000000001},268.02999999999997,536060]
["3.614","SF-02060","Refletor LED 100 W IP65","un",500,725.63,362815,{"$f":"BDI!$E$17","v":0.11260000000000001},807.34,403670]
["3.615","SF-02061","Refletor LED 150 W IP65","un",200,1222.4000000000001,244480,{"$f":"BDI!$E$17","v":0.11260000000000001},1360.04,272008]
["3.616","SF-02062","Refletor LED 200 W IP65","un",200,1125.6400000000001,225128,{"$f":"BDI!$E$17","v":0.11260000000000001},1252.3900000000001,250478.00000000003]
["3.617","SF-02063","Refletor LED 20 W IP65 com sensor","un",1000,177.46,177460,{"$f":"BDI!$E$17","v":0.11260000000000001},197.44,197440]
["3.618","SF-02064","Trilho eletrificado para iluminação","m",100,135.03,13503,{"$f":"BDI!$E$17","v":0.11260000000000001},150.22999999999999,15022.999999999998]
["3.619","SF-02065","Ponteira para trilho eletrificado para iluminação","un",50,16.27,813.5,{"$f":"BDI!$E$17","v":0.11260000000000001},18.100000000000001,905.00000000000011]
["3.620","SF-02066","Fixador de teto para trilho eletrificado para iluminação","un",50,17.34,867,{"$f":"BDI!$E$17","v":0.11260000000000001},19.29,964.5]
["3.621","SF-02067","Conexão reta para trilho eletrificado para iluminação","un",50,31.66,1583,{"$f":"BDI!$E$17","v":0.11260000000000001},35.22,1761]
["3.622","SF-02068","Conexão 90 graus para trilho eletrificado para iluminação","un",50,42.15,2107.5,{"$f":"BDI!$E$17","v":0.11260000000000001},46.9,2345]
["3.623","SF-02069","Conexão T para trilho eletrificado para iluminação","un",50,53.6,2680,{"$f":"BDI!$E$17","v":0.11260000000000001},59.64,2982]
["3.624","SF-02070","Conexão cruz para trilho eletrificado para iluminação","un",50,74.569999999999993,3728.5,{"$f":"BDI!$E$17","v":0.11260000000000001},82.97,4148.5]
["3.625","SF-02071","Plug para trilho eletrificado para iluminação","un",50,44.67,2233.5,{"$f":"BDI!$E$17","v":0.11260000000000001},49.7,2485]
["3.626","SF-02072","Spot para trilho eletrificado para iluminação","un",100,149.88,14988,{"$f":"BDI!$E$17","v":0.11260000000000001},166.76,16676]
["3.627","SF-02073","Mão francesa simples","un",1000,22.12,22120,{"$f":"BDI!$E$17","v":0.11260000000000001},24.61,24610]
["3.628","SF-02074","Mão francesa dupla","un",1000,70.959999999999994,70960,{"$f":"BDI!$E$17","v":0.11260000000000001},78.95,78950]
["3.629","SF-02075","Mão francesa reforçada","un",500,81.569999999999993,40785,{"$f":"BDI!$E$17","v":0.11260000000000001},90.75,45375]
["3.630","SF-02076","Chumbador 1/4\"","un",1000,1.3,1300,{"$f":"BDI!$E$17","v":0.11260000000000001},1.45,1450]
["3.631","SF-02077","Chumbador 5/16”","un",2000,2.2400000000000002,4480,{"$f":"BDI!$E$17","v":0.11260000000000001},2.4900000000000002,4980]
["3.632","SF-02078","Chumbador 3/8”","un",3000,2.94,8820,{"$f":"BDI!$E$17","v":0.11260000000000001},3.27,9810]
["3.633","SF-02079","Barra roscada 1/4\"","m",500,3.76,1880,{"$f":"BDI!$E$17","v":0.11260000000000001},4.18,2090]
["3.634","SF-02080","Barra roscada 5/16”","m",500,4.9400000000000004,2470,{"$f":"BDI!$E$17","v":0.11260000000000001},5.5,2750]
["3.635","SF-02081","Barra roscada 3/8”","m",500,7.61,3805,{"$f":"BDI!$E$17","v":0.11260000000000001},8.4700000000000006,4235]
["3.636","SF-02082","Caixa 4x2 de embutir para alvenaria","un",500,1.9284999999999997,964.25,{"$f":"BDI!$E$17","v":0.11260000000000001},2.15,1075]
["3.637","SF-02083","Caixa 4x4 de embutir para alvenaria","un",500,3.8285,1914.25,{"$f":"BDI!$E$17","v":0.11260000000000001},4.26,2130]
["3.638","SF-02084","Caixa 4x2 para drywall","un",500,7.66,3830,{"$f":"BDI!$E$17","v":0.11260000000000001},8.52,4260]
["3.639","SF-02085","Caixa 4x4 para drywall","un",500,14.49,7245,{"$f":"BDI!$E$17","v":0.11260000000000001},16.12,8060.0000000000009]
["3.640","SF-02086","Caixa de passagem em alumínio 100x100x50mm","un",200,30.79,6158,{"$f":"BDI!$E$17","v":0.11260000000000001},34.26,6852]
["3.641","SF-02087","Caixa de passagem em alumínio 150x150x100mm","un",200,56.25,11250,{"$f":"BDI!$E$17","v":0.11260000000000001},62.58,{"$f":"E646*I646","v":12516}]
["3.642","SF-02088","Caixa de passagem em alumínio 200x200x100mm","un",200,82.71,{"$f":"ROUND(E647*F647,2)","v":16542},{"$f":"BDI!$E$17","v":0.11260000000000001},{"$f":"ROUND(F647*(1+H647),2)","v":92.02},18404]
["3.643","SF-02089","Caixa de passagem em alumínio 300x300x120mm","un",100,220.3,22030,{"$f":"BDI!$E$17","v":0.11260000000000001},245.11,24511]
["3.644","SF-02090","Caixa de passagem em alumínio 400x400x200mm","un",100,415.14,41514,{"$f":"BDI!$E$17","v":0.11260000000000001},461.88,46188]
["3.645","SF-02091","Caixa de passagem em aço 400x400x150mm","un",50,217.94899999999998,10897.45,{"$f":"BDI!$E$17","v":0.11260000000000001},242.49,12124.5]
["3.646","SF-02092","Caixa de passagem em PVC 150x150x75mm","un",200,30.51,6102,{"$f":"BDI!$E$17","v":0.11260000000000001},33.950000000000003,6790.0000000000009]
["3.647","SF-02093","Caixa de passagem em PVC 200x200x85mm","un",500,47.61,23805,{"$f":"BDI!$E$17","v":0.11260000000000001},52.97,26485]
["3.648","SF-02094","Abraçadeira tipo D para eletroduto","un",15000,1.2349999999999999,18525,{"$f":"BDI!$E$17","v":0.11260000000000001},1.37,20550]
["3.649","SF-02095","Abraçadeira tipo copo para eletroduto","un",15000,1.444,21660,{"$f":"BDI!$E$17","v":0.11260000000000001},1.61,24150]
["3.650","SF-02096","Caixa para piso elevado","un",300,207.15,62145,{"$f":"BDI!$E$17","v":0.11260000000000001},230.48,69144]
["3.651","SF-02097","Passa cabo para piso elevado","un",500,84.03,42015,{"$f":"BDI!$E$17","v":0.11260000000000001},93.49,46745]
["3.652","SF-02098","Tampa cega metálica para caixas de piso 4x2","un",200,12.4,2480,{"$f":"BDI!$E$17","v":0.11260000000000001},13.8,2760]
["3.653","SF-02099","Tampa cega metálica para caixas de piso 4x4","un",500,23.673999999999999,11837,{"$f":"BDI!$E$17","v":0.11260000000000001},26.34,13170]
["3.654","SF-02100","Tampa unha simples metálica para caixas de piso 4x2","un",200,24.9,4980,{"$f":"BDI!$E$17","v":0.11260000000000001},27.7,5540]
["3.655","SF-02101","Tampa unha simples metálica para caixas de piso 4x4","un",300,28.73,8619,{"$f":"BDI!$E$17","v":0.11260000000000001},31.96,9588]
["3.656","SF-02102","Tampa unha dupla metálica para caixas de piso 4x4","un",300,37.31,11193,{"$f":"BDI!$E$17","v":0.11260000000000001},41.51,12453]
["3.657","SF-02103","Caixa de piso 4x2","un",100,16.52,1652,{"$f":"BDI!$E$17","v":0.11260000000000001},18.38,1838]
["3.658","SF-02104","Caixa de piso 4x4","un",100,20.309999999999999,2031,{"$f":"BDI!$E$17","v":0.11260000000000001},22.6,2260]
["3.659","SF-02105","Abraçadeira de nylon 13 mm","pct",300,57.48,17244,{"$f":"BDI!$E$17","v":0.11260000000000001},63.95,19185]
["3.660","SF-02107","Abraçadeira de nylon 7,5 mm","pct",400,36.450000000000003,14580,{"$f":"BDI!$E$17","v":0.11260000000000001},40.549999999999997,16219.999999999998]
["3.661","SF-02108","Abraçadeira de nylon 5 mm","pct",500,10.38,5190,{"$f":"BDI!$E$17","v":0.11260000000000001},11.55,5775]
["3.662","SF-02109","Caixa ARStop","un",50,32.950000000000003,1647.5,{"$f":"BDI!$E$17","v":0.11260000000000001},36.659999999999997,1832.9999999999998]
["3.663","SF-02110","Conector de emenda rápida 2 vias","un",5000,2.42,12100,{"$f":"BDI!$E$17","v":0.11260000000000001},2.69,13450]
["3.664","SF-02111","Conector de emenda rápida 3 vias","un",5000,2.93,14650,{"$f":"BDI!$E$17","v":0.11260000000000001},3.26,16299.999999999998]
["3.665","SF-02112","Conector de emenda rápida 5 vias","un",3000,4.3499999999999996,13050,{"$f":"BDI!$E$17","v":0.11260000000000001},4.84,14520]
["3.666","SF-02113","Tomada para perfilado e eletrocalha","un",1000,4.2,4200,{"$f":"BDI!$E$17","v":0.11260000000000001},4.67,4670]
["3.667","SF-02114","Espelho 4x2","un",6000,3.8,22800,{"$f":"BDI!$E$17","v":0.11260000000000001},4.2300000000000004,25380.000000000004]
["3.668","SF-02115","Espelho 4x4","un",3000,9.01,27030,{"$f":"BDI!$E$17","v":0.11260000000000001},10.02,30060]
["3.669","SF-02116","Suporte para espelho 4x2","un",6000,2.41,14460,{"$f":"BDI!$E$17","v":0.11260000000000001},2.68,16080.000000000002]
["3.670","SF-02117","Suporte para espelho 4x4","un",3000,3.8,11400,{"$f":"BDI!$E$17","v":0.11260000000000001},4.2300000000000004,12690.000000000002]
["3.671","SF-02118","Espelho cego redondo","un",200,4.09,818,{"$f":"BDI!$E$17","v":0.11260000000000001},4.55,910]
["3.672","SF-02119","Módulo cego","un",5000,1.79,8950,{"$f":"BDI!$E$17","v":0.11260000000000001},1.99,9950]
["3.673","SF-02120","Módulo tomada 10 A","un",12000,7.55,90600,{"$f":"BDI!$E$17","v":0.11260000000000001},8.4,100800]
["3.674","SF-02121","Módulo tomada 20 A","un",3000,12.72,38160,{"$f":"BDI!$E$17","v":0.11260000000000001},14.15,42450]
["3.675","SF-02122","Módulo interruptor simples","un",2000,6.99,13980,{"$f":"BDI!$E$17","v":0.11260000000000001},7.78,15560]
["3.676","SF-02123","Módulo interruptor paralelo","un",1000,9.64,9640,{"$f":"BDI!$E$17","v":0.11260000000000001},10.73,10730]
["3.677","SF-02124","Módulo interruptor intermediário","un",100,32.78,3278,{"$f":"BDI!$E$17","v":0.11260000000000001},36.47,3647]
["3.678","SF-02125","Módulo carregador USB","un",1000,65.91,65910,{"$f":"BDI!$E$17","v":0.11260000000000001},73.33,73330]
["3.679","SF-02126","Módulo para conector RJ45","un",5000,4.1100000000000003,20550,{"$f":"BDI!$E$17","v":0.11260000000000001},4.57,22850]
["3.680","SF-02127","Módulo pulsador","un",200,10.28,2056,{"$f":"BDI!$E$17","v":0.11260000000000001},11.44,2288]
["3.681","SF-02129","Módulo cabo coaxial","un",200,14.62,2924,{"$f":"BDI!$E$17","v":0.11260000000000001},16.27,3254]
["3.682","SF-02130","Módulo tomada 10 A para piso","un",2000,16.920000000000002,33840,{"$f":"BDI!$E$17","v":0.11260000000000001},18.829999999999998,37660]
["3.683","SF-02131","Módulo tomada 20 A para piso","un",1000,18.440000000000001,18440,{"$f":"BDI!$E$17","v":0.11260000000000001},20.52,20520]
["3.684","SF-02133","Tomada 10A para móveis","un",1000,18.350000000000001,18350,{"$f":"BDI!$E$17","v":0.11260000000000001},20.420000000000002,20420]
["3.685","SF-02134","Tomada 20A para móveis","un",200,19.75,3950,{"$f":"BDI!$E$17","v":0.11260000000000001},21.97,4394]
["3.686","SF-02135","Módulo tomada 10A de encaixe","un",2000,14.34,28680,{"$f":"BDI!$E$17","v":0.11260000000000001},15.95,31900]
["3.687","SF-02136","Módulo tomada 20A de encaixe","un",1000,20.02,20020,{"$f":"BDI!$E$17","v":0.11260000000000001},22.27,22270]
["3.688","SF-02137","Módulo campainha","un",100,33.33,3333,{"$f":"BDI!$E$17","v":0.11260000000000001},37.08,3708]
["3.689","SF-02138","Módulo dimmer","un",100,100.3,10030,{"$f":"BDI!$E$17","v":0.11260000000000001},111.59,11159]
["3.690","SF-02139","Leito 400x100 mm","m",500,94.17,47085,{"$f":"BDI!$E$17","v":0.11260000000000001},104.77,52385]
["3.691","SF-02140","Leito 600x100 mm","m",500,99.54,49770,{"$f":"BDI!$E$17","v":0.11260000000000001},110.75,55375]
["3.692","SF-02141","Leito 800x100 mm","m",500,137.31,68655,{"$f":"BDI!$E$17","v":0.11260000000000001},152.77000000000001,76385]
["3.693","SF-02142","Curva horizontal 90 graus para leito 400x100 mm","un",50,218.4,10920,{"$f":"BDI!$E$17","v":0.11260000000000001},242.99,12149.5]
["3.694","SF-02143","Curva vertical 90 graus para leito 400x100 mm","un",50,176.4,8820,{"$f":"BDI!$E$17","v":0.11260000000000001},196.26,9813]
["3.695","SF-02144","Tê horizontal 90 graus para leito 400x100 mm","un",50,279.16000000000003,13958,{"$f":"BDI!$E$17","v":0.11260000000000001},310.58999999999997,15529.499999999998]
["3.696","SF-02145","Curva horizontal 90 graus para leito 600x100 mm","un",50,309.39,15469.5,{"$f":"BDI!$E$17","v":0.11260000000000001},344.23,17211.5]
["3.697","SF-02146","Curva vertical 90 graus para leito 600x100 mm","un",50,197.4,9870,{"$f":"BDI!$E$17","v":0.11260000000000001},219.63,10981.5]
["3.698","SF-02147","Tê horizontal 90 graus para leito 600x100 mm","un",50,263.51,13175.5,{"$f":"BDI!$E$17","v":0.11260000000000001},293.18,14659]
["3.699","SF-02148","Curva horizontal 90 graus para leito 800x100 mm","un",50,417.43,20871.5,{"$f":"BDI!$E$17","v":0.11260000000000001},464.43,23221.5]
["3.700","SF-02149","Curva vertical 90 graus para leito 800x100 mm","un",50,218.4,10920,{"$f":"BDI!$E$17","v":0.11260000000000001},242.99,12149.5]
["3.701","SF-02150","Tê horizontal 90 graus para leito 800x100 mm","un",50,424.48,21224,{"$f":"BDI!$E$17","v":0.11260000000000001},472.28,23614]
["3.702","SF-02151","Nobreak de 1 kVA","un",100,2916.63,291663,{"$f":"BDI!$E$17","v":0.11260000000000001},3245.04,324504]
["3.703","SF-02152","Nobreak de 2 kVA","un",200,4430.05,886010,{"$f":"BDI!$E$17","v":0.11260000000000001},4928.87,985774]
["3.704","SF-02153","Nobreak de 3 kVA","un",100,5920.69,592069,{"$f":"BDI!$E$17","v":0.11260000000000001},6587.36,658736]
["3.705","SF-02154","Bateria 7 Ah","un",1500,105.64,158460,{"$f":"BDI!$E$17","v":0.11260000000000001},117.54,{"$f":"E710*I710","v":176310}]
["3.706","SF-02155","Bateria 9 Ah","un",1500,126.26,{"$f":"ROUND(E711*F711,2)","v":189390},{"$f":"BDI!$E$17","v":0.11260000000000001},{"$f":"ROUND(F711*(1+H711),2)","v":140.47999999999999},210719.99999999997]
["3.707","SF-02156","Bateria 12 Ah","un",1500,207.96,311940,{"$f":"BDI!$E$17","v":0.11260000000000001},231.38,347070]
["3.708","SF-02157","Bateria 28 Ah","un",400,431.9,172760,{"$f":"BDI!$E$17","v":0.11260000000000001},480.53,192212]
["3.709","SF-02158","Bateria 40 Ah","un",400,642.99,257196,{"$f":"BDI!$E$17","v":0.11260000000000001},715.39,286156]
["3.710","SF-02159","Bateria 120 Ah","un",20,1780.41,35608.199999999997,{"$f":"BDI!$E$17","v":0.11260000000000001},1980.88,39617.600000000006]
["3.711","SF-02160","Perfilado 38x38 mm","m",2000,22.41,44820,{"$f":"BDI!$E$17","v":0.11260000000000001},24.93,49860]
["3.712","SF-02161","Gancho curto para perfilado","un",1000,2.71,2710,{"$f":"BDI!$E$17","v":0.11260000000000001},3.02,3020]
["3.713","SF-02162","Gancho longo para perfilado","un",1000,3.2,3200,{"$f":"BDI!$E$17","v":0.11260000000000001},3.56,3560]
["3.714","SF-02163","Cantoneira ZZ para perfilado","un",200,2.5499999999999998,510,{"$f":"BDI!$E$17","v":0.11260000000000001},2.84,568]
["3.715","SF-02164","Gancho curto de luminária para perfilado","un",1000,2.36,2360,{"$f":"BDI!$E$17","v":0.11260000000000001},2.63,2630]
["3.716","SF-02165","Gancho longo de luminária para perfilado","un",1000,3.2,3200,{"$f":"BDI!$E$17","v":0.11260000000000001},3.56,3560]
["3.717","SF-02166","Junta interna tipo I para perfilado","un",500,2.4900000000000002,1245,{"$f":"BDI!$E$17","v":0.11260000000000001},2.77,1385]
["3.718","SF-02167","Junta interna tipo L para perfilado","un",100,8.0500000000000007,805,{"$f":"BDI!$E$17","v":0.11260000000000001},8.9600000000000009,896.00000000000011]
["3.719","SF-02168","Junta interna tipo T para perfilado","un",100,11.9,1190,{"$f":"BDI!$E$17","v":0.11260000000000001},13.24,1324]
["3.720","SF-02169","Junta interna tipo X para perfilado","un",100,12.87,1287,{"$f":"BDI!$E$17","v":0.11260000000000001},14.32,1432]
["3.721","SF-02170","Curva para perfilado","un",200,15.4,3080,{"$f":"BDI!$E$17","v":0.11260000000000001},17.13,3426]
["3.722","SF-02171","Sapata para perfilado","un",100,4.4000000000000004,440,{"$f":"BDI!$E$17","v":0.11260000000000001},4.9000000000000004,490.00000000000006]
["3.723","SF-02172","Saída de eletroduto para perfilado","un",500,3.13,1565,{"$f":"BDI!$E$17","v":0.11260000000000001},3.48,1740]
["3.724","SF-02173","Módulo acionador para fechaduras","un",50,129.99,6499.5,{"$f":"BDI!$E$17","v":0.11260000000000001},144.63,7231.5]
["3.725","SF-02174","Conjunto motor de portão industrial 2500kg","un",12,4442.1499999999996,53305.8,{"$f":"BDI!$E$17","v":0.11260000000000001},4942.34,59308.08]
["3.726","SF-02175","Conjunto motor de portão industrial 2200kg","un",12,2584.09,31009.08,{"$f":"BDI!$E$17","v":0.11260000000000001},2875.06,34500.720000000001]
["3.727","SF-02176","Conjunto motor de portão pivotante","un",5,2178.7199999999998,10893.6,{"$f":"BDI!$E$17","v":0.11260000000000001},2424.04,12120.2]
["3.728","SF-02177","Fotocélula para portão","un",20,178.5,3570,{"$f":"BDI!$E$17","v":0.11260000000000001},198.6,3972]
["3.729","SF-02178","Central de controle para portão","un",30,533.29999999999995,15999,{"$f":"BDI!$E$17","v":0.11260000000000001},593.35,17800.5]
["3.730","SF-02179","Controle remoto para portão","un",50,30.29,1514.5,{"$f":"BDI!$E$17","v":0.11260000000000001},33.700000000000003,1685.0000000000002]
["3.731","SF-02180","Módulo botoeira para portão","un",20,79.900000000000006,1598,{"$f":"BDI!$E$17","v":0.11260000000000001},88.9,1778]
["3.732","SF-02181","Módulo relé para portão","un",20,21,420,{"$f":"BDI!$E$17","v":0.11260000000000001},23.36,467.2]
["3.733","SF-02182","Sinaleira para portão","un",20,134.81,2696.2,{"$f":"BDI!$E$17","v":0.11260000000000001},149.99,2999.8]
["3.734","SF-02183","Cremalheira para portão","m",50,49.97,2498.5,{"$f":"BDI!$E$17","v":0.11260000000000001},55.6,2780]
["3.735","SF-02184","Engrenagem para portão","un",50,102.21,5110.5,{"$f":"BDI!$E$17","v":0.11260000000000001},113.72,5686]
["3.736","SF-02185","Sensor de fim de curso para portão","un",20,9.41,188.2,{"$f":"BDI!$E$17","v":0.11260000000000001},10.47,209.4]
["3.737","SF-02186","Encoder para portão","un",20,68.75,1375,{"$f":"BDI!$E$17","v":0.11260000000000001},76.489999999999995,1529.8]
["3.738","SF-02187","Estator para motor de portão","un",10,440,4400,{"$f":"BDI!$E$17","v":0.11260000000000001},489.54,4895.4000000000005]
["3.739","SF-02188","Induzido para motor de portão","un",10,295.83999999999997,2958.4,{"$f":"BDI!$E$17","v":0.11260000000000001},329.15,3291.5]
["3.740","SF-02189","Campainha eletrônica","un",20,42.17,843.4,{"$f":"BDI!$E$17","v":0.11260000000000001},46.92,938.40000000000009]
["3.741","SF-02190","Relé acionado por controle remoto sem fio","un",20,177.09,3541.8,{"$f":"BDI!$E$17","v":0.11260000000000001},197.03,3940.6]
["3.742","SF-02191","Campainha sem fio","un",20,81.900000000000006,1638,{"$f":"BDI!$E$17","v":0.11260000000000001},91.12,1822.4]
["3.743","SF-02192","Botoeira para portões","un",40,38.729999999999997,1549.2,{"$f":"BDI!$E$17","v":0.11260000000000001},43.09,1723.6000000000001]
["3.744","SF-02193","Quadro de comando plástico 300x200x130mm tampa opaca","un",100,114.71,11471,{"$f":"BDI!$E$17","v":0.11260000000000001},127.63,12763]
["3.745","SF-02194","Quadro de comando plástico 300x200x130mm tampa transparente","un",30,220.59,6617.7,{"$f":"BDI!$E$17","v":0.11260000000000001},245.43,7362.9000000000005]
["3.746","SF-02195","Quadro de comando plástico 300x300x150mm tampa opaca","un",100,155.57,15557,{"$f":"BDI!$E$17","v":0.11260000000000001},173.09,17309]
["3.747","SF-02196","Quadro de comando plástico 300x300x150mm tampa transparente","un",30,298.26,8947.7999999999993,{"$f":"BDI!$E$17","v":0.11260000000000001},331.84,9955.1999999999989]
["3.748","SF-02197","Quadro de comando plástico 450x300x200mm tampa opaca","un",100,303.99,30399,{"$f":"BDI!$E$17","v":0.11260000000000001},338.22,33822]
["3.749","SF-02198","Quadro de comando plástico 450x300x200mm tampa transparente","un",30,611,18330,{"$f":"BDI!$E$17","v":0.11260000000000001},679.8,20394]
["3.750","SF-02199","Caixa para montagem 210x185x160mm","un",100,46.25,4625,{"$f":"BDI!$E$17","v":0.11260000000000001},51.46,5146]
["3.751","SF-02200","Quadro 200x200x120","un",100,175.36,17536,{"$f":"BDI!$E$17","v":0.11260000000000001},195.11,19511]
["3.752","SF-02201","Quadro 400x300x200","un",200,240.89,48178,{"$f":"BDI!$E$17","v":0.11260000000000001},268.01,53602]
["3.753","SF-02202","Quadro 400x400x250","un",200,321.94,64388,{"$f":"BDI!$E$17","v":0.11260000000000001},358.19,71638]
["3.754","SF-02203","Quadro 600x400x250","un",200,569.99,113998,{"$f":"BDI!$E$17","v":0.11260000000000001},634.16999999999996,126833.99999999999]
["3.755","SF-02204","Quadro 600x600x250","un",200,534.58000000000004,106916,{"$f":"BDI!$E$17","v":0.11260000000000001},594.77,118954]
["3.756","SF-02205","Quadro 800x600x250","un",200,727.72,145544,{"$f":"BDI!$E$17","v":0.11260000000000001},809.66,161932]
["3.757","SF-02206","Quadro 1000x600x300","un",50,971.91,48595.5,{"$f":"BDI!$E$17","v":0.11260000000000001},1081.3499999999999,54067.499999999993]
["3.758","SF-02207","Quadro 1200x800x300","un",50,930,46500,{"$f":"BDI!$E$17","v":0.11260000000000001},1034.72,51736]
["3.759","SF-02208","Quadro autoportante 1800x600x600","un",10,4164.3900000000003,41643.9,{"$f":"BDI!$E$17","v":0.11260000000000001},4633.3,46333]
["3.760","SF-02209","Quadro autoportante 1800x800x600","un",10,4052.52,40525.199999999997,{"$f":"BDI!$E$17","v":0.11260000000000001},4508.83,45088.3]
["3.761","SF-02210","Quadro autoportante 2000x600x600","un",10,3925.92,39259.199999999997,{"$f":"BDI!$E$17","v":0.11260000000000001},4367.9799999999996,43679.799999999996]
["3.762","SF-02211","Quadro autoportante 2000x800x800","un",10,5058.1400000000003,50581.4,{"$f":"BDI!$E$17","v":0.11260000000000001},5627.69,56276.899999999994]
["3.763","SF-02212","Quadro termoplástico para 12 disjuntores","un",50,129.352,6467.6,{"$f":"BDI!$E$17","v":0.11260000000000001},143.91999999999999,7195.9999999999991]
["3.764","SF-02213","Quadro termoplástico para 24 disjuntores","un",50,239.65649999999999,11982.83,{"$f":"BDI!$E$17","v":0.11260000000000001},266.64,13332]
["3.765","SF-02214","Quadro termoplástico para 36 disjuntores","un",50,519.40300000000002,25970.15,{"$f":"BDI!$E$17","v":0.11260000000000001},577.89,28894.5]
["3.766","SF-02215","Caixa de passagem 80x80x45mm","un",100,10.66,1066,{"$f":"BDI!$E$17","v":0.11260000000000001},11.86,1186]
["3.767","SF-02216","Caixa de passagem 100x100x55mm","un",100,21.9,2190,{"$f":"BDI!$E$17","v":0.11260000000000001},24.37,2437]
["3.768","SF-02217","Caixa de passagem 150x110x70mm","un",100,17.850000000000001,1785,{"$f":"BDI!$E$17","v":0.11260000000000001},19.86,1986]
["3.769","SF-02218","Caixa de passagem 170x145x90mm","un",100,60.9,6090,{"$f":"BDI!$E$17","v":0.11260000000000001},67.760000000000005,{"$f":"E774*I774","v":6776.0000000000009}]
["3.770","SF-02219","Relé de interface","un",600,69.290000000000006,{"$f":"ROUND(E775*F775,2)","v":41574},{"$f":"BDI!$E$17","v":0.11260000000000001},{"$f":"ROUND(F775*(1+H775),2)","v":77.09},46254]
["3.771","SF-02220","Relé programador horário","un",30,131.47,3944.1,{"$f":"BDI!$E$17","v":0.11260000000000001},146.27000000000001,4388.1000000000004]
["3.772","SF-02221","Relé de impulso","un",100,140.1,14010,{"$f":"BDI!$E$17","v":0.11260000000000001},155.88,15588]
["3.773","SF-02222","Relé monitor de tensão trifásico","un",200,305.07,61014,{"$f":"BDI!$E$17","v":0.11260000000000001},339.42,67884]
["3.774","SF-02223","Relé monitor de tensão monofásico","un",50,225.1,11255,{"$f":"BDI!$E$17","v":0.11260000000000001},250.45,12522.5]
["3.775","SF-02224","Relé monitor de corrente monofásico","un",30,267.04000000000002,8011.2,{"$f":"BDI!$E$17","v":0.11260000000000001},297.11,8913.3000000000011]
["3.776","SF-02225","Relé temporizador","un",200,92.4,18480,{"$f":"BDI!$E$17","v":0.11260000000000001},102.8,20560]
["3.777","SF-02226","Relé de nível","un",30,150.79,4523.7,{"$f":"BDI!$E$17","v":0.11260000000000001},167.77,5033.1000000000004]
["3.778","SF-02227","CLP Siemens LOGO","un",30,1160.6199999999999,34818.6,{"$f":"BDI!$E$17","v":0.11260000000000001},1291.31,38739.299999999996]
["3.779","SF-02228","Módulo de expansão de 8 portas digitais para Siemens LOGO","un",15,583.21,8748.15,{"$f":"BDI!$E$17","v":0.11260000000000001},648.88,9733.2000000000007]
["3.780","SF-02229","Módulo de expansão de 16 portas digitais para Siemens LOGO","un",15,902.06,13530.9,{"$f":"BDI!$E$17","v":0.11260000000000001},1003.63,15054.45]
["3.781","SF-02230","Módulo de expansão de entrada analógica para Siemens LOGO","un",5,894.9,4474.5,{"$f":"BDI!$E$17","v":0.11260000000000001},995.67,4978.3499999999995]
["3.782","SF-02231","Módulo de expansão de entrada de temperatura para Siemens LOGO","un",5,1081.55,5407.75,{"$f":"BDI!$E$17","v":0.11260000000000001},1203.33,6016.65]
["3.783","SF-02232","Módulo de expansão de saída analógica para Siemens LOGO","un",5,1279.05,6395.25,{"$f":"BDI!$E$17","v":0.11260000000000001},1423.07,7115.3499999999995]
["3.784","SF-02233","IHM para Siemens LOGO","un",20,1126.6500000000001,22533,{"$f":"BDI!$E$17","v":0.11260000000000001},1253.51,25070.2]
["3.785","SF-02234","Controlador de temperatura","un",10,407.56,4075.6,{"$f":"BDI!$E$17","v":0.11260000000000001},453.45,4534.5]
["3.786","SF-02235","Conversor de sinal analógico","un",10,339.32,3393.2,{"$f":"BDI!$E$17","v":0.11260000000000001},377.53,3775.2999999999997]
["3.787","SF-02236","Transmissor de temperatura","un",10,170.23,1702.3,{"$f":"BDI!$E$17","v":0.11260000000000001},189.4,1894]
["3.788","SF-02237","Termostato para painel","un",20,126.16,2523.1999999999998,{"$f":"BDI!$E$17","v":0.11260000000000001},140.37,2807.4]
["3.789","SF-02238","Multimedidor de grandezas elétricas","un",50,2185.42,109271,{"$f":"BDI!$E$17","v":0.11260000000000001},2431.5,121575]
["3.790","SF-02239","Multimedidor avançado de grandezas elétricas","un",15,8561.01,128415.15,{"$f":"BDI!$E$17","v":0.11260000000000001},9524.98,142874.69999999998]
["3.791","SF-02240","Medidor de energia monofásico","un",10,229.05,2290.5,{"$f":"BDI!$E$17","v":0.11260000000000001},254.84,2548.4]
["3.792","SF-02241","Medidor de energia trifásico","un",10,662.38,6623.8,{"$f":"BDI!$E$17","v":0.11260000000000001},736.96,7369.6]
["3.793","SF-02242","Tapete isolante classe 0","m2",50,381.95,19097.5,{"$f":"BDI!$E$17","v":0.11260000000000001},424.96,21248]
["3.794","SF-02243","Tapete isolante classe 2","m2",20,419.02,8380.4,{"$f":"BDI!$E$17","v":0.11260000000000001},466.2,9324]
["3.795","SF-02244","Estrado isolante classe 2","un",20,377.78,7555.6,{"$f":"BDI!$E$17","v":0.11260000000000001},420.32,8406.4]
["3.796","SF-02245","Bastão de resgate","un",15,1257,18855,{"$f":"BDI!$E$17","v":0.11260000000000001},1398.54,20978.1]
["3.797","SF-02246","Transformador de potencial para medição de baixa tensão","un",100,1087.79,108779,{"$f":"BDI!$E$17","v":0.11260000000000001},1210.28,121028]
["3.798","SF-02247","Chave de fim de curso","un",30,148.56,4456.8,{"$f":"BDI!$E$17","v":0.11260000000000001},165.29,4958.7]
["3.799","SF-02248","Pressostato diferencial para ar","un",10,530,5300,{"$f":"BDI!$E$17","v":0.11260000000000001},589.67999999999995,5896.7999999999993]
["3.800","SF-02249","Sonda de temperatura PT100","un",20,116.07,2321.4,{"$f":"BDI!$E$17","v":0.11260000000000001},129.13999999999999,2582.7999999999997]
["3.801","SF-02250","Sensor de presença externo","un",200,46.720999999999997,9344.2000000000007,{"$f":"BDI!$E$17","v":0.11260000000000001},51.98,10396]
["3.802","SF-02251","Relé fotoelétrico","un",400,27.51,11004,{"$f":"BDI!$E$17","v":0.11260000000000001},30.61,12244]
["3.803","SF-02252","Base para relé fotoelétrico","un",400,10.5,4200,{"$f":"BDI!$E$17","v":0.11260000000000001},11.68,4672]
["3.804","SF-02253","Eletrodo para relé de nível","un",60,20.91,1254.5999999999999,{"$f":"BDI!$E$17","v":0.11260000000000001},23.26,1395.6000000000001]
["3.805","SF-02254","Transformador de corrente termoplástico até 400 A","un",150,148.82,22323,{"$f":"BDI!$E$17","v":0.11260000000000001},165.58,24837.000000000004]
["3.806","SF-02255","Transformador de corrente epóxi até 400 A","un",150,701.8,105270,{"$f":"BDI!$E$17","v":0.11260000000000001},780.82,117123.00000000001]
["3.807","SF-02256","Transformador de corrente epóxi até 800 A","un",60,944.5,56670,{"$f":"BDI!$E$17","v":0.11260000000000001},1050.8499999999999,63050.999999999993]
["3.808","SF-02257","Transformador de corrente epóxi até 2000 A","un",60,1336.94,80216.399999999994,{"$f":"BDI!$E$17","v":0.11260000000000001},1487.48,89248.8]
["3.809","SF-02258","Transmissor de nível hidrostático","un",10,1733.6,17336,{"$f":"BDI!$E$17","v":0.11260000000000001},1928.8,19288]
["3.810","SF-02259","Transmissor de pressão","un",20,803.27,16065.4,{"$f":"BDI!$E$17","v":0.11260000000000001},893.72,17874.400000000001]
["3.811","SF-02260","Transmissor de nível ultrassônico","un",3,5561.9,16685.7,{"$f":"BDI!$E$17","v":0.11260000000000001},6188.17,18564.510000000002]
["3.812","SF-02261","Soft-starter 10 A","un",20,3638.39,72767.8,{"$f":"BDI!$E$17","v":0.11260000000000001},4048.07,80961.400000000009]
["3.813","SF-02262","Soft-starter 17 A","un",20,1785,35700,{"$f":"BDI!$E$17","v":0.11260000000000001},1985.99,39719.800000000003]
["3.814","SF-02263","Soft-starter 24 A","un",30,1986.27,59588.1,{"$f":"BDI!$E$17","v":0.11260000000000001},2209.92,66297.600000000006]
["3.815","SF-02264","Soft-starter 30 A","un",30,2409,72270,{"$f":"BDI!$E$17","v":0.11260000000000001},2680.25,80407.5]
["3.816","SF-02265","Soft-starter 44 A","un",20,2161.71,43234.2,{"$f":"BDI!$E$17","v":0.11260000000000001},2405.12,48102.399999999994]
["3.817","SF-02266","Soft-starter 60 A","un",15,2705.75,40586.25,{"$f":"BDI!$E$17","v":0.11260000000000001},3010.42,45156.3]
["3.818","SF-02267","Soft-starter 85 A","un",10,3188.2,31882,{"$f":"BDI!$E$17","v":0.11260000000000001},3547.19,35471.9]
["3.819","SF-02268","Soft-starter 142 A","un",5,5101.6099999999997,25508.05,{"$f":"BDI!$E$17","v":0.11260000000000001},5676.05,28380.25]
["3.820","SF-02269","Interface homem-máquina para soft-starter","un",50,390.49,19524.5,{"$f":"BDI!$E$17","v":0.11260000000000001},434.46,21723]
["3.821","SF-02270","Inversor 10 A","un",10,2741.83,27418.3,{"$f":"BDI!$E$17","v":0.11260000000000001},3050.56,30505.599999999999]
["3.822","SF-02271","Inversor 16 A","un",15,3474.6,52119,{"$f":"BDI!$E$17","v":0.11260000000000001},3865.84,57987.600000000006]
["3.823","SF-02272","Inversor 24 A","un",15,4341.33,65119.95,{"$f":"BDI!$E$17","v":0.11260000000000001},4830.16,72452.399999999994]
["3.824","SF-02273","Inversor 31 A","un",10,5827.83,58278.3,{"$f":"BDI!$E$17","v":0.11260000000000001},6484.04,64840.4]
["3.825","SF-02274","Inversor 39 A","un",10,6859,68590,{"$f":"BDI!$E$17","v":0.11260000000000001},7631.32,76313.2]
["3.826","SF-02275","Inversor 49 A","un",5,8003.43,40017.15,{"$f":"BDI!$E$17","v":0.11260000000000001},8904.6200000000008,44523.100000000006]
["3.827","SF-02276","Inversor ABB ACS350","un",8,6359.95,50879.6,{"$f":"BDI!$E$17","v":0.11260000000000001},7076.08,56608.639999999999]
["3.828","SF-02277","Inversor ABB ACS550","un",3,43845.52,131536.56,{"$f":"BDI!$E$17","v":0.11260000000000001},48782.53,146347.59]
["3.829","SF-02278","Inversor ABB ACS800","un",2,100303.48,200606.96,{"$f":"BDI!$E$17","v":0.11260000000000001},111597.65,223195.3]
["3.830","SF-02279","Barra chata de alumínio","cm3",500000,0.12,60000,{"$f":"BDI!$E$17","v":0.11260000000000001},0.13,65000]
["3.831","SF-02280","Haste de aterramento 5/8 x 2,4 m","un",400,102.1,40840,{"$f":"BDI!$E$17","v":0.11260000000000001},113.6,45440]
["3.832","SF-02281","Haste de aterramento 5/8 x 3 m","un",400,113.9,45560,{"$f":"BDI!$E$17","v":0.11260000000000001},126.73,50692]
["3.833","SF-02282","Haste de aterramento 3/4 x 2,4 m","un",400,123.9,49560,{"$f":"BDI!$E$17","v":0.11260000000000001},137.85,{"$f":"E838*I838","v":55140}]
["3.834","SF-02283","Haste de aterramento 3/4 x 3 m","un",400,151.9,{"$f":"ROUND(E839*F839,2)","v":60760},{"$f":"BDI!$E$17","v":0.11260000000000001},{"$f":"ROUND(F839*(1+H839),2)","v":169},67600]
["3.835","SF-02284","Conector cabo/haste de aterramento","un",1000,19.399999999999999,19400,{"$f":"BDI!$E$17","v":0.11260000000000001},21.58,21580]
["3.836","SF-02285","Caixa de inspeção de aterramento 300 mm","un",500,17.3185,8659.25,{"$f":"BDI!$E$17","v":0.11260000000000001},19.27,9635]
["3.837","SF-02286","Caixa de inspeção de aterramento 600 mm","un",500,49.6,24800,{"$f":"BDI!$E$17","v":0.11260000000000001},55.18,27590]
["3.838","SF-02287","Tampa simples para caixa de inspeção de aterramento","un",500,65.349999999999994,32675,{"$f":"BDI!$E$17","v":0.11260000000000001},72.709999999999994,36355]
["3.839","SF-02288","Tampa reforçada para caixa de inspeção de aterramento","un",500,97.07,48535,{"$f":"BDI!$E$17","v":0.11260000000000001},108,54000]
["3.840","SF-02289","Fita de sinalização para instalações subterrâneas","m",1000,1.37,1370,{"$f":"BDI!$E$17","v":0.11260000000000001},1.52,1520]
["3.841","SF-02290","Captor tipo Franklin","un",50,89.242999999999995,4462.1499999999996,{"$f":"BDI!$E$17","v":0.11260000000000001},99.29,4964.5]
["3.842","SF-02291","Minicaptor 300 mm","un",500,14.08,7040,{"$f":"BDI!$E$17","v":0.11260000000000001},15.67,7835]
["3.843","SF-02292","Minicaptor 600 mm","un",500,18.600000000000001,9300,{"$f":"BDI!$E$17","v":0.11260000000000001},20.69,10345]
["3.844","SF-02293","Mastro 2m","un",10,130,1300,{"$f":"BDI!$E$17","v":0.11260000000000001},144.63999999999999,1446.3999999999999]
["3.845","SF-02294","Mastro 3m","un",10,153.786,1537.86,{"$f":"BDI!$E$17","v":0.11260000000000001},171.1,1711]
["3.846","SF-02295","Mastro 4m","un",10,260,2600,{"$f":"BDI!$E$17","v":0.11260000000000001},289.27999999999997,2892.7999999999997]
["3.847","SF-02296","Mastro 6m","un",5,461.2,2306,{"$f":"BDI!$E$17","v":0.11260000000000001},513.13,2565.65]
["3.848","SF-02297","Base para mastro","un",20,59.86,1197.2,{"$f":"BDI!$E$17","v":0.11260000000000001},66.599999999999994,1332]
["3.849","SF-02298","Estaiamento para mastro 1,5m","un",10,159.76,1597.6,{"$f":"BDI!$E$17","v":0.11260000000000001},177.75,1777.5]
["3.850","SF-02299","Estaiamento para mastro 2m","un",10,151.93,1519.3,{"$f":"BDI!$E$17","v":0.11260000000000001},169.04,1690.3999999999999]
["3.851","SF-02300","Estaiamento para mastro 3m","un",10,184.8,1848,{"$f":"BDI!$E$17","v":0.11260000000000001},205.61,2056.1000000000004]
["3.852","SF-02301","Abraçadeira para aterramento de mastro","un",30,43.75,1312.5,{"$f":"BDI!$E$17","v":0.11260000000000001},48.68,1460.4]
["3.853","SF-02302","Sinalizador de topo com fotocélula","un",50,71.56,3578,{"$f":"BDI!$E$17","v":0.11260000000000001},79.62,3981]
["3.854","SF-02303","Mastro para sinalizador de topo","un",50,139.79,6989.5,{"$f":"BDI!$E$17","v":0.11260000000000001},155.53,7776.5]
["3.855","SF-02304","Suporte para sinalizador de topo em mastro","un",50,19.2,960,{"$f":"BDI!$E$17","v":0.11260000000000001},21.36,1068]
["3.856","SF-02305","Grampo tipo X para alumínio","un",100,13.21,1321,{"$f":"BDI!$E$17","v":0.11260000000000001},14.7,1470]
["3.857","SF-02306","Grampo tipo X para cobre","un",100,13.12,1312,{"$f":"BDI!$E$17","v":0.11260000000000001},14.6,1460]
["3.858","SF-02307","Fixador para SPDA","un",2000,2.69,5380,{"$f":"BDI!$E$17","v":0.11260000000000001},2.99,5980]
["3.859","SF-02308","Fixador universal para SPDA","un",500,22.03,11015,{"$f":"BDI!$E$17","v":0.11260000000000001},24.51,12255]
["3.860","SF-02309","Fixador colado para SPDA","un",2000,5.45,10900,{"$f":"BDI!$E$17","v":0.11260000000000001},6.06,12120]
["3.861","SF-02310","Adesivo estrutural","pct",50,35.643999999999998,1782.2,{"$f":"BDI!$E$17","v":0.11260000000000001},39.659999999999997,1982.9999999999998]
["3.862","SF-02311","Conector de emenda e medição para SPDA","un",100,23.91,2391,{"$f":"BDI!$E$17","v":0.11260000000000001},26.6,2660]
["3.863","SF-02312","Conector para SPDA","un",1000,15,15000,{"$f":"BDI!$E$17","v":0.11260000000000001},16.690000000000001,16690]
["3.864","SF-02313","Isolador curto para SPDA","un",400,5.71,2284,{"$f":"BDI!$E$17","v":0.11260000000000001},6.35,2540]
["3.865","SF-02314","Isolador simples para SPDA","un",400,7.26,2904,{"$f":"BDI!$E$17","v":0.11260000000000001},8.08,3232]
["3.866","SF-02315","Isolador duplo para mastro para SPDA","un",50,20.72,1036,{"$f":"BDI!$E$17","v":0.11260000000000001},23.05,1152.5]
["3.867","SF-02316","Isolador reforçado para SPDA","un",300,17.27,5181,{"$f":"BDI!$E$17","v":0.11260000000000001},19.21,5763]
["3.868","SF-02317","Isolador duplo curva 90 graus para SPDA","un",50,18.97,948.5,{"$f":"BDI!$E$17","v":0.11260000000000001},21.11,1055.5]
["3.869","SF-02318","Isolador para telha para SPDA","un",100,16.21,1621,{"$f":"BDI!$E$17","v":0.11260000000000001},18.04,1804]
["3.870","SF-02319","Isolador duplo para mastro reforçado para SPDA","un",50,24.23,1211.5,{"$f":"BDI!$E$17","v":0.11260000000000001},26.96,1348]
["3.871","SF-02320","Cabo de aço galvanizado a fogo","m",400,10.119999999999999,4048,{"$f":"BDI!$E$17","v":0.11260000000000001},11.26,4504]
["3.872","SF-02321","Esticador de cabo de aço galvanizado a fogo","un",50,112.9,5645,{"$f":"BDI!$E$17","v":0.11260000000000001},125.61,6280.5]
["3.873","SF-02322","Clip para cabo de aço galvanizado a fogo","un",200,10.37,2074,{"$f":"BDI!$E$17","v":0.11260000000000001},11.54,2308]
["3.874","SF-02323","Sapatilha para cabo de aço galvanizado a fogo","un",200,3.04,608,{"$f":"BDI!$E$17","v":0.11260000000000001},3.38,676]
["3.875","SF-02324","Tampão R1 Articulado B-125","un",100,333.51,33351,{"$f":"BDI!$E$17","v":0.11260000000000001},371.06,37106]
["3.876","SF-02325","Tampão R2 Articulado B-125","un",100,703.92,70392,{"$f":"BDI!$E$17","v":0.11260000000000001},783.18,78318]
["3.877","SF-02326","Tampão DN 400 Articulado B-125","un",100,255.36,25536,{"$f":"BDI!$E$17","v":0.11260000000000001},284.11,28411]
["3.878","SF-02327","Tampão DN 400 Articulado D-400","un",30,315.14,9454.2000000000007,{"$f":"BDI!$E$17","v":0.11260000000000001},350.62,10518.6]
["3.879","SF-02328","Tampão DN 600 Articulado D-400","un",20,576.62149999999997,11532.43,{"$f":"BDI!$E$17","v":0.11260000000000001},641.54999999999995,12831]
["3.880","SF-02329","Tampão T-33 Articulado B-125","un",100,202.13,20213,{"$f":"BDI!$E$17","v":0.11260000000000001},224.89,22489]
["3.881","SF-02330","Tampão T-33 Simples Pesado","un",100,303.7,30370,{"$f":"BDI!$E$17","v":0.11260000000000001},337.9,33790]
["3.882","SF-02331","Filtro de linha 3 tomadas","un",3000,40.83,122490,{"$f":"BDI!$E$17","v":0.11260000000000001},45.43,136290]
["3.883","SF-02332","Filtro de linha 4 tomadas","un",6000,68.7,412200,{"$f":"BDI!$E$17","v":0.11260000000000001},76.44,458640]
["3.884","SF-02333","Filtro de linha 5 tomadas","un",2000,45.14,90280,{"$f":"BDI!$E$17","v":0.11260000000000001},50.22,100440]
["3.885","SF-02334","Filtro de linha para rack 19 polegadas","un",100,77.64,7764,{"$f":"BDI!$E$17","v":0.11260000000000001},86.38,8638]
["3.886","SF-02335","Tomada industrial monofásica 16 A","un",100,41.46,4146,{"$f":"BDI!$E$17","v":0.11260000000000001},46.13,4613]
["3.887","SF-02336","Plugue industrial monofásico 16 A","un",100,28.3,2830,{"$f":"BDI!$E$17","v":0.11260000000000001},31.49,3149]
["3.888","SF-02337","Acoplamento industrial monofásico 16 A","un",100,41.17,4117,{"$f":"BDI!$E$17","v":0.11260000000000001},45.81,4581]
["3.889","SF-02338","Tomada industrial trifásica 16 A","un",100,64.94,6494,{"$f":"BDI!$E$17","v":0.11260000000000001},72.25,7225]
["3.890","SF-02339","Plugue industrial trifásico 16 A","un",100,43.55,4355,{"$f":"BDI!$E$17","v":0.11260000000000001},48.45,4845]
["3.891","SF-02340","Acoplamento industrial trifásico 16 A","un",100,54.74,5474,{"$f":"BDI!$E$17","v":0.11260000000000001},60.9,6090]
["3.892","SF-02341","Tomada industrial monofásica 32 A","un",400,47.21,18884,{"$f":"BDI!$E$17","v":0.11260000000000001},52.53,21012]
["3.893","SF-02342","Plugue industrial monofásico 32 A","un",400,38.450000000000003,15380,{"$f":"BDI!$E$17","v":0.11260000000000001},42.78,17112]
["3.894","SF-02343","Acoplamento industrial monofásico 32 A","un",100,53.6,5360,{"$f":"BDI!$E$17","v":0.11260000000000001},59.64,5964]
["3.895","SF-02344","Tomada industrial trifásica 32 A","un",100,90.94,9094,{"$f":"BDI!$E$17","v":0.11260000000000001},101.18,10118]
["3.896","SF-02345","Plugue industrial trifásico 32 A","un",100,53.3,5330,{"$f":"BDI!$E$17","v":0.11260000000000001},59.3,5930]
["3.897","SF-02346","Acoplamento industrial trifásico 32 A","un",100,80.7,8070,{"$f":"BDI!$E$17","v":0.11260000000000001},89.79,{"$f":"E902*I902","v":8979}]
["3.898","SF-02347","Tomada industrial monofásica 63 A","un",20,695.12,{"$f":"ROUND(E903*F903,2)","v":13902.4},{"$f":"BDI!$E$17","v":0.11260000000000001},{"$f":"ROUND(F903*(1+H903),2)","v":773.39},15467.8]
["3.899","SF-02348","Plugue industrial monofásico 63 A","un",20,277.89999999999998,5558,{"$f":"BDI!$E$17","v":0.11260000000000001},309.19,6183.8]
["3.900","SF-02349","Acoplamento industrial monofásico 63 A","un",20,312.14,6242.8,{"$f":"BDI!$E$17","v":0.11260000000000001},347.29,6945.8]
["3.901","SF-02350","Tomada industrial trifásica 63 A","un",20,373.71,7474.2,{"$f":"BDI!$E$17","v":0.11260000000000001},415.79,8315.8000000000011]
["3.902","SF-02351","Plugue industrial trifásico 63 A","un",20,268.07,5361.4,{"$f":"BDI!$E$17","v":0.11260000000000001},298.25,5965]
["3.903","SF-02352","Acoplamento industrial trifásico 63 A","un",20,376.21,7524.2,{"$f":"BDI!$E$17","v":0.11260000000000001},418.57,8371.4]
["3.904","SF-02354","Plugue macho 10 A","un",2000,4,8000,{"$f":"BDI!$E$17","v":0.11260000000000001},4.45,8900]
["3.905","SF-02355","Plugue macho 20 A","un",500,5.29,2645,{"$f":"BDI!$E$17","v":0.11260000000000001},5.89,2945]
["3.906","SF-02356","Plugue macho 10 A 90 graus","un",2000,9.85,19700,{"$f":"BDI!$E$17","v":0.11260000000000001},10.96,21920]
["3.907","SF-02357","Plugue macho 20 A 90 graus","un",500,8.18,4090,{"$f":"BDI!$E$17","v":0.11260000000000001},9.1,4550]
["3.908","SF-02358","Prolongador 10 A","un",3000,5.53,16590,{"$f":"BDI!$E$17","v":0.11260000000000001},6.15,18450]
["3.909","SF-02359","Prolongador 20 A","un",500,6.12,3060,{"$f":"BDI!$E$17","v":0.11260000000000001},6.81,3405]
["3.910","SF-02360","Adaptador de plugue para tomadas","un",2000,4.7699999999999996,9540,{"$f":"BDI!$E$17","v":0.11260000000000001},5.31,10620]
["3.911","SF-02361","Cordão prolongador 0,8 m","un",300,37.9,11370,{"$f":"BDI!$E$17","v":0.11260000000000001},42.17,12651]
["3.912","SF-02362","Cordão prolongador 1,5 m","un",300,65.05,19515,{"$f":"BDI!$E$17","v":0.11260000000000001},72.37,21711]
["3.913","SF-02363","Placa de sinalização em PVC 2mm","m2",120,221.51,26581.200000000001,{"$f":"BDI!$E$17","v":0.11260000000000001},246.45,29574]
["3.914","SF-02364","Claviculário 20 chaves","un",30,110.35,3310.5,{"$f":"BDI!$E$17","v":0.11260000000000001},122.78,3683.4]
["3.915","SF-02365","Autotransformador 300VA","un",100,59.95,5995,{"$f":"BDI!$E$17","v":0.11260000000000001},66.7,6670]
["3.916","SF-02366","Autotransformador 500VA","un",100,65.099999999999994,6510,{"$f":"BDI!$E$17","v":0.11260000000000001},72.430000000000007,7243.0000000000009]
["3.917","SF-02367","Autotransformador 1000VA","un",100,93.9,9390,{"$f":"BDI!$E$17","v":0.11260000000000001},104.47,{"$f":"E922*I922","v":10447}]
[3,"Subtotal de Materiais para 30 Meses com BDI (R$)",null,null,null,null,null,null,null,{"$f":"SUBTOTAL(109,J6:J922)","v":51244829.679999962}]

{"sheet":"Ax9-P4-Ferramental","index":6,"n_rows":232,"n_cols":10,"rows_kept":232,"cut":false,"hidden":false,"merged":[[231,1,231,8],[3,0,4,0],[3,1,4,1],[3,2,4,2],[3,3,4,3]]}
["Manutenção Elétrica - Pregão Eletrônico nº 067/2021"]
["ANEXO 9 - Planilha 4 – Depreciação de Ferramental"]
[]
["Subitem","Especificação","Descrição","Unidade","Quant.\nTotal","Vida\nÚtil\n(anos)","Valor\nUnitário de\nAquisição\n(R$)","Valor\nTotal de\nAquisição\n(R$)","Valor\nMensal de\nDepreciação\n(R$)","Valor Total\nDepreciação\nem 30 meses\n(R$)"]
[null,null,null,null,"(A)","(B)","(C)","(D)=(A)*(C) ","(E)=(D)/(12*B)","(F)=30*(E)"]
["4.1","SF-02380","Chave de abertura de painéis","un",90,5,250,{"$f":"E6*G6","v":22500},{"$f":"ROUND(H6/(12*F6),2)","v":375},{"$f":"I6*30","v":11250}]
["4.2","SF-02381","Caixa de ferramentas 40 cm","un",70,5,150.30000000000001,10521,175.35,{"$f":"I7*30","v":5260.5}]
["4.3","SF-02382","Caixa de ferramentas 50 cm","un",50,5,272.89,13644.5,227.41,6822.3]
["4.4","SF-02383","Carrinho de ferramentas","un",11,5,2725,29975,499.58,14987.4]
["4.5","SF-02384","Transpalete manual","un",2,5,1819.99,3639.98,60.67,1820.1000000000001]
["4.6","SF-02385","Carrinho plataforma","un",2,5,1987.71,3975.42,66.260000000000005,1987.8000000000002]
["4.7","SF-02386","Mesa hidráulica pantográfica","un",2,5,3630.54,7261.08,121.02,3630.6]
["4.8","SF-02387","Lanterna","un",91,10,118.09,10746.19,89.55,2686.5]
["4.9","SF-02388","Cavalete de sinalização de manutenção","un",25,5,33.9,847.5,14.13,423.90000000000003]
["4.10","SF-02389","Cone de sinalização","un",25,5,44.792499999999997,1119.8125,18.66,559.79999999999995]
["4.11","SF-02390","Detector de tensão sem contato de baixa tensão","un",105,10,139,14595,121.63,3648.8999999999996]
["4.12","SF-02391","Detector de tensão sem contato de média tensão","un",2,10,1864.16,3728.32,31.07,932.1]
["4.13","SF-02392","Conjunto de aterramento temporário para baixa tensão","un",5,5,1270,6350,105.83,3174.9]
["4.14","SF-02393","Conjunto de aterramento temporário para média tensão","un",2,5,1999,3998,66.63,1998.8999999999999]
["4.15","SF-02394","Grampo de aterramento concha-bola","un",1,5,400.5,400.5,6.68,200.39999999999998]
["4.16","SF-02395","Lençol isolante classe 4","un",5,5,705,3525,58.75,1762.5]
["4.17","SF-02396","Bastão de resgate (ferramental)","un",3,5,1250,3750,62.5,1875]
["4.18","SF-02397","Vara de manobra","un",1,5,1300,1300,21.67,650.1]
["4.19","SF-02398","Cadeado para disjuntores (ferramental)","un",150,5,42.9,6435,107.25,3217.5]
["4.20","SF-02399","Bloqueio para disjuntores (ferramental)","un",150,5,54,8100,135,4050]
["4.21","SF-02400","Etiqueta de bloqueio","un",600,5,9.83,5898,98.3,2949]
["4.22","SF-02401","Inflador de luvas","un",1,5,1680,1680,28,840]
["4.23","SF-02402","Protetor de cabos","un",30,5,342,10260,171,5130]
["4.24","SF-02403","Escada duplo acesso 4 degraus","un",15,5,515.73,7735.9500000000007,128.93,3867.9]
["4.25","SF-00738","Escada duplo acesso 6 degraus","un",15,5,960,14400,240,7200]
["4.26","SF-02404","Escada extensível 19 degraus","un",3,5,860.62,2581.86,43.03,1290.9000000000001]
["4.27","SF-02405","Andaime tubular 1 m por 1 m e 6 m de altura","un",1,5,9126.2099999999991,9126.2099999999991,152.1,4563]
["4.28","SF-02406","Andaime tubular 1,5 m por 1 m e 6 m de altura","un",1,5,9412.77,9412.77,156.88,4706.3999999999996]
["4.29","SF-02407","Plataforma de trabalho aéreo","un",1,10,77239.98,77239.98,643.66999999999996,19310.099999999999]
["4.30","SF-00831","Cinto de segurança tipo paraquedista","un",5,5,300.33,1501.6499999999999,25.03,750.90000000000009]
["4.31","SF-00840","Talabarte em Y","un",5,5,163.90349999999998,819.51749999999993,13.66,409.8]
["4.32","SF-00841","Trava-quedas deslizante para corda","un",5,5,143.99149999999997,719.95749999999987,12,360]
["4.33","SF-00842","Trava-quedas deslizante para cabo de aço","un",5,5,274,1370,22.83,684.9]
["4.34","SF-00839","Talabarte de posicionamento","un",5,5,193.32,966.59999999999991,16.11,483.29999999999995]
["4.35","SF-02408","Talabarte simples","un",5,5,104.5,522.5,8.7100000000000009,261.3]
["4.36","SF-02409","Tripé para trabalho em altura e espaço confinado","un",1,5,2290,2290,38.17,1145.1000000000001]
["4.37","SF-02410","Trava-quedas retrátil e guincho (3way) para tripé de trabalho em altura e espaço confinado","un",1,5,5185.5,5185.5,86.43,2592.9]
["4.38","SF-02411","Corda semi-estática 11 mm","m",500,5,8.2200000000000006,4110,68.5,2055]
["4.39","SF-02412","Mosquetão","un",25,5,65,1625,27.08,812.4]
["4.40","SF-02413","Cinta de ancoragem com anéis","un",5,5,74.099999999999994,370.5,6.18,185.39999999999998]
["4.41","SF-02414","Trapézio para espaço confinado","un",1,5,255.44,255.44,4.26,127.8]
["4.42","SF-02415","Polia simples para corda","un",5,5,216.22,1081.0999999999999,18.02,540.6]
["4.43","SF-01209","Exaustor para espaço confinado","un",1,10,4003.13,4003.13,33.36,1000.8]
["4.44","SF-02416","Alicate crimpador hidráulico","un",3,10,724.5,2173.5,18.11,543.29999999999995]
["4.45","SF-02417","Crimpador/cortador de cabos a bateria","un",1,10,44089,44089,367.41,11022.300000000001]
["4.46","SF-02418","Ferramenta multifuncional para barramentos de cobre","un",1,10,15295.5,15295.5,127.46,3823.7999999999997]
["4.47","SF-02419","Estampo furador hidráulico","un",1,10,10387.040000000001,10387.040000000001,86.56,2596.8000000000002]
["4.48","SF-02420","Esmerilhadeira Angular de 5\" com controle de velocidade","un",3,10,1158.49,3475.4700000000003,28.96,868.80000000000007]
["4.49","SF-02421","Furadeira de impacto 800 W","un",10,10,1150.47,11504.7,95.87,2876.1000000000004]
["4.50","SF-02422","Furadeira de impacto sem fio","un",3,10,2409.9,7229.7000000000007,60.25,1807.5]
["4.51","SF-02423","Furadeira/parafusadeira sem fio","un",10,10,2294.54,22945.4,191.21,5736.3]
["4.52","SF-02424","Chave de impacto sem fio","un",3,10,3019.77,9059.31,75.489999999999995,2264.6999999999998]
["4.53","SF-00724","Aspirador de pó industrial","un",2,10,3006.62,6013.24,50.11,1503.3]
["4.54","SF-02425","Soprador de ar sem fio","un",2,10,2496.25,4992.5,41.6,1248]
["4.55","SF-02426","Soprador/aspirador de pó","un",2,10,599.9,1199.8,10,300]
["4.56","SF-00735","Compressor de ar","un",1,10,840.32,840.32,7,210]
["4.57","SF-01224","Lavadora de alta pressão","un",2,10,3999.9,7999.8,66.67,2000.1000000000001]
["4.58","SF-02427","Soprador térmico","un",2,10,698.8,1397.6,11.65,349.5]
["4.59","SF-02428","Rotulador","un",15,10,417.57,6263.55,52.2,1566]
["4.60","SF-02429","Cortadora de parede","un",1,10,3430.99,3430.99,28.59,857.7]
["4.61","SF-02430","Serra mármore","un",2,10,409.8,819.6,6.83,204.9]
["4.62","SF-02431","Grupo motor-gerador 3kVA","un",1,10,6335.36,6335.36,52.79,1583.7]
["4.63","SF-02432","Grupo motor-gerador 6kVA","un",1,10,4734.1400000000003,4734.1400000000003,39.450000000000003,1183.5]
["4.64","SF-02433","Ferro de solda 25W","un",2,10,39.9,79.8,0.67,20.100000000000001]
["4.65","SF-02434","Ferro de solda 50W","un",2,10,41.19,{"$f":"E70*G70","v":82.38},{"$f":"ROUND(H70/(12*F70),2)","v":0.69},20.7]
["4.66","SF-02435","Hipot 30 kV","un",1,10,29089.74,29089.74,242.41,{"$f":"I71*30","v":7272.3}]
["4.67","SF-02436","Serra rápida portátil","un",1,10,3079.91,3079.91,25.67,770.1]
["4.68","SF-02437","Policorte","un",1,10,1385.7,1385.7,11.55,346.5]
["4.69","SF-02438","Nível laser de linhas","un",10,10,3325.49,33254.899999999994,277.12,8313.6]
["4.70","SF-02439","Refletor a bateria","un",5,10,1156.31,5781.5499999999993,48.18,1445.4]
["4.71","SF-02440","Microretífica","un",2,10,872.27,1744.54,14.54,436.2]
["4.72","SF-02441","Motoesmeril 6 polegadas","un",3,10,225,675,5.63,168.9]
["4.73","SF-02442","Martelo perfurador rompedor 800 W","un",10,10,913.5,9135,76.13,2283.8999999999996]
["4.74","SF-02443","Furadeira de impacto 750 W","un",10,10,499,4990,41.58,1247.3999999999999]
["4.75","SF-02444","Serra tico-tico","un",1,10,644.22,644.22,5.37,161.1]
["4.76","SF-02445","Serra copo diamantada 25 mm","un",5,1,55.53,277.64999999999998,23.14,694.2]
["4.77","SF-02446","Serra copo diamantada 30 mm","un",5,1,63.99,319.95,26.66,799.8]
["4.78","SF-02447","Serra copo diamantada 35 mm","un",5,1,76.53,382.65,31.89,956.7]
["4.79","SF-02448","Serra copo diamantada 45 mm","un",3,1,96.9,290.70000000000005,24.23,726.9]
["4.80","SF-02449","Serra copo diamantada 50 mm","un",3,1,95.5,286.5,23.88,716.4]
["4.81","SF-02450","Serra copo diamantada 65 mm","un",3,1,142.80000000000001,428.40000000000003,35.700000000000003,1071]
["4.82","SF-02451","Alicate de corte isolado 160 mm","un",90,5,173.39,15605.099999999999,260.08999999999997,7802.6999999999989]
["4.83","SF-02452","Alicate de corte frontal isolado 160 mm","un",20,5,311.11,6222.2000000000007,103.7,3111]
["4.84","SF-02453","Alicate universal isolado 200 mm","un",80,5,173.05,13844,230.73,6921.9]
["4.85","SF-02454","Alicate bico reto isolado 160 mm","un",35,5,143.97,5038.95,83.98,2519.4]
["4.86","SF-02455","Alicate bico curvo isolado 160 mm","un",20,5,187.11,3742.2000000000003,62.37,1871.1]
["4.87","SF-02456","Alicate desencapador isolado 160 mm","un",30,5,250.32,7509.5999999999995,125.16,3754.7999999999997]
["4.88","SF-02457","Jogo de soquetes 1/2 isolado","un",2,5,2275.4,4550.8,75.849999999999994,2275.5]
["4.89","SF-02458","Chave estrela 8 mm isolada","un",2,5,117.12,234.24,3.9,117]
["4.90","SF-02459","Chave fixa 9 mm isolada","un",2,5,83.74,167.48,2.79,83.7]
["4.91","SF-02460","Chave estrela 9 mm isolada","un",2,5,117.18,234.36,3.91,117.30000000000001]
["4.92","SF-02461","Chave fixa 10 mm isolada","un",2,5,80.83,161.66,2.69,80.7]
["4.93","SF-02462","Chave estrela 10 mm isolada","un",2,5,132.6,265.2,4.42,132.6]
["4.94","SF-02463","Chave fixa 11 mm isolada","un",2,5,84.66,169.32,2.82,84.6]
["4.95","SF-02464","Chave estrela 11 mm isolada","un",2,5,116.24,232.48,3.87,116.10000000000001]
["4.96","SF-02465","Chave fixa 12 mm isolada","un",2,5,80.53,161.06,2.68,80.400000000000006]
["4.97","SF-02466","Chave estrela 12 mm isolada","un",2,5,137.19999999999999,274.39999999999998,4.57,137.10000000000002]
["4.98","SF-02467","Chave fixa 13 mm isolada","un",2,5,84.24,168.48,2.81,84.3]
["4.99","SF-02468","Chave estrela 13 mm isolada","un",2,5,132.43,264.86,4.41,132.30000000000001]
["4.100","SF-02469","Chave fixa 14 mm isolada","un",2,5,88.96,177.92,2.97,89.100000000000009]
["4.101","SF-02470","Chave estrela 14 mm isolada","un",2,5,146.86000000000001,293.72000000000003,4.9000000000000004,147]
["4.102","SF-02471","Chave fixa 15 mm isolada","un",2,5,92.53,185.06,3.08,92.4]
["4.103","SF-02472","Chave estrela 15 mm isolada","un",2,5,150.91999999999999,301.83999999999997,5.03,150.9]
["4.104","SF-02473","Chave fixa 17 mm isolada","un",2,5,105.48,210.96,3.52,105.6]
["4.105","SF-02474","Chave estrela 17 mm isolada","un",2,5,156.1,312.2,5.2,156]
["4.106","SF-02475","Chave fixa 19 mm isolada","un",2,5,114.23,228.46,3.81,114.3]
["4.107","SF-02476","Chave estrela 19 mm isolada","un",2,5,160.74,321.48,5.36,160.80000000000001]
["4.108","SF-02477","Chave fixa 22 mm isolada","un",2,5,117.63,235.26,3.92,117.6]
["4.109","SF-02478","Chave estrela 22 mm isolada","un",2,5,169.19,338.38,5.64,169.2]
["4.110","SF-02479","Chave Phillips isolada PH0","un",90,5,47.36,4262.3999999999996,71.040000000000006,2131.2000000000003]
["4.111","SF-02480","Chave Phillips isolada PH1","un",104,5,51.93,5400.72,90.01,2700.3]
["4.112","SF-02481","Chave Phillips isolada PH2","un",104,5,59.58,6196.32,103.27,3098.1]
["4.113","SF-02482","Chave Phillips isolada PH3","un",45,5,70.069999999999993,3153.1499999999996,52.55,1576.5]
["4.114","SF-02483","Chave Phillips isolada PH4","un",30,5,80.16,2404.7999999999997,40.08,1202.3999999999999]
["4.115","SF-02484","Chave de fenda isolada 2,5 mm","un",50,5,32.81,1640.5,27.34,820.2]
["4.116","SF-02485","Chave de fenda isolada 3 mm","un",104,5,34.6,3598.4,59.97,1799.1]
["4.117","SF-02486","Chave de fenda isolada 4 mm","un",50,5,48.55,2427.5,40.46,1213.8]
["4.118","SF-02487","Chave de fenda isolada 5,5 mm","un",90,5,58.84,5295.6,88.26,2647.8]
["4.119","SF-02488","Chave de fenda isolada 6,5 mm","un",90,5,72.52,6526.7999999999993,108.78,3263.4]
["4.120","SF-02489","Chave de fenda isolada 8 mm","un",30,5,66.62,1998.6000000000001,33.31,999.30000000000007]
["4.121","SF-02490","Faca desencapadora de fios isolada","un",15,5,82.7,1240.5,20.68,620.4]
["4.122","SF-02491","Chave Pozidriv isolada PZ0","un",15,5,52.89,793.35,13.22,396.6]
["4.123","SF-02492","Chave Pozidriv isolada PZ1","un",15,5,97.15,1457.25,24.29,728.69999999999993]
["4.124","SF-02493","Chave Pozidriv isolada PZ2","un",15,5,157.13999999999999,2357.1,39.29,1178.7]
["4.125","SF-02494","Chave Pozidriv isolada PZ3","un",15,5,82.79,1241.8500000000001,20.7,621]
["4.126","SF-02495","Saca fusível","un",3,5,110,330,5.5,165]
["4.127","SF-00761","Nível manual de alumínio com base magnética 350 mm","un",15,5,55.01,825.15,13.75,412.5]
["4.128","SF-02496","Alicate crimpador com catraca para terminal tubular até 6mm2","un",20,5,357.57,7151.4,119.19,3575.7]
["4.129","SF-02497","Alicate crimpador com catraca para terminal pré-isolado até 6mm2","un",90,5,341.73,{"$f":"E134*G134","v":30755.7},{"$f":"ROUND(H134/(12*F134),2)","v":512.6},15378]
["4.130","SF-02498","Alicate crimpador manual para terminal pré-isolado até 16mm2","un",15,5,190.48,2857.2,47.62,{"$f":"I135*30","v":1428.6}]
["4.131","SF-02499","Alicate crimpador com catraca para terminal RJ45","un",2,5,108.87949999999999,217.75899999999999,3.63,108.89999999999999]
["4.132","SF-02500","Alicate punch down para terminal RJ45","un",2,5,33.08,66.16,1.1000000000000001,33]
["4.133","SF-02501","Alicate desencapador automático","un",90,5,163.37,14703.300000000001,245.06,7351.8]
["4.134","SF-02502","Alicate corta cabos com catraca","un",8,5,1486.96,11895.68,198.26,5947.7999999999993]
["4.135","SF-01192","Jogo de chave allen curto métrico","un",10,5,29.42,294.20000000000005,4.9000000000000004,147]
["4.136","SF-01193","Jogo de chave allen longo métrico","un",10,5,61.9,619,10.32,309.60000000000002]
["4.137","SF-02503","Jogo de chave allen em polegadas","un",10,5,57.94,579.4,9.66,289.8]
["4.138","SF-02504","Jogo de soquete allen 1/2 métrico","un",5,5,269.89999999999998,1349.5,22.49,674.69999999999993]
["4.139","SF-01213","Jogo de chave torx","un",10,5,70.430000000000007,704.30000000000007,11.74,352.2]
["4.140","SF-02505","Jogo de soquete 1/2 torx","un",5,5,162.24,811.2,13.52,405.59999999999997]
["4.141","SF-02506","Jogo de chaves combinadas com catraca métrico","un",10,5,260.89999999999998,2609,43.48,1304.3999999999999]
["4.142","SF-02507","Jogo de chaves combinadas com catraca em polegadas","un",5,5,199,995,16.579999999999998,497.4]
["4.143","SF-02508","Jogo de chaves combinadas métrico","un",10,5,273.19,2731.9,45.53,1365.9]
["4.144","SF-02509","Jogo de chaves combinadas em polegadas","un",5,5,481.03,2405.1499999999996,40.090000000000003,1202.7]
["4.145","SF-02510","Jogo de soquetes sextavado longos 1/2 métrico","un",5,5,465.12,2325.6,38.76,1162.8]
["4.146","SF-02511","Jogo de soquetes sextavado 1/2 métrico","un",5,5,655.93,3279.6499999999996,54.66,1639.8]
["4.147","SF-02512","Jogo de soquetes 1/2 em polegadas","un",5,5,113,565,9.42,282.60000000000002]
["4.148","SF-02513","Jogo de soquetes 3/8","un",5,5,529.9,2649.5,44.16,1324.8]
["4.149","SF-02514","Jogo de soquetes 1/4 métrico 25 soquetes","un",5,5,329.34,1646.6999999999998,27.45,823.5]
["4.150","SF-00753","Jogo de soquetes 1/4 métrico 10 soquetes","un",10,5,116.97,1169.7,19.5,585]
["4.151","SF-02515","Jogo de adaptador de soquetes","un",5,5,46.85,234.25,3.9,117]
["4.152","SF-02516","Jogo de bits","un",10,5,107.11,1071.0999999999999,17.850000000000001,535.5]
["4.153","SF-02517","Jogo de chaves biela métrico","un",5,5,301.99,1509.95,25.17,755.1]
["4.154","SF-02518","Arco de serra de extra-alta tensão","un",10,5,204.16,2041.6,34.03,1020.9000000000001]
["4.155","SF-02519","Jogo de soquetes sextavado de impacto 1/2 métrico","un",3,5,216.67,650.01,10.83,324.89999999999998]
["4.156","SF-00775","Tesoura","un",20,5,20.72,414.4,6.91,207.3]
["4.157","SF-00747","Estilete emborrachado de 18 mm","un",80,5,31.97,2557.6,42.63,1278.9000000000001]
["4.158","SF-02520","Chave de borne 3 mm","un",90,5,10.77,969.3,16.16,484.8]
["4.159","SF-02521","Chave de borne 4 mm","un",45,5,11.6,522,8.6999999999999993,261]
["4.160","SF-02522","Jogo de chaves de precisão","un",13,5,113,1469,24.48,734.4]
["4.161","SF-02523","Jogo de chaves de precisão longas","un",13,5,123.9,1610.7,26.85,805.5]
["4.162","SF-02524","Passa fio com alma de aço 20 m","un",60,5,25.19,1511.4,25.19,755.7]
["4.163","SF-02525","Passa fio helicoidal 20 m","un",60,5,114.98,6898.8,114.98,3449.4]
["4.164","SF-02526","Passa fio 50 m com carretel","un",2,5,547,1094,18.23,546.9]
["4.165","SF-02527","Jogo de alicates para anéis","un",2,5,139.55000000000001,279.10000000000002,4.6500000000000004,139.5]
["4.166","SF-02528","Jogo de tarraxas manuais","un",2,5,3825.66,7651.32,127.52,3825.6]
["4.167","SF-02529","Alicate de corte diagonal para microeletrônica","un",16,5,182.3,2916.8,48.61,1458.3]
["4.168","SF-02530","Alicate de pressão","un",15,5,42.9,643.5,10.73,321.90000000000003]
["4.169","SF-00746","Esquadro 300 mm","un",25,5,68,1700,28.33,849.9]
["4.170","SF-02531","Punção de centro","un",31,5,19.600000000000001,607.6,10.130000000000001,303.90000000000003]
["4.171","SF-00771","Rebitadeira manual","un",6,5,147.53,885.18000000000006,14.75,442.5]
["4.172","SF-02532","Rebitadeira de rosca","un",6,5,531.99,3191.94,53.2,1596]
["4.173","SF-02533","Serrote para gesso 150 mm","un",8,5,31.26,250.08,4.17,125.1]
["4.174","SF-02534","Martelo de borracha","un",10,5,42.85,428.5,7.14,214.2]
["4.175","SF-00760","Martelo tipo unha","un",10,5,32.93,329.3,5.49,164.70000000000002]
["4.176","SF-02535","Martelo tipo pena","un",10,5,56.05,560.5,9.34,280.2]
["4.177","SF-02536","Martelo com borda em plástico","un",10,5,91,910,15.17,455.1]
["4.178","SF-00773","Serrote 20 polegadas","un",5,5,126.18,630.90000000000009,10.52,315.59999999999997]
["4.179","SF-02537","Marreta oitavada 1000g","un",5,5,27.8,139,2.3199999999999998,69.599999999999994]
["4.180","SF-02538","Morsa de bancada","un",5,5,395.1,1975.5,32.93,987.9]
["4.181","SF-02539","Riscador de metal duro","un",15,5,24.74,371.09999999999997,6.19,185.70000000000002]
["4.182","SF-02540","Jogo de macho e cossinete","un",2,5,1101.0999999999999,2202.1999999999998,36.700000000000003,1101]
["4.183","SF-01201","Talhadeira","un",5,5,45.94,229.7,3.83,114.9]
["4.184","SF-01197","Marreta 2 kg","un",5,5,54.96,274.8,4.58,137.4]
["4.185","SF-00810","Caixa plástica para massas (masseira) 20 L","un",5,5,15.8,79,1.32,39.6]
["4.186","SF-00811","Colher de pedreiro 9\"","un",5,5,30.78,153.9,2.57,77.099999999999994]
["4.187","SF-00814","Desempenadeira de aço lisa","un",5,5,19.420000000000002,97.100000000000009,1.62,48.6]
["4.188","SF-00809","Broxa Retangular","un",5,5,26.38,131.9,2.2000000000000002,66]
["4.189","SF-00725","Balde metálico","un",5,5,20.12,100.60000000000001,1.68,50.4]
["4.190","SF-00728","Carrinho de mão reforçado","un",2,5,280.36,560.72,9.35,280.5]
["4.191","SF-00772","Régua de alumínio para pedreiro com 2m","un",2,5,36.01,72.02,1.2,36]
["4.192","SF-00745","Espátula forjada de 8 cm","un",5,5,24.39,121.95,2.0299999999999998,60.899999999999991]
["4.193","SF-02541","Alicate amperímetro 400 A","un",47,10,654.54999999999995,{"$f":"E198*G198","v":30763.85},{"$f":"ROUND(H198/(12*F198),2)","v":256.37},7691.1]
["4.194","SF-02542","Alicate amperímetro 1000 A","un",41,10,5166.32,211819.12,1765.16,{"$f":"I199*30","v":52954.8}]
["4.195","SF-02543","Termômetro infravermelho","un",32,10,396.99,12703.68,105.86,3175.8]
["4.196","SF-02544","Trena a laser 40m","un",12,10,388.79,4665.4800000000005,38.880000000000003,1166.4000000000001]
["4.197","SF-00777","Trena 5m","un",35,5,20.59,720.65,12.01,360.3]
["4.198","SF-02545","Trena 8m","un",10,5,58.06,580.6,9.68,290.39999999999998]
["4.199","SF-02546","Trena 50m","un",2,5,124.86,249.72,4.16,124.80000000000001]
["4.200","SF-02547","Torquímetro de estalo 100 Nm","un",2,10,1923.2,3846.4,32.049999999999997,961.49999999999989]
["4.201","SF-02548","Torquímetro de estalo 50 Nm","un",2,10,2053.9,4107.8,34.229999999999997,1026.8999999999999]
["4.202","SF-02549","Torquímetro de estalo 25 Nm","un",2,10,1998.28,3996.56,33.299999999999997,998.99999999999989]
["4.203","SF-02550","Torquímetro axial 6 Nm","un",2,10,661.3,1322.6,11.02,330.59999999999997]
["4.204","SF-02551","Analisador de qualidade de energia trifásico","un",1,10,82979.31,82979.31,691.49,20744.7]
["4.205","SF-02552","Fasímetro","un",3,10,1204.51,3613.5299999999997,30.11,903.3]
["4.206","SF-02553","Megôhmetro 10 kV","un",1,10,48000,48000,400,12000]
["4.207","SF-02554","Megôhmetro 1 kV","un",1,10,5717.39,5717.39,47.64,1429.2]
["4.208","SF-02555","Microhmímetro 200 A","un",1,10,38664.89,38664.89,322.20999999999998,9666.2999999999993]
["4.209","SF-02556","Terrômetro","un",1,10,41000,41000,341.67,10250.1]
["4.210","SF-02557","Termovisor de alta resolução","un",1,10,56258,56258,468.82,14064.6]
["4.211","SF-02558","Termovisor","un",2,10,7457.49,14914.98,124.29,3728.7000000000003]
["4.212","SF-02559","Termo-higrômetro","un",1,10,215.35,215.35,1.79,53.7]
["4.213","SF-02560","Multímetro","un",5,10,6396.1,31980.5,266.5,7995]
["4.214","SF-02561","Medidor LCR","un",1,10,1101.9000000000001,1101.9000000000001,9.18,275.39999999999998]
["4.215","SF-02562","Paquímetro digital 150 mm","un",11,10,658.06,7238.66,60.32,1809.6]
["4.216","SF-01050","Detector de 4 gases","un",1,10,8207.9,8207.9,68.400000000000006,2052]
["4.217","SF-02563","Luxímetro","un",1,10,843.23,843.23,7.03,210.9]
["4.218","SF-02564","Testador de cabo de rede","un",1,10,74.45,74.45,0.62,18.600000000000001]
["4.219","SF-02565","Escala métrica 300 mm","un",6,5,10.39,62.34,1.04,31.200000000000003]
["4.220","SF-02566","Escala métrica 600 mm","un",6,5,22.6,135.60000000000002,2.2599999999999998,67.8]
["4.221","SF-02567","Escala métrica 1500 mm","un",6,5,196.29,1177.74,19.63,588.9]
["4.222","SF-02568","Esquadro combinado","un",6,5,94.38,566.28,9.44,283.2]
["4.223","SF-02569","Programadora de portões","un",1,10,130.28,130.28,1.0900000000000001,32.700000000000003]
["4.224","SF-00822","Relógio de ponto biométrico","un",8,5,1211,9688,161.47,4844.1000000000004]
["4.225","SF-01220","Veículo do tipo utilitário","un",1,4,77789,77789,1620.6,48618]
[4226,"SF-02570","Veículo do tipo automóvel de passageiros","un",1,5,59503,59503,991.72,29751.600000000002]
[4,"Subtotal de Depreciação de Ferramental para 30 Meses (R$)",null,null,null,null,null,null,null,{"$f":"SUBTOTAL(109,J6:J231)","v":568222.79999999993}]

{"sheet":"Ax9-P5-Valor Global","index":7,"n_rows":10,"n_cols":5,"rows_kept":10,"cut":false,"hidden":false,"merged":[[0,0,0,4],[1,0,1,4],[9,0,9,3],[3,0,4,0],[3,1,4,1]]}
["Manutenção Elétrica - Pregão Eletrônico nº 067/2021"]
["ANEXO 9 - Planilha 5 – Valor Global Estimado para 30 (trinta) meses"]
[]
["Item","Descrição","Fator de Utilização ","Subtotal\ndo Item","Custo Global\nEstimado p/ 30\n(trinta) Meses"]
[null,null,"(A)","(B)","(C)=(A)*(B)"]
[1,"Subtotal de Equipe de Dedicação Exclusiva","N/A",{"$f":"'Ax9-P1-MDO-Nao Desonerado'!J27","v":20404169.999999996},{"$f":"D6","v":20404169.999999996}]
[2,"Subtotal de Serviços sob Demanda",0.5,{"$f":"'Ax9-P2-Serviços'!J17","v":250786.75},{"$f":"ROUND(C7*D7,2)","v":125393.38}]
[3,"Subtotal de Materiais",0.1,{"$f":"'Ax9-P3-Materiais'!J923","v":51244829.679999962},{"$f":"ROUND(C8*D8,2)","v":5124482.97}]
[4,"Subtotal de Depreciação de Ferramental","N/A",{"$f":"'Ax9-P4-Ferramental'!J232","v":568222.79999999993},{"$f":"D9","v":568222.79999999993}]
["Valor Global Estimado para 30 Meses",null,null,null,{"$f":"SUM(E6:E9)","v":26222269.149999995}]

{"sheet":"Desconto Médio","index":8,"n_rows":6,"n_cols":5,"rows_kept":6,"cut":false,"hidden":false,"merged":[[0,0,0,4],[1,0,1,4]]}
["Manutenção Elétrica - Pregão Eletrônico nº 067/2021"]
["PLANILHA ORÇAMENTÁRIA - Cálculo do Desconto Médio"]
[]
["Item","Descrição","Valor Orçado pelo\nSenado Federal\n(R$)","Subtotal\ndo Item\n(R$)","Desconto\nMédio "]
[2,"Subtotal de Serviços sob Demanda",250786.75,{"$f":"'Ax9-P2-Serviços'!J17","v":250786.75},{"$f":"ROUND(1-(D5/C5), 4)","v":0}]
[3,"Subtotal de Materiais",51244829.899999999,{"$f":"'Ax9-P3-Materiais'!J923","v":51244829.679999962},{"$f":"ROUND(1-(D6/C6), 4)","v":0}]

{"sheet":"BDI","index":9,"n_rows":40,"n_cols":5,"rows_kept":40,"cut":false,"hidden":false,"merged":[[4,0,6,0],[4,3,6,3],[39,0,39,4]]}
[{"$f":"'Ax9-P2-Serviços'!A1","v":"Manutenção Elétrica - Pregão Eletrônico nº 067/2021"}]
["BENEFÍCIOS E DESPESAS INDIRETAS - BDI"]
[]
["BDI Edificações",null,null,"BDI mero fornecimento"]
["Componentes do BDI","Cálculo sem CPRB",null,"Componentes do BDI","Cálculo sem CPRB"]
[null,"não-desonerado",null,null,"não-desonerado"]
[null,"% considerado",null,null,"% considerado"]
["AC",3.5000000000000003E-2,null,"AC",1.7500000000000002E-2]
["S+G",8.0000000000000002E-3,null,"S+G",3.8999999999999998E-3]
["R",1.2500000000000001E-2,null,"R",5.5999999999999999E-3]
["DF",7.6E-3,null,"DF",8.5000000000000006E-3]
["L",6.7799999999999999E-2,null,"L",3.5000000000000003E-2]
["PIS",6.4999999999999997E-3,null,"PIS",6.4999999999999997E-3]
["COFINS",0.03,null,"COFINS",0.03]
["CPRB",0,null,"CPRB",0]
["ISS",0.01,null,"ISS",0]
["BDI Edificações",{"$f":"ROUND(((1+B8+B9+B10)*(1+B11)*(1+B12))/(1-(B13+B14+B15+B16))-1,4)","v":0.191},null,"BDI mero fornecimento",{"$f":"ROUND(((1+E8+E9+E10)*(1+E11)*(1+E12))/(1-(E13+E14+E15+E16))-1,4)","v":0.11260000000000001}]
[]
[]
[]
[]
[]
[]
[]
[]
[]
[]
[]
[]
[]
[]
[]
[]
[]
[]
[]
[]
[]
[]
["Fontes: Acórdãos 2.369/2011-TCU-Plenário e 2.622/2013-TCU-Plenário."]