{"text_format":"1","workbook":"xlsx","n_sheets":1,"sheets":["Orçamentária-TR"],"not_rendered":{"charts":0,"images":2,"macros":1,"external_links":2,"defined_names":118,"comments":0,"pivot_tables":0},"unopened":[],"bounds":{"document_bytes":16777216,"sheet_cells":100000,"rows_first":2000,"rows_last":500,"rows_between":2000,"halvings":0,"cell_chars":16384,"cell_head_chars":4096},"cells_cut":0,"cells_raw":0,"read":"whole","date_system":"1900"}

{"sheet":"Orçamentária-TR","index":0,"n_rows":27,"n_cols":11,"rows_kept":27,"cut":false,"hidden":false,"merged":[[28,2,28,10],[29,2,29,10],[30,2,30,10],[31,2,31,10],[32,2,32,10]]}
[{"$f":"[1]Orçamentária!A1","v":"Apoio Técnico e Operacional - SINFRA"}]
[{"$f":"[1]Orçamentária!A2","v":"PLANILHA ORÇAMENTÁRIA"}]
[]
[]
["ITEM","CÓD SINFRA","DESCRIÇÃO","UN","QUANTIDADE","VIDA ÚTIL (Anos)³","% DE DEPRECIAÇÃO MENSAL³","CUSTO UNITÁRIO4","CUSTO DIRETO","VALOR MENSAL DE DEPRECIAÇÃO³","VALOR TOTAL DE DEPRECIAÇÃO PARA 30 MESES³"]
["02.00",null,"Sistema de Ponto Biométrico",null,null,null,null,null,null,null,{"$f":"SUBTOTAL(109,K8)","v":740.1}]
["02.01",null,"Sistema de Ponto Biométrico ",null,null,null,null,null,null,null,{"$f":"SUBTOTAL(109,K8)","v":740.1}]
["02.01.01","SF-00822","Relógio de ponto biométrico","un",{"$f":"INDEX([1]Orçamentária!A:K,MATCH('Orçamentária-TR'!B8,[1]Orçamentária!A:A,0),5)","v":1},5,{"$f":"1/(12*F8)","v":1.6666666666666666E-2},{"$f":"INDEX([1]Orçamentária!A:K,MATCH('Orçamentária-TR'!B8,[1]Orçamentária!A:A,0),6)","v":1480.05},null,{"$f":"IF(ISNUMBER(H8),ROUND(G8*E8*H8,2),\"\")","v":24.67},{"$f":"IF(ISNUMBER(H8),ROUND(J8*30,2),\"\")","v":740.1}]
["03.00",null,"Ferramentas",null,null,null,null,null,null,null,{"$f":"SUBTOTAL(109,K10:K25)","v":6102}]
["03.01",null,"Ferramentas Elétricas",null,null,null,null,null,null,null,{"$f":"SUBTOTAL(109,K11:K25)","v":6102}]
["03.01.01","SF-00738","Escada duplo acesso 6 degraus","un",{"$f":"INDEX([1]Orçamentária!A:K,MATCH('Orçamentária-TR'!B11,[1]Orçamentária!A:A,0),5)","v":1},5,{"$f":"1/(12*F11)","v":1.6666666666666666E-2},{"$f":"INDEX([1]Orçamentária!A:K,MATCH('Orçamentária-TR'!B11,[1]Orçamentária!A:A,0),6)","v":816.45},null,{"$f":"IF(ISNUMBER(H11),ROUND(G11*E11*H11,2),\"\")","v":13.61},{"$f":"IF(ISNUMBER(H11),ROUND(J11*30,2),\"\")","v":408.3}]
["03.01.02","SF-00739","Escada tipo tesoura e singela de fibra com 2 m","un",{"$f":"INDEX([1]Orçamentária!A:K,MATCH('Orçamentária-TR'!B12,[1]Orçamentária!A:A,0),5)","v":1},5,1.6666666666666666E-2,{"$f":"INDEX([1]Orçamentária!A:K,MATCH('Orçamentária-TR'!B12,[1]Orçamentária!A:A,0),6)","v":741},null,{"$f":"IF(ISNUMBER(H12),ROUND(G12*E12*H12,2),\"\")","v":12.35},{"$f":"IF(ISNUMBER(H12),ROUND(J12*30,2),\"\")","v":370.5}]
["03.01.03","SF-00746","Esquadro 300 mm","un",{"$f":"INDEX([1]Orçamentária!A:K,MATCH('Orçamentária-TR'!B13,[1]Orçamentária!A:A,0),5)","v":2},5,1.6666666666666666E-2,{"$f":"INDEX([1]Orçamentária!A:K,MATCH('Orçamentária-TR'!B13,[1]Orçamentária!A:A,0),6)","v":42.82},null,{"$f":"IF(ISNUMBER(H13),ROUND(G13*E13*H13,2),\"\")","v":1.43},42.9]
["03.01.04","SF-00761","Nível manual de alumínio com base magnética 350 mm","un",{"$f":"INDEX([1]Orçamentária!A:K,MATCH('Orçamentária-TR'!B14,[1]Orçamentária!A:A,0),5)","v":1},5,1.6666666666666666E-2,{"$f":"INDEX([1]Orçamentária!A:K,MATCH('Orçamentária-TR'!B14,[1]Orçamentária!A:A,0),6)","v":56.65},null,{"$f":"IF(ISNUMBER(H14),ROUND(G14*E14*H14,2),\"\")","v":0.94},28.2]
["03.01.05","SF-01042","Máquina fotográfica digital","un ",{"$f":"INDEX([1]Orçamentária!A:K,MATCH('Orçamentária-TR'!B15,[1]Orçamentária!A:A,0),5)","v":2},10,8.3333333333333332E-3,{"$f":"INDEX([1]Orçamentária!A:K,MATCH('Orçamentária-TR'!B15,[1]Orçamentária!A:A,0),6)","v":2721.1},null,{"$f":"IF(ISNUMBER(H15),ROUND(G15*E15*H15,2),\"\")","v":45.35},1360.5]
["03.01.06","SF-00777","Trena de 5 m","un",{"$f":"INDEX([1]Orçamentária!A:K,MATCH('Orçamentária-TR'!B16,[1]Orçamentária!A:A,0),5)","v":28},5,1.6666666666666666E-2,{"$f":"INDEX([1]Orçamentária!A:K,MATCH('Orçamentária-TR'!B16,[1]Orçamentária!A:A,0),6)","v":21.92},null,{"$f":"IF(ISNUMBER(H16),ROUND(G16*E16*H16,2),\"\")","v":10.23},306.89999999999998]
["03.01.07","SF-01043","Trena de 100 m","un ",{"$f":"INDEX([1]Orçamentária!A:K,MATCH('Orçamentária-TR'!B17,[1]Orçamentária!A:A,0),5)","v":1},10,8.3333333333333332E-3,{"$f":"INDEX([1]Orçamentária!A:K,MATCH('Orçamentária-TR'!B17,[1]Orçamentária!A:A,0),6)","v":701.7},null,{"$f":"IF(ISNUMBER(H17),ROUND(G17*E17*H17,2),\"\")","v":5.85},175.5]
["03.01.08","SF-01044","Paquímetro digital","un ",{"$f":"INDEX([1]Orçamentária!A:K,MATCH('Orçamentária-TR'!B18,[1]Orçamentária!A:A,0),5)","v":1},10,8.3333333333333332E-3,{"$f":"INDEX([1]Orçamentária!A:K,MATCH('Orçamentária-TR'!B18,[1]Orçamentária!A:A,0),6)","v":1072.46},null,{"$f":"IF(ISNUMBER(H18),ROUND(G18*E18*H18,2),\"\")","v":8.94},268.2]
["03.01.09","SF-01045","Nível laser","un ",{"$f":"INDEX([1]Orçamentária!A:K,MATCH('Orçamentária-TR'!B19,[1]Orçamentária!A:A,0),5)","v":1},10,8.3333333333333332E-3,{"$f":"INDEX([1]Orçamentária!A:K,MATCH('Orçamentária-TR'!B19,[1]Orçamentária!A:A,0),6)","v":749},null,{"$f":"IF(ISNUMBER(H19),ROUND(G19*E19*H19,2),\"\")","v":6.24},187.2]
["03.01.10","SF-01046","Trena Laser (curto alcance)","un",{"$f":"INDEX([1]Orçamentária!A:K,MATCH('Orçamentária-TR'!B20,[1]Orçamentária!A:A,0),5)","v":1},10,8.3333333333333332E-3,{"$f":"INDEX([1]Orçamentária!A:K,MATCH('Orçamentária-TR'!B20,[1]Orçamentária!A:A,0),6)","v":1542.29},null,{"$f":"IF(ISNUMBER(H20),ROUND(G20*E20*H20,2),\"\")","v":12.85},385.5]
["03.01.11","SF-01047","Trena Laser (longo alcance)","cj",{"$f":"INDEX([1]Orçamentária!A:K,MATCH('Orçamentária-TR'!B21,[1]Orçamentária!A:A,0),5)","v":1},10,8.3333333333333332E-3,{"$f":"INDEX([1]Orçamentária!A:K,MATCH('Orçamentária-TR'!B21,[1]Orçamentária!A:A,0),6)","v":2507.4899999999998},null,{"$f":"IF(ISNUMBER(H21),ROUND(G21*E21*H21,2),\"\")","v":20.9},627]
["03.01.12","SF-01048","Tripé para trena laser","cj",{"$f":"INDEX([1]Orçamentária!A:K,MATCH('Orçamentária-TR'!B22,[1]Orçamentária!A:A,0),5)","v":1},10,8.3333333333333332E-3,{"$f":"INDEX([1]Orçamentária!A:K,MATCH('Orçamentária-TR'!B22,[1]Orçamentária!A:A,0),6)","v":370.51},null,{"$f":"IF(ISNUMBER(H22),ROUND(G22*E22*H22,2),\"\")","v":3.09},92.7]
["03.01.13","SF-01049","Suporte universal para trena laser","un ",{"$f":"INDEX([1]Orçamentária!A:K,MATCH('Orçamentária-TR'!B23,[1]Orçamentária!A:A,0),5)","v":1},10,8.3333333333333332E-3,{"$f":"INDEX([1]Orçamentária!A:K,MATCH('Orçamentária-TR'!B23,[1]Orçamentária!A:A,0),6)","v":379.86},null,{"$f":"IF(ISNUMBER(H23),ROUND(G23*E23*H23,2),\"\")","v":3.17},95.1]
["03.01.14","SF-01050","Detector de 4 gases","un",{"$f":"INDEX([1]Orçamentária!A:K,MATCH('Orçamentária-TR'!B24,[1]Orçamentária!A:A,0),5)","v":1},10,8.3333333333333332E-3,{"$f":"INDEX([1]Orçamentária!A:K,MATCH('Orçamentária-TR'!B24,[1]Orçamentária!A:A,0),6)","v":5524.36},null,{"$f":"IF(ISNUMBER(H24),ROUND(G24*E24*H24,2),\"\")","v":46.04},1381.2]
["03.01.15","SF-01051","Prancheta portátil A3","un ",{"$f":"INDEX([1]Orçamentária!A:K,MATCH('Orçamentária-TR'!B25,[1]Orçamentária!A:A,0),5)","v":28},10,8.3333333333333332E-3,{"$f":"INDEX([1]Orçamentária!A:K,MATCH('Orçamentária-TR'!B25,[1]Orçamentária!A:A,0),6)","v":53.19},null,{"$f":"IF(ISNUMBER(H25),ROUND(G25*E25*H25,2),\"\")","v":12.41},372.3]
[null,{"$f":"SUBTOTAL(103,B6:B25)","v":16},null,null,{"$f":"SUBTOTAL(109,E6:E25)","v":72},null,null,{"$f":"IF(B26<>\"\",INDEX('[1]Custos Unitários'!A:L,MATCH(C26,'[1]Custos Unitários'!B:B,0),10),\"\")","v":{"$error":"#N/A"}},"CUSTO DIRETO"]
[null,null,null,null,null,null,null,null,null,null,{"$f":"SUBTOTAL(109,K6:K25)","v":6842.0999999999995}]